{"text_format":"1","workbook":"xlsx","n_sheets":31,"sheets":["メニュー","表紙","入力補助(電気)_貨物","入力補助(電気)_貨物_連携(自己分)","入力補助(電気)_貨物_連携(連携分)","入力補助(電気)_旅客","入力補助(電気)_旅客_連携(自己分)","入力補助(電気)_旅客_連携(連携分)","第1表(1)_貨物","第1表(1)_旅客","第1表(1)_航空","第1表(2)","第2表","第3表","第4表","第5表","第6表","第7表","第8表","第9表","係数（電気）","認定総括表","印刷用２３","印刷用４５６","保存用","保存用(認定管理関係)","係数（燃料）","入力範囲","入力履歴","入力履歴（～2018）","様式指定"],"not_rendered":{"charts":0,"images":0,"macros":1,"external_links":3,"defined_names":66,"comments":10,"pivot_tables":0},"unopened":[],"bounds":{"document_bytes":16777216,"sheet_cells":100000,"rows_first":2000,"rows_last":500,"rows_between":2000,"halvings":0,"cell_chars":16384,"cell_head_chars":4096},"cells_cut":0,"cells_raw":0,"read":"whole","date_system":"1900"}

{"sheet":"メニュー","index":0,"n_rows":100,"n_cols":7,"rows_kept":100,"cut":false,"hidden":false,"merged":[[11,8,11,11],[24,3,24,6],[20,3,20,6],[14,3,14,6],[4,2,4,7],[9,3,9,4]]}
[]
[]
[{"$f":"A50+2+(A10-A7)","v":19}]
[{"$f":"B50","v":44562}]
[null,null,"省エネ法の届出・報告に関する支援ツール\n(2023年5月配布版）"]
["開始年"]
[2006,null,null,null,null,"開始年度："]
["報告年度",null,null,null,null,{"$f":"DATEVALUE($A$7 & \"/1/1\")","v":"2006-01-01"},{"$f":"IF(YEAR(F8)=2019,\"(令和元年)\",F8)","v":38718}]
[2021]
[{"$f":"MAX(A7,A9)-1","v":2020},null,null,"報告対象年度を\n指定してください"]
[]
[]
[]
[]
[]
[]
[]
[]
[]
[]
[null,null,null,"表紙～各表を入力"]
[]
[]
[]
[null,null,null,"印刷"]
[]
[]
[]
[]
[]
[]
[]
[]
[]
[]
[]
[]
[]
[]
[]
[]
[]
[]
[]
[]
[]
[]
[]
[3]
[3,{"$f":"IF(A50<>\"\",INDIRECT(\"R\"& ROW(B50)+A50&\"C1\",FALSE),\"\")","v":44562}]
[{"$f":"DATEVALUE($A$10+ROW(A51)-51 & \"/1/1\")","v":"2020-01-01"}]
["2021-01-01"]
["2022-01-01"]
["2023-01-01"]
["2024-01-01"]
["2025-01-01"]
["2026-01-01"]
["2027-01-01"]
["2028-01-01"]
["2029-01-01"]
["2030-01-01"]
["2031-01-01"]
["2032-01-01"]
["2033-01-01"]
["2034-01-01"]
["2035-01-01"]
["2036-01-01"]
["2037-01-01"]
["2038-01-01"]
["2039-01-01"]
["2040-01-01"]
["2041-01-01"]
["2042-01-01"]
["2043-01-01"]
["2044-01-01"]
["2045-01-01"]
["2046-01-01"]
["2047-01-01"]
["2048-01-01"]
["2049-01-01"]
["2050-01-01"]
["2051-01-01"]
["2052-01-01"]
["2053-01-01"]
["2054-01-01"]
["2055-01-01"]
["2056-01-01"]
["2057-01-01"]
["2058-01-01"]
["2059-01-01"]
["2060-01-01"]
["2061-01-01"]
["2062-01-01"]
["2063-01-01"]
["2064-01-01"]
["2065-01-01"]
["2066-01-01"]
["2067-01-01"]
["2068-01-01"]
["2069-01-01"]

{"sheet":"表紙","index":1,"n_rows":43,"n_cols":24,"rows_kept":43,"cut":false,"hidden":false,"merged":[[3,15,3,17],[18,7,18,9],[1,2,1,17],[26,2,26,17],[5,2,5,17],[2,15,2,17],[2,12,2,14],[3,12,3,14],[10,2,10,5],[13,11,13,12],[18,10,18,17],[29,6,29,13],[22,10,22,16],[20,10,20,16],[28,2,28,8],[29,2,29,5],[24,7,24,9],[27,2,27,7],[24,10,24,16],[20,7,20,9],[22,7,22,9],[38,2,42,5],[40,8,40,13],[41,8,41,13],[42,8,42,13],[38,6,39,17],[33,7,33,17],[30,2,37,5],[34,7,34,17],[35,7,35,17],[36,7,36,17],[37,7,37,17],[32,7,32,17],[30,7,30,17],[31,7,31,17]]}
[1]
["貨",null,"様式第４（第６条関係）"]
[{"$f":"メニュー!$A$4","v":"2022-01-01"},null,null,null,null,null,null,null,null,null,null,null,"※受理年月日"]
["V01",null,null,null,null,null,null,null,null,null,null,null,"※処理年月日",null,null,null,null,null,null,null,null,null,1,{"$f":"+C11","v":0}]
[null,null,null,null,null,null,null,null,null,null,null,null,null,null,null,null,null,null,null,null,null,null,2,{"$f":"+L14","v":0}]
[null,null,"定　期　報　告　書",null,null,null,null,null,null,null,null,null,null,null,null,null,null,null,null,null,null,null,3,{"$f":"+O14","v":0}]
[null,null,null,null,null,null,null,null,null,null,null,null,null,null,null,null,null,null,null,null,null,null,4,{"$f":"+Q14","v":0}]
[null,null,null,null,null,null,null,null,null,null,null,null,null,null,null,null,null,null,null,null,null,null,5,{"$f":"+K19","v":0}]
[null,null,null,null,null,null,null,null,null,null,null,null,null,null,null,null,null,null,null,null,null,null,6,{"$f":"+K21","v":0}]
[null,null,null,null,null,null,null,null,null,null,null,null,null,null,null,null,null,null,null,null,null,null,7,{"$f":"+K25","v":0}]
[null,null,null,null,null,null,"殿",null,null,null,null,null,null,null,null,null,null,null,null,null,null,null,8,{"$f":"+I28","v":0}]
[null,null,null,null,null,null,null,null,null,null,null,null,null,null,null,null,null,null,null,null,null,null,9,{"$f":"+J28","v":0}]
[null,null,null,null,null,null,null,null,null,null,null,null,null,null,null,null,null,null,null,null,null,null,10,{"$f":"+K28","v":0}]
[null,null,null,null,null,null,null,null,null,null,"西暦",null,null,"年",null,"月",null,"日",null,null,null,null,11,{"$f":"+L28","v":0}]
[null,null,null,null,null,null,null,null,null,null,null,null,null,null,null,null,null,null,null,null,null,null,12,{"$f":"+M28","v":0}]
[null,null,null,null,null,null,null,null,null,null,null,null,null,null,null,null,null,null,null,null,null,null,13,{"$f":"+N28","v":0}]
[null,null,null,null,null,null,null,null,null,null,null,null,null,null,null,null,null,null,null,null,null,null,14,{"$f":"+O28","v":0}]
[null,null,null,null,null,null,null,null,null,null,null,null,null,null,null,null,null,null,null,null,null,null,15,{"$f":"+P28","v":0}]
[null,null,null,null,null,null,null,"住　所",null,null,null,null,null,null,null,null,null,null,null,null,null,null,16,{"$f":"+Q28","v":1}]
[null,null,null,null,null,null,null,null,null,null,null,null,null,null,null,null,null,null,null,null,null,null,17,{"$f":"+R28","v":0}]
[null,null,null,null,null,null,null,"法人名",null,null,null,null,null,null,null,null,null,null,null,null,null,null,18,{"$f":"+J29","v":0}]
[null,null,null,null,null,null,null,null,null,null,null,null,null,null,null,null,null,null,null,null,null,null,19,{"$f":"+K29","v":0}]
[null,null,null,null,null,null,null,"代表者の役職名",null,null,null,null,null,null,null,null,null,null,null,null,null,null,18,{"$f":"+J31","v":0}]
[null,null,null,null,null,null,null,null,null,null,null,null,null,null,null,null,null,null,null,null,null,null,19,{"$f":"+K31","v":0}]
[null,null,null,null,null,null,null,"代表者の氏名",null,null,null,null,null,null,null,null,null,null,null,null,null,null,20,{"$f":"+L29","v":0}]
[null,null,null,null,null,null,null,null,null,null,null,null,null,null,null,null,null,null,null,null,null,null,21,{"$f":"+M29","v":0}]
[null,null,"エネルギーの使用の合理化等に関する法律第１０３条第１項の規定に基づき、次のとおり報告します。",null,null,null,null,null,null,null,null,null,null,null,null,null,null,null,null,null,null,null,22,{"$f":"+N29","v":0}]
[null,null,"特定輸送事業者指定番号",null,null,null,null,null,null,null,null,null,null,null,null,null,1,null,null,null,null,null,23,{"$f":"+O29","v":0}]
[null,null,"特定排出者番号",null,null,null,null,null,null,null,null,null,null,null,null,null,null,null,null,null,null,null,24,{"$f":"+P29","v":0}]
[1,null,"事業者名",null,null,null,null,null,null,null,null,null,null,null,null,null,null,null,null,null,null,null,25,{"$f":"+Q29","v":0}]
[1,null,"貨物輸送区分",null,null,null,{"$f":"IF($A30=1,\"①．\",\"１．\")","v":"①．"},"鉄道による貨物の輸送",null,null,null,null,null,null,null,null,null,null,null,null,null,null,26,{"$f":"+R29","v":0}]
[2,null,null,null,null,null,{"$f":"IF($A30=2,\"②．\",\"２．\")","v":"２．"},"事業用貨物自動車による貨物の輸送",null,null,null,null,null,null,null,null,null,null,null,null,null,null,27,{"$f":"+事業者名","v":0}]
[3,null,null,null,null,null,{"$f":"IF($A30=3,\"③．\",\"３．\")","v":"３．"},"自家用貨物自動車による貨物の輸送",null,null,null,null,null,null,null,null,null,null,null,null,null,null,28,{"$f":"+O30","v":0}]
[4,null,null,null,null,null,{"$f":"IF($A30=4,\"④．\",\"４．\")","v":"４．"},"船舶による貨物の輸送",null,null,null,null,null,null,null,null,null,null,null,null,null,null,29,{"$f":"+P30","v":0}]
[5,null,null,null,null,null,{"$f":"IF($A30=A35,\"⑤．\",\"５．\")","v":"５．"},"鉄道による旅客の輸送　",null,null,null,null,null,null,null,null,null,null,null,null,null,null,30,{"$f":"+Q30","v":0}]
[6,null,null,null,null,null,{"$f":"IF($A30=A36,\"⑥．\",\"６．\")","v":"６．"},"乗合自動車による旅客の輸送",null,null,null,null,null,null,null,null,null,null,null,null,null,null,31,{"$f":"+R30","v":0}]
[7,null,null,null,null,null,{"$f":"IF($A30=A37,\"⑦．\",\"７．\")","v":"７．"},"乗用自動車（乗合自動車を除く。）による旅客の輸送　　　　　　　　　",null,null,null,null,null,null,null,null,null,null,null,null,null,null,32,{"$f":"+A30","v":1}]
[8,null,null,null,null,null,{"$f":"IF($A30=A38,\"⑧．\",\"８．\")","v":"８．"},"船舶による旅客の輸送",null,null,null,null,null,null,null,null,null,null,null,null,null,null,33,{"$f":"+G39","v":0}]
[null,null,"主たる事務所の所在地",null,null,null,null,null,null,null,null,null,null,null,null,null,null,null,null,null,null,null,34,{"$f":"+I41","v":0}]
[null,null,null,null,null,null,null,null,null,null,null,null,null,null,null,null,null,null,null,null,null,null,35,{"$f":"+I42","v":0}]
[null,null,null,null,null,null,"電話","(",null,null,null,null,null,null,"）",null,null,null,null,null,null,null,36,{"$f":"+I43","v":0}]
[null,null,null,null,null,null,"FAX","(",null,null,null,null,null,null,")"]
[null,null,null,null,null,null,"e-mail　　　　　　　　　　　　　　　　　","(",null,null,null,null,null,null,")"]

{"sheet":"入力補助(電気)_貨物","index":2,"n_rows":55,"n_cols":26,"rows_kept":55,"cut":false,"hidden":false,"merged":[[51,22,54,22],[8,15,9,15],[7,8,7,16],[8,8,9,10],[8,11,9,14],[8,18,9,18],[8,20,9,20],[7,19,9,19],[48,3,48,7],[48,8,49,10],[48,11,49,14],[49,3,49,7],[54,3,54,7],[54,8,54,10],[54,11,54,14],[44,3,44,7],[44,8,45,10],[44,11,45,14],[45,3,45,7],[46,3,46,7],[46,8,47,10],[46,11,47,14],[47,3,47,7],[40,3,40,7],[40,8,41,10],[40,11,41,14],[41,3,41,7],[42,3,42,7],[42,8,43,10],[42,11,43,14],[43,3,43,7],[36,3,36,7],[36,8,37,10],[36,11,37,14],[37,3,37,7],[38,3,38,7],[38,8,39,10],[38,11,39,14],[39,3,39,7],[32,3,32,7],[32,8,33,10],[32,11,33,14],[33,3,33,7],[34,3,34,7],[34,8,35,10],[34,11,35,14],[35,3,35,7],[28,3,28,7],[28,8,29,10],[28,11,29,14],[29,3,29,7],[30,3,30,7],[30,8,31,10],[30,11,31,14],[31,3,31,7],[24,3,24,7],[24,8,25,10],[24,11,25,14],[25,3,25,7],[26,3,26,7],[26,8,27,10],[26,11,27,14],[27,3,27,7],[20,3,20,7],[20,8,21,10],[20,11,21,14],[21,3,21,7],[22,3,22,7],[22,8,23,10],[22,11,23,14],[23,3,23,7],[16,3,16,7],[16,8,17,10],[16,11,17,14],[17,3,17,7],[18,3,18,7],[18,8,19,10],[18,11,19,14],[19,3,19,7],[12,3,12,7],[12,8,13,10],[12,11,13,14],[13,3,13,7],[14,3,14,7],[14,8,15,10],[14,11,15,14],[15,3,15,7],[10,3,10,7],[10,8,11,10],[10,11,11,14],[11,3,11,7],[7,17,9,17]]}
[null,1,"使用したエネルギーの入力（貨物）"]
[]
[null,null,"①","電気（二酸化炭素排出係数）"]
[null,null,null,"一般送配電事業者が維持し、及び運用する電線路を介して供給された電気を使用している場合は、国が公表する電気事業者ごとの排出係数を入力してください。",null,null,null,null,null,null,null,null,null,null,null,null,null,null,null,null,null,null,null,null,null,"　"]
[null,null,null,"それ以外の者から供給された電気を使用している場合は、実測等に基づく適切な排出係数を入力してください。"]
[null,null,null,"排出係数を算定することができない場合は、環境大臣・経済産業大臣が公表する係数（代替値）",null,null,null,null,null,null,null,null,null,null,null,null,{"$f":"INDIRECT(\"'係数（電気）'!D\"&MATCH(\"代替値\",'係数（電気）'!B:B,0))","v":0.441},"tCO２/千kWhを入力して下さい。"]
[]
[null,null,null,"エネルギー名",null,null,null,null,"電気事業者ごとの排出係数、買電量を入力してください",null,null,null,null,null,null,null,null,"買電\n熱量GJ\n（ＧＪ）",null,"CO2\n排出量\n（ｔ－CO2)"]
[null,null,null,null,null,null,null,null,"（▼から事業者を選択）",null,null,"二酸化炭素の実排出係数\n（tCO2/千kWh）",null,null,null,"買電量\n（千kWh）",null,null,"うち夏季・冬季における電気需要平準化時間帯",null,"うち夏季・冬季における電気需要平準化時間帯"]
[null,null,null,null,null,null,null,null,null,null,null,null,null,null,null,null,"夏季・冬季における電気需要平準化時間帯"]
[null,null,null,"昼間買電",null,null,null,null,null,null,null,{"$f":"IF(I11=0,Q$6,VLOOKUP(I11,電気事業者係数,3,FALSE))","v":0.441},null,null,null,null,null,{"$f":"IF(P11*VLOOKUP(D11,係数,3,FALSE)=0,\"\",P11*VLOOKUP(D11,係数,3,FALSE))","v":""},{"$f":"IF(Q11*VLOOKUP(D11,係数,3,FALSE)=0,\"\",Q11*VLOOKUP(D11,係数,3,FALSE))","v":""},{"$f":"IF(OR(P11=\"\",L11=\"\"),\"\",P11*L11)","v":""},{"$f":"IF(Q11=\"\",\"\",Q11*L11)","v":""}]
[null,null,null,"夜間買電",null,null,null,null,null,null,null,null,null,null,null,null,null,"",null,{"$f":"IF(P12=\"\",\"\",P12*L11)","v":""}]
[null,null,null,"昼間買電",null,null,null,null,null,null,null,{"$f":"IF(I13=0,Q$6,VLOOKUP(I13,電気事業者係数,3,FALSE))","v":0.441},null,null,null,null,null,"",{"$f":"IF(Q13*VLOOKUP(D13,係数,3,FALSE)=0,\"\",Q13*VLOOKUP(D13,係数,3,FALSE))","v":""},{"$f":"IF(P13=\"\",\"\",P13*L13)","v":""},{"$f":"IF(Q13=\"\",\"\",Q13*L13)","v":""}]
[null,null,null,"夜間買電",null,null,null,null,null,null,null,null,null,null,null,null,null,"",null,{"$f":"IF(P14=\"\",\"\",P14*L13)","v":""}]
[null,null,null,"昼間買電",null,null,null,null,null,null,null,{"$f":"IF(I15=0,Q$6,VLOOKUP(I15,電気事業者係数,3,FALSE))","v":0.441},null,null,null,null,null,"",{"$f":"IF(Q15*VLOOKUP(D15,係数,3,FALSE)=0,\"\",Q15*VLOOKUP(D15,係数,3,FALSE))","v":""},{"$f":"IF(P15=\"\",\"\",P15*L15)","v":""},{"$f":"IF(Q15=\"\",\"\",Q15*L15)","v":""}]
[null,null,null,"夜間買電",null,null,null,null,null,null,null,null,null,null,null,null,null,"",null,{"$f":"IF(P16=\"\",\"\",P16*L15)","v":""}]
[null,null,null,"昼間買電",null,null,null,null,null,null,null,{"$f":"IF(I17=0,Q$6,VLOOKUP(I17,電気事業者係数,3,FALSE))","v":0.441},null,null,null,null,null,"",{"$f":"IF(Q17*VLOOKUP(D17,係数,3,FALSE)=0,\"\",Q17*VLOOKUP(D17,係数,3,FALSE))","v":""},{"$f":"IF(P17=\"\",\"\",P17*L17)","v":""},{"$f":"IF(Q17=\"\",\"\",Q17*L17)","v":""}]
[null,null,null,"夜間買電",null,null,null,null,null,null,null,null,null,null,null,null,null,"",null,{"$f":"IF(P18=\"\",\"\",P18*L17)","v":""}]
[null,null,null,"昼間買電",null,null,null,null,null,null,null,{"$f":"IF(I19=0,Q$6,VLOOKUP(I19,電気事業者係数,3,FALSE))","v":0.441},null,null,null,null,null,"",{"$f":"IF(Q19*VLOOKUP(D19,係数,3,FALSE)=0,\"\",Q19*VLOOKUP(D19,係数,3,FALSE))","v":""},{"$f":"IF(P19=\"\",\"\",P19*L19)","v":""},{"$f":"IF(Q19=\"\",\"\",Q19*L19)","v":""}]
[null,null,null,"夜間買電",null,null,null,null,null,null,null,null,null,null,null,null,null,"",null,{"$f":"IF(P20=\"\",\"\",P20*L19)","v":""}]
[null,null,null,"昼間買電",null,null,null,null,null,null,null,{"$f":"IF(I21=0,Q$6,VLOOKUP(I21,電気事業者係数,3,FALSE))","v":0.441},null,null,null,null,null,"",{"$f":"IF(Q21*VLOOKUP(D21,係数,3,FALSE)=0,\"\",Q21*VLOOKUP(D21,係数,3,FALSE))","v":""},{"$f":"IF(P21=\"\",\"\",P21*L21)","v":""},{"$f":"IF(Q21=\"\",\"\",Q21*L21)","v":""}]
[null,null,null,"夜間買電",null,null,null,null,null,null,null,null,null,null,null,null,null,"",null,{"$f":"IF(P22=\"\",\"\",P22*L21)","v":""}]
[null,null,null,"昼間買電",null,null,null,null,null,null,null,{"$f":"IF(I23=0,Q$6,VLOOKUP(I23,電気事業者係数,3,FALSE))","v":0.441},null,null,null,null,null,"",{"$f":"IF(Q23*VLOOKUP(D23,係数,3,FALSE)=0,\"\",Q23*VLOOKUP(D23,係数,3,FALSE))","v":""},{"$f":"IF(P23=\"\",\"\",P23*L23)","v":""},{"$f":"IF(Q23=\"\",\"\",Q23*L23)","v":""}]
[null,null,null,"夜間買電",null,null,null,null,null,null,null,null,null,null,null,null,null,"",null,{"$f":"IF(P24=\"\",\"\",P24*L23)","v":""}]
[null,null,null,"昼間買電",null,null,null,null,null,null,null,{"$f":"IF(I25=0,Q$6,VLOOKUP(I25,電気事業者係数,3,FALSE))","v":0.441},null,null,null,null,null,"",{"$f":"IF(Q25*VLOOKUP(D25,係数,3,FALSE)=0,\"\",Q25*VLOOKUP(D25,係数,3,FALSE))","v":""},{"$f":"IF(P25=\"\",\"\",P25*L25)","v":""},{"$f":"IF(Q25=\"\",\"\",Q25*L25)","v":""}]
[null,null,null,"夜間買電",null,null,null,null,null,null,null,null,null,null,null,null,null,"",null,{"$f":"IF(P26=\"\",\"\",P26*L25)","v":""}]
[null,null,null,"昼間買電",null,null,null,null,null,null,null,{"$f":"IF(I27=0,Q$6,VLOOKUP(I27,電気事業者係数,3,FALSE))","v":0.441},null,null,null,null,null,"",{"$f":"IF(Q27*VLOOKUP(D27,係数,3,FALSE)=0,\"\",Q27*VLOOKUP(D27,係数,3,FALSE))","v":""},{"$f":"IF(P27=\"\",\"\",P27*L27)","v":""},{"$f":"IF(Q27=\"\",\"\",Q27*L27)","v":""}]
[null,null,null,"夜間買電",null,null,null,null,null,null,null,null,null,null,null,null,null,"",null,{"$f":"IF(P28=\"\",\"\",P28*L27)","v":""}]
[null,null,null,"昼間買電",null,null,null,null,null,null,null,{"$f":"IF(I29=0,Q$6,VLOOKUP(I29,電気事業者係数,3,FALSE))","v":0.441},null,null,null,null,null,"",{"$f":"IF(Q29*VLOOKUP(D29,係数,3,FALSE)=0,\"\",Q29*VLOOKUP(D29,係数,3,FALSE))","v":""},{"$f":"IF(P29=\"\",\"\",P29*L29)","v":""},{"$f":"IF(Q29=\"\",\"\",Q29*L29)","v":""}]
[null,null,null,"夜間買電",null,null,null,null,null,null,null,null,null,null,null,null,null,"",null,{"$f":"IF(P30=\"\",\"\",P30*L29)","v":""}]
[null,null,null,"昼間買電",null,null,null,null,null,null,null,{"$f":"IF(I31=0,Q$6,VLOOKUP(I31,電気事業者係数,3,FALSE))","v":0.441},null,null,null,null,null,"",{"$f":"IF(Q31*VLOOKUP(D31,係数,3,FALSE)=0,\"\",Q31*VLOOKUP(D31,係数,3,FALSE))","v":""},{"$f":"IF(P31=\"\",\"\",P31*L31)","v":""},{"$f":"IF(Q31=\"\",\"\",Q31*L31)","v":""}]
[null,null,null,"夜間買電",null,null,null,null,null,null,null,null,null,null,null,null,null,"",null,{"$f":"IF(P32=\"\",\"\",P32*L31)","v":""}]
[null,null,null,"昼間買電",null,null,null,null,null,null,null,{"$f":"IF(I33=0,Q$6,VLOOKUP(I33,電気事業者係数,3,FALSE))","v":0.441},null,null,null,null,null,"",{"$f":"IF(Q33*VLOOKUP(D33,係数,3,FALSE)=0,\"\",Q33*VLOOKUP(D33,係数,3,FALSE))","v":""},{"$f":"IF(P33=\"\",\"\",P33*L33)","v":""},{"$f":"IF(Q33=\"\",\"\",Q33*L33)","v":""}]
[null,null,null,"夜間買電",null,null,null,null,null,null,null,null,null,null,null,null,null,"",null,{"$f":"IF(P34=\"\",\"\",P34*L33)","v":""}]
[null,null,null,"昼間買電",null,null,null,null,null,null,null,{"$f":"IF(I35=0,Q$6,VLOOKUP(I35,電気事業者係数,3,FALSE))","v":0.441},null,null,null,null,null,"",{"$f":"IF(Q35*VLOOKUP(D35,係数,3,FALSE)=0,\"\",Q35*VLOOKUP(D35,係数,3,FALSE))","v":""},{"$f":"IF(P35=\"\",\"\",P35*L35)","v":""},{"$f":"IF(Q35=\"\",\"\",Q35*L35)","v":""}]
[null,null,null,"夜間買電",null,null,null,null,null,null,null,null,null,null,null,null,null,"",null,{"$f":"IF(P36=\"\",\"\",P36*L35)","v":""}]
[null,null,null,"昼間買電",null,null,null,null,null,null,null,{"$f":"IF(I37=0,Q$6,VLOOKUP(I37,電気事業者係数,3,FALSE))","v":0.441},null,null,null,null,null,"",{"$f":"IF(Q37*VLOOKUP(D37,係数,3,FALSE)=0,\"\",Q37*VLOOKUP(D37,係数,3,FALSE))","v":""},{"$f":"IF(P37=\"\",\"\",P37*L37)","v":""},{"$f":"IF(Q37=\"\",\"\",Q37*L37)","v":""}]
[null,null,null,"夜間買電",null,null,null,null,null,null,null,null,null,null,null,null,null,"",null,{"$f":"IF(P38=\"\",\"\",P38*L37)","v":""}]
[null,null,null,"昼間買電",null,null,null,null,null,null,null,{"$f":"IF(I39=0,Q$6,VLOOKUP(I39,電気事業者係数,3,FALSE))","v":0.441},null,null,null,null,null,"",{"$f":"IF(Q39*VLOOKUP(D39,係数,3,FALSE)=0,\"\",Q39*VLOOKUP(D39,係数,3,FALSE))","v":""},{"$f":"IF(P39=\"\",\"\",P39*L39)","v":""},{"$f":"IF(Q39=\"\",\"\",Q39*L39)","v":""}]
[null,null,null,"夜間買電",null,null,null,null,null,null,null,null,null,null,null,null,null,"",null,{"$f":"IF(P40=\"\",\"\",P40*L39)","v":""}]
[null,null,null,"昼間買電",null,null,null,null,null,null,null,{"$f":"IF(I41=0,Q$6,VLOOKUP(I41,電気事業者係数,3,FALSE))","v":0.441},null,null,null,null,null,"",{"$f":"IF(Q41*VLOOKUP(D41,係数,3,FALSE)=0,\"\",Q41*VLOOKUP(D41,係数,3,FALSE))","v":""},{"$f":"IF(P41=\"\",\"\",P41*L41)","v":""},{"$f":"IF(Q41=\"\",\"\",Q41*L41)","v":""}]
[null,null,null,"夜間買電",null,null,null,null,null,null,null,null,null,null,null,null,null,"",null,{"$f":"IF(P42=\"\",\"\",P42*L41)","v":""}]
[null,null,null,"昼間買電",null,null,null,null,null,null,null,{"$f":"IF(I43=0,Q$6,VLOOKUP(I43,電気事業者係数,3,FALSE))","v":0.441},null,null,null,null,null,"",{"$f":"IF(Q43*VLOOKUP(D43,係数,3,FALSE)=0,\"\",Q43*VLOOKUP(D43,係数,3,FALSE))","v":""},{"$f":"IF(P43=\"\",\"\",P43*L43)","v":""},{"$f":"IF(Q43=\"\",\"\",Q43*L43)","v":""}]
[null,null,null,"夜間買電",null,null,null,null,null,null,null,null,null,null,null,null,null,"",null,{"$f":"IF(P44=\"\",\"\",P44*L43)","v":""}]
[null,null,null,"昼間買電",null,null,null,null,null,null,null,{"$f":"IF(I45=0,Q$6,VLOOKUP(I45,電気事業者係数,3,FALSE))","v":0.441},null,null,null,null,null,"",{"$f":"IF(Q45*VLOOKUP(D45,係数,3,FALSE)=0,\"\",Q45*VLOOKUP(D45,係数,3,FALSE))","v":""},{"$f":"IF(P45=\"\",\"\",P45*L45)","v":""},{"$f":"IF(Q45=\"\",\"\",Q45*L45)","v":""}]
[null,null,null,"夜間買電",null,null,null,null,null,null,null,null,null,null,null,null,null,"",null,{"$f":"IF(P46=\"\",\"\",P46*L45)","v":""}]
[null,null,null,"昼間買電",null,null,null,null,null,null,null,{"$f":"IF(I47=0,Q$6,VLOOKUP(I47,電気事業者係数,3,FALSE))","v":0.441},null,null,null,null,null,"",{"$f":"IF(Q47*VLOOKUP(D47,係数,3,FALSE)=0,\"\",Q47*VLOOKUP(D47,係数,3,FALSE))","v":""},{"$f":"IF(P47=\"\",\"\",P47*L47)","v":""},{"$f":"IF(Q47=\"\",\"\",Q47*L47)","v":""}]
[null,null,null,"夜間買電",null,null,null,null,null,null,null,null,null,null,null,null,null,"",null,{"$f":"IF(P48=\"\",\"\",P48*L47)","v":""}]
[null,null,null,"昼間買電",null,null,null,null,null,null,null,{"$f":"IF(I49=0,Q$6,VLOOKUP(I49,電気事業者係数,3,FALSE))","v":0.441},null,null,null,null,null,"",{"$f":"IF(Q49*VLOOKUP(D49,係数,3,FALSE)=0,\"\",Q49*VLOOKUP(D49,係数,3,FALSE))","v":""},{"$f":"IF(P49=\"\",\"\",P49*L49)","v":""},{"$f":"IF(Q49=\"\",\"\",Q49*L49)","v":""}]
[null,null,null,"夜間買電",null,null,null,null,null,null,null,null,null,null,null,null,null,"",null,{"$f":"IF(P50=\"\",\"\",P50*L49)","v":""}]
[]
[null,null,null,null,null,null,null,null,null,null,null,null,"(合計)",null,"昼間",{"$f":"SUM(P11,P13,P15,P17,P19,P21,P23,P25,P27,P29,P31,P33,P35,P37,P39,P41,P43,P45,P47,P49)","v":0},0,0,0,0,0,"　→","「第１表(1)」に計算結果が反映されます。"]
[null,null,null,null,null,null,null,null,null,null,null,null,null,null,"夜間",{"$f":"SUM(P12,P14,P16,P18,P20,P22,P24,P26,P28,P30,P32,P34,P36,P38,P40,P42,P44,P46,P48,P50)","v":0},null,{"$f":"SUM(R12,R14,R16,R18,R20,R22,R24,R26,R28,R30,R32,R34,R36,R38,R40,R42,R44,R46,R48,R50)","v":0},null,{"$f":"SUM(T12,T14,T16,T18,T20,T22,T24,T26,T28,T30,T32,T34,T36,T38,T40,T42,T44,T46,T48,T50)","v":0},null,"　→"]
[]
[null,null,null,"上記以外の買電",null,null,null,null,null,null,null,null,null,null,null,null,null,{"$f":"IF(P55*VLOOKUP(D55,係数,3,FALSE)=0,\"0\",P55*VLOOKUP(D55,係数,3,FALSE))","v":"0"},null,{"$f":"IF(P55=\"0\",\"0\",P55*L55)","v":0},null,"　→"]

{"sheet":"入力補助(電気)_貨物_連携(自己分)","index":3,"n_rows":55,"n_cols":26,"rows_kept":55,"cut":false,"hidden":true,"merged":[[51,22,54,22],[54,3,54,7],[54,8,54,10],[54,11,54,14],[46,3,46,7],[46,8,47,10],[46,11,47,14],[47,3,47,7],[48,3,48,7],[48,8,49,10],[48,11,49,14],[49,3,49,7],[42,3,42,7],[42,8,43,10],[42,11,43,14],[43,3,43,7],[44,3,44,7],[44,8,45,10],[44,11,45,14],[45,3,45,7],[38,3,38,7],[38,8,39,10],[38,11,39,14],[39,3,39,7],[40,3,40,7],[40,8,41,10],[40,11,41,14],[41,3,41,7],[34,3,34,7],[34,8,35,10],[34,11,35,14],[35,3,35,7],[36,3,36,7],[36,8,37,10],[36,11,37,14],[37,3,37,7],[30,3,30,7],[30,8,31,10],[30,11,31,14],[31,3,31,7],[32,3,32,7],[32,8,33,10],[32,11,33,14],[33,3,33,7],[26,3,26,7],[26,8,27,10],[26,11,27,14],[27,3,27,7],[28,3,28,7],[28,8,29,10],[28,11,29,14],[29,3,29,7],[22,3,22,7],[22,8,23,10],[22,11,23,14],[23,3,23,7],[24,3,24,7],[24,8,25,10],[24,11,25,14],[25,3,25,7],[18,3,18,7],[18,8,19,10],[18,11,19,14],[19,3,19,7],[20,3,20,7],[20,8,21,10],[20,11,21,14],[21,3,21,7],[14,3,14,7],[14,8,15,10],[14,11,15,14],[15,3,15,7],[16,3,16,7],[16,8,17,10],[16,11,17,14],[17,3,17,7],[8,20,9,20],[10,3,10,7],[10,8,11,10],[10,11,11,14],[11,3,11,7],[7,17,9,17],[7,19,9,19],[8,18,9,18],[12,3,12,7],[12,8,13,10],[12,11,13,14],[13,3,13,7],[7,8,7,16],[8,8,9,10],[8,11,9,14],[8,15,9,15]]}
[null,2,"使用したエネルギーの入力（貨物（連携省エネルギー措置を踏まえたもののうち自己で使用した分））"]
[]
[null,null,"①","電気（二酸化炭素排出係数）"]
[null,null,null,"一般送配電事業者が維持し、及び運用する電線路を介して供給された電気を使用している場合は、国が公表する電気事業者ごとの排出係数を入力してください。",null,null,null,null,null,null,null,null,null,null,null,null,null,null,null,null,null,null,null,null,null,"　"]
[null,null,null,"それ以外の者から供給された電気を使用している場合は、実測等に基づく適切な排出係数を入力してください。"]
[null,null,null,"排出係数を算定することができない場合は、環境大臣・経済産業大臣が公表する係数（代替値）",null,null,null,null,null,null,null,null,null,null,null,null,{"$f":"INDIRECT(\"'係数（電気）'!D\"&MATCH(\"代替値\",'係数（電気）'!B:B,0))","v":0.441},"tCO２/千kWhを入力して下さい。"]
[]
[null,null,null,"エネルギー名",null,null,null,null,"電気事業者ごとの排出係数、買電量を入力してください",null,null,null,null,null,null,null,null,"買電\n熱量GJ\n（ＧＪ）",null,"CO2\n排出量\n（ｔ－CO2)"]
[null,null,null,null,null,null,null,null,"（▼から事業者を選択）",null,null,"二酸化炭素の実排出係数\n（tCO2/千kWh）",null,null,null,"買電量\n（千kWh）",null,null,"うち夏季・冬季における電気需要平準化時間帯",null,"うち夏季・冬季における電気需要平準化時間帯"]
[null,null,null,null,null,null,null,null,null,null,null,null,null,null,null,null,"夏季・冬季における電気需要平準化時間帯"]
[null,null,null,"昼間買電",null,null,null,null,null,null,null,{"$f":"IF(I11=0,Q$6,VLOOKUP(I11,電気事業者係数,3,FALSE))","v":0.441},null,null,null,null,null,{"$f":"IF(P11*VLOOKUP(D11,係数,3,FALSE)=0,\"\",P11*VLOOKUP(D11,係数,3,FALSE))","v":""},{"$f":"IF(Q11*VLOOKUP(D11,係数,3,FALSE)=0,\"\",Q11*VLOOKUP(D11,係数,3,FALSE))","v":""},{"$f":"IF(OR(P11=\"\",L11=\"\"),\"\",P11*L11)","v":""},{"$f":"IF(Q11=\"\",\"\",Q11*L11)","v":""}]
[null,null,null,"夜間買電",null,null,null,null,null,null,null,null,null,null,null,null,null,"",null,{"$f":"IF(P12=\"\",\"\",P12*L11)","v":""}]
[null,null,null,"昼間買電",null,null,null,null,null,null,null,{"$f":"IF(I13=0,Q$6,VLOOKUP(I13,電気事業者係数,3,FALSE))","v":0.441},null,null,null,null,null,"",{"$f":"IF(Q13*VLOOKUP(D13,係数,3,FALSE)=0,\"\",Q13*VLOOKUP(D13,係数,3,FALSE))","v":""},{"$f":"IF(P13=\"\",\"\",P13*L13)","v":""},{"$f":"IF(Q13=\"\",\"\",Q13*L13)","v":""}]
[null,null,null,"夜間買電",null,null,null,null,null,null,null,null,null,null,null,null,null,"",null,{"$f":"IF(P14=\"\",\"\",P14*L13)","v":""}]
[null,null,null,"昼間買電",null,null,null,null,null,null,null,{"$f":"IF(I15=0,Q$6,VLOOKUP(I15,電気事業者係数,3,FALSE))","v":0.441},null,null,null,null,null,"",{"$f":"IF(Q15*VLOOKUP(D15,係数,3,FALSE)=0,\"\",Q15*VLOOKUP(D15,係数,3,FALSE))","v":""},{"$f":"IF(P15=\"\",\"\",P15*L15)","v":""},{"$f":"IF(Q15=\"\",\"\",Q15*L15)","v":""}]
[null,null,null,"夜間買電",null,null,null,null,null,null,null,null,null,null,null,null,null,"",null,{"$f":"IF(P16=\"\",\"\",P16*L15)","v":""}]
[null,null,null,"昼間買電",null,null,null,null,null,null,null,{"$f":"IF(I17=0,Q$6,VLOOKUP(I17,電気事業者係数,3,FALSE))","v":0.441},null,null,null,null,null,"",{"$f":"IF(Q17*VLOOKUP(D17,係数,3,FALSE)=0,\"\",Q17*VLOOKUP(D17,係数,3,FALSE))","v":""},{"$f":"IF(P17=\"\",\"\",P17*L17)","v":""},{"$f":"IF(Q17=\"\",\"\",Q17*L17)","v":""}]
[null,null,null,"夜間買電",null,null,null,null,null,null,null,null,null,null,null,null,null,"",null,{"$f":"IF(P18=\"\",\"\",P18*L17)","v":""}]
[null,null,null,"昼間買電",null,null,null,null,null,null,null,{"$f":"IF(I19=0,Q$6,VLOOKUP(I19,電気事業者係数,3,FALSE))","v":0.441},null,null,null,null,null,"",{"$f":"IF(Q19*VLOOKUP(D19,係数,3,FALSE)=0,\"\",Q19*VLOOKUP(D19,係数,3,FALSE))","v":""},{"$f":"IF(P19=\"\",\"\",P19*L19)","v":""},{"$f":"IF(Q19=\"\",\"\",Q19*L19)","v":""}]
[null,null,null,"夜間買電",null,null,null,null,null,null,null,null,null,null,null,null,null,"",null,{"$f":"IF(P20=\"\",\"\",P20*L19)","v":""}]
[null,null,null,"昼間買電",null,null,null,null,null,null,null,{"$f":"IF(I21=0,Q$6,VLOOKUP(I21,電気事業者係数,3,FALSE))","v":0.441},null,null,null,null,null,"",{"$f":"IF(Q21*VLOOKUP(D21,係数,3,FALSE)=0,\"\",Q21*VLOOKUP(D21,係数,3,FALSE))","v":""},{"$f":"IF(P21=\"\",\"\",P21*L21)","v":""},{"$f":"IF(Q21=\"\",\"\",Q21*L21)","v":""}]
[null,null,null,"夜間買電",null,null,null,null,null,null,null,null,null,null,null,null,null,"",null,{"$f":"IF(P22=\"\",\"\",P22*L21)","v":""}]
[null,null,null,"昼間買電",null,null,null,null,null,null,null,{"$f":"IF(I23=0,Q$6,VLOOKUP(I23,電気事業者係数,3,FALSE))","v":0.441},null,null,null,null,null,"",{"$f":"IF(Q23*VLOOKUP(D23,係数,3,FALSE)=0,\"\",Q23*VLOOKUP(D23,係数,3,FALSE))","v":""},{"$f":"IF(P23=\"\",\"\",P23*L23)","v":""},{"$f":"IF(Q23=\"\",\"\",Q23*L23)","v":""}]
[null,null,null,"夜間買電",null,null,null,null,null,null,null,null,null,null,null,null,null,"",null,{"$f":"IF(P24=\"\",\"\",P24*L23)","v":""}]
[null,null,null,"昼間買電",null,null,null,null,null,null,null,{"$f":"IF(I25=0,Q$6,VLOOKUP(I25,電気事業者係数,3,FALSE))","v":0.441},null,null,null,null,null,"",{"$f":"IF(Q25*VLOOKUP(D25,係数,3,FALSE)=0,\"\",Q25*VLOOKUP(D25,係数,3,FALSE))","v":""},{"$f":"IF(P25=\"\",\"\",P25*L25)","v":""},{"$f":"IF(Q25=\"\",\"\",Q25*L25)","v":""}]
[null,null,null,"夜間買電",null,null,null,null,null,null,null,null,null,null,null,null,null,"",null,{"$f":"IF(P26=\"\",\"\",P26*L25)","v":""}]
[null,null,null,"昼間買電",null,null,null,null,null,null,null,{"$f":"IF(I27=0,Q$6,VLOOKUP(I27,電気事業者係数,3,FALSE))","v":0.441},null,null,null,null,null,"",{"$f":"IF(Q27*VLOOKUP(D27,係数,3,FALSE)=0,\"\",Q27*VLOOKUP(D27,係数,3,FALSE))","v":""},{"$f":"IF(P27=\"\",\"\",P27*L27)","v":""},{"$f":"IF(Q27=\"\",\"\",Q27*L27)","v":""}]
[null,null,null,"夜間買電",null,null,null,null,null,null,null,null,null,null,null,null,null,"",null,{"$f":"IF(P28=\"\",\"\",P28*L27)","v":""}]
[null,null,null,"昼間買電",null,null,null,null,null,null,null,{"$f":"IF(I29=0,Q$6,VLOOKUP(I29,電気事業者係数,3,FALSE))","v":0.441},null,null,null,null,null,"",{"$f":"IF(Q29*VLOOKUP(D29,係数,3,FALSE)=0,\"\",Q29*VLOOKUP(D29,係数,3,FALSE))","v":""},{"$f":"IF(P29=\"\",\"\",P29*L29)","v":""},{"$f":"IF(Q29=\"\",\"\",Q29*L29)","v":""}]
[null,null,null,"夜間買電",null,null,null,null,null,null,null,null,null,null,null,null,null,"",null,{"$f":"IF(P30=\"\",\"\",P30*L29)","v":""}]
[null,null,null,"昼間買電",null,null,null,null,null,null,null,{"$f":"IF(I31=0,Q$6,VLOOKUP(I31,電気事業者係数,3,FALSE))","v":0.441},null,null,null,null,null,"",{"$f":"IF(Q31*VLOOKUP(D31,係数,3,FALSE)=0,\"\",Q31*VLOOKUP(D31,係数,3,FALSE))","v":""},{"$f":"IF(P31=\"\",\"\",P31*L31)","v":""},{"$f":"IF(Q31=\"\",\"\",Q31*L31)","v":""}]
[null,null,null,"夜間買電",null,null,null,null,null,null,null,null,null,null,null,null,null,"",null,{"$f":"IF(P32=\"\",\"\",P32*L31)","v":""}]
[null,null,null,"昼間買電",null,null,null,null,null,null,null,{"$f":"IF(I33=0,Q$6,VLOOKUP(I33,電気事業者係数,3,FALSE))","v":0.441},null,null,null,null,null,"",{"$f":"IF(Q33*VLOOKUP(D33,係数,3,FALSE)=0,\"\",Q33*VLOOKUP(D33,係数,3,FALSE))","v":""},{"$f":"IF(P33=\"\",\"\",P33*L33)","v":""},{"$f":"IF(Q33=\"\",\"\",Q33*L33)","v":""}]
[null,null,null,"夜間買電",null,null,null,null,null,null,null,null,null,null,null,null,null,"",null,{"$f":"IF(P34=\"\",\"\",P34*L33)","v":""}]
[null,null,null,"昼間買電",null,null,null,null,null,null,null,{"$f":"IF(I35=0,Q$6,VLOOKUP(I35,電気事業者係数,3,FALSE))","v":0.441},null,null,null,null,null,"",{"$f":"IF(Q35*VLOOKUP(D35,係数,3,FALSE)=0,\"\",Q35*VLOOKUP(D35,係数,3,FALSE))","v":""},{"$f":"IF(P35=\"\",\"\",P35*L35)","v":""},{"$f":"IF(Q35=\"\",\"\",Q35*L35)","v":""}]
[null,null,null,"夜間買電",null,null,null,null,null,null,null,null,null,null,null,null,null,"",null,{"$f":"IF(P36=\"\",\"\",P36*L35)","v":""}]
[null,null,null,"昼間買電",null,null,null,null,null,null,null,{"$f":"IF(I37=0,Q$6,VLOOKUP(I37,電気事業者係数,3,FALSE))","v":0.441},null,null,null,null,null,"",{"$f":"IF(Q37*VLOOKUP(D37,係数,3,FALSE)=0,\"\",Q37*VLOOKUP(D37,係数,3,FALSE))","v":""},{"$f":"IF(P37=\"\",\"\",P37*L37)","v":""},{"$f":"IF(Q37=\"\",\"\",Q37*L37)","v":""}]
[null,null,null,"夜間買電",null,null,null,null,null,null,null,null,null,null,null,null,null,"",null,{"$f":"IF(P38=\"\",\"\",P38*L37)","v":""}]
[null,null,null,"昼間買電",null,null,null,null,null,null,null,{"$f":"IF(I39=0,Q$6,VLOOKUP(I39,電気事業者係数,3,FALSE))","v":0.441},null,null,null,null,null,"",{"$f":"IF(Q39*VLOOKUP(D39,係数,3,FALSE)=0,\"\",Q39*VLOOKUP(D39,係数,3,FALSE))","v":""},{"$f":"IF(P39=\"\",\"\",P39*L39)","v":""},{"$f":"IF(Q39=\"\",\"\",Q39*L39)","v":""}]
[null,null,null,"夜間買電",null,null,null,null,null,null,null,null,null,null,null,null,null,"",null,{"$f":"IF(P40=\"\",\"\",P40*L39)","v":""}]
[null,null,null,"昼間買電",null,null,null,null,null,null,null,{"$f":"IF(I41=0,Q$6,VLOOKUP(I41,電気事業者係数,3,FALSE))","v":0.441},null,null,null,null,null,"",{"$f":"IF(Q41*VLOOKUP(D41,係数,3,FALSE)=0,\"\",Q41*VLOOKUP(D41,係数,3,FALSE))","v":""},{"$f":"IF(P41=\"\",\"\",P41*L41)","v":""},{"$f":"IF(Q41=\"\",\"\",Q41*L41)","v":""}]
[null,null,null,"夜間買電",null,null,null,null,null,null,null,null,null,null,null,null,null,"",null,{"$f":"IF(P42=\"\",\"\",P42*L41)","v":""}]
[null,null,null,"昼間買電",null,null,null,null,null,null,null,{"$f":"IF(I43=0,Q$6,VLOOKUP(I43,電気事業者係数,3,FALSE))","v":0.441},null,null,null,null,null,"",{"$f":"IF(Q43*VLOOKUP(D43,係数,3,FALSE)=0,\"\",Q43*VLOOKUP(D43,係数,3,FALSE))","v":""},{"$f":"IF(P43=\"\",\"\",P43*L43)","v":""},{"$f":"IF(Q43=\"\",\"\",Q43*L43)","v":""}]
[null,null,null,"夜間買電",null,null,null,null,null,null,null,null,null,null,null,null,null,"",null,{"$f":"IF(P44=\"\",\"\",P44*L43)","v":""}]
[null,null,null,"昼間買電",null,null,null,null,null,null,null,{"$f":"IF(I45=0,Q$6,VLOOKUP(I45,電気事業者係数,3,FALSE))","v":0.441},null,null,null,null,null,"",{"$f":"IF(Q45*VLOOKUP(D45,係数,3,FALSE)=0,\"\",Q45*VLOOKUP(D45,係数,3,FALSE))","v":""},{"$f":"IF(P45=\"\",\"\",P45*L45)","v":""},{"$f":"IF(Q45=\"\",\"\",Q45*L45)","v":""}]
[null,null,null,"夜間買電",null,null,null,null,null,null,null,null,null,null,null,null,null,"",null,{"$f":"IF(P46=\"\",\"\",P46*L45)","v":""}]
[null,null,null,"昼間買電",null,null,null,null,null,null,null,{"$f":"IF(I47=0,Q$6,VLOOKUP(I47,電気事業者係数,3,FALSE))","v":0.441},null,null,null,null,null,"",{"$f":"IF(Q47*VLOOKUP(D47,係数,3,FALSE)=0,\"\",Q47*VLOOKUP(D47,係数,3,FALSE))","v":""},{"$f":"IF(P47=\"\",\"\",P47*L47)","v":""},{"$f":"IF(Q47=\"\",\"\",Q47*L47)","v":""}]
[null,null,null,"夜間買電",null,null,null,null,null,null,null,null,null,null,null,null,null,"",null,{"$f":"IF(P48=\"\",\"\",P48*L47)","v":""}]
[null,null,null,"昼間買電",null,null,null,null,null,null,null,{"$f":"IF(I49=0,Q$6,VLOOKUP(I49,電気事業者係数,3,FALSE))","v":0.441},null,null,null,null,null,"",{"$f":"IF(Q49*VLOOKUP(D49,係数,3,FALSE)=0,\"\",Q49*VLOOKUP(D49,係数,3,FALSE))","v":""},{"$f":"IF(P49=\"\",\"\",P49*L49)","v":""},{"$f":"IF(Q49=\"\",\"\",Q49*L49)","v":""}]
[null,null,null,"夜間買電",null,null,null,null,null,null,null,null,null,null,null,null,null,"",null,{"$f":"IF(P50=\"\",\"\",P50*L49)","v":""}]
[]
[null,null,null,null,null,null,null,null,null,null,null,null,"(合計)",null,"昼間",{"$f":"SUM(P11,P13,P15,P17,P19,P21,P23,P25,P27,P29,P31,P33,P35,P37,P39,P41,P43,P45,P47,P49)","v":0},0,0,0,0,0,"　→","「第１表(1)」に計算結果が反映されます。"]
[null,null,null,null,null,null,null,null,null,null,null,null,null,null,"夜間",{"$f":"SUM(P12,P14,P16,P18,P20,P22,P24,P26,P28,P30,P32,P34,P36,P38,P40,P42,P44,P46,P48,P50)","v":0},null,{"$f":"SUM(R12,R14,R16,R18,R20,R22,R24,R26,R28,R30,R32,R34,R36,R38,R40,R42,R44,R46,R48,R50)","v":0},null,{"$f":"SUM(T12,T14,T16,T18,T20,T22,T24,T26,T28,T30,T32,T34,T36,T38,T40,T42,T44,T46,T48,T50)","v":0},null,"　→"]
[]
[null,null,null,"上記以外の買電",null,null,null,null,null,null,null,null,null,null,null,null,null,{"$f":"IF(P55*VLOOKUP(D55,係数,3,FALSE)=0,\"0\",P55*VLOOKUP(D55,係数,3,FALSE))","v":"0"},null,{"$f":"IF(P55=\"0\",\"0\",P55*L55)","v":0},null,"　→"]

{"sheet":"入力補助(電気)_貨物_連携(連携分)","index":4,"n_rows":55,"n_cols":26,"rows_kept":55,"cut":false,"hidden":true,"merged":[[12,3,12,7],[12,8,13,10],[12,11,13,14],[13,3,13,7],[7,8,7,16],[8,8,9,10],[8,11,9,14],[8,15,9,15],[8,20,9,20],[10,3,10,7],[10,8,11,10],[10,11,11,14],[11,3,11,7],[7,17,9,17],[7,19,9,19],[8,18,9,18],[14,3,14,7],[14,8,15,10],[14,11,15,14],[15,3,15,7],[16,3,16,7],[16,8,17,10],[16,11,17,14],[17,3,17,7],[18,3,18,7],[18,8,19,10],[18,11,19,14],[19,3,19,7],[20,3,20,7],[20,8,21,10],[20,11,21,14],[21,3,21,7],[22,3,22,7],[22,8,23,10],[22,11,23,14],[23,3,23,7],[24,3,24,7],[24,8,25,10],[24,11,25,14],[25,3,25,7],[26,3,26,7],[26,8,27,10],[26,11,27,14],[27,3,27,7],[28,3,28,7],[28,8,29,10],[28,11,29,14],[29,3,29,7],[30,3,30,7],[30,8,31,10],[30,11,31,14],[31,3,31,7],[32,3,32,7],[32,8,33,10],[32,11,33,14],[33,3,33,7],[34,3,34,7],[34,8,35,10],[34,11,35,14],[35,3,35,7],[36,3,36,7],[36,8,37,10],[36,11,37,14],[37,3,37,7],[38,3,38,7],[38,8,39,10],[38,11,39,14],[39,3,39,7],[40,3,40,7],[40,8,41,10],[40,11,41,14],[41,3,41,7],[42,3,42,7],[42,8,43,10],[42,11,43,14],[43,3,43,7],[44,3,44,7],[44,8,45,10],[44,11,45,14],[45,3,45,7],[51,22,54,22],[54,3,54,7],[54,8,54,10],[54,11,54,14],[46,3,46,7],[46,8,47,10],[46,11,47,14],[47,3,47,7],[48,3,48,7],[48,8,49,10],[48,11,49,14],[49,3,49,7]]}
[null,3,"使用したエネルギーの入力（貨物（連携省エネルギー措置を踏まえたもののうち連携事業者で使用した分））"]
[]
[null,null,"①","電気（二酸化炭素排出係数）"]
[null,null,null,"一般送配電事業者が維持し、及び運用する電線路を介して供給された電気を使用している場合は、国が公表する電気事業者ごとの排出係数を入力してください。",null,null,null,null,null,null,null,null,null,null,null,null,null,null,null,null,null,null,null,null,null,"　"]
[null,null,null,"それ以外の者から供給された電気を使用している場合は、実測等に基づく適切な排出係数を入力してください。"]
[null,null,null,"排出係数を算定することができない場合は、環境大臣・経済産業大臣が公表する係数（代替値）",null,null,null,null,null,null,null,null,null,null,null,null,{"$f":"INDIRECT(\"'係数（電気）'!D\"&MATCH(\"代替値\",'係数（電気）'!B:B,0))","v":0.441},"tCO２/千kWhを入力して下さい。"]
[]
[null,null,null,"エネルギー名",null,null,null,null,"電気事業者ごとの排出係数、買電量を入力してください",null,null,null,null,null,null,null,null,"買電\n熱量GJ\n（ＧＪ）",null,"CO2\n排出量\n（ｔ－CO2)"]
[null,null,null,null,null,null,null,null,"（▼から事業者を選択）",null,null,"二酸化炭素の実排出係数\n（tCO2/千kWh）",null,null,null,"買電量\n（千kWh）",null,null,"うち夏季・冬季における電気需要平準化時間帯",null,"うち夏季・冬季における電気需要平準化時間帯"]
[null,null,null,null,null,null,null,null,null,null,null,null,null,null,null,null,"夏季・冬季における電気需要平準化時間帯"]
[null,null,null,"昼間買電",null,null,null,null,null,null,null,{"$f":"IF(I11=0,Q$6,VLOOKUP(I11,電気事業者係数,3,FALSE))","v":0.441},null,null,null,null,null,{"$f":"IF(P11*VLOOKUP(D11,係数,3,FALSE)=0,\"\",P11*VLOOKUP(D11,係数,3,FALSE))","v":""},{"$f":"IF(Q11*VLOOKUP(D11,係数,3,FALSE)=0,\"\",Q11*VLOOKUP(D11,係数,3,FALSE))","v":""},{"$f":"IF(OR(P11=\"\",L11=\"\"),\"\",P11*L11)","v":""},{"$f":"IF(Q11=\"\",\"\",Q11*L11)","v":""}]
[null,null,null,"夜間買電",null,null,null,null,null,null,null,null,null,null,null,null,null,"",null,{"$f":"IF(P12=\"\",\"\",P12*L11)","v":""}]
[null,null,null,"昼間買電",null,null,null,null,null,null,null,{"$f":"IF(I13=0,Q$6,VLOOKUP(I13,電気事業者係数,3,FALSE))","v":0.441},null,null,null,null,null,"",{"$f":"IF(Q13*VLOOKUP(D13,係数,3,FALSE)=0,\"\",Q13*VLOOKUP(D13,係数,3,FALSE))","v":""},{"$f":"IF(P13=\"\",\"\",P13*L13)","v":""},{"$f":"IF(Q13=\"\",\"\",Q13*L13)","v":""}]
[null,null,null,"夜間買電",null,null,null,null,null,null,null,null,null,null,null,null,null,"",null,{"$f":"IF(P14=\"\",\"\",P14*L13)","v":""}]
[null,null,null,"昼間買電",null,null,null,null,null,null,null,{"$f":"IF(I15=0,Q$6,VLOOKUP(I15,電気事業者係数,3,FALSE))","v":0.441},null,null,null,null,null,"",{"$f":"IF(Q15*VLOOKUP(D15,係数,3,FALSE)=0,\"\",Q15*VLOOKUP(D15,係数,3,FALSE))","v":""},{"$f":"IF(P15=\"\",\"\",P15*L15)","v":""},{"$f":"IF(Q15=\"\",\"\",Q15*L15)","v":""}]
[null,null,null,"夜間買電",null,null,null,null,null,null,null,null,null,null,null,null,null,"",null,{"$f":"IF(P16=\"\",\"\",P16*L15)","v":""}]
[null,null,null,"昼間買電",null,null,null,null,null,null,null,{"$f":"IF(I17=0,Q$6,VLOOKUP(I17,電気事業者係数,3,FALSE))","v":0.441},null,null,null,null,null,"",{"$f":"IF(Q17*VLOOKUP(D17,係数,3,FALSE)=0,\"\",Q17*VLOOKUP(D17,係数,3,FALSE))","v":""},{"$f":"IF(P17=\"\",\"\",P17*L17)","v":""},{"$f":"IF(Q17=\"\",\"\",Q17*L17)","v":""}]
[null,null,null,"夜間買電",null,null,null,null,null,null,null,null,null,null,null,null,null,"",null,{"$f":"IF(P18=\"\",\"\",P18*L17)","v":""}]
[null,null,null,"昼間買電",null,null,null,null,null,null,null,{"$f":"IF(I19=0,Q$6,VLOOKUP(I19,電気事業者係数,3,FALSE))","v":0.441},null,null,null,null,null,"",{"$f":"IF(Q19*VLOOKUP(D19,係数,3,FALSE)=0,\"\",Q19*VLOOKUP(D19,係数,3,FALSE))","v":""},{"$f":"IF(P19=\"\",\"\",P19*L19)","v":""},{"$f":"IF(Q19=\"\",\"\",Q19*L19)","v":""}]
[null,null,null,"夜間買電",null,null,null,null,null,null,null,null,null,null,null,null,null,"",null,{"$f":"IF(P20=\"\",\"\",P20*L19)","v":""}]
[null,null,null,"昼間買電",null,null,null,null,null,null,null,{"$f":"IF(I21=0,Q$6,VLOOKUP(I21,電気事業者係数,3,FALSE))","v":0.441},null,null,null,null,null,"",{"$f":"IF(Q21*VLOOKUP(D21,係数,3,FALSE)=0,\"\",Q21*VLOOKUP(D21,係数,3,FALSE))","v":""},{"$f":"IF(P21=\"\",\"\",P21*L21)","v":""},{"$f":"IF(Q21=\"\",\"\",Q21*L21)","v":""}]
[null,null,null,"夜間買電",null,null,null,null,null,null,null,null,null,null,null,null,null,"",null,{"$f":"IF(P22=\"\",\"\",P22*L21)","v":""}]
[null,null,null,"昼間買電",null,null,null,null,null,null,null,{"$f":"IF(I23=0,Q$6,VLOOKUP(I23,電気事業者係数,3,FALSE))","v":0.441},null,null,null,null,null,"",{"$f":"IF(Q23*VLOOKUP(D23,係数,3,FALSE)=0,\"\",Q23*VLOOKUP(D23,係数,3,FALSE))","v":""},{"$f":"IF(P23=\"\",\"\",P23*L23)","v":""},{"$f":"IF(Q23=\"\",\"\",Q23*L23)","v":""}]
[null,null,null,"夜間買電",null,null,null,null,null,null,null,null,null,null,null,null,null,"",null,{"$f":"IF(P24=\"\",\"\",P24*L23)","v":""}]
[null,null,null,"昼間買電",null,null,null,null,null,null,null,{"$f":"IF(I25=0,Q$6,VLOOKUP(I25,電気事業者係数,3,FALSE))","v":0.441},null,null,null,null,null,"",{"$f":"IF(Q25*VLOOKUP(D25,係数,3,FALSE)=0,\"\",Q25*VLOOKUP(D25,係数,3,FALSE))","v":""},{"$f":"IF(P25=\"\",\"\",P25*L25)","v":""},{"$f":"IF(Q25=\"\",\"\",Q25*L25)","v":""}]
[null,null,null,"夜間買電",null,null,null,null,null,null,null,null,null,null,null,null,null,"",null,{"$f":"IF(P26=\"\",\"\",P26*L25)","v":""}]
[null,null,null,"昼間買電",null,null,null,null,null,null,null,{"$f":"IF(I27=0,Q$6,VLOOKUP(I27,電気事業者係数,3,FALSE))","v":0.441},null,null,null,null,null,"",{"$f":"IF(Q27*VLOOKUP(D27,係数,3,FALSE)=0,\"\",Q27*VLOOKUP(D27,係数,3,FALSE))","v":""},{"$f":"IF(P27=\"\",\"\",P27*L27)","v":""},{"$f":"IF(Q27=\"\",\"\",Q27*L27)","v":""}]
[null,null,null,"夜間買電",null,null,null,null,null,null,null,null,null,null,null,null,null,"",null,{"$f":"IF(P28=\"\",\"\",P28*L27)","v":""}]
[null,null,null,"昼間買電",null,null,null,null,null,null,null,{"$f":"IF(I29=0,Q$6,VLOOKUP(I29,電気事業者係数,3,FALSE))","v":0.441},null,null,null,null,null,"",{"$f":"IF(Q29*VLOOKUP(D29,係数,3,FALSE)=0,\"\",Q29*VLOOKUP(D29,係数,3,FALSE))","v":""},{"$f":"IF(P29=\"\",\"\",P29*L29)","v":""},{"$f":"IF(Q29=\"\",\"\",Q29*L29)","v":""}]
[null,null,null,"夜間買電",null,null,null,null,null,null,null,null,null,null,null,null,null,"",null,{"$f":"IF(P30=\"\",\"\",P30*L29)","v":""}]
[null,null,null,"昼間買電",null,null,null,null,null,null,null,{"$f":"IF(I31=0,Q$6,VLOOKUP(I31,電気事業者係数,3,FALSE))","v":0.441},null,null,null,null,null,"",{"$f":"IF(Q31*VLOOKUP(D31,係数,3,FALSE)=0,\"\",Q31*VLOOKUP(D31,係数,3,FALSE))","v":""},{"$f":"IF(P31=\"\",\"\",P31*L31)","v":""},{"$f":"IF(Q31=\"\",\"\",Q31*L31)","v":""}]
[null,null,null,"夜間買電",null,null,null,null,null,null,null,null,null,null,null,null,null,"",null,{"$f":"IF(P32=\"\",\"\",P32*L31)","v":""}]
[null,null,null,"昼間買電",null,null,null,null,null,null,null,{"$f":"IF(I33=0,Q$6,VLOOKUP(I33,電気事業者係数,3,FALSE))","v":0.441},null,null,null,null,null,"",{"$f":"IF(Q33*VLOOKUP(D33,係数,3,FALSE)=0,\"\",Q33*VLOOKUP(D33,係数,3,FALSE))","v":""},{"$f":"IF(P33=\"\",\"\",P33*L33)","v":""},{"$f":"IF(Q33=\"\",\"\",Q33*L33)","v":""}]
[null,null,null,"夜間買電",null,null,null,null,null,null,null,null,null,null,null,null,null,"",null,{"$f":"IF(P34=\"\",\"\",P34*L33)","v":""}]
[null,null,null,"昼間買電",null,null,null,null,null,null,null,{"$f":"IF(I35=0,Q$6,VLOOKUP(I35,電気事業者係数,3,FALSE))","v":0.441},null,null,null,null,null,"",{"$f":"IF(Q35*VLOOKUP(D35,係数,3,FALSE)=0,\"\",Q35*VLOOKUP(D35,係数,3,FALSE))","v":""},{"$f":"IF(P35=\"\",\"\",P35*L35)","v":""},{"$f":"IF(Q35=\"\",\"\",Q35*L35)","v":""}]
[null,null,null,"夜間買電",null,null,null,null,null,null,null,null,null,null,null,null,null,"",null,{"$f":"IF(P36=\"\",\"\",P36*L35)","v":""}]
[null,null,null,"昼間買電",null,null,null,null,null,null,null,{"$f":"IF(I37=0,Q$6,VLOOKUP(I37,電気事業者係数,3,FALSE))","v":0.441},null,null,null,null,null,"",{"$f":"IF(Q37*VLOOKUP(D37,係数,3,FALSE)=0,\"\",Q37*VLOOKUP(D37,係数,3,FALSE))","v":""},{"$f":"IF(P37=\"\",\"\",P37*L37)","v":""},{"$f":"IF(Q37=\"\",\"\",Q37*L37)","v":""}]
[null,null,null,"夜間買電",null,null,null,null,null,null,null,null,null,null,null,null,null,"",null,{"$f":"IF(P38=\"\",\"\",P38*L37)","v":""}]
[null,null,null,"昼間買電",null,null,null,null,null,null,null,{"$f":"IF(I39=0,Q$6,VLOOKUP(I39,電気事業者係数,3,FALSE))","v":0.441},null,null,null,null,null,"",{"$f":"IF(Q39*VLOOKUP(D39,係数,3,FALSE)=0,\"\",Q39*VLOOKUP(D39,係数,3,FALSE))","v":""},{"$f":"IF(P39=\"\",\"\",P39*L39)","v":""},{"$f":"IF(Q39=\"\",\"\",Q39*L39)","v":""}]
[null,null,null,"夜間買電",null,null,null,null,null,null,null,null,null,null,null,null,null,"",null,{"$f":"IF(P40=\"\",\"\",P40*L39)","v":""}]
[null,null,null,"昼間買電",null,null,null,null,null,null,null,{"$f":"IF(I41=0,Q$6,VLOOKUP(I41,電気事業者係数,3,FALSE))","v":0.441},null,null,null,null,null,"",{"$f":"IF(Q41*VLOOKUP(D41,係数,3,FALSE)=0,\"\",Q41*VLOOKUP(D41,係数,3,FALSE))","v":""},{"$f":"IF(P41=\"\",\"\",P41*L41)","v":""},{"$f":"IF(Q41=\"\",\"\",Q41*L41)","v":""}]
[null,null,null,"夜間買電",null,null,null,null,null,null,null,null,null,null,null,null,null,"",null,{"$f":"IF(P42=\"\",\"\",P42*L41)","v":""}]
[null,null,null,"昼間買電",null,null,null,null,null,null,null,{"$f":"IF(I43=0,Q$6,VLOOKUP(I43,電気事業者係数,3,FALSE))","v":0.441},null,null,null,null,null,"",{"$f":"IF(Q43*VLOOKUP(D43,係数,3,FALSE)=0,\"\",Q43*VLOOKUP(D43,係数,3,FALSE))","v":""},{"$f":"IF(P43=\"\",\"\",P43*L43)","v":""},{"$f":"IF(Q43=\"\",\"\",Q43*L43)","v":""}]
[null,null,null,"夜間買電",null,null,null,null,null,null,null,null,null,null,null,null,null,"",null,{"$f":"IF(P44=\"\",\"\",P44*L43)","v":""}]
[null,null,null,"昼間買電",null,null,null,null,null,null,null,{"$f":"IF(I45=0,Q$6,VLOOKUP(I45,電気事業者係数,3,FALSE))","v":0.441},null,null,null,null,null,"",{"$f":"IF(Q45*VLOOKUP(D45,係数,3,FALSE)=0,\"\",Q45*VLOOKUP(D45,係数,3,FALSE))","v":""},{"$f":"IF(P45=\"\",\"\",P45*L45)","v":""},{"$f":"IF(Q45=\"\",\"\",Q45*L45)","v":""}]
[null,null,null,"夜間買電",null,null,null,null,null,null,null,null,null,null,null,null,null,"",null,{"$f":"IF(P46=\"\",\"\",P46*L45)","v":""}]
[null,null,null,"昼間買電",null,null,null,null,null,null,null,{"$f":"IF(I47=0,Q$6,VLOOKUP(I47,電気事業者係数,3,FALSE))","v":0.441},null,null,null,null,null,"",{"$f":"IF(Q47*VLOOKUP(D47,係数,3,FALSE)=0,\"\",Q47*VLOOKUP(D47,係数,3,FALSE))","v":""},{"$f":"IF(P47=\"\",\"\",P47*L47)","v":""},{"$f":"IF(Q47=\"\",\"\",Q47*L47)","v":""}]
[null,null,null,"夜間買電",null,null,null,null,null,null,null,null,null,null,null,null,null,"",null,{"$f":"IF(P48=\"\",\"\",P48*L47)","v":""}]
[null,null,null,"昼間買電",null,null,null,null,null,null,null,{"$f":"IF(I49=0,Q$6,VLOOKUP(I49,電気事業者係数,3,FALSE))","v":0.441},null,null,null,null,null,"",{"$f":"IF(Q49*VLOOKUP(D49,係数,3,FALSE)=0,\"\",Q49*VLOOKUP(D49,係数,3,FALSE))","v":""},{"$f":"IF(P49=\"\",\"\",P49*L49)","v":""},{"$f":"IF(Q49=\"\",\"\",Q49*L49)","v":""}]
[null,null,null,"夜間買電",null,null,null,null,null,null,null,null,null,null,null,null,null,"",null,{"$f":"IF(P50=\"\",\"\",P50*L49)","v":""}]
[]
[null,null,null,null,null,null,null,null,null,null,null,null,"(合計)",null,"昼間",{"$f":"SUM(P11,P13,P15,P17,P19,P21,P23,P25,P27,P29,P31,P33,P35,P37,P39,P41,P43,P45,P47,P49)","v":0},0,0,0,0,0,"　→","「第１表(1)」に計算結果が反映されます。"]
[null,null,null,null,null,null,null,null,null,null,null,null,null,null,"夜間",{"$f":"SUM(P12,P14,P16,P18,P20,P22,P24,P26,P28,P30,P32,P34,P36,P38,P40,P42,P44,P46,P48,P50)","v":0},null,{"$f":"SUM(R12,R14,R16,R18,R20,R22,R24,R26,R28,R30,R32,R34,R36,R38,R40,R42,R44,R46,R48,R50)","v":0},null,{"$f":"SUM(T12,T14,T16,T18,T20,T22,T24,T26,T28,T30,T32,T34,T36,T38,T40,T42,T44,T46,T48,T50)","v":0},null,"　→"]
[]
[null,null,null,"上記以外の買電",null,null,null,null,null,null,null,null,null,null,null,null,null,{"$f":"IF(P55*VLOOKUP(D55,係数,3,FALSE)=0,\"0\",P55*VLOOKUP(D55,係数,3,FALSE))","v":"0"},null,{"$f":"IF(P55=\"0\",\"0\",P55*L55)","v":0},null,"　→"]

{"sheet":"入力補助(電気)_旅客","index":5,"n_rows":55,"n_cols":26,"rows_kept":55,"cut":false,"hidden":true,"merged":[[51,22,54,22],[54,3,54,7],[54,8,54,10],[54,11,54,14],[46,3,46,7],[46,8,47,10],[46,11,47,14],[47,3,47,7],[48,3,48,7],[48,8,49,10],[48,11,49,14],[49,3,49,7],[42,3,42,7],[42,8,43,10],[42,11,43,14],[43,3,43,7],[44,3,44,7],[44,8,45,10],[44,11,45,14],[45,3,45,7],[38,3,38,7],[38,8,39,10],[38,11,39,14],[39,3,39,7],[40,3,40,7],[40,8,41,10],[40,11,41,14],[41,3,41,7],[34,3,34,7],[34,8,35,10],[34,11,35,14],[35,3,35,7],[36,3,36,7],[36,8,37,10],[36,11,37,14],[37,3,37,7],[30,3,30,7],[30,8,31,10],[30,11,31,14],[31,3,31,7],[32,3,32,7],[32,8,33,10],[32,11,33,14],[33,3,33,7],[26,3,26,7],[26,8,27,10],[26,11,27,14],[27,3,27,7],[28,3,28,7],[28,8,29,10],[28,11,29,14],[29,3,29,7],[22,3,22,7],[22,8,23,10],[22,11,23,14],[23,3,23,7],[24,3,24,7],[24,8,25,10],[24,11,25,14],[25,3,25,7],[18,3,18,7],[18,8,19,10],[18,11,19,14],[19,3,19,7],[20,3,20,7],[20,8,21,10],[20,11,21,14],[21,3,21,7],[14,3,14,7],[14,8,15,10],[14,11,15,14],[15,3,15,7],[16,3,16,7],[16,8,17,10],[16,11,17,14],[17,3,17,7],[8,20,9,20],[10,3,10,7],[10,8,11,10],[10,11,11,14],[11,3,11,7],[7,17,9,17],[7,19,9,19],[8,18,9,18],[12,3,12,7],[12,8,13,10],[12,11,13,14],[13,3,13,7],[7,8,7,16],[8,8,9,10],[8,11,9,14],[8,15,9,15]]}
[null,1,"使用したエネルギーの入力（旅客）"]
[]
[null,null,"①","電気（二酸化炭素排出係数）"]
[null,null,null,"一般送配電事業者が維持し、及び運用する電線路を介して供給された電気を使用している場合は、国が公表する電気事業者ごとの排出係数を入力してください。",null,null,null,null,null,null,null,null,null,null,null,null,null,null,null,null,null,null,null,null,null,"　"]
[null,null,null,"それ以外の者から供給された電気を使用している場合は、実測等に基づく適切な排出係数を入力してください。"]
[null,null,null,"排出係数を算定することができない場合は、環境大臣・経済産業大臣が公表する係数（代替値）",null,null,null,null,null,null,null,null,null,null,null,null,{"$f":"INDIRECT(\"'係数（電気）'!D\"&MATCH(\"代替値\",'係数（電気）'!B:B,0))","v":0.441},"tCO２/千kWhを入力して下さい。"]
[]
[null,null,null,"エネルギー名",null,null,null,null,"電気事業者ごとの排出係数、買電量を入力してください",null,null,null,null,null,null,null,null,"買電\n熱量GJ\n（ＧＪ）",null,"CO2\n排出量\n（ｔ－CO2)"]
[null,null,null,null,null,null,null,null,"（▼から事業者を選択）",null,null,"二酸化炭素の実排出係数\n（tCO2/千kWh）",null,null,null,"買電量\n（千kWh）",null,null,"うち夏季・冬季における電気需要平準化時間帯",null,"うち夏季・冬季における電気需要平準化時間帯"]
[null,null,null,null,null,null,null,null,null,null,null,null,null,null,null,null,"夏季・冬季における電気需要平準化時間帯"]
[null,null,null,"昼間買電",null,null,null,null,null,null,null,{"$f":"IF(I11=0,Q$6,VLOOKUP(I11,電気事業者係数あ,3,FALSE))","v":0.441},null,null,null,null,null,{"$f":"IF(P11*VLOOKUP(D11,係数,3,FALSE)=0,\"\",P11*VLOOKUP(D11,係数,3,FALSE))","v":""},{"$f":"IF(Q11*VLOOKUP(D11,係数,3,FALSE)=0,\"\",Q11*VLOOKUP(D11,係数,3,FALSE))","v":""},{"$f":"IF(OR(P11=\"\",L11=\"\"),\"\",P11*L11)","v":""},{"$f":"IF(Q11=\"\",\"\",Q11*L11)","v":""}]
[null,null,null,"夜間買電",null,null,null,null,null,null,null,null,null,null,null,null,null,"",null,{"$f":"IF(P12=\"\",\"\",P12*L11)","v":""}]
[null,null,null,"昼間買電",null,null,null,null,null,null,null,{"$f":"IF(I13=0,Q$6,VLOOKUP(I13,電気事業者係数あ,3,FALSE))","v":0.441},null,null,null,null,null,"",{"$f":"IF(Q13*VLOOKUP(D13,係数,3,FALSE)=0,\"\",Q13*VLOOKUP(D13,係数,3,FALSE))","v":""},{"$f":"IF(P13=\"\",\"\",P13*L13)","v":""},{"$f":"IF(Q13=\"\",\"\",Q13*L13)","v":""}]
[null,null,null,"夜間買電",null,null,null,null,null,null,null,null,null,null,null,null,null,"",null,{"$f":"IF(P14=\"\",\"\",P14*L13)","v":""}]
[null,null,null,"昼間買電",null,null,null,null,null,null,null,{"$f":"IF(I15=0,Q$6,VLOOKUP(I15,電気事業者係数あ,3,FALSE))","v":0.441},null,null,null,null,null,"",{"$f":"IF(Q15*VLOOKUP(D15,係数,3,FALSE)=0,\"\",Q15*VLOOKUP(D15,係数,3,FALSE))","v":""},{"$f":"IF(P15=\"\",\"\",P15*L15)","v":""},{"$f":"IF(Q15=\"\",\"\",Q15*L15)","v":""}]
[null,null,null,"夜間買電",null,null,null,null,null,null,null,null,null,null,null,null,null,"",null,{"$f":"IF(P16=\"\",\"\",P16*L15)","v":""}]
[null,null,null,"昼間買電",null,null,null,null,null,null,null,{"$f":"IF(I17=0,Q$6,VLOOKUP(I17,電気事業者係数あ,3,FALSE))","v":0.441},null,null,null,null,null,"",{"$f":"IF(Q17*VLOOKUP(D17,係数,3,FALSE)=0,\"\",Q17*VLOOKUP(D17,係数,3,FALSE))","v":""},{"$f":"IF(P17=\"\",\"\",P17*L17)","v":""},{"$f":"IF(Q17=\"\",\"\",Q17*L17)","v":""}]
[null,null,null,"夜間買電",null,null,null,null,null,null,null,null,null,null,null,null,null,"",null,{"$f":"IF(P18=\"\",\"\",P18*L17)","v":""}]
[null,null,null,"昼間買電",null,null,null,null,null,null,null,{"$f":"IF(I19=0,Q$6,VLOOKUP(I19,電気事業者係数あ,3,FALSE))","v":0.441},null,null,null,null,null,"",{"$f":"IF(Q19*VLOOKUP(D19,係数,3,FALSE)=0,\"\",Q19*VLOOKUP(D19,係数,3,FALSE))","v":""},{"$f":"IF(P19=\"\",\"\",P19*L19)","v":""},{"$f":"IF(Q19=\"\",\"\",Q19*L19)","v":""}]
[null,null,null,"夜間買電",null,null,null,null,null,null,null,null,null,null,null,null,null,"",null,{"$f":"IF(P20=\"\",\"\",P20*L19)","v":""}]
[null,null,null,"昼間買電",null,null,null,null,null,null,null,{"$f":"IF(I21=0,Q$6,VLOOKUP(I21,電気事業者係数あ,3,FALSE))","v":0.441},null,null,null,null,null,"",{"$f":"IF(Q21*VLOOKUP(D21,係数,3,FALSE)=0,\"\",Q21*VLOOKUP(D21,係数,3,FALSE))","v":""},{"$f":"IF(P21=\"\",\"\",P21*L21)","v":""},{"$f":"IF(Q21=\"\",\"\",Q21*L21)","v":""}]
[null,null,null,"夜間買電",null,null,null,null,null,null,null,null,null,null,null,null,null,"",null,{"$f":"IF(P22=\"\",\"\",P22*L21)","v":""}]
[null,null,null,"昼間買電",null,null,null,null,null,null,null,{"$f":"IF(I23=0,Q$6,VLOOKUP(I23,電気事業者係数あ,3,FALSE))","v":0.441},null,null,null,null,null,"",{"$f":"IF(Q23*VLOOKUP(D23,係数,3,FALSE)=0,\"\",Q23*VLOOKUP(D23,係数,3,FALSE))","v":""},{"$f":"IF(P23=\"\",\"\",P23*L23)","v":""},{"$f":"IF(Q23=\"\",\"\",Q23*L23)","v":""}]
[null,null,null,"夜間買電",null,null,null,null,null,null,null,null,null,null,null,null,null,"",null,{"$f":"IF(P24=\"\",\"\",P24*L23)","v":""}]
[null,null,null,"昼間買電",null,null,null,null,null,null,null,{"$f":"IF(I25=0,Q$6,VLOOKUP(I25,電気事業者係数あ,3,FALSE))","v":0.441},null,null,null,null,null,"",{"$f":"IF(Q25*VLOOKUP(D25,係数,3,FALSE)=0,\"\",Q25*VLOOKUP(D25,係数,3,FALSE))","v":""},{"$f":"IF(P25=\"\",\"\",P25*L25)","v":""},{"$f":"IF(Q25=\"\",\"\",Q25*L25)","v":""}]
[null,null,null,"夜間買電",null,null,null,null,null,null,null,null,null,null,null,null,null,"",null,{"$f":"IF(P26=\"\",\"\",P26*L25)","v":""}]
[null,null,null,"昼間買電",null,null,null,null,null,null,null,{"$f":"IF(I27=0,Q$6,VLOOKUP(I27,電気事業者係数あ,3,FALSE))","v":0.441},null,null,null,null,null,"",{"$f":"IF(Q27*VLOOKUP(D27,係数,3,FALSE)=0,\"\",Q27*VLOOKUP(D27,係数,3,FALSE))","v":""},{"$f":"IF(P27=\"\",\"\",P27*L27)","v":""},{"$f":"IF(Q27=\"\",\"\",Q27*L27)","v":""}]
[null,null,null,"夜間買電",null,null,null,null,null,null,null,null,null,null,null,null,null,"",null,{"$f":"IF(P28=\"\",\"\",P28*L27)","v":""}]
[null,null,null,"昼間買電",null,null,null,null,null,null,null,{"$f":"IF(I29=0,Q$6,VLOOKUP(I29,電気事業者係数あ,3,FALSE))","v":0.441},null,null,null,null,null,"",{"$f":"IF(Q29*VLOOKUP(D29,係数,3,FALSE)=0,\"\",Q29*VLOOKUP(D29,係数,3,FALSE))","v":""},{"$f":"IF(P29=\"\",\"\",P29*L29)","v":""},{"$f":"IF(Q29=\"\",\"\",Q29*L29)","v":""}]
[null,null,null,"夜間買電",null,null,null,null,null,null,null,null,null,null,null,null,null,"",null,{"$f":"IF(P30=\"\",\"\",P30*L29)","v":""}]
[null,null,null,"昼間買電",null,null,null,null,null,null,null,{"$f":"IF(I31=0,Q$6,VLOOKUP(I31,電気事業者係数あ,3,FALSE))","v":0.441},null,null,null,null,null,"",{"$f":"IF(Q31*VLOOKUP(D31,係数,3,FALSE)=0,\"\",Q31*VLOOKUP(D31,係数,3,FALSE))","v":""},{"$f":"IF(P31=\"\",\"\",P31*L31)","v":""},{"$f":"IF(Q31=\"\",\"\",Q31*L31)","v":""}]
[null,null,null,"夜間買電",null,null,null,null,null,null,null,null,null,null,null,null,null,"",null,{"$f":"IF(P32=\"\",\"\",P32*L31)","v":""}]
[null,null,null,"昼間買電",null,null,null,null,null,null,null,{"$f":"IF(I33=0,Q$6,VLOOKUP(I33,電気事業者係数あ,3,FALSE))","v":0.441},null,null,null,null,null,"",{"$f":"IF(Q33*VLOOKUP(D33,係数,3,FALSE)=0,\"\",Q33*VLOOKUP(D33,係数,3,FALSE))","v":""},{"$f":"IF(P33=\"\",\"\",P33*L33)","v":""},{"$f":"IF(Q33=\"\",\"\",Q33*L33)","v":""}]
[null,null,null,"夜間買電",null,null,null,null,null,null,null,null,null,null,null,null,null,"",null,{"$f":"IF(P34=\"\",\"\",P34*L33)","v":""}]
[null,null,null,"昼間買電",null,null,null,null,null,null,null,{"$f":"IF(I35=0,Q$6,VLOOKUP(I35,電気事業者係数あ,3,FALSE))","v":0.441},null,null,null,null,null,"",{"$f":"IF(Q35*VLOOKUP(D35,係数,3,FALSE)=0,\"\",Q35*VLOOKUP(D35,係数,3,FALSE))","v":""},{"$f":"IF(P35=\"\",\"\",P35*L35)","v":""},{"$f":"IF(Q35=\"\",\"\",Q35*L35)","v":""}]
[null,null,null,"夜間買電",null,null,null,null,null,null,null,null,null,null,null,null,null,"",null,{"$f":"IF(P36=\"\",\"\",P36*L35)","v":""}]
[null,null,null,"昼間買電",null,null,null,null,null,null,null,{"$f":"IF(I37=0,Q$6,VLOOKUP(I37,電気事業者係数あ,3,FALSE))","v":0.441},null,null,null,null,null,"",{"$f":"IF(Q37*VLOOKUP(D37,係数,3,FALSE)=0,\"\",Q37*VLOOKUP(D37,係数,3,FALSE))","v":""},{"$f":"IF(P37=\"\",\"\",P37*L37)","v":""},{"$f":"IF(Q37=\"\",\"\",Q37*L37)","v":""}]
[null,null,null,"夜間買電",null,null,null,null,null,null,null,null,null,null,null,null,null,"",null,{"$f":"IF(P38=\"\",\"\",P38*L37)","v":""}]
[null,null,null,"昼間買電",null,null,null,null,null,null,null,{"$f":"IF(I39=0,Q$6,VLOOKUP(I39,電気事業者係数あ,3,FALSE))","v":0.441},null,null,null,null,null,"",{"$f":"IF(Q39*VLOOKUP(D39,係数,3,FALSE)=0,\"\",Q39*VLOOKUP(D39,係数,3,FALSE))","v":""},{"$f":"IF(P39=\"\",\"\",P39*L39)","v":""},{"$f":"IF(Q39=\"\",\"\",Q39*L39)","v":""}]
[null,null,null,"夜間買電",null,null,null,null,null,null,null,null,null,null,null,null,null,"",null,{"$f":"IF(P40=\"\",\"\",P40*L39)","v":""}]
[null,null,null,"昼間買電",null,null,null,null,null,null,null,{"$f":"IF(I41=0,Q$6,VLOOKUP(I41,電気事業者係数あ,3,FALSE))","v":0.441},null,null,null,null,null,"",{"$f":"IF(Q41*VLOOKUP(D41,係数,3,FALSE)=0,\"\",Q41*VLOOKUP(D41,係数,3,FALSE))","v":""},{"$f":"IF(P41=\"\",\"\",P41*L41)","v":""},{"$f":"IF(Q41=\"\",\"\",Q41*L41)","v":""}]
[null,null,null,"夜間買電",null,null,null,null,null,null,null,null,null,null,null,null,null,"",null,{"$f":"IF(P42=\"\",\"\",P42*L41)","v":""}]
[null,null,null,"昼間買電",null,null,null,null,null,null,null,{"$f":"IF(I43=0,Q$6,VLOOKUP(I43,電気事業者係数あ,3,FALSE))","v":0.441},null,null,null,null,null,"",{"$f":"IF(Q43*VLOOKUP(D43,係数,3,FALSE)=0,\"\",Q43*VLOOKUP(D43,係数,3,FALSE))","v":""},{"$f":"IF(P43=\"\",\"\",P43*L43)","v":""},{"$f":"IF(Q43=\"\",\"\",Q43*L43)","v":""}]
[null,null,null,"夜間買電",null,null,null,null,null,null,null,null,null,null,null,null,null,"",null,{"$f":"IF(P44=\"\",\"\",P44*L43)","v":""}]
[null,null,null,"昼間買電",null,null,null,null,null,null,null,{"$f":"IF(I45=0,Q$6,VLOOKUP(I45,電気事業者係数あ,3,FALSE))","v":0.441},null,null,null,null,null,"",{"$f":"IF(Q45*VLOOKUP(D45,係数,3,FALSE)=0,\"\",Q45*VLOOKUP(D45,係数,3,FALSE))","v":""},{"$f":"IF(P45=\"\",\"\",P45*L45)","v":""},{"$f":"IF(Q45=\"\",\"\",Q45*L45)","v":""}]
[null,null,null,"夜間買電",null,null,null,null,null,null,null,null,null,null,null,null,null,"",null,{"$f":"IF(P46=\"\",\"\",P46*L45)","v":""}]
[null,null,null,"昼間買電",null,null,null,null,null,null,null,{"$f":"IF(I47=0,Q$6,VLOOKUP(I47,電気事業者係数あ,3,FALSE))","v":0.441},null,null,null,null,null,"",{"$f":"IF(Q47*VLOOKUP(D47,係数,3,FALSE)=0,\"\",Q47*VLOOKUP(D47,係数,3,FALSE))","v":""},{"$f":"IF(P47=\"\",\"\",P47*L47)","v":""},{"$f":"IF(Q47=\"\",\"\",Q47*L47)","v":""}]
[null,null,null,"夜間買電",null,null,null,null,null,null,null,null,null,null,null,null,null,"",null,{"$f":"IF(P48=\"\",\"\",P48*L47)","v":""}]
[null,null,null,"昼間買電",null,null,null,null,null,null,null,{"$f":"IF(I49=0,Q$6,VLOOKUP(I49,電気事業者係数あ,3,FALSE))","v":0.441},null,null,null,null,null,"",{"$f":"IF(Q49*VLOOKUP(D49,係数,3,FALSE)=0,\"\",Q49*VLOOKUP(D49,係数,3,FALSE))","v":""},{"$f":"IF(P49=\"\",\"\",P49*L49)","v":""},{"$f":"IF(Q49=\"\",\"\",Q49*L49)","v":""}]
[null,null,null,"夜間買電",null,null,null,null,null,null,null,null,null,null,null,null,null,"",null,{"$f":"IF(P50=\"\",\"\",P50*L49)","v":""}]
[]
[null,null,null,null,null,null,null,null,null,null,null,null,"(合計)",null,"昼間",{"$f":"SUM(P11,P13,P15,P17,P19,P21,P23,P25,P27,P29,P31,P33,P35,P37,P39,P41,P43,P45,P47,P49)","v":0},0,0,0,0,0,"　→","「第１表(1)」に計算結果が反映されます。"]
[null,null,null,null,null,null,null,null,null,null,null,null,null,null,"夜間",{"$f":"SUM(P12,P14,P16,P18,P20,P22,P24,P26,P28,P30,P32,P34,P36,P38,P40,P42,P44,P46,P48,P50)","v":0},null,{"$f":"SUM(R12,R14,R16,R18,R20,R22,R24,R26,R28,R30,R32,R34,R36,R38,R40,R42,R44,R46,R48,R50)","v":0},null,{"$f":"SUM(T12,T14,T16,T18,T20,T22,T24,T26,T28,T30,T32,T34,T36,T38,T40,T42,T44,T46,T48,T50)","v":0},null,"　→"]
[]
[null,null,null,"上記以外の買電",null,null,null,null,null,null,null,null,null,null,null,null,null,{"$f":"IF(P55*VLOOKUP(D55,係数,3,FALSE)=0,\"0\",P55*VLOOKUP(D55,係数,3,FALSE))","v":"0"},null,{"$f":"IF(P55=\"0\",\"0\",P55*L55)","v":0},null,"　→"]

{"sheet":"入力補助(電気)_旅客_連携(自己分)","index":6,"n_rows":55,"n_cols":26,"rows_kept":55,"cut":false,"hidden":true,"merged":[[51,22,54,22],[54,3,54,7],[54,8,54,10],[54,11,54,14],[46,3,46,7],[46,8,47,10],[46,11,47,14],[47,3,47,7],[48,3,48,7],[48,8,49,10],[48,11,49,14],[49,3,49,7],[42,3,42,7],[42,8,43,10],[42,11,43,14],[43,3,43,7],[44,3,44,7],[44,8,45,10],[44,11,45,14],[45,3,45,7],[38,3,38,7],[38,8,39,10],[38,11,39,14],[39,3,39,7],[40,3,40,7],[40,8,41,10],[40,11,41,14],[41,3,41,7],[34,3,34,7],[34,8,35,10],[34,11,35,14],[35,3,35,7],[36,3,36,7],[36,8,37,10],[36,11,37,14],[37,3,37,7],[30,3,30,7],[30,8,31,10],[30,11,31,14],[31,3,31,7],[32,3,32,7],[32,8,33,10],[32,11,33,14],[33,3,33,7],[26,3,26,7],[26,8,27,10],[26,11,27,14],[27,3,27,7],[28,3,28,7],[28,8,29,10],[28,11,29,14],[29,3,29,7],[22,3,22,7],[22,8,23,10],[22,11,23,14],[23,3,23,7],[24,3,24,7],[24,8,25,10],[24,11,25,14],[25,3,25,7],[18,3,18,7],[18,8,19,10],[18,11,19,14],[19,3,19,7],[20,3,20,7],[20,8,21,10],[20,11,21,14],[21,3,21,7],[14,3,14,7],[14,8,15,10],[14,11,15,14],[15,3,15,7],[16,3,16,7],[16,8,17,10],[16,11,17,14],[17,3,17,7],[8,20,9,20],[10,3,10,7],[10,8,11,10],[10,11,11,14],[11,3,11,7],[7,17,9,17],[7,19,9,19],[8,18,9,18],[12,3,12,7],[12,8,13,10],[12,11,13,14],[13,3,13,7],[7,8,7,16],[8,8,9,10],[8,11,9,14],[8,15,9,15]]}
[null,2,"使用したエネルギーの入力（旅客（連携省エネルギー措置を踏まえたもののうち自己で使用した分））"]
[]
[null,null,"①","電気（二酸化炭素排出係数）"]
[null,null,null,"一般送配電事業者が維持し、及び運用する電線路を介して供給された電気を使用している場合は、国が公表する電気事業者ごとの排出係数を入力してください。",null,null,null,null,null,null,null,null,null,null,null,null,null,null,null,null,null,null,null,null,null,"　"]
[null,null,null,"それ以外の者から供給された電気を使用している場合は、実測等に基づく適切な排出係数を入力してください。"]
[null,null,null,"排出係数を算定することができない場合は、環境大臣・経済産業大臣が公表する係数（代替値）",null,null,null,null,null,null,null,null,null,null,null,null,{"$f":"INDIRECT(\"'係数（電気）'!D\"&MATCH(\"代替値\",'係数（電気）'!B:B,0))","v":0.441},"tCO２/千kWhを入力して下さい。"]
[]
[null,null,null,"エネルギー名",null,null,null,null,"電気事業者ごとの排出係数、買電量を入力してください",null,null,null,null,null,null,null,null,"買電\n熱量GJ\n（ＧＪ）",null,"CO2\n排出量\n（ｔ－CO2)"]
[null,null,null,null,null,null,null,null,"（▼から事業者を選択）",null,null,"二酸化炭素の実排出係数\n（tCO2/千kWh）",null,null,null,"買電量\n（千kWh）",null,null,"うち夏季・冬季における電気需要平準化時間帯",null,"うち夏季・冬季における電気需要平準化時間帯"]
[null,null,null,null,null,null,null,null,null,null,null,null,null,null,null,null,"夏季・冬季における電気需要平準化時間帯"]
[null,null,null,"昼間買電",null,null,null,null,null,null,null,{"$f":"IF(I11=0,Q$6,VLOOKUP(I11,電気事業者係数あ,3,FALSE))","v":0.441},null,null,null,null,null,{"$f":"IF(P11*VLOOKUP(D11,係数,3,FALSE)=0,\"\",P11*VLOOKUP(D11,係数,3,FALSE))","v":""},{"$f":"IF(Q11*VLOOKUP(D11,係数,3,FALSE)=0,\"\",Q11*VLOOKUP(D11,係数,3,FALSE))","v":""},{"$f":"IF(OR(P11=\"\",L11=\"\"),\"\",P11*L11)","v":""},{"$f":"IF(Q11=\"\",\"\",Q11*L11)","v":""}]
[null,null,null,"夜間買電",null,null,null,null,null,null,null,null,null,null,null,null,null,"",null,{"$f":"IF(P12=\"\",\"\",P12*L11)","v":""}]
[null,null,null,"昼間買電",null,null,null,null,null,null,null,{"$f":"IF(I13=0,Q$6,VLOOKUP(I13,電気事業者係数あ,3,FALSE))","v":0.441},null,null,null,null,null,"",{"$f":"IF(Q13*VLOOKUP(D13,係数,3,FALSE)=0,\"\",Q13*VLOOKUP(D13,係数,3,FALSE))","v":""},{"$f":"IF(P13=\"\",\"\",P13*L13)","v":""},{"$f":"IF(Q13=\"\",\"\",Q13*L13)","v":""}]
[null,null,null,"夜間買電",null,null,null,null,null,null,null,null,null,null,null,null,null,"",null,{"$f":"IF(P14=\"\",\"\",P14*L13)","v":""}]
[null,null,null,"昼間買電",null,null,null,null,null,null,null,{"$f":"IF(I15=0,Q$6,VLOOKUP(I15,電気事業者係数あ,3,FALSE))","v":0.441},null,null,null,null,null,"",{"$f":"IF(Q15*VLOOKUP(D15,係数,3,FALSE)=0,\"\",Q15*VLOOKUP(D15,係数,3,FALSE))","v":""},{"$f":"IF(P15=\"\",\"\",P15*L15)","v":""},{"$f":"IF(Q15=\"\",\"\",Q15*L15)","v":""}]
[null,null,null,"夜間買電",null,null,null,null,null,null,null,null,null,null,null,null,null,"",null,{"$f":"IF(P16=\"\",\"\",P16*L15)","v":""}]
[null,null,null,"昼間買電",null,null,null,null,null,null,null,{"$f":"IF(I17=0,Q$6,VLOOKUP(I17,電気事業者係数あ,3,FALSE))","v":0.441},null,null,null,null,null,"",{"$f":"IF(Q17*VLOOKUP(D17,係数,3,FALSE)=0,\"\",Q17*VLOOKUP(D17,係数,3,FALSE))","v":""},{"$f":"IF(P17=\"\",\"\",P17*L17)","v":""},{"$f":"IF(Q17=\"\",\"\",Q17*L17)","v":""}]
[null,null,null,"夜間買電",null,null,null,null,null,null,null,null,null,null,null,null,null,"",null,{"$f":"IF(P18=\"\",\"\",P18*L17)","v":""}]
[null,null,null,"昼間買電",null,null,null,null,null,null,null,{"$f":"IF(I19=0,Q$6,VLOOKUP(I19,電気事業者係数あ,3,FALSE))","v":0.441},null,null,null,null,null,"",{"$f":"IF(Q19*VLOOKUP(D19,係数,3,FALSE)=0,\"\",Q19*VLOOKUP(D19,係数,3,FALSE))","v":""},{"$f":"IF(P19=\"\",\"\",P19*L19)","v":""},{"$f":"IF(Q19=\"\",\"\",Q19*L19)","v":""}]
[null,null,null,"夜間買電",null,null,null,null,null,null,null,null,null,null,null,null,null,"",null,{"$f":"IF(P20=\"\",\"\",P20*L19)","v":""}]
[null,null,null,"昼間買電",null,null,null,null,null,null,null,{"$f":"IF(I21=0,Q$6,VLOOKUP(I21,電気事業者係数あ,3,FALSE))","v":0.441},null,null,null,null,null,"",{"$f":"IF(Q21*VLOOKUP(D21,係数,3,FALSE)=0,\"\",Q21*VLOOKUP(D21,係数,3,FALSE))","v":""},{"$f":"IF(P21=\"\",\"\",P21*L21)","v":""},{"$f":"IF(Q21=\"\",\"\",Q21*L21)","v":""}]
[null,null,null,"夜間買電",null,null,null,null,null,null,null,null,null,null,null,null,null,"",null,{"$f":"IF(P22=\"\",\"\",P22*L21)","v":""}]
[null,null,null,"昼間買電",null,null,null,null,null,null,null,{"$f":"IF(I23=0,Q$6,VLOOKUP(I23,電気事業者係数あ,3,FALSE))","v":0.441},null,null,null,null,null,"",{"$f":"IF(Q23*VLOOKUP(D23,係数,3,FALSE)=0,\"\",Q23*VLOOKUP(D23,係数,3,FALSE))","v":""},{"$f":"IF(P23=\"\",\"\",P23*L23)","v":""},{"$f":"IF(Q23=\"\",\"\",Q23*L23)","v":""}]
[null,null,null,"夜間買電",null,null,null,null,null,null,null,null,null,null,null,null,null,"",null,{"$f":"IF(P24=\"\",\"\",P24*L23)","v":""}]
[null,null,null,"昼間買電",null,null,null,null,null,null,null,{"$f":"IF(I25=0,Q$6,VLOOKUP(I25,電気事業者係数あ,3,FALSE))","v":0.441},null,null,null,null,null,"",{"$f":"IF(Q25*VLOOKUP(D25,係数,3,FALSE)=0,\"\",Q25*VLOOKUP(D25,係数,3,FALSE))","v":""},{"$f":"IF(P25=\"\",\"\",P25*L25)","v":""},{"$f":"IF(Q25=\"\",\"\",Q25*L25)","v":""}]
[null,null,null,"夜間買電",null,null,null,null,null,null,null,null,null,null,null,null,null,"",null,{"$f":"IF(P26=\"\",\"\",P26*L25)","v":""}]
[null,null,null,"昼間買電",null,null,null,null,null,null,null,{"$f":"IF(I27=0,Q$6,VLOOKUP(I27,電気事業者係数あ,3,FALSE))","v":0.441},null,null,null,null,null,"",{"$f":"IF(Q27*VLOOKUP(D27,係数,3,FALSE)=0,\"\",Q27*VLOOKUP(D27,係数,3,FALSE))","v":""},{"$f":"IF(P27=\"\",\"\",P27*L27)","v":""},{"$f":"IF(Q27=\"\",\"\",Q27*L27)","v":""}]
[null,null,null,"夜間買電",null,null,null,null,null,null,null,null,null,null,null,null,null,"",null,{"$f":"IF(P28=\"\",\"\",P28*L27)","v":""}]
[null,null,null,"昼間買電",null,null,null,null,null,null,null,{"$f":"IF(I29=0,Q$6,VLOOKUP(I29,電気事業者係数あ,3,FALSE))","v":0.441},null,null,null,null,null,"",{"$f":"IF(Q29*VLOOKUP(D29,係数,3,FALSE)=0,\"\",Q29*VLOOKUP(D29,係数,3,FALSE))","v":""},{"$f":"IF(P29=\"\",\"\",P29*L29)","v":""},{"$f":"IF(Q29=\"\",\"\",Q29*L29)","v":""}]
[null,null,null,"夜間買電",null,null,null,null,null,null,null,null,null,null,null,null,null,"",null,{"$f":"IF(P30=\"\",\"\",P30*L29)","v":""}]
[null,null,null,"昼間買電",null,null,null,null,null,null,null,{"$f":"IF(I31=0,Q$6,VLOOKUP(I31,電気事業者係数あ,3,FALSE))","v":0.441},null,null,null,null,null,"",{"$f":"IF(Q31*VLOOKUP(D31,係数,3,FALSE)=0,\"\",Q31*VLOOKUP(D31,係数,3,FALSE))","v":""},{"$f":"IF(P31=\"\",\"\",P31*L31)","v":""},{"$f":"IF(Q31=\"\",\"\",Q31*L31)","v":""}]
[null,null,null,"夜間買電",null,null,null,null,null,null,null,null,null,null,null,null,null,"",null,{"$f":"IF(P32=\"\",\"\",P32*L31)","v":""}]
[null,null,null,"昼間買電",null,null,null,null,null,null,null,{"$f":"IF(I33=0,Q$6,VLOOKUP(I33,電気事業者係数あ,3,FALSE))","v":0.441},null,null,null,null,null,"",{"$f":"IF(Q33*VLOOKUP(D33,係数,3,FALSE)=0,\"\",Q33*VLOOKUP(D33,係数,3,FALSE))","v":""},{"$f":"IF(P33=\"\",\"\",P33*L33)","v":""},{"$f":"IF(Q33=\"\",\"\",Q33*L33)","v":""}]
[null,null,null,"夜間買電",null,null,null,null,null,null,null,null,null,null,null,null,null,"",null,{"$f":"IF(P34=\"\",\"\",P34*L33)","v":""}]
[null,null,null,"昼間買電",null,null,null,null,null,null,null,{"$f":"IF(I35=0,Q$6,VLOOKUP(I35,電気事業者係数あ,3,FALSE))","v":0.441},null,null,null,null,null,"",{"$f":"IF(Q35*VLOOKUP(D35,係数,3,FALSE)=0,\"\",Q35*VLOOKUP(D35,係数,3,FALSE))","v":""},{"$f":"IF(P35=\"\",\"\",P35*L35)","v":""},{"$f":"IF(Q35=\"\",\"\",Q35*L35)","v":""}]
[null,null,null,"夜間買電",null,null,null,null,null,null,null,null,null,null,null,null,null,"",null,{"$f":"IF(P36=\"\",\"\",P36*L35)","v":""}]
[null,null,null,"昼間買電",null,null,null,null,null,null,null,{"$f":"IF(I37=0,Q$6,VLOOKUP(I37,電気事業者係数あ,3,FALSE))","v":0.441},null,null,null,null,null,"",{"$f":"IF(Q37*VLOOKUP(D37,係数,3,FALSE)=0,\"\",Q37*VLOOKUP(D37,係数,3,FALSE))","v":""},{"$f":"IF(P37=\"\",\"\",P37*L37)","v":""},{"$f":"IF(Q37=\"\",\"\",Q37*L37)","v":""}]
[null,null,null,"夜間買電",null,null,null,null,null,null,null,null,null,null,null,null,null,"",null,{"$f":"IF(P38=\"\",\"\",P38*L37)","v":""}]
[null,null,null,"昼間買電",null,null,null,null,null,null,null,{"$f":"IF(I39=0,Q$6,VLOOKUP(I39,電気事業者係数あ,3,FALSE))","v":0.441},null,null,null,null,null,"",{"$f":"IF(Q39*VLOOKUP(D39,係数,3,FALSE)=0,\"\",Q39*VLOOKUP(D39,係数,3,FALSE))","v":""},{"$f":"IF(P39=\"\",\"\",P39*L39)","v":""},{"$f":"IF(Q39=\"\",\"\",Q39*L39)","v":""}]
[null,null,null,"夜間買電",null,null,null,null,null,null,null,null,null,null,null,null,null,"",null,{"$f":"IF(P40=\"\",\"\",P40*L39)","v":""}]
[null,null,null,"昼間買電",null,null,null,null,null,null,null,{"$f":"IF(I41=0,Q$6,VLOOKUP(I41,電気事業者係数あ,3,FALSE))","v":0.441},null,null,null,null,null,"",{"$f":"IF(Q41*VLOOKUP(D41,係数,3,FALSE)=0,\"\",Q41*VLOOKUP(D41,係数,3,FALSE))","v":""},{"$f":"IF(P41=\"\",\"\",P41*L41)","v":""},{"$f":"IF(Q41=\"\",\"\",Q41*L41)","v":""}]
[null,null,null,"夜間買電",null,null,null,null,null,null,null,null,null,null,null,null,null,"",null,{"$f":"IF(P42=\"\",\"\",P42*L41)","v":""}]
[null,null,null,"昼間買電",null,null,null,null,null,null,null,{"$f":"IF(I43=0,Q$6,VLOOKUP(I43,電気事業者係数あ,3,FALSE))","v":0.441},null,null,null,null,null,"",{"$f":"IF(Q43*VLOOKUP(D43,係数,3,FALSE)=0,\"\",Q43*VLOOKUP(D43,係数,3,FALSE))","v":""},{"$f":"IF(P43=\"\",\"\",P43*L43)","v":""},{"$f":"IF(Q43=\"\",\"\",Q43*L43)","v":""}]
[null,null,null,"夜間買電",null,null,null,null,null,null,null,null,null,null,null,null,null,"",null,{"$f":"IF(P44=\"\",\"\",P44*L43)","v":""}]
[null,null,null,"昼間買電",null,null,null,null,null,null,null,{"$f":"IF(I45=0,Q$6,VLOOKUP(I45,電気事業者係数あ,3,FALSE))","v":0.441},null,null,null,null,null,"",{"$f":"IF(Q45*VLOOKUP(D45,係数,3,FALSE)=0,\"\",Q45*VLOOKUP(D45,係数,3,FALSE))","v":""},{"$f":"IF(P45=\"\",\"\",P45*L45)","v":""},{"$f":"IF(Q45=\"\",\"\",Q45*L45)","v":""}]
[null,null,null,"夜間買電",null,null,null,null,null,null,null,null,null,null,null,null,null,"",null,{"$f":"IF(P46=\"\",\"\",P46*L45)","v":""}]
[null,null,null,"昼間買電",null,null,null,null,null,null,null,{"$f":"IF(I47=0,Q$6,VLOOKUP(I47,電気事業者係数あ,3,FALSE))","v":0.441},null,null,null,null,null,"",{"$f":"IF(Q47*VLOOKUP(D47,係数,3,FALSE)=0,\"\",Q47*VLOOKUP(D47,係数,3,FALSE))","v":""},{"$f":"IF(P47=\"\",\"\",P47*L47)","v":""},{"$f":"IF(Q47=\"\",\"\",Q47*L47)","v":""}]
[null,null,null,"夜間買電",null,null,null,null,null,null,null,null,null,null,null,null,null,"",null,{"$f":"IF(P48=\"\",\"\",P48*L47)","v":""}]
[null,null,null,"昼間買電",null,null,null,null,null,null,null,{"$f":"IF(I49=0,Q$6,VLOOKUP(I49,電気事業者係数あ,3,FALSE))","v":0.441},null,null,null,null,null,"",{"$f":"IF(Q49*VLOOKUP(D49,係数,3,FALSE)=0,\"\",Q49*VLOOKUP(D49,係数,3,FALSE))","v":""},{"$f":"IF(P49=\"\",\"\",P49*L49)","v":""},{"$f":"IF(Q49=\"\",\"\",Q49*L49)","v":""}]
[null,null,null,"夜間買電",null,null,null,null,null,null,null,null,null,null,null,null,null,"",null,{"$f":"IF(P50=\"\",\"\",P50*L49)","v":""}]
[]
[null,null,null,null,null,null,null,null,null,null,null,null,"(合計)",null,"昼間",{"$f":"SUM(P11,P13,P15,P17,P19,P21,P23,P25,P27,P29,P31,P33,P35,P37,P39,P41,P43,P45,P47,P49)","v":0},0,0,0,0,0,"　→","「第１表(1)」に計算結果が反映されます。"]
[null,null,null,null,null,null,null,null,null,null,null,null,null,null,"夜間",{"$f":"SUM(P12,P14,P16,P18,P20,P22,P24,P26,P28,P30,P32,P34,P36,P38,P40,P42,P44,P46,P48,P50)","v":0},null,{"$f":"SUM(R12,R14,R16,R18,R20,R22,R24,R26,R28,R30,R32,R34,R36,R38,R40,R42,R44,R46,R48,R50)","v":0},null,{"$f":"SUM(T12,T14,T16,T18,T20,T22,T24,T26,T28,T30,T32,T34,T36,T38,T40,T42,T44,T46,T48,T50)","v":0},null,"　→"]
[]
[null,null,null,"上記以外の買電",null,null,null,null,null,null,null,null,null,null,null,null,null,{"$f":"IF(P55*VLOOKUP(D55,係数,3,FALSE)=0,\"0\",P55*VLOOKUP(D55,係数,3,FALSE))","v":"0"},null,{"$f":"IF(P55=\"0\",\"0\",P55*L55)","v":0},null,"　→"]

{"sheet":"入力補助(電気)_旅客_連携(連携分)","index":7,"n_rows":55,"n_cols":26,"rows_kept":55,"cut":false,"hidden":true,"merged":[[12,3,12,7],[12,8,13,10],[12,11,13,14],[13,3,13,7],[7,8,7,16],[8,8,9,10],[8,11,9,14],[8,15,9,15],[8,20,9,20],[10,3,10,7],[10,8,11,10],[10,11,11,14],[11,3,11,7],[7,17,9,17],[7,19,9,19],[8,18,9,18],[14,3,14,7],[14,8,15,10],[14,11,15,14],[15,3,15,7],[16,3,16,7],[16,8,17,10],[16,11,17,14],[17,3,17,7],[18,3,18,7],[18,8,19,10],[18,11,19,14],[19,3,19,7],[20,3,20,7],[20,8,21,10],[20,11,21,14],[21,3,21,7],[22,3,22,7],[22,8,23,10],[22,11,23,14],[23,3,23,7],[24,3,24,7],[24,8,25,10],[24,11,25,14],[25,3,25,7],[26,3,26,7],[26,8,27,10],[26,11,27,14],[27,3,27,7],[28,3,28,7],[28,8,29,10],[28,11,29,14],[29,3,29,7],[30,3,30,7],[30,8,31,10],[30,11,31,14],[31,3,31,7],[32,3,32,7],[32,8,33,10],[32,11,33,14],[33,3,33,7],[34,3,34,7],[34,8,35,10],[34,11,35,14],[35,3,35,7],[36,3,36,7],[36,8,37,10],[36,11,37,14],[37,3,37,7],[38,3,38,7],[38,8,39,10],[38,11,39,14],[39,3,39,7],[40,3,40,7],[40,8,41,10],[40,11,41,14],[41,3,41,7],[42,3,42,7],[42,8,43,10],[42,11,43,14],[43,3,43,7],[44,3,44,7],[44,8,45,10],[44,11,45,14],[45,3,45,7],[51,22,54,22],[54,3,54,7],[54,8,54,10],[54,11,54,14],[46,3,46,7],[46,8,47,10],[46,11,47,14],[47,3,47,7],[48,3,48,7],[48,8,49,10],[48,11,49,14],[49,3,49,7]]}
[null,3,"使用したエネルギーの入力（貨物（連携省エネルギー措置を踏まえたもののうち連携事業者で使用した分））"]
[]
[null,null,"①","電気（二酸化炭素排出係数）"]
[null,null,null,"一般送配電事業者が維持し、及び運用する電線路を介して供給された電気を使用している場合は、国が公表する電気事業者ごとの排出係数を入力してください。",null,null,null,null,null,null,null,null,null,null,null,null,null,null,null,null,null,null,null,null,null,"　"]
[null,null,null,"それ以外の者から供給された電気を使用している場合は、実測等に基づく適切な排出係数を入力してください。"]
[null,null,null,"排出係数を算定することができない場合は、環境大臣・経済産業大臣が公表する係数（代替値）",null,null,null,null,null,null,null,null,null,null,null,null,{"$f":"INDIRECT(\"'係数（電気）'!D\"&MATCH(\"代替値\",'係数（電気）'!B:B,0))","v":0.441},"tCO２/千kWhを入力して下さい。"]
[]
[null,null,null,"エネルギー名",null,null,null,null,"電気事業者ごとの排出係数、買電量を入力してください",null,null,null,null,null,null,null,null,"買電\n熱量GJ\n（ＧＪ）",null,"CO2\n排出量\n（ｔ－CO2)"]
[null,null,null,null,null,null,null,null,"（▼から事業者を選択）",null,null,"二酸化炭素の実排出係数\n（tCO2/千kWh）",null,null,null,"買電量\n（千kWh）",null,null,"うち夏季・冬季における電気需要平準化時間帯",null,"うち夏季・冬季における電気需要平準化時間帯"]
[null,null,null,null,null,null,null,null,null,null,null,null,null,null,null,null,"夏季・冬季における電気需要平準化時間帯"]
[null,null,null,"昼間買電",null,null,null,null,null,null,null,{"$f":"IF(I11=0,Q$6,VLOOKUP(I11,電気事業者係数あ,3,FALSE))","v":0.441},null,null,null,null,null,{"$f":"IF(P11*VLOOKUP(D11,係数,3,FALSE)=0,\"\",P11*VLOOKUP(D11,係数,3,FALSE))","v":""},{"$f":"IF(Q11*VLOOKUP(D11,係数,3,FALSE)=0,\"\",Q11*VLOOKUP(D11,係数,3,FALSE))","v":""},{"$f":"IF(OR(P11=\"\",L11=\"\"),\"\",P11*L11)","v":""},{"$f":"IF(Q11=\"\",\"\",Q11*L11)","v":""}]
[null,null,null,"夜間買電",null,null,null,null,null,null,null,null,null,null,null,null,null,"",null,{"$f":"IF(P12=\"\",\"\",P12*L11)","v":""}]
[null,null,null,"昼間買電",null,null,null,null,null,null,null,{"$f":"IF(I13=0,Q$6,VLOOKUP(I13,電気事業者係数あ,3,FALSE))","v":0.441},null,null,null,null,null,"",{"$f":"IF(Q13*VLOOKUP(D13,係数,3,FALSE)=0,\"\",Q13*VLOOKUP(D13,係数,3,FALSE))","v":""},{"$f":"IF(P13=\"\",\"\",P13*L13)","v":""},{"$f":"IF(Q13=\"\",\"\",Q13*L13)","v":""}]
[null,null,null,"夜間買電",null,null,null,null,null,null,null,null,null,null,null,null,null,"",null,{"$f":"IF(P14=\"\",\"\",P14*L13)","v":""}]
[null,null,null,"昼間買電",null,null,null,null,null,null,null,{"$f":"IF(I15=0,Q$6,VLOOKUP(I15,電気事業者係数あ,3,FALSE))","v":0.441},null,null,null,null,null,"",{"$f":"IF(Q15*VLOOKUP(D15,係数,3,FALSE)=0,\"\",Q15*VLOOKUP(D15,係数,3,FALSE))","v":""},{"$f":"IF(P15=\"\",\"\",P15*L15)","v":""},{"$f":"IF(Q15=\"\",\"\",Q15*L15)","v":""}]
[null,null,null,"夜間買電",null,null,null,null,null,null,null,null,null,null,null,null,null,"",null,{"$f":"IF(P16=\"\",\"\",P16*L15)","v":""}]
[null,null,null,"昼間買電",null,null,null,null,null,null,null,{"$f":"IF(I17=0,Q$6,VLOOKUP(I17,電気事業者係数あ,3,FALSE))","v":0.441},null,null,null,null,null,"",{"$f":"IF(Q17*VLOOKUP(D17,係数,3,FALSE)=0,\"\",Q17*VLOOKUP(D17,係数,3,FALSE))","v":""},{"$f":"IF(P17=\"\",\"\",P17*L17)","v":""},{"$f":"IF(Q17=\"\",\"\",Q17*L17)","v":""}]
[null,null,null,"夜間買電",null,null,null,null,null,null,null,null,null,null,null,null,null,"",null,{"$f":"IF(P18=\"\",\"\",P18*L17)","v":""}]
[null,null,null,"昼間買電",null,null,null,null,null,null,null,{"$f":"IF(I19=0,Q$6,VLOOKUP(I19,電気事業者係数あ,3,FALSE))","v":0.441},null,null,null,null,null,"",{"$f":"IF(Q19*VLOOKUP(D19,係数,3,FALSE)=0,\"\",Q19*VLOOKUP(D19,係数,3,FALSE))","v":""},{"$f":"IF(P19=\"\",\"\",P19*L19)","v":""},{"$f":"IF(Q19=\"\",\"\",Q19*L19)","v":""}]
[null,null,null,"夜間買電",null,null,null,null,null,null,null,null,null,null,null,null,null,"",null,{"$f":"IF(P20=\"\",\"\",P20*L19)","v":""}]
[null,null,null,"昼間買電",null,null,null,null,null,null,null,{"$f":"IF(I21=0,Q$6,VLOOKUP(I21,電気事業者係数あ,3,FALSE))","v":0.441},null,null,null,null,null,"",{"$f":"IF(Q21*VLOOKUP(D21,係数,3,FALSE)=0,\"\",Q21*VLOOKUP(D21,係数,3,FALSE))","v":""},{"$f":"IF(P21=\"\",\"\",P21*L21)","v":""},{"$f":"IF(Q21=\"\",\"\",Q21*L21)","v":""}]
[null,null,null,"夜間買電",null,null,null,null,null,null,null,null,null,null,null,null,null,"",null,{"$f":"IF(P22=\"\",\"\",P22*L21)","v":""}]
[null,null,null,"昼間買電",null,null,null,null,null,null,null,{"$f":"IF(I23=0,Q$6,VLOOKUP(I23,電気事業者係数あ,3,FALSE))","v":0.441},null,null,null,null,null,"",{"$f":"IF(Q23*VLOOKUP(D23,係数,3,FALSE)=0,\"\",Q23*VLOOKUP(D23,係数,3,FALSE))","v":""},{"$f":"IF(P23=\"\",\"\",P23*L23)","v":""},{"$f":"IF(Q23=\"\",\"\",Q23*L23)","v":""}]
[null,null,null,"夜間買電",null,null,null,null,null,null,null,null,null,null,null,null,null,"",null,{"$f":"IF(P24=\"\",\"\",P24*L23)","v":""}]
[null,null,null,"昼間買電",null,null,null,null,null,null,null,{"$f":"IF(I25=0,Q$6,VLOOKUP(I25,電気事業者係数あ,3,FALSE))","v":0.441},null,null,null,null,null,"",{"$f":"IF(Q25*VLOOKUP(D25,係数,3,FALSE)=0,\"\",Q25*VLOOKUP(D25,係数,3,FALSE))","v":""},{"$f":"IF(P25=\"\",\"\",P25*L25)","v":""},{"$f":"IF(Q25=\"\",\"\",Q25*L25)","v":""}]
[null,null,null,"夜間買電",null,null,null,null,null,null,null,null,null,null,null,null,null,"",null,{"$f":"IF(P26=\"\",\"\",P26*L25)","v":""}]
[null,null,null,"昼間買電",null,null,null,null,null,null,null,{"$f":"IF(I27=0,Q$6,VLOOKUP(I27,電気事業者係数あ,3,FALSE))","v":0.441},null,null,null,null,null,"",{"$f":"IF(Q27*VLOOKUP(D27,係数,3,FALSE)=0,\"\",Q27*VLOOKUP(D27,係数,3,FALSE))","v":""},{"$f":"IF(P27=\"\",\"\",P27*L27)","v":""},{"$f":"IF(Q27=\"\",\"\",Q27*L27)","v":""}]
[null,null,null,"夜間買電",null,null,null,null,null,null,null,null,null,null,null,null,null,"",null,{"$f":"IF(P28=\"\",\"\",P28*L27)","v":""}]
[null,null,null,"昼間買電",null,null,null,null,null,null,null,{"$f":"IF(I29=0,Q$6,VLOOKUP(I29,電気事業者係数あ,3,FALSE))","v":0.441},null,null,null,null,null,"",{"$f":"IF(Q29*VLOOKUP(D29,係数,3,FALSE)=0,\"\",Q29*VLOOKUP(D29,係数,3,FALSE))","v":""},{"$f":"IF(P29=\"\",\"\",P29*L29)","v":""},{"$f":"IF(Q29=\"\",\"\",Q29*L29)","v":""}]
[null,null,null,"夜間買電",null,null,null,null,null,null,null,null,null,null,null,null,null,"",null,{"$f":"IF(P30=\"\",\"\",P30*L29)","v":""}]
[null,null,null,"昼間買電",null,null,null,null,null,null,null,{"$f":"IF(I31=0,Q$6,VLOOKUP(I31,電気事業者係数あ,3,FALSE))","v":0.441},null,null,null,null,null,"",{"$f":"IF(Q31*VLOOKUP(D31,係数,3,FALSE)=0,\"\",Q31*VLOOKUP(D31,係数,3,FALSE))","v":""},{"$f":"IF(P31=\"\",\"\",P31*L31)","v":""},{"$f":"IF(Q31=\"\",\"\",Q31*L31)","v":""}]
[null,null,null,"夜間買電",null,null,null,null,null,null,null,null,null,null,null,null,null,"",null,{"$f":"IF(P32=\"\",\"\",P32*L31)","v":""}]
[null,null,null,"昼間買電",null,null,null,null,null,null,null,{"$f":"IF(I33=0,Q$6,VLOOKUP(I33,電気事業者係数あ,3,FALSE))","v":0.441},null,null,null,null,null,"",{"$f":"IF(Q33*VLOOKUP(D33,係数,3,FALSE)=0,\"\",Q33*VLOOKUP(D33,係数,3,FALSE))","v":""},{"$f":"IF(P33=\"\",\"\",P33*L33)","v":""},{"$f":"IF(Q33=\"\",\"\",Q33*L33)","v":""}]
[null,null,null,"夜間買電",null,null,null,null,null,null,null,null,null,null,null,null,null,"",null,{"$f":"IF(P34=\"\",\"\",P34*L33)","v":""}]
[null,null,null,"昼間買電",null,null,null,null,null,null,null,{"$f":"IF(I35=0,Q$6,VLOOKUP(I35,電気事業者係数あ,3,FALSE))","v":0.441},null,null,null,null,null,"",{"$f":"IF(Q35*VLOOKUP(D35,係数,3,FALSE)=0,\"\",Q35*VLOOKUP(D35,係数,3,FALSE))","v":""},{"$f":"IF(P35=\"\",\"\",P35*L35)","v":""},{"$f":"IF(Q35=\"\",\"\",Q35*L35)","v":""}]
[null,null,null,"夜間買電",null,null,null,null,null,null,null,null,null,null,null,null,null,"",null,{"$f":"IF(P36=\"\",\"\",P36*L35)","v":""}]
[null,null,null,"昼間買電",null,null,null,null,null,null,null,{"$f":"IF(I37=0,Q$6,VLOOKUP(I37,電気事業者係数あ,3,FALSE))","v":0.441},null,null,null,null,null,"",{"$f":"IF(Q37*VLOOKUP(D37,係数,3,FALSE)=0,\"\",Q37*VLOOKUP(D37,係数,3,FALSE))","v":""},{"$f":"IF(P37=\"\",\"\",P37*L37)","v":""},{"$f":"IF(Q37=\"\",\"\",Q37*L37)","v":""}]
[null,null,null,"夜間買電",null,null,null,null,null,null,null,null,null,null,null,null,null,"",null,{"$f":"IF(P38=\"\",\"\",P38*L37)","v":""}]
[null,null,null,"昼間買電",null,null,null,null,null,null,null,{"$f":"IF(I39=0,Q$6,VLOOKUP(I39,電気事業者係数あ,3,FALSE))","v":0.441},null,null,null,null,null,"",{"$f":"IF(Q39*VLOOKUP(D39,係数,3,FALSE)=0,\"\",Q39*VLOOKUP(D39,係数,3,FALSE))","v":""},{"$f":"IF(P39=\"\",\"\",P39*L39)","v":""},{"$f":"IF(Q39=\"\",\"\",Q39*L39)","v":""}]
[null,null,null,"夜間買電",null,null,null,null,null,null,null,null,null,null,null,null,null,"",null,{"$f":"IF(P40=\"\",\"\",P40*L39)","v":""}]
[null,null,null,"昼間買電",null,null,null,null,null,null,null,{"$f":"IF(I41=0,Q$6,VLOOKUP(I41,電気事業者係数あ,3,FALSE))","v":0.441},null,null,null,null,null,"",{"$f":"IF(Q41*VLOOKUP(D41,係数,3,FALSE)=0,\"\",Q41*VLOOKUP(D41,係数,3,FALSE))","v":""},{"$f":"IF(P41=\"\",\"\",P41*L41)","v":""},{"$f":"IF(Q41=\"\",\"\",Q41*L41)","v":""}]
[null,null,null,"夜間買電",null,null,null,null,null,null,null,null,null,null,null,null,null,"",null,{"$f":"IF(P42=\"\",\"\",P42*L41)","v":""}]
[null,null,null,"昼間買電",null,null,null,null,null,null,null,{"$f":"IF(I43=0,Q$6,VLOOKUP(I43,電気事業者係数あ,3,FALSE))","v":0.441},null,null,null,null,null,"",{"$f":"IF(Q43*VLOOKUP(D43,係数,3,FALSE)=0,\"\",Q43*VLOOKUP(D43,係数,3,FALSE))","v":""},{"$f":"IF(P43=\"\",\"\",P43*L43)","v":""},{"$f":"IF(Q43=\"\",\"\",Q43*L43)","v":""}]
[null,null,null,"夜間買電",null,null,null,null,null,null,null,null,null,null,null,null,null,"",null,{"$f":"IF(P44=\"\",\"\",P44*L43)","v":""}]
[null,null,null,"昼間買電",null,null,null,null,null,null,null,{"$f":"IF(I45=0,Q$6,VLOOKUP(I45,電気事業者係数あ,3,FALSE))","v":0.441},null,null,null,null,null,"",{"$f":"IF(Q45*VLOOKUP(D45,係数,3,FALSE)=0,\"\",Q45*VLOOKUP(D45,係数,3,FALSE))","v":""},{"$f":"IF(P45=\"\",\"\",P45*L45)","v":""},{"$f":"IF(Q45=\"\",\"\",Q45*L45)","v":""}]
[null,null,null,"夜間買電",null,null,null,null,null,null,null,null,null,null,null,null,null,"",null,{"$f":"IF(P46=\"\",\"\",P46*L45)","v":""}]
[null,null,null,"昼間買電",null,null,null,null,null,null,null,{"$f":"IF(I47=0,Q$6,VLOOKUP(I47,電気事業者係数あ,3,FALSE))","v":0.441},null,null,null,null,null,"",{"$f":"IF(Q47*VLOOKUP(D47,係数,3,FALSE)=0,\"\",Q47*VLOOKUP(D47,係数,3,FALSE))","v":""},{"$f":"IF(P47=\"\",\"\",P47*L47)","v":""},{"$f":"IF(Q47=\"\",\"\",Q47*L47)","v":""}]
[null,null,null,"夜間買電",null,null,null,null,null,null,null,null,null,null,null,null,null,"",null,{"$f":"IF(P48=\"\",\"\",P48*L47)","v":""}]
[null,null,null,"昼間買電",null,null,null,null,null,null,null,{"$f":"IF(I49=0,Q$6,VLOOKUP(I49,電気事業者係数あ,3,FALSE))","v":0.441},null,null,null,null,null,"",{"$f":"IF(Q49*VLOOKUP(D49,係数,3,FALSE)=0,\"\",Q49*VLOOKUP(D49,係数,3,FALSE))","v":""},{"$f":"IF(P49=\"\",\"\",P49*L49)","v":""},{"$f":"IF(Q49=\"\",\"\",Q49*L49)","v":""}]
[null,null,null,"夜間買電",null,null,null,null,null,null,null,null,null,null,null,null,null,"",null,{"$f":"IF(P50=\"\",\"\",P50*L49)","v":""}]
[]
[null,null,null,null,null,null,null,null,null,null,null,null,"(合計)",null,"昼間",{"$f":"SUM(P11,P13,P15,P17,P19,P21,P23,P25,P27,P29,P31,P33,P35,P37,P39,P41,P43,P45,P47,P49)","v":0},0,0,0,0,0,"　→","「第１表(1)」に計算結果が反映されます。"]
[null,null,null,null,null,null,null,null,null,null,null,null,null,null,"夜間",{"$f":"SUM(P12,P14,P16,P18,P20,P22,P24,P26,P28,P30,P32,P34,P36,P38,P40,P42,P44,P46,P48,P50)","v":0},null,{"$f":"SUM(R12,R14,R16,R18,R20,R22,R24,R26,R28,R30,R32,R34,R36,R38,R40,R42,R44,R46,R48,R50)","v":0},null,{"$f":"SUM(T12,T14,T16,T18,T20,T22,T24,T26,T28,T30,T32,T34,T36,T38,T40,T42,T44,T46,T48,T50)","v":0},null,"　→"]
[]
[null,null,null,"上記以外の買電",null,null,null,null,null,null,null,null,null,null,null,null,null,{"$f":"IF(P55*VLOOKUP(D55,係数,3,FALSE)=0,\"0\",P55*VLOOKUP(D55,係数,3,FALSE))","v":"0"},null,{"$f":"IF(P55=\"0\",\"0\",P55*L55)","v":0},null,"　→"]

{"sheet":"第1表(1)_貨物","index":8,"n_rows":116,"n_cols":32,"rows_kept":116,"cut":false,"hidden":false,"merged":[[42,2,43,6],[42,7,43,8],[42,9,43,10],[24,23,25,23],[24,24,25,24],[24,25,25,25],[24,26,25,26],[20,23,21,26],[8,23,9,26],[16,23,17,23],[16,24,17,24],[16,25,17,25],[16,26,17,26],[18,23,19,23],[18,24,19,24],[18,25,19,25],[18,26,19,26],[22,23,23,23],[22,24,23,24],[22,25,23,25],[22,26,23,26],[10,23,11,23],[10,24,11,24],[10,25,11,25],[35,7,35,8],[37,3,37,4],[37,13,37,14],[31,7,31,8],[13,11,13,12],[36,11,36,12],[17,7,17,8],[17,11,17,12],[19,2,19,4],[19,7,19,8],[19,11,19,12],[29,11,29,12],[25,11,25,12],[36,13,36,14],[21,11,21,12],[23,2,23,4],[23,7,23,8],[22,2,22,4],[10,26,11,26],[12,23,13,23],[12,24,13,24],[12,25,13,25],[12,26,13,26],[14,23,15,23],[14,24,15,24],[14,25,15,25],[14,26,15,26],[48,2,48,6],[48,7,48,8],[48,9,48,10],[48,11,48,12],[47,9,47,10],[47,7,47,8],[47,2,47,6],[44,2,44,6],[44,7,44,8],[44,9,44,10],[44,11,44,12],[45,9,45,10],[46,2,46,6],[46,7,46,8],[46,9,46,10],[46,11,46,12],[45,2,45,6],[45,7,45,8],[3,20,5,20],[9,2,9,4],[9,7,9,8],[9,11,9,12],[4,7,4,10],[7,7,7,8],[4,13,5,14],[7,11,7,12],[11,7,11,8],[11,11,11,12],[3,16,5,16],[3,7,3,14],[6,2,6,4],[7,2,7,4],[5,7,5,8],[5,9,5,10],[3,2,5,4],[3,6,5,6],[3,19,5,19],[4,11,5,12],[3,17,5,17],[11,2,11,4],[41,11,41,12],[23,11,23,12],[28,2,33,2],[41,9,41,10],[31,11,31,12],[33,3,33,4],[34,3,34,4],[37,7,37,8],[39,2,39,4],[39,7,39,8],[34,2,37,2],[27,11,27,12],[37,11,37,12],[40,7,40,8],[40,2,40,6],[41,7,41,8],[40,9,40,10],[33,7,33,8],[33,11,33,12],[41,2,41,6],[25,2,25,4],[25,7,25,8],[27,2,27,4],[35,3,35,4],[1,2,1,11],[38,2,38,4],[16,2,16,4],[18,2,18,4],[20,2,20,4],[26,2,26,4],[8,2,8,4],[10,2,10,4],[36,3,36,4],[32,3,32,4],[12,2,12,4],[14,2,14,4],[24,2,24,4],[21,2,21,4],[21,7,21,8],[27,7,27,8],[29,7,29,8],[35,11,35,12],[13,2,13,4],[13,7,13,8],[15,7,15,8],[15,2,15,4],[15,11,15,12],[17,2,17,4]]}
[1]
[{"$f":"SUM(T7:T33)","v":0},null,"第１表　エネルギーの使用量"]
[null,null,"１．エネルギー使用量及び連携省エネルギー措置を踏まえたエネルギー使用量等"]
[{"$f":"メニュー!A3","v":19},null,"エネルギーの種類",null,null,null,"単位","使用量",null,null,null,null,null,null,null,null,"CO2排出量\n（ｔ－CO2)","連携省エネルギー措置を踏まえたCO2排出量\n（ｔ－CO2)",null,"CO2排出量\n独自算出","連携省エネルギー措置を踏まえたCO2排出量\n独自算出"]
[{"$f":"Q41","v":0},null,null,null,null,null,null,{"$f":"メニュー!A4","v":"2022-01-01"},null,null,null,"エネルギー使用量熱量ＧJ",null,"連携省エネルギー措置を踏まえたエネルギー使用量熱量ＧJ"]
[27561,null,null,null,null,null,null,"エネルギー使用量",null,"連携省エネルギー措置を踏まえたエネルギー使用量"]
[{"$f":"L44","v":0},null,"揮発油",null,null,"揮発油","ｋｌ",null,"ｋｌ",null,"ｋｌ",{"$f":"IF(H7=\"\",\"\",IF(ISERROR(VLOOKUP(F7,'係数（燃料）'!$C$3:$E$13,3,FALSE)),\"\",H7*VLOOKUP(F7,'係数（燃料）'!$C$3:$E$13,3,FALSE)))","v":""},"GJ",{"$f":"IF(J7=\"\",\"\",IF(ISERROR(VLOOKUP(F7,'係数（燃料）'!$C$3:$E$13,3,FALSE)),\"\",J7*VLOOKUP(F7,'係数（燃料）'!$C$3:$E$13,3,FALSE)))","v":""},"GJ",null,{"$f":"IF(T7<>\"\",T7,IF(L7=\"\",\"\",IF(ISERROR(VLOOKUP(F7,'係数（燃料）'!$C$3:$M$13,11,FALSE)),\"\",L7*VLOOKUP(F7,'係数（燃料）'!$C$3:$M$13,11,FALSE))))","v":""},{"$f":"IF(U7<>\"\",U7,IF(N7=\"\",\"\",IF(ISERROR(VLOOKUP(F7,'係数（燃料）'!$C$3:$M$13,11,FALSE)),\"\",N7*VLOOKUP(F7,'係数（燃料）'!$C$3:$M$13,11,FALSE))))","v":""},null,null,null,null,null,null,null,null,"（印刷範囲外）",null,null,null,1,{"$f":"$H$7","v":0}]
[null,null,"連携分",null,null,"揮発油","ｋｌ",null,null,null,"ｋｌ",null,null,{"$f":"IF(J8=\"\",\"\",IF(ISERROR(VLOOKUP(F8,'係数（燃料）'!$C$3:$E$13,3,FALSE)),\"\",J8*VLOOKUP(F8,'係数（燃料）'!$C$3:$E$13,3,FALSE)))","v":""},"GJ",null,null,{"$f":"IF(U8<>\"\",U8,IF(N8=\"\",\"\",IF(ISERROR(VLOOKUP(F8,'係数（燃料）'!$C$3:$M$13,11,FALSE)),\"\",N8*VLOOKUP(F8,'係数（燃料）'!$C$3:$M$13,11,FALSE))))","v":""},null,null,null,null,null,null,null,null,null,null,null,null,2,{"$f":"$J$7","v":0}]
[{"$f":"L31","v":0},null,"ジェット燃料油",null,null,"ジェット燃料油","ｋｌ",null,"ｋｌ",null,"ｋｌ",{"$f":"IF(H9=\"\",\"\",IF(ISERROR(VLOOKUP(F9,'係数（燃料）'!$C$3:$E$13,3,FALSE)),\"\",H9*VLOOKUP(F9,'係数（燃料）'!$C$3:$E$13,3,FALSE)))","v":""},"GJ",{"$f":"IF(J9=\"\",\"\",IF(ISERROR(VLOOKUP(F9,'係数（燃料）'!$C$3:$E$13,3,FALSE)),\"\",J9*VLOOKUP(F9,'係数（燃料）'!$C$3:$E$13,3,FALSE)))","v":""},"GJ",null,{"$f":"IF(T9<>\"\",T9,IF(L9=\"\",\"\",IF(ISERROR(VLOOKUP(F9,'係数（燃料）'!$C$3:$M$13,11,FALSE)),\"\",L9*VLOOKUP(F9,'係数（燃料）'!$C$3:$M$13,11,FALSE))))","v":""},{"$f":"IF(U9<>\"\",U9,IF(N9=\"\",\"\",IF(ISERROR(VLOOKUP(F9,'係数（燃料）'!$C$3:$M$13,11,FALSE)),\"\",N9*VLOOKUP(F9,'係数（燃料）'!$C$3:$M$13,11,FALSE))))","v":""},null,null,null,null,null,"t→kl換算  　　ｔ を入力してください",null,null,null,null,null,null,3,{"$f":"$T$7","v":0}]
[null,null,"連携分",null,null,"ジェット燃料油","ｋｌ",null,null,null,"ｋｌ",null,null,{"$f":"IF(J10=\"\",\"\",IF(ISERROR(VLOOKUP(F10,'係数（燃料）'!$C$3:$E$13,3,FALSE)),\"\",J10*VLOOKUP(F10,'係数（燃料）'!$C$3:$E$13,3,FALSE)))","v":""},"GJ",null,null,{"$f":"IF(U10<>\"\",U10,IF(N10=\"\",\"\",IF(ISERROR(VLOOKUP(F10,'係数（燃料）'!$C$3:$M$13,11,FALSE)),\"\",N10*VLOOKUP(F10,'係数（燃料）'!$C$3:$M$13,11,FALSE))))","v":""},null,null,null,null,null,null,null,null,null,null,null,null,4,{"$f":"$U$7","v":0}]
[null,null,"軽油",null,null,"軽油","ｋｌ",null,"ｋｌ",null,"ｋｌ",{"$f":"IF(H11=\"\",\"\",IF(ISERROR(VLOOKUP(F11,'係数（燃料）'!$C$3:$E$13,3,FALSE)),\"\",H11*VLOOKUP(F11,'係数（燃料）'!$C$3:$E$13,3,FALSE)))","v":""},"GJ",{"$f":"IF(J11=\"\",\"\",IF(ISERROR(VLOOKUP(F11,'係数（燃料）'!$C$3:$E$13,3,FALSE)),\"\",J11*VLOOKUP(F11,'係数（燃料）'!$C$3:$E$13,3,FALSE)))","v":""},"GJ",null,{"$f":"IF(T11<>\"\",T11,IF(L11=\"\",\"\",IF(ISERROR(VLOOKUP(F11,'係数（燃料）'!$C$3:$M$13,11,FALSE)),\"\",L11*VLOOKUP(F11,'係数（燃料）'!$C$3:$M$13,11,FALSE))))","v":""},{"$f":"IF(U11<>\"\",U11,IF(N11=\"\",\"\",IF(ISERROR(VLOOKUP(F11,'係数（燃料）'!$C$3:$M$13,11,FALSE)),\"\",N11*VLOOKUP(F11,'係数（燃料）'!$C$3:$M$13,11,FALSE))))","v":""},null,null,null,null,null,"種類","係数","ｔ","kl",null,null,null,5,{"$f":"$J$8","v":0}]
[null,null,"連携分",null,null,"軽油","ｋｌ",null,null,null,"ｋｌ",null,null,{"$f":"IF(J12=\"\",\"\",IF(ISERROR(VLOOKUP(F12,'係数（燃料）'!$C$3:$E$13,3,FALSE)),\"\",J12*VLOOKUP(F12,'係数（燃料）'!$C$3:$E$13,3,FALSE)))","v":""},"GJ",null,null,{"$f":"IF(U12<>\"\",U12,IF(N12=\"\",\"\",IF(ISERROR(VLOOKUP(F12,'係数（燃料）'!$C$3:$M$13,11,FALSE)),\"\",N12*VLOOKUP(F12,'係数（燃料）'!$C$3:$M$13,11,FALSE))))","v":""},null,null,null,null,null,null,null,null,null,null,null,null,6,{"$f":"$U$8","v":0}]
[null,null,"Ａ重油",null,null,"Ａ重油","ｋｌ",null,"ｋｌ",null,"ｋｌ",{"$f":"IF(H13=\"\",\"\",IF(ISERROR(VLOOKUP(F13,'係数（燃料）'!$C$3:$E$13,3,FALSE)),\"\",H13*VLOOKUP(F13,'係数（燃料）'!$C$3:$E$13,3,FALSE)))","v":""},"GJ",{"$f":"IF(J13=\"\",\"\",IF(ISERROR(VLOOKUP(F13,'係数（燃料）'!$C$3:$E$13,3,FALSE)),\"\",J13*VLOOKUP(F13,'係数（燃料）'!$C$3:$E$13,3,FALSE)))","v":""},"GJ",null,{"$f":"IF(T13<>\"\",T13,IF(L13=\"\",\"\",IF(ISERROR(VLOOKUP(F13,'係数（燃料）'!$C$3:$M$13,11,FALSE)),\"\",L13*VLOOKUP(F13,'係数（燃料）'!$C$3:$M$13,11,FALSE))))","v":""},{"$f":"IF(U13<>\"\",U13,IF(N13=\"\",\"\",IF(ISERROR(VLOOKUP(F13,'係数（燃料）'!$C$3:$M$13,11,FALSE)),\"\",N13*VLOOKUP(F13,'係数（燃料）'!$C$3:$M$13,11,FALSE))))","v":""},null,null,null,null,null,"A重油",{"$f":"VLOOKUP(X13,'係数（燃料）'!$B$21:$C$24,2,FALSE)","v":1.2048192771084338},null,{"$f":"IF(Z13<>\"\",Y13*Z13,\"\")","v":""},null,null,null,7,{"$f":"$H$9","v":0}]
[null,null,"連携分",null,null,"Ａ重油","ｋｌ",null,null,null,"ｋｌ",null,null,{"$f":"IF(J14=\"\",\"\",IF(ISERROR(VLOOKUP(F14,'係数（燃料）'!$C$3:$E$13,3,FALSE)),\"\",J14*VLOOKUP(F14,'係数（燃料）'!$C$3:$E$13,3,FALSE)))","v":""},"GJ",null,null,{"$f":"IF(U14<>\"\",U14,IF(N14=\"\",\"\",IF(ISERROR(VLOOKUP(F14,'係数（燃料）'!$C$3:$M$13,11,FALSE)),\"\",N14*VLOOKUP(F14,'係数（燃料）'!$C$3:$M$13,11,FALSE))))","v":""},null,null,null,null,null,null,null,null,null,null,null,null,8,{"$f":"$J$9","v":0}]
[null,null,"Ｂ・Ｃ重油",null,null,"Ｂ・Ｃ重油","ｋｌ",null,"ｋｌ",null,"ｋｌ",{"$f":"IF(H15=\"\",\"\",IF(ISERROR(VLOOKUP(F15,'係数（燃料）'!$C$3:$E$13,3,FALSE)),\"\",H15*VLOOKUP(F15,'係数（燃料）'!$C$3:$E$13,3,FALSE)))","v":""},"GJ",{"$f":"IF(J15=\"\",\"\",IF(ISERROR(VLOOKUP(F15,'係数（燃料）'!$C$3:$E$13,3,FALSE)),\"\",J15*VLOOKUP(F15,'係数（燃料）'!$C$3:$E$13,3,FALSE)))","v":""},"GJ",null,{"$f":"IF(T15<>\"\",T15,IF(L15=\"\",\"\",IF(ISERROR(VLOOKUP(F15,'係数（燃料）'!$C$3:$M$13,11,FALSE)),\"\",L15*VLOOKUP(F15,'係数（燃料）'!$C$3:$M$13,11,FALSE))))","v":""},{"$f":"IF(U15<>\"\",U15,IF(N15=\"\",\"\",IF(ISERROR(VLOOKUP(F15,'係数（燃料）'!$C$3:$M$13,11,FALSE)),\"\",N15*VLOOKUP(F15,'係数（燃料）'!$C$3:$M$13,11,FALSE))))","v":""},null,null,null,null,null,"Ｂ・Ｃ重油",null,null,{"$f":"IF(AND(AA17=\"\",AA19=\"\"),\"\",IF(ISNUMBER(AA17),AA17,0)+IF(ISNUMBER(AA19),AA19,0))","v":""},null,null,null,9,{"$f":"$T$9","v":0}]
[null,null,"連携分",null,null,"Ｂ・Ｃ重油","ｋｌ",null,null,null,"ｋｌ",null,null,{"$f":"IF(J16=\"\",\"\",IF(ISERROR(VLOOKUP(F16,'係数（燃料）'!$C$3:$E$13,3,FALSE)),\"\",J16*VLOOKUP(F16,'係数（燃料）'!$C$3:$E$13,3,FALSE)))","v":""},"GJ",null,null,{"$f":"IF(U16<>\"\",U16,IF(N16=\"\",\"\",IF(ISERROR(VLOOKUP(F16,'係数（燃料）'!$C$3:$M$13,11,FALSE)),\"\",N16*VLOOKUP(F16,'係数（燃料）'!$C$3:$M$13,11,FALSE))))","v":""},null,null,null,null,null,null,null,null,null,null,null,null,10,{"$f":"$U$9","v":0}]
[null,null,"液化石油ガス(ＬＰＧ)",null,null,"液化石油ガス(ＬＰＧ)","ｔ",null,"ｔ",null,"ｔ",{"$f":"IF(H17=\"\",\"\",IF(ISERROR(VLOOKUP(F17,'係数（燃料）'!$C$3:$E$13,3,FALSE)),\"\",H17*VLOOKUP(F17,'係数（燃料）'!$C$3:$E$13,3,FALSE)))","v":""},"GJ",{"$f":"IF(J17=\"\",\"\",IF(ISERROR(VLOOKUP(F17,'係数（燃料）'!$C$3:$E$13,3,FALSE)),\"\",J17*VLOOKUP(F17,'係数（燃料）'!$C$3:$E$13,3,FALSE)))","v":""},"GJ",null,{"$f":"IF(T17<>\"\",T17,IF(L17=\"\",\"\",IF(ISERROR(VLOOKUP(F17,'係数（燃料）'!$C$3:$M$13,11,FALSE)),\"\",L17*VLOOKUP(F17,'係数（燃料）'!$C$3:$M$13,11,FALSE))))","v":""},{"$f":"IF(U17<>\"\",U17,IF(N17=\"\",\"\",IF(ISERROR(VLOOKUP(F17,'係数（燃料）'!$C$3:$M$13,11,FALSE)),\"\",N17*VLOOKUP(F17,'係数（燃料）'!$C$3:$M$13,11,FALSE))))","v":""},null,null,null,null,null,"B重油",{"$f":"VLOOKUP(X17,'係数（燃料）'!$B$21:$C$24,2,FALSE)","v":1.1627906976744187},null,{"$f":"IF(Z17<>\"\",Y17*Z17,\"\")","v":""},null,null,null,11,{"$f":"$J$10","v":0}]
[null,null,"連携分",null,null,"液化石油ガス(ＬＰＧ)","ｔ",null,null,null,"ｔ",null,null,{"$f":"IF(J18=\"\",\"\",IF(ISERROR(VLOOKUP(F18,'係数（燃料）'!$C$3:$E$13,3,FALSE)),\"\",J18*VLOOKUP(F18,'係数（燃料）'!$C$3:$E$13,3,FALSE)))","v":""},"GJ",null,null,{"$f":"IF(U18<>\"\",U18,IF(N18=\"\",\"\",IF(ISERROR(VLOOKUP(F18,'係数（燃料）'!$C$3:$M$13,11,FALSE)),\"\",N18*VLOOKUP(F18,'係数（燃料）'!$C$3:$M$13,11,FALSE))))","v":""},null,null,null,null,null,null,null,null,null,null,null,null,12,{"$f":"$U$10","v":0}]
[null,null,"液化天然ガス(ＬＮＧ)",null,null,"液化天然ガス(ＬＮＧ)","ｔ",null,"ｔ",null,"ｔ",{"$f":"IF(H19=\"\",\"\",IF(ISERROR(VLOOKUP(F19,'係数（燃料）'!$C$3:$E$13,3,FALSE)),\"\",H19*VLOOKUP(F19,'係数（燃料）'!$C$3:$E$13,3,FALSE)))","v":""},"GJ",{"$f":"IF(J19=\"\",\"\",IF(ISERROR(VLOOKUP(F19,'係数（燃料）'!$C$3:$E$13,3,FALSE)),\"\",J19*VLOOKUP(F19,'係数（燃料）'!$C$3:$E$13,3,FALSE)))","v":""},"GJ",null,{"$f":"IF(T19<>\"\",T19,IF(L19=\"\",\"\",IF(ISERROR(VLOOKUP(F19,'係数（燃料）'!$C$3:$M$13,11,FALSE)),\"\",L19*VLOOKUP(F19,'係数（燃料）'!$C$3:$M$13,11,FALSE))))","v":""},{"$f":"IF(U19<>\"\",U19,IF(N19=\"\",\"\",IF(ISERROR(VLOOKUP(F19,'係数（燃料）'!$C$3:$M$13,11,FALSE)),\"\",N19*VLOOKUP(F19,'係数（燃料）'!$C$3:$M$13,11,FALSE))))","v":""},null,null,null,null,null,"C重油",{"$f":"VLOOKUP(X19,'係数（燃料）'!$B$21:$C$24,2,FALSE)","v":1.0638297872340425},null,{"$f":"IF(Z19<>\"\",Y19*Z19,\"\")","v":""},null,null,null,13,{"$f":"$H$11","v":0}]
[null,null,"連携分",null,null,"液化天然ガス(ＬＮＧ)","ｔ",null,null,null,"ｔ",null,null,{"$f":"IF(J20=\"\",\"\",IF(ISERROR(VLOOKUP(F20,'係数（燃料）'!$C$3:$E$13,3,FALSE)),\"\",J20*VLOOKUP(F20,'係数（燃料）'!$C$3:$E$13,3,FALSE)))","v":""},"GJ",null,null,{"$f":"IF(U20<>\"\",U20,IF(N20=\"\",\"\",IF(ISERROR(VLOOKUP(F20,'係数（燃料）'!$C$3:$M$13,11,FALSE)),\"\",N20*VLOOKUP(F20,'係数（燃料）'!$C$3:$M$13,11,FALSE))))","v":""},null,null,null,null,null,null,null,null,null,null,null,null,14,{"$f":"$J$11","v":0}]
[null,null,"石炭（原料炭）",null,null,"石炭（原料炭）",null,null,"ｔ",null,"ｔ",{"$f":"IF(H21=\"\",\"\",IF(ISERROR(VLOOKUP(F21,'係数（燃料）'!$C$3:$E$13,3,FALSE)),\"\",H21*VLOOKUP(F21,'係数（燃料）'!$C$3:$E$13,3,FALSE)))","v":""},"GJ",{"$f":"IF(J21=\"\",\"\",IF(ISERROR(VLOOKUP(F21,'係数（燃料）'!$C$3:$E$13,3,FALSE)),\"\",J21*VLOOKUP(F21,'係数（燃料）'!$C$3:$E$13,3,FALSE)))","v":""},"GJ",null,{"$f":"IF(T21<>\"\",T21,IF(L21=\"\",\"\",IF(ISERROR(VLOOKUP(F21,'係数（燃料）'!$C$3:$M$13,11,FALSE)),\"\",L21*VLOOKUP(F21,'係数（燃料）'!$C$3:$M$13,11,FALSE))))","v":""},{"$f":"IF(U21<>\"\",U21,IF(N21=\"\",\"\",IF(ISERROR(VLOOKUP(F21,'係数（燃料）'!$C$3:$M$13,11,FALSE)),\"\",N21*VLOOKUP(F21,'係数（燃料）'!$C$3:$M$13,11,FALSE))))","v":""},null,null,null,null,null,"kl→t換算  　　kl を入力してください",null,null,null,null,null,null,15,{"$f":"$T$11","v":0}]
[null,null,"連携分",null,null,"石炭（原料炭）","ｔ",null,null,null,"ｔ",null,null,{"$f":"IF(J22=\"\",\"\",IF(ISERROR(VLOOKUP(F22,'係数（燃料）'!$C$3:$E$13,3,FALSE)),\"\",J22*VLOOKUP(F22,'係数（燃料）'!$C$3:$E$13,3,FALSE)))","v":""},"GJ",null,null,{"$f":"IF(U22<>\"\",U22,IF(N22=\"\",\"\",IF(ISERROR(VLOOKUP(F22,'係数（燃料）'!$C$3:$M$13,11,FALSE)),\"\",N22*VLOOKUP(F22,'係数（燃料）'!$C$3:$M$13,11,FALSE))))","v":""},null,null,null,null,null,null,null,null,null,null,null,null,16,{"$f":"$U$11","v":0}]
[null,null,"石炭（一般炭）",null,null,"石炭（一般炭）","ｔ",null,"ｔ",null,"ｔ",{"$f":"IF(H23=\"\",\"\",IF(ISERROR(VLOOKUP(F23,'係数（燃料）'!$C$3:$E$13,3,FALSE)),\"\",H23*VLOOKUP(F23,'係数（燃料）'!$C$3:$E$13,3,FALSE)))","v":""},"GJ",{"$f":"IF(J23=\"\",\"\",IF(ISERROR(VLOOKUP(F23,'係数（燃料）'!$C$3:$E$13,3,FALSE)),\"\",J23*VLOOKUP(F23,'係数（燃料）'!$C$3:$E$13,3,FALSE)))","v":""},"GJ",null,{"$f":"IF(T23<>\"\",T23,IF(L23=\"\",\"\",IF(ISERROR(VLOOKUP(F23,'係数（燃料）'!$C$3:$M$13,11,FALSE)),\"\",L23*VLOOKUP(F23,'係数（燃料）'!$C$3:$M$13,11,FALSE))))","v":""},{"$f":"IF(U23<>\"\",U23,IF(N23=\"\",\"\",IF(ISERROR(VLOOKUP(F23,'係数（燃料）'!$C$3:$M$13,11,FALSE)),\"\",N23*VLOOKUP(F23,'係数（燃料）'!$C$3:$M$13,11,FALSE))))","v":""},null,null,null,null,null,"種類","係数","kl","ｔ",null,null,null,17,{"$f":"$J$12","v":0}]
[null,null,"連携分",null,null,"石炭（一般炭）","ｔ",null,null,null,"ｔ",null,null,{"$f":"IF(J24=\"\",\"\",IF(ISERROR(VLOOKUP(F24,'係数（燃料）'!$C$3:$E$13,3,FALSE)),\"\",J24*VLOOKUP(F24,'係数（燃料）'!$C$3:$E$13,3,FALSE)))","v":""},"GJ",null,null,{"$f":"IF(U24<>\"\",U24,IF(N24=\"\",\"\",IF(ISERROR(VLOOKUP(F24,'係数（燃料）'!$C$3:$M$13,11,FALSE)),\"\",N24*VLOOKUP(F24,'係数（燃料）'!$C$3:$M$13,11,FALSE))))","v":""},null,null,null,null,null,null,null,null,null,null,null,null,18,{"$f":"$U$12","v":0}]
[null,null,"石炭（無煙炭）",null,null,"石炭（無煙炭）","ｔ",null,"ｔ",null,"ｔ",{"$f":"IF(H25=\"\",\"\",IF(ISERROR(VLOOKUP(F25,'係数（燃料）'!$C$3:$E$13,3,FALSE)),\"\",H25*VLOOKUP(F25,'係数（燃料）'!$C$3:$E$13,3,FALSE)))","v":""},"GJ",{"$f":"IF(J25=\"\",\"\",IF(ISERROR(VLOOKUP(F25,'係数（燃料）'!$C$3:$E$13,3,FALSE)),\"\",J25*VLOOKUP(F25,'係数（燃料）'!$C$3:$E$13,3,FALSE)))","v":""},"GJ",null,{"$f":"IF(T25<>\"\",T25,IF(L25=\"\",\"\",IF(ISERROR(VLOOKUP(F25,'係数（燃料）'!$C$3:$M$13,11,FALSE)),\"\",L25*VLOOKUP(F25,'係数（燃料）'!$C$3:$M$13,11,FALSE))))","v":""},{"$f":"IF(U25<>\"\",U25,IF(N25=\"\",\"\",IF(ISERROR(VLOOKUP(F25,'係数（燃料）'!$C$3:$M$13,11,FALSE)),\"\",N25*VLOOKUP(F25,'係数（燃料）'!$C$3:$M$13,11,FALSE))))","v":""},null,null,null,null,null,"LPG",{"$f":"VLOOKUP(X25,'係数（燃料）'!$B$21:$D$24,3,FALSE)","v":0.56000000000000005},null,{"$f":"IF(Z25<>\"\",Y25*Z25,\"\")","v":""},null,null,null,19,{"$f":"$H$13","v":0}]
[null,null,"連携分",null,null,"石炭（無煙炭）","ｔ",null,null,null,"ｔ",null,null,{"$f":"IF(J26=\"\",\"\",IF(ISERROR(VLOOKUP(F26,'係数（燃料）'!$C$3:$E$13,3,FALSE)),\"\",J26*VLOOKUP(F26,'係数（燃料）'!$C$3:$E$13,3,FALSE)))","v":""},"GJ",null,null,{"$f":"IF(U26<>\"\",U26,IF(N26=\"\",\"\",IF(ISERROR(VLOOKUP(F26,'係数（燃料）'!$C$3:$M$13,11,FALSE)),\"\",N26*VLOOKUP(F26,'係数（燃料）'!$C$3:$M$13,11,FALSE))))","v":""},null,null,null,null,null,null,null,null,null,null,null,null,20,{"$f":"$J$13","v":0}]
[{"$f":"IF(E50<>\"\",E50,IF(ISERROR(VLOOKUP(F27,'係数（燃料）'!$C$3:$E$13,3,FALSE)),\"\",VLOOKUP(F27,'係数（燃料）'!$C$3:$E$13,3,FALSE)))","v":0},null,"都市ガス（CNGを含む。）",null,null,"都市ガス","千m３",null,"千m３",null,"千m３",{"$f":"IF(H27=\"\",\"\",H27*$E50)","v":""},"GJ",{"$f":"IF(J27=\"\",\"\",J27*$E50)","v":""},"GJ",null,{"$f":"IF(T27<>\"\",T27,IF(L27=\"\",\"\",IF(ISERROR(VLOOKUP(F27,'係数（燃料）'!$C$3:$M$13,11,FALSE)),\"\",L27*VLOOKUP(F27,'係数（燃料）'!$C$3:$M$13,11,FALSE))))","v":""},{"$f":"IF(U27<>\"\",U27,IF(N27=\"\",\"\",IF(ISERROR(VLOOKUP(F27,'係数（燃料）'!$C$3:$M$13,11,FALSE)),\"\",N27*VLOOKUP(F27,'係数（燃料）'!$C$3:$M$13,11,FALSE))))","v":""},null,null,null,null,null,null,null,null,"青で囲んでいる数字を転記してください",null,null,null,21,{"$f":"$T$13","v":0}]
[{"$f":"IF(E51<>\"\",E51,IF(ISERROR(VLOOKUP(F28,'係数（燃料）'!$C$3:$E$13,3,FALSE)),\"\",VLOOKUP(F28,'係数（燃料）'!$C$3:$E$13,3,FALSE)))","v":0},null,"連携分",null,null,"都市ガス","千m３",null,null,null,"千m３",null,null,{"$f":"IF(J28=\"\",\"\",J28*$E50)","v":""},"GJ",null,null,{"$f":"IF(U28<>\"\",U28,IF(N28=\"\",\"\",IF(ISERROR(VLOOKUP(F28,'係数（燃料）'!$C$3:$M$13,11,FALSE)),\"\",N28*VLOOKUP(F28,'係数（燃料）'!$C$3:$M$13,11,FALSE))))","v":""},null,null,null,null,null,null,null,null,null,null,null,null,22,{"$f":"$U$13","v":0}]
[null,null,"電気事業者",null,"昼間買電","昼間買電","千ｋＷｈ",{"$f":"'入力補助(電気)_貨物'!P52","v":0},"千ｋＷｈ",{"$f":"'入力補助(電気)_貨物_連携(自己分)'!P52","v":0},"千ｋＷｈ",{"$f":"'入力補助(電気)_貨物'!R52","v":0},"GJ",{"$f":"'入力補助(電気)_貨物_連携(自己分)'!R52","v":0},"GJ",null,{"$f":"'入力補助(電気)_貨物'!T52","v":0},{"$f":"'入力補助(電気)_貨物_連携(自己分)'!T52","v":0},null,null,null,null,null,null,null,null,null,null,null,null,23,{"$f":"$J$14","v":0}]
[null,null,null,null,"連携分","昼間買電","千ｋＷｈ",null,null,{"$f":"'入力補助(電気)_貨物_連携(連携分)'!P52","v":0},"千ｋＷｈ",null,null,{"$f":"'入力補助(電気)_貨物_連携(連携分)'!R52","v":0},"GJ",null,null,{"$f":"'入力補助(電気)_貨物_連携(自己分)'!T52","v":0},null,null,null,null,null,null,null,null,null,null,null,null,24,{"$f":"$U$14","v":0}]
[null,null,null,null,"夏季・冬季における\n電気需要平準化時間帯","電気需要平準化時間帯","千ｋＷｈ",{"$f":"'入力補助(電気)_貨物'!Q52","v":0},"千ｋＷｈ",{"$f":"'入力補助(電気)_貨物_連携(自己分)'!Q52","v":0},"千ｋＷｈ",{"$f":"'入力補助(電気)_貨物'!S52","v":0},"GJ",{"$f":"'入力補助(電気)_貨物_連携(自己分)'!S52","v":0},"GJ",null,{"$f":"'入力補助(電気)_貨物'!U52","v":0},{"$f":"'入力補助(電気)_貨物_連携(自己分)'!U52","v":0},null,null,null,null,null,null,null,null,null,null,null,null,25,{"$f":"$H$15","v":0}]
[null,null,null,null,"連携分","電気需要平準化時間帯","千ｋＷｈ",null,null,{"$f":"'入力補助(電気)_貨物_連携(連携分)'!Q52","v":0},"千ｋＷｈ",null,null,{"$f":"'入力補助(電気)_貨物_連携(連携分)'!S52","v":0},"GJ",null,null,{"$f":"'入力補助(電気)_貨物_連携(自己分)'!U52","v":0},null,null,null,null,null,null,null,null,null,null,null,null,26,{"$f":"$J$15","v":0}]
[null,null,null,"夜間買電",null,"夜間買電","千ｋＷｈ",{"$f":"'入力補助(電気)_貨物'!P53","v":0},"千ｋＷｈ",{"$f":"'入力補助(電気)_貨物_連携(自己分)'!P53","v":0},"千ｋＷｈ",{"$f":"'入力補助(電気)_貨物'!R53","v":0},"GJ",{"$f":"'入力補助(電気)_貨物_連携(自己分)'!R53","v":0},"GJ",null,{"$f":"'入力補助(電気)_貨物'!T53","v":0},{"$f":"'入力補助(電気)_貨物_連携(自己分)'!T53","v":0},null,null,null,null,null,null,null,null,null,null,null,null,27,{"$f":"$T$15","v":0}]
[null,null,null,"連携分",null,"夜間買電","千ｋＷｈ",null,null,{"$f":"'入力補助(電気)_貨物_連携(連携分)'!P53","v":0},"千ｋＷｈ",null,null,{"$f":"'入力補助(電気)_貨物_連携(連携分)'!R53","v":0},"GJ",null,null,{"$f":"'入力補助(電気)_貨物_連携(自己分)'!T53","v":0},null,null,null,null,null,null,null,null,null,null,null,null,28,{"$f":"$U$15","v":0}]
[null,null,"その他","上記以外の買電",null,"上記以外の買電","千ｋＷｈ",{"$f":"'入力補助(電気)_貨物'!P55","v":0},"千ｋＷｈ",{"$f":"'入力補助(電気)_貨物_連携(自己分)'!P55","v":0},"千ｋＷｈ",{"$f":"'入力補助(電気)_貨物'!R55","v":"0"},"GJ",{"$f":"'入力補助(電気)_貨物_連携(自己分)'!R55","v":"0"},"GJ",null,{"$f":"'入力補助(電気)_貨物'!T55","v":0},{"$f":"'入力補助(電気)_貨物_連携(自己分)'!T55","v":0},null,null,null,null,null,null,null,null,null,null,null,null,29,{"$f":"$J$16","v":0}]
[null,null,null,"連携分",null,"上記以外の買電","千ｋＷｈ",null,null,{"$f":"'入力補助(電気)_貨物_連携(連携分)'!P55","v":0},"千ｋＷｈ",null,null,{"$f":"'入力補助(電気)_貨物_連携(連携分)'!R55","v":"0"},"GJ",null,null,{"$f":"'入力補助(電気)_貨物_連携(自己分)'!T55","v":0},null,null,null,null,null,null,null,null,null,null,null,null,30,{"$f":"$U$16","v":0}]
[null,null,null,"自家発電",null,"自家発電","千ｋＷｈ",null,"千ｋＷｈ",null,"千ｋＷｈ",null,null,null,null,null,null,null,null,null,null,null,null,null,null,null,null,null,null,null,31,{"$f":"$H$17","v":0}]
[null,null,null,"連携分",null,"自家発電","千ｋＷｈ",null,null,null,"千ｋＷｈ",null,null,null,null,null,null,null,null,null,null,null,null,null,null,null,null,null,null,null,32,{"$f":"$J$17","v":0}]
[null,null,null,null,null,null,"",null,{"$f":"IF(G39<>\"\",G39,\"\")","v":""},null,{"$f":"IF(G39<>\"\",I39,\"\")","v":""},null,"GJ",null,"GJ",null,null,null,null,null,null,null,null,null,null,null,null,null,null,null,33,{"$f":"$T$17","v":0}]
[null,null,"連携分",null,null,null,"",null,null,null,{"$f":"IF(G40<>\"\",I40,\"\")","v":""},null,"GJ",null,"GJ",null,null,null,null,null,null,null,null,null,null,null,null,null,null,null,34,{"$f":"$U$17","v":0}]
[null,null,"合　計ＧJ",null,null,null,null,null,null,null,null,{"$f":"SUM(L7:L30)+SUM(L33:L40)","v":0},"GJ",{"$f":"SUM(N7:N30)+SUM(N33:N40)","v":0},"GJ",null,{"$f":"SUM(Q7:Q30)+SUM(Q33:Q40)","v":0},{"$f":"SUM(R7:R30)+SUM(R33:R40)","v":0},null,null,null,null,null,null,null,null,null,null,null,null,35,{"$f":"$J$18","v":0}]
[null,null,"連携分",null,null,null,null,null,null,null,null,null,null,{"$f":"SUM(N8,N10,N12,N14,N16,N18,N20,N22,N24,N26,N28,N30,N34,N36,N38,N40)","v":0},"GJ",null,null,{"$f":"SUM(R8,R10,R12,R14,R16,R18,R20,R22,R24,R26,R28,R30,R32,R34,R36,R38,R40)","v":0},null,null,null,null,null,null,null,null,null,null,null,null,36,{"$f":"$U$18","v":0}]
[null,null,"原油換算ｋｌ",null,null,null,null,null,null,null,null,"㋑－１",null,"㋑－２",null,null,null,null,null,null,null,null,null,null,null,null,null,null,null,null,37,{"$f":"$H$19","v":0}]
[null,null,null,null,null,null,null,null,null,null,null,{"$f":"L41/10*0.258","v":0},"kl",{"$f":"N41/10*0.258","v":0},"kl",null,null,null,null,null,null,null,null,null,null,null,null,null,null,null,38,{"$f":"$J$19","v":0}]
[null,null,"連携分",null,null,null,null,null,null,null,null,null,null,{"$f":"N42/10*0.258","v":0},"kl",null,null,null,null,null,null,null,null,null,null,null,null,null,null,null,39,{"$f":"$T$19","v":0}]
[null,null,"前年度原油換算ｋｌ",null,null,null,null,null,null,null,null,{"$f":"IF($A$4>3, INDIRECT(\"保存用!R4C\"&$A$4-1,FALSE), 0)","v":0},"kl",{"$f":"IF($A$4>3, INDIRECT(\"保存用!R5C\"&$A$4-1,FALSE), 0)","v":0},"kl",null,null,null,null,null,null,null,null,null,null,null,null,null,null,null,40,{"$f":"$U$19","v":0}]
[null,null,"連携分",null,null,null,null,null,null,null,null,null,null,{"$f":"IF($A$4>3, INDIRECT(\"保存用!R6C\"&$A$4-1,FALSE), 0)","v":0},"kl",null,null,null,null,null,null,null,null,null,null,null,null,null,null,null,41,{"$f":"$J$20","v":0}]
[null,null,"対前年度比（％）",null,null,null,null,null,null,null,null,{"$f":"IF(OR($A$4=\"\",$A$4<4,L44=\"\"),\"-\",IF(ISERR(L44/$AD$54),\"\",L44/$AD$54))","v":""},null,{"$f":"IF(OR($A$4=\"\",$A$4<4,N44=\"\"),\"-\",IF(ISERR(N44/$AD$55),\"\",N44/$AD$55))","v":""},null,null,null,null,null,null,null,null,null,null,null,null,null,null,null,null,42,{"$f":"$U$20","v":0}]
[null,null,"連携分",null,null,null,null,null,null,null,null,null,null,{"$f":"IF(OR($A$4=\"\",$A$4<4,N45=\"\"),\"-\",IF(ISERR(N45/$AD$56),\"\",N45/$AD$56))","v":""},null,null,null,null,null,null,null,null,null,null,null,null,null,null,null,null,43,{"$f":"$H$21","v":0}]
[null,null,"","",null,null,"（自己で使用した分）",null,null,null,null,null,null,null,null,null,null,null,null,null,null,null,null,null,null,null,null,null,null,null,44,{"$f":"$J$21","v":0}]
[null,null,"","",null,null,"（連携事業者で使用した分）",null,null,null,null,null,null,null,null,null,null,null,null,null,null,null,null,null,null,null,null,null,null,null,45,{"$f":"$T$21","v":0}]
[null,null,null,null,null,null,null,null,null,null,null,null,null,null,null,null,null,null,null,null,null,null,null,null,null,null,null,null,null,null,46,{"$f":"$U$21","v":0}]
[null,null,null,null,null,null,null,null,null,null,null,null,null,null,null,null,null,null,null,null,null,null,null,null,null,null,null,null,null,"前年度比較用",47,{"$f":"$J$22","v":0}]
[null,null,null,null,null,null,null,null,null,null,null,null,null,null,null,null,null,null,null,null,null,null,null,null,null,null,null,null,null,{"$f":"OFFSET(保存用!$A$1,4-1,($A$4-1)-1)","v":0},48,{"$f":"$U$22","v":0}]
[1,null,null,null,null,null,null,null,null,null,null,null,null,null,null,null,null,null,null,null,null,null,null,null,null,null,null,null,null,{"$f":"OFFSET(保存用!$A$1,5-1,($A$4-1)-1)","v":0},49,{"$f":"$H$23","v":0}]
[null,null,null,null,null,null,null,null,null,null,null,null,null,null,null,null,null,null,null,null,null,null,null,null,null,null,null,null,null,{"$f":"OFFSET(保存用!$A$1,6-1,($A$4-1)-1)","v":0},50,{"$f":"$J$23","v":0}]
[null,null,null,null,null,null,null,null,null,null,null,null,null,null,null,null,null,null,null,null,null,null,null,null,null,null,null,null,null,null,51,{"$f":"$T$23","v":0}]
[null,null,null,null,null,null,null,null,null,null,null,null,null,null,null,null,null,null,null,null,null,null,null,null,null,null,null,null,null,null,52,{"$f":"$U$23","v":0}]
[null,null,null,null,null,null,null,null,null,null,null,null,null,null,null,null,null,null,null,null,null,null,null,null,null,null,null,null,null,null,53,{"$f":"$J$24","v":0}]
[null,null,null,null,null,null,null,null,null,null,null,null,null,null,null,null,null,null,null,null,null,null,null,null,null,null,null,null,null,null,54,{"$f":"$U$24","v":0}]
[null,null,null,null,null,null,null,null,null,null,null,null,null,null,null,null,null,null,null,null,null,null,null,null,null,null,null,null,null,null,55,{"$f":"$H$25","v":0}]
[null,null,null,null,null,null,null,null,null,null,null,null,null,null,null,null,null,null,null,null,null,null,null,null,null,null,null,null,null,null,56,{"$f":"$J$25","v":0}]
[null,null,null,null,null,null,null,null,null,null,null,null,null,null,null,null,null,null,null,null,null,null,null,null,null,null,null,null,null,null,57,{"$f":"$T$25","v":0}]
[null,null,null,null,null,null,null,null,null,null,null,null,null,null,null,null,null,null,null,null,null,null,null,null,null,null,null,null,null,null,58,{"$f":"$U$25","v":0}]
[null,null,null,null,null,null,null,null,null,null,null,null,null,null,null,null,null,null,null,null,null,null,null,null,null,null,null,null,null,null,59,{"$f":"$J$26","v":0}]
[null,null,null,null,null,null,null,null,null,null,null,null,null,null,null,null,null,null,null,null,null,null,null,null,null,null,null,null,null,null,60,{"$f":"$U$26","v":0}]
[null,null,null,null,null,null,null,null,null,null,null,null,null,null,null,null,null,null,null,null,null,null,null,null,null,null,null,null,null,null,61,{"$f":"$H$27","v":0}]
[null,null,null,null,null,null,null,null,null,null,null,null,null,null,null,null,null,null,null,null,null,null,null,null,null,null,null,null,null,null,62,{"$f":"$J$27","v":0}]
[null,null,null,null,null,null,null,null,null,null,null,null,null,null,null,null,null,null,null,null,null,null,null,null,null,null,null,null,null,null,63,{"$f":"$T$27","v":0}]
[null,null,null,null,null,null,null,null,null,null,null,null,null,null,null,null,null,null,null,null,null,null,null,null,null,null,null,null,null,null,64,{"$f":"$U$27","v":0}]
[null,null,null,null,null,null,null,null,null,null,null,null,null,null,null,null,null,null,null,null,null,null,null,null,null,null,null,null,null,null,65,{"$f":"$J$28","v":0}]
[null,null,null,null,null,null,null,null,null,null,null,null,null,null,null,null,null,null,null,null,null,null,null,null,null,null,null,null,null,null,66,{"$f":"$U$28","v":0}]
[null,null,null,null,null,null,null,null,null,null,null,null,null,null,null,null,null,null,null,null,null,null,null,null,null,null,null,null,null,null,67,{"$f":"$H$29","v":0}]
[null,null,null,null,null,null,null,null,null,null,null,null,null,null,null,null,null,null,null,null,null,null,null,null,null,null,null,null,null,null,68,{"$f":"$J$29","v":0}]
[null,null,null,null,null,null,null,null,null,null,null,null,null,null,null,null,null,null,null,null,null,null,null,null,null,null,null,null,null,null,69,{"$f":"$T$29","v":0}]
[null,null,null,null,null,null,null,null,null,null,null,null,null,null,null,null,null,null,null,null,null,null,null,null,null,null,null,null,null,null,70,{"$f":"$U$29","v":0}]
[null,null,null,null,null,null,null,null,null,null,null,null,null,null,null,null,null,null,null,null,null,null,null,null,null,null,null,null,null,null,71,{"$f":"$J$30","v":0}]
[null,null,null,null,null,null,null,null,null,null,null,null,null,null,null,null,null,null,null,null,null,null,null,null,null,null,null,null,null,null,72,{"$f":"$U$30","v":0}]
[null,null,null,null,null,null,null,null,null,null,null,null,null,null,null,null,null,null,null,null,null,null,null,null,null,null,null,null,null,null,73,{"$f":"$H$31","v":0}]
[null,null,null,null,null,null,null,null,null,null,null,null,null,null,null,null,null,null,null,null,null,null,null,null,null,null,null,null,null,null,74,{"$f":"$J$31","v":0}]
[null,null,null,null,null,null,null,null,null,null,null,null,null,null,null,null,null,null,null,null,null,null,null,null,null,null,null,null,null,null,75,{"$f":"$T$31","v":0}]
[null,null,null,null,null,null,null,null,null,null,null,null,null,null,null,null,null,null,null,null,null,null,null,null,null,null,null,null,null,null,76,{"$f":"$U$31","v":0}]
[null,null,null,null,null,null,null,null,null,null,null,null,null,null,null,null,null,null,null,null,null,null,null,null,null,null,null,null,null,null,77,{"$f":"$J$32","v":0}]
[null,null,null,null,null,null,null,null,null,null,null,null,null,null,null,null,null,null,null,null,null,null,null,null,null,null,null,null,null,null,78,{"$f":"$U$32","v":0}]
[null,null,null,null,null,null,null,null,null,null,null,null,null,null,null,null,null,null,null,null,null,null,null,null,null,null,null,null,null,null,79,{"$f":"$H$33","v":0}]
[null,null,null,null,null,null,null,null,null,null,null,null,null,null,null,null,null,null,null,null,null,null,null,null,null,null,null,null,null,null,80,{"$f":"$J$33","v":0}]
[null,null,null,null,null,null,null,null,null,null,null,null,null,null,null,null,null,null,null,null,null,null,null,null,null,null,null,null,null,null,81,{"$f":"$T$33","v":0}]
[null,null,null,null,null,null,null,null,null,null,null,null,null,null,null,null,null,null,null,null,null,null,null,null,null,null,null,null,null,null,82,{"$f":"$U$33","v":0}]
[null,null,null,null,null,null,null,null,null,null,null,null,null,null,null,null,null,null,null,null,null,null,null,null,null,null,null,null,null,null,83,{"$f":"$J$34","v":0}]
[null,null,null,null,null,null,null,null,null,null,null,null,null,null,null,null,null,null,null,null,null,null,null,null,null,null,null,null,null,null,84,{"$f":"$U$34","v":0}]
[null,null,null,null,null,null,null,null,null,null,null,null,null,null,null,null,null,null,null,null,null,null,null,null,null,null,null,null,null,null,85,{"$f":"$H$35","v":0}]
[null,null,null,null,null,null,null,null,null,null,null,null,null,null,null,null,null,null,null,null,null,null,null,null,null,null,null,null,null,null,86,{"$f":"$J$35","v":0}]
[null,null,null,null,null,null,null,null,null,null,null,null,null,null,null,null,null,null,null,null,null,null,null,null,null,null,null,null,null,null,87,{"$f":"$T$35","v":0}]
[null,null,null,null,null,null,null,null,null,null,null,null,null,null,null,null,null,null,null,null,null,null,null,null,null,null,null,null,null,null,88,{"$f":"$U$35","v":0}]
[null,null,null,null,null,null,null,null,null,null,null,null,null,null,null,null,null,null,null,null,null,null,null,null,null,null,null,null,null,null,89,{"$f":"$J$36","v":0}]
[null,null,null,null,null,null,null,null,null,null,null,null,null,null,null,null,null,null,null,null,null,null,null,null,null,null,null,null,null,null,90,{"$f":"$U$36","v":0}]
[null,null,null,null,null,null,null,null,null,null,null,null,null,null,null,null,null,null,null,null,null,null,null,null,null,null,null,null,null,null,91,{"$f":"H37","v":0}]
[null,null,null,null,null,null,null,null,null,null,null,null,null,null,null,null,null,null,null,null,null,null,null,null,null,null,null,null,null,null,92,{"$f":"J37","v":0}]
[null,null,null,null,null,null,null,null,null,null,null,null,null,null,null,null,null,null,null,null,null,null,null,null,null,null,null,null,null,null,93,{"$f":"J38","v":0}]
[null,null,null,null,null,null,null,null,null,null,null,null,null,null,null,null,null,null,null,null,null,null,null,null,null,null,null,null,null,null,94,{"$f":"C39","v":0}]
[null,null,null,null,null,null,null,null,null,null,null,null,null,null,null,null,null,null,null,null,null,null,null,null,null,null,null,null,null,null,95,{"$f":"G39","v":""}]
[null,null,null,null,null,null,null,null,null,null,null,null,null,null,null,null,null,null,null,null,null,null,null,null,null,null,null,null,null,null,96,{"$f":"H39","v":0}]
[null,null,null,null,null,null,null,null,null,null,null,null,null,null,null,null,null,null,null,null,null,null,null,null,null,null,null,null,null,null,97,{"$f":"J39","v":0}]
[null,null,null,null,null,null,null,null,null,null,null,null,null,null,null,null,null,null,null,null,null,null,null,null,null,null,null,null,null,null,98,{"$f":"L39","v":0}]
[null,null,null,null,null,null,null,null,null,null,null,null,null,null,null,null,null,null,null,null,null,null,null,null,null,null,null,null,null,null,99,{"$f":"N39","v":0}]
[null,null,null,null,null,null,null,null,null,null,null,null,null,null,null,null,null,null,null,null,null,null,null,null,null,null,null,null,null,null,100,{"$f":"Q39","v":0}]
[null,null,null,null,null,null,null,null,null,null,null,null,null,null,null,null,null,null,null,null,null,null,null,null,null,null,null,null,null,null,101,{"$f":"R39","v":0}]
[null,null,null,null,null,null,null,null,null,null,null,null,null,null,null,null,null,null,null,null,null,null,null,null,null,null,null,null,null,null,102,{"$f":"G40","v":""}]
[null,null,null,null,null,null,null,null,null,null,null,null,null,null,null,null,null,null,null,null,null,null,null,null,null,null,null,null,null,null,103,{"$f":"J40","v":0}]
[null,null,null,null,null,null,null,null,null,null,null,null,null,null,null,null,null,null,null,null,null,null,null,null,null,null,null,null,null,null,104,{"$f":"L40","v":0}]
[null,null,null,null,null,null,null,null,null,null,null,null,null,null,null,null,null,null,null,null,null,null,null,null,null,null,null,null,null,null,105,{"$f":"N40","v":0}]
[null,null,null,null,null,null,null,null,null,null,null,null,null,null,null,null,null,null,null,null,null,null,null,null,null,null,null,null,null,null,106,{"$f":"R40","v":0}]
[null,null,null,null,null,null,null,null,null,null,null,null,null,null,null,null,null,null,null,null,null,null,null,null,null,null,null,null,null,null,107,{"$f":"C50","v":""}]
[null,null,null,null,null,null,null,null,null,null,null,null,null,null,null,null,null,null,null,null,null,null,null,null,null,null,null,null,null,null,108,{"$f":"E50","v":0}]
[null,null,null,null,null,null,null,null,null,null,null,null,null,null,null,null,null,null,null,null,null,null,null,null,null,null,null,null,null,null,109,{"$f":"C51","v":""}]
[null,null,null,null,null,null,null,null,null,null,null,null,null,null,null,null,null,null,null,null,null,null,null,null,null,null,null,null,null,null,110,{"$f":"E51","v":0}]

{"sheet":"第1表(1)_旅客","index":9,"n_rows":116,"n_cols":32,"rows_kept":116,"cut":false,"hidden":true,"merged":[[46,11,46,12],[47,2,47,6],[47,7,47,8],[47,9,47,10],[48,2,48,6],[48,7,48,8],[48,9,48,10],[48,11,48,12],[45,2,45,6],[45,7,45,8],[45,9,45,10],[46,2,46,6],[46,7,46,8],[46,9,46,10],[41,11,41,12],[42,2,43,6],[42,7,43,8],[42,9,43,10],[44,2,44,6],[44,7,44,8],[44,9,44,10],[44,11,44,12],[39,2,39,4],[39,7,39,8],[40,2,40,6],[40,7,40,8],[40,9,40,10],[41,2,41,6],[41,7,41,8],[41,9,41,10],[36,13,36,14],[37,3,37,4],[37,7,37,8],[37,11,37,12],[37,13,37,14],[38,2,38,4],[33,7,33,8],[33,11,33,12],[34,2,37,2],[34,3,34,4],[35,3,35,4],[35,7,35,8],[35,11,35,12],[36,3,36,4],[36,11,36,12],[27,2,27,4],[27,7,27,8],[27,11,27,12],[28,2,33,2],[29,7,29,8],[29,11,29,12],[31,7,31,8],[31,11,31,12],[32,3,32,4],[33,3,33,4],[24,25,25,25],[24,26,25,26],[25,2,25,4],[25,7,25,8],[25,11,25,12],[26,2,26,4],[23,2,23,4],[23,7,23,8],[23,11,23,12],[24,2,24,4],[24,23,25,23],[24,24,25,24],[20,2,20,4],[20,23,21,26],[21,2,21,4],[21,7,21,8],[21,11,21,12],[22,2,22,4],[22,23,23,23],[22,24,23,24],[22,25,23,25],[22,26,23,26],[18,2,18,4],[18,23,19,23],[18,24,19,24],[18,25,19,25],[18,26,19,26],[19,2,19,4],[19,7,19,8],[19,11,19,12],[16,2,16,4],[16,23,17,23],[16,24,17,24],[16,25,17,25],[16,26,17,26],[17,2,17,4],[17,7,17,8],[17,11,17,12],[14,2,14,4],[14,23,15,23],[14,24,15,24],[14,25,15,25],[14,26,15,26],[15,2,15,4],[15,7,15,8],[15,11,15,12],[12,2,12,4],[12,23,13,23],[12,24,13,24],[12,25,13,25],[12,26,13,26],[13,2,13,4],[13,7,13,8],[13,11,13,12],[10,2,10,4],[10,23,11,23],[10,24,11,24],[10,25,11,25],[10,26,11,26],[11,2,11,4],[11,7,11,8],[11,11,11,12],[6,2,6,4],[7,2,7,4],[7,7,7,8],[7,11,7,12],[8,2,8,4],[8,23,9,26],[9,2,9,4],[9,7,9,8],[9,11,9,12],[3,19,5,19],[3,20,5,20],[4,7,4,10],[4,11,5,12],[4,13,5,14],[5,7,5,8],[5,9,5,10],[1,2,1,11],[3,2,5,4],[3,6,5,6],[3,7,3,14],[3,16,5,16],[3,17,5,17]]}
[1]
[{"$f":"SUM(T7:T33)","v":0},null,"第１表　エネルギーの使用量"]
[null,null,"１．エネルギー使用量及び連携省エネルギー措置を踏まえたエネルギー使用量等"]
[{"$f":"メニュー!A3","v":19},null,"エネルギーの種類",null,null,null,"単位","使用量",null,null,null,null,null,null,null,null,"CO2排出量\n（ｔ－CO2)","連携省エネルギー措置を踏まえたCO2排出量\n（ｔ－CO2)",null,"CO2排出量\n独自算出","連携省エネルギー措置を踏まえたCO2排出量\n独自算出"]
[{"$f":"Q41","v":0},null,null,null,null,null,null,{"$f":"メニュー!A4","v":"2022-01-01"},null,null,null,"エネルギー使用量熱量ＧJ",null,"連携省エネルギー措置を踏まえたエネルギー使用量熱量ＧJ"]
[{"$f":"Q43","v":0},null,null,null,null,null,null,"エネルギー使用量",null,"連携省エネルギー措置を踏まえたエネルギー使用量"]
[{"$f":"L44","v":0},null,"揮発油",null,null,"揮発油","ｋｌ",null,"ｋｌ",null,"ｋｌ",{"$f":"IF(H7=\"\",\"\",IF(ISERROR(VLOOKUP(F7,'係数（燃料）'!$C$3:$E$13,3,FALSE)),\"\",H7*VLOOKUP(F7,'係数（燃料）'!$C$3:$E$13,3,FALSE)))","v":""},"GJ",{"$f":"IF(J7=\"\",\"\",IF(ISERROR(VLOOKUP(F7,'係数（燃料）'!$C$3:$E$13,3,FALSE)),\"\",J7*VLOOKUP(F7,'係数（燃料）'!$C$3:$E$13,3,FALSE)))","v":""},"GJ",null,{"$f":"IF(T7<>\"\",T7,IF(L7=\"\",\"\",IF(ISERROR(VLOOKUP(F7,'係数（燃料）'!$C$3:$M$13,11,FALSE)),\"\",L7*VLOOKUP(F7,'係数（燃料）'!$C$3:$M$13,11,FALSE))))","v":""},{"$f":"IF(U7<>\"\",U7,IF(N7=\"\",\"\",IF(ISERROR(VLOOKUP(F7,'係数（燃料）'!$C$3:$M$13,11,FALSE)),\"\",N7*VLOOKUP(F7,'係数（燃料）'!$C$3:$M$13,11,FALSE))))","v":""},null,null,null,null,null,null,null,null,"（印刷範囲外）",null,null,null,1,{"$f":"$H$7","v":0}]
[null,null,"連携分",null,null,"揮発油","ｋｌ",null,null,null,"ｋｌ",null,null,{"$f":"IF(J8=\"\",\"\",IF(ISERROR(VLOOKUP(F8,'係数（燃料）'!$C$3:$E$13,3,FALSE)),\"\",J8*VLOOKUP(F8,'係数（燃料）'!$C$3:$E$13,3,FALSE)))","v":""},"GJ",null,null,{"$f":"IF(U8<>\"\",U8,IF(N8=\"\",\"\",IF(ISERROR(VLOOKUP(F8,'係数（燃料）'!$C$3:$M$13,11,FALSE)),\"\",N8*VLOOKUP(F8,'係数（燃料）'!$C$3:$M$13,11,FALSE))))","v":""},null,null,null,null,null,null,null,null,null,null,null,null,2,{"$f":"$J$7","v":0}]
[{"$f":"L31","v":0},null,"ジェット燃料油",null,null,"ジェット燃料油","ｋｌ",null,"ｋｌ",null,"ｋｌ",{"$f":"IF(H9=\"\",\"\",IF(ISERROR(VLOOKUP(F9,'係数（燃料）'!$C$3:$E$13,3,FALSE)),\"\",H9*VLOOKUP(F9,'係数（燃料）'!$C$3:$E$13,3,FALSE)))","v":""},"GJ",{"$f":"IF(J9=\"\",\"\",IF(ISERROR(VLOOKUP(F9,'係数（燃料）'!$C$3:$E$13,3,FALSE)),\"\",J9*VLOOKUP(F9,'係数（燃料）'!$C$3:$E$13,3,FALSE)))","v":""},"GJ",null,{"$f":"IF(T9<>\"\",T9,IF(L9=\"\",\"\",IF(ISERROR(VLOOKUP(F9,'係数（燃料）'!$C$3:$M$13,11,FALSE)),\"\",L9*VLOOKUP(F9,'係数（燃料）'!$C$3:$M$13,11,FALSE))))","v":""},{"$f":"IF(U9<>\"\",U9,IF(N9=\"\",\"\",IF(ISERROR(VLOOKUP(F9,'係数（燃料）'!$C$3:$M$13,11,FALSE)),\"\",N9*VLOOKUP(F9,'係数（燃料）'!$C$3:$M$13,11,FALSE))))","v":""},null,null,null,null,null,"t→kl換算  　　ｔ を入力してください",null,null,null,null,null,null,3,{"$f":"$T$7","v":0}]
[null,null,"連携分",null,null,"ジェット燃料油","ｋｌ",null,null,null,"ｋｌ",null,null,{"$f":"IF(J10=\"\",\"\",IF(ISERROR(VLOOKUP(F10,'係数（燃料）'!$C$3:$E$13,3,FALSE)),\"\",J10*VLOOKUP(F10,'係数（燃料）'!$C$3:$E$13,3,FALSE)))","v":""},"GJ",null,null,{"$f":"IF(U10<>\"\",U10,IF(N10=\"\",\"\",IF(ISERROR(VLOOKUP(F10,'係数（燃料）'!$C$3:$M$13,11,FALSE)),\"\",N10*VLOOKUP(F10,'係数（燃料）'!$C$3:$M$13,11,FALSE))))","v":""},null,null,null,null,null,null,null,null,null,null,null,null,4,{"$f":"$U$7","v":0}]
[null,null,"軽油",null,null,"軽油","ｋｌ",null,"ｋｌ",null,"ｋｌ",{"$f":"IF(H11=\"\",\"\",IF(ISERROR(VLOOKUP(F11,'係数（燃料）'!$C$3:$E$13,3,FALSE)),\"\",H11*VLOOKUP(F11,'係数（燃料）'!$C$3:$E$13,3,FALSE)))","v":""},"GJ",{"$f":"IF(J11=\"\",\"\",IF(ISERROR(VLOOKUP(F11,'係数（燃料）'!$C$3:$E$13,3,FALSE)),\"\",J11*VLOOKUP(F11,'係数（燃料）'!$C$3:$E$13,3,FALSE)))","v":""},"GJ",null,{"$f":"IF(T11<>\"\",T11,IF(L11=\"\",\"\",IF(ISERROR(VLOOKUP(F11,'係数（燃料）'!$C$3:$M$13,11,FALSE)),\"\",L11*VLOOKUP(F11,'係数（燃料）'!$C$3:$M$13,11,FALSE))))","v":""},{"$f":"IF(U11<>\"\",U11,IF(N11=\"\",\"\",IF(ISERROR(VLOOKUP(F11,'係数（燃料）'!$C$3:$M$13,11,FALSE)),\"\",N11*VLOOKUP(F11,'係数（燃料）'!$C$3:$M$13,11,FALSE))))","v":""},null,null,null,null,null,"種類","係数","ｔ","kl",null,null,null,5,{"$f":"$J$8","v":0}]
[null,null,"連携分",null,null,"軽油","ｋｌ",null,null,null,"ｋｌ",null,null,{"$f":"IF(J12=\"\",\"\",IF(ISERROR(VLOOKUP(F12,'係数（燃料）'!$C$3:$E$13,3,FALSE)),\"\",J12*VLOOKUP(F12,'係数（燃料）'!$C$3:$E$13,3,FALSE)))","v":""},"GJ",null,null,{"$f":"IF(U12<>\"\",U12,IF(N12=\"\",\"\",IF(ISERROR(VLOOKUP(F12,'係数（燃料）'!$C$3:$M$13,11,FALSE)),\"\",N12*VLOOKUP(F12,'係数（燃料）'!$C$3:$M$13,11,FALSE))))","v":""},null,null,null,null,null,null,null,null,null,null,null,null,6,{"$f":"$U$8","v":0}]
[null,null,"Ａ重油",null,null,"Ａ重油","ｋｌ",null,"ｋｌ",null,"ｋｌ",{"$f":"IF(H13=\"\",\"\",IF(ISERROR(VLOOKUP(F13,'係数（燃料）'!$C$3:$E$13,3,FALSE)),\"\",H13*VLOOKUP(F13,'係数（燃料）'!$C$3:$E$13,3,FALSE)))","v":""},"GJ",{"$f":"IF(J13=\"\",\"\",IF(ISERROR(VLOOKUP(F13,'係数（燃料）'!$C$3:$E$13,3,FALSE)),\"\",J13*VLOOKUP(F13,'係数（燃料）'!$C$3:$E$13,3,FALSE)))","v":""},"GJ",null,{"$f":"IF(T13<>\"\",T13,IF(L13=\"\",\"\",IF(ISERROR(VLOOKUP(F13,'係数（燃料）'!$C$3:$M$13,11,FALSE)),\"\",L13*VLOOKUP(F13,'係数（燃料）'!$C$3:$M$13,11,FALSE))))","v":""},{"$f":"IF(U13<>\"\",U13,IF(N13=\"\",\"\",IF(ISERROR(VLOOKUP(F13,'係数（燃料）'!$C$3:$M$13,11,FALSE)),\"\",N13*VLOOKUP(F13,'係数（燃料）'!$C$3:$M$13,11,FALSE))))","v":""},null,null,null,null,null,"A重油",{"$f":"VLOOKUP(X13,'係数（燃料）'!$B$21:$C$24,2,FALSE)","v":1.2048192771084338},null,{"$f":"IF(Z13<>\"\",Y13*Z13,\"\")","v":""},null,null,null,7,{"$f":"$H$9","v":0}]
[null,null,"連携分",null,null,"Ａ重油","ｋｌ",null,null,null,"ｋｌ",null,null,{"$f":"IF(J14=\"\",\"\",IF(ISERROR(VLOOKUP(F14,'係数（燃料）'!$C$3:$E$13,3,FALSE)),\"\",J14*VLOOKUP(F14,'係数（燃料）'!$C$3:$E$13,3,FALSE)))","v":""},"GJ",null,null,{"$f":"IF(U14<>\"\",U14,IF(N14=\"\",\"\",IF(ISERROR(VLOOKUP(F14,'係数（燃料）'!$C$3:$M$13,11,FALSE)),\"\",N14*VLOOKUP(F14,'係数（燃料）'!$C$3:$M$13,11,FALSE))))","v":""},null,null,null,null,null,null,null,null,null,null,null,null,8,{"$f":"$J$9","v":0}]
[null,null,"Ｂ・Ｃ重油",null,null,"Ｂ・Ｃ重油","ｋｌ",null,"ｋｌ",null,"ｋｌ",{"$f":"IF(H15=\"\",\"\",IF(ISERROR(VLOOKUP(F15,'係数（燃料）'!$C$3:$E$13,3,FALSE)),\"\",H15*VLOOKUP(F15,'係数（燃料）'!$C$3:$E$13,3,FALSE)))","v":""},"GJ",{"$f":"IF(J15=\"\",\"\",IF(ISERROR(VLOOKUP(F15,'係数（燃料）'!$C$3:$E$13,3,FALSE)),\"\",J15*VLOOKUP(F15,'係数（燃料）'!$C$3:$E$13,3,FALSE)))","v":""},"GJ",null,{"$f":"IF(T15<>\"\",T15,IF(L15=\"\",\"\",IF(ISERROR(VLOOKUP(F15,'係数（燃料）'!$C$3:$M$13,11,FALSE)),\"\",L15*VLOOKUP(F15,'係数（燃料）'!$C$3:$M$13,11,FALSE))))","v":""},{"$f":"IF(U15<>\"\",U15,IF(N15=\"\",\"\",IF(ISERROR(VLOOKUP(F15,'係数（燃料）'!$C$3:$M$13,11,FALSE)),\"\",N15*VLOOKUP(F15,'係数（燃料）'!$C$3:$M$13,11,FALSE))))","v":""},null,null,null,null,null,"Ｂ・Ｃ重油",null,null,{"$f":"IF(AND(AA17=\"\",AA19=\"\"),\"\",IF(ISNUMBER(AA17),AA17,0)+IF(ISNUMBER(AA19),AA19,0))","v":""},null,null,null,9,{"$f":"$T$9","v":0}]
[null,null,"連携分",null,null,"Ｂ・Ｃ重油","ｋｌ",null,null,null,"ｋｌ",null,null,{"$f":"IF(J16=\"\",\"\",IF(ISERROR(VLOOKUP(F16,'係数（燃料）'!$C$3:$E$13,3,FALSE)),\"\",J16*VLOOKUP(F16,'係数（燃料）'!$C$3:$E$13,3,FALSE)))","v":""},"GJ",null,null,{"$f":"IF(U16<>\"\",U16,IF(N16=\"\",\"\",IF(ISERROR(VLOOKUP(F16,'係数（燃料）'!$C$3:$M$13,11,FALSE)),\"\",N16*VLOOKUP(F16,'係数（燃料）'!$C$3:$M$13,11,FALSE))))","v":""},null,null,null,null,null,null,null,null,null,null,null,null,10,{"$f":"$U$9","v":0}]
[null,null,"液化石油ガス(ＬＰＧ)",null,null,"液化石油ガス(ＬＰＧ)","ｔ",null,"ｔ",null,"ｔ",{"$f":"IF(H17=\"\",\"\",IF(ISERROR(VLOOKUP(F17,'係数（燃料）'!$C$3:$E$13,3,FALSE)),\"\",H17*VLOOKUP(F17,'係数（燃料）'!$C$3:$E$13,3,FALSE)))","v":""},"GJ",{"$f":"IF(J17=\"\",\"\",IF(ISERROR(VLOOKUP(F17,'係数（燃料）'!$C$3:$E$13,3,FALSE)),\"\",J17*VLOOKUP(F17,'係数（燃料）'!$C$3:$E$13,3,FALSE)))","v":""},"GJ",null,{"$f":"IF(T17<>\"\",T17,IF(L17=\"\",\"\",IF(ISERROR(VLOOKUP(F17,'係数（燃料）'!$C$3:$M$13,11,FALSE)),\"\",L17*VLOOKUP(F17,'係数（燃料）'!$C$3:$M$13,11,FALSE))))","v":""},{"$f":"IF(U17<>\"\",U17,IF(N17=\"\",\"\",IF(ISERROR(VLOOKUP(F17,'係数（燃料）'!$C$3:$M$13,11,FALSE)),\"\",N17*VLOOKUP(F17,'係数（燃料）'!$C$3:$M$13,11,FALSE))))","v":""},null,null,null,null,null,"B重油",{"$f":"VLOOKUP(X17,'係数（燃料）'!$B$21:$C$24,2,FALSE)","v":1.1627906976744187},null,{"$f":"IF(Z17<>\"\",Y17*Z17,\"\")","v":""},null,null,null,11,{"$f":"$J$10","v":0}]
[null,null,"連携分",null,null,"液化石油ガス(ＬＰＧ)","ｔ",null,null,null,"ｔ",null,null,{"$f":"IF(J18=\"\",\"\",IF(ISERROR(VLOOKUP(F18,'係数（燃料）'!$C$3:$E$13,3,FALSE)),\"\",J18*VLOOKUP(F18,'係数（燃料）'!$C$3:$E$13,3,FALSE)))","v":""},"GJ",null,null,{"$f":"IF(U18<>\"\",U18,IF(N18=\"\",\"\",IF(ISERROR(VLOOKUP(F18,'係数（燃料）'!$C$3:$M$13,11,FALSE)),\"\",N18*VLOOKUP(F18,'係数（燃料）'!$C$3:$M$13,11,FALSE))))","v":""},null,null,null,null,null,null,null,null,null,null,null,null,12,{"$f":"$U$10","v":0}]
[null,null,"液化天然ガス(ＬＮＧ)",null,null,"液化天然ガス(ＬＮＧ)","ｔ",null,"ｔ",null,"ｔ",{"$f":"IF(H19=\"\",\"\",IF(ISERROR(VLOOKUP(F19,'係数（燃料）'!$C$3:$E$13,3,FALSE)),\"\",H19*VLOOKUP(F19,'係数（燃料）'!$C$3:$E$13,3,FALSE)))","v":""},"GJ",{"$f":"IF(J19=\"\",\"\",IF(ISERROR(VLOOKUP(F19,'係数（燃料）'!$C$3:$E$13,3,FALSE)),\"\",J19*VLOOKUP(F19,'係数（燃料）'!$C$3:$E$13,3,FALSE)))","v":""},"GJ",null,{"$f":"IF(T19<>\"\",T19,IF(L19=\"\",\"\",IF(ISERROR(VLOOKUP(F19,'係数（燃料）'!$C$3:$M$13,11,FALSE)),\"\",L19*VLOOKUP(F19,'係数（燃料）'!$C$3:$M$13,11,FALSE))))","v":""},{"$f":"IF(U19<>\"\",U19,IF(N19=\"\",\"\",IF(ISERROR(VLOOKUP(F19,'係数（燃料）'!$C$3:$M$13,11,FALSE)),\"\",N19*VLOOKUP(F19,'係数（燃料）'!$C$3:$M$13,11,FALSE))))","v":""},null,null,null,null,null,"C重油",{"$f":"VLOOKUP(X19,'係数（燃料）'!$B$21:$C$24,2,FALSE)","v":1.0638297872340425},null,{"$f":"IF(Z19<>\"\",Y19*Z19,\"\")","v":""},null,null,null,13,{"$f":"$H$11","v":0}]
[null,null,"連携分",null,null,"液化天然ガス(ＬＮＧ)","ｔ",null,null,null,"ｔ",null,null,{"$f":"IF(J20=\"\",\"\",IF(ISERROR(VLOOKUP(F20,'係数（燃料）'!$C$3:$E$13,3,FALSE)),\"\",J20*VLOOKUP(F20,'係数（燃料）'!$C$3:$E$13,3,FALSE)))","v":""},"GJ",null,null,{"$f":"IF(U20<>\"\",U20,IF(N20=\"\",\"\",IF(ISERROR(VLOOKUP(F20,'係数（燃料）'!$C$3:$M$13,11,FALSE)),\"\",N20*VLOOKUP(F20,'係数（燃料）'!$C$3:$M$13,11,FALSE))))","v":""},null,null,null,null,null,null,null,null,null,null,null,null,14,{"$f":"$J$11","v":0}]
[null,null,"石炭（原料炭）",null,null,"石炭（原料炭）",null,null,"ｔ",null,"ｔ",{"$f":"IF(H21=\"\",\"\",IF(ISERROR(VLOOKUP(F21,'係数（燃料）'!$C$3:$E$13,3,FALSE)),\"\",H21*VLOOKUP(F21,'係数（燃料）'!$C$3:$E$13,3,FALSE)))","v":""},"GJ",{"$f":"IF(J21=\"\",\"\",IF(ISERROR(VLOOKUP(F21,'係数（燃料）'!$C$3:$E$13,3,FALSE)),\"\",J21*VLOOKUP(F21,'係数（燃料）'!$C$3:$E$13,3,FALSE)))","v":""},"GJ",null,{"$f":"IF(T21<>\"\",T21,IF(L21=\"\",\"\",IF(ISERROR(VLOOKUP(F21,'係数（燃料）'!$C$3:$M$13,11,FALSE)),\"\",L21*VLOOKUP(F21,'係数（燃料）'!$C$3:$M$13,11,FALSE))))","v":""},{"$f":"IF(U21<>\"\",U21,IF(N21=\"\",\"\",IF(ISERROR(VLOOKUP(F21,'係数（燃料）'!$C$3:$M$13,11,FALSE)),\"\",N21*VLOOKUP(F21,'係数（燃料）'!$C$3:$M$13,11,FALSE))))","v":""},null,null,null,null,null,"kl→t換算  　　kl を入力してください",null,null,null,null,null,null,15,{"$f":"$T$11","v":0}]
[null,null,"連携分",null,null,"石炭（原料炭）","ｔ",null,null,null,"ｔ",null,null,{"$f":"IF(J22=\"\",\"\",IF(ISERROR(VLOOKUP(F22,'係数（燃料）'!$C$3:$E$13,3,FALSE)),\"\",J22*VLOOKUP(F22,'係数（燃料）'!$C$3:$E$13,3,FALSE)))","v":""},"GJ",null,null,{"$f":"IF(U22<>\"\",U22,IF(N22=\"\",\"\",IF(ISERROR(VLOOKUP(F22,'係数（燃料）'!$C$3:$M$13,11,FALSE)),\"\",N22*VLOOKUP(F22,'係数（燃料）'!$C$3:$M$13,11,FALSE))))","v":""},null,null,null,null,null,null,null,null,null,null,null,null,16,{"$f":"$U$11","v":0}]
[null,null,"石炭（一般炭）",null,null,"石炭（一般炭）","ｔ",null,"ｔ",null,"ｔ",{"$f":"IF(H23=\"\",\"\",IF(ISERROR(VLOOKUP(F23,'係数（燃料）'!$C$3:$E$13,3,FALSE)),\"\",H23*VLOOKUP(F23,'係数（燃料）'!$C$3:$E$13,3,FALSE)))","v":""},"GJ",{"$f":"IF(J23=\"\",\"\",IF(ISERROR(VLOOKUP(F23,'係数（燃料）'!$C$3:$E$13,3,FALSE)),\"\",J23*VLOOKUP(F23,'係数（燃料）'!$C$3:$E$13,3,FALSE)))","v":""},"GJ",null,{"$f":"IF(T23<>\"\",T23,IF(L23=\"\",\"\",IF(ISERROR(VLOOKUP(F23,'係数（燃料）'!$C$3:$M$13,11,FALSE)),\"\",L23*VLOOKUP(F23,'係数（燃料）'!$C$3:$M$13,11,FALSE))))","v":""},{"$f":"IF(U23<>\"\",U23,IF(N23=\"\",\"\",IF(ISERROR(VLOOKUP(F23,'係数（燃料）'!$C$3:$M$13,11,FALSE)),\"\",N23*VLOOKUP(F23,'係数（燃料）'!$C$3:$M$13,11,FALSE))))","v":""},null,null,null,null,null,"種類","係数","kl","ｔ",null,null,null,17,{"$f":"$J$12","v":0}]
[null,null,"連携分",null,null,"石炭（一般炭）","ｔ",null,null,null,"ｔ",null,null,{"$f":"IF(J24=\"\",\"\",IF(ISERROR(VLOOKUP(F24,'係数（燃料）'!$C$3:$E$13,3,FALSE)),\"\",J24*VLOOKUP(F24,'係数（燃料）'!$C$3:$E$13,3,FALSE)))","v":""},"GJ",null,null,{"$f":"IF(U24<>\"\",U24,IF(N24=\"\",\"\",IF(ISERROR(VLOOKUP(F24,'係数（燃料）'!$C$3:$M$13,11,FALSE)),\"\",N24*VLOOKUP(F24,'係数（燃料）'!$C$3:$M$13,11,FALSE))))","v":""},null,null,null,null,null,null,null,null,null,null,null,null,18,{"$f":"$U$12","v":0}]
[null,null,"石炭（無煙炭）",null,null,"石炭（無煙炭）","ｔ",null,"ｔ",null,"ｔ",{"$f":"IF(H25=\"\",\"\",IF(ISERROR(VLOOKUP(F25,'係数（燃料）'!$C$3:$E$13,3,FALSE)),\"\",H25*VLOOKUP(F25,'係数（燃料）'!$C$3:$E$13,3,FALSE)))","v":""},"GJ",{"$f":"IF(J25=\"\",\"\",IF(ISERROR(VLOOKUP(F25,'係数（燃料）'!$C$3:$E$13,3,FALSE)),\"\",J25*VLOOKUP(F25,'係数（燃料）'!$C$3:$E$13,3,FALSE)))","v":""},"GJ",null,{"$f":"IF(T25<>\"\",T25,IF(L25=\"\",\"\",IF(ISERROR(VLOOKUP(F25,'係数（燃料）'!$C$3:$M$13,11,FALSE)),\"\",L25*VLOOKUP(F25,'係数（燃料）'!$C$3:$M$13,11,FALSE))))","v":""},{"$f":"IF(U25<>\"\",U25,IF(N25=\"\",\"\",IF(ISERROR(VLOOKUP(F25,'係数（燃料）'!$C$3:$M$13,11,FALSE)),\"\",N25*VLOOKUP(F25,'係数（燃料）'!$C$3:$M$13,11,FALSE))))","v":""},null,null,null,null,null,"LPG",{"$f":"VLOOKUP(X25,'係数（燃料）'!$B$21:$D$24,3,FALSE)","v":0.56000000000000005},null,{"$f":"IF(Z25<>\"\",Y25*Z25,\"\")","v":""},null,null,null,19,{"$f":"$H$13","v":0}]
[null,null,"連携分",null,null,"石炭（無煙炭）","ｔ",null,null,null,"ｔ",null,null,{"$f":"IF(J26=\"\",\"\",IF(ISERROR(VLOOKUP(F26,'係数（燃料）'!$C$3:$E$13,3,FALSE)),\"\",J26*VLOOKUP(F26,'係数（燃料）'!$C$3:$E$13,3,FALSE)))","v":""},"GJ",null,null,{"$f":"IF(U26<>\"\",U26,IF(N26=\"\",\"\",IF(ISERROR(VLOOKUP(F26,'係数（燃料）'!$C$3:$M$13,11,FALSE)),\"\",N26*VLOOKUP(F26,'係数（燃料）'!$C$3:$M$13,11,FALSE))))","v":""},null,null,null,null,null,null,null,null,null,null,null,null,20,{"$f":"$J$13","v":0}]
[{"$f":"IF(E50<>\"\",E50,IF(ISERROR(VLOOKUP(F27,'係数（燃料）'!$C$3:$E$13,3,FALSE)),\"\",VLOOKUP(F27,'係数（燃料）'!$C$3:$E$13,3,FALSE)))","v":0},null,"都市ガス（CNGを含む。）",null,null,"都市ガス","千m３",null,"千m３",null,"千m３",{"$f":"IF(H27=\"\",\"\",H27*$E50)","v":""},"GJ",{"$f":"IF(J27=\"\",\"\",J27*$E50)","v":""},"GJ",null,{"$f":"IF(T27<>\"\",T27,IF(L27=\"\",\"\",IF(ISERROR(VLOOKUP(F27,'係数（燃料）'!$C$3:$M$13,11,FALSE)),\"\",L27*VLOOKUP(F27,'係数（燃料）'!$C$3:$M$13,11,FALSE))))","v":""},{"$f":"IF(U27<>\"\",U27,IF(N27=\"\",\"\",IF(ISERROR(VLOOKUP(F27,'係数（燃料）'!$C$3:$M$13,11,FALSE)),\"\",N27*VLOOKUP(F27,'係数（燃料）'!$C$3:$M$13,11,FALSE))))","v":""},null,null,null,null,null,null,null,null,"青で囲んでいる数字を転記してください",null,null,null,21,{"$f":"$T$13","v":0}]
[{"$f":"IF(E51<>\"\",E51,IF(ISERROR(VLOOKUP(F28,'係数（燃料）'!$C$3:$E$13,3,FALSE)),\"\",VLOOKUP(F28,'係数（燃料）'!$C$3:$E$13,3,FALSE)))","v":0},null,"連携分",null,null,"都市ガス","千m３",null,null,null,"千m３",null,null,{"$f":"IF(J28=\"\",\"\",J28*$E51)","v":""},"GJ",null,null,{"$f":"IF(U28<>\"\",U28,IF(N28=\"\",\"\",IF(ISERROR(VLOOKUP(F28,'係数（燃料）'!$C$3:$M$13,11,FALSE)),\"\",N28*VLOOKUP(F28,'係数（燃料）'!$C$3:$M$13,11,FALSE))))","v":""},null,null,null,null,null,null,null,null,null,null,null,null,22,{"$f":"$U$13","v":0}]
[null,null,"電気事業者",null,"昼間買電","昼間買電","千ｋＷｈ",{"$f":"'入力補助(電気)_旅客'!P52","v":0},"千ｋＷｈ",{"$f":"'入力補助(電気)_旅客_連携(自己分)'!P52","v":0},"千ｋＷｈ",{"$f":"'入力補助(電気)_旅客'!R52","v":0},"GJ",{"$f":"'入力補助(電気)_旅客_連携(自己分)'!R52","v":0},"GJ",null,{"$f":"'入力補助(電気)_旅客'!T52","v":0},{"$f":"'入力補助(電気)_旅客_連携(自己分)'!T52","v":0},null,null,null,null,null,null,null,null,null,null,null,null,23,{"$f":"$J$14","v":0}]
[null,null,null,null,"連携分","昼間買電","千ｋＷｈ",null,null,{"$f":"'入力補助(電気)_旅客_連携(連携分)'!P52","v":0},"千ｋＷｈ",null,null,{"$f":"'入力補助(電気)_旅客_連携(連携分)'!R52","v":0},"GJ",null,null,{"$f":"'入力補助(電気)_旅客_連携(自己分)'!T52","v":0},null,null,null,null,null,null,null,null,null,null,null,null,24,{"$f":"$U$14","v":0}]
[null,null,null,null,"夏季・冬季における\n電気需要平準化時間帯","電気需要平準化時間帯","千ｋＷｈ",{"$f":"'入力補助(電気)_旅客'!Q52","v":0},"千ｋＷｈ",{"$f":"'入力補助(電気)_旅客_連携(自己分)'!Q52","v":0},"千ｋＷｈ",{"$f":"'入力補助(電気)_旅客'!S52","v":0},"GJ",{"$f":"'入力補助(電気)_旅客_連携(自己分)'!S52","v":0},"GJ",null,{"$f":"'入力補助(電気)_旅客'!U52","v":0},{"$f":"'入力補助(電気)_旅客_連携(自己分)'!U52","v":0},null,null,null,null,null,null,null,null,null,null,null,null,25,{"$f":"$H$15","v":0}]
[null,null,null,null,"連携分","電気需要平準化時間帯","千ｋＷｈ",null,null,{"$f":"'入力補助(電気)_旅客_連携(連携分)'!Q52","v":0},"千ｋＷｈ",null,null,{"$f":"'入力補助(電気)_旅客_連携(連携分)'!S52","v":0},"GJ",null,null,{"$f":"'入力補助(電気)_旅客_連携(自己分)'!U52","v":0},null,null,null,null,null,null,null,null,null,null,null,null,26,{"$f":"$J$15","v":0}]
[null,null,null,"夜間買電",null,"夜間買電","千ｋＷｈ",{"$f":"'入力補助(電気)_旅客'!P53","v":0},"千ｋＷｈ",{"$f":"'入力補助(電気)_旅客_連携(自己分)'!P53","v":0},"千ｋＷｈ",{"$f":"'入力補助(電気)_旅客'!R53","v":0},"GJ",{"$f":"'入力補助(電気)_旅客_連携(自己分)'!R53","v":0},"GJ",null,{"$f":"'入力補助(電気)_旅客'!T53","v":0},{"$f":"'入力補助(電気)_旅客_連携(自己分)'!T53","v":0},null,null,null,null,null,null,null,null,null,null,null,null,27,{"$f":"$T$15","v":0}]
[null,null,null,"連携分",null,"夜間買電","千ｋＷｈ",null,null,{"$f":"'入力補助(電気)_旅客_連携(連携分)'!P53","v":0},"千ｋＷｈ",null,null,{"$f":"'入力補助(電気)_旅客_連携(連携分)'!R53","v":0},"GJ",null,null,{"$f":"'入力補助(電気)_旅客_連携(自己分)'!T53","v":0},null,null,null,null,null,null,null,null,null,null,null,null,28,{"$f":"$U$15","v":0}]
[null,null,"その他","上記以外の買電",null,"上記以外の買電","千ｋＷｈ",{"$f":"'入力補助(電気)_旅客'!P55","v":0},"千ｋＷｈ",{"$f":"'入力補助(電気)_旅客_連携(自己分)'!P55","v":0},"千ｋＷｈ",{"$f":"'入力補助(電気)_旅客'!R55","v":"0"},"GJ",{"$f":"'入力補助(電気)_旅客_連携(自己分)'!R55","v":"0"},"GJ",null,{"$f":"'入力補助(電気)_旅客'!T55","v":0},{"$f":"'入力補助(電気)_旅客_連携(自己分)'!T55","v":0},null,null,null,null,null,null,null,null,null,null,null,null,29,{"$f":"$J$16","v":0}]
[null,null,null,"連携分",null,"上記以外の買電","千ｋＷｈ",null,null,{"$f":"'入力補助(電気)_旅客_連携(連携分)'!P55","v":0},"千ｋＷｈ",null,null,{"$f":"'入力補助(電気)_旅客_連携(連携分)'!R55","v":"0"},"GJ",null,null,{"$f":"'入力補助(電気)_旅客_連携(自己分)'!T55","v":0},null,null,null,null,null,null,null,null,null,null,null,null,30,{"$f":"$U$16","v":0}]
[null,null,null,"自家発電",null,"自家発電","千ｋＷｈ",null,"千ｋＷｈ",null,"千ｋＷｈ",null,null,null,null,null,null,null,null,null,null,null,null,null,null,null,null,null,null,null,31,{"$f":"$H$17","v":0}]
[null,null,null,"連携分",null,"自家発電","千ｋＷｈ",null,null,null,"千ｋＷｈ",null,null,null,null,null,null,null,null,null,null,null,null,null,null,null,null,null,null,null,32,{"$f":"$J$17","v":0}]
[null,null,null,null,null,null,"",null,{"$f":"IF(G39<>\"\",G39,\"\")","v":""},null,{"$f":"IF(G39<>\"\",I39,\"\")","v":""},null,"GJ",null,"GJ",null,null,null,null,null,null,null,null,null,null,null,null,null,null,null,33,{"$f":"$T$17","v":0}]
[null,null,"連携分",null,null,null,"",null,null,null,{"$f":"IF(G40<>\"\",I40,\"\")","v":""},null,"GJ",null,"GJ",null,null,null,null,null,null,null,null,null,null,null,null,null,null,null,34,{"$f":"$U$17","v":0}]
[null,null,"合　計ＧJ",null,null,null,null,null,null,null,null,{"$f":"SUM(L7:L30)+SUM(L33:L40)","v":0},"GJ",{"$f":"SUM(N7:N30)+SUM(N33:N40)","v":0},"GJ",null,{"$f":"SUM(Q7:Q30)+SUM(Q33:Q40)","v":0},{"$f":"SUM(R7:R30)+SUM(R33:R40)","v":0},null,null,null,null,null,null,null,null,null,null,null,null,35,{"$f":"$J$18","v":0}]
[null,null,"連携分",null,null,null,null,null,null,null,null,null,null,{"$f":"SUM(N8,N10,N12,N14,N16,N18,N20,N22,N24,N26,N28,N30,N34,N36,N38,N40)","v":0},"GJ",null,null,{"$f":"SUM(R8,R10,R12,R14,R16,R18,R20,R22,R24,R26,R28,R30,R32,R34,R36,R38,R40)","v":0},null,null,null,null,null,null,null,null,null,null,null,null,36,{"$f":"$U$18","v":0}]
[null,null,"原油換算ｋｌ",null,null,null,null,null,null,null,null,"㋑－１",null,"㋑－２",null,null,null,null,null,null,null,null,null,null,null,null,null,null,null,null,37,{"$f":"$H$19","v":0}]
[null,null,null,null,null,null,null,null,null,null,null,{"$f":"L41/10*0.258","v":0},"kl",{"$f":"N41/10*0.258","v":0},"kl",null,null,null,null,null,null,null,null,null,null,null,null,null,null,null,38,{"$f":"$J$19","v":0}]
[null,null,"連携分",null,null,null,null,null,null,null,null,null,null,{"$f":"N42/10*0.258","v":0},"kl",null,null,null,null,null,null,null,null,null,null,null,null,null,null,null,39,{"$f":"$T$19","v":0}]
[null,null,"前年度原油換算ｋｌ",null,null,null,null,null,null,null,null,{"$f":"IF($A$4>3, INDIRECT(\"保存用!R28C\"&$A$4-1,FALSE), 0)","v":0},"kl",{"$f":"IF($A$4>3, INDIRECT(\"保存用!R29C\"&$A$4-1,FALSE), 0)","v":0},"kl",null,null,null,null,null,null,null,null,null,null,null,null,null,null,null,40,{"$f":"$U$19","v":0}]
[null,null,"連携分",null,null,null,null,null,null,null,null,null,null,{"$f":"IF($A$4>3, INDIRECT(\"保存用!R30C\"&$A$4-1,FALSE), 0)","v":0},"kl",null,null,null,null,null,null,null,null,null,null,null,null,null,null,null,41,{"$f":"$J$20","v":0}]
[null,null,"対前年度比（％）",null,null,null,null,null,null,null,null,{"$f":"IF(OR($A$4=\"\",$A$4<4,L44=\"\"),\"-\",IF(ISERR(L44/$AD$54),\"\",L44/$AD$54))","v":""},null,{"$f":"IF(OR($A$4=\"\",$A$4<4,N44=\"\"),\"-\",IF(ISERR(N44/$AD$55),\"\",N44/$AD$55))","v":""},null,null,null,null,null,null,null,null,null,null,null,null,null,null,null,null,42,{"$f":"$U$20","v":0}]
[null,null,"連携分",null,null,null,null,null,null,null,null,null,null,{"$f":"IF(OR($A$4=\"\",$A$4<4,N45=\"\"),\"-\",IF(ISERR(N45/$AD$56),\"\",N45/$AD$56))","v":""},null,null,null,null,null,null,null,null,null,null,null,null,null,null,null,null,43,{"$f":"$H$21","v":0}]
[null,null,"","",null,null,"（自己で使用した分）",null,null,null,null,null,null,null,null,null,null,null,null,null,null,null,null,null,null,null,null,null,null,null,44,{"$f":"$J$21","v":0}]
[null,null,"","",null,null,"（連携事業者で使用した分）",null,null,null,null,null,null,null,null,null,null,null,null,null,null,null,null,null,null,null,null,null,null,null,45,{"$f":"$T$21","v":0}]
[null,null,null,null,null,null,null,null,null,null,null,null,null,null,null,null,null,null,null,null,null,null,null,null,null,null,null,null,null,null,46,{"$f":"$U$21","v":0}]
[null,null,null,null,null,null,null,null,null,null,null,null,null,null,null,null,null,null,null,null,null,null,null,null,null,null,null,null,null,"前年度比較用",47,{"$f":"$J$22","v":0}]
[null,null,null,null,null,null,null,null,null,null,null,null,null,null,null,null,null,null,null,null,null,null,null,null,null,null,null,null,null,{"$f":"OFFSET(保存用!$A$1,28-1,($A$4-1)-1)","v":0},48,{"$f":"$U$22","v":0}]
[1,null,null,null,null,null,null,null,null,null,null,null,null,null,null,null,null,null,null,null,null,null,null,null,null,null,null,null,null,{"$f":"OFFSET(保存用!$A$1,29-1,($A$4-1)-1)","v":0},49,{"$f":"$H$23","v":0}]
[null,null,null,null,null,null,null,null,null,null,null,null,null,null,null,null,null,null,null,null,null,null,null,null,null,null,null,null,null,{"$f":"OFFSET(保存用!$A$1,30-1,($A$4-1)-1)","v":0},50,{"$f":"$J$23","v":0}]
[null,null,null,null,null,null,null,null,null,null,null,null,null,null,null,null,null,null,null,null,null,null,null,null,null,null,null,null,null,null,51,{"$f":"$T$23","v":0}]
[null,null,null,null,null,null,null,null,null,null,null,null,null,null,null,null,null,null,null,null,null,null,null,null,null,null,null,null,null,null,52,{"$f":"$U$23","v":0}]
[null,null,null,null,null,null,null,null,null,null,null,null,null,null,null,null,null,null,null,null,null,null,null,null,null,null,null,null,null,null,53,{"$f":"$J$24","v":0}]
[null,null,null,null,null,null,null,null,null,null,null,null,null,null,null,null,null,null,null,null,null,null,null,null,null,null,null,null,null,null,54,{"$f":"$U$24","v":0}]
[null,null,null,null,null,null,null,null,null,null,null,null,null,null,null,null,null,null,null,null,null,null,null,null,null,null,null,null,null,null,55,{"$f":"$H$25","v":0}]
[null,null,null,null,null,null,null,null,null,null,null,null,null,null,null,null,null,null,null,null,null,null,null,null,null,null,null,null,null,null,56,{"$f":"$J$25","v":0}]
[null,null,null,null,null,null,null,null,null,null,null,null,null,null,null,null,null,null,null,null,null,null,null,null,null,null,null,null,null,null,57,{"$f":"$T$25","v":0}]
[null,null,null,null,null,null,null,null,null,null,null,null,null,null,null,null,null,null,null,null,null,null,null,null,null,null,null,null,null,null,58,{"$f":"$U$25","v":0}]
[null,null,null,null,null,null,null,null,null,null,null,null,null,null,null,null,null,null,null,null,null,null,null,null,null,null,null,null,null,null,59,{"$f":"$J$26","v":0}]
[null,null,null,null,null,null,null,null,null,null,null,null,null,null,null,null,null,null,null,null,null,null,null,null,null,null,null,null,null,null,60,{"$f":"$U$26","v":0}]
[null,null,null,null,null,null,null,null,null,null,null,null,null,null,null,null,null,null,null,null,null,null,null,null,null,null,null,null,null,null,61,{"$f":"$H$27","v":0}]
[null,null,null,null,null,null,null,null,null,null,null,null,null,null,null,null,null,null,null,null,null,null,null,null,null,null,null,null,null,null,62,{"$f":"$J$27","v":0}]
[null,null,null,null,null,null,null,null,null,null,null,null,null,null,null,null,null,null,null,null,null,null,null,null,null,null,null,null,null,null,63,{"$f":"$T$27","v":0}]
[null,null,null,null,null,null,null,null,null,null,null,null,null,null,null,null,null,null,null,null,null,null,null,null,null,null,null,null,null,null,64,{"$f":"$U$27","v":0}]
[null,null,null,null,null,null,null,null,null,null,null,null,null,null,null,null,null,null,null,null,null,null,null,null,null,null,null,null,null,null,65,{"$f":"$J$28","v":0}]
[null,null,null,null,null,null,null,null,null,null,null,null,null,null,null,null,null,null,null,null,null,null,null,null,null,null,null,null,null,null,66,{"$f":"$U$28","v":0}]
[null,null,null,null,null,null,null,null,null,null,null,null,null,null,null,null,null,null,null,null,null,null,null,null,null,null,null,null,null,null,67,{"$f":"$H$29","v":0}]
[null,null,null,null,null,null,null,null,null,null,null,null,null,null,null,null,null,null,null,null,null,null,null,null,null,null,null,null,null,null,68,{"$f":"$J$29","v":0}]
[null,null,null,null,null,null,null,null,null,null,null,null,null,null,null,null,null,null,null,null,null,null,null,null,null,null,null,null,null,null,69,{"$f":"$T$29","v":0}]
[null,null,null,null,null,null,null,null,null,null,null,null,null,null,null,null,null,null,null,null,null,null,null,null,null,null,null,null,null,null,70,{"$f":"$U$29","v":0}]
[null,null,null,null,null,null,null,null,null,null,null,null,null,null,null,null,null,null,null,null,null,null,null,null,null,null,null,null,null,null,71,{"$f":"$J$30","v":0}]
[null,null,null,null,null,null,null,null,null,null,null,null,null,null,null,null,null,null,null,null,null,null,null,null,null,null,null,null,null,null,72,{"$f":"$U$30","v":0}]
[null,null,null,null,null,null,null,null,null,null,null,null,null,null,null,null,null,null,null,null,null,null,null,null,null,null,null,null,null,null,73,{"$f":"$H$31","v":0}]
[null,null,null,null,null,null,null,null,null,null,null,null,null,null,null,null,null,null,null,null,null,null,null,null,null,null,null,null,null,null,74,{"$f":"$J$31","v":0}]
[null,null,null,null,null,null,null,null,null,null,null,null,null,null,null,null,null,null,null,null,null,null,null,null,null,null,null,null,null,null,75,{"$f":"$T$31","v":0}]
[null,null,null,null,null,null,null,null,null,null,null,null,null,null,null,null,null,null,null,null,null,null,null,null,null,null,null,null,null,null,76,{"$f":"$U$31","v":0}]
[null,null,null,null,null,null,null,null,null,null,null,null,null,null,null,null,null,null,null,null,null,null,null,null,null,null,null,null,null,null,77,{"$f":"$J$32","v":0}]
[null,null,null,null,null,null,null,null,null,null,null,null,null,null,null,null,null,null,null,null,null,null,null,null,null,null,null,null,null,null,78,{"$f":"$U$32","v":0}]
[null,null,null,null,null,null,null,null,null,null,null,null,null,null,null,null,null,null,null,null,null,null,null,null,null,null,null,null,null,null,79,{"$f":"$H$33","v":0}]
[null,null,null,null,null,null,null,null,null,null,null,null,null,null,null,null,null,null,null,null,null,null,null,null,null,null,null,null,null,null,80,{"$f":"$J$33","v":0}]
[null,null,null,null,null,null,null,null,null,null,null,null,null,null,null,null,null,null,null,null,null,null,null,null,null,null,null,null,null,null,81,{"$f":"$T$33","v":0}]
[null,null,null,null,null,null,null,null,null,null,null,null,null,null,null,null,null,null,null,null,null,null,null,null,null,null,null,null,null,null,82,{"$f":"$U$33","v":0}]
[null,null,null,null,null,null,null,null,null,null,null,null,null,null,null,null,null,null,null,null,null,null,null,null,null,null,null,null,null,null,83,{"$f":"$J$34","v":0}]
[null,null,null,null,null,null,null,null,null,null,null,null,null,null,null,null,null,null,null,null,null,null,null,null,null,null,null,null,null,null,84,{"$f":"$U$34","v":0}]
[null,null,null,null,null,null,null,null,null,null,null,null,null,null,null,null,null,null,null,null,null,null,null,null,null,null,null,null,null,null,85,{"$f":"$H$35","v":0}]
[null,null,null,null,null,null,null,null,null,null,null,null,null,null,null,null,null,null,null,null,null,null,null,null,null,null,null,null,null,null,86,{"$f":"$J$35","v":0}]
[null,null,null,null,null,null,null,null,null,null,null,null,null,null,null,null,null,null,null,null,null,null,null,null,null,null,null,null,null,null,87,{"$f":"$T$35","v":0}]
[null,null,null,null,null,null,null,null,null,null,null,null,null,null,null,null,null,null,null,null,null,null,null,null,null,null,null,null,null,null,88,{"$f":"$U$35","v":0}]
[null,null,null,null,null,null,null,null,null,null,null,null,null,null,null,null,null,null,null,null,null,null,null,null,null,null,null,null,null,null,89,{"$f":"$J$36","v":0}]
[null,null,null,null,null,null,null,null,null,null,null,null,null,null,null,null,null,null,null,null,null,null,null,null,null,null,null,null,null,null,90,{"$f":"$U$36","v":0}]
[null,null,null,null,null,null,null,null,null,null,null,null,null,null,null,null,null,null,null,null,null,null,null,null,null,null,null,null,null,null,91,{"$f":"H37","v":0}]
[null,null,null,null,null,null,null,null,null,null,null,null,null,null,null,null,null,null,null,null,null,null,null,null,null,null,null,null,null,null,92,{"$f":"J37","v":0}]
[null,null,null,null,null,null,null,null,null,null,null,null,null,null,null,null,null,null,null,null,null,null,null,null,null,null,null,null,null,null,93,{"$f":"J38","v":0}]
[null,null,null,null,null,null,null,null,null,null,null,null,null,null,null,null,null,null,null,null,null,null,null,null,null,null,null,null,null,null,94,{"$f":"C39","v":0}]
[null,null,null,null,null,null,null,null,null,null,null,null,null,null,null,null,null,null,null,null,null,null,null,null,null,null,null,null,null,null,95,{"$f":"G39","v":""}]
[null,null,null,null,null,null,null,null,null,null,null,null,null,null,null,null,null,null,null,null,null,null,null,null,null,null,null,null,null,null,96,{"$f":"H39","v":0}]
[null,null,null,null,null,null,null,null,null,null,null,null,null,null,null,null,null,null,null,null,null,null,null,null,null,null,null,null,null,null,97,{"$f":"J39","v":0}]
[null,null,null,null,null,null,null,null,null,null,null,null,null,null,null,null,null,null,null,null,null,null,null,null,null,null,null,null,null,null,98,{"$f":"L39","v":0}]
[null,null,null,null,null,null,null,null,null,null,null,null,null,null,null,null,null,null,null,null,null,null,null,null,null,null,null,null,null,null,99,{"$f":"N39","v":0}]
[null,null,null,null,null,null,null,null,null,null,null,null,null,null,null,null,null,null,null,null,null,null,null,null,null,null,null,null,null,null,100,{"$f":"Q39","v":0}]
[null,null,null,null,null,null,null,null,null,null,null,null,null,null,null,null,null,null,null,null,null,null,null,null,null,null,null,null,null,null,101,{"$f":"R39","v":0}]
[null,null,null,null,null,null,null,null,null,null,null,null,null,null,null,null,null,null,null,null,null,null,null,null,null,null,null,null,null,null,102,{"$f":"G40","v":""}]
[null,null,null,null,null,null,null,null,null,null,null,null,null,null,null,null,null,null,null,null,null,null,null,null,null,null,null,null,null,null,103,{"$f":"J40","v":0}]
[null,null,null,null,null,null,null,null,null,null,null,null,null,null,null,null,null,null,null,null,null,null,null,null,null,null,null,null,null,null,104,{"$f":"L40","v":0}]
[null,null,null,null,null,null,null,null,null,null,null,null,null,null,null,null,null,null,null,null,null,null,null,null,null,null,null,null,null,null,105,{"$f":"N40","v":0}]
[null,null,null,null,null,null,null,null,null,null,null,null,null,null,null,null,null,null,null,null,null,null,null,null,null,null,null,null,null,null,106,{"$f":"R40","v":0}]
[null,null,null,null,null,null,null,null,null,null,null,null,null,null,null,null,null,null,null,null,null,null,null,null,null,null,null,null,null,null,107,{"$f":"C50","v":""}]
[null,null,null,null,null,null,null,null,null,null,null,null,null,null,null,null,null,null,null,null,null,null,null,null,null,null,null,null,null,null,108,{"$f":"E50","v":0}]
[null,null,null,null,null,null,null,null,null,null,null,null,null,null,null,null,null,null,null,null,null,null,null,null,null,null,null,null,null,null,109,{"$f":"C51","v":""}]
[null,null,null,null,null,null,null,null,null,null,null,null,null,null,null,null,null,null,null,null,null,null,null,null,null,null,null,null,null,null,110,{"$f":"E51","v":0}]

{"sheet":"第1表(1)_航空","index":10,"n_rows":116,"n_cols":32,"rows_kept":116,"cut":false,"hidden":true,"merged":[[46,11,46,12],[47,2,47,6],[47,7,47,8],[47,9,47,10],[48,2,48,6],[48,7,48,8],[48,9,48,10],[48,11,48,12],[45,2,45,6],[45,7,45,8],[45,9,45,10],[46,2,46,6],[46,7,46,8],[46,9,46,10],[41,11,41,12],[42,2,43,6],[42,7,43,8],[42,9,43,10],[44,2,44,6],[44,7,44,8],[44,9,44,10],[44,11,44,12],[39,2,39,4],[39,7,39,8],[40,2,40,6],[40,7,40,8],[40,9,40,10],[41,2,41,6],[41,7,41,8],[41,9,41,10],[36,13,36,14],[37,3,37,4],[37,7,37,8],[37,11,37,12],[37,13,37,14],[38,2,38,4],[33,7,33,8],[33,11,33,12],[34,2,37,2],[34,3,34,4],[35,3,35,4],[35,7,35,8],[35,11,35,12],[36,3,36,4],[36,11,36,12],[27,2,27,4],[27,7,27,8],[27,11,27,12],[28,2,33,2],[29,7,29,8],[29,11,29,12],[31,7,31,8],[31,11,31,12],[32,3,32,4],[33,3,33,4],[24,25,25,25],[24,26,25,26],[25,2,25,4],[25,7,25,8],[25,11,25,12],[26,2,26,4],[23,2,23,4],[23,7,23,8],[23,11,23,12],[24,2,24,4],[24,23,25,23],[24,24,25,24],[20,2,20,4],[20,23,21,26],[21,2,21,4],[21,7,21,8],[21,11,21,12],[22,2,22,4],[22,23,23,23],[22,24,23,24],[22,25,23,25],[22,26,23,26],[18,2,18,4],[18,23,19,23],[18,24,19,24],[18,25,19,25],[18,26,19,26],[19,2,19,4],[19,7,19,8],[19,11,19,12],[16,2,16,4],[16,23,17,23],[16,24,17,24],[16,25,17,25],[16,26,17,26],[17,2,17,4],[17,7,17,8],[17,11,17,12],[14,2,14,4],[14,23,15,23],[14,24,15,24],[14,25,15,25],[14,26,15,26],[15,2,15,4],[15,7,15,8],[15,11,15,12],[12,2,12,4],[12,23,13,23],[12,24,13,24],[12,25,13,25],[12,26,13,26],[13,2,13,4],[13,7,13,8],[13,11,13,12],[10,2,10,4],[10,23,11,23],[10,24,11,24],[10,25,11,25],[10,26,11,26],[11,2,11,4],[11,7,11,8],[11,11,11,12],[6,2,6,4],[7,2,7,4],[7,7,7,8],[7,11,7,12],[8,2,8,4],[8,23,9,26],[9,2,9,4],[9,7,9,8],[9,11,9,12],[3,19,5,19],[3,20,5,20],[4,7,4,10],[4,11,5,12],[4,13,5,14],[5,7,5,8],[5,9,5,10],[1,2,1,11],[3,2,5,4],[3,6,5,6],[3,7,3,14],[3,16,5,16],[3,17,5,17]]}
[1]
[{"$f":"SUM(T7:T33)","v":0},null,"第１表　エネルギーの使用量"]
[null,null,"１．エネルギー使用量及び連携省エネルギー措置を踏まえたエネルギー使用量等"]
[{"$f":"メニュー!A3","v":19},null,"エネルギーの種類",null,null,null,"単位","使用量",null,null,null,null,null,null,null,null,"CO2排出量\n（ｔ－CO2)","連携省エネルギー措置を踏まえたCO2排出量\n（ｔ－CO2)",null,"CO2排出量\n独自算出","連携省エネルギー措置を踏まえたCO2排出量\n独自算出"]
[{"$f":"Q41","v":0},null,null,null,null,null,null,{"$f":"メニュー!A4","v":"2022-01-01"},null,null,null,"エネルギー使用量熱量ＧJ",null,"連携省エネルギー措置を踏まえたエネルギー使用量熱量ＧJ"]
[{"$f":"Q43","v":0},null,null,null,null,null,null,"エネルギー使用量",null,"連携省エネルギー措置を踏まえたエネルギー使用量"]
[{"$f":"L44","v":0},null,"揮発油",null,null,"揮発油","ｋｌ",null,"ｋｌ",null,"ｋｌ",{"$f":"IF(H7=\"\",\"\",IF(ISERROR(VLOOKUP(F7,'係数（燃料）'!$C$3:$E$13,3,FALSE)),\"\",H7*VLOOKUP(F7,'係数（燃料）'!$C$3:$E$13,3,FALSE)))","v":""},"GJ",{"$f":"IF(J7=\"\",\"\",IF(ISERROR(VLOOKUP(F7,'係数（燃料）'!$C$3:$E$13,3,FALSE)),\"\",J7*VLOOKUP(F7,'係数（燃料）'!$C$3:$E$13,3,FALSE)))","v":""},null,null,{"$f":"IF(T7<>\"\",T7,IF(L7=\"\",\"\",IF(ISERROR(VLOOKUP(F7,'係数（燃料）'!$C$3:$M$13,11,FALSE)),\"\",L7*VLOOKUP(F7,'係数（燃料）'!$C$3:$M$13,11,FALSE))))","v":""},{"$f":"IF(U7<>\"\",U7,IF(N7=\"\",\"\",IF(ISERROR(VLOOKUP(F7,'係数（燃料）'!$C$3:$M$13,11,FALSE)),\"\",N7*VLOOKUP(F7,'係数（燃料）'!$C$3:$M$13,11,FALSE))))","v":""},null,null,null,null,null,null,null,null,"（印刷範囲外）",null,null,null,1,{"$f":"$H$7","v":0}]
[null,null,"連携分",null,null,"揮発油","ｋｌ",null,null,null,"ｋｌ",null,null,{"$f":"IF(J8=\"\",\"\",IF(ISERROR(VLOOKUP(F8,'係数（燃料）'!$C$3:$E$13,3,FALSE)),\"\",J8*VLOOKUP(F8,'係数（燃料）'!$C$3:$E$13,3,FALSE)))","v":""},null,null,null,{"$f":"IF(U8<>\"\",U8,IF(N8=\"\",\"\",IF(ISERROR(VLOOKUP(F8,'係数（燃料）'!$C$3:$M$13,11,FALSE)),\"\",N8*VLOOKUP(F8,'係数（燃料）'!$C$3:$M$13,11,FALSE))))","v":""},null,null,null,null,null,null,null,null,null,null,null,null,2,{"$f":"$J$7","v":0}]
[{"$f":"L31","v":0},null,"ジェット燃料油",null,null,"ジェット燃料油","ｋｌ",null,"ｋｌ",null,"ｋｌ",{"$f":"IF(H9=\"\",\"\",IF(ISERROR(VLOOKUP(F9,'係数（燃料）'!$C$3:$E$13,3,FALSE)),\"\",H9*VLOOKUP(F9,'係数（燃料）'!$C$3:$E$13,3,FALSE)))","v":""},"GJ",{"$f":"IF(J9=\"\",\"\",IF(ISERROR(VLOOKUP(F9,'係数（燃料）'!$C$3:$E$13,3,FALSE)),\"\",J9*VLOOKUP(F9,'係数（燃料）'!$C$3:$E$13,3,FALSE)))","v":""},null,null,{"$f":"IF(T9<>\"\",T9,IF(L9=\"\",\"\",IF(ISERROR(VLOOKUP(F9,'係数（燃料）'!$C$3:$M$13,11,FALSE)),\"\",L9*VLOOKUP(F9,'係数（燃料）'!$C$3:$M$13,11,FALSE))))","v":""},{"$f":"IF(U9<>\"\",U9,IF(N9=\"\",\"\",IF(ISERROR(VLOOKUP(F9,'係数（燃料）'!$C$3:$M$13,11,FALSE)),\"\",N9*VLOOKUP(F9,'係数（燃料）'!$C$3:$M$13,11,FALSE))))","v":""},null,null,null,null,null,"t→kl換算  　　ｔ を入力してください",null,null,null,null,null,null,3,{"$f":"$T$7","v":0}]
[null,null,"連携分",null,null,"ジェット燃料油","ｋｌ",null,null,null,"ｋｌ",null,null,{"$f":"IF(J10=\"\",\"\",IF(ISERROR(VLOOKUP(F10,'係数（燃料）'!$C$3:$E$13,3,FALSE)),\"\",J10*VLOOKUP(F10,'係数（燃料）'!$C$3:$E$13,3,FALSE)))","v":""},null,null,null,{"$f":"IF(U10<>\"\",U10,IF(N10=\"\",\"\",IF(ISERROR(VLOOKUP(F10,'係数（燃料）'!$C$3:$M$13,11,FALSE)),\"\",N10*VLOOKUP(F10,'係数（燃料）'!$C$3:$M$13,11,FALSE))))","v":""},null,null,null,null,null,null,null,null,null,null,null,null,4,{"$f":"$U$7","v":0}]
[null,null,"軽油",null,null,"軽油","ｋｌ",null,"ｋｌ",null,"ｋｌ",{"$f":"IF(H11=\"\",\"\",IF(ISERROR(VLOOKUP(F11,'係数（燃料）'!$C$3:$E$13,3,FALSE)),\"\",H11*VLOOKUP(F11,'係数（燃料）'!$C$3:$E$13,3,FALSE)))","v":""},"GJ",{"$f":"IF(J11=\"\",\"\",IF(ISERROR(VLOOKUP(F11,'係数（燃料）'!$C$3:$E$13,3,FALSE)),\"\",J11*VLOOKUP(F11,'係数（燃料）'!$C$3:$E$13,3,FALSE)))","v":""},null,null,{"$f":"IF(T11<>\"\",T11,IF(L11=\"\",\"\",IF(ISERROR(VLOOKUP(F11,'係数（燃料）'!$C$3:$M$13,11,FALSE)),\"\",L11*VLOOKUP(F11,'係数（燃料）'!$C$3:$M$13,11,FALSE))))","v":""},{"$f":"IF(U11<>\"\",U11,IF(N11=\"\",\"\",IF(ISERROR(VLOOKUP(F11,'係数（燃料）'!$C$3:$M$13,11,FALSE)),\"\",N11*VLOOKUP(F11,'係数（燃料）'!$C$3:$M$13,11,FALSE))))","v":""},null,null,null,null,null,"種類","係数","ｔ","kl",null,null,null,5,{"$f":"$J$8","v":0}]
[null,null,"連携分",null,null,"軽油","ｋｌ",null,null,null,"ｋｌ",null,null,{"$f":"IF(J12=\"\",\"\",IF(ISERROR(VLOOKUP(F12,'係数（燃料）'!$C$3:$E$13,3,FALSE)),\"\",J12*VLOOKUP(F12,'係数（燃料）'!$C$3:$E$13,3,FALSE)))","v":""},null,null,null,{"$f":"IF(U12<>\"\",U12,IF(N12=\"\",\"\",IF(ISERROR(VLOOKUP(F12,'係数（燃料）'!$C$3:$M$13,11,FALSE)),\"\",N12*VLOOKUP(F12,'係数（燃料）'!$C$3:$M$13,11,FALSE))))","v":""},null,null,null,null,null,null,null,null,null,null,null,null,6,{"$f":"$U$8","v":0}]
[null,null,"Ａ重油",null,null,"Ａ重油","ｋｌ",null,"ｋｌ",null,"ｋｌ",{"$f":"IF(H13=\"\",\"\",IF(ISERROR(VLOOKUP(F13,'係数（燃料）'!$C$3:$E$13,3,FALSE)),\"\",H13*VLOOKUP(F13,'係数（燃料）'!$C$3:$E$13,3,FALSE)))","v":""},"GJ",{"$f":"IF(J13=\"\",\"\",IF(ISERROR(VLOOKUP(F13,'係数（燃料）'!$C$3:$E$13,3,FALSE)),\"\",J13*VLOOKUP(F13,'係数（燃料）'!$C$3:$E$13,3,FALSE)))","v":""},null,null,{"$f":"IF(T13<>\"\",T13,IF(L13=\"\",\"\",IF(ISERROR(VLOOKUP(F13,'係数（燃料）'!$C$3:$M$13,11,FALSE)),\"\",L13*VLOOKUP(F13,'係数（燃料）'!$C$3:$M$13,11,FALSE))))","v":""},{"$f":"IF(U13<>\"\",U13,IF(N13=\"\",\"\",IF(ISERROR(VLOOKUP(F13,'係数（燃料）'!$C$3:$M$13,11,FALSE)),\"\",N13*VLOOKUP(F13,'係数（燃料）'!$C$3:$M$13,11,FALSE))))","v":""},null,null,null,null,null,"A重油",{"$f":"VLOOKUP(X13,'係数（燃料）'!$B$21:$C$24,2,FALSE)","v":1.2048192771084338},null,{"$f":"IF(Z13<>\"\",Y13*Z13,\"\")","v":""},null,null,null,7,{"$f":"$H$9","v":0}]
[null,null,"連携分",null,null,"Ａ重油","ｋｌ",null,null,null,"ｋｌ",null,null,{"$f":"IF(J14=\"\",\"\",IF(ISERROR(VLOOKUP(F14,'係数（燃料）'!$C$3:$E$13,3,FALSE)),\"\",J14*VLOOKUP(F14,'係数（燃料）'!$C$3:$E$13,3,FALSE)))","v":""},null,null,null,{"$f":"IF(U14<>\"\",U14,IF(N14=\"\",\"\",IF(ISERROR(VLOOKUP(F14,'係数（燃料）'!$C$3:$M$13,11,FALSE)),\"\",N14*VLOOKUP(F14,'係数（燃料）'!$C$3:$M$13,11,FALSE))))","v":""},null,null,null,null,null,null,null,null,null,null,null,null,8,{"$f":"$J$9","v":0}]
[null,null,"Ｂ・Ｃ重油",null,null,"Ｂ・Ｃ重油","ｋｌ",null,"ｋｌ",null,"ｋｌ",{"$f":"IF(H15=\"\",\"\",IF(ISERROR(VLOOKUP(F15,'係数（燃料）'!$C$3:$E$13,3,FALSE)),\"\",H15*VLOOKUP(F15,'係数（燃料）'!$C$3:$E$13,3,FALSE)))","v":""},"GJ",{"$f":"IF(J15=\"\",\"\",IF(ISERROR(VLOOKUP(F15,'係数（燃料）'!$C$3:$E$13,3,FALSE)),\"\",J15*VLOOKUP(F15,'係数（燃料）'!$C$3:$E$13,3,FALSE)))","v":""},null,null,{"$f":"IF(T15<>\"\",T15,IF(L15=\"\",\"\",IF(ISERROR(VLOOKUP(F15,'係数（燃料）'!$C$3:$M$13,11,FALSE)),\"\",L15*VLOOKUP(F15,'係数（燃料）'!$C$3:$M$13,11,FALSE))))","v":""},{"$f":"IF(U15<>\"\",U15,IF(N15=\"\",\"\",IF(ISERROR(VLOOKUP(F15,'係数（燃料）'!$C$3:$M$13,11,FALSE)),\"\",N15*VLOOKUP(F15,'係数（燃料）'!$C$3:$M$13,11,FALSE))))","v":""},null,null,null,null,null,"Ｂ・Ｃ重油",null,null,{"$f":"IF(AND(AA17=\"\",AA19=\"\"),\"\",IF(ISNUMBER(AA17),AA17,0)+IF(ISNUMBER(AA19),AA19,0))","v":""},null,null,null,9,{"$f":"$T$9","v":0}]
[null,null,"連携分",null,null,"Ｂ・Ｃ重油","ｋｌ",null,null,null,"ｋｌ",null,null,{"$f":"IF(J16=\"\",\"\",IF(ISERROR(VLOOKUP(F16,'係数（燃料）'!$C$3:$E$13,3,FALSE)),\"\",J16*VLOOKUP(F16,'係数（燃料）'!$C$3:$E$13,3,FALSE)))","v":""},null,null,null,{"$f":"IF(U16<>\"\",U16,IF(N16=\"\",\"\",IF(ISERROR(VLOOKUP(F16,'係数（燃料）'!$C$3:$M$13,11,FALSE)),\"\",N16*VLOOKUP(F16,'係数（燃料）'!$C$3:$M$13,11,FALSE))))","v":""},null,null,null,null,null,null,null,null,null,null,null,null,10,{"$f":"$U$9","v":0}]
[null,null,"液化石油ガス(ＬＰＧ)",null,null,"液化石油ガス(ＬＰＧ)","ｔ",null,"ｔ",null,"ｔ",{"$f":"IF(H17=\"\",\"\",IF(ISERROR(VLOOKUP(F17,'係数（燃料）'!$C$3:$E$13,3,FALSE)),\"\",H17*VLOOKUP(F17,'係数（燃料）'!$C$3:$E$13,3,FALSE)))","v":""},"GJ",{"$f":"IF(J17=\"\",\"\",IF(ISERROR(VLOOKUP(F17,'係数（燃料）'!$C$3:$E$13,3,FALSE)),\"\",J17*VLOOKUP(F17,'係数（燃料）'!$C$3:$E$13,3,FALSE)))","v":""},null,null,{"$f":"IF(T17<>\"\",T17,IF(L17=\"\",\"\",IF(ISERROR(VLOOKUP(F17,'係数（燃料）'!$C$3:$M$13,11,FALSE)),\"\",L17*VLOOKUP(F17,'係数（燃料）'!$C$3:$M$13,11,FALSE))))","v":""},{"$f":"IF(U17<>\"\",U17,IF(N17=\"\",\"\",IF(ISERROR(VLOOKUP(F17,'係数（燃料）'!$C$3:$M$13,11,FALSE)),\"\",N17*VLOOKUP(F17,'係数（燃料）'!$C$3:$M$13,11,FALSE))))","v":""},null,null,null,null,null,"B重油",{"$f":"VLOOKUP(X17,'係数（燃料）'!$B$21:$C$24,2,FALSE)","v":1.1627906976744187},null,{"$f":"IF(Z17<>\"\",Y17*Z17,\"\")","v":""},null,null,null,11,{"$f":"$J$10","v":0}]
[null,null,"連携分",null,null,"液化石油ガス(ＬＰＧ)","ｔ",null,null,null,"ｔ",null,null,{"$f":"IF(J18=\"\",\"\",IF(ISERROR(VLOOKUP(F18,'係数（燃料）'!$C$3:$E$13,3,FALSE)),\"\",J18*VLOOKUP(F18,'係数（燃料）'!$C$3:$E$13,3,FALSE)))","v":""},null,null,null,{"$f":"IF(U18<>\"\",U18,IF(N18=\"\",\"\",IF(ISERROR(VLOOKUP(F18,'係数（燃料）'!$C$3:$M$13,11,FALSE)),\"\",N18*VLOOKUP(F18,'係数（燃料）'!$C$3:$M$13,11,FALSE))))","v":""},null,null,null,null,null,null,null,null,null,null,null,null,12,{"$f":"$U$10","v":0}]
[null,null,"液化天然ガス(ＬＮＧ)",null,null,"液化天然ガス(ＬＮＧ)","ｔ",null,"ｔ",null,"ｔ",{"$f":"IF(H19=\"\",\"\",IF(ISERROR(VLOOKUP(F19,'係数（燃料）'!$C$3:$E$13,3,FALSE)),\"\",H19*VLOOKUP(F19,'係数（燃料）'!$C$3:$E$13,3,FALSE)))","v":""},"GJ",{"$f":"IF(J19=\"\",\"\",IF(ISERROR(VLOOKUP(F19,'係数（燃料）'!$C$3:$E$13,3,FALSE)),\"\",J19*VLOOKUP(F19,'係数（燃料）'!$C$3:$E$13,3,FALSE)))","v":""},null,null,{"$f":"IF(T19<>\"\",T19,IF(L19=\"\",\"\",IF(ISERROR(VLOOKUP(F19,'係数（燃料）'!$C$3:$M$13,11,FALSE)),\"\",L19*VLOOKUP(F19,'係数（燃料）'!$C$3:$M$13,11,FALSE))))","v":""},{"$f":"IF(U19<>\"\",U19,IF(N19=\"\",\"\",IF(ISERROR(VLOOKUP(F19,'係数（燃料）'!$C$3:$M$13,11,FALSE)),\"\",N19*VLOOKUP(F19,'係数（燃料）'!$C$3:$M$13,11,FALSE))))","v":""},null,null,null,null,null,"C重油",{"$f":"VLOOKUP(X19,'係数（燃料）'!$B$21:$C$24,2,FALSE)","v":1.0638297872340425},null,{"$f":"IF(Z19<>\"\",Y19*Z19,\"\")","v":""},null,null,null,13,{"$f":"$H$11","v":0}]
[null,null,"連携分",null,null,"液化天然ガス(ＬＮＧ)","ｔ",null,null,null,"ｔ",null,null,{"$f":"IF(J20=\"\",\"\",IF(ISERROR(VLOOKUP(F20,'係数（燃料）'!$C$3:$E$13,3,FALSE)),\"\",J20*VLOOKUP(F20,'係数（燃料）'!$C$3:$E$13,3,FALSE)))","v":""},"GJ",null,null,{"$f":"IF(U20<>\"\",U20,IF(N20=\"\",\"\",IF(ISERROR(VLOOKUP(F20,'係数（燃料）'!$C$3:$M$13,11,FALSE)),\"\",N20*VLOOKUP(F20,'係数（燃料）'!$C$3:$M$13,11,FALSE))))","v":""},null,null,null,null,null,null,null,null,null,null,null,null,14,{"$f":"$J$11","v":0}]
[null,null,"石炭（原料炭）",null,null,"石炭（原料炭）",null,null,"ｔ",null,"ｔ",{"$f":"IF(H21=\"\",\"\",IF(ISERROR(VLOOKUP(F21,'係数（燃料）'!$C$3:$E$13,3,FALSE)),\"\",H21*VLOOKUP(F21,'係数（燃料）'!$C$3:$E$13,3,FALSE)))","v":""},"GJ",{"$f":"IF(J21=\"\",\"\",IF(ISERROR(VLOOKUP(F21,'係数（燃料）'!$C$3:$E$13,3,FALSE)),\"\",J21*VLOOKUP(F21,'係数（燃料）'!$C$3:$E$13,3,FALSE)))","v":""},"GJ",null,{"$f":"IF(T21<>\"\",T21,IF(L21=\"\",\"\",IF(ISERROR(VLOOKUP(F21,'係数（燃料）'!$C$3:$M$13,11,FALSE)),\"\",L21*VLOOKUP(F21,'係数（燃料）'!$C$3:$M$13,11,FALSE))))","v":""},{"$f":"IF(U21<>\"\",U21,IF(N21=\"\",\"\",IF(ISERROR(VLOOKUP(F21,'係数（燃料）'!$C$3:$M$13,11,FALSE)),\"\",N21*VLOOKUP(F21,'係数（燃料）'!$C$3:$M$13,11,FALSE))))","v":""},null,null,null,null,null,"kl→t換算  　　kl を入力してください",null,null,null,null,null,null,15,{"$f":"$T$11","v":0}]
[null,null,"連携分",null,null,"石炭（原料炭）","ｔ",null,null,null,"ｔ",null,null,{"$f":"IF(J22=\"\",\"\",IF(ISERROR(VLOOKUP(F22,'係数（燃料）'!$C$3:$E$13,3,FALSE)),\"\",J22*VLOOKUP(F22,'係数（燃料）'!$C$3:$E$13,3,FALSE)))","v":""},"GJ",null,null,{"$f":"IF(U22<>\"\",U22,IF(N22=\"\",\"\",IF(ISERROR(VLOOKUP(F22,'係数（燃料）'!$C$3:$M$13,11,FALSE)),\"\",N22*VLOOKUP(F22,'係数（燃料）'!$C$3:$M$13,11,FALSE))))","v":""},null,null,null,null,null,null,null,null,null,null,null,null,16,{"$f":"$U$11","v":0}]
[null,null,"石炭（一般炭）",null,null,"石炭（一般炭）","ｔ",null,"ｔ",null,"ｔ",{"$f":"IF(H23=\"\",\"\",IF(ISERROR(VLOOKUP(F23,'係数（燃料）'!$C$3:$E$13,3,FALSE)),\"\",H23*VLOOKUP(F23,'係数（燃料）'!$C$3:$E$13,3,FALSE)))","v":""},"GJ",{"$f":"IF(J23=\"\",\"\",IF(ISERROR(VLOOKUP(F23,'係数（燃料）'!$C$3:$E$13,3,FALSE)),\"\",J23*VLOOKUP(F23,'係数（燃料）'!$C$3:$E$13,3,FALSE)))","v":""},"GJ",null,{"$f":"IF(T23<>\"\",T23,IF(L23=\"\",\"\",IF(ISERROR(VLOOKUP(F23,'係数（燃料）'!$C$3:$M$13,11,FALSE)),\"\",L23*VLOOKUP(F23,'係数（燃料）'!$C$3:$M$13,11,FALSE))))","v":""},{"$f":"IF(U23<>\"\",U23,IF(N23=\"\",\"\",IF(ISERROR(VLOOKUP(F23,'係数（燃料）'!$C$3:$M$13,11,FALSE)),\"\",N23*VLOOKUP(F23,'係数（燃料）'!$C$3:$M$13,11,FALSE))))","v":""},null,null,null,null,null,"種類","係数","kl","ｔ",null,null,null,17,{"$f":"$J$12","v":0}]
[null,null,"連携分",null,null,"石炭（一般炭）","ｔ",null,null,null,"ｔ",null,null,{"$f":"IF(J24=\"\",\"\",IF(ISERROR(VLOOKUP(F24,'係数（燃料）'!$C$3:$E$13,3,FALSE)),\"\",J24*VLOOKUP(F24,'係数（燃料）'!$C$3:$E$13,3,FALSE)))","v":""},"GJ",null,null,{"$f":"IF(U24<>\"\",U24,IF(N24=\"\",\"\",IF(ISERROR(VLOOKUP(F24,'係数（燃料）'!$C$3:$M$13,11,FALSE)),\"\",N24*VLOOKUP(F24,'係数（燃料）'!$C$3:$M$13,11,FALSE))))","v":""},null,null,null,null,null,null,null,null,null,null,null,null,18,{"$f":"$U$12","v":0}]
[null,null,"石炭（無煙炭）",null,null,"石炭（無煙炭）","ｔ",null,"ｔ",null,"ｔ",{"$f":"IF(H25=\"\",\"\",IF(ISERROR(VLOOKUP(F25,'係数（燃料）'!$C$3:$E$13,3,FALSE)),\"\",H25*VLOOKUP(F25,'係数（燃料）'!$C$3:$E$13,3,FALSE)))","v":""},"GJ",{"$f":"IF(J25=\"\",\"\",IF(ISERROR(VLOOKUP(F25,'係数（燃料）'!$C$3:$E$13,3,FALSE)),\"\",J25*VLOOKUP(F25,'係数（燃料）'!$C$3:$E$13,3,FALSE)))","v":""},"GJ",null,{"$f":"IF(T25<>\"\",T25,IF(L25=\"\",\"\",IF(ISERROR(VLOOKUP(F25,'係数（燃料）'!$C$3:$M$13,11,FALSE)),\"\",L25*VLOOKUP(F25,'係数（燃料）'!$C$3:$M$13,11,FALSE))))","v":""},{"$f":"IF(U25<>\"\",U25,IF(N25=\"\",\"\",IF(ISERROR(VLOOKUP(F25,'係数（燃料）'!$C$3:$M$13,11,FALSE)),\"\",N25*VLOOKUP(F25,'係数（燃料）'!$C$3:$M$13,11,FALSE))))","v":""},null,null,null,null,null,"LPG",{"$f":"VLOOKUP(X25,'係数（燃料）'!$B$21:$D$24,3,FALSE)","v":0.56000000000000005},null,{"$f":"IF(Z25<>\"\",Y25*Z25,\"\")","v":""},null,null,null,19,{"$f":"$H$13","v":0}]
[null,null,"連携分",null,null,"石炭（無煙炭）","ｔ",null,null,null,"ｔ",null,null,{"$f":"IF(J26=\"\",\"\",IF(ISERROR(VLOOKUP(F26,'係数（燃料）'!$C$3:$E$13,3,FALSE)),\"\",J26*VLOOKUP(F26,'係数（燃料）'!$C$3:$E$13,3,FALSE)))","v":""},"GJ",null,null,{"$f":"IF(U26<>\"\",U26,IF(N26=\"\",\"\",IF(ISERROR(VLOOKUP(F26,'係数（燃料）'!$C$3:$M$13,11,FALSE)),\"\",N26*VLOOKUP(F26,'係数（燃料）'!$C$3:$M$13,11,FALSE))))","v":""},null,null,null,null,null,null,null,null,null,null,null,null,20,{"$f":"$J$13","v":0}]
[{"$f":"IF(E50<>\"\",E50,IF(ISERROR(VLOOKUP(F27,'係数（燃料）'!$C$3:$E$13,3,FALSE)),\"\",VLOOKUP(F27,'係数（燃料）'!$C$3:$E$13,3,FALSE)))","v":0},null,"都市ガス（CNGを含む。）",null,null,"都市ガス","千m３",null,"千m３",null,"千m３",{"$f":"IF(H27=\"\",\"\",H27*$E50)","v":""},"GJ",{"$f":"IF(J27=\"\",\"\",J27*$E50)","v":""},"GJ",null,{"$f":"IF(T27<>\"\",T27,IF(L27=\"\",\"\",IF(ISERROR(VLOOKUP(F27,'係数（燃料）'!$C$3:$M$13,11,FALSE)),\"\",L27*VLOOKUP(F27,'係数（燃料）'!$C$3:$M$13,11,FALSE))))","v":""},{"$f":"IF(U27<>\"\",U27,IF(N27=\"\",\"\",IF(ISERROR(VLOOKUP(F27,'係数（燃料）'!$C$3:$M$13,11,FALSE)),\"\",N27*VLOOKUP(F27,'係数（燃料）'!$C$3:$M$13,11,FALSE))))","v":""},null,null,null,null,null,null,null,null,"青で囲んでいる数字を転記してください",null,null,null,21,{"$f":"$T$13","v":0}]
[{"$f":"IF(E51<>\"\",E51,IF(ISERROR(VLOOKUP(F28,'係数（燃料）'!$C$3:$E$13,3,FALSE)),\"\",VLOOKUP(F28,'係数（燃料）'!$C$3:$E$13,3,FALSE)))","v":0},null,"連携分",null,null,"都市ガス","千m３",null,null,null,"千m３",null,null,{"$f":"IF(J28=\"\",\"\",J28*$E51)","v":""},"GJ",null,null,{"$f":"IF(U28<>\"\",U28,IF(N28=\"\",\"\",IF(ISERROR(VLOOKUP(F28,'係数（燃料）'!$C$3:$M$13,11,FALSE)),\"\",N28*VLOOKUP(F28,'係数（燃料）'!$C$3:$M$13,11,FALSE))))","v":""},null,null,null,null,null,null,null,null,null,null,null,null,22,{"$f":"$U$13","v":0}]
[null,null,"電気事業者",null,"昼間買電","昼間買電","千ｋＷｈ",0,"千ｋＷｈ",0,"千ｋＷｈ",0,"GJ",0,"GJ",null,0,0,null,null,null,null,null,null,null,null,null,null,null,null,23,{"$f":"$J$14","v":0}]
[null,null,null,null,"連携分","昼間買電","千ｋＷｈ",null,null,0,"千ｋＷｈ",null,null,0,"GJ",null,null,{"$f":"'入力補助(電気)_貨物_連携(自己分)'!T52","v":0},null,null,null,null,null,null,null,null,null,null,null,null,24,{"$f":"$U$14","v":0}]
[null,null,null,null,"夏季・冬季における\n電気需要平準化時間帯","電気需要平準化時間帯","千ｋＷｈ",0,"千ｋＷｈ",0,"千ｋＷｈ",0,"GJ",0,"GJ",null,0,0,null,null,null,null,null,null,null,null,null,null,null,null,25,{"$f":"$H$15","v":0}]
[null,null,null,null,"連携分","電気需要平準化時間帯","千ｋＷｈ",null,null,0,"千ｋＷｈ",null,null,0,"GJ",null,null,{"$f":"'入力補助(電気)_貨物_連携(自己分)'!U52","v":0},null,null,null,null,null,null,null,null,null,null,null,null,26,{"$f":"$J$15","v":0}]
[null,null,null,"夜間買電",null,"夜間買電","千ｋＷｈ",0,"千ｋＷｈ",0,"千ｋＷｈ",0,"GJ",0,"GJ",null,0,0,null,null,null,null,null,null,null,null,null,null,null,null,27,{"$f":"$T$15","v":0}]
[null,null,null,"連携分",null,"夜間買電","千ｋＷｈ",null,null,0,"千ｋＷｈ",null,null,0,"GJ",null,null,{"$f":"'入力補助(電気)_貨物_連携(自己分)'!T53","v":0},null,null,null,null,null,null,null,null,null,null,null,null,28,{"$f":"$U$15","v":0}]
[null,null,"その他","上記以外の買電",null,"上記以外の買電","千ｋＷｈ",0,"千ｋＷｈ",0,"千ｋＷｈ",0,"GJ",0,"GJ",null,0,0,null,null,null,null,null,null,null,null,null,null,null,null,29,{"$f":"$J$16","v":0}]
[null,null,null,"連携分",null,"上記以外の買電","千ｋＷｈ",null,null,0,"千ｋＷｈ",null,null,0,"GJ",null,null,{"$f":"'入力補助(電気)_貨物_連携(自己分)'!T55","v":0},null,null,null,null,null,null,null,null,null,null,null,null,30,{"$f":"$U$16","v":0}]
[null,null,null,"自家発電",null,"自家発電","千ｋＷｈ",null,"千ｋＷｈ",null,"千ｋＷｈ",null,null,null,null,null,null,null,null,null,null,null,null,null,null,null,null,null,null,null,31,{"$f":"$H$17","v":0}]
[null,null,null,"連携分",null,"自家発電","千ｋＷｈ",null,null,null,"千ｋＷｈ",null,null,null,null,null,null,null,null,null,null,null,null,null,null,null,null,null,null,null,32,{"$f":"$J$17","v":0}]
[null,null,null,null,null,null,"",null,{"$f":"IF(G39<>\"\",G39,\"\")","v":""},null,{"$f":"IF(G39<>\"\",I39,\"\")","v":""},null,"GJ",null,"GJ",null,null,null,null,null,null,null,null,null,null,null,null,null,null,null,33,{"$f":"$T$17","v":0}]
[null,null,"連携分",null,null,null,"",null,null,null,{"$f":"IF(G40<>\"\",I40,\"\")","v":""},null,"GJ",null,"GJ",null,null,null,null,null,null,null,null,null,null,null,null,null,null,null,34,{"$f":"$U$17","v":0}]
[null,null,"合　計ＧJ",null,null,null,null,null,null,null,null,{"$f":"SUM(L7:L30)+SUM(L33:L40)","v":0},"GJ",{"$f":"SUM(N7:N30)+SUM(N33:N40)","v":0},"GJ",null,{"$f":"SUM(Q7:Q30)+SUM(Q33:Q40)","v":0},{"$f":"SUM(R7:R30)+SUM(R33:R40)","v":0},null,null,null,null,null,null,null,null,null,null,null,null,35,{"$f":"$J$18","v":0}]
[null,null,"連携分",null,null,null,null,null,null,null,null,null,null,{"$f":"SUM(N8,N10,N12,N14,N16,N18,N20,N22,N24,N26,N28,N30,N34,N36,N38,N40)","v":0},"GJ",null,null,{"$f":"SUM(R8,R10,R12,R14,R16,R18,R20,R22,R24,R26,R28,R30,R32,R34,R36,R38,R40)","v":0},null,null,null,null,null,null,null,null,null,null,null,null,36,{"$f":"$U$18","v":0}]
[null,null,"原油換算ｋｌ",null,null,null,null,null,null,null,null,null,null,null,null,null,null,null,null,null,null,null,null,null,null,null,null,null,null,null,37,{"$f":"$H$19","v":0}]
[null,null,null,null,null,null,null,null,null,null,null,{"$f":"L41/10*0.258","v":0},"kl",{"$f":"N41/10*0.258","v":0},"kl",null,null,null,null,null,null,null,null,null,null,null,null,null,null,null,38,{"$f":"$J$19","v":0}]
[null,null,"連携分",null,null,null,null,null,null,null,null,null,null,{"$f":"N42/10*0.258","v":0},"kl",null,null,null,null,null,null,null,null,null,null,null,null,null,null,null,39,{"$f":"$T$19","v":0}]
[null,null,"前年度原油換算ｋｌ",null,null,null,null,null,null,null,null,{"$f":"IF($A$4>3, INDIRECT(\"保存用!R52C\"&$A$4-1,FALSE), 0)","v":0},"kl",{"$f":"IF($A$4>3, INDIRECT(\"保存用!R6C\"&$A$4-1,FALSE), 0)","v":0},"kl",null,null,null,null,null,null,null,null,null,null,null,null,null,null,null,40,{"$f":"$U$19","v":0}]
[null,null,"連携分",null,null,null,null,null,null,null,null,null,null,{"$f":"IF($A$4>3, INDIRECT(\"保存用!R6C\"&$A$4-1,FALSE), 0)","v":0},"kl",null,null,null,null,null,null,null,null,null,null,null,null,null,null,null,41,{"$f":"$J$20","v":0}]
[null,null,"対前年度比（％）",null,null,null,null,null,null,null,null,{"$f":"IF(OR($A$4=\"\",$A$4<4,L44=\"\"),\"-\",IF(ISERR(L44/$AD$54),\"\",L44/$AD$54))","v":""},null,{"$f":"IF(OR($A$4=\"\",$A$4<4,N44=\"\"),\"-\",IF(ISERR(N44/$AD$55),\"\",N44/$AD$55))","v":""},null,null,null,null,null,null,null,null,null,null,null,null,null,null,null,null,42,{"$f":"$U$20","v":0}]
[null,null,"連携分",null,null,null,null,null,null,null,null,null,null,{"$f":"IF(OR($A$4=\"\",$A$4<4,N45=\"\"),\"-\",IF(ISERR(N45/$AD$56),\"\",N45/$AD$56))","v":""},null,null,null,null,null,null,null,null,null,null,null,null,null,null,null,null,43,{"$f":"$H$21","v":0}]
[null,null,"","",null,null,null,null,null,null,null,null,null,null,null,null,null,null,null,null,null,null,null,null,null,null,null,null,null,null,44,{"$f":"$J$21","v":0}]
[null,null,"","",null,null,"（連携事業者で使用した分）",null,null,null,null,null,null,null,null,null,null,null,null,null,null,null,null,null,null,null,null,null,null,null,45,{"$f":"$T$21","v":0}]
[null,null,null,null,null,null,null,null,null,null,null,null,null,null,null,null,null,null,null,null,null,null,null,null,null,null,null,null,null,null,46,{"$f":"$U$21","v":0}]
[null,null,null,null,null,null,null,null,null,null,null,null,null,null,null,null,null,null,null,null,null,null,null,null,null,null,null,null,null,"前年度比較用",47,{"$f":"$J$22","v":0}]
[null,null,null,null,null,null,null,null,null,null,null,null,null,null,null,null,null,null,null,null,null,null,null,null,null,null,null,null,null,{"$f":"OFFSET(保存用!$A$1,52-1,($A$4-1)-1)","v":0},48,{"$f":"$U$22","v":0}]
[0,null,null,null,null,null,null,null,null,null,null,null,null,null,null,null,null,null,null,null,null,null,null,null,null,null,null,null,null,{"$f":"OFFSET(保存用!$A$1,53-1,($A$4-1)-1)","v":0},49,{"$f":"$H$23","v":0}]
[null,null,null,null,null,null,null,null,null,null,null,null,null,null,null,null,null,null,null,null,null,null,null,null,null,null,null,null,null,{"$f":"OFFSET(保存用!$A$1,54-1,($A$4-1)-1)","v":0},50,{"$f":"$J$23","v":0}]
[null,null,null,null,null,null,null,null,null,null,null,null,null,null,null,null,null,null,null,null,null,null,null,null,null,null,null,null,null,null,51,{"$f":"$T$23","v":0}]
[null,null,null,null,null,null,null,null,null,null,null,null,null,null,null,null,null,null,null,null,null,null,null,null,null,null,null,null,null,null,52,{"$f":"$U$23","v":0}]
[null,null,null,null,null,null,null,null,null,null,null,null,null,null,null,null,null,null,null,null,null,null,null,null,null,null,null,null,null,null,53,{"$f":"$J$24","v":0}]
[null,null,null,null,null,null,null,null,null,null,null,null,null,null,null,null,null,null,null,null,null,null,null,null,null,null,null,null,null,null,54,{"$f":"$U$24","v":0}]
[null,null,null,null,null,null,null,null,null,null,null,null,null,null,null,null,null,null,null,null,null,null,null,null,null,null,null,null,null,null,55,{"$f":"$H$25","v":0}]
[null,null,null,null,null,null,null,null,null,null,null,null,null,null,null,null,null,null,null,null,null,null,null,null,null,null,null,null,null,null,56,{"$f":"$J$25","v":0}]
[null,null,null,null,null,null,null,null,null,null,null,null,null,null,null,null,null,null,null,null,null,null,null,null,null,null,null,null,null,null,57,{"$f":"$T$25","v":0}]
[null,null,null,null,null,null,null,null,null,null,null,null,null,null,null,null,null,null,null,null,null,null,null,null,null,null,null,null,null,null,58,{"$f":"$U$25","v":0}]
[null,null,null,null,null,null,null,null,null,null,null,null,null,null,null,null,null,null,null,null,null,null,null,null,null,null,null,null,null,null,59,{"$f":"$J$26","v":0}]
[null,null,null,null,null,null,null,null,null,null,null,null,null,null,null,null,null,null,null,null,null,null,null,null,null,null,null,null,null,null,60,{"$f":"$U$26","v":0}]
[null,null,null,null,null,null,null,null,null,null,null,null,null,null,null,null,null,null,null,null,null,null,null,null,null,null,null,null,null,null,61,{"$f":"$H$27","v":0}]
[null,null,null,null,null,null,null,null,null,null,null,null,null,null,null,null,null,null,null,null,null,null,null,null,null,null,null,null,null,null,62,{"$f":"$J$27","v":0}]
[null,null,null,null,null,null,null,null,null,null,null,null,null,null,null,null,null,null,null,null,null,null,null,null,null,null,null,null,null,null,63,{"$f":"$T$27","v":0}]
[null,null,null,null,null,null,null,null,null,null,null,null,null,null,null,null,null,null,null,null,null,null,null,null,null,null,null,null,null,null,64,{"$f":"$U$27","v":0}]
[null,null,null,null,null,null,null,null,null,null,null,null,null,null,null,null,null,null,null,null,null,null,null,null,null,null,null,null,null,null,65,{"$f":"$J$28","v":0}]
[null,null,null,null,null,null,null,null,null,null,null,null,null,null,null,null,null,null,null,null,null,null,null,null,null,null,null,null,null,null,66,{"$f":"$U$28","v":0}]
[null,null,null,null,null,null,null,null,null,null,null,null,null,null,null,null,null,null,null,null,null,null,null,null,null,null,null,null,null,null,67,{"$f":"$H$29","v":0}]
[null,null,null,null,null,null,null,null,null,null,null,null,null,null,null,null,null,null,null,null,null,null,null,null,null,null,null,null,null,null,68,{"$f":"$J$29","v":0}]
[null,null,null,null,null,null,null,null,null,null,null,null,null,null,null,null,null,null,null,null,null,null,null,null,null,null,null,null,null,null,69,{"$f":"$T$29","v":0}]
[null,null,null,null,null,null,null,null,null,null,null,null,null,null,null,null,null,null,null,null,null,null,null,null,null,null,null,null,null,null,70,{"$f":"$U$29","v":0}]
[null,null,null,null,null,null,null,null,null,null,null,null,null,null,null,null,null,null,null,null,null,null,null,null,null,null,null,null,null,null,71,{"$f":"$J$30","v":0}]
[null,null,null,null,null,null,null,null,null,null,null,null,null,null,null,null,null,null,null,null,null,null,null,null,null,null,null,null,null,null,72,{"$f":"$U$30","v":0}]
[null,null,null,null,null,null,null,null,null,null,null,null,null,null,null,null,null,null,null,null,null,null,null,null,null,null,null,null,null,null,73,{"$f":"$H$31","v":0}]
[null,null,null,null,null,null,null,null,null,null,null,null,null,null,null,null,null,null,null,null,null,null,null,null,null,null,null,null,null,null,74,{"$f":"$J$31","v":0}]
[null,null,null,null,null,null,null,null,null,null,null,null,null,null,null,null,null,null,null,null,null,null,null,null,null,null,null,null,null,null,75,{"$f":"$T$31","v":0}]
[null,null,null,null,null,null,null,null,null,null,null,null,null,null,null,null,null,null,null,null,null,null,null,null,null,null,null,null,null,null,76,{"$f":"$U$31","v":0}]
[null,null,null,null,null,null,null,null,null,null,null,null,null,null,null,null,null,null,null,null,null,null,null,null,null,null,null,null,null,null,77,{"$f":"$J$32","v":0}]
[null,null,null,null,null,null,null,null,null,null,null,null,null,null,null,null,null,null,null,null,null,null,null,null,null,null,null,null,null,null,78,{"$f":"$U$32","v":0}]
[null,null,null,null,null,null,null,null,null,null,null,null,null,null,null,null,null,null,null,null,null,null,null,null,null,null,null,null,null,null,79,{"$f":"$H$33","v":0}]
[null,null,null,null,null,null,null,null,null,null,null,null,null,null,null,null,null,null,null,null,null,null,null,null,null,null,null,null,null,null,80,{"$f":"$J$33","v":0}]
[null,null,null,null,null,null,null,null,null,null,null,null,null,null,null,null,null,null,null,null,null,null,null,null,null,null,null,null,null,null,81,{"$f":"$T$33","v":0}]
[null,null,null,null,null,null,null,null,null,null,null,null,null,null,null,null,null,null,null,null,null,null,null,null,null,null,null,null,null,null,82,{"$f":"$U$33","v":0}]
[null,null,null,null,null,null,null,null,null,null,null,null,null,null,null,null,null,null,null,null,null,null,null,null,null,null,null,null,null,null,83,{"$f":"$J$34","v":0}]
[null,null,null,null,null,null,null,null,null,null,null,null,null,null,null,null,null,null,null,null,null,null,null,null,null,null,null,null,null,null,84,{"$f":"$U$34","v":0}]
[null,null,null,null,null,null,null,null,null,null,null,null,null,null,null,null,null,null,null,null,null,null,null,null,null,null,null,null,null,null,85,{"$f":"$H$35","v":0}]
[null,null,null,null,null,null,null,null,null,null,null,null,null,null,null,null,null,null,null,null,null,null,null,null,null,null,null,null,null,null,86,{"$f":"$J$35","v":0}]
[null,null,null,null,null,null,null,null,null,null,null,null,null,null,null,null,null,null,null,null,null,null,null,null,null,null,null,null,null,null,87,{"$f":"$T$35","v":0}]
[null,null,null,null,null,null,null,null,null,null,null,null,null,null,null,null,null,null,null,null,null,null,null,null,null,null,null,null,null,null,88,{"$f":"$U$35","v":0}]
[null,null,null,null,null,null,null,null,null,null,null,null,null,null,null,null,null,null,null,null,null,null,null,null,null,null,null,null,null,null,89,{"$f":"$J$36","v":0}]
[null,null,null,null,null,null,null,null,null,null,null,null,null,null,null,null,null,null,null,null,null,null,null,null,null,null,null,null,null,null,90,{"$f":"$U$36","v":0}]
[null,null,null,null,null,null,null,null,null,null,null,null,null,null,null,null,null,null,null,null,null,null,null,null,null,null,null,null,null,null,91,{"$f":"H37","v":0}]
[null,null,null,null,null,null,null,null,null,null,null,null,null,null,null,null,null,null,null,null,null,null,null,null,null,null,null,null,null,null,92,{"$f":"J37","v":0}]
[null,null,null,null,null,null,null,null,null,null,null,null,null,null,null,null,null,null,null,null,null,null,null,null,null,null,null,null,null,null,93,{"$f":"J38","v":0}]
[null,null,null,null,null,null,null,null,null,null,null,null,null,null,null,null,null,null,null,null,null,null,null,null,null,null,null,null,null,null,94,{"$f":"C39","v":0}]
[null,null,null,null,null,null,null,null,null,null,null,null,null,null,null,null,null,null,null,null,null,null,null,null,null,null,null,null,null,null,95,{"$f":"G39","v":""}]
[null,null,null,null,null,null,null,null,null,null,null,null,null,null,null,null,null,null,null,null,null,null,null,null,null,null,null,null,null,null,96,{"$f":"H39","v":0}]
[null,null,null,null,null,null,null,null,null,null,null,null,null,null,null,null,null,null,null,null,null,null,null,null,null,null,null,null,null,null,97,{"$f":"J39","v":0}]
[null,null,null,null,null,null,null,null,null,null,null,null,null,null,null,null,null,null,null,null,null,null,null,null,null,null,null,null,null,null,98,{"$f":"L39","v":0}]
[null,null,null,null,null,null,null,null,null,null,null,null,null,null,null,null,null,null,null,null,null,null,null,null,null,null,null,null,null,null,99,{"$f":"N39","v":0}]
[null,null,null,null,null,null,null,null,null,null,null,null,null,null,null,null,null,null,null,null,null,null,null,null,null,null,null,null,null,null,100,{"$f":"Q39","v":0}]
[null,null,null,null,null,null,null,null,null,null,null,null,null,null,null,null,null,null,null,null,null,null,null,null,null,null,null,null,null,null,101,{"$f":"R39","v":0}]
[null,null,null,null,null,null,null,null,null,null,null,null,null,null,null,null,null,null,null,null,null,null,null,null,null,null,null,null,null,null,102,{"$f":"G40","v":""}]
[null,null,null,null,null,null,null,null,null,null,null,null,null,null,null,null,null,null,null,null,null,null,null,null,null,null,null,null,null,null,103,{"$f":"J40","v":0}]
[null,null,null,null,null,null,null,null,null,null,null,null,null,null,null,null,null,null,null,null,null,null,null,null,null,null,null,null,null,null,104,{"$f":"L40","v":0}]
[null,null,null,null,null,null,null,null,null,null,null,null,null,null,null,null,null,null,null,null,null,null,null,null,null,null,null,null,null,null,105,{"$f":"N40","v":0}]
[null,null,null,null,null,null,null,null,null,null,null,null,null,null,null,null,null,null,null,null,null,null,null,null,null,null,null,null,null,null,106,{"$f":"R40","v":0}]
[null,null,null,null,null,null,null,null,null,null,null,null,null,null,null,null,null,null,null,null,null,null,null,null,null,null,null,null,null,null,107,{"$f":"C50","v":""}]
[null,null,null,null,null,null,null,null,null,null,null,null,null,null,null,null,null,null,null,null,null,null,null,null,null,null,null,null,null,null,108,{"$f":"E50","v":0}]
[null,null,null,null,null,null,null,null,null,null,null,null,null,null,null,null,null,null,null,null,null,null,null,null,null,null,null,null,null,null,109,{"$f":"C51","v":""}]
[null,null,null,null,null,null,null,null,null,null,null,null,null,null,null,null,null,null,null,null,null,null,null,null,null,null,null,null,null,null,110,{"$f":"E51","v":0}]

{"sheet":"第1表(2)","index":11,"n_rows":100,"n_cols":28,"rows_kept":100,"cut":false,"hidden":false,"merged":[[33,13,33,14],[28,2,28,4],[28,5,28,6],[28,13,28,14],[26,13,26,14],[33,2,33,4],[33,5,33,6],[33,7,33,8],[33,9,33,10],[33,11,33,12],[27,2,27,4],[27,5,27,6],[27,7,27,8],[27,9,27,10],[27,11,27,12],[26,9,26,10],[26,11,26,12],[31,2,31,4],[31,5,31,6],[31,7,31,8],[31,9,31,10],[31,11,31,12],[31,13,31,14],[30,2,30,4],[30,5,30,6],[30,7,30,8],[30,9,30,10],[30,11,30,12],[30,13,30,14],[29,13,29,14],[24,2,24,4],[24,5,24,6],[24,7,24,8],[24,9,24,10],[29,2,29,4],[29,5,29,6],[29,7,29,8],[29,9,29,10],[29,11,29,12],[25,7,25,8],[25,9,25,10],[25,11,25,12],[25,13,25,14],[24,11,24,12],[24,13,24,14],[28,7,28,8],[28,9,28,10],[28,11,28,12],[27,13,27,14],[26,2,26,4],[25,2,25,4],[25,5,25,6],[16,9,16,10],[15,11,15,14],[14,2,14,16],[26,5,26,6],[26,7,26,8],[23,2,23,4],[23,5,23,6],[23,7,23,8],[23,9,23,10],[23,11,23,12],[23,13,23,14],[21,13,21,14],[22,7,22,8],[22,9,22,10],[22,11,22,12],[22,13,22,14],[20,13,20,14],[21,2,21,4],[21,5,21,6],[21,7,21,8],[21,9,21,10],[21,11,21,12],[22,2,22,4],[15,15,16,16],[17,13,17,14],[17,11,17,12],[22,5,22,6],[17,9,17,10],[17,7,17,8],[5,2,5,16],[6,2,6,16],[9,2,9,16],[18,2,18,4],[18,5,18,6],[18,7,18,8],[18,9,18,10],[18,11,18,12],[18,13,18,14],[15,7,15,10],[17,5,17,6],[10,2,10,16],[11,2,11,16],[12,2,12,16],[15,2,16,4],[15,5,16,6],[17,2,17,4],[16,7,16,8],[35,2,35,4],[35,5,35,6],[35,7,35,8],[35,9,35,10],[35,11,35,12],[35,13,35,14],[3,2,3,16],[8,2,8,16],[1,2,1,16],[2,2,2,16],[20,2,20,4],[20,5,20,6],[20,7,20,8],[20,9,20,10],[20,11,20,12],[4,2,4,16],[19,2,19,4],[19,5,19,6],[19,7,19,8],[19,9,19,10],[19,11,19,12],[19,13,19,14],[16,11,16,12],[16,13,16,14]]}
[1]
[null,null,"２．貨客輸送連携省エネルギー措置の実績",null,null,null,null,null,null,null,null,null,null,null,null,null,null,null,null,null,null,null,"転記用データ",null,"ドロップダウン用データ"]
[null,null,"（１）貨客輸送連携省エネルギー措置に関して使用したこととされるエネルギー量及び当該措置を踏まえた輸送量の合計と省エネ効果"]
[null,null,"",null,null,null,null,null,null,null,null,null,null,null,null,null,null,null,null,null,null,null,1,{"$f":"C4","v":""}]
[null,null,""]
[null,null,""]
[null,null,""]
[]
[null,null,"（２）貨客輸送連携省エネルギー措置に関して使用したこととされるエネルギー量及び当該措置を踏まえた輸送量の算出方法"]
[null,null,"",null,null,null,null,null,null,null,null,null,null,null,null,null,null,null,null,null,null,null,2,{"$f":"C10","v":""}]
[null,null,""]
[null,null,""]
[null,null,""]
[]
[null,null,"（３）貨客輸送連携省エネルギー措置に関して使用したこととされるエネルギー量及び当該措置を踏まえた輸送量"]
[4,null,"エネルギーの種類",null,null,"単位",null,"連携省エネルギー措置に係る実際のエネルギー使用量",null,null,null,"連携省エネルギー措置を踏まえたエネルギー使用量",null,null,null,"連携省エネルギー措置を踏まえた輸送量"]
[4,null,null,null,null,null,null,"数値",null,"熱量ＧＪ",null,"数値",null,"熱量ＧＪ",null,null,null,null,null,null,null,"電気係数検索用引数",null,null,"エネルギーの種類","単位","電気係数検索用引数","都市ガス熱量参照セル"]
[0,null,"",null,null,{"$f":"IF(C18<>\"\",VLOOKUP(C18,$Y$18:$Z$32,2,FALSE),\"\")","v":""},null,null,null,{"$f":"IF($F18=\"千m３\",IF($AB$28=\"\",\"\",H18*INDIRECT($AB$28)),IF($F18=\"千ｋＷｈ\",IF(H18*VLOOKUP($V18,係数,3,FALSE)=0,\"\",H18*VLOOKUP($V18,係数,3,FALSE)),IF(H18=\"\",\"\",IF(ISERROR(VLOOKUP($C18,'係数（燃料）'!$C$3:$E$13,3,FALSE)),\"\",H18*VLOOKUP($C18,'係数（燃料）'!$C$3:$E$13,3,FALSE)))))","v":""},null,null,null,{"$f":"IF($F18=\"千m３\",IF($AB$28=\"\",\"\",L18*INDIRECT($AB$28)),IF($F18=\"千ｋＷｈ\",IF(L18*VLOOKUP($V18,係数,3,FALSE)=0,\"\",L18*VLOOKUP($V18,係数,3,FALSE)),IF(L18=\"\",\"\",IF(ISERROR(VLOOKUP($C18,'係数（燃料）'!$C$3:$E$13,3,FALSE)),\"\",L18*VLOOKUP($C18,'係数（燃料）'!$C$3:$E$13,3,FALSE)))))","v":""},null,null,"",null,null,null,null,{"$f":"IF(F18=\"千ｋＷｈ\",VLOOKUP(C18,$Y$18:$AA$32,3,FALSE),\"\")","v":""},3,{"$f":"$C$18","v":""},"揮発油","ｋｌ"]
[0,null,"",null,null,{"$f":"IF(C19<>\"\",VLOOKUP(C19,$Y$18:$Z$32,2,FALSE),\"\")","v":""},null,null,null,{"$f":"IF($F19=\"千m３\",IF($AB$28=\"\",\"\",H19*INDIRECT($AB$28)),IF($F19=\"千ｋＷｈ\",IF(H19*VLOOKUP($V19,係数,3,FALSE)=0,\"\",H19*VLOOKUP($V19,係数,3,FALSE)),IF(H19=\"\",\"\",IF(ISERROR(VLOOKUP($C19,'係数（燃料）'!$C$3:$E$13,3,FALSE)),\"\",H19*VLOOKUP($C19,'係数（燃料）'!$C$3:$E$13,3,FALSE)))))","v":""},null,null,null,{"$f":"IF($F19=\"千m３\",IF($AB$28=\"\",\"\",L19*INDIRECT($AB$28)),IF($F19=\"千ｋＷｈ\",IF(L19*VLOOKUP($V19,係数,3,FALSE)=0,\"\",L19*VLOOKUP($V19,係数,3,FALSE)),IF(L19=\"\",\"\",IF(ISERROR(VLOOKUP($C19,'係数（燃料）'!$C$3:$E$13,3,FALSE)),\"\",L19*VLOOKUP($C19,'係数（燃料）'!$C$3:$E$13,3,FALSE)))))","v":""},null,null,"",null,null,null,null,{"$f":"IF(F19=\"千ｋＷｈ\",VLOOKUP(C19,$Y$18:$AA$32,3,FALSE),\"\")","v":""},4,{"$f":"$H$18","v":0},"ジェット燃料油","ｋｌ"]
[0,null,"",null,null,"",null,null,null,{"$f":"IF($F20=\"千m３\",IF($AB$28=\"\",\"\",H20*INDIRECT($AB$28)),IF($F20=\"千ｋＷｈ\",IF(H20*VLOOKUP($V20,係数,3,FALSE)=0,\"\",H20*VLOOKUP($V20,係数,3,FALSE)),IF(H20=\"\",\"\",IF(ISERROR(VLOOKUP($C20,'係数（燃料）'!$C$3:$E$13,3,FALSE)),\"\",H20*VLOOKUP($C20,'係数（燃料）'!$C$3:$E$13,3,FALSE)))))","v":""},null,null,null,{"$f":"IF($F20=\"千m３\",IF($AB$28=\"\",\"\",L20*INDIRECT($AB$28)),IF($F20=\"千ｋＷｈ\",IF(L20*VLOOKUP($V20,係数,3,FALSE)=0,\"\",L20*VLOOKUP($V20,係数,3,FALSE)),IF(L20=\"\",\"\",IF(ISERROR(VLOOKUP($C20,'係数（燃料）'!$C$3:$E$13,3,FALSE)),\"\",L20*VLOOKUP($C20,'係数（燃料）'!$C$3:$E$13,3,FALSE)))))","v":""},null,null,"",null,null,null,null,"",5,{"$f":"$L$18","v":0},"軽油","ｋｌ"]
[0,null,"",null,null,"",null,null,null,{"$f":"IF($F21=\"千m３\",IF($AB$28=\"\",\"\",H21*INDIRECT($AB$28)),IF($F21=\"千ｋＷｈ\",IF(H21*VLOOKUP($V21,係数,3,FALSE)=0,\"\",H21*VLOOKUP($V21,係数,3,FALSE)),IF(H21=\"\",\"\",IF(ISERROR(VLOOKUP($C21,'係数（燃料）'!$C$3:$E$13,3,FALSE)),\"\",H21*VLOOKUP($C21,'係数（燃料）'!$C$3:$E$13,3,FALSE)))))","v":""},null,null,null,{"$f":"IF($F21=\"千m３\",IF($AB$28=\"\",\"\",L21*INDIRECT($AB$28)),IF($F21=\"千ｋＷｈ\",IF(L21*VLOOKUP($V21,係数,3,FALSE)=0,\"\",L21*VLOOKUP($V21,係数,3,FALSE)),IF(L21=\"\",\"\",IF(ISERROR(VLOOKUP($C21,'係数（燃料）'!$C$3:$E$13,3,FALSE)),\"\",L21*VLOOKUP($C21,'係数（燃料）'!$C$3:$E$13,3,FALSE)))))","v":""},null,null,"",null,null,null,null,"",6,{"$f":"$P$18","v":0},"Ａ重油","ｋｌ"]
[0,null,"",null,null,"",null,null,null,{"$f":"IF($F22=\"千m３\",IF($AB$28=\"\",\"\",H22*INDIRECT($AB$28)),IF($F22=\"千ｋＷｈ\",IF(H22*VLOOKUP($V22,係数,3,FALSE)=0,\"\",H22*VLOOKUP($V22,係数,3,FALSE)),IF(H22=\"\",\"\",IF(ISERROR(VLOOKUP($C22,'係数（燃料）'!$C$3:$E$13,3,FALSE)),\"\",H22*VLOOKUP($C22,'係数（燃料）'!$C$3:$E$13,3,FALSE)))))","v":""},null,null,null,{"$f":"IF($F22=\"千m３\",IF($AB$28=\"\",\"\",L22*INDIRECT($AB$28)),IF($F22=\"千ｋＷｈ\",IF(L22*VLOOKUP($V22,係数,3,FALSE)=0,\"\",L22*VLOOKUP($V22,係数,3,FALSE)),IF(L22=\"\",\"\",IF(ISERROR(VLOOKUP($C22,'係数（燃料）'!$C$3:$E$13,3,FALSE)),\"\",L22*VLOOKUP($C22,'係数（燃料）'!$C$3:$E$13,3,FALSE)))))","v":""},null,null,"",null,null,null,null,"",7,{"$f":"$Q$18","v":""},"Ｂ・Ｃ重油","ｋｌ"]
[0,null,"",null,null,"",null,null,null,{"$f":"IF($F23=\"千m３\",IF($AB$28=\"\",\"\",H23*INDIRECT($AB$28)),IF($F23=\"千ｋＷｈ\",IF(H23*VLOOKUP($V23,係数,3,FALSE)=0,\"\",H23*VLOOKUP($V23,係数,3,FALSE)),IF(H23=\"\",\"\",IF(ISERROR(VLOOKUP($C23,'係数（燃料）'!$C$3:$E$13,3,FALSE)),\"\",H23*VLOOKUP($C23,'係数（燃料）'!$C$3:$E$13,3,FALSE)))))","v":""},null,null,null,{"$f":"IF($F23=\"千m３\",IF($AB$28=\"\",\"\",L23*INDIRECT($AB$28)),IF($F23=\"千ｋＷｈ\",IF(L23*VLOOKUP($V23,係数,3,FALSE)=0,\"\",L23*VLOOKUP($V23,係数,3,FALSE)),IF(L23=\"\",\"\",IF(ISERROR(VLOOKUP($C23,'係数（燃料）'!$C$3:$E$13,3,FALSE)),\"\",L23*VLOOKUP($C23,'係数（燃料）'!$C$3:$E$13,3,FALSE)))))","v":""},null,null,"",null,null,null,null,"",8,{"$f":"$C$19","v":""},"液化石油ガス(ＬＰＧ)","ｔ"]
[0,null,"",null,null,"",null,null,null,{"$f":"IF($F24=\"千m３\",IF($AB$28=\"\",\"\",H24*INDIRECT($AB$28)),IF($F24=\"千ｋＷｈ\",IF(H24*VLOOKUP($V24,係数,3,FALSE)=0,\"\",H24*VLOOKUP($V24,係数,3,FALSE)),IF(H24=\"\",\"\",IF(ISERROR(VLOOKUP($C24,'係数（燃料）'!$C$3:$E$13,3,FALSE)),\"\",H24*VLOOKUP($C24,'係数（燃料）'!$C$3:$E$13,3,FALSE)))))","v":""},null,null,null,{"$f":"IF($F24=\"千m３\",IF($AB$28=\"\",\"\",L24*INDIRECT($AB$28)),IF($F24=\"千ｋＷｈ\",IF(L24*VLOOKUP($V24,係数,3,FALSE)=0,\"\",L24*VLOOKUP($V24,係数,3,FALSE)),IF(L24=\"\",\"\",IF(ISERROR(VLOOKUP($C24,'係数（燃料）'!$C$3:$E$13,3,FALSE)),\"\",L24*VLOOKUP($C24,'係数（燃料）'!$C$3:$E$13,3,FALSE)))))","v":""},null,null,"",null,null,null,null,"",9,{"$f":"$H$19","v":0},"液化天然ガス(ＬＮＧ)","ｔ"]
[0,null,"",null,null,"",null,null,null,{"$f":"IF($F25=\"千m３\",IF($AB$28=\"\",\"\",H25*INDIRECT($AB$28)),IF($F25=\"千ｋＷｈ\",IF(H25*VLOOKUP($V25,係数,3,FALSE)=0,\"\",H25*VLOOKUP($V25,係数,3,FALSE)),IF(H25=\"\",\"\",IF(ISERROR(VLOOKUP($C25,'係数（燃料）'!$C$3:$E$13,3,FALSE)),\"\",H25*VLOOKUP($C25,'係数（燃料）'!$C$3:$E$13,3,FALSE)))))","v":""},null,null,null,{"$f":"IF($F25=\"千m３\",IF($AB$28=\"\",\"\",L25*INDIRECT($AB$28)),IF($F25=\"千ｋＷｈ\",IF(L25*VLOOKUP($V25,係数,3,FALSE)=0,\"\",L25*VLOOKUP($V25,係数,3,FALSE)),IF(L25=\"\",\"\",IF(ISERROR(VLOOKUP($C25,'係数（燃料）'!$C$3:$E$13,3,FALSE)),\"\",L25*VLOOKUP($C25,'係数（燃料）'!$C$3:$E$13,3,FALSE)))))","v":""},null,null,"",null,null,null,null,"",10,{"$f":"$L$19","v":0},"石炭（原料炭）","ｔ"]
[0,null,"",null,null,"",null,null,null,{"$f":"IF($F26=\"千m３\",IF($AB$28=\"\",\"\",H26*INDIRECT($AB$28)),IF($F26=\"千ｋＷｈ\",IF(H26*VLOOKUP($V26,係数,3,FALSE)=0,\"\",H26*VLOOKUP($V26,係数,3,FALSE)),IF(H26=\"\",\"\",IF(ISERROR(VLOOKUP($C26,'係数（燃料）'!$C$3:$E$13,3,FALSE)),\"\",H26*VLOOKUP($C26,'係数（燃料）'!$C$3:$E$13,3,FALSE)))))","v":""},null,null,null,{"$f":"IF($F26=\"千m３\",IF($AB$28=\"\",\"\",L26*INDIRECT($AB$28)),IF($F26=\"千ｋＷｈ\",IF(L26*VLOOKUP($V26,係数,3,FALSE)=0,\"\",L26*VLOOKUP($V26,係数,3,FALSE)),IF(L26=\"\",\"\",IF(ISERROR(VLOOKUP($C26,'係数（燃料）'!$C$3:$E$13,3,FALSE)),\"\",L26*VLOOKUP($C26,'係数（燃料）'!$C$3:$E$13,3,FALSE)))))","v":""},null,null,"",null,null,null,null,"",11,{"$f":"$P$19","v":0},"石炭（一般炭）","ｔ"]
[0,null,"",null,null,"",null,null,null,{"$f":"IF($F27=\"千m３\",IF($AB$28=\"\",\"\",H27*INDIRECT($AB$28)),IF($F27=\"千ｋＷｈ\",IF(H27*VLOOKUP($V27,係数,3,FALSE)=0,\"\",H27*VLOOKUP($V27,係数,3,FALSE)),IF(H27=\"\",\"\",IF(ISERROR(VLOOKUP($C27,'係数（燃料）'!$C$3:$E$13,3,FALSE)),\"\",H27*VLOOKUP($C27,'係数（燃料）'!$C$3:$E$13,3,FALSE)))))","v":""},null,null,null,{"$f":"IF($F27=\"千m３\",IF($AB$28=\"\",\"\",L27*INDIRECT($AB$28)),IF($F27=\"千ｋＷｈ\",IF(L27*VLOOKUP($V27,係数,3,FALSE)=0,\"\",L27*VLOOKUP($V27,係数,3,FALSE)),IF(L27=\"\",\"\",IF(ISERROR(VLOOKUP($C27,'係数（燃料）'!$C$3:$E$13,3,FALSE)),\"\",L27*VLOOKUP($C27,'係数（燃料）'!$C$3:$E$13,3,FALSE)))))","v":""},null,null,"",null,null,null,null,"",12,{"$f":"$Q$19","v":""},"石炭（無煙炭）","ｔ"]
[0,null,"",null,null,"",null,null,null,{"$f":"IF($F28=\"千m３\",IF($AB$28=\"\",\"\",H28*INDIRECT($AB$28)),IF($F28=\"千ｋＷｈ\",IF(H28*VLOOKUP($V28,係数,3,FALSE)=0,\"\",H28*VLOOKUP($V28,係数,3,FALSE)),IF(H28=\"\",\"\",IF(ISERROR(VLOOKUP($C28,'係数（燃料）'!$C$3:$E$13,3,FALSE)),\"\",H28*VLOOKUP($C28,'係数（燃料）'!$C$3:$E$13,3,FALSE)))))","v":""},null,null,null,{"$f":"IF($F28=\"千m３\",IF($AB$28=\"\",\"\",L28*INDIRECT($AB$28)),IF($F28=\"千ｋＷｈ\",IF(L28*VLOOKUP($V28,係数,3,FALSE)=0,\"\",L28*VLOOKUP($V28,係数,3,FALSE)),IF(L28=\"\",\"\",IF(ISERROR(VLOOKUP($C28,'係数（燃料）'!$C$3:$E$13,3,FALSE)),\"\",L28*VLOOKUP($C28,'係数（燃料）'!$C$3:$E$13,3,FALSE)))))","v":""},null,null,"",null,null,null,null,"",13,{"$f":"$C$20","v":""},"都市ガス（CNGを含む。）","千m３",null,{"$f":"IF(OR(様式指定!A1=1,様式指定!A1=4,様式指定!A1=9),\"'第1表(1)_貨物'!E51\",IF(OR(様式指定!A1=2,様式指定!A1=5),\"'第1表(1)_旅客'!E51\",IF(様式指定!A1=3,\"'第1表(1)_航空'!E51\",\"非対応\")))","v":"'第1表(1)_貨物'!E51"}]
[0,null,"",null,null,"",null,null,null,{"$f":"IF($F29=\"千m３\",IF($AB$28=\"\",\"\",H29*INDIRECT($AB$28)),IF($F29=\"千ｋＷｈ\",IF(H29*VLOOKUP($V29,係数,3,FALSE)=0,\"\",H29*VLOOKUP($V29,係数,3,FALSE)),IF(H29=\"\",\"\",IF(ISERROR(VLOOKUP($C29,'係数（燃料）'!$C$3:$E$13,3,FALSE)),\"\",H29*VLOOKUP($C29,'係数（燃料）'!$C$3:$E$13,3,FALSE)))))","v":""},null,null,null,{"$f":"IF($F29=\"千m３\",IF($AB$28=\"\",\"\",L29*INDIRECT($AB$28)),IF($F29=\"千ｋＷｈ\",IF(L29*VLOOKUP($V29,係数,3,FALSE)=0,\"\",L29*VLOOKUP($V29,係数,3,FALSE)),IF(L29=\"\",\"\",IF(ISERROR(VLOOKUP($C29,'係数（燃料）'!$C$3:$E$13,3,FALSE)),\"\",L29*VLOOKUP($C29,'係数（燃料）'!$C$3:$E$13,3,FALSE)))))","v":""},null,null,"",null,null,null,null,"",14,{"$f":"$H$20","v":0},"電気事業者／昼間買電","千ｋＷｈ","昼間買電"]
[0,null,"",null,null,"",null,null,null,{"$f":"IF($F30=\"千m３\",IF($AB$28=\"\",\"\",H30*INDIRECT($AB$28)),IF($F30=\"千ｋＷｈ\",IF(H30*VLOOKUP($V30,係数,3,FALSE)=0,\"\",H30*VLOOKUP($V30,係数,3,FALSE)),IF(H30=\"\",\"\",IF(ISERROR(VLOOKUP($C30,'係数（燃料）'!$C$3:$E$13,3,FALSE)),\"\",H30*VLOOKUP($C30,'係数（燃料）'!$C$3:$E$13,3,FALSE)))))","v":""},null,null,null,{"$f":"IF($F30=\"千m３\",IF($AB$28=\"\",\"\",L30*INDIRECT($AB$28)),IF($F30=\"千ｋＷｈ\",IF(L30*VLOOKUP($V30,係数,3,FALSE)=0,\"\",L30*VLOOKUP($V30,係数,3,FALSE)),IF(L30=\"\",\"\",IF(ISERROR(VLOOKUP($C30,'係数（燃料）'!$C$3:$E$13,3,FALSE)),\"\",L30*VLOOKUP($C30,'係数（燃料）'!$C$3:$E$13,3,FALSE)))))","v":""},null,null,"",null,null,null,null,"",15,{"$f":"$L$20","v":0},"電気事業者／夜間買電","千ｋＷｈ","夜間買電"]
[0,null,"",null,null,"",null,null,null,{"$f":"IF($F31=\"千m３\",IF($AB$28=\"\",\"\",H31*INDIRECT($AB$28)),IF($F31=\"千ｋＷｈ\",IF(H31*VLOOKUP($V31,係数,3,FALSE)=0,\"\",H31*VLOOKUP($V31,係数,3,FALSE)),IF(H31=\"\",\"\",IF(ISERROR(VLOOKUP($C31,'係数（燃料）'!$C$3:$E$13,3,FALSE)),\"\",H31*VLOOKUP($C31,'係数（燃料）'!$C$3:$E$13,3,FALSE)))))","v":""},null,null,null,{"$f":"IF($F31=\"千m３\",IF($AB$28=\"\",\"\",L31*INDIRECT($AB$28)),IF($F31=\"千ｋＷｈ\",IF(L31*VLOOKUP($V31,係数,3,FALSE)=0,\"\",L31*VLOOKUP($V31,係数,3,FALSE)),IF(L31=\"\",\"\",IF(ISERROR(VLOOKUP($C31,'係数（燃料）'!$C$3:$E$13,3,FALSE)),\"\",L31*VLOOKUP($C31,'係数（燃料）'!$C$3:$E$13,3,FALSE)))))","v":""},null,null,"",null,null,null,null,"",16,{"$f":"$P$20","v":0},"その他の買電","千ｋＷｈ","上記以外の買電"]
[0,null,"",null,null,"",null,null,null,{"$f":"IF($F32=\"千m３\",IF($AB$28=\"\",\"\",H32*INDIRECT($AB$28)),IF($F32=\"千ｋＷｈ\",IF(H32*VLOOKUP($V32,係数,3,FALSE)=0,\"\",H32*VLOOKUP($V32,係数,3,FALSE)),IF(H32=\"\",\"\",IF(ISERROR(VLOOKUP($C32,'係数（燃料）'!$C$3:$E$13,3,FALSE)),\"\",H32*VLOOKUP($C32,'係数（燃料）'!$C$3:$E$13,3,FALSE)))))","v":""},null,null,null,{"$f":"IF($F32=\"千m３\",IF($AB$28=\"\",\"\",L32*INDIRECT($AB$28)),IF($F32=\"千ｋＷｈ\",IF(L32*VLOOKUP($V32,係数,3,FALSE)=0,\"\",L32*VLOOKUP($V32,係数,3,FALSE)),IF(L32=\"\",\"\",IF(ISERROR(VLOOKUP($C32,'係数（燃料）'!$C$3:$E$13,3,FALSE)),\"\",L32*VLOOKUP($C32,'係数（燃料）'!$C$3:$E$13,3,FALSE)))))","v":""},null,null,"",null,null,null,null,"",17,{"$f":"$Q$20","v":""},"自家発電","千ｋＷｈ","自家発電"]
[null,null,"その他のエネルギー",null,null,null,null,null,null,null,null,null,null,null,null,null,null,null,null,null,null,null,18,{"$f":"$C$21","v":""}]
[null,null,"",null,null,"",null,"",null,"",null,"",null,"",null,"",null,null,null,null,null,null,19,{"$f":"$H$21","v":0},"自由記述"]
[null,null,null,null,null,null,null,null,null,null,null,null,null,null,null,null,null,null,null,null,null,null,20,{"$f":"$L$21","v":0}]
[null,null,"合計（チェック用）",null,null,null,null,null,null,{"$f":"SUM(J18:K34)","v":0},null,null,null,{"$f":"SUM(N18:O34)","v":0},null,{"$f":"SUM(P18:P32)","v":0},null,null,null,null,null,null,21,{"$f":"$P$21","v":0}]
[null,null,null,null,null,null,null,null,null,null,null,null,null,null,null,null,null,null,null,null,null,null,22,{"$f":"$Q$21","v":""},"万トン・km"]
[null,null,null,null,null,null,null,null,null,null,null,null,null,null,null,null,null,null,null,null,null,null,23,{"$f":"$C$22","v":""},"km"]
[null,null,null,null,null,null,null,null,null,null,null,null,null,null,null,null,null,null,null,null,null,null,24,{"$f":"$H$22","v":0}]
[1,null,null,null,null,null,null,null,null,null,null,null,null,null,null,null,null,null,null,null,null,null,25,{"$f":"$L$22","v":0}]
[null,null,null,null,null,null,null,null,null,null,null,null,null,null,null,null,null,null,null,null,null,null,26,{"$f":"$P$22","v":0}]
[null,null,null,null,null,null,null,null,null,null,null,null,null,null,null,null,null,null,null,null,null,null,27,{"$f":"$Q$22","v":""}]
[null,null,null,null,null,null,null,null,null,null,null,null,null,null,null,null,null,null,null,null,null,null,28,{"$f":"$C$23","v":""}]
[null,null,null,null,null,null,null,null,null,null,null,null,null,null,null,null,null,null,null,null,null,null,29,{"$f":"$H$23","v":0}]
[null,null,null,null,null,null,null,null,null,null,null,null,null,null,null,null,null,null,null,null,null,null,30,{"$f":"$L$23","v":0}]
[null,null,null,null,null,null,null,null,null,null,null,null,null,null,null,null,null,null,null,null,null,null,31,{"$f":"$P$23","v":0}]
[null,null,null,null,null,null,null,null,null,null,null,null,null,null,null,null,null,null,null,null,null,null,32,{"$f":"$Q$23","v":""}]
[null,null,null,null,null,null,null,null,null,null,null,null,null,null,null,null,null,null,null,null,null,null,33,{"$f":"$C$24","v":""}]
[null,null,null,null,null,null,null,null,null,null,null,null,null,null,null,null,null,null,null,null,null,null,34,{"$f":"$H$24","v":0}]
[null,null,null,null,null,null,null,null,null,null,null,null,null,null,null,null,null,null,null,null,null,null,35,{"$f":"$L$24","v":0}]
[null,null,null,null,null,null,null,null,null,null,null,null,null,null,null,null,null,null,null,null,null,null,36,{"$f":"$P$24","v":0}]
[null,null,null,null,null,null,null,null,null,null,null,null,null,null,null,null,null,null,null,null,null,null,37,{"$f":"$Q$24","v":""}]
[null,null,null,null,null,null,null,null,null,null,null,null,null,null,null,null,null,null,null,null,null,null,38,{"$f":"$C$25","v":""}]
[null,null,null,null,null,null,null,null,null,null,null,null,null,null,null,null,null,null,null,null,null,null,39,{"$f":"$H$25","v":0}]
[null,null,null,null,null,null,null,null,null,null,null,null,null,null,null,null,null,null,null,null,null,null,40,{"$f":"$L$25","v":0}]
[null,null,null,null,null,null,null,null,null,null,null,null,null,null,null,null,null,null,null,null,null,null,41,{"$f":"$P$25","v":0}]
[null,null,null,null,null,null,null,null,null,null,null,null,null,null,null,null,null,null,null,null,null,null,42,{"$f":"$Q$25","v":""}]
[null,null,null,null,null,null,null,null,null,null,null,null,null,null,null,null,null,null,null,null,null,null,43,{"$f":"$C$26","v":""}]
[null,null,null,null,null,null,null,null,null,null,null,null,null,null,null,null,null,null,null,null,null,null,44,{"$f":"$H$26","v":0}]
[null,null,null,null,null,null,null,null,null,null,null,null,null,null,null,null,null,null,null,null,null,null,45,{"$f":"$L$26","v":0}]
[null,null,null,null,null,null,null,null,null,null,null,null,null,null,null,null,null,null,null,null,null,null,46,{"$f":"$P$26","v":0}]
[null,null,null,null,null,null,null,null,null,null,null,null,null,null,null,null,null,null,null,null,null,null,47,{"$f":"$Q$26","v":""}]
[null,null,null,null,null,null,null,null,null,null,null,null,null,null,null,null,null,null,null,null,null,null,48,{"$f":"$C$27","v":""}]
[null,null,null,null,null,null,null,null,null,null,null,null,null,null,null,null,null,null,null,null,null,null,49,{"$f":"$H$27","v":0}]
[null,null,null,null,null,null,null,null,null,null,null,null,null,null,null,null,null,null,null,null,null,null,50,{"$f":"$L$27","v":0}]
[null,null,null,null,null,null,null,null,null,null,null,null,null,null,null,null,null,null,null,null,null,null,51,{"$f":"$P$27","v":0}]
[null,null,null,null,null,null,null,null,null,null,null,null,null,null,null,null,null,null,null,null,null,null,52,{"$f":"$Q$27","v":""}]
[null,null,null,null,null,null,null,null,null,null,null,null,null,null,null,null,null,null,null,null,null,null,53,{"$f":"$C$28","v":""}]
[null,null,null,null,null,null,null,null,null,null,null,null,null,null,null,null,null,null,null,null,null,null,54,{"$f":"$H$28","v":0}]
[null,null,null,null,null,null,null,null,null,null,null,null,null,null,null,null,null,null,null,null,null,null,55,{"$f":"$L$28","v":0}]
[null,null,null,null,null,null,null,null,null,null,null,null,null,null,null,null,null,null,null,null,null,null,56,{"$f":"$P$28","v":0}]
[null,null,null,null,null,null,null,null,null,null,null,null,null,null,null,null,null,null,null,null,null,null,57,{"$f":"$Q$28","v":""}]
[null,null,null,null,null,null,null,null,null,null,null,null,null,null,null,null,null,null,null,null,null,null,58,{"$f":"$C$29","v":""}]
[null,null,null,null,null,null,null,null,null,null,null,null,null,null,null,null,null,null,null,null,null,null,59,{"$f":"$H$29","v":0}]
[null,null,null,null,null,null,null,null,null,null,null,null,null,null,null,null,null,null,null,null,null,null,60,{"$f":"$L$29","v":0}]
[null,null,null,null,null,null,null,null,null,null,null,null,null,null,null,null,null,null,null,null,null,null,61,{"$f":"$P$29","v":0}]
[null,null,null,null,null,null,null,null,null,null,null,null,null,null,null,null,null,null,null,null,null,null,62,{"$f":"$Q$29","v":""}]
[null,null,null,null,null,null,null,null,null,null,null,null,null,null,null,null,null,null,null,null,null,null,63,{"$f":"$C$30","v":""}]
[null,null,null,null,null,null,null,null,null,null,null,null,null,null,null,null,null,null,null,null,null,null,64,{"$f":"$H$30","v":0}]
[null,null,null,null,null,null,null,null,null,null,null,null,null,null,null,null,null,null,null,null,null,null,65,{"$f":"$L$30","v":0}]
[null,null,null,null,null,null,null,null,null,null,null,null,null,null,null,null,null,null,null,null,null,null,66,{"$f":"$P$30","v":0}]
[null,null,null,null,null,null,null,null,null,null,null,null,null,null,null,null,null,null,null,null,null,null,67,{"$f":"$Q$30","v":""}]
[null,null,null,null,null,null,null,null,null,null,null,null,null,null,null,null,null,null,null,null,null,null,68,{"$f":"$C$31","v":""}]
[null,null,null,null,null,null,null,null,null,null,null,null,null,null,null,null,null,null,null,null,null,null,69,{"$f":"$H$31","v":0}]
[null,null,null,null,null,null,null,null,null,null,null,null,null,null,null,null,null,null,null,null,null,null,70,{"$f":"$L$31","v":0}]
[null,null,null,null,null,null,null,null,null,null,null,null,null,null,null,null,null,null,null,null,null,null,71,{"$f":"$P$31","v":0}]
[null,null,null,null,null,null,null,null,null,null,null,null,null,null,null,null,null,null,null,null,null,null,72,{"$f":"$Q$31","v":""}]
[null,null,null,null,null,null,null,null,null,null,null,null,null,null,null,null,null,null,null,null,null,null,73,{"$f":"$C$32","v":""}]
[null,null,null,null,null,null,null,null,null,null,null,null,null,null,null,null,null,null,null,null,null,null,74,{"$f":"$H$32","v":0}]
[null,null,null,null,null,null,null,null,null,null,null,null,null,null,null,null,null,null,null,null,null,null,75,{"$f":"$L$32","v":0}]
[null,null,null,null,null,null,null,null,null,null,null,null,null,null,null,null,null,null,null,null,null,null,76,{"$f":"$P$32","v":0}]
[null,null,null,null,null,null,null,null,null,null,null,null,null,null,null,null,null,null,null,null,null,null,77,{"$f":"$Q$32","v":""}]
[null,null,null,null,null,null,null,null,null,null,null,null,null,null,null,null,null,null,null,null,null,null,78,{"$f":"$C$34","v":""}]
[null,null,null,null,null,null,null,null,null,null,null,null,null,null,null,null,null,null,null,null,null,null,79,{"$f":"$F$34","v":""}]
[null,null,null,null,null,null,null,null,null,null,null,null,null,null,null,null,null,null,null,null,null,null,80,{"$f":"$H$34","v":""}]
[null,null,null,null,null,null,null,null,null,null,null,null,null,null,null,null,null,null,null,null,null,null,81,{"$f":"$J$34","v":""}]
[null,null,null,null,null,null,null,null,null,null,null,null,null,null,null,null,null,null,null,null,null,null,82,{"$f":"$L$34","v":""}]
[null,null,null,null,null,null,null,null,null,null,null,null,null,null,null,null,null,null,null,null,null,null,83,{"$f":"$N$34","v":""}]
[null,null,null,null,null,null,null,null,null,null,null,null,null,null,null,null,null,null,null,null,null,null,84,{"$f":"$P$34","v":""}]
[null,null,null,null,null,null,null,null,null,null,null,null,null,null,null,null,null,null,null,null,null,null,85,{"$f":"$Q$34","v":0}]

{"sheet":"第2表","index":12,"n_rows":67,"n_cols":21,"rows_kept":67,"cut":false,"hidden":false,"merged":[[16,9,16,12],[17,9,17,12],[18,9,18,12],[19,9,19,12],[12,9,12,12],[13,9,13,12],[14,9,14,12],[15,9,15,12],[8,9,8,12],[9,9,9,12],[10,9,10,12],[11,9,11,12],[4,9,4,12],[5,9,5,12],[6,9,6,12],[7,9,7,12],[16,13,16,16],[17,13,17,16],[18,13,18,16],[19,13,19,16],[12,13,12,16],[13,13,13,16],[14,13,14,16],[15,13,15,16],[8,13,8,16],[9,13,9,16],[10,13,10,16],[11,13,11,16],[4,13,4,16],[5,13,5,16],[6,13,6,16],[7,13,7,16],[16,5,16,8],[17,5,17,8],[18,5,18,8],[19,5,19,8],[12,5,12,8],[13,5,13,8],[14,5,14,8],[15,5,15,8],[8,5,8,8],[9,5,9,8],[10,5,10,8],[11,5,11,8],[4,5,4,8],[5,5,5,8],[6,5,6,8],[7,5,7,8],[16,2,16,4],[17,2,17,4],[18,2,18,4],[19,2,19,4],[12,2,12,4],[13,2,13,4],[14,2,14,4],[15,2,15,4],[8,2,8,4],[9,2,9,4],[10,2,10,4],[11,2,11,4],[4,2,4,4],[5,2,5,4],[6,2,6,4],[7,2,7,4],[1,2,1,16],[2,2,2,4],[2,5,2,8],[3,2,3,4],[3,5,3,8],[2,13,2,16],[3,13,3,16],[2,9,2,12],[3,9,3,12]]}
[1]
[null,null,"第２表　輸送用機械器具の概要、使用状況及び導入、改造又は廃棄の状況"]
[null,null,"器具の名称",null,null,"器具の概要",null,null,null,"使用状況",null,null,null,"導入、改造又は\n廃棄の状況"]
[null,null,null,null,null,null,null,null,null,null,null,null,null,null,null,null,null,null,null,1,{"$f":"+C4","v":0}]
[null,null,null,null,null,null,null,null,null,null,null,null,null,null,null,null,null,null,null,2,{"$f":"+F4","v":0}]
[null,null,null,null,null,null,null,null,null,null,null,null,null,null,null,null,null,null,null,3,{"$f":"+J4","v":0}]
[null,null,null,null,null,null,null,null,null,null,null,null,null,null,null,null,null,null,null,4,{"$f":"+N4","v":0}]
[null,null,null,null,null,null,null,null,null,null,null,null,null,null,null,null,null,null,null,5,{"$f":"+C5","v":0}]
[null,null,null,null,null,null,null,null,null,null,null,null,null,null,null,null,null,null,null,6,{"$f":"+F5","v":0}]
[null,null,null,null,null,null,null,null,null,null,null,null,null,null,null,null,null,null,null,7,{"$f":"+N5","v":0}]
[null,null,null,null,null,null,null,null,null,null,null,null,null,null,null,null,null,null,null,8,{"$f":"+C6","v":0}]
[null,null,null,null,null,null,null,null,null,null,null,null,null,null,null,null,null,null,null,9,{"$f":"+F6","v":0}]
[null,null,null,null,null,null,null,null,null,null,null,null,null,null,null,null,null,null,null,10,{"$f":"+N6","v":0}]
[null,null,null,null,null,null,null,null,null,null,null,null,null,null,null,null,null,null,null,11,{"$f":"+C7","v":0}]
[null,null,null,null,null,null,null,null,null,null,null,null,null,null,null,null,null,null,null,12,{"$f":"+F7","v":0}]
[null,null,null,null,null,null,null,null,null,null,null,null,null,null,null,null,null,null,null,13,{"$f":"+N7","v":0}]
[null,null,null,null,null,null,null,null,null,null,null,null,null,null,null,null,null,null,null,14,{"$f":"+C8","v":0}]
[null,null,null,null,null,null,null,null,null,null,null,null,null,null,null,null,null,null,null,15,{"$f":"+F8","v":0}]
[null,null,null,null,null,null,null,null,null,null,null,null,null,null,null,null,null,null,null,16,{"$f":"+N8","v":0}]
[null,null,null,null,null,null,null,null,null,null,null,null,null,null,null,null,null,null,null,17,{"$f":"+C9","v":0}]
[null,null,null,null,null,null,null,null,null,null,null,null,null,null,null,null,null,null,null,18,{"$f":"+F9","v":0}]
[null,null,null,null,null,null,null,null,null,null,null,null,null,null,null,null,null,null,null,19,{"$f":"+J9","v":0}]
[null,null,null,null,null,null,null,null,null,null,null,null,null,null,null,null,null,null,null,20,{"$f":"+N9","v":0}]
[null,null,null,null,null,null,null,null,null,null,null,null,null,null,null,null,null,null,null,21,{"$f":"+C10","v":0}]
[null,null,null,null,null,null,null,null,null,null,null,null,null,null,null,null,null,null,null,22,{"$f":"+F10","v":0}]
[null,null,null,null,null,null,null,null,null,null,null,null,null,null,null,null,null,null,null,23,{"$f":"+J10","v":0}]
[null,null,null,null,null,null,null,null,null,null,null,null,null,null,null,null,null,null,null,24,{"$f":"+N10","v":0}]
[null,null,null,null,null,null,null,null,null,null,null,null,null,null,null,null,null,null,null,25,{"$f":"+C11","v":0}]
[null,null,null,null,null,null,null,null,null,null,null,null,null,null,null,null,null,null,null,26,{"$f":"+F11","v":0}]
[null,null,null,null,null,null,null,null,null,null,null,null,null,null,null,null,null,null,null,27,{"$f":"+J11","v":0}]
[null,null,null,null,null,null,null,null,null,null,null,null,null,null,null,null,null,null,null,28,{"$f":"+N11","v":0}]
[null,null,null,null,null,null,null,null,null,null,null,null,null,null,null,null,null,null,null,29,{"$f":"+C12","v":0}]
[null,null,null,null,null,null,null,null,null,null,null,null,null,null,null,null,null,null,null,30,{"$f":"+F12","v":0}]
[null,null,null,null,null,null,null,null,null,null,null,null,null,null,null,null,null,null,null,31,{"$f":"+J12","v":0}]
[null,null,null,null,null,null,null,null,null,null,null,null,null,null,null,null,null,null,null,32,{"$f":"+N12","v":0}]
[null,null,null,null,null,null,null,null,null,null,null,null,null,null,null,null,null,null,null,33,{"$f":"+C13","v":0}]
[null,null,null,null,null,null,null,null,null,null,null,null,null,null,null,null,null,null,null,34,{"$f":"+F13","v":0}]
[null,null,null,null,null,null,null,null,null,null,null,null,null,null,null,null,null,null,null,35,{"$f":"+J13","v":0}]
[null,null,null,null,null,null,null,null,null,null,null,null,null,null,null,null,null,null,null,36,{"$f":"+N13","v":0}]
[null,null,null,null,null,null,null,null,null,null,null,null,null,null,null,null,null,null,null,37,{"$f":"+C14","v":0}]
[null,null,null,null,null,null,null,null,null,null,null,null,null,null,null,null,null,null,null,38,{"$f":"+F14","v":0}]
[null,null,null,null,null,null,null,null,null,null,null,null,null,null,null,null,null,null,null,39,{"$f":"+J14","v":0}]
[null,null,null,null,null,null,null,null,null,null,null,null,null,null,null,null,null,null,null,40,{"$f":"+N14","v":0}]
[null,null,null,null,null,null,null,null,null,null,null,null,null,null,null,null,null,null,null,41,{"$f":"+C15","v":0}]
[null,null,null,null,null,null,null,null,null,null,null,null,null,null,null,null,null,null,null,42,{"$f":"+F15","v":0}]
[null,null,null,null,null,null,null,null,null,null,null,null,null,null,null,null,null,null,null,43,{"$f":"+J15","v":0}]
[null,null,null,null,null,null,null,null,null,null,null,null,null,null,null,null,null,null,null,44,{"$f":"+N15","v":0}]
[null,null,null,null,null,null,null,null,null,null,null,null,null,null,null,null,null,null,null,45,{"$f":"+C16","v":0}]
[null,null,null,null,null,null,null,null,null,null,null,null,null,null,null,null,null,null,null,46,{"$f":"+F16","v":0}]
[null,null,null,null,null,null,null,null,null,null,null,null,null,null,null,null,null,null,null,47,{"$f":"+J16","v":0}]
[null,null,null,null,null,null,null,null,null,null,null,null,null,null,null,null,null,null,null,48,{"$f":"+N16","v":0}]
[null,null,null,null,null,null,null,null,null,null,null,null,null,null,null,null,null,null,null,49,{"$f":"+C17","v":0}]
[null,null,null,null,null,null,null,null,null,null,null,null,null,null,null,null,null,null,null,50,{"$f":"+F17","v":0}]
[null,null,null,null,null,null,null,null,null,null,null,null,null,null,null,null,null,null,null,51,{"$f":"+J17","v":0}]
[null,null,null,null,null,null,null,null,null,null,null,null,null,null,null,null,null,null,null,52,{"$f":"+N17","v":0}]
[null,null,null,null,null,null,null,null,null,null,null,null,null,null,null,null,null,null,null,53,{"$f":"+C18","v":0}]
[null,null,null,null,null,null,null,null,null,null,null,null,null,null,null,null,null,null,null,54,{"$f":"+F18","v":0}]
[null,null,null,null,null,null,null,null,null,null,null,null,null,null,null,null,null,null,null,55,{"$f":"+J18","v":0}]
[null,null,null,null,null,null,null,null,null,null,null,null,null,null,null,null,null,null,null,56,{"$f":"+N18","v":0}]
[null,null,null,null,null,null,null,null,null,null,null,null,null,null,null,null,null,null,null,57,{"$f":"+C19","v":0}]
[null,null,null,null,null,null,null,null,null,null,null,null,null,null,null,null,null,null,null,58,{"$f":"+F19","v":0}]
[null,null,null,null,null,null,null,null,null,null,null,null,null,null,null,null,null,null,null,59,{"$f":"+J19","v":0}]
[null,null,null,null,null,null,null,null,null,null,null,null,null,null,null,null,null,null,null,60,{"$f":"+N19","v":0}]
[null,null,null,null,null,null,null,null,null,null,null,null,null,null,null,null,null,null,null,61,{"$f":"+C20","v":0}]
[null,null,null,null,null,null,null,null,null,null,null,null,null,null,null,null,null,null,null,62,{"$f":"+F20","v":0}]
[null,null,null,null,null,null,null,null,null,null,null,null,null,null,null,null,null,null,null,63,{"$f":"+J20","v":0}]
[null,null,null,null,null,null,null,null,null,null,null,null,null,null,null,null,null,null,null,64,{"$f":"+N20","v":0}]

{"sheet":"第3表","index":13,"n_rows":15,"n_cols":23,"rows_kept":15,"cut":false,"hidden":false,"merged":[[2,13,2,16],[3,13,3,16],[1,3,1,16],[1,1,1,2],[2,2,2,9],[3,2,3,9],[2,10,2,12],[4,2,4,9],[4,13,4,16],[6,2,6,9],[6,10,6,12],[6,13,6,16],[11,2,11,9],[11,13,11,16],[7,2,7,9],[7,13,7,16],[8,2,8,9],[8,13,8,16],[10,2,10,9],[10,10,10,12],[10,13,10,16]]}
[1]
[null,"第３表",null,"貨物ごとに当該貨物の重量に当該貨物を輸送する距離を乗じて得られる量を算定し、当該貨物ごとに算定した量を合算して得られる量"]
[{"$f":"メニュー!A3","v":19},null,"          ",null,null,null,null,null,null,null,{"$f":"メニュー!A4","v":"2022-01-01"},null,null,"　　対前年度比（％）",null,null,null,null,null,null,"前年度データ","保存用データ"]
[null,null,"貨物ごとに当該貨物の重量に当該貨物を輸送する距離を乗じて得られる量を算定し、当該貨物ごとに算定した量を合算して得られる量",null,null,null,null,null,null,null,"㋐－１",null,"万ｔ・km",{"$f":"IF(OR($A$3=\"\",$A$3<4,L4=\"\"),\"－\",IF(ISERR(L4/U4),\"－\",L4/U4))","v":"－"},null,null,null,null,null,null,{"$f":"OFFSET(保存用!$A$1,7-1,($A$3-1)-1)","v":0},1,{"$f":"L4","v":0}]
[null,null,"貨物ごとに当該貨物の重量に当該貨物を輸送する距離を乗じて得られる量を算定し、当該貨物ごとに算定した量を合算して得られる量（連携省エネルギー措置をふまえたもの）",null,null,null,null,null,null,null,"㋐－２",null,"万ｔ・km",{"$f":"IF(OR($A$3=\"\",$A$3<4,L5=\"\"),\"－\",IF(ISERR(L5/U5),\"－\",L5/U5))","v":"－"},null,null,null,null,null,null,{"$f":"OFFSET(保存用!$A$1,8-1,($A$3-1)-1)","v":0},2,{"$f":"L5","v":0}]
[]
[null,null,"          ",null,null,null,null,null,null,null,{"$f":"K3","v":"2022-01-01"},null,null,"　　対前年度比（％）"]
[null,null,"個々の輸送用機械器具ごとの営業運行距離又は営業運航距離の合計",null,null,null,null,null,null,null,"㋐－１",null,"km",{"$f":"IF(OR($A$3=\"\",$A$3<4,L8=\"\"),\"－\",IF(ISERR(L8/U8),\"－\",L8/U8))","v":"－"},null,null,null,null,null,null,{"$f":"OFFSET(保存用!$A$1,31-1,($A$3-1)-1)","v":0},3,{"$f":"L8","v":0}]
[null,null,"個々の輸送用機械器具ごとの営業運行距離又は営業運航距離の合計（連携省エネルギー措置をふまえたもの）",null,null,null,null,null,null,null,"㋐－２",null,"km",{"$f":"IF(OR($A$3=\"\",$A$3<4,L9=\"\"),\"－\",IF(ISERR(L9/U9),\"－\",L9/U9))","v":"－"},null,null,null,null,null,null,{"$f":"OFFSET(保存用!$A$1,32-1,($A$3-1)-1)","v":0},4,{"$f":"L9","v":0}]
[]
[null,null,"          ",null,null,null,null,null,null,null,{"$f":"K7","v":"2022-01-01"},null,null,"　　対前年度比（％）"]
[null,null,"輸送ごとにその航空機を使用して有償で運送された旅客及び貨物の重量に輸送距離を乗じて得られる量を算定し、当該輸送ごとに算定した量を合算して得られる量",null,null,null,null,null,null,null,null,null,"万ｔ・km",{"$f":"IF(OR($A$3=\"\",$A$3<4,L12=\"\"),\"－\",IF(ISERR(L12/U12),\"－\",L12/U12))","v":"－"},null,null,null,null,null,null,{"$f":"OFFSET(保存用!$A$1,55-1,($A$3-1)-1)","v":0},5,{"$f":"L12","v":0}]
[]
[]
[1]

{"sheet":"第4表","index":14,"n_rows":51,"n_cols":23,"rows_kept":51,"cut":false,"hidden":false,"merged":[[12,13,12,16],[15,3,16,3],[15,4,15,9],[6,13,7,16],[7,4,7,9],[13,3,14,3],[13,4,13,9],[10,10,10,12],[12,2,12,9],[12,10,12,12],[6,10,7,12],[6,2,7,2],[6,3,7,3],[6,4,6,9],[13,10,14,12],[13,13,14,16],[4,2,5,2],[4,3,5,3],[1,2,1,13],[2,2,2,13],[3,2,3,9],[3,10,3,12],[3,13,3,16],[4,13,5,16],[4,4,4,9],[5,4,5,9],[4,10,5,12],[28,10,28,12],[28,13,28,16],[29,2,30,2],[30,4,30,9],[29,4,29,9],[29,10,30,12],[9,10,9,12],[13,2,14,2],[22,3,23,3],[22,4,22,9],[22,10,23,12],[15,2,16,2],[22,2,23,2],[14,4,14,9],[15,10,16,12],[15,13,16,16],[16,4,16,9],[22,13,23,16],[23,4,23,9],[21,2,21,9],[21,10,21,12],[21,13,21,16],[18,10,18,12],[19,10,19,12],[25,10,25,12],[37,2,37,9],[37,10,37,12],[37,13,37,16],[35,10,35,12],[31,10,32,12],[31,13,32,16],[32,4,32,9],[29,13,30,16],[34,10,34,12],[31,2,32,2],[31,3,32,3],[31,4,31,9],[29,3,30,3],[27,2,27,13],[28,2,28,9],[38,2,39,2],[38,3,39,3],[38,4,38,9],[38,10,39,12],[38,13,39,16],[39,4,39,9],[40,2,41,2],[40,3,41,3],[40,4,40,9],[40,10,41,12],[40,13,41,16],[41,4,41,9],[46,13,46,16],[47,2,48,2],[47,3,48,3],[47,4,47,9],[47,10,48,12],[47,13,48,16],[50,10,50,12],[48,4,48,9],[43,10,43,12],[44,10,44,12],[46,2,46,9],[46,10,46,12]]}
[1]
[null,null,"第４表　エネルギーの使用に係る原単位及び電気需要平準化評価原単位"]
[null,null,"１．エネルギーの使用に係る原単位"]
[{"$f":"メニュー!A3","v":19},null,null,null,null,null,null,null,null,null,{"$f":"メニュー!A4","v":"2022-01-01"},null,null,"対前年度比（％）",null,null,null,null,null,null,"前年度","保存用"]
[null,null,"エネルギーの使用に係る原単位","\n＝","エネルギーの使用量(原油換算ｋｌ) (㋑－１)",null,null,null,null,null,{"$f":"IF(OR(K10=\"－\",K10=0),K10,ROUNDDOWN(K10,(3-1)\n-INT(LOG(ABS(K10)))))","v":"－"},null,null,{"$f":"IF(OR($A$4=\"\",$A$4<4,K10=\"－\"),\"－\",IF(ISERR(K10/U5),\"－\",K10/U5))","v":"－"},null,null,null,null,null,null,{"$f":"OFFSET(保存用!$A$1,9-1,($A$4-1)-1)","v":0},1,{"$f":"K5","v":"－"}]
[null,null,null,null,"貨物ごとに当該貨物の重量に当該貨物を輸送する距離を乗じて得られる量を算定し、当該貨物ごとに算定した量を合算して得られる量(万ｔ・km) (㋐－１)"]
[null,null,"連携省エネルギー措置をふまえたエネルギーの使用に係る原単位","\n\n＝","連携省エネルギー措置をふまえたエネルギーの使用量(原油換算ｋｌ) (㋑－２)",null,null,null,null,null,{"$f":"IF(OR(K11=\"－\",K11=0),K11,ROUNDDOWN(K11,(3-1)\n-INT(LOG(ABS(K11)))))","v":"－"},null,null,{"$f":"IF(OR($A$4=\"\",$A$4<4,K11=\"－\"),\"－\",IF(ISERR(K11/U7),\"－\",K11/U7))","v":"－"},null,null,null,null,null,null,{"$f":"OFFSET(保存用!$A$1,10-1,($A$4-1)-1)","v":0},2,{"$f":"K7","v":"－"}]
[null,null,null,null,"貨物ごとに当該貨物の重量に当該貨物を輸送する距離を乗じて得られる量を算定し、当該貨物ごとに算定した量を合算して得られる量（連携省エネルギー措置をふまえたもの）(万ｔ・km) (㋐－２)"]
[]
[null,null,null,null,null,null,null,null,null,null,{"$f":"IF(AND('第1表(1)_貨物'!$L$44<>\"\",第3表!$L$4<>\"\"),'第1表(1)_貨物'!$L$44/第3表!$L$4,\"－\")","v":"－"}]
[null,null,null,null,null,null,null,null,null,null,{"$f":"IF(AND('第1表(1)_貨物'!$N$44<>\"\",第3表!$L$5<>\"\"),'第1表(1)_貨物'!$N$44/第3表!$L$5,\"－\")","v":"－"}]
[]
[{"$f":"メニュー!A12","v":0},null,null,null,null,null,null,null,null,null,{"$f":"K4","v":"2022-01-01"},null,null,"対前年度比（％）"]
[null,null,"エネルギーの使用に係る原単位","\n＝","エネルギーの使用量(原油換算ｋｌ) (㋑－１)",null,null,null,null,null,{"$f":"IF(OR(K19=\"－\",K19=0),K19,ROUNDDOWN(K19,(3-1)\n-INT(LOG(ABS(K19)))))","v":"－"},null,null,{"$f":"IF(OR($A$4=\"\",$A$4<4,K19=\"－\"),\"－\",IF(ISERR(K19/U14),\"－\",K19/U14))","v":"－"},null,null,null,null,null,null,{"$f":"OFFSET(保存用!$A$1,33-1,($A$4-1)-1)","v":0},3,{"$f":"K14","v":"－"}]
[null,null,null,null,"個々の輸送用機械器具ごとの営業運行距離又は営業運航距離の合計(km)  (㋐－１)"]
[null,null,"連携省エネルギー措置をふまえたエネルギーの使用に係る原単位","\n\n＝","連携省エネルギー措置をふまえたエネルギーの使用量(原油換算ｋｌ) (㋑－２)",null,null,null,null,null,{"$f":"IF(OR(K20=\"－\",K20=0),K20,ROUNDDOWN(K20,(3-1)\n-INT(LOG(ABS(K20)))))","v":"－"},null,null,{"$f":"IF(OR($A$4=\"\",$A$4<4,K20=\"－\"),\"－\",IF(ISERR(K20/U16),\"－\",K20/U16))","v":"－"},null,null,null,null,null,null,null,4,{"$f":"K16","v":"－"}]
[null,null,null,null,"個々の輸送用機械器具ごとの営業運行距離又は営業運航距離の合計（連携省エネルギー措置をふまえたもの）(km)  (㋐－２)"]
[]
[null,null,null,null,null,null,null,null,null,null,{"$f":"IF(AND('第1表(1)_旅客'!$L$44<>\"\",第3表!$L$8<>\"\"),'第1表(1)_旅客'!$L$44/第3表!$L$8,\"－\")","v":"－"}]
[null,null,null,null,null,null,null,null,null,null,{"$f":"IF(AND('第1表(1)_旅客'!$N$44<>\"\",第3表!$L$9<>\"\"),'第1表(1)_旅客'!$N$44/第3表!$L$9,\"－\")","v":"－"}]
[]
[{"$f":"メニュー!A21","v":0},null,null,null,null,null,null,null,null,null,{"$f":"K13","v":"2022-01-01"},null,null,"対前年度比（％）"]
[null,null,"エネルギーの使用に係る原単位","\n＝","エネルギーの使用量(原油換算ｋｌ)",null,null,null,null,null,{"$f":"IF(OR(K26=\"－\",K26=0),K26,ROUNDDOWN(K26,(3-1)\n-INT(LOG(ABS(K26)))))","v":"－"},null,null,{"$f":"IF(OR($A$4=\"\",$A$4<4,K26=\"－\"),\"－\",IF(ISERR(K26/U23),\"－\",K26/U23))","v":"－"},null,null,null,null,null,null,{"$f":"OFFSET(保存用!$A$1,57-1,($A$4-1)-1)","v":0},5,{"$f":"K23","v":"－"}]
[null,null,null,null,"輸送ごとにその航空機を使用して有償で運送された旅客及び貨物の重量に輸送距離を乗じて得られる量を算定し、当該輸送ごとに算定した量を合算して得られる量(万ｔ・km)"]
[]
[null,null,null,null,null,null,null,null,null,null,{"$f":"IF(AND('第1表(1)_航空'!$L$44<>\"\",第3表!$L$12<>\"\"),'第1表(1)_航空'!$L$44/第3表!$L$12,\"－\")","v":"－"}]
[]
[null,null,"２．電気需要平準化評価原単位"]
[{"$f":"メニュー!A10","v":2020},null,null,null,null,null,null,null,null,null,{"$f":"メニュー!A4","v":"2022-01-01"},null,null,"対前年度比（％）"]
[null,null,"\n電気需要平準化評価原単位","\n\n＝","電気需要平準化時間帯買電量評価後の\nエネルギーの使用量(原油換算ｋｌ)",null,null,null,null,null,{"$f":"IF(OR(K35=\"－\",K35=0),K35,ROUNDDOWN(K35,(3-1)\n-INT(LOG(ABS(K35)))))","v":"－"},null,null,{"$f":"IF(OR($A$4=\"\",$A$4<4,K35=\"－\"),\"－\",IF(ISERR(K35/U30),\"－\",K35/U30))","v":"－"},null,null,null,null,null,null,{"$f":"OFFSET(保存用!$A$1,11-1,($A$4-1)-1)","v":0},6,{"$f":"K30","v":"－"}]
[null,null,null,null,"貨物ごとに当該貨物の重量に当該貨物を輸送する距離を乗じて得られる量を算定し、当該貨物ごとに算定した量を合算して得られる量(万ｔ・km) (㋐－１)"]
[null,null,"連携省エネルギー措置をふまえた電気需要平準化評価原単位","\n\n\n＝","連携省エネルギー措置をふまえた電気需要平準化時間帯買電量評価後のエネルギーの使用量(原油換算ｋｌ)",null,null,null,null,null,{"$f":"IF(OR(K36=\"－\",K36=0),K36,ROUNDDOWN(K36,(3-1)\n-INT(LOG(ABS(K36)))))","v":"－"},null,null,{"$f":"IF(OR($A$4=\"\",$A$4<4,K36=\"－\"),\"－\",IF(ISERR(K36/U32),\"－\",K36/U32))","v":"－"},null,null,null,null,null,null,{"$f":"OFFSET(保存用!$A$1,12-1,($A$4-1)-1)","v":0},7,{"$f":"K32","v":"－"}]
[null,null,null,null,"貨物ごとに当該貨物の重量に当該貨物を輸送する距離を乗じて得られる量を算定し、当該貨物ごとに算定した量を合算して得られる量（連携省エネルギー措置をふまえたもの）(万ｔ・km) (㋐－２)"]
[]
[null,null,null,null,null,null,null,null,null,null,{"$f":"IF(AND('第1表(1)_貨物'!$L$44<>\"\",第3表!$L$4<>\"\",'第1表(1)_貨物'!$L$31<>\"\"),('第1表(1)_貨物'!$L$44+'第1表(1)_貨物'!$L$31*(1.3-1)*0.0258)/第3表!$L$4,\"－\")","v":"－"}]
[null,null,null,null,null,null,null,null,null,null,{"$f":"IF(AND('第1表(1)_貨物'!$N$44<>\"\",第3表!$L$5<>\"\",'第1表(1)_貨物'!$N$31<>\"\"),('第1表(1)_貨物'!$N$44+'第1表(1)_貨物'!$N$31*(1.3-1)*0.0258)/第3表!$L$5,\"－\")","v":"－"}]
[]
[{"$f":"メニュー!A19","v":0},null,null,null,null,null,null,null,null,null,{"$f":"K29","v":"2022-01-01"},null,null,"対前年度比（％）"]
[null,null,"\n電気需要平準化評価原単位","\n\n＝","電気需要平準化時間帯買電量評価後の\nエネルギーの使用量(原油換算ｋｌ)",null,null,null,null,null,{"$f":"IF(OR(K44=\"－\",K44=0),K44,ROUNDDOWN(K44,(3-1)\n-INT(LOG(ABS(K44)))))","v":"－"},null,null,{"$f":"IF(OR($A$4=\"\",$A$4<4,K44=\"－\"),\"－\",IF(ISERR(K44/U39),\"－\",K44/U39))","v":"－"},null,null,null,null,null,null,{"$f":"OFFSET(保存用!$A$1,35-1,($A$4-1)-1)","v":0},8,{"$f":"K39","v":"－"}]
[null,null,null,null,"個々の輸送用機械器具ごとの営業運行距離又は営業運航距離の合計(km)  (㋐－１)"]
[null,null,"連携省エネルギー措置をふまえた電気需要平準化評価原単位","\n\n\n＝","連携省エネルギー措置をふまえた電気需要平準化時間帯買電量評価後のエネルギーの使用量(原油換算ｋｌ)",null,null,null,null,null,{"$f":"IF(OR(K45=\"－\",K45=0),K45,ROUNDDOWN(K45,(3-1)\n-INT(LOG(ABS(K45)))))","v":"－"},null,null,{"$f":"IF(OR($A$4=\"\",$A$4<4,K45=\"－\"),\"－\",IF(ISERR(K45/U41),\"－\",K45/U41))","v":"－"},null,null,null,null,null,null,{"$f":"OFFSET(保存用!$A$1,36-1,($A$4-1)-1)","v":0},9,{"$f":"K41","v":"－"}]
[null,null,null,null,"個々の輸送用機械器具ごとの営業運行距離又は営業運航距離の合計（連携省エネルギー措置をふまえたもの）(km)  (㋐－２)"]
[]
[null,null,null,null,null,null,null,null,null,null,{"$f":"IF(AND('第1表(1)_旅客'!$L$44<>\"\",第3表!$L$8<>\"\",'第1表(1)_旅客'!$L$31<>\"\"),('第1表(1)_旅客'!$L$44+'第1表(1)_旅客'!$L$31*(1.3-1)*0.0258)/第3表!$L$8,\"－\")","v":"－"}]
[null,null,null,null,null,null,null,null,null,null,{"$f":"IF(AND('第1表(1)_旅客'!$N$44<>\"\",第3表!$L$9<>\"\",'第1表(1)_旅客'!$N$31<>\"\"),('第1表(1)_旅客'!$N$44+'第1表(1)_旅客'!$N$31*(1.3-1)*0.0258)/第3表!$L$9,\"－\")","v":"－"}]
[]
[{"$f":"メニュー!A28","v":0},null,null,null,null,null,null,null,null,null,{"$f":"K38","v":"2022-01-01"},null,null,"対前年度比（％）"]
[null,null,"\n電気需要平準化評価原単位","\n\n＝","電気需要平準化時間帯買電量評価後の\nエネルギーの使用量(原油換算ｋｌ)",null,null,null,null,null,{"$f":"IF(OR(K51=\"－\",K51=0),K51,ROUNDDOWN(K51,(3-1)\n-INT(LOG(ABS(K51)))))","v":"－"},null,null,{"$f":"IF(OR($A$4=\"\",$A$4<4,K51=\"－\"),\"－\",IF(ISERR(K51/U48),\"－\",K51/U48))","v":"－"},null,null,null,null,null,null,{"$f":"OFFSET(保存用!$A$1,59-1,($A$4-1)-1)","v":0},10,{"$f":"K48","v":"－"}]
[null,null,null,null,"輸送ごとにその航空機を使用して有償で運送された旅客及び貨物の重量に輸送距離を乗じて得られる量を算定し、当該輸送ごとに算定した量を合算して得られる量(万ｔ・km)"]
[]
[null,null,null,null,null,null,null,null,null,null,{"$f":"IF(AND('第1表(1)_航空'!$L$44<>\"\",第3表!$L$12<>\"\",'第1表(1)_航空'!$L$31<>\"\"),('第1表(1)_航空'!$L$44+'第1表(1)_航空'!$L$31*(1.3-1)*0.0258)/第3表!$L$12,\"－\")","v":"－"}]

{"sheet":"第5表","index":15,"n_rows":68,"n_cols":33,"rows_kept":68,"cut":false,"hidden":false,"merged":[[47,15,48,16],[48,5,48,6],[48,7,48,8],[48,9,48,10],[48,11,48,12],[48,13,48,14],[47,2,48,4],[47,5,47,6],[47,7,47,8],[47,9,47,10],[47,11,47,12],[47,13,47,14],[35,15,36,16],[36,5,36,6],[36,7,36,8],[36,9,36,10],[36,11,36,12],[36,13,36,14],[28,7,28,8],[28,9,28,10],[28,11,28,12],[28,13,28,14],[30,15,30,16],[31,7,31,8],[31,9,31,10],[31,11,31,12],[31,13,31,14],[31,15,31,16],[29,15,29,16],[27,15,28,16],[29,13,29,14],[35,7,35,8],[35,9,35,10],[35,11,35,12],[35,13,35,14],[27,2,28,4],[27,5,27,6],[27,7,27,8],[27,9,27,10],[27,11,27,12],[27,13,27,14],[28,5,28,6],[17,2,17,4],[17,5,17,6],[17,7,17,8],[18,3,19,4],[19,7,19,8],[17,13,17,14],[19,13,19,14],[18,13,18,14],[3,15,4,16],[15,2,16,4],[15,5,15,6],[15,7,15,8],[15,9,15,10],[15,11,15,12],[15,13,15,14],[15,15,16,16],[16,5,16,6],[16,7,16,8],[8,15,8,16],[9,3,10,4],[8,2,8,4],[8,5,8,6],[8,7,8,8],[8,9,8,10],[8,11,8,12],[8,13,8,14],[4,9,4,10],[3,11,3,12],[4,11,4,12],[3,13,3,14],[4,13,4,14],[3,2,4,4],[65,5,65,6],[65,7,65,8],[65,9,65,10],[65,11,65,12],[65,13,65,14],[3,5,3,6],[4,5,4,6],[3,7,3,8],[4,7,4,8],[3,9,3,10],[33,5,33,6],[33,7,33,8],[33,9,33,10],[33,11,33,12],[33,13,33,14],[60,5,60,6],[60,7,60,8],[60,9,60,10],[60,11,60,12],[60,13,60,14],[59,5,59,6],[59,7,59,8],[59,9,59,10],[59,11,59,12],[62,15,62,16],[63,7,63,8],[63,9,63,10],[63,11,63,12],[63,13,63,14],[63,15,63,16],[62,3,63,4],[62,5,63,6],[62,7,62,8],[62,9,62,10],[62,11,62,12],[62,13,62,14],[61,2,61,4],[61,5,61,6],[61,7,61,8],[61,9,61,10],[61,11,61,12],[61,13,61,14],[61,15,61,16],[56,5,56,6],[56,7,56,8],[56,9,56,10],[56,11,56,12],[57,5,57,6],[57,7,57,8],[57,9,57,10],[57,11,57,12],[57,13,57,14],[56,13,56,14],[59,15,60,16],[59,2,60,4],[59,13,59,14],[52,15,52,16],[53,3,54,4],[53,5,54,6],[53,7,53,8],[53,9,53,10],[53,11,53,12],[53,13,53,14],[53,15,53,16],[54,7,54,8],[54,9,54,10],[52,2,52,4],[52,5,52,6],[52,7,52,8],[52,9,52,10],[52,11,52,12],[52,13,52,14],[54,15,54,16],[54,11,54,12],[54,13,54,14],[50,15,50,16],[51,7,51,8],[51,9,51,10],[51,11,51,12],[51,13,51,14],[51,15,51,16],[50,3,51,4],[50,5,51,6],[50,7,50,8],[50,9,50,10],[50,11,50,12],[50,13,50,14],[49,2,49,4],[49,5,49,6],[49,7,49,8],[49,9,49,10],[49,11,49,12],[49,13,49,14],[49,15,49,16],[24,7,24,8],[24,9,24,10],[24,11,24,12],[24,13,24,14],[25,5,25,6],[25,7,25,8],[25,9,25,10],[25,11,25,12],[25,13,25,14],[40,7,40,8],[45,5,45,6],[45,7,45,8],[45,9,45,10],[45,11,45,12],[45,13,45,14],[44,5,44,6],[44,7,44,8],[41,3,42,4],[41,5,42,6],[41,7,41,8],[41,9,41,10],[41,11,41,12],[41,13,41,14],[40,2,40,4],[40,5,40,6],[21,3,22,4],[21,5,22,6],[21,7,21,8],[21,9,21,10],[21,11,21,12],[21,13,21,14],[22,7,22,8],[22,9,22,10],[22,11,22,12],[22,13,22,14],[30,3,31,4],[30,5,31,6],[30,7,30,8],[30,9,30,10],[30,11,30,12],[30,13,30,14],[41,15,41,16],[42,7,42,8],[42,9,42,10],[42,11,42,12],[42,13,42,14],[42,15,42,16],[40,9,40,10],[40,11,40,12],[40,13,40,14],[40,15,40,16],[38,3,39,4],[38,5,39,6],[17,9,17,10],[17,11,17,12],[37,2,37,4],[37,5,37,6],[37,7,37,8],[37,9,37,10],[37,11,37,12],[20,2,20,4],[20,5,20,6],[20,7,20,8],[20,9,20,10],[20,11,20,12],[29,2,29,4],[29,5,29,6],[29,7,29,8],[29,9,29,10],[29,11,29,12],[24,5,24,6],[19,9,19,10],[19,11,19,12],[35,2,36,4],[35,5,35,6],[18,15,18,16],[10,11,10,12],[10,13,10,14],[10,15,10,16],[13,5,13,6],[13,7,13,8],[13,9,13,10],[13,11,13,12],[13,13,13,14],[12,7,12,8],[9,5,10,6],[9,7,9,8],[9,9,9,10],[9,11,9,12],[9,13,9,14],[9,15,9,16],[10,7,10,8],[10,9,10,10],[16,9,16,10],[16,11,16,12],[16,13,16,14],[7,15,7,16],[7,9,7,10],[17,15,17,16],[18,5,19,6],[18,7,18,8],[18,9,18,10],[18,11,18,12],[7,13,7,14],[44,9,44,10],[44,11,44,12],[44,13,44,14],[38,15,38,16],[39,7,39,8],[39,9,39,10],[39,11,39,12],[39,13,39,14],[39,15,39,16],[38,7,38,8],[38,9,38,10],[38,11,38,12],[38,13,38,14],[20,15,20,16],[21,15,21,16],[22,15,22,16],[6,3,7,4],[6,15,6,16],[19,15,19,16],[20,13,20,14],[7,11,7,12],[37,13,37,14],[37,15,37,16],[5,2,5,4],[12,13,12,14],[12,11,12,12],[12,9,12,10],[12,5,12,6],[5,5,5,6],[5,7,5,8],[5,9,5,10],[5,13,5,14],[7,7,7,8],[5,11,5,12],[6,9,6,10],[6,13,6,14],[6,11,6,12],[6,7,6,8],[6,5,7,6],[5,15,5,16]]}
[1]
[null,null,"第５表　過去５年度間のエネルギーの使用に係る原単位及び電気需要平準化評価原単位の変化状況"]
[null,null,"１．エネルギーの使用に係る原単位"]
[{"$f":"メニュー!A3","v":19},null,null,null,null,{"$f":"IF(OR($A$4=\"\",$A$4<3),\"\",IF($A$4<7,保存用!$C$3,INDIRECT(\"保存用!R3C\"& $A$4-4,FALSE)))","v":"2018-01-01"},null,{"$f":"IF(OR($A$4=\"\",$A$4<4),\"\",IF($A$4<7,保存用!$D$3,INDIRECT(\"保存用!R3C\"& $A$4-3,FALSE)))","v":"2019-01-01"},null,{"$f":"IF(OR($A$4=\"\",$A$4<5),\"\",IF($A$4<7,保存用!$E$3,INDIRECT(\"保存用!R3C\"& $A$4-2,FALSE)))","v":"2020-01-01"},null,{"$f":"IF(OR($A$4=\"\",$A$4<6),\"\",IF($A$4<7,保存用!$F$3,INDIRECT(\"保存用!R3C\"& $A$4-1,FALSE)))","v":"2021-01-01"},null,{"$f":"IF(OR($A$4=\"\",$A$4<7),\"\",IF($A$4<7,保存用!$G$3,INDIRECT(\"保存用!R3C\"& $A$4,FALSE)))","v":"2022-01-01"},null,"５年度間\n平均原単位\n変化",null,null,null,1,{"$f":"F6","v":0},null,"★入力年次の原単位算出の元の数字"]
[null,null,null,null,null,{"$f":"IF(F4=\"\",\"\",IF(YEAR(F4)=2019,\"(令和元年度)\",F4))","v":43101},null,{"$f":"IF(H4=\"\",\"\",IF(YEAR(H4)=2019,\"(令和元年度)\",H4))","v":"(令和元年度)"},null,{"$f":"IF(J4=\"\",\"\",IF(YEAR(J4)=2019,\"(令和元年度)\",J4))","v":43831},null,{"$f":"IF(L4=\"\",\"\",IF(YEAR(L4)=2019,\"(令和元年度)\",L4))","v":44197},null,{"$f":"IF(N4=\"\",\"\",IF(YEAR(N4)=2019,\"(令和元年度)\",N4))","v":44562},null,null,null,null,null,2,{"$f":"H6","v":0},null,null,"原油換算kl","輸送量万t・km","電気需要平準化時間帯GJ"]
[null,null,"エネルギーの使用に係る原単位",null,null,{"$f":"IF(OR(F13=\"\",F13=0),F13,ROUNDDOWN(F13,(3-1)\n-INT(LOG(ABS(F13)))))","v":0},null,{"$f":"IF(OR(H13=\"\",H13=0),H13,ROUNDDOWN(H13,(3-1)\n-INT(LOG(ABS(H13)))))","v":0},null,{"$f":"IF(OR(J13=\"\",J13=0),J13,ROUNDDOWN(J13,(3-1)\n-INT(LOG(ABS(J13)))))","v":0},null,{"$f":"IF(OR(L13=\"\",L13=0),L13,ROUNDDOWN(L13,(3-1)\n-INT(LOG(ABS(L13)))))","v":0},null,{"$f":"IF(OR(N13=\"\",N13=0),N13,ROUNDDOWN(N13,(3-1)\n-INT(LOG(ABS(N13)))))","v":0},null,null,null,null,null,3,{"$f":"J6","v":0},null,"自社分",{"$f":"'第1表(1)_貨物'!$L$44","v":0},{"$f":"第3表!$L$4","v":0},{"$f":"'第1表(1)_貨物'!$L$31","v":0}]
[null,null,null,"前年度比（％）",null,null,null,"Ⓐ－１",null,"Ⓑ－１",null,"Ⓒ－１",null,"Ⓓ－１",null,null,null,null,null,4,{"$f":"L6","v":0},null,"連携分",{"$f":"'第1表(1)_貨物'!$N$44","v":0},{"$f":"第3表!$L$5","v":0},{"$f":"'第1表(1)_貨物'!$N$31","v":0}]
[null,null,null,null,null,null,null,{"$f":"IF(AND(F13<>\"\",F13<>0,H13<>\"\",H13<>0),H13/F13,\"\")","v":""},null,{"$f":"IF(AND(H13<>\"\",H13<>0,J13<>\"\",J13<>0),J13/H13,\"\")","v":""},null,{"$f":"IF(AND(J13<>\"\",J13<>0,L13<>\"\",L13<>0),L13/J13,\"\")","v":""},null,{"$f":"IF(AND(L13<>\"\",L13<>0,N13<>\"\",N13<>0),N13/L13,\"\")","v":""},null,{"$f":"IF(8-COUNTBLANK(H8:O8)>0,(IF(H8=\"\",1,H8)*IF(J8=\"\",1,J8)*IF(L8=\"\",1,L8)*IF(N8=\"\",1,N8))^(1/(8-COUNTBLANK(H8:O8))),\"－\")","v":"－"},null,null,null,5,{"$f":"N6","v":0},null,"A","B","C","D","連携の比率が算出できた数","通常・連携の比率が算出できた数"]
[null,null,"連携省エネルギー措置を踏まえたエネルギーの使用に係る原単位",null,null,{"$f":"IF(OR(F14=\"\",F14=0),F14,ROUNDDOWN(F14,(3-1)\n-INT(LOG(ABS(F14)))))","v":0},null,{"$f":"IF(OR(H14=\"\",H14=0),H14,ROUNDDOWN(H14,(3-1)\n-INT(LOG(ABS(H14)))))","v":0},null,{"$f":"IF(OR(J14=\"\",J14=0),J14,ROUNDDOWN(J14,(3-1)\n-INT(LOG(ABS(J14)))))","v":0},null,{"$f":"IF(OR(L14=\"\",L14=0),L14,ROUNDDOWN(L14,(3-1)\n-INT(LOG(ABS(L14)))))","v":0},null,{"$f":"IF(OR(N14=\"\",N14=0),N14,ROUNDDOWN(N14,(3-1)\n-INT(LOG(ABS(N14)))))","v":0},null,null,null,null,null,6,{"$f":"F9","v":0},"連携前年度比用",{"$f":"IF(H11<>\"\",H11,H8)","v":""},{"$f":"IF(J11<>\"\",J11,J8)","v":""},{"$f":"IF(L11<>\"\",L11,L8)","v":""},{"$f":"IF(N11<>\"\",N11,N8)","v":""},{"$f":"COUNT(H11:O11)","v":0},{"$f":"COUNT(W9:Z9)","v":0}]
[null,null,null,"前年度比（％）",null,null,null,"Ⓐ－２",null,"Ⓑ－２",null,"Ⓒ－２",null,"Ⓓ－２",null,null,null,null,null,7,{"$f":"H9","v":0}]
[null,null,null,null,null,null,null,{"$f":"IF(AND(F14<>\"\",F14<>0,H14<>\"\",H14<>0),H14/F14,IF(AND(F13<>\"\",F13<>0,H14<>\"\",H14<>0),H14/F13,IF(AND(F14<>\"\",F14<>0,H13<>\"\",H13<>0),H13/F14,\"\")))","v":""},null,{"$f":"IF(AND(H14<>\"\",H14<>0,J14<>\"\",J14<>0),J14/H14,IF(AND(H13<>\"\",H13<>0,J14<>\"\",J14<>0),J14/H13,IF(AND(H14<>\"\",H14<>0,J13<>\"\",J13<>0),J13/H14,\"\")))","v":""},null,{"$f":"IF(AND(J14<>\"\",J14<>0,L14<>\"\",L14<>0),L14/J14,IF(AND(J13<>\"\",J13<>0,L14<>\"\",L14<>0),L14/J13,IF(AND(J14<>\"\",J14<>0,L13<>\"\",L13<>0),L13/J14,\"\")))","v":""},null,{"$f":"IF(AND(L14<>\"\",L14<>0,N14<>\"\",N14<>0),N14/L14,IF(AND(L13<>\"\",L13<>0,N14<>\"\",N14<>0),N14/L13,IF(AND(L14<>\"\",L14<>0,N13<>\"\",N13<>0),N13/L14,\"\")))","v":""},null,{"$f":"IF(AA9>0,(IF(W9=\"\",1,W9)*IF(X9=\"\",1,X9)*IF(Y9=\"\",1,Y9)*IF(Z9=\"\",1,Z9))^(1/AB9),\"－\")","v":"－"},null,null,null,8,{"$f":"J9","v":0},"過年度データ","①直近５年"]
[null,null,null,null,null,null,null,null,null,null,null,null,null,null,null,null,null,null,null,9,{"$f":"L9","v":0},null,"１年目","２年目","３年目","４年目","５年目",null,null,null,null,null,"行"]
[null,null,"エネルギーの使用に係る原単位",null,null,{"$f":"IF(OR($A$4=\"\",$A$4<3),\"\",IF($A$4>=7,W13,IF($A$4=6,X13,IF($A$4=5,Y13,IF($A$4=4,Z13,IF($A$4=3,AA13,0))))))","v":0},null,{"$f":"IF(OR($A$4=\"\",$A$4<4),\"\",IF($A$4>=7,X13,IF($A$4=6,Y13,IF($A$4=5,Z13,IF($A$4=4,AA13,0)))))","v":0},null,{"$f":"IF(OR($A$4=\"\",$A$4<5),\"\",IF($A$4>=7,Y13,IF($A$4=6,Z13,IF($A$4=5,AA13,0))))","v":0},null,{"$f":"IF(OR($A$4=\"\",$A$4<6),\"\",IF($A$4>=7,Z13,IF($A$4=6,AA13,0)))","v":0},null,{"$f":"IF(OR($A$4=\"\",$A$4<7),\"\",AA13)","v":0},null,null,null,null,null,10,{"$f":"N9","v":0},"自社分",{"$f":"OFFSET(保存用!$A$1,$AG13-1,($A$4+W$15)-1)","v":0},{"$f":"OFFSET(保存用!$A$1,$AG13-1,($A$4+X$15)-1)","v":0},{"$f":"OFFSET(保存用!$A$1,$AG13-1,($A$4+Y$15)-1)","v":0},{"$f":"OFFSET(保存用!$A$1,$AG13-1,($A$4+Z$15)-1)","v":0},{"$f":"IF(Y6>0,X6/Y6,0)","v":0},null,null,null,null,null,9]
[null,null,"連携省エネルギー措置を踏まえたエネルギーの使用に係る原単位",null,null,{"$f":"IF(OR($A$4=\"\",$A$4<3),\"\",IF($A$4>=7,W14,IF($A$4=6,X14,IF($A$4=5,Y14,IF($A$4=4,Z14,IF($A$4=3,AA14,0))))))","v":0},null,{"$f":"IF(OR($A$4=\"\",$A$4<4),\"\",IF($A$4>=7,X14,IF($A$4=6,Y14,IF($A$4=5,Z14,IF($A$4=4,AA14,0)))))","v":0},null,{"$f":"IF(OR($A$4=\"\",$A$4<5),\"\",IF($A$4>=7,Y14,IF($A$4=6,Z14,IF($A$4=5,AA14,0))))","v":0},null,{"$f":"IF(OR($A$4=\"\",$A$4<6),\"\",IF($A$4>=7,Z14,IF($A$4=6,AA14,0)))","v":0},null,{"$f":"IF(OR($A$4=\"\",$A$4<7),\"\",AA14)","v":0},null,null,null,null,null,null,null,"連携分",{"$f":"OFFSET(保存用!$A$1,$AG14-1,($A$4+W$15)-1)","v":0},{"$f":"OFFSET(保存用!$A$1,$AG14-1,($A$4+X$15)-1)","v":0},{"$f":"OFFSET(保存用!$A$1,$AG14-1,($A$4+Y$15)-1)","v":0},{"$f":"OFFSET(保存用!$A$1,$AG14-1,($A$4+Z$15)-1)","v":0},{"$f":"IF(Y7>0,X7/Y7,0)","v":0},null,null,null,null,null,10]
[null,null,"１．エネルギーの使用に係る原単位",null,null,null,null,null,null,null,null,null,null,null,null,null,null,null,null,null,null,"列",-4,-3,-2,-1,0]
[{"$f":"メニュー!A17","v":0},null,null,null,null,{"$f":"IF(OR($A$4=\"\",$A$4<3),\"\",IF($A$4<7,保存用!$C$3,INDIRECT(\"保存用!R3C\"& $A$4-4,FALSE)))","v":"2018-01-01"},null,{"$f":"IF(OR($A$4=\"\",$A$4<4),\"\",IF($A$4<7,保存用!$D$3,INDIRECT(\"保存用!R3C\"& $A$4-3,FALSE)))","v":"2019-01-01"},null,{"$f":"IF(OR($A$4=\"\",$A$4<5),\"\",IF($A$4<7,保存用!$E$3,INDIRECT(\"保存用!R3C\"& $A$4-2,FALSE)))","v":"2020-01-01"},null,{"$f":"IF(OR($A$4=\"\",$A$4<6),\"\",IF($A$4<7,保存用!$F$3,INDIRECT(\"保存用!R3C\"& $A$4-1,FALSE)))","v":"2021-01-01"},null,{"$f":"IF(OR($A$4=\"\",$A$4<7),\"\",IF($A$4<7,保存用!$G$3,INDIRECT(\"保存用!R3C\"& $A$4,FALSE)))","v":"2022-01-01"},null,"５年度間\n平均原単位\n変化",null,null,null,11,{"$f":"F18","v":0},null,"★入力年次の原単位算出の元の数字"]
[null,null,null,null,null,{"$f":"IF(F16=\"\",\"\",IF(YEAR(F16)=2019,\"(令和元年度)\",F16))","v":43101},null,{"$f":"IF(H16=\"\",\"\",IF(YEAR(H16)=2019,\"(令和元年度)\",H16))","v":"(令和元年度)"},null,{"$f":"IF(J16=\"\",\"\",IF(YEAR(J16)=2019,\"(令和元年度)\",J16))","v":43831},null,{"$f":"IF(L16=\"\",\"\",IF(YEAR(L16)=2019,\"(令和元年度)\",L16))","v":44197},null,{"$f":"IF(N16=\"\",\"\",IF(YEAR(N16)=2019,\"(令和元年度)\",N16))","v":44562},null,null,null,null,null,12,{"$f":"H18","v":0},null,null,"原油換算kl","輸送量万t・km","電気需要平準化時間帯GJ"]
[null,null,"エネルギーの使用に係る原単位",null,null,{"$f":"IF(OR(F25=\"\",F25=0),F25,ROUNDDOWN(F25,(3-1)\n-INT(LOG(ABS(F25)))))","v":0},null,{"$f":"IF(OR(H25=\"\",H25=0),H25,ROUNDDOWN(H25,(3-1)\n-INT(LOG(ABS(H25)))))","v":0},null,{"$f":"IF(OR(J25=\"\",J25=0),J25,ROUNDDOWN(J25,(3-1)\n-INT(LOG(ABS(J25)))))","v":0},null,{"$f":"IF(OR(L25=\"\",L25=0),L25,ROUNDDOWN(L25,(3-1)\n-INT(LOG(ABS(L25)))))","v":0},null,{"$f":"IF(OR(N25=\"\",N25=0),N25,ROUNDDOWN(N25,(3-1)\n-INT(LOG(ABS(N25)))))","v":0},null,null,null,null,null,13,{"$f":"J18","v":0},null,"自社分",{"$f":"'第1表(1)_旅客'!$L$44","v":0},{"$f":"第3表!$L$8","v":0},{"$f":"'第1表(1)_旅客'!$L$31","v":0}]
[null,null,null,"前年度比（％）",null,null,null,"Ⓐ－１",null,"Ⓑ－１",null,"Ⓒ－１",null,"Ⓓ－１",null,null,null,null,null,14,{"$f":"L18","v":0},null,"連携分",{"$f":"'第1表(1)_旅客'!$N$44","v":0},{"$f":"第3表!$L$9","v":0},{"$f":"'第1表(1)_旅客'!$N$31","v":0}]
[null,null,null,null,null,null,null,{"$f":"IF(AND(F25<>\"\",F25<>0,H25<>\"\",H25<>0),H25/F25,\"\")","v":""},null,{"$f":"IF(AND(H25<>\"\",H25<>0,J25<>\"\",J25<>0),J25/H25,\"\")","v":""},null,{"$f":"IF(AND(J25<>\"\",J25<>0,L25<>\"\",L25<>0),L25/J25,\"\")","v":""},null,{"$f":"IF(AND(L25<>\"\",L25<>0,N25<>\"\",N25<>0),N25/L25,\"\")","v":""},null,{"$f":"IF(8-COUNTBLANK(H20:O20)>0,(IF(H20=\"\",1,H20)*IF(J20=\"\",1,J20)*IF(L20=\"\",1,L20)*IF(N20=\"\",1,N20))^(1/(8-COUNTBLANK(H20:O20))),\"－\")","v":"－"},null,null,null,15,{"$f":"N18","v":0},null,"A","B","C","D","連携の比率が算出できた数","通常・連携の比率が算出できた数"]
[null,null,"連携省エネルギー措置を踏まえたエネルギーの使用に係る原単位",null,null,{"$f":"IF(OR(F26=\"\",F26=0),F26,ROUNDDOWN(F26,(3-1)\n-INT(LOG(ABS(F26)))))","v":0},null,{"$f":"IF(OR(H26=\"\",H26=0),H26,ROUNDDOWN(H26,(3-1)\n-INT(LOG(ABS(H26)))))","v":0},null,{"$f":"IF(OR(J26=\"\",J26=0),J26,ROUNDDOWN(J26,(3-1)\n-INT(LOG(ABS(J26)))))","v":0},null,{"$f":"IF(OR(L26=\"\",L26=0),L26,ROUNDDOWN(L26,(3-1)\n-INT(LOG(ABS(L26)))))","v":0},null,{"$f":"IF(OR(N26=\"\",N26=0),N26,ROUNDDOWN(N26,(3-1)\n-INT(LOG(ABS(N26)))))","v":0},null,null,null,null,null,16,{"$f":"F21","v":0},"連携前年度比用",{"$f":"IF(H23<>\"\",H23,H20)","v":""},{"$f":"IF(J23<>\"\",J23,J20)","v":""},{"$f":"IF(L23<>\"\",L23,L20)","v":""},{"$f":"IF(N23<>\"\",N23,N20)","v":""},{"$f":"COUNT(H23:O23)","v":0},{"$f":"COUNT(W21:Z21)","v":0}]
[null,null,null,"前年度比（％）",null,null,null,"Ⓐ－２",null,"Ⓑ－２",null,"Ⓒ－２",null,"Ⓓ－２",null,null,null,null,null,17,{"$f":"H21","v":0}]
[null,null,null,null,null,null,null,{"$f":"IF(AND(F26<>\"\",F26<>0,H26<>\"\",H26<>0),H26/F26,IF(AND(F25<>\"\",F25<>0,H26<>\"\",H26<>0),H26/F25,IF(AND(F26<>\"\",F26<>0,H25<>\"\",H25<>0),H25/F26,\"\")))","v":""},null,{"$f":"IF(AND(H26<>\"\",H26<>0,J26<>\"\",J26<>0),J26/H26,IF(AND(H25<>\"\",H25<>0,J26<>\"\",J26<>0),J26/H25,IF(AND(H26<>\"\",H26<>0,J25<>\"\",J25<>0),J25/H26,\"\")))","v":""},null,{"$f":"IF(AND(J26<>\"\",J26<>0,L26<>\"\",L26<>0),L26/J26,IF(AND(J25<>\"\",J25<>0,L26<>\"\",L26<>0),L26/J25,IF(AND(J26<>\"\",J26<>0,L25<>\"\",L25<>0),L25/J26,\"\")))","v":""},null,{"$f":"IF(AND(L26<>\"\",L26<>0,N26<>\"\",N26<>0),N26/L26,IF(AND(L25<>\"\",L25<>0,N26<>\"\",N26<>0),N26/L25,IF(AND(L26<>\"\",L26<>0,N25<>\"\",N25<>0),N25/L26,\"\")))","v":""},null,{"$f":"IF(AA21>0,(IF(W21=\"\",1,W21)*IF(X21=\"\",1,X21)*IF(Y21=\"\",1,Y21)*IF(Z21=\"\",1,Z21))^(1/AB21),\"－\")","v":"－"},null,null,null,18,{"$f":"J21","v":0},"過年度データ","①直近５年"]
[null,null,null,null,null,null,null,null,null,null,null,null,null,null,null,null,null,null,null,19,{"$f":"L21","v":0},null,"１年目","２年目","３年目","４年目","５年目",null,null,null,null,null,"行"]
[null,null,"エネルギーの使用に係る原単位",null,null,{"$f":"IF(OR($A$4=\"\",$A$4<3),\"\",IF($A$4>=7,W25,IF($A$4=6,X25,IF($A$4=5,Y25,IF($A$4=4,Z25,IF($A$4=3,AA25,0))))))","v":0},null,{"$f":"IF(OR($A$4=\"\",$A$4<4),\"\",IF($A$4>=7,X25,IF($A$4=6,Y25,IF($A$4=5,Z25,IF($A$4=4,AA25,0)))))","v":0},null,{"$f":"IF(OR($A$4=\"\",$A$4<5),\"\",IF($A$4>=7,Y25,IF($A$4=6,Z25,IF($A$4=5,AA25,0))))","v":0},null,{"$f":"IF(OR($A$4=\"\",$A$4<6),\"\",IF($A$4>=7,Z25,IF($A$4=6,AA25,0)))","v":0},null,{"$f":"IF(OR($A$4=\"\",$A$4<7),\"\",AA25)","v":0},null,null,null,null,null,20,{"$f":"N21","v":0},"自社分",{"$f":"OFFSET(保存用!$A$1,$AG25-1,($A$4+W$15)-1)","v":0},{"$f":"OFFSET(保存用!$A$1,$AG25-1,($A$4+X$15)-1)","v":0},{"$f":"OFFSET(保存用!$A$1,$AG25-1,($A$4+Y$15)-1)","v":0},{"$f":"OFFSET(保存用!$A$1,$AG25-1,($A$4+Z$15)-1)","v":0},{"$f":"IF(Y18>0,X18/Y18,0)","v":0},null,null,null,null,null,33]
[null,null,"連携省エネルギー措置を踏まえたエネルギーの使用に係る原単位",null,null,0,null,0,null,0,null,0,null,0,null,null,null,null,null,null,null,"連携分",{"$f":"OFFSET(保存用!$A$1,$AG26-1,($A$4+W$15)-1)","v":0},{"$f":"OFFSET(保存用!$A$1,$AG26-1,($A$4+X$15)-1)","v":0},{"$f":"OFFSET(保存用!$A$1,$AG26-1,($A$4+Y$15)-1)","v":0},{"$f":"OFFSET(保存用!$A$1,$AG26-1,($A$4+Z$15)-1)","v":0},{"$f":"IF(Y19>0,X19/Y19,0)","v":0},null,null,null,null,null,34]
[null,null,"１．エネルギーの使用に係る原単位",null,null,null,null,null,null,null,null,null,null,null,null,null,null,null,null,null,null,"列",-4,-3,-2,-1,0]
[{"$f":"メニュー!A31","v":0},null,null,null,null,{"$f":"IF(OR($A$4=\"\",$A$4<3),\"\",IF($A$4<7,保存用!$C$3,INDIRECT(\"保存用!R3C\"& $A$4-4,FALSE)))","v":"2018-01-01"},null,{"$f":"IF(OR($A$4=\"\",$A$4<4),\"\",IF($A$4<7,保存用!$D$3,INDIRECT(\"保存用!R3C\"& $A$4-3,FALSE)))","v":"2019-01-01"},null,{"$f":"IF(OR($A$4=\"\",$A$4<5),\"\",IF($A$4<7,保存用!$E$3,INDIRECT(\"保存用!R3C\"& $A$4-2,FALSE)))","v":"2020-01-01"},null,{"$f":"IF(OR($A$4=\"\",$A$4<6),\"\",IF($A$4<7,保存用!$F$3,INDIRECT(\"保存用!R3C\"& $A$4-1,FALSE)))","v":"2021-01-01"},null,{"$f":"IF(OR($A$4=\"\",$A$4<7),\"\",IF($A$4<7,保存用!$G$3,INDIRECT(\"保存用!R3C\"& $A$4,FALSE)))","v":"2022-01-01"},null,"５年度間\n平均原単位\n変化",null,null,null,11,{"$f":"F30","v":0},null,"★入力年次の原単位算出の元の数字"]
[null,null,null,null,null,{"$f":"IF(F28=\"\",\"\",IF(YEAR(F28)=2019,\"(令和元年度)\",F28))","v":43101},null,{"$f":"IF(H28=\"\",\"\",IF(YEAR(H28)=2019,\"(令和元年度)\",H28))","v":"(令和元年度)"},null,{"$f":"IF(J28=\"\",\"\",IF(YEAR(J28)=2019,\"(令和元年度)\",J28))","v":43831},null,{"$f":"IF(L28=\"\",\"\",IF(YEAR(L28)=2019,\"(令和元年度)\",L28))","v":44197},null,{"$f":"IF(N28=\"\",\"\",IF(YEAR(N28)=2019,\"(令和元年度)\",N28))","v":44562},null,null,null,null,null,12,{"$f":"H30","v":0},null,null,"原油換算kl","輸送量万t・km","電気需要平準化時間帯GJ"]
[null,null,"エネルギーの使用に係る原単位",null,null,{"$f":"IF(OR(F34=\"\",F34=0),F34,ROUNDDOWN(F34,(3-1)\n-INT(LOG(ABS(F34)))))","v":0},null,{"$f":"IF(OR(H34=\"\",H34=0),H34,ROUNDDOWN(H34,(3-1)\n-INT(LOG(ABS(H34)))))","v":0},null,{"$f":"IF(OR(J34=\"\",J34=0),J34,ROUNDDOWN(J34,(3-1)\n-INT(LOG(ABS(J34)))))","v":0},null,{"$f":"IF(OR(L34=\"\",L34=0),L34,ROUNDDOWN(L34,(3-1)\n-INT(LOG(ABS(L34)))))","v":0},null,{"$f":"IF(OR(N34=\"\",N34=0),N34,ROUNDDOWN(N34,(3-1)\n-INT(LOG(ABS(N34)))))","v":0},null,null,null,null,null,13,{"$f":"J30","v":0},null,"自社分",{"$f":"'第1表(1)_航空'!$L$44","v":0},{"$f":"第3表!$L$12","v":0},{"$f":"'第1表(1)_航空'!$L$31","v":0}]
[null,null,null,"前年度比（％）",null,null,null,"Ⓐ",null,"Ⓑ",null,"Ⓒ",null,"Ⓓ",null,null,null,null,null,14,{"$f":"L30","v":0}]
[null,null,null,null,null,null,null,{"$f":"IF(AND(F34<>\"\",F34<>0,H34<>\"\",H34<>0),H34/F34,\"\")","v":""},null,{"$f":"IF(AND(H34<>\"\",H34<>0,J34<>\"\",J34<>0),J34/H34,\"\")","v":""},null,{"$f":"IF(AND(J34<>\"\",J34<>0,L34<>\"\",L34<>0),L34/J34,\"\")","v":""},null,{"$f":"IF(AND(L34<>\"\",L34<>0,N34<>\"\",N34<>0),N34/L34,\"\")","v":""},null,{"$f":"IF(8-COUNTBLANK(H32:O32)>0,(IF(H32=\"\",1,H32)*IF(J32=\"\",1,J32)*IF(L32=\"\",1,L32)*IF(N32=\"\",1,N32))^(1/(8-COUNTBLANK(H32:O32))),\"－\")","v":"－"},null,null,null,15,{"$f":"N30","v":0},"過年度データ","①直近５年"]
[null,null,null,null,null,null,null,null,null,null,null,null,null,null,null,null,null,null,null,null,null,null,"１年目","２年目","３年目","４年目","５年目",null,null,null,null,null,"行"]
[null,null,"エネルギーの使用に係る原単位",null,null,{"$f":"IF(OR($A$4=\"\",$A$4<3),\"\",IF($A$4>=7,W34,IF($A$4=6,X34,IF($A$4=5,Y34,IF($A$4=4,Z34,IF($A$4=3,AA34,0))))))","v":0},null,{"$f":"IF(OR($A$4=\"\",$A$4<4),\"\",IF($A$4>=7,X34,IF($A$4=6,Y34,IF($A$4=5,Z34,IF($A$4=4,AA34,0)))))","v":0},null,{"$f":"IF(OR($A$4=\"\",$A$4<5),\"\",IF($A$4>=7,Y34,IF($A$4=6,Z34,IF($A$4=5,AA34,0))))","v":0},null,{"$f":"IF(OR($A$4=\"\",$A$4<6),\"\",IF($A$4>=7,Z34,IF($A$4=6,AA34,0)))","v":0},null,{"$f":"IF(OR($A$4=\"\",$A$4<7),\"\",AA34)","v":0},null,null,null,null,null,null,null,"自社分",{"$f":"OFFSET(保存用!$A$1,$AG34-1,($A$4+W$15)-1)","v":0},{"$f":"OFFSET(保存用!$A$1,$AG34-1,($A$4+X$15)-1)","v":0},{"$f":"OFFSET(保存用!$A$1,$AG34-1,($A$4+Y$15)-1)","v":0},{"$f":"OFFSET(保存用!$A$1,$AG34-1,($A$4+Z$15)-1)","v":0},{"$f":"IF(Y30>0,X30/Y30,0)","v":0},null,null,null,null,null,57]
[null,null,"２．電気需要平準化評価原単位",null,null,null,null,null,null,null,null,null,null,null,null,null,null,null,null,null,null,"連携分",{"$f":"OFFSET(保存用!$A$1,$AG35-1,($A$4+W$15)-1)","v":0},{"$f":"OFFSET(保存用!$A$1,$AG35-1,($A$4+X$15)-1)","v":0},{"$f":"OFFSET(保存用!$A$1,$AG35-1,($A$4+Y$15)-1)","v":0},{"$f":"OFFSET(保存用!$A$1,$AG35-1,($A$4+Z$15)-1)","v":0},{"$f":"IF(Y31>0,X31/Y31,0)","v":0},null,null,null,null,null,58]
[{"$f":"メニュー!A45","v":0},null,null,null,null,{"$f":"IF(OR($A$4=\"\",$A$4<3),\"\",IF($A$4<7,保存用!$C$3,INDIRECT(\"保存用!R3C\"& $A$4-4,FALSE)))","v":"2018-01-01"},null,{"$f":"IF(OR($A$4=\"\",$A$4<4),\"\",IF($A$4<7,保存用!$D$3,INDIRECT(\"保存用!R3C\"& $A$4-3,FALSE)))","v":"2019-01-01"},null,{"$f":"IF(OR($A$4=\"\",$A$4<5),\"\",IF($A$4<7,保存用!$E$3,INDIRECT(\"保存用!R3C\"& $A$4-2,FALSE)))","v":"2020-01-01"},null,{"$f":"IF(OR($A$4=\"\",$A$4<6),\"\",IF($A$4<7,保存用!$F$3,INDIRECT(\"保存用!R3C\"& $A$4-1,FALSE)))","v":"2021-01-01"},null,{"$f":"IF(OR($A$4=\"\",$A$4<7),\"\",IF($A$4<7,保存用!$G$3,INDIRECT(\"保存用!R3C\"& $A$4,FALSE)))","v":"2022-01-01"},null,"５年度間\n平均原単位\n変化",null,null,null,16,{"$f":"F38","v":0},"列",-4,-3,-2,-1,0]
[null,null,null,null,null,{"$f":"IF(F36=\"\",\"\",IF(YEAR(F36)=2019,\"(令和元年度)\",F36))","v":43101},null,{"$f":"IF(H36=\"\",\"\",IF(YEAR(H36)=2019,\"(令和元年度)\",H36))","v":"(令和元年度)"},null,{"$f":"IF(J36=\"\",\"\",IF(YEAR(J36)=2019,\"(令和元年度)\",J36))","v":43831},null,{"$f":"IF(L36=\"\",\"\",IF(YEAR(L36)=2019,\"(令和元年度)\",L36))","v":44197},null,{"$f":"IF(N36=\"\",\"\",IF(YEAR(N36)=2019,\"(令和元年度)\",N36))","v":44562},null,null,null,null,null,17,{"$f":"H38","v":0}]
[null,null,"電気需要平準化\n評価原単位",null,null,{"$f":"IF(OR(F45=\"\",F45=0),F45,ROUNDDOWN(F45,(3-1)\n-INT(LOG(ABS(F45)))))","v":0},null,{"$f":"IF(OR(H45=\"\",H45=0),H45,ROUNDDOWN(H45,(3-1)\n-INT(LOG(ABS(H45)))))","v":0},null,{"$f":"IF(OR(J45=\"\",J45=0),J45,ROUNDDOWN(J45,(3-1)\n-INT(LOG(ABS(J45)))))","v":0},null,{"$f":"IF(OR(L45=\"\",L45=0),L45,ROUNDDOWN(L45,(3-1)\n-INT(LOG(ABS(L45)))))","v":0},null,{"$f":"IF(OR(N45=\"\",N45=0),N45,ROUNDDOWN(N45,(3-1)\n-INT(LOG(ABS(N45)))))","v":0},null,null,null,null,null,18,{"$f":"J38","v":0}]
[null,null,null,"前年度比（％）",null,null,null,"Ⓐ’－１",null,"Ⓑ’－１",null,"Ⓒ’－１",null,"Ⓓ’－１",null,null,null,null,null,19,{"$f":"L38","v":0}]
[null,null,null,null,null,null,null,{"$f":"IF(AND(F45<>\"\",F45<>0,H45<>\"\",H45<>0),H45/F45,\"\")","v":""},null,{"$f":"IF(AND(H45<>\"\",H45<>0,J45<>\"\",J45<>0),J45/H45,\"\")","v":""},null,{"$f":"IF(AND(J45<>\"\",J45<>0,L45<>\"\",L45<>0),L45/J45,\"\")","v":""},null,{"$f":"IF(AND(L45<>\"\",L45<>0,N45<>\"\",N45<>0),N45/L45,\"\")","v":""},null,{"$f":"IF(8-COUNTBLANK(H40:O40)>0,(IF(H40=\"\",1,H40)*IF(J40=\"\",1,J40)*IF(L40=\"\",1,L40)*IF(N40=\"\",1,N40))^(1/(8-COUNTBLANK(H40:O40))),\"－\")","v":"－"},null,null,null,20,{"$f":"N38","v":0},null,"A","B","C","D","連携の比率が算出できた数","通常・連携の比率が算出できた数"]
[null,null,"連携省エネルギー措置を踏まえた電気需要平準化評価原単位",null,null,{"$f":"IF(OR(F46=\"\",F46=0),F46,ROUNDDOWN(F46,(3-1)\n-INT(LOG(ABS(F46)))))","v":0},null,{"$f":"IF(OR(H46=\"\",H46=0),H46,ROUNDDOWN(H46,(3-1)\n-INT(LOG(ABS(H46)))))","v":0},null,{"$f":"IF(OR(J46=\"\",J46=0),J46,ROUNDDOWN(J46,(3-1)\n-INT(LOG(ABS(J46)))))","v":0},null,{"$f":"IF(OR(L46=\"\",L46=0),L46,ROUNDDOWN(L46,(3-1)\n-INT(LOG(ABS(L46)))))","v":0},null,{"$f":"IF(OR(N46=\"\",N46=0),N46,ROUNDDOWN(N46,(3-1)\n-INT(LOG(ABS(N46)))))","v":0},null,null,null,null,null,21,{"$f":"F41","v":0},"連携前年度比用",{"$f":"IF(H43<>\"\",H43,H40)","v":""},{"$f":"IF(J43<>\"\",J43,J40)","v":""},{"$f":"IF(L43<>\"\",L43,L40)","v":""},{"$f":"IF(N43<>\"\",N43,N40)","v":""},{"$f":"COUNT(H43:O43)","v":0},{"$f":"COUNT(W41:Z41)","v":0}]
[null,null,null,"前年度比（％）",null,null,null,"Ⓐ’－２",null,"Ⓑ’－２",null,"Ⓒ’－２",null,"Ⓓ’－２",null,null,null,null,null,22,{"$f":"H41","v":0}]
[null,null,null,null,null,null,null,{"$f":"IF(AND(F46<>\"\",F46<>0,H46<>\"\",H46<>0),H46/F46,IF(AND(F45<>\"\",F45<>0,H46<>\"\",H46<>0),H46/F45,IF(AND(F46<>\"\",F46<>0,H45<>\"\",H45<>0),H45/F46,\"\")))","v":""},null,{"$f":"IF(AND(H46<>\"\",H46<>0,J46<>\"\",J46<>0),J46/H46,IF(AND(H45<>\"\",H45<>0,J46<>\"\",J46<>0),J46/H45,IF(AND(H46<>\"\",H46<>0,J45<>\"\",J45<>0),J45/H46,\"\")))","v":""},null,{"$f":"IF(AND(J46<>\"\",J46<>0,L46<>\"\",L46<>0),L46/J46,IF(AND(J45<>\"\",J45<>0,L46<>\"\",L46<>0),L46/J45,IF(AND(J46<>\"\",J46<>0,L45<>\"\",L45<>0),L45/J46,\"\")))","v":""},null,{"$f":"IF(AND(L46<>\"\",L46<>0,N46<>\"\",N46<>0),N46/L46,IF(AND(L45<>\"\",L45<>0,N46<>\"\",N46<>0),N46/L45,IF(AND(L46<>\"\",L46<>0,N45<>\"\",N45<>0),N45/L46,\"\")))","v":""},null,{"$f":"IF(AA41>0,(IF(W41=\"\",1,W41)*IF(X41=\"\",1,X41)*IF(Y41=\"\",1,Y41)*IF(Z41=\"\",1,Z41))^(1/AB41),\"－\")","v":"－"},null,null,null,23,{"$f":"J41","v":0},"過年度データ","①直近５年"]
[null,null,null,null,null,null,null,null,null,null,null,null,null,null,null,null,null,null,null,24,{"$f":"L41","v":0},null,"１年目","２年目","３年目","４年目","５年目",null,null,null,null,null,"行"]
[null,null,"電気需要平準化評価原単位",null,null,{"$f":"IF(OR($A$4=\"\",$A$4<3),\"\",IF($A$4>=7,W45,IF($A$4=6,X45,IF($A$4=5,Y45,IF($A$4=4,Z45,IF($A$4=3,AA45,0))))))","v":0},null,{"$f":"IF(OR($A$4=\"\",$A$4<4),\"\",IF($A$4>=7,X45,IF($A$4=6,Y45,IF($A$4=5,Z45,IF($A$4=4,AA45,0)))))","v":0},null,{"$f":"IF(OR($A$4=\"\",$A$4<5),\"\",IF($A$4>=7,Y45,IF($A$4=6,Z45,IF($A$4=5,AA45,0))))","v":0},null,{"$f":"IF(OR($A$4=\"\",$A$4<6),\"\",IF($A$4>=7,Z45,IF($A$4=6,AA45,0)))","v":0},null,{"$f":"IF(OR($A$4=\"\",$A$4<7),\"\",AA45)","v":0},null,null,null,null,null,25,{"$f":"N41","v":0},"自社分",{"$f":"OFFSET(保存用!$A$1,$AG45-1,($A$4+W$15)-1)","v":0},{"$f":"OFFSET(保存用!$A$1,$AG45-1,($A$4+X$15)-1)","v":0},{"$f":"OFFSET(保存用!$A$1,$AG45-1,($A$4+Y$15)-1)","v":0},{"$f":"OFFSET(保存用!$A$1,$AG45-1,($A$4+Z$15)-1)","v":0},{"$f":"IF(Y6>0,(X6+Z6 *(1.3-1)*0.0258)/Y6,0)","v":0},null,null,null,null,null,11]
[null,null,"連携省エネルギー措置を踏まえた電気需要平準化評価原単位",null,null,0,null,0,null,0,null,0,null,0,null,null,null,null,null,null,null,"連携分",{"$f":"OFFSET(保存用!$A$1,$AG46-1,($A$4+W$15)-1)","v":0},{"$f":"OFFSET(保存用!$A$1,$AG46-1,($A$4+X$15)-1)","v":0},{"$f":"OFFSET(保存用!$A$1,$AG46-1,($A$4+Y$15)-1)","v":0},{"$f":"OFFSET(保存用!$A$1,$AG46-1,($A$4+Z$15)-1)","v":0},{"$f":"IF(Y7>0,(X7+Z7 *(1.3-1)*0.0258)/Y7,0)","v":0},null,null,null,null,null,12]
[null,null,"２．電気需要平準化評価原単位",null,null,null,null,null,null,null,null,null,null,null,null,null,null,null,null,null,null,"列",-4,-3,-2,-1,0]
[{"$f":"メニュー!A59","v":46753},null,null,null,null,{"$f":"IF(OR($A$4=\"\",$A$4<3),\"\",IF($A$4<7,保存用!$C$3,INDIRECT(\"保存用!R3C\"& $A$4-4,FALSE)))","v":"2018-01-01"},null,{"$f":"IF(OR($A$4=\"\",$A$4<4),\"\",IF($A$4<7,保存用!$D$3,INDIRECT(\"保存用!R3C\"& $A$4-3,FALSE)))","v":"2019-01-01"},null,{"$f":"IF(OR($A$4=\"\",$A$4<5),\"\",IF($A$4<7,保存用!$E$3,INDIRECT(\"保存用!R3C\"& $A$4-2,FALSE)))","v":"2020-01-01"},null,{"$f":"IF(OR($A$4=\"\",$A$4<6),\"\",IF($A$4<7,保存用!$F$3,INDIRECT(\"保存用!R3C\"& $A$4-1,FALSE)))","v":"2021-01-01"},null,{"$f":"IF(OR($A$4=\"\",$A$4<7),\"\",IF($A$4<7,保存用!$G$3,INDIRECT(\"保存用!R3C\"& $A$4,FALSE)))","v":"2022-01-01"},null,"５年度間\n平均原単位\n変化",null,null,null,26,{"$f":"F50","v":0}]
[null,null,null,null,null,{"$f":"IF(F48=\"\",\"\",IF(YEAR(F48)=2019,\"(令和元年度)\",F48))","v":43101},null,{"$f":"IF(H48=\"\",\"\",IF(YEAR(H48)=2019,\"(令和元年度)\",H48))","v":"(令和元年度)"},null,{"$f":"IF(J48=\"\",\"\",IF(YEAR(J48)=2019,\"(令和元年度)\",J48))","v":43831},null,{"$f":"IF(L48=\"\",\"\",IF(YEAR(L48)=2019,\"(令和元年度)\",L48))","v":44197},null,{"$f":"IF(N48=\"\",\"\",IF(YEAR(N48)=2019,\"(令和元年度)\",N48))","v":44562},null,null,null,null,null,27,{"$f":"H50","v":0}]
[null,null,"電気需要平準化\n評価原単位",null,null,{"$f":"IF(OR(F57=\"\",F57=0),F57,ROUNDDOWN(F57,(3-1)\n-INT(LOG(ABS(F57)))))","v":0},null,{"$f":"IF(OR(H57=\"\",H57=0),H57,ROUNDDOWN(H57,(3-1)\n-INT(LOG(ABS(H57)))))","v":0},null,{"$f":"IF(OR(J57=\"\",J57=0),J57,ROUNDDOWN(J57,(3-1)\n-INT(LOG(ABS(J57)))))","v":0},null,{"$f":"IF(OR(L57=\"\",L57=0),L57,ROUNDDOWN(L57,(3-1)\n-INT(LOG(ABS(L57)))))","v":0},null,{"$f":"IF(OR(N57=\"\",N57=0),N57,ROUNDDOWN(N57,(3-1)\n-INT(LOG(ABS(N57)))))","v":0},null,null,null,null,null,28,{"$f":"J50","v":0}]
[null,null,null,"前年度比（％）",null,null,null,"Ⓐ’－１",null,"Ⓑ’－１",null,"Ⓒ’－１",null,"Ⓓ’－１",null,null,null,null,null,29,{"$f":"L50","v":0}]
[null,null,null,null,null,null,null,{"$f":"IF(AND(F57<>\"\",F57<>0,H57<>\"\",H57<>0),H57/F57,\"\")","v":""},null,{"$f":"IF(AND(H57<>\"\",H57<>0,J57<>\"\",J57<>0),J57/H57,\"\")","v":""},null,{"$f":"IF(AND(J57<>\"\",J57<>0,L57<>\"\",L57<>0),L57/J57,\"\")","v":""},null,{"$f":"IF(AND(L57<>\"\",L57<>0,N57<>\"\",N57<>0),N57/L57,\"\")","v":""},null,{"$f":"IF(8-COUNTBLANK(H52:O52)>0,(IF(H52=\"\",1,H52)*IF(J52=\"\",1,J52)*IF(L52=\"\",1,L52)*IF(N52=\"\",1,N52))^(1/(8-COUNTBLANK(H52:O52))),\"－\")","v":"－"},null,null,null,30,{"$f":"N50","v":0},null,"A","B","C","D","連携の比率が算出できた数","通常・連携の比率が算出できた数"]
[null,null,"連携省エネルギー措置を踏まえた電気需要平準化評価原単位",null,null,{"$f":"IF(OR(F58=\"\",F58=0),F58,ROUNDDOWN(F58,(3-1)\n-INT(LOG(ABS(F58)))))","v":0},null,{"$f":"IF(OR(H58=\"\",H58=0),H58,ROUNDDOWN(H58,(3-1)\n-INT(LOG(ABS(H58)))))","v":0},null,{"$f":"IF(OR(J58=\"\",J58=0),J58,ROUNDDOWN(J58,(3-1)\n-INT(LOG(ABS(J58)))))","v":0},null,{"$f":"IF(OR(L58=\"\",L58=0),L58,ROUNDDOWN(L58,(3-1)\n-INT(LOG(ABS(L58)))))","v":0},null,{"$f":"IF(OR(N58=\"\",N58=0),N58,ROUNDDOWN(N58,(3-1)\n-INT(LOG(ABS(N58)))))","v":0},null,null,null,null,null,31,{"$f":"F53","v":0},"連携前年度比用",{"$f":"IF(H55<>\"\",H55,H52)","v":""},{"$f":"IF(J55<>\"\",J55,J52)","v":""},{"$f":"IF(L55<>\"\",L55,L52)","v":""},{"$f":"IF(N55<>\"\",N55,N52)","v":""},{"$f":"COUNT(H55:O55)","v":0},{"$f":"COUNT(W53:Z53)","v":0}]
[null,null,null,"前年度比（％）",null,null,null,"Ⓐ’－２",null,"Ⓑ’－２",null,"Ⓒ’－２",null,"Ⓓ’－２",null,null,null,null,null,32,{"$f":"H53","v":0}]
[null,null,null,null,null,null,null,{"$f":"IF(AND(F58<>\"\",F58<>0,H58<>\"\",H58<>0),H58/F58,IF(AND(F57<>\"\",F57<>0,H58<>\"\",H58<>0),H58/F57,IF(AND(F58<>\"\",F58<>0,H57<>\"\",H57<>0),H57/F58,\"\")))","v":""},null,{"$f":"IF(AND(H58<>\"\",H58<>0,J58<>\"\",J58<>0),J58/H58,IF(AND(H57<>\"\",H57<>0,J58<>\"\",J58<>0),J58/H57,IF(AND(H58<>\"\",H58<>0,J57<>\"\",J57<>0),J57/H58,\"\")))","v":""},null,{"$f":"IF(AND(J58<>\"\",J58<>0,L58<>\"\",L58<>0),L58/J58,IF(AND(J57<>\"\",J57<>0,L58<>\"\",L58<>0),L58/J57,IF(AND(J58<>\"\",J58<>0,L57<>\"\",L57<>0),L57/J58,\"\")))","v":""},null,{"$f":"IF(AND(L58<>\"\",L58<>0,N58<>\"\",N58<>0),N58/L58,IF(AND(L57<>\"\",L57<>0,N58<>\"\",N58<>0),N58/L57,IF(AND(L58<>\"\",L58<>0,N57<>\"\",N57<>0),N57/L58,\"\")))","v":""},null,{"$f":"IF(AA53>0,(IF(W53=\"\",1,W53)*IF(X53=\"\",1,X53)*IF(Y53=\"\",1,Y53)*IF(Z53=\"\",1,Z53))^(1/AB53),\"－\")","v":"－"},null,null,null,33,{"$f":"J53","v":0},"過年度データ","①直近５年"]
[null,null,null,null,null,null,null,null,null,null,null,null,null,null,null,null,null,null,null,34,{"$f":"L53","v":0},null,"１年目","２年目","３年目","４年目","５年目",null,null,null,null,null,"行"]
[null,null,"電気需要平準化評価原単位",null,null,{"$f":"IF(OR($A$4=\"\",$A$4<3),\"\",IF($A$4>=7,W57,IF($A$4=6,X57,IF($A$4=5,Y57,IF($A$4=4,Z57,IF($A$4=3,AA57,0))))))","v":0},null,{"$f":"IF(OR($A$4=\"\",$A$4<4),\"\",IF($A$4>=7,X57,IF($A$4=6,Y57,IF($A$4=5,Z57,IF($A$4=4,AA57,0)))))","v":0},null,{"$f":"IF(OR($A$4=\"\",$A$4<5),\"\",IF($A$4>=7,Y57,IF($A$4=6,Z57,IF($A$4=5,AA57,0))))","v":0},null,{"$f":"IF(OR($A$4=\"\",$A$4<6),\"\",IF($A$4>=7,Z57,IF($A$4=6,AA57,0)))","v":0},null,{"$f":"IF(OR($A$4=\"\",$A$4<7),\"\",AA57)","v":0},null,null,null,null,null,35,{"$f":"N53","v":0},"自社分",{"$f":"OFFSET(保存用!$A$1,$AG57-1,($A$4+W$15)-1)","v":0},{"$f":"OFFSET(保存用!$A$1,$AG57-1,($A$4+X$15)-1)","v":0},{"$f":"OFFSET(保存用!$A$1,$AG57-1,($A$4+Y$15)-1)","v":0},{"$f":"OFFSET(保存用!$A$1,$AG57-1,($A$4+Z$15)-1)","v":0},{"$f":"IF(Y18>0,(X18+Z18 *(1.3-1)*0.0258)/Y18,0)","v":0},null,null,null,null,null,35]
[null,null,"連携省エネルギー措置を踏まえた電気需要平準化評価原単位",null,null,0,null,0,null,0,null,0,null,0,null,null,null,null,null,null,null,"連携分",{"$f":"OFFSET(保存用!$A$1,$AG58-1,($A$4+W$15)-1)","v":0},{"$f":"OFFSET(保存用!$A$1,$AG58-1,($A$4+X$15)-1)","v":0},{"$f":"OFFSET(保存用!$A$1,$AG58-1,($A$4+Y$15)-1)","v":0},{"$f":"OFFSET(保存用!$A$1,$AG58-1,($A$4+Z$15)-1)","v":0},{"$f":"IF(Y19>0,(X19+Z19 *(1.3-1)*0.0258)/Y19,0)","v":0},null,null,null,null,null,36]
[null,null,"２．電気需要平準化評価原単位",null,null,null,null,null,null,null,null,null,null,null,null,null,null,null,null,null,null,"列",-4,-3,-2,-1,0]
[{"$f":"メニュー!A73","v":51867},null,null,null,null,{"$f":"IF(OR($A$4=\"\",$A$4<3),\"\",IF($A$4<7,保存用!$C$3,INDIRECT(\"保存用!R3C\"& $A$4-4,FALSE)))","v":"2018-01-01"},null,{"$f":"IF(OR($A$4=\"\",$A$4<4),\"\",IF($A$4<7,保存用!$D$3,INDIRECT(\"保存用!R3C\"& $A$4-3,FALSE)))","v":"2019-01-01"},null,{"$f":"IF(OR($A$4=\"\",$A$4<5),\"\",IF($A$4<7,保存用!$E$3,INDIRECT(\"保存用!R3C\"& $A$4-2,FALSE)))","v":"2020-01-01"},null,{"$f":"IF(OR($A$4=\"\",$A$4<6),\"\",IF($A$4<7,保存用!$F$3,INDIRECT(\"保存用!R3C\"& $A$4-1,FALSE)))","v":"2021-01-01"},null,{"$f":"IF(OR($A$4=\"\",$A$4<7),\"\",IF($A$4<7,保存用!$G$3,INDIRECT(\"保存用!R3C\"& $A$4,FALSE)))","v":"2022-01-01"},null,"５年度間\n平均原単位\n変化",null,null,null,36,{"$f":"F62","v":0}]
[null,null,null,null,null,{"$f":"IF(F60=\"\",\"\",IF(YEAR(F60)=2019,\"(令和元年度)\",F60))","v":43101},null,{"$f":"IF(H60=\"\",\"\",IF(YEAR(H60)=2019,\"(令和元年度)\",H60))","v":"(令和元年度)"},null,{"$f":"IF(J60=\"\",\"\",IF(YEAR(J60)=2019,\"(令和元年度)\",J60))","v":43831},null,{"$f":"IF(L60=\"\",\"\",IF(YEAR(L60)=2019,\"(令和元年度)\",L60))","v":44197},null,{"$f":"IF(N60=\"\",\"\",IF(YEAR(N60)=2019,\"(令和元年度)\",N60))","v":44562},null,null,null,null,null,37,{"$f":"H62","v":0}]
[null,null,"電気需要平準化\n評価原単位",null,null,{"$f":"IF(OR(F66=\"\",F66=0),F66,ROUNDDOWN(F66,(3-1)\n-INT(LOG(ABS(F66)))))","v":0},null,{"$f":"IF(OR(H66=\"\",H66=0),H66,ROUNDDOWN(H66,(3-1)\n-INT(LOG(ABS(H66)))))","v":0},null,{"$f":"IF(OR(J66=\"\",J66=0),J66,ROUNDDOWN(J66,(3-1)\n-INT(LOG(ABS(J66)))))","v":0},null,{"$f":"IF(OR(L66=\"\",L66=0),L66,ROUNDDOWN(L66,(3-1)\n-INT(LOG(ABS(L66)))))","v":0},null,{"$f":"IF(OR(N66=\"\",N66=0),N66,ROUNDDOWN(N66,(3-1)\n-INT(LOG(ABS(N66)))))","v":0},null,null,null,null,null,38,{"$f":"J62","v":0}]
[null,null,null,"前年度比（％）",null,null,null,"Ⓐ’",null,"Ⓑ’",null,"Ⓒ’",null,"Ⓓ’",null,null,null,null,null,39,{"$f":"L62","v":0}]
[null,null,null,null,null,null,null,{"$f":"IF(AND(F66<>\"\",F66<>0,H66<>\"\",H66<>0),H66/F66,\"\")","v":""},null,{"$f":"IF(AND(H66<>\"\",H66<>0,J66<>\"\",J66<>0),J66/H66,\"\")","v":""},null,{"$f":"IF(AND(J66<>\"\",J66<>0,L66<>\"\",L66<>0),L66/J66,\"\")","v":""},null,{"$f":"IF(AND(L66<>\"\",L66<>0,N66<>\"\",N66<>0),N66/L66,\"\")","v":""},null,{"$f":"IF(8-COUNTBLANK(H64:O64)>0,(IF(H64=\"\",1,H64)*IF(J64=\"\",1,J64)*IF(L64=\"\",1,L64)*IF(N64=\"\",1,N64))^(1/(8-COUNTBLANK(H64:O64))),\"－\")","v":"－"},null,null,null,40,{"$f":"N62","v":0},"過年度データ","①直近５年"]
[null,null,null,null,null,null,null,null,null,null,null,null,null,null,null,null,null,null,null,null,null,null,"１年目","２年目","３年目","４年目","５年目",null,null,null,null,null,"行"]
[null,null,"電気需要平準化評価原単位",null,null,{"$f":"IF(OR($A$4=\"\",$A$4<3),\"\",IF($A$4>=7,W66,IF($A$4=6,X66,IF($A$4=5,Y66,IF($A$4=4,Z66,IF($A$4=3,AA66,0))))))","v":0},null,{"$f":"IF(OR($A$4=\"\",$A$4<4),\"\",IF($A$4>=7,X66,IF($A$4=6,Y66,IF($A$4=5,Z66,IF($A$4=4,AA66,0)))))","v":0},null,{"$f":"IF(OR($A$4=\"\",$A$4<5),\"\",IF($A$4>=7,Y66,IF($A$4=6,Z66,IF($A$4=5,AA66,0))))","v":0},null,{"$f":"IF(OR($A$4=\"\",$A$4<6),\"\",IF($A$4>=7,Z66,IF($A$4=6,AA66,0)))","v":0},null,{"$f":"IF(OR($A$4=\"\",$A$4<7),\"\",AA66)","v":0},null,null,null,null,null,null,null,"自社分",{"$f":"OFFSET(保存用!$A$1,$AG66-1,($A$4+W$15)-1)","v":0},{"$f":"OFFSET(保存用!$A$1,$AG66-1,($A$4+X$15)-1)","v":0},{"$f":"OFFSET(保存用!$A$1,$AG66-1,($A$4+Y$15)-1)","v":0},{"$f":"OFFSET(保存用!$A$1,$AG66-1,($A$4+Z$15)-1)","v":0},{"$f":"IF(Y30>0,(X30+Z30 *(1.3-1)*0.0258)/Y30,0)","v":0},null,null,null,null,null,59]
[null,null,null,null,null,null,null,null,null,null,null,null,null,null,null,null,null,null,null,null,null,"連携分",{"$f":"OFFSET(保存用!$A$1,$AG67-1,($A$4+W$15)-1)","v":0},{"$f":"OFFSET(保存用!$A$1,$AG67-1,($A$4+X$15)-1)","v":0},{"$f":"OFFSET(保存用!$A$1,$AG67-1,($A$4+Y$15)-1)","v":0},{"$f":"OFFSET(保存用!$A$1,$AG67-1,($A$4+Z$15)-1)","v":0},{"$f":"IF(Y31>0,(X31+Z31 *(1.3-1)*0.0258)/Y31,0)","v":0},null,null,null,null,null,60]
[null,null,null,null,null,null,null,null,null,null,null,null,null,null,null,null,null,null,null,null,null,"列",-4,-3,-2,-1,0]

{"sheet":"第6表","index":16,"n_rows":73,"n_cols":22,"rows_kept":73,"cut":false,"hidden":false,"merged":[[69,2,69,16],[70,2,70,16],[71,2,71,16],[72,2,72,16],[64,2,64,16],[65,2,65,16],[66,2,66,16],[67,2,67,16],[68,2,68,16],[58,2,58,16],[59,2,59,16],[60,2,60,16],[62,3,62,16],[63,2,63,16],[53,2,53,16],[54,2,54,16],[55,2,55,16],[56,2,56,16],[57,2,57,16],[47,2,47,16],[48,2,48,16],[50,3,50,16],[51,2,51,16],[52,2,52,16],[42,2,42,16],[43,2,43,16],[44,2,44,16],[45,2,45,16],[46,2,46,16],[36,2,36,16],[38,3,38,16],[39,2,39,16],[40,2,40,16],[41,2,41,16],[31,2,31,16],[32,2,32,16],[33,2,33,16],[34,2,34,16],[35,2,35,16],[26,3,26,16],[27,2,27,16],[28,2,28,16],[29,2,29,16],[30,2,30,16],[21,2,21,16],[22,2,22,16],[23,2,23,16],[24,2,24,16],[16,2,16,16],[17,2,17,16],[18,2,18,16],[12,2,12,16],[19,2,19,16],[20,2,20,16],[8,2,8,16],[9,2,9,16],[10,2,10,16],[11,2,11,16],[14,3,14,16],[15,2,15,16],[1,4,1,16],[1,2,1,3],[3,2,3,16],[6,2,6,16],[7,2,7,16],[2,3,2,16],[4,2,4,16],[5,2,5,16]]}
[1]
[null,null,"第６表 ",null,"エネルギーの使用に係る原単位及び電気需要平準化評価原単位が改善できなかった場合の理由"]
[null,null,"１．","過去５年度間のエネルギーの使用に係る原単位が年平均１％以上改善できなかった場合は（イ）、又はエネルギーの使用に係る原単位が前年度に比べ改善できなかった場合は（ロ）にその理由"]
[4,null,"（イ）の理由"]
[null,null,"",null,null,null,null,null,null,null,null,null,null,null,null,null,null,null,null,null,1,{"$f":"C5","v":""}]
[null,null,""]
[null,null,""]
[null,null,""]
[4,null,"（ロ）の理由"]
[null,null,"",null,null,null,null,null,null,null,null,null,null,null,null,null,null,null,null,null,2,{"$f":"C10","v":""}]
[null,null,""]
[null,null,""]
[null,null,""]
[null,null,null,null,null,null,null,null,null,null,null,null,null,null,null,null,null,null,null,null,null,{"$f":"+C5","v":""}]
[null,null,"１．","過去５年度間のエネルギーの使用に係る原単位が年平均１％以上改善できなかった場合は（イ）、又はエネルギーの使用に係る原単位が前年度に比べ改善できなかった場合は（ロ）にその理由"]
[4,null,"（イ）の理由"]
[null,null,"",null,null,null,null,null,null,null,null,null,null,null,null,null,null,null,null,null,3,{"$f":"C17","v":""}]
[null,null,""]
[null,null,""]
[null,null,""]
[4,null,"（ロ）の理由"]
[null,null,"",null,null,null,null,null,null,null,null,null,null,null,null,null,null,null,null,null,4,{"$f":"C22","v":""}]
[null,null,""]
[null,null,""]
[null,null,""]
[]
[null,null,"１．","過去５年度間のエネルギーの使用に係る原単位が年平均１％以上改善できなかった場合は（イ）、又はエネルギーの使用に係る原単位が前年度に比べ改善できなかった場合は（ロ）にその理由"]
[4,null,"（イ）の理由"]
[null,null,"",null,null,null,null,null,null,null,null,null,null,null,null,null,null,null,null,null,5,{"$f":"C29","v":""}]
[null,null,""]
[null,null,""]
[null,null,""]
[4,null,"（ロ）の理由"]
[null,null,"",null,null,null,null,null,null,null,null,null,null,null,null,null,null,null,null,null,6,{"$f":"C34","v":""}]
[null,null,""]
[null,null,""]
[null,null,""]
[null,null,null,null,null,null,null,null,null,null,null,null,null,null,null,null,null,null,null,null,null,{"$f":"+C29","v":""}]
[null,null,"２．","過去５年度間の電気需要平準化評価原単位が年平均１％以上改善できなかった場合は（ハ）、又は電気需要平準化評価原単位が前年度に比べ改善できなかった場合は（ニ）にその理由"]
[4,null,"（ハ）の理由"]
[null,null,"",null,null,null,null,null,null,null,null,null,null,null,null,null,null,null,null,null,7,{"$f":"C41","v":""}]
[null,null,""]
[null,null,""]
[null,null,""]
[4,null,"（ニ）の理由"]
[null,null,"",null,null,null,null,null,null,null,null,null,null,null,null,null,null,null,null,null,8,{"$f":"C46","v":""}]
[null,null,""]
[null,null,""]
[null,null,""]
[]
[null,null,"２．","過去５年度間の電気需要平準化評価原単位が年平均１％以上改善できなかった場合は（ハ）、又は電気需要平準化評価原単位が前年度に比べ改善できなかった場合は（ニ）にその理由"]
[4,null,"（ハ）の理由"]
[null,null,"",null,null,null,null,null,null,null,null,null,null,null,null,null,null,null,null,null,9,{"$f":"C53","v":""}]
[null,null,""]
[null,null,""]
[null,null,""]
[4,null,"（ニ）の理由"]
[null,null,"",null,null,null,null,null,null,null,null,null,null,null,null,null,null,null,null,null,10,{"$f":"C58","v":""}]
[null,null,""]
[null,null,""]
[null,null,""]
[null,null,null,null,null,null,null,null,null,null,null,null,null,null,null,null,null,null,null,null,null,{"$f":"+C53","v":""}]
[null,null,"２．","過去５年度間の電気需要平準化評価原単位が年平均１％以上改善できなかった場合は（ハ）、又は電気需要平準化評価原単位が前年度に比べ改善できなかった場合は（ニ）にその理由"]
[4,null,"（ハ）の理由"]
[null,null,"",null,null,null,null,null,null,null,null,null,null,null,null,null,null,null,null,null,11,{"$f":"C65","v":""}]
[null,null,""]
[null,null,""]
[null,null,""]
[4,null,"（ニ）の理由"]
[null,null,"",null,null,null,null,null,null,null,null,null,null,null,null,null,null,null,null,null,12,{"$f":"C70","v":""}]
[null,null,""]
[null,null,""]
[null,null,""]

{"sheet":"第7表","index":17,"n_rows":120,"n_cols":20,"rows_kept":120,"cut":false,"hidden":false,"merged":[[109,2,114,2],[109,6,114,6],[110,3,114,3],[110,4,114,4],[110,5,114,5],[115,2,119,2],[115,6,119,6],[116,3,119,3],[116,4,119,4],[116,5,119,5],[98,2,103,2],[98,6,103,6],[99,3,103,3],[99,4,103,4],[99,5,103,5],[104,2,108,2],[104,4,108,4],[104,5,108,5],[104,6,108,6],[105,3,108,3],[88,3,91,3],[92,2,97,2],[92,5,97,5],[92,6,97,6],[93,3,97,3],[93,4,97,4],[82,2,91,2],[83,3,86,3],[83,4,86,4],[83,5,86,5],[83,6,86,6],[81,3,81,6],[63,2,68,2],[63,6,68,6],[64,3,68,3],[64,4,68,4],[64,5,68,5],[69,2,73,2],[69,4,73,4],[69,5,73,5],[69,6,73,6],[70,3,73,3],[74,2,79,2],[74,6,79,6],[75,3,79,3],[75,4,79,4],[75,5,79,5],[5,4,8,4],[5,3,8,3],[5,6,8,6],[10,3,13,3],[4,2,13,2],[21,5,25,5],[15,3,19,3],[20,2,25,2],[32,3,36,3],[32,4,36,4],[32,5,36,5],[27,3,30,3],[26,2,30,2],[1,2,1,6],[31,6,36,6],[37,6,42,6],[3,3,3,6],[14,5,19,5],[14,6,19,6],[20,6,25,6],[5,5,8,5],[15,4,19,4],[21,4,25,4],[14,2,19,2],[21,3,25,3],[26,6,30,6],[26,4,30,4],[26,5,30,5],[31,2,36,2],[57,2,62,2],[57,5,62,5],[38,3,42,3],[38,4,42,4],[38,5,42,5],[47,2,56,2],[48,3,51,3],[48,4,51,4],[46,3,46,6],[37,2,42,2],[48,5,51,5],[48,6,51,6],[53,3,56,3],[57,6,62,6],[58,3,62,3],[58,4,62,4]]}
[1]
[null,null,"第７表 エネルギーの使用の合理化に関する判断の基準の遵守状況"]
[null,null,"１．貨物輸送に係るエネルギーの仕様の合理化に関する貨物輸送事業者の判断の基準の遵守状況"]
[null,null,"対象項目"]
[null,null,"取り組み方針の\n作成とその効果等\nの把握","取組方針の策定","省エネ推進体制\n・責任者の設置","責任者による取組の\n状況（計画の策定、\n報告等）","省エネに関する\n従業員教育実施",null,null,null,"取組方針の策定","省エネ推進体制・責任者の設置","責任者による取組の状況（計画の策定、報告等）","省エネに関する従業員教育実施"]
[null,null,null,null,null,null,null,null,null,null,1,1,1,1,{"$f":"+K6*1+K7*2+K8*3+K9*4","v":1},{"$f":"+L6*1+L7*2+L8*3+L9*4","v":1},{"$f":"+M6*1+M7*2+M8*3+M9*4","v":1},{"$f":"+N6*1+N7*2+N8*3+N9*4","v":1},1,{"$f":"+O6","v":1}]
[null,null,null,null,null,null,null,null,null,null,0,0,0,0,null,null,null,null,2,{"$f":"+P6","v":1}]
[null,null,null,null,null,null,null,null,null,null,null,0,0,null,null,null,null,null,3,{"$f":"+Q6","v":1}]
[null,null,null,null,null,null,null,null,null,null,null,0,0,null,null,null,null,null,4,{"$f":"+R6","v":1}]
[null,null,null,"省エネ目標の設定・\n効果測定及び\n取組の見直し",null,null,null,null,null,null,"省エネ目標の設定・効果測定及び取組の見直し"]
[null,null,null,null,null,null,null,null,null,null,1,null,null,null,{"$f":"+K11*1+K12*2+K13*3+K14*4","v":1},null,null,null,5,{"$f":"O11","v":1}]
[null,null,null,null,null,null,null,null,null,null,0]
[null,null,null,null,null,null,null,null,null,null,0]
[null,null,null,null,null,null,null,null,null,null,0]
[null,null,"省エネ輸送用\n機械器具の使用","省エネ輸送用\n機械器具の導入","省エネに資する\n器具の導入",null,null,null,null,null,"省エネ輸送用\n機械器具の導入","省エネに資する\n器具の導入"]
[null,null,null,null,null,null,null,null,null,null,1,1,null,null,{"$f":"+K16*1+K17*2+K18*3+K19*4","v":1},{"$f":"+L16*1+L17*2+L18*3+L19*4+L20*5","v":1},null,null,6,{"$f":"O16","v":1}]
[null,null,null,null,null,null,null,null,null,null,0,0,null,null,null,null,null,null,7,{"$f":"P16","v":1}]
[null,null,null,null,null,null,null,null,null,null,0,0]
[null,null,null,null,null,null,null,null,null,null,0,0]
[null,null,null,null,null,null,null,null,null,null,null,0]
[null,null,"省エネ運転・操縦","省エネ運転・操縦","効率的な\n輸送ルートの選択","冷凍機効率の向上",null,null,null,null,"省エネ運転・操縦","効率的な\n輸送ルートの選択","冷凍機効率の向上"]
[null,null,null,null,null,null,null,null,null,null,1,1,1,null,{"$f":"+K22*1+K23*2+K24*3+K25*4","v":1},{"$f":"+L22*1+L23*2+L24*3+L25*4+L26*5","v":1},{"$f":"+M22*1+M23*2+M24*3+M25*4+M26*5","v":1},null,8,{"$f":"O22","v":1}]
[null,null,null,null,null,null,null,null,null,null,0,0,0,null,null,null,null,null,9,{"$f":"P22","v":1}]
[null,null,null,null,null,null,null,null,null,null,0,0,0,null,null,null,null,null,10,{"$f":"Q22","v":1}]
[null,null,null,null,null,null,null,null,null,null,0,0,0]
[null,null,null,null,null,null,null,null,null,null,null,0,0]
[null,null,"輸送能力の高い\n輸送用機械器具の\n使用","輸送用機械器具の\n大型化",null,null,null,null,null,null,"輸送用機械器具の\n大型化"]
[null,null,null,null,null,null,null,null,null,null,1,null,null,null,{"$f":"+K28*1+K29*2+K30*3+K31*4","v":1},null,null,null,11,{"$f":"O28","v":1}]
[null,null,null,null,null,null,null,null,null,null,0]
[null,null,null,null,null,null,null,null,null,null,0]
[null,null,null,null,null,null,null,null,null,null,0]
[null,null,"輸送能力の\n効率的な活用","積載率の向上","貨物量に応じた\n輸送能力の適正化","空荷走行・航行\n距離等の縮減",null,null,null,null,"積載率の向上","貨物量に応じた\n輸送能力の適正化","空荷走行・航行\n距離等の縮減"]
[null,null,null,null,null,null,null,null,null,null,1,1,1,null,{"$f":"+K33*1+K34*2+K35*3+K36*4+K37*5","v":1},{"$f":"+L33*1+L34*2+L35*3+L36*4+L37*5","v":1},{"$f":"+M33*1+M34*2+M35*3+M36*4","v":1},null,12,{"$f":"O33","v":1}]
[null,null,null,null,null,null,null,null,null,null,0,0,0,null,null,null,null,null,13,{"$f":"P33","v":1}]
[null,null,null,null,null,null,null,null,null,null,0,0,0,null,null,null,null,null,14,{"$f":"Q33","v":1}]
[null,null,null,null,null,null,null,null,null,null,0,0,0]
[null,null,null,null,null,null,null,null,null,null,0,0]
[null,null,"その他","荷主等の関係者\nとの連携強化","効率的な輸送方法\nの選択の促進","物流拠点の整備",null,null,null,null,"荷主等の関係者\nとの連携強化","効率的な輸送方法\nの選択の促進","物流拠点の整備"]
[null,null,null,null,null,null,null,null,null,null,1,1,1,null,{"$f":"+K39*1+K40*2+K41*3+K42*4","v":1},{"$f":"+L39*1+L40*2+L41*3+L42*4","v":1},{"$f":"+M39*1+M40*2+M41*3+M42*4+M43*5","v":1},null,15,{"$f":"O39","v":1}]
[null,null,null,null,null,null,null,null,null,null,0,0,0,null,null,null,null,null,16,{"$f":"P39","v":1}]
[null,null,null,null,null,null,null,null,null,null,0,0,0,null,null,null,null,null,17,{"$f":"Q39","v":1}]
[null,null,null,null,null,null,null,null,null,null,0,0,0]
[null,null,null,null,null,null,null,null,null,null,null,null,0]
[]
[]
[null,null,"２．旅客輸送に係るエネルギーの仕様の合理化に関する旅客輸送事業者の判断の基準の遵守状況"]
[null,null,"対象項目"]
[null,null,"取り組み方針の\n作成とその効果等\nの把握","取組方針の策定","省エネ推進体制\n・責任者の設置","責任者による取組の\n状況（計画の策定、\n報告等）","省エネに関する\n従業員教育実施",null,null,null,"取組方針の策定","省エネ推進体制・責任者の設置","責任者による取組の状況（計画の策定、報告等）","省エネに関する従業員教育実施"]
[null,null,null,null,null,null,null,null,null,null,1,1,1,1,{"$f":"+K49*1+K50*2+K51*3+K52*4","v":1},{"$f":"+L49*1+L50*2+L51*3+L52*4","v":1},{"$f":"+M49*1+M50*2+M51*3+M52*4","v":1},{"$f":"+N49*1+N50*2+N51*3+N52*4","v":1},18,{"$f":"+O49","v":1}]
[null,null,null,null,null,null,null,null,null,null,0,0,0,0,null,null,null,null,19,{"$f":"+P49","v":1}]
[null,null,null,null,null,null,null,null,null,null,null,0,0,null,null,null,null,null,20,{"$f":"+Q49","v":1}]
[null,null,null,null,null,null,null,null,null,null,null,0,0,null,null,null,null,null,21,{"$f":"+R49","v":1}]
[null,null,null,"省エネ目標の設定・\n効果測定及び\n取組の見直し",null,null,null,null,null,null,"省エネ目標の設定・効果測定及び取組の見直し"]
[null,null,null,null,null,null,null,null,null,null,1,null,null,null,{"$f":"+K54*1+K55*2+K56*3+K57*4","v":1},null,null,null,22,{"$f":"O54","v":1}]
[null,null,null,null,null,null,null,null,null,null,0]
[null,null,null,null,null,null,null,null,null,null,0]
[null,null,null,null,null,null,null,null,null,null,0]
[null,null,"省エネ輸送用\n機械器具の使用","省エネ輸送用\n機械器具の導入","省エネに資する\n器具の導入",null,null,null,null,null,"省エネ輸送用\n機械器具の導入","省エネに資する\n器具の導入"]
[null,null,null,null,null,null,null,null,null,null,1,1,null,null,{"$f":"+K59*1+K60*2+K61*3+K62*4","v":1},{"$f":"+L59*1+L60*2+L61*3+L62*4+L63*5","v":1},null,null,23,{"$f":"O59","v":1}]
[null,null,null,null,null,null,null,null,null,null,0,0,null,null,null,null,null,null,24,{"$f":"P59","v":1}]
[null,null,null,null,null,null,null,null,null,null,0,0]
[null,null,null,null,null,null,null,null,null,null,0,0]
[null,null,null,null,null,null,null,null,null,null,null,0]
[null,null,"省エネ運転・操縦","省エネ運転・操縦","効率的な\n輸送ルートの選択","冷暖房効率の向上等",null,null,null,null,"省エネ運転・操縦","効率的な\n輸送ルートの選択","冷暖房効率の向上等"]
[null,null,null,null,null,null,null,null,null,null,1,1,1,null,{"$f":"+K65*1+K66*2+K67*3+K68*4+K69*5","v":1},{"$f":"+L65*1+L66*2+L67*3+L68*4+L69*5","v":1},{"$f":"+M65*1+M66*2+M67*3+M68*4+M69*5","v":1},null,25,{"$f":"O65","v":1}]
[null,null,null,null,null,null,null,null,null,null,0,0,0,null,null,null,null,null,26,{"$f":"P65","v":1}]
[null,null,null,null,null,null,null,null,null,null,0,0,0,null,null,null,null,null,27,{"$f":"Q65","v":1}]
[null,null,null,null,null,null,null,null,null,null,0,0,0]
[null,null,null,null,null,null,null,null,null,null,0,0,0]
[null,null,"旅客を乗せない走行・\n航行距離の縮減","回送走行・航行距離等\nの縮減",null,null,null,null,null,null,"回送走行・航行距離等の縮減"]
[null,null,null,null,null,null,null,null,null,null,1,null,null,null,{"$f":"+K71*1+K72*2+K73*3+K74*4","v":1},null,null,null,28,{"$f":"O71","v":1}]
[null,null,null,null,null,null,null,null,null,null,0]
[null,null,null,null,null,null,null,null,null,null,0]
[null,null,null,null,null,null,null,null,null,null,0]
[null,null,"その他","他の事業者等\n関係者との連携強化","効率的な輸送方法\nの選択の促進",null,null,null,null,null,"他の事業者等\n関係者との連携強化","効率的な輸送方法\nの選択の促進"]
[null,null,null,null,null,null,null,null,null,null,1,1,null,null,{"$f":"+K76*1+K77*2+K78*3+K79*4","v":1},{"$f":"+L76*1+L77*2+L78*3+L79*4+L80*5","v":1},null,null,29,{"$f":"O76","v":1}]
[null,null,null,null,null,null,null,null,null,null,0,0,null,null,null,null,null,null,30,{"$f":"P76","v":1}]
[null,null,null,null,null,null,null,null,null,null,0,0]
[null,null,null,null,null,null,null,null,null,null,0,0]
[null,null,null,null,null,null,null,null,null,null,null,0]
[]
[null,null,"対象項目"]
[null,null,"取り組み方針の\n作成とその効果等\nの把握","取組方針の策定","省エネ推進体制\n・責任者の設置","責任者による取組の\n状況（計画の策定、\n報告等）","省エネに関する\n従業員教育実施",null,null,null,"取組方針の策定","省エネ推進体制・責任者の設置","責任者による取組の状況（計画の策定、報告等）","省エネに関する従業員教育実施"]
[null,null,null,null,null,null,null,null,null,null,1,1,1,1,{"$f":"+K84*1+K85*2+K86*3+K87*4","v":1},{"$f":"+L84*1+L85*2+L86*3+L87*4","v":1},{"$f":"+M84*1+M85*2+M86*3+M87*4","v":1},{"$f":"+N84*1+N85*2+N86*3+N87*4","v":1},31,{"$f":"+O84","v":1}]
[null,null,null,null,null,null,null,null,null,null,0,0,0,0,null,null,null,null,32,{"$f":"+P84","v":1}]
[null,null,null,null,null,null,null,null,null,null,null,0,0,null,null,null,null,null,33,{"$f":"+Q84","v":1}]
[null,null,null,null,null,null,null,null,null,null,null,0,0,null,null,null,null,null,34,{"$f":"+R84","v":1}]
[null,null,null,"省エネ目標の設定・\n効果測定及び\n取組の見直し",null,null,null,null,null,null,"省エネ目標の設定・効果測定及び取組の見直し"]
[null,null,null,null,null,null,null,null,null,null,1,null,null,null,{"$f":"+K89*1+K90*2+K91*3+K92*4","v":1},null,null,null,35,{"$f":"O89","v":1}]
[null,null,null,null,null,null,null,null,null,null,0]
[null,null,null,null,null,null,null,null,null,null,0]
[null,null,null,null,null,null,null,null,null,null,0]
[null,null,"省エネ輸送用\n機械器具の使用","省エネ輸送用\n機械器具の導入","省エネに資する\n器具の導入",null,null,null,null,null,"省エネ輸送用\n機械器具の導入","省エネに資する\n器具の導入"]
[null,null,null,null,null,null,null,null,null,null,1,1,null,null,{"$f":"+K94*1+K95*2+K96*3+K97*4","v":1},{"$f":"+L94*1+L95*2+L96*3+L97*4","v":1},null,null,36,{"$f":"O94","v":1}]
[null,null,null,null,null,null,null,null,null,null,0,0,null,null,null,null,null,null,37,{"$f":"P94","v":1}]
[null,null,null,null,null,null,null,null,null,null,0,0]
[null,null,null,null,null,null,null,null,null,null,0,0]
[]
[null,null,"省エネ運転・操縦","省エネ運転・操縦","搭載物の改善","地上運用における\n省エネ",null,null,null,null,"省エネ運転・操縦","搭載物の改善","地上運用における省エネ"]
[null,null,null,null,null,null,null,null,null,null,1,1,1,null,{"$f":"+K100*1+K101*2+K102*3+K103*4","v":1},{"$f":"+L100*1+L101*2+L102*3+L103*4+L104*5","v":1},{"$f":"+M100*1+M101*2+M102*3+M103*4+M104*5","v":1},null,38,{"$f":"O100","v":1}]
[null,null,null,null,null,null,null,null,null,null,0,0,0,null,null,null,null,null,39,{"$f":"P100","v":1}]
[null,null,null,null,null,null,null,null,null,null,0,0,0,null,null,null,null,null,40,{"$f":"Q100","v":1}]
[null,null,null,null,null,null,null,null,null,null,0,0,0]
[]
[null,null,"輸送能力の高い\n輸送用機械器具の\n使用","輸送用機械器具の\n大型化",null,null,null,null,null,null,"輸送用機械器具の\n大型化"]
[null,null,null,null,null,null,null,null,null,null,1,null,null,null,{"$f":"+K106*1+K107*2+K108*3+K109*4","v":1},null,null,null,41,{"$f":"O106","v":1}]
[null,null,null,null,null,null,null,null,null,null,0]
[null,null,null,null,null,null,null,null,null,null,0]
[null,null,null,null,null,null,null,null,null,null,0]
[null,null,"輸送能力の\n効率的な活用","積載率の向上","回送航行距離の縮減",null,null,null,null,null,"積載率の向上","回送航行距離の縮減"]
[null,null,null,null,null,null,null,null,null,null,1,1,null,null,{"$f":"+K111*1+K112*2+K113*3+K114*4","v":1},{"$f":"+L111*1+L112*2+L113*3+L114*4+L115*5","v":1},null,null,42,{"$f":"O111","v":1}]
[null,null,null,null,null,null,null,null,null,null,0,0,null,null,null,null,null,null,43,{"$f":"P111","v":1}]
[null,null,null,null,null,null,null,null,null,null,0,0]
[null,null,null,null,null,null,null,null,null,null,0,0]
[]
[null,null,"その他","他の事業者等の\n関係者との連携強化",null,null,null,null,null,null,"他の事業者等の関係者との連携強化"]
[null,null,null,null,null,null,null,null,null,null,1,null,null,null,{"$f":"+K117*1+K118*2+K119*3+K120*4","v":1},null,null,null,44,{"$f":"O117","v":1}]
[null,null,null,null,null,null,null,null,null,null,0]
[null,null,null,null,null,null,null,null,null,null,0]
[null,null,null,null,null,null,null,null,null,null,0]

{"sheet":"第8表","index":18,"n_rows":19,"n_cols":17,"rows_kept":19,"cut":false,"hidden":false,"merged":[[12,2,12,11],[13,2,13,11],[14,2,14,11],[5,2,5,11],[6,2,6,11],[7,2,7,11],[1,2,1,11],[3,2,3,11],[4,2,4,11],[10,2,10,11],[11,2,11,11]]}
[1]
[null,null,"第８表　その他実施した措置"]
[null,null,"１．エネルギーの使用の合理化に関する事項"]
[4,null,"措　置　の　概　要"]
[null,null,"",null,null,null,null,null,null,null,null,null,null,null,null,1,{"$f":"C5","v":""}]
[null,null,""]
[null,null,""]
[null,null,""]
[null,null,null,null,null,null,null,null,null,null,null,null,null,null,null,null,{"$f":"+C5","v":""}]
[null,null,"２．電気の需要の平準化に資する措置に関する事項"]
[4,null,"措　置　の　概　要"]
[null,null,"",null,null,null,null,null,null,null,null,null,null,null,null,2,{"$f":"C12","v":""}]
[null,null,""]
[null,null,""]
[null,null,""]
[null,null,null,null,null,null,null,null,null,null,null,null,null,null,null,null,{"$f":"+C12","v":""}]
[null,null,null,null,null,null,null,null,null,null,null,null,null,null,null,null,{"$f":"+C6","v":""}]
[null,null,null,null,null,null,null,null,null,null,null,null,null,null,null,null,{"$f":"+C7","v":""}]
[null,null,null,null,null,null,null,null,null,null,null,null,null,null,null,null,{"$f":"+C8","v":""}]

{"sheet":"第9表","index":19,"n_rows":26,"n_cols":22,"rows_kept":26,"cut":false,"hidden":false,"merged":[[13,2,13,11],[14,2,14,11],[5,12,6,13],[9,2,9,11],[10,2,10,11],[11,2,11,11],[12,2,12,11],[6,3,6,11],[7,2,7,11],[8,2,8,11],[22,8,22,10],[16,2,16,11],[15,2,15,11],[17,2,17,11],[21,2,21,11],[18,8,18,10],[20,2,20,11],[19,2,19,11],[1,2,1,11],[2,2,2,11],[4,2,4,9],[4,10,4,11],[3,2,3,9],[3,10,3,11]]}
[1]
[{"$f":"'第1表(1)_貨物'!$A$2","v":0},null,"第９表　二酸化炭素の排出に係る事項"]
[{"$f":"LEN(C8)+LEN(C9)+LEN(C10)+LEN(C11)+LEN(C12)+LEN(C13)","v":0},null,"１．エネルギーの使用に伴って発生する二酸化炭素の排出量",null,null,null,null,null,null,null,null,null,null,null,null,null,null,null,"貨物","旅客","航空","合計"]
[null,null,null,null,null,null,null,null,null,null,{"$f":"メニュー!A4","v":"2022-01-01"},null,null,null,null,null,null,"自動算出",{"$f":"IF('第1表(1)_貨物'!$Q$41=\"\",\"\",'第1表(1)_貨物'!$Q$41)","v":0},{"$f":"IF('第1表(1)_旅客'!$Q$41=\"\",\"\",'第1表(1)_旅客'!$Q$41)","v":0},{"$f":"IF('第1表(1)_航空'!$Q$41=\"\",\"\",'第1表(1)_航空'!$Q$41)","v":0},{"$f":"SUM(S4:U4)","v":0}]
[null,null,"エネルギーの使用に伴って発生する二酸化炭素の排出量(t-CO2)",null,null,null,null,null,null,null,{"$f":"IF(V4=0,0,ROUND(V4,(INT(LOG(V4))-2)*(-1)))","v":0},null,null,null,null,1,{"$f":"CO2排出量","v":0},"独自算出",{"$f":"SUM('第1表(1)_貨物'!T7:T36)","v":0},{"$f":"SUM('第1表(1)_貨物'!U7:U36)","v":0},{"$f":"SUM('第1表(1)_貨物'!V7:V36)","v":0},{"$f":"SUM(S5:U5)","v":0}]
[null,null,"第1表で独自の算定方法または係数を使用していますので以下を必ず記入してください"]
[8,null,"２．","地球温暖化対策の推進に関する法律に基づく命令に定める算定方法又は係数と異なる算定方法又は係数の内容"]
[null,null,"",null,null,null,null,null,null,null,null,null,null,null,null,2,{"$f":"C8","v":""}]
[null,null,""]
[null,null,""]
[null,null,""]
[null,null,""]
[null,null,""]
[null,null,""]
[null,null,""]
[]
[null,null,"３．権利利益の保護に係る請求の有無"]
[null,null,"　上記１．の報告が地球温暖化対策の推進に関する法律第２７条第１項に定める「温室効果ガス算定排出量の情報が公にされることにより、当該特定排出者の権利、競争上の地位その他正当な利益が害されるおそれがあると思料するとき」の請求に係るものであることの有無（該当するものどちらかに○をすること）"]
[2,null,null,null,null,null,null,null,{"$f":"IF(A19=1,\"①．有（別添のとおり）\",\"1．有（別添のとおり）\")","v":"1．有（別添のとおり）"},null,null,{"$f":"IF(A19=2,\"②．無\",\"2．無\")","v":"②．無"},null,null,null,3,{"$f":"A19","v":2}]
[1,null,null,null,null,null,null,null,null,null,null,null,null,null,null,null,{"$f":"+C9","v":""}]
[2,null,"４．情報提供の有無",null,null,null,null,null,null,null,null,null,null,null,null,null,""]
[null,null,"　上記１．の報告に関して地球温暖化対策の推進に関する法律第３２条第１項の規定によるエネルギーの使用に伴って発生する二酸化炭素の排出量の増減の状況に関する情報等の提供の有無（該当するものどちらかに○をすること）",null,null,null,null,null,null,null,null,null,null,null,null,null,""]
[2,null,null,null,null,null,null,null,{"$f":"IF(A23=1,\"①．有（別添のとおり）\",\"1．有（別添のとおり）\")","v":"1．有（別添のとおり）"},null,null,{"$f":"IF(A23=2,\"②．無\",\"2．無\")","v":"②．無"},null,null,null,4,{"$f":"A23","v":2}]
[null,null,null,null,null,null,null,null,null,null,null,null,null,null,null,null,""]
[null,null,null,null,null,null,null,null,null,null,null,null,null,null,null,null,""]
[null,null,null,null,null,null,null,null,null,null,null,null,null,null,null,null,""]

{"sheet":"係数（電気）","index":20,"n_rows":674,"n_cols":42,"rows_kept":674,"cut":false,"hidden":true,"merged":[]}
[null,{"$f":"メニュー!A50+YEAR(メニュー!A51)-F10","v":9}]
[]
[null,"エネルギーの種類",null,null,"単位"," 省エネ法の換算係数"]
[null,"電\n\n気","電気\n事業者","昼間買電","GJ/千ｋWh",9.9700000000000006]
[null,null,null,"夜間買電","GJ/千ｋWh",9.2799999999999994]
[null,null,"その他","上記以外の買電","GJ/千ｋWh",9.76]
[null,null,null,"自家発電","GJ/千ｋWh",9.76]
[]
[null,null,null,"実排出係数"]
[null,"参考","登録番号","指定年の値","単位",2014,2015,2016,2017,2018,2019,2020,2021,2022,2023,2024,2025,2026,2027,2028,2029,2030,2031,2032,2033,2034,2035,2036,2037,2038,2039,2040,2041,2042,2043,2044,2045,2046,2047,2048,2049,2050]
[null,"(株)Ｆ－Ｐｏｗｅｒ","A0001",{"$f":"IF($B$1>0,INDIRECT(\"R\"&ROW()&\"C\"&$B$1+5,FALSE),0)","v":0.47199999999999998},"tCO2/千kWh",0.49099999999999999,0.45400000000000001,0.48,0.47599999999999998,0.502,0.50800000000000001,0.44800000000000001,0.47699999999999998,0.47199999999999998]
[null,"イーレックス(株)","A0002",{"$f":"IF($B$1>0,INDIRECT(\"R\"&ROW()&\"C\"&$B$1+5,FALSE),0)","v":0.45300000000000001},"tCO2/千kWh",0.5,0.66200000000000003,0.55500000000000005,0.501,0.53900000000000003,0.41599999999999998,0.38500000000000001,0.47,0.45300000000000001]
[null,"リエスパワー(株)","A0003",0.36799999999999999,"tCO2/千kWh",0.55300000000000005,0.58199999999999996,0.48499999999999999,0.53800000000000003,0.52100000000000002,0.503,0.44500000000000001,0.55600000000000005,0.36799999999999999]
[null,"エバーグリーン・リテイリング(株)（旧：イーレックス・スパーク・マーケティング(株)）","A0004",0.54799999999999993,"tCO2/千kWh","","","",0.58299999999999996,0.501,0.53800000000000003,0.78,0.61899999999999999,0.54799999999999993]
[null,"イーレックス・スパーク・エリアマーケティング(株)","A0005",0,"tCO2/千kWh","","","",0.52500000000000002,0.501]
[null,"エバーグリーン・マーケティング(株)","A0006",0.53500000000000003,"tCO2/千kWh",null,null,null,null,null,null,0.308,0.435,0.53500000000000003]
[null,"(株)ＳＥウイングズ","A0007",0.26200000000000001,"tCO2/千kWh",0.46200000000000002,0.46200000000000002,0.502,0.45400000000000001,0.45300000000000001,0.47699999999999998,0.371,0.42699999999999999,0.26200000000000001]
[null,"(株)イーセル","A0008",0.47499999999999998,"tCO2/千kWh",0.315,0.51100000000000001,0.47499999999999998,0.57699999999999996,0.58399999999999996,0.45200000000000001,0.47,0.45800000000000002,0.47499999999999998]
[null,"(株)エネット","A0009",0.40499999999999997,"tCO2/千kWh",0.42299999999999999,0.45400000000000001,0.41799999999999998,0.40500000000000003,0.42299999999999999,0.42599999999999999,0.39100000000000001,0.373,0.40499999999999997]
[null,"須賀川瓦斯(株)","A0011",0.43099999999999999,"tCO2/千kWh","","",0.42099999999999999,0.377,0.42599999999999999,0.48099999999999998,0.501,0.41899999999999998,0.43099999999999999]
[null,"出光興産(株)（旧：昭和シェル石油(株)）","A0012",0.45100000000000001,"tCO2/千kWh",0.377,0.372,0.308,0.30199999999999999,0.35899999999999999,0.51700000000000002,0.40600000000000003,0.48499999999999999,0.45100000000000001]
[null,"(株)オプテージ（旧：(株)ケイ・オプティコム）","A0013",0.54699999999999993,"tCO2/千kWh","","","",0.57999999999999996,0.59299999999999997,0.57799999999999996,0.55300000000000005,0.55700000000000005,0.54699999999999993]
[null,"エネサーブ(株)","A0014",0.432,"tCO2/千kWh",0.61699999999999999,0.63400000000000001,0.36399999999999999,0.49299999999999999,0.41,0.42399999999999999,0.36499999999999999,0.34699999999999998,0.432]
[null,"(株)エネワンでんき(旧：(株)サイサン)","A0015",0.499,"tCO2/千kWh",0.373,0.373,0.434,0.49399999999999999,0.47599999999999998,0.46100000000000002,0.48,0.38200000000000001,0.499]
[null,"ミツウロコグリーンエネルギー(株)","A0016",0.34200000000000003,"tCO2/千kWh",0.375,0.46600000000000003,0.495,0.41899999999999998,0.33700000000000002,0.309,0.33400000000000002,0.34399999999999997,0.34200000000000003]
[null,"(株)Shared Energy（旧：(株)パワーアットクラウド）","A0017",0.49,"tCO2/千kWh",null,null,null,null,null,0.84699999999999998,0.51900000000000002,0.504,0.49]
[null,"ネクストパワーやまと(株)","A0018",0.38300000000000001,"tCO2/千kWh","","","",0.49399999999999999,0.48699999999999999,0.439,0.41899999999999998,0.433,0.38300000000000001]
[null,"日本テクノ(株)","A0019",0.46799999999999997,"tCO2/千kWh",0.48199999999999998,0.53200000000000003,0.35799999999999998,0.40100000000000002,0.36599999999999999,0.34300000000000003,0.39300000000000002,0.42399999999999999,0.46799999999999997]
[null,"中央電力エナジー(株)","A0020",0.50600000000000001,"tCO2/千kWh",0.56000000000000005,0.56000000000000005,0.52400000000000002,0.53600000000000003,0.54700000000000004,0.52200000000000002,0.48299999999999998,0.48299999999999998,0.50600000000000001]
[null,"(株)Ｌｏｏｏｐ","A0021",0.38,"tCO2/千kWh","","",0.4,0.503,0.51300000000000001,0.46200000000000002,0.498,0.36099999999999999,0.38]
[null,"(株)ナンワエナジー","A0023",0.58899999999999997,"tCO2/千kWh",0.59099999999999997,0.60199999999999998,0.53600000000000003,0.54400000000000004,0.46100000000000002,0.48599999999999999,0.44400000000000001,0.627,0.58899999999999997]
[null,"静岡ガス＆パワー(株)","A0024",0.38300000000000001,"tCO2/千kWh","","","",0.38100000000000001,0.36,0.45500000000000002,0.499,0.42699999999999999,0.38300000000000001]
[null,"荏原環境プラント(株)","A0025",0.14699999999999999,"tCO2/千kWh",0,0.26600000000000001,0.16300000000000001,8.1000000000000003E-2,0.192,0.125,0.27200000000000002,0.129,0.14699999999999999]
[null,"東京エコサービス(株)","A0026",8.7999999999999995E-2,"tCO2/千kWh",0.08,7.0999999999999994E-2,0.10199999999999999,0.05,9.8000000000000004E-2,8.5999999999999993E-2,5.1999999999999998E-2,0.10500000000000001,8.7999999999999995E-2]
[null,"ダイヤモンドパワー(株)","A0027",0.99900000000000011,"tCO2/千kWh",0.40200000000000002,0.33900000000000002,0.32,0.48699999999999999,0.48099999999999998,0.502,0.44700000000000001,0.36399999999999999,0.99900000000000011]
[null,"出光グリーンパワー(株)","A0028",0.3,"tCO2/千kWh",0.64400000000000002,0.253,0.22800000000000001,0.158,0.32600000000000001,0.13700000000000001,0.28799999999999998,0.20699999999999999,0.3]
[null,"プレミアムグリーンパワー(株)","A0029",0,"tCO2/千kWh",2.1000000000000001E-2,1.0999999999999999E-2,2.5999999999999999E-2,0.04,4.3999999999999997E-2]
[null,"(株)新出光","A0031",0.47399999999999998,"tCO2/千kWh",0.48699999999999999,0.48699999999999999,0.48799999999999999,0.51800000000000002,0.49200000000000005,0.49,0.49199999999999999,0.48099999999999998,0.47399999999999998]
[null,"セントラル石油瓦斯(株)（中央セントラルガス(株)）","A0032",0.49399999999999999,"tCO2/千kWh","","","",0.31,0.32500000000000001,0.38600000000000001,0.55100000000000005,0.435,0.49399999999999999]
[null,"にちほクラウド電力(株)","A0033",0,"tCO2/千kWh",0.53900000000000003,0.53900000000000003,0.45500000000000002,0.51400000000000001,0.53500000000000003,0.49099999999999999,0.497]
[null,"(一財)泉佐野電力","A0034",0.36799999999999999,"tCO2/千kWh","","",0.53600000000000003,0.46100000000000002,0.47499999999999998,0.38700000000000001,0.34499999999999997,0.35100000000000003,0.36799999999999999]
[null,"コスモエネルギーソリューションズ(株)","A0035",0.30499999999999999,"tCO2/千kWh",0.63600000000000001,0.63600000000000001,0.68799999999999994,0.74299999999999999,0.61399999999999999,0.52700000000000002,0.505,0.47499999999999998,0.30499999999999999]
[null,"(株)グリーンサークル","A0036",3.7999999999999999E-2,"tCO2/千kWh","","","",0,0.02,2.3E-2,2.5999999999999999E-2,2.7E-2,3.7999999999999999E-2]
[null,"(株)ウエスト電力","A0037",0.36900000000000005,"tCO2/千kWh","","",0.29599999999999999,0.48899999999999999,0.54600000000000004,0.437,0.46500000000000002,0.39200000000000002,0.36900000000000005]
[null,"北海道瓦斯(株)","A0039",0.47899999999999998,"tCO2/千kWh","","",0.36499999999999999,0.628,0.504,0.48899999999999999,0.42399999999999999,0.435,0.47899999999999998]
[null,"新エネルギー開発(株)","A0042",0.47,"tCO2/千kWh","","","",0.50900000000000001,0.58699999999999997,0.40200000000000002,0.498,0.48199999999999998,0.47]
[null,"伊藤忠エネクス(株)","A0043",0.45300000000000001,"tCO2/千kWh",0.38,0.56799999999999995,0.48899999999999999,0.56999999999999995,0.52700000000000002,0.625,0.33300000000000002,0.47,0.45300000000000001]
[null,"(株)Ｖ－Ｐｏｗｅｒ","A0045",0.38,"tCO2/千kWh",0.23899999999999999,0.254,0.26200000000000001,0.46400000000000002,0.434,0.30599999999999999,0.34699999999999998,0.35599999999999998,0.38]
[null,"大和エネルギー(株)","A0046",0.35599999999999998,"tCO2/千kWh","","",0.66400000000000003,0.38100000000000001,0.51500000000000001,0.42799999999999999,0.442,0.36099999999999999,0.35599999999999998]
[null,"大阪瓦斯(株)","A0048",0.41199999999999998,"tCO2/千kWh","","",0.41300000000000003,0.39400000000000002,0.371,0.35,0.438,0.42599999999999999,0.41199999999999998]
[null,"エフビットコミュニケーションズ(株)","A0049",0.45800000000000002,"tCO2/千kWh","","","",0.57399999999999995,0.56599999999999995,0.55100000000000005,0.44900000000000001,0.47,0.45800000000000002]
[null,"ENEOS(株)（旧：ＪＸＴＧエネルギー(株)）","A0050",0.40600000000000003,"tCO2/千kWh",0.42,0.32500000000000001,0.51300000000000001,0.49099999999999999,0.52200000000000002,0.503,0.46200000000000002,0.46099999999999997,0.40600000000000003]
[null,"真庭バイオエネルギー(株)","A0051",0.05,"tCO2/千kWh","","","",0,3.6999999999999998E-2,2.4E-2,"0.0.61",3.6000000000000004E-2,0.05]
[null,"三井物産(株)","A0052",0.45300000000000001,"tCO2/千kWh",0,0,1.4999999999999999E-2,0.66,3.3000000000000002E-2,0.5,3.4000000000000002E-2,0.47,0.45300000000000001]
[null,"オリックス(株)","A0053",0.52200000000000002,"tCO2/千kWh",0.53900000000000003,0.498,0.55000000000000004,0.57699999999999996,0.55699999999999994,0.48499999999999999,0.59299999999999997,0.33599999999999997,0.52200000000000002]
[null,"(株)エネサンス関東","A0054",0.51900000000000002,"tCO2/千kWh","","","",0.308,0.32500000000000001,0.38600000000000001,0.55600000000000005,0.434,0.51900000000000002]
[null,"(株)ＵＰＤＡＴＥＲ","A0055",0.104,"tCO2/千kWh","","",0.46400000000000002,0.27300000000000002,0.20599999999999999,0.23400000000000001,6.4000000000000001E-2,0.126,0.104]
[null,"シン・エナジー(株)(旧:(株)洸陽電機)","A0056",0.47300000000000003,"tCO2/千kWh",0.34799999999999998,0.34799999999999998,0.51700000000000002,0.59199999999999997,0.39,0.57899999999999996,0.53400000000000003,0.48299999999999998,0.47300000000000003]
[null,"(株)サニックス","A0057",0.56200000000000006,"tCO2/千kWh",8.9999999999999993E-3,8.9999999999999993E-3,0.379,0.48099999999999998,0.433,0.60299999999999998,0.48799999999999999,0.38100000000000001,0.56200000000000006]
[null,"(株)コンシェルジュ","A0058",0.22800000000000001,"tCO2/千kWh","","",0.24000000000000002,0.23899999999999999,0.38,0.30499999999999999,0.20200000000000001,0.18100000000000002,0.22800000000000001]
[null,"(株)アイ・グリッド・ソリューションズ","A0060",0.53100000000000003,"tCO2/千kWh","","",0.51900000000000002,0.58699999999999997,0.60599999999999998,0.502,0.41,0.47499999999999998,0.53100000000000003]
[null,"サミットエナジー(株)","A0061",0.45399999999999996,"tCO2/千kWh",0.49199999999999999,0.41299999999999998,0.39700000000000002,0.59099999999999997,0.51700000000000002,0.44800000000000001,0.42599999999999999,0.41199999999999998,0.45399999999999996]
[null,"リコージャパン(株)","A0062",0.47899999999999998,"tCO2/千kWh","","",0.6,0.60699999999999998,0.51999999999999991,0.48899999999999999,0.441,0.48399999999999999,0.47899999999999998]
[null,"(株)エネルギア・ソリューション・アンド・サービス","A0063",0.45300000000000001,"tCO2/千kWh","","","",0.67100000000000004,0.38500000000000001,0.49199999999999999,0.63400000000000001,0.53799999999999992,0.45300000000000001]
[null,"東京ガス(株)","A0064",0.435,"tCO2/千kWh","","","",0.41699999999999998,0.4,0.432,0.39600000000000002,0.36900000000000005,0.435]
[null,"テス・エンジニアリング(株)","A0065",0.27099999999999996,"tCO2/千kWh",0.69499999999999995,0.59899999999999998,0.32200000000000001,0.26200000000000001,0.26700000000000002,0.24,0.23200000000000001,0.191,0.27099999999999996]
[null,"青梅ガス(株)","A0066",0.36399999999999999,"tCO2/千kWh","","","",0.51600000000000001,0.57799999999999996,0.57799999999999996,0.502,0.44700000000000001,0.36399999999999999]
[null,"(株)イーネットワークシステムズ","A0067",0.379,"tCO2/千kWh","","","",0.41099999999999998,0.371,0.40899999999999997,0.442,0.308,0.379]
[null,"(株)エネアーク関東（旧：伊藤忠エネクスホームライフ関東(株)）","A0068",0.45800000000000002,"tCO2/千kWh","","","",0.48899999999999999,0.51300000000000001,0.56000000000000005,0.68400000000000005,0.42399999999999999,0.45800000000000002]
[null,"(株)東急パワーサプライ","A0069",0.49399999999999999,"tCO2/千kWh","","",0.55800000000000005,0.63700000000000001,0.58599999999999997,0.53,0.53,0.50900000000000001,0.49399999999999999]
[null,"王子・伊藤忠エネクス電力販売(株)","A0070",0.52500000000000002,"tCO2/千kWh","","",0.56800000000000006,0.26500000000000001,0.34300000000000003,0.33500000000000002,0.34300000000000003,0.14699999999999999,0.52500000000000002]
[null,"伊藤忠商事(株)","A0071",0.94099999999999995,"tCO2/千kWh","","",0.56000000000000005,0.66100000000000003,0.51200000000000001,0.5,0.35199999999999998,0.47,0.94099999999999995]
[null,"(株)エコスタイル","A0072",0.41800000000000004,"tCO2/千kWh","","","",0.505,0.40400000000000003,0.41899999999999998,0.46,0.4,0.41800000000000004]
[null,"入間ガス(株)","A0073",0.36399999999999999,"tCO2/千kWh","","","",0.51600000000000001,0.57799999999999996,0.57799999999999996,0.502,0.44700000000000001,0.36399999999999999]
[null,"テプコカスタマーサービス(株)","A0074",0.57499999999999996,"tCO2/千kWh",0.55100000000000005,0.48699999999999999,0.41899999999999998,0.50800000000000001,0.57799999999999996,0.49099999999999999,0.51400000000000001,0.46,0.57499999999999996]
[null,"(株)とんでんホールディングス","A0075",{"$f":"IF($B$1>0,INDIRECT(\"R\"&ROW()&\"C\"&$B$1+5,FALSE),0)","v":0.40900000000000003},"tCO2/千kWh",0.495,0.495,0.38800000000000001,0.40600000000000003,0.379,0.254,0.33100000000000002,0.41800000000000004,0.40900000000000003]
[null,"日鉄エンジニアリング(株)（旧：新日鉄住金エンジニアリング(株)）","A0076",0.45399999999999996,"tCO2/千kWh",0.60199999999999998,0.56000000000000005,0.68300000000000005,0.64300000000000002,0.54400000000000004,0.54600000000000004,0.59799999999999998,0.53,0.45399999999999996]
[null,"ａｕエネルギー＆ライフ(株)(旧：ＫＤＤＩ(株))","A0077",0.52400000000000002,"tCO2/千kWh","","","",0.64,0.56699999999999995,0.54100000000000004,0.51500000000000001,0.49399999999999999,0.52400000000000002]
[null,"イワタニ関東(株)","A0079",0.72299999999999998,"tCO2/千kWh","","","",0.54400000000000004,0.627,0.71,0.68799999999999994,0.64300000000000002,0.72299999999999998]
[null,"イワタニ首都圏(株)","A0080",0.56999999999999995,"tCO2/千kWh","","","",0.53200000000000003,0.61899999999999999,0.65100000000000002,0.68600000000000005,0.69099999999999995,0.56999999999999995]
[null,"サーラｅエナジー(株)","A0081",0.35599999999999998,"tCO2/千kWh","","","",0.32200000000000001,0.24299999999999999,0.34899999999999998,0.49099999999999999,0.43600000000000005,0.35599999999999998]
[null,"(株)地球クラブ","A0082",0.104,"tCO2/千kWh","","",0.47800000000000004,0.41,0.25600000000000001,0.26400000000000001,0.21,0.1,0.104]
[null,"(株)エコア","A0083",0.505,"tCO2/千kWh","","","",0.48899999999999999,0.56499999999999995,0.50800000000000001,0.629,0.35300000000000004,0.505]
[null,"西部瓦斯(株)","A0084",0.49,"tCO2/千kWh","","",0.48099999999999998,0.66500000000000004,0.56999999999999995,0.53100000000000003,0.45600000000000002,0.51800000000000002,0.49]
[null,"東邦ガス(株)","A0085",0.44600000000000001,"tCO2/千kWh","","","",0.64200000000000002,0.71799999999999997,0.63300000000000001,0.51400000000000001,0.46,0.44600000000000001]
[null,"シナネン(株)","A0086",0.58499999999999996,"tCO2/千kWh",0.46,0.41599999999999998,0.4,0.503,0.54,0.45400000000000001,0.626,0.47600000000000003,0.58499999999999996]
[null,"(株)シナジアパワー","A0087",0.44800000000000001,"tCO2/千kWh","","","",0.47899999999999998,0.52200000000000002,0.50900000000000001,0.50600000000000001,0.46700000000000003,0.44800000000000001]
[null,"カワサキグリーンエナジー(株)","A0088",0.45600000000000002,"tCO2/千kWh","","",0.43099999999999999,0.55500000000000005,0.55200000000000005,0.56000000000000005,0.51,0.53399999999999992,0.45600000000000002]
[null,"大一ガス(株)","A0089",0.48899999999999993,"tCO2/千kWh","","",0.56999999999999995,0.5,0.56100000000000005,0.56299999999999994,0.49399999999999999,0.48299999999999998,0.48899999999999993]
[null,"(株)リミックスポイント","A0090",0.435,"tCO2/千kWh","","",0.53500000000000003,0.56000000000000005,0.54600000000000004,0.53300000000000003,0.49099999999999999,0.48899999999999993,0.435]
[null,"大阪いずみ市民生活協同組合","A0091",0.378,"tCO2/千kWh","","","",0.39500000000000002,0.53500000000000003,0.443,0.45800000000000002,0.39599999999999996,0.378]
[null,"(株)中海テレビ放送","A0092",0.434,"tCO2/千kWh","","","",0.54100000000000004,0.433,0.47399999999999998,0.437,0.43,0.434]
[null,"パシフィックパワー(株)","A0093",0.33,"tCO2/千kWh","","",0.44,0.39400000000000002,0.376,0.27300000000000002,0.32,0.183,0.33]
[null,"(株)いちたかガスワン","A0094",0.41100000000000003,"tCO2/千kWh","","",0.36499999999999999,0.55700000000000005,0.56200000000000006,0.57899999999999996,0.49299999999999999,0.502,0.41100000000000003]
[null,"(株)ジェイコム足立","A0095",0,"tCO2/千kWh","","","",0.58499999999999996,0.51600000000000001]
[null,"(株)ジェイコムイースト","A0096",0,"tCO2/千kWh","","","",0.58499999999999996,0.51600000000000001,0.42799999999999999]
[null,"(株)ジェイコム市川","A0097",0,"tCO2/千kWh","","","",0.58499999999999996,0.51600000000000001]
[null,"(株)ジェイコムウエスト","A0098",0.45800000000000002,"tCO2/千kWh","","","",0.59,0.52,0.43099999999999999,0.42399999999999999,0.42700000000000005,0.45800000000000002]
[null,"(株)ジェイコム大田","A0099",0,"tCO2/千kWh","","","",0.58499999999999996,0.51600000000000001]
[null,"(株)ジェイコム川口戸田","A0101",0,"tCO2/千kWh","","","",0.58499999999999996,0.51600000000000001]
[null,"(株)ジェイコム北関東","A0102",0,"tCO2/千kWh","","","",0.58499999999999996,0.51600000000000001]
[null,"(株)ジェイコム埼玉・東日本（旧：(株)ジェイコムさいたま）","A0103",0.45399999999999996,"tCO2/千kWh","","","",0.58499999999999996,0.51600000000000001,0.42699999999999999,0.42,0.42099999999999999,0.45399999999999996]
[null,"(株)ジェイコム札幌","A0104",0.45800000000000002,"tCO2/千kWh","","","",0.58499999999999996,0.52500000000000002,0.435,0.42599999999999999,0.42399999999999999,0.45800000000000002]
[null,"(株)ジェイコム湘南・神奈川（旧：(株)ジェイコム湘南）","A0105",0.45399999999999996,"tCO2/千kWh","","","",0.58499999999999996,0.51600000000000001,0.42699999999999999,0.41899999999999998,0.42000000000000004,0.45399999999999996]
[null,"(株)ジェイコム多摩","A0106",0,"tCO2/千kWh","","","",0.58499999999999996,0.51600000000000001]
[null,"(株)ジェイコム千葉","A0107",0.45399999999999996,"tCO2/千kWh","","","",0.58499999999999996,0.51600000000000001,0.42699999999999999,0.41899999999999998,0.42000000000000004,0.45399999999999996]
[null,"(株)ジェイコム千葉セントラル","A0108",0,"tCO2/千kWh","","","",0.58499999999999996,0.51600000000000001]
[null,"(株)ジェイコム東葛葛飾","A0109",0,"tCO2/千kWh","","","",0.58499999999999996,0.51600000000000001]
[null,"(株)ジェイコム東京","A0110",0.45399999999999996,"tCO2/千kWh","","","",0.58499999999999996,0.51600000000000001,0.42699999999999999,0.41899999999999998,0.42000000000000004,0.45399999999999996]
[null,"(株)ジェイコム東京北","A0111",0,"tCO2/千kWh","","","",0.58499999999999996,0.51600000000000001]
[null,"(株)ジェイコム中野","A0112",0,"tCO2/千kWh","","","",0.58499999999999996,0.51600000000000001]
[null,"(株)ジェイコム八王子","A0113",0,"tCO2/千kWh","","","",0.58499999999999996,0.51600000000000001]
[null,"(株)ジェイコム日野","A0114",0,"tCO2/千kWh","","","",0.58499999999999996,0.51600000000000001]
[null,"(株)ジェイコム船橋習志野","A0115",0,"tCO2/千kWh","","","",0.58499999999999996,0.51600000000000001]
[null,"(株)ジェイコム港新宿","A0116",0,"tCO2/千kWh","","","",0.58499999999999996,0.51600000000000001]
[null,"(株)ジェイコム南横浜","A0117",0,"tCO2/千kWh","","","",0.58499999999999996,0.51600000000000001]
[null,"(株)ジェイコム武蔵野三鷹","A0118",0,"tCO2/千kWh","","","",0.58499999999999996,0.51600000000000001]
[null,"土浦ケーブルテレビ(株)","A0119",0.45399999999999996,"tCO2/千kWh","","","",0.58499999999999996,0.51600000000000001,0.42699999999999999,0.41899999999999998,0.42000000000000004,0.45399999999999996]
[null,"鹿児島電力(株)","A0120",0.49099999999999999,"tCO2/千kWh","","","",0.57399999999999995,0.56899999999999995,0.54800000000000004,0.47399999999999998,0.49700000000000005,0.49099999999999999]
[null,"太陽ガス(株)","A0121",0.44400000000000001,"tCO2/千kWh","","",0.40700000000000003,0.57399999999999995,0.52600000000000002,0.503,0.51800000000000002,0.47899999999999998,0.44400000000000001]
[null,"アーバンエナジー(株)","A0122",0.24099999999999999,"tCO2/千kWh",0.432,0.41,0.255,0.38700000000000001,0.28999999999999998,0.253,0.253,0.215,0.24099999999999999]
[null,"パワーネクスト(株)（旧：パワーシェアリング(株)）","A0123",7.0000000000000001E-3,"tCO2/千kWh","","","",0.55600000000000005,0.128,0.5,0.48799999999999999,0.47,7.0000000000000001E-3]
[null,"合同会社北上新電力","A0124",0.23299999999999998,"tCO2/千kWh","","",0.40200000000000002,0.35699999999999998,0.23200000000000001,0.20100000000000001,0.2,0.13300000000000001,0.23299999999999998]
[null,"パーパススマートパワー(株)","A0125",0.499,"tCO2/千kWh","","","",0.52600000000000002,0.59399999999999997,0.53200000000000003,0.51300000000000001,0.52500000000000002,0.499]
[null,"(株)タクマエナジー","A0126",3.7999999999999999E-2,"tCO2/千kWh","","",0.443,0.35099999999999998,0.21800000000000003,0.04,0.182,8.6999999999999994E-2,3.7999999999999999E-2]
[null,"(株)スマートテック","A0127",0.32300000000000001,"tCO2/千kWh","","","",0.55500000000000005,0.56200000000000006,0.48599999999999999,0.40600000000000003,0.192,0.32300000000000001]
[null,"水戸電力(株)","A0128",0.38900000000000001,"tCO2/千kWh","","",0.29699999999999999,0.40500000000000003,0.47899999999999998,0.41099999999999998,0.39700000000000002,0.39800000000000002,0.38900000000000001]
[null,"丸紅新電力(株)","A0130",0.46400000000000002,"tCO2/千kWh",0.38900000000000001,0.48199999999999998,0.41099999999999998,0.36199999999999999,0.40899999999999997,0.442,0.308,0.379,0.46400000000000002]
[null,"奈良電力(株)","A0133",0.505,"tCO2/千kWh","","","",0.60599999999999998,0.58399999999999996,0.56200000000000006,0.54200000000000004,0.52899999999999991,0.505]
[null,"日立造船(株)","A0134",0.17499999999999999,"tCO2/千kWh","","",0,0.20300000000000001,0.21299999999999999,5.3999999999999999E-2,0.13700000000000001,8.2000000000000003E-2,0.17499999999999999]
[null,"大東ガス(株)","A0135",0.36399999999999999,"tCO2/千kWh","","","",0.51600000000000001,0.57799999999999996,0.57799999999999996,0.502,0.44700000000000001,0.36399999999999999]
[null,"パナソニックオペレーショナルエクセレンス(株)(旧：パナソニック(株))","A0136",0.38400000000000001,"tCO2/千kWh",0.66700000000000004,0.622,0.495,0.35299999999999998,0.45800000000000002,0.28000000000000003,0.442,0.23800000000000002,0.38400000000000001]
[null,"アストモスエネルギー(株)","A0137",0.51400000000000001,"tCO2/千kWh",0.189,0.19,0.32800000000000001,0.63300000000000001,0.59599999999999997,0.56799999999999995,0.46200000000000002,0.50700000000000001,0.51400000000000001]
[null,"(株)関電エネルギーソリューション","A0138",0.505,"tCO2/千kWh",0.54,0.54100000000000004,0.46300000000000002,0.443,0.54900000000000004,0.38400000000000001,0.52300000000000002,0.503,0.505]
[null,"ＭＣリテールエナジー(株)","A0140",0.46500000000000002,"tCO2/千kWh","","","",0.51600000000000001,0.58099999999999996,0.59899999999999998,0.54700000000000004,0.54799999999999993,0.46500000000000002]
[null,"(株)北九州パワー","A0141",0.23900000000000002,"tCO2/千kWh","","","",0.16400000000000001,0.27600000000000002,6.9000000000000006E-2,0.18,0.219,0.23900000000000002]
[null,"武州瓦斯(株)","A0142",0.36399999999999999,"tCO2/千kWh","","","",0.51600000000000001,0.57799999999999996,0.57799999999999996,0.502,0.44700000000000001,0.36399999999999999]
[null,"リニューアブル・ジャパン(株)(旧：(株)みらい電力)","A0143",0.312,"tCO2/千kWh",0.44600000000000001,0.41499999999999998,0.379,0.40100000000000002,0.39,0.40600000000000003,0.29199999999999998,0.45100000000000001,0.312]
[null,"大垣ガス(株)","A0144",0.36399999999999999,"tCO2/千kWh","","","",0.313,0.223,0.33300000000000002,0.502,0.44700000000000001,0.36399999999999999]
[null,"(株)藤田商店","A0145",{"$f":"IF($B$1>0,INDIRECT(\"R\"&ROW()&\"C\"&$B$1+5,FALSE),0)","v":0.48599999999999999},"tCO2/千kWh","","","",0.57899999999999996,0.54400000000000004,0.67200000000000004,0.497,0.52899999999999991,0.48599999999999999]
[null,"(株)ケーブルネット下関","A0146",0.45800000000000002,"tCO2/千kWh","","","",0.59799999999999998,0.52700000000000002,0.436,0.42699999999999999,0.42599999999999999,0.45800000000000002]
[null,"(株)ジェイコム九州","A0147",0.46099999999999997,"tCO2/千kWh","","","",0.59499999999999997,0.52400000000000002,0.434,0.42699999999999999,0.42899999999999999,0.46099999999999997]
[null,"(株)グローバルエンジニアリング","A0149",0.54299999999999993,"tCO2/千kWh",0.50600000000000001,0.47199999999999998,0.53600000000000003,0.54400000000000004,0.46500000000000002,0.4,0.46300000000000002,0.32100000000000001,0.54299999999999993]
[null,"九州エナジー(株)","A0150",0.47600000000000003,"tCO2/千kWh","","","",0.51400000000000001,0.56799999999999995,0.46100000000000002,0.45300000000000001,0.5,0.47600000000000003]
[null,"(株)トヨタエナジーソリューションズ(旧：(株)トヨタタービンアンドシステム）","A0151",0.433,"tCO2/千kWh",0.441,0.49199999999999999,0.45800000000000002,0.53800000000000003,0.501,0.48199999999999998,0.502,0.47399999999999998,0.433]
[null,"(株)Ｓ－ＣＯＲＥ","A0152",0,"tCO2/千kWh","","",4.8000000000000001E-2,0.11799999999999999,5.8000000000000003E-2]
[null,"(株)エナリス・パワー・マーケティング","A0153",0.45199999999999996,"tCO2/千kWh",0.30099999999999999,0.316,0.311,0.48799999999999999,0.49099999999999999,0.49399999999999999,0.45400000000000001,0.48700000000000004,0.45199999999999996]
[null,"歌舞伎エナジー(株)（旧：(株)エヌパワー南九州）","A0154",0.52800000000000002,"tCO2/千kWh","","","","",0.505,0.46400000000000002,null,null,0.52800000000000002]
[null,"みやまスマートエネルギー(株)","A0155",0.41300000000000003,"tCO2/千kWh","","",0.52500000000000002,0.46400000000000002,0.42799999999999999,0.42499999999999999,"0..401",0.39800000000000002,0.41300000000000003]
[null,"エフィシエント(株)","A0156",0.45300000000000001,"tCO2/千kWh",null,null,null,0,null,1.0940000000000001,0.48799999999999999,0.129,0.45300000000000001]
[null,"(株)生活クラブエナジー","A0157",6.8000000000000005E-2,"tCO2/千kWh","","",0.33500000000000002,0.19900000000000001,0.23599999999999999,0.14899999999999999,0.17699999999999999,0.219,6.8000000000000005E-2]
[null,"生活協同組合コープこうべ","A0158",0.27500000000000002,"tCO2/千kWh","","",0.33900000000000002,0.28499999999999998,0.27800000000000002,0.27500000000000002,0.28299999999999997,0.27599999999999997,0.27500000000000002]
[null,"(株)シーエナジー","A0159",0.38800000000000001,"tCO2/千kWh","","","",0.42099999999999999,0.39500000000000002,0.45100000000000001,0.46600000000000003,0.42700000000000005,0.38800000000000001]
[null,"角栄ガス(株)","A0160",0.36399999999999999,"tCO2/千kWh","","","",0.51600000000000001,0.57799999999999996,0.57799999999999996,0.502,0.44700000000000001,0.36399999999999999]
[null,"京葉瓦斯(株)","A0161",0.435,"tCO2/千kWh",0.49399999999999999,0.49399999999999999,0.435,0.48699999999999999,0.51500000000000001,0.53100000000000003,0.51700000000000002,0.48700000000000004,0.435]
[null,"凸版印刷(株)","A0162",0.46400000000000002,"tCO2/千kWh","","",0.53799999999999992,0.51800000000000002,0.52700000000000002,0.51600000000000001,0.51900000000000002,0.49200000000000005,0.46400000000000002]
[null,"伊勢崎ガス(株)","A0163",0.36399999999999999,"tCO2/千kWh","","","",0.51600000000000001,0.57799999999999996,0.57799999999999996,0.502,0.44700000000000001,0.36399999999999999]
[null,"キヤノンマーケティングジャパン(株)","A0164",0.36599999999999999,"tCO2/千kWh","","","",0.51600000000000001,0.56699999999999995,0.55699999999999994,0.499,0.44600000000000001,0.36599999999999999]
[null,"(株)とっとり市民電力","A0165",0.35799999999999998,"tCO2/千kWh","","","",0.52200000000000002,0.55200000000000005,0.43600000000000005,0.49199999999999999,0.32300000000000001,0.35799999999999998]
[null,"(株)イーエムアイ","A0166",0.495,"tCO2/千kWh","","",0.50800000000000001,0.80900000000000005,0.58199999999999996,0.54100000000000004,0.51700000000000002,0.504,0.495]
[null,"佐野瓦斯(株)","A0167",0.36399999999999999,"tCO2/千kWh","","","",0.51600000000000001,0.57799999999999996,0.57799999999999996,0.502,0.44700000000000001,0.36399999999999999]
[null,"桐生瓦斯(株)","A0168",0.36399999999999999,"tCO2/千kWh","","","",0.51600000000000001,0.57799999999999996,0.57799999999999996,0.502,0.44700000000000001,0.36399999999999999]
[null,"森の電力(株)","A0169",0.374,"tCO2/千kWh","","",0,7.0999999999999994E-2,0.14599999999999999,8.8999999999999996E-2,4.1000000000000002E-2,5.8000000000000003E-2,0.374]
[null,"大和ハウス工業(株)","A0170",0.48899999999999993,"tCO2/千kWh",0.51800000000000002,0.51900000000000002,0.52100000000000002,0.58499999999999996,0.58299999999999996,0.52700000000000002,0.54400000000000004,0.47100000000000003,0.48899999999999993]
[null,"(株)早稲田環境研究所","A0171",0,"tCO2/千kWh","","","",0.54,0.55000000000000004,0.47499999999999998]
[null,"ＨＴＢエナジー(株)","A0172",0.23,"tCO2/千kWh","","",0.61499999999999999,0.54300000000000004,0.48599999999999999,0.47300000000000003,0.44400000000000001,0.47499999999999998,0.23]
[null,"(株)アシストワンエナジー","A0173",0.51800000000000002,"tCO2/千kWh","","",0.64300000000000002,0.64100000000000001,0.57499999999999996,0.54600000000000004,0.51800000000000002,0.499,0.51800000000000002]
[null,"(株)サン・ビーム","A0174",0,"tCO2/千kWh","","","",0.56399999999999995,0.55200000000000005,0.53600000000000003,0.502,0.48899999999999993]
[null,"(株)フソウ・エナジー","A0175",0.48500000000000004,"tCO2/千kWh","","",0.57899999999999996,0.56699999999999995,0.56100000000000005,0.53399999999999992,0.497,0.50600000000000001,0.48500000000000004]
[null,"(株)日本エコシステム","A0176",0,"tCO2/千kWh","","","",0.41799999999999998,0.439,0.46]
[null,"湘南電力(株)","A0177",0.41699999999999998,"tCO2/千kWh","","",0.35699999999999998,0.497,0.48299999999999998,0.44499999999999995,0.442,0.41599999999999998,0.41699999999999998]
[null,"大東建託パートナーズ(株)（旧：大東エナジー(株)）","A0178",0.51,"tCO2/千kWh",0.56599999999999995,0.56599999999999995,0.51600000000000001,0.71,0.59299999999999997,0.63,0.443,0.39900000000000002,0.51]
[null,"Ｊａｐａｎ電力(株)","A0179",0.55400000000000005,"tCO2/千kWh","","",0.29599999999999999,0.443,0.52800000000000002,0.53399999999999992,0.50900000000000001,0.46200000000000002,0.55400000000000005]
[null,"電源開発(株)","A0180",0.45300000000000001,"tCO2/千kWh",0.59399999999999997,0.58099999999999996,0.50800000000000001,0.58399999999999996,0.60699999999999998,0.443,0.67300000000000004,0.47,0.45300000000000001]
[null,"鈴与商事(株)","A0181",0.36200000000000004,"tCO2/千kWh",0.48799999999999999,0.48799999999999999,0.38400000000000001,0.46600000000000003,0.50700000000000001,0.47100000000000003,0.38900000000000001,0.30299999999999999,0.36200000000000004]
[null,"(株)バランスハーツ","A0183",0.41499999999999998,"tCO2/千kWh","","",0.55400000000000005,0.55600000000000005,0.54800000000000004,0.48799999999999999,0.47299999999999998,0.45300000000000001,0.41499999999999998]
[null,"ワタミエナジー(株)","A0184",0.435,"tCO2/千kWh",0.45400000000000001,0.45400000000000001,0.54800000000000004,0.56999999999999995,0.52100000000000002,0.503,0.47099999999999997,0.437,0.435]
[null,"(株)パルシステム電力","A0185",7.8E-2,"tCO2/千kWh",0.246,0.106,8.8999999999999996E-2,0.182,0.105,0.12000000000000001,0.36599999999999999,0.252,7.8E-2]
[null,"ＳＢパワー(株)","A0186",0.43600000000000005,"tCO2/千kWh",0.25800000000000001,0.25900000000000001,7.1999999999999995E-2,0.38600000000000001,0.49799999999999994,0.51300000000000001,0.5,0.52200000000000002,0.43600000000000005]
[null,"ＮＦパワーサービス(株)","A0187",0.43600000000000005,"tCO2/千kWh","","",0.52200000000000002,0.55400000000000005,0.51900000000000002,0.54600000000000004,0.51800000000000002,0.46400000000000002,0.43600000000000005]
[null,"ひおき地域エネルギー(株)","A0188",0.44700000000000001,"tCO2/千kWh","","","",0.53600000000000003,0.49399999999999999,0.46599999999999997,0.433,0.44900000000000001,0.44700000000000001]
[null,"和歌山電力(株)","A0189",0.47499999999999998,"tCO2/千kWh","","",0.503,0.57699999999999996,0.57799999999999996,0.54900000000000004,0.51600000000000001,0.496,0.47499999999999998]
[null,"日本瓦斯(株)(旧：(株)エナジードリーム)","A0190",0.504,"tCO2/千kWh","","",0.54500000000000004,0.55400000000000005,0.51900000000000002,0.52100000000000002,0.47199999999999998,0.48500000000000004,0.504]
[null,"(株)トドック電力","A0191",0.47,"tCO2/千kWh","","","",0.17599999999999999,0.46700000000000003,0.45700000000000002,0.55800000000000005,0.30299999999999999,0.47]
[null,"九電みらいエナジー(株)","A0193",0.47,"tCO2/千kWh","","","",0.625,0.71499999999999997,0.46500000000000002,0.41699999999999998,0.48399999999999999,0.47]
[null,"(株)ミツウロコヴェッセル","A0194",0.52500000000000002,"tCO2/千kWh","","","",0.53500000000000003,0.64900000000000002,0.53399999999999992,0.66200000000000003,0.69899999999999995,0.52500000000000002]
[null,"(株)フォレストパワー","A0195",3.2000000000000001E-2,"tCO2/千kWh",0.14599999999999999,0.19,7.0999999999999994E-2,0,5.7000000000000002E-2,3.6000000000000004E-2,3.7999999999999999E-2,3.6999999999999998E-2,3.2000000000000001E-2]
[null,"日高都市ガス(株)","A0196",0.36399999999999999,"tCO2/千kWh","","","",0.51600000000000001,0.57799999999999996,0.57799999999999996,0.502,0.44700000000000001,0.36399999999999999]
[null,"(株)アドバンテック","A0197",0.38300000000000001,"tCO2/千kWh","","",0.64100000000000001,0.47199999999999998,0.63500000000000001,0.72099999999999997,0.5,0.48799999999999999,0.38300000000000001]
[null,"ローカルエナジー(株)","A0199",0.44,"tCO2/千kWh","","","",0.14399999999999999,0.433,0.30299999999999999,0.41699999999999998,0.313,0.44]
[null,"エネックス(株)","A0200",0.30099999999999999,"tCO2/千kWh","","",0.52200000000000002,0.57099999999999995,0.53,0.48299999999999998,0.317,0.28999999999999998,0.30099999999999999]
[null,"(株)Ｇ－Ｐｏｗｅｒ","A0202",0,"tCO2/千kWh",0.13900000000000001,0.17,0,0,0,0,0,0]
[null,"(株)レクスポート","A0203",0.41,"tCO2/千kWh","","","",0.54400000000000004,0.55000000000000004,0.53200000000000003,0.497,0.49799999999999994,0.41]
[null,"なでしこ電力(株)","A0204",3.4000000000000002E-2,"tCO2/千kWh","","","",0,0.30299999999999999,0.13999999999999999,0.23499999999999999,3.7999999999999999E-2,3.4000000000000002E-2]
[null,"ＮＥＣファシリティーズ(株)","A0205",0,"tCO2/千kWh","","","",0.55100000000000005,0.53400000000000003]
[null,"日田グリーン電力(株)","A0206",3.6999999999999998E-2,"tCO2/千kWh","","","",0.03,4.2999999999999997E-2,2.9000000000000001E-2,2.5999999999999999E-2,3.2000000000000001E-2,3.6999999999999998E-2]
[null,"(株)津軽あっぷるパワー","A0207",1.5000000000000001E-2,"tCO2/千kWh","","",1.8000000000000002E-2,5.3999999999999999E-2,5.0999999999999997E-2,4.3999999999999997E-2,3.1E-2,7.2000000000000008E-2,1.5000000000000001E-2]
[null,"(株)花巻銀河パワー","A0208",1.2999999999999999E-2,"tCO2/千kWh","","","",0.153,8.2000000000000003E-2,9.0999999999999998E-2,"0.0.46",0.04,1.2999999999999999E-2]
[null,"埼玉ガス(株)","A0209",0.36399999999999999,"tCO2/千kWh","","","",0.51600000000000001,0.57799999999999996,0.57799999999999996,0.502,0.44700000000000001,0.36399999999999999]
[null,"宮崎パワーライン(株)","A0210",4.3000000000000003E-2,"tCO2/千kWh","","",8.2000000000000003E-2,3.0000000000000001E-3,3.2000000000000001E-2,4.7E-2,3.4000000000000002E-2,2.5999999999999999E-2,4.3000000000000003E-2]
[null,"(株)パワー・オプティマイザー","A0211",0.47800000000000004,"tCO2/千kWh","","",0.47600000000000003,0.53200000000000003,0.52700000000000002,0.50700000000000001,0.53400000000000003,0.47800000000000004,0.47800000000000004]
[null,"(株)Ｕ－ＰＯＷＥＲ","A0213",0.46799999999999997,"tCO2/千kWh","","","",0.69699999999999995,0.69499999999999995,0.59000000000000008,0.48599999999999999,0.47800000000000004,0.46799999999999997]
[null,"(株)ＴＴＳパワー","A0214",0.47499999999999998,"tCO2/千kWh","","","","",0.54300000000000004,0.48599999999999999,0.47299999999999998,0.44400000000000001,0.47499999999999998]
[null,"(株)パネイル","A0215",{"$f":"IF($B$1>0,INDIRECT(\"R\"&ROW()&\"C\"&$B$1+5,FALSE),0)","v":0},"tCO2/千kWh","","","",0.499,0.438,0.63,0.501]
[null,"(株)岩手ウッドパワー","A0216",0.45300000000000001,"tCO2/千kWh",4.3999999999999997E-2,4.3999999999999997E-2,7.3999999999999996E-2,0.13100000000000001,0.112,7.5999999999999998E-2,0.11799999999999999,0.20499999999999999,0.45300000000000001]
[null,"里山パワーワークス(株)","A0217",0.45300000000000001,"tCO2/千kWh","","","",3.1E-2,4.8000000000000001E-2,0.11,0.26600000000000001,0.28400000000000003,0.45300000000000001]
[null,"(株)中之条パワー","A0218",0.32699999999999996,"tCO2/千kWh",0.28100000000000003,0.316,0.34,0.317,0.34499999999999997,0.308,0.29899999999999999,0.28999999999999998,0.32699999999999996]
[null,"(株)ＴＯＳＭＯ","A0219",0,"tCO2/千kWh","","","",0.53300000000000003,0.55200000000000005,0.52800000000000002]
[null,"日産トレーデイング(株)","A0220",0.51800000000000002,"tCO2/千kWh",0.41699999999999998,0.36499999999999999,0.36599999999999999,0.41799999999999998,0.41599999999999998,0.41699999999999998,0.38200000000000001,0.312,0.51800000000000002]
[null,"(株)エネウィル(旧：ＪＡＧ国際エナジー(株))","A0221",0.40799999999999997,"tCO2/千kWh","","","",0.58499999999999996,0.54700000000000004,0.55199999999999994,0.504,0.46900000000000003,0.40799999999999997]
[null,"Next Power(株)（旧：(株)長谷工アネシス）","A0222",0.72099999999999997,"tCO2/千kWh","","","",0.45100000000000001,0.5,0.55099999999999993,0.51800000000000002,0.50900000000000001,0.72099999999999997]
[null,"伊藤忠エネクスホームライフ西日本(株)","A0223",0.46900000000000003,"tCO2/千kWh","","","",0.48899999999999999,0.60499999999999998,0.63100000000000001,0.65500000000000003,0.34600000000000003,0.46900000000000003]
[null,"(株)エネコープ","A0224",0,"tCO2/千kWh","","","",0.57999999999999996,0.52800000000000002]
[null,"東芝エネルギーシステムズ(株)","A0225",0,"tCO2/千kWh","","",9.7000000000000003E-2,0.39200000000000002,0.41799999999999998,0.32699999999999996,0.51800000000000002]
[null,"グリーナ(株)（ネクストエナジー・アンド・リソース(株)）","A0226",0.44400000000000001,"tCO2/千kWh","","",0.53399999999999992,0.504,0.51,0.46599999999999997,0.375,0.39399999999999996,0.44400000000000001]
[null,"はりま電力(株)","A0227",0.495,"tCO2/千kWh","","",0.55300000000000005,0.55300000000000005,0.55200000000000005,0.52900000000000003,0.51400000000000001,0.48299999999999998,0.495]
[null,"(株)浜松新電力","A0228",4.5000000000000005E-2,"tCO2/千kWh","","","",0,0.17499999999999999,0.11700000000000001,0.10299999999999999,0.20799999999999999,4.5000000000000005E-2]
[null,"ゼロワットパワー(株)","A0229",2.5000000000000001E-2,"tCO2/千kWh","","","","",0.245,4.3999999999999997E-2,9.9000000000000005E-2,1.8000000000000002E-2,2.5000000000000001E-2]
[null,"アストマックス(株)","A0230",0.45300000000000001,"tCO2/千kWh",null,null,null,0.57599999999999996,null,0.5,0.48799999999999999,0.47,0.45300000000000001]
[null,"(株)やまがた新電力","A0231",6.0000000000000001E-3,"tCO2/千kWh","","","",3.0000000000000001E-3,0.105,0.14099999999999999,0.17199999999999999,0.154,6.0000000000000001E-3]
[null,"(一財)東松島みらいとし機構","A0232",0.36299999999999999,"tCO2/千kWh","","","",0.56200000000000006,0.55100000000000005,0.34599999999999997,0.3,0.34,0.36299999999999999]
[null,"志賀高原リゾート開発(株)","A0233",0,"tCO2/千kWh",0.16500000000000001,3.5999999999999997E-2,0.16600000000000001,0,0,0]
[null,"(株)グリーンパワー大東","A0234",0.16,"tCO2/千kWh","","","",0.36799999999999999,0.31,0.28699999999999998,0.17299999999999999,0.187,0.16]
[null,"(株)Ｋｅｎｅｓエネルギーサービス","A0235",0.70499999999999996,"tCO2/千kWh","","","",0.42199999999999999,0.39900000000000002,0.435,0.36899999999999999,0.32699999999999996,0.70499999999999996]
[null,"(株)シーラパワー(旧：愛知電力(株))","A0236",0.499,"tCO2/千kWh","","",0.51200000000000001,0.41399999999999998,0.377,0.443,0.38400000000000001,0.41800000000000004,0.499]
[null,"御所野縄文電力(株)","A0237",3.4000000000000002E-2,"tCO2/千kWh","","",4.8000000000000001E-2,5.7000000000000002E-2,5.8999999999999997E-2,8.8999999999999996E-2,3.5999999999999997E-2,3.9E-2,3.4000000000000002E-2]
[null,"(株)カーボンニュートラル(旧：西多摩バイオパワー(株))","A0238",0.45300000000000001,"tCO2/千kWh","","","",1.0999999999999999E-2,2.7E-2,2.7E-2,1.7000000000000001E-2,null,0.45300000000000001]
[null,"宮古新電力(株)","A0239",0.40400000000000003,"tCO2/千kWh","","","",0.35899999999999999,0.439,0.42899999999999999,0.44800000000000001,0.433,0.40400000000000003]
[null,"長崎地域電力(株)","A0240",0.49099999999999999,"tCO2/千kWh","","",0.34099999999999997,0.34799999999999998,0.48799999999999999,0.45700000000000002,0.441,0.36900000000000005,0.49099999999999999]
[null,"(株)エネアーク関西（旧：伊藤忠エネクスホームライフ関西(株)）","A0241",0.49799999999999994,"tCO2/千kWh","","","",0.48899999999999999,0.53600000000000003,0.48199999999999998,0.503,0.35599999999999998,0.49799999999999994]
[null,"(株)ＮＴＴファシリティーズ","A0242",0,"tCO2/千kWh","","","",0.81799999999999995,0.92800000000000005,0.57600000000000007,0.47599999999999998,0.35]
[null,"近畿電力(株)","A0243",0.48500000000000004,"tCO2/千kWh","","",0.54199999999999993,0.57499999999999996,0.56299999999999994,0.53,0.504,0.49399999999999999,0.48500000000000004]
[null,"新電力おおいた(株)","A0245",0.433,"tCO2/千kWh","","",0.44900000000000001,0.35799999999999998,0.33500000000000002,0.40099999999999997,0.432,0.45899999999999996,0.433]
[null,"(株)日本セレモニー","A0246",0.501,"tCO2/千kWh",0.64100000000000001,0.61,0.49099999999999999,0.69499999999999995,0.58199999999999996,0.48500000000000004,0.48899999999999999,0.46500000000000002,0.501]
[null,"(株)リレボ","A0247",0,"tCO2/千kWh","","",0.56899999999999995,0.61699999999999999,0.503]
[null,"(株)池見石油店","A0248",0.53600000000000003,"tCO2/千kWh","","",0.68300000000000005,0.70499999999999996,0.64100000000000001,0.64300000000000002,0.55100000000000005,0.51200000000000001,0.53600000000000003]
[null,"滋賀電力(株)","A0249",0,"tCO2/千kWh","","",0.502,0.54700000000000004,0.54500000000000004]
[null,"芝浦電力(株)","A0250",0.28800000000000003,"tCO2/千kWh","","",0.77600000000000002,0.376,0.32900000000000001,0.32600000000000001,0.35599999999999998,0.36799999999999999,0.28800000000000003]
[null,"本田技研工業(株)","A0251",0,"tCO2/千kWh",0.57899999999999996,0.57999999999999996,0.49,0.54200000000000004,0.51200000000000001]
[null,"(株)地域創生ホールディングス","A0253",0.48399999999999999,"tCO2/千kWh","","",0.56899999999999995,0.53500000000000003,0.58699999999999997,0.61899999999999999,0.48599999999999999,0.47800000000000004,0.48399999999999999]
[null,"スズカ電工(株)","A0254",0.20799999999999999,"tCO2/千kWh","","","",0.57899999999999996,0.55300000000000005,0.47800000000000004,0.48599999999999999,0.46400000000000002,0.20799999999999999]
[null,"(株)エーコープサービス","A0256",0.317,"tCO2/千kWh","","","",0.156,0.159,0.34400000000000003,0.372,0.33300000000000002,0.317]
[null,"サンリン(株)","A0257",0.49700000000000005,"tCO2/千kWh","","","",0.495,0.60399999999999998,0.52200000000000002,0.51500000000000001,0.52899999999999991,0.49700000000000005]
[null,"(株)宮崎ガスリビング","A0258",0.44600000000000001,"tCO2/千kWh","","","",0.39900000000000002,0.35399999999999998,0.46500000000000002,0.40100000000000002,0.41599999999999998,0.44600000000000001]
[null,"山陰エレキ・アライアンス(株)","A0259",0.48399999999999999,"tCO2/千kWh","","","",0.6,0.76100000000000001,0.51999999999999991,0.48899999999999999,0.47300000000000003,0.48399999999999999]
[null,"(株)リエゾンエナジー（旧：昭和商事(株)）","A0260",0,"tCO2/千kWh","","","","",0.53100000000000003,0.54299999999999993,0.47899999999999998,0.51999999999999991]
[null,"ミライフ東日本(株)","A0261",0.13200000000000001,"tCO2/千kWh","","","",0.67400000000000004,0.59099999999999997,0.57399999999999995,0.54800000000000004,0.56599999999999995,0.13200000000000001]
[null,"(株)ウッドエナジー","A0263",0,"tCO2/千kWh",null,null,null,null,null,0,7.0000000000000001E-3,0,0]
[null,"山陰酸素工業(株)","A0264",0.48399999999999999,"tCO2/千kWh","","","","",0.6,0.51999999999999991,0.54400000000000004,0.47300000000000003,0.48399999999999999]
[null,"武陽ガス(株)","A0265",0.36399999999999999,"tCO3/千kWh","","","","",0.57799999999999996,0.57799999999999996,0.502,0.44700000000000001,0.36399999999999999]
[null,"ツネイシＣバリューズ(株)","A0266",0,"tCO2/千kWh","","","",0.122,0.499,0.40700000000000003,0.48799999999999999]
[null,"北海道電力(株)","A0267",0.54900000000000004,"tCO2/千kWh",0.67800000000000005,0.68300000000000005,0.66900000000000004,0.63200000000000001,0.66600000000000004,0.64300000000000002,0.59299999999999997,0.60099999999999998,0.54900000000000004]
[null,"北海道電力(株)","A0267",0.54900000000000004,"tCO2/千kWh",0.67800000000000005,0.68300000000000005,0.66900000000000004,0.63200000000000001,0.66600000000000004,0.64300000000000002,0.59299999999999997,0.60099999999999998,0.54900000000000004]
[null,"東北電力(株)","A0268",0.496,"tCO2/千kWh",0.59099999999999997,0.57099999999999995,0.55600000000000005,0.54500000000000004,0.52100000000000002,0.52200000000000002,0.51900000000000002,0.47600000000000003,0.496]
[null,"東北電力(株)","A0268",0.496,"tCO2/千kWh",0.59099999999999997,0.57099999999999995,0.55600000000000005,0.54500000000000004,0.52100000000000002,0.52200000000000002,0.51900000000000002,0.47600000000000003,0.496]
[null,"東京電力エナジーパートナー(株)","A0269",0.45700000000000002,"tCO2/千kWh",0.53,0.505,0.5,0.48599999999999999,0.47499999999999998,0.46800000000000003,0.45700000000000002,0.44700000000000001,0.45700000000000002]
[null,"東京電力エナジーパートナー(株)","A0269",0.45700000000000002,"tCO2/千kWh",0.53,0.505,0.5,0.48599999999999999,0.47499999999999998,0.46800000000000003,0.45700000000000002,0.44700000000000001,0.45700000000000002]
[null,"中部電力ミライズ(株)（旧：中部電力(株)）","A0270",0.44900000000000001,"tCO2/千kWh",0.51300000000000001,0.497,0.48599999999999999,0.48499999999999999,0.47599999999999998,0.45700000000000002,0.43099999999999999,0.40600000000000003,0.44900000000000001]
[null,"中部電力ミライズ(株)（旧：中部電力(株)）","A0270",0.44900000000000001,"tCO2/千kWh",0.51300000000000001,0.497,0.48599999999999999,0.48499999999999999,0.47599999999999998,0.45700000000000002,0.43099999999999999,0.40600000000000003,0.44900000000000001]
[null,"北陸電力(株)","A0271",0.48000000000000004,"tCO2/千kWh",0.63,0.64700000000000002,0.627,0.64,0.59299999999999997,0.54200000000000004,0.51,0.46900000000000003,0.48000000000000004]
[null,"北陸電力(株)","A0271",0.48000000000000004,"tCO2/千kWh",0.63,0.64700000000000002,0.627,0.64,0.59299999999999997,0.54200000000000004,0.51,0.46900000000000003,0.48000000000000004]
[null,"関西電力(株)","A0272",0.29899999999999999,"tCO2/千kWh",0.52200000000000002,0.53100000000000003,0.50900000000000001,0.50900000000000001,0.435,0.35199999999999998,0.34,0.36200000000000004,0.29899999999999999]
[null,"関西電力(株)","A0272",0.29899999999999999,"tCO2/千kWh",0.52200000000000002,0.53100000000000003,0.50900000000000001,0.50900000000000001,0.435,0.35199999999999998,0.34,0.36200000000000004,0.29899999999999999]
[null,"中国電力(株)","A0273",0.52900000000000003,"tCO2/千kWh",0.71899999999999997,0.70599999999999996,0.69699999999999995,0.69099999999999995,0.66900000000000004,0.61799999999999999,0.56100000000000005,0.53100000000000003,0.52900000000000003]
[null,"中国電力(株)","A0273",0.52900000000000003,"tCO2/千kWh",0.71899999999999997,0.70599999999999996,0.69699999999999995,0.69099999999999995,0.66900000000000004,0.61799999999999999,0.56100000000000005,0.53100000000000003,0.52900000000000003]
[null,"四国電力(株)","A0274",0.48399999999999999,"tCO2/千kWh",0.69899999999999995,0.67600000000000005,0.65100000000000002,0.51,0.51400000000000001,0.5,0.38200000000000001,0.55000000000000004,0.48399999999999999]
[null,"四国電力(株)","A0274",0.48399999999999999,"tCO2/千kWh",0.69899999999999995,0.67600000000000005,0.65100000000000002,0.51,0.51400000000000001,0.5,0.38200000000000001,0.55000000000000004,0.48399999999999999]
[null,"九州電力(株)","A0275",{"$f":"IF($B$1>0,INDIRECT(\"R\"&ROW()&\"C\"&$B$1+5,FALSE),0)","v":0.29599999999999999},"tCO2/千kWh",0.61299999999999999,0.58399999999999996,0.50900000000000001,0.46200000000000002,0.438,0.31900000000000001,0.34399999999999997,0.36499999999999999,0.29599999999999999]
[null,"九州電力(株)","A0275",0.29599999999999999,"tCO2/千kWh",0.61299999999999999,0.58399999999999996,0.50900000000000001,0.46200000000000002,0.438,0.31900000000000001,0.34399999999999997,0.36499999999999999,0.29599999999999999]
[null,"沖縄電力(株)","A0276",0.71699999999999997,"tCO2/千kWh",0.85799999999999998,0.81599999999999995,0.80200000000000005,0.79900000000000004,0.78600000000000003,0.78600000000000003,0.81,0.73699999999999999,0.71699999999999997]
[null,"沖縄電力(株)","A0276",0.71699999999999997,"tCO2/千kWh",0.85799999999999998,0.81599999999999995,0.80200000000000005,0.79900000000000004,0.78600000000000003,0.78600000000000003,0.81,0.73699999999999999,0.71699999999999997]
[null,"北日本石油(株)","A0277",0.42799999999999999,"tCO2/千kWh","","","",0.54500000000000004,0.60699999999999998,0.58899999999999997,0.432,0.44600000000000001,0.42799999999999999]
[null,"千葉電力(株)","A0278",0.50600000000000001,"tCO2/千kWh","","","",0.57099999999999995,0.53900000000000003,0.53799999999999992,0.46899999999999997,0.52600000000000002,0.50600000000000001]
[null,"(株)坊っちゃん電力","A0279",0.41300000000000003,"tCO2/千kWh","","","",0.54500000000000004,0.52300000000000002,0.52400000000000002,0.46899999999999997,0.52100000000000002,0.41300000000000003]
[null,"やめエネルギー(株)（旧：(株)アズマ）","A0280",0.46799999999999997,"tCO2/千kWh",null,null,null,null,null,0.52900000000000003,0.48199999999999998,0.48700000000000004,0.46799999999999997]
[null,"(株)アースインフィニティ（旧：(株)ネオインターナショナル）","A0281",0.54299999999999993,"tCO2/千kWh","","",0.54900000000000004,0.53700000000000003,0.53200000000000003,0.53300000000000003,0.63200000000000001,0.45700000000000002,0.54299999999999993]
[null,"(株)エナジー北海道","A0282",0,"tCO2/千kWh","","","",0.48899999999999999,0.56999999999999995]
[null,"足利ガス(株)","A0283",0.36399999999999999,"tCO2/千kWh","","","",0.51600000000000001,0.57799999999999996,0.57799999999999996,0.502,0.44700000000000001,0.36399999999999999]
[null,"(株)Ｍｉｓｕｍｉ","A0284",0.379,"tCO2/千kWh","","","",0.41099999999999998,0.41199999999999998,0.41699999999999998,0.40899999999999997,0.308,0.379]
[null,"米子瓦斯(株)","A0285",0.48399999999999999,"tCO2/千kWh","","","","",0.6,0.51999999999999991,0.48899999999999999,0.47199999999999998,0.48399999999999999]
[null,"(株)エルピオ","A0286",0.48700000000000004,"tCO2/千kWh","","","",0.53500000000000003,0.625,0.53600000000000003,0.66100000000000003,0.48799999999999999,0.48700000000000004]
[null,"浜田ガス(株)","A0287",0.48399999999999999,"tCO2/千kWh","","","","",0.6,0.51999999999999991,0.48899999999999999,0.47100000000000003,0.48399999999999999]
[null,"(株)アメニティ電力","A0288",0.49,"tCO2/千kWh","","","",0.52400000000000002,0.53500000000000003,0.48299999999999998,0.44800000000000001,0.47,0.49]
[null,"新電力フロンティア(株)","A0289",0,"tCO2/千kWh","","","",0.62,0.56899999999999995,0.54,0.51500000000000001,0.5109999999999999]
[null,"ふくのしま電力(株)","A0290",0.50600000000000001,"tCO2/千kWh","","","",0.54600000000000004,0.61799999999999999,0.54900000000000004,0.51500000000000001,0.47,0.50600000000000001]
[null,"岡田建設(株)","A0292",0.52700000000000002,"tCO2/千kWh","","","",0.65400000000000003,0.628,0.63100000000000001,0.53900000000000003,0.50900000000000001,0.52700000000000002]
[null,"出雲ガス(株)","A0293",0.48399999999999999,"tCO2/千kWh","","","","",0.6,0.51999999999999991,0.48899999999999999,0.47199999999999998,0.48399999999999999]
[null,"富山電力(株)","A0294",0.49299999999999994,"tCO2/千kWh","","","",0.67800000000000005,0.61299999999999999,0.56899999999999995,0.52500000000000002,0.51,0.49299999999999994]
[null,"一般社団法人グリーンコープでんき（旧：一般社団法人グリーン・市民電力）","A0295",0,"tCO2/千kWh","","","",0.41099999999999998,0.36199999999999999,0,0,0,0]
[null,"(公財)東京都環境公社","A0296",0.45300000000000001,"tCO2/千kWh","","","",3.7999999999999999E-2,0.106,0.28899999999999998,0.20799999999999999,0.47,0.45300000000000001]
[null,"イオンディライト(株)","A0298",0.46400000000000002,"tCO2/千kWh",null,null,null,null,null,null,null,0.49099999999999999,0.46400000000000002]
[null,"(株)ファミリーネット・ジャパン","A0300",0.438,"tCO2/千kWh","","","",0.55900000000000005,0.53300000000000003,0.442,0.59499999999999997,0.34099999999999997,0.438]
[null,"MKステーションズ(株)（旧：マンション高圧化ステーションズ(株)）","A0303",0.44900000000000001,"tCO2/千kWh","","","",0.54,0.54100000000000004,0.52899999999999991,0.49,0.44400000000000001,0.44900000000000001]
[null,"フラワーペイメント(株)","A0305",0.52200000000000002,"tCO2/千kWh","","","",0.58199999999999996,0.55900000000000005,0.438,0.72599999999999998,0.14100000000000001,0.52200000000000002]
[null,"(株)ＪＴＢコミュニケーションデザイン","A0306",0.36799999999999999,"tCO2/千kWh","","","","",0.52800000000000002,0.55900000000000005,0.52400000000000002,0.47399999999999998,0.36799999999999999]
[null,"積水化学工業(株)","A0308",0.21299999999999999,"tCO2/千kWh",null,"","",0.29099999999999998,0.32400000000000001,0.254,0.17799999999999999,0.22800000000000001,0.21299999999999999]
[null,"(株)ユーミーエナジー","A0309",0,"tCO2/千kWh","","","",0.71099999999999997,0.58899999999999997,0.57799999999999996,0.53500000000000003,0.34200000000000003]
[null,"全農エネルギー(株)","A0310",0.502,"tCO2/千kWh","","","",0.504,0.61499999999999999,0.44499999999999995,0.55600000000000005,0.48500000000000004,0.502]
[null,"(株)ハルエネ","A0311",0.49700000000000005,"tCO2/千kWh","","","",0.753,0.61099999999999999,0.47100000000000003,0.49199999999999999,0.43,0.49700000000000005]
[null,"三愛オブリ(株)(旧：三愛石油(株))","A0312",0.503,"tCO3/千kWh","","","","",0.52600000000000002,0.53799999999999992,0.51900000000000002,0.53399999999999992,0.503]
[null,"(株)リケン工業","A0313",0.49099999999999999,"tCO2/千kWh","","","",0.57599999999999996,0.53700000000000003,0.52700000000000002,0.48699999999999999,0.50900000000000001,0.49099999999999999]
[null,"(株)ビビット","A0314",0.55699999999999994,"tCO3/千kWh","","","","",0.55800000000000005,0.63500000000000001,0.52300000000000002,0.52700000000000002,0.55699999999999994]
[null,"(株)おおた電力","A0315",0.36399999999999999,"tCO2/千kWh","","","",0.51600000000000001,0.57799999999999996,0.57799999999999996,0.502,0.44700000000000001,0.36399999999999999]
[null,"伊藤忠プランテック(株)","A0317",0.48099999999999998,"tCO2/千kWh","","","",0.51600000000000001,0.56699999999999995,0.52600000000000002,0.47799999999999998,0.49700000000000005,0.48099999999999998]
[null,"(株)オカモト","A0318",0.51700000000000002,"tCO2/千kWh","","","",0.55600000000000005,0.55800000000000005,0.54600000000000004,0.53600000000000003,0.47499999999999998,0.51700000000000002]
[null,"熊本電力(株)","A0320",0,"tCO2/千kWh","","","","",0.64400000000000002,0.56499999999999995,0.51700000000000002,0.48500000000000004]
[null,"FTCエナジー合同会社","A0321",0,"tCO2/千kWh",null,null,null,null,null,null,null,0.56299999999999994]
[null,"キタコー(株)","A0323",0.45399999999999996,"tCO2/千kWh","","","",0.38400000000000001,0.66200000000000003,0.53100000000000003,0.51400000000000001,0.442,0.45399999999999996]
[null,"生活協同組合コープしが","A0324",0.374,"tCO2/千kWh","","","",0.39500000000000002,0.53500000000000003,0.44499999999999995,0.46,0.39500000000000002,0.374]
[null,"東海電力(株)","A0327",0,"tCO2/千kWh","","","",0.58699999999999997,0.60199999999999998,0.443,0.65900000000000003]
[null,"西日本電力(株)","A0328",0,"tCO2/千kWh","","","",0.58699999999999997,0.59899999999999998,0.438,0.67400000000000004]
[null,"福岡電力(株)","A0329",0,"tCO2/千kWh","","","",0.58699999999999997,0.68500000000000005,0.438,0.41899999999999998]
[null,"香川電力(株)","A0330",0.48500000000000004,"tCO2/千kWh","","","",0.64900000000000002,0.57999999999999996,0.55300000000000005,0.52100000000000002,0.50900000000000001,0.48500000000000004]
[null,"札幌電力(株)","A0331",0,"tCO2/千kWh","","","",0.58699999999999997,0.59899999999999998,0.47199999999999998,0.67500000000000004]
[null,"(株)PinT（旧：せとうち電力(株)）","A0332",0.49,"tCO4/千kWh","","","","",0.499,0.499,0.51600000000000001,0.54500000000000004,0.49]
[null,"東日本電力(株)","A0333",0,"tCO2/千kWh","","","",0.58699999999999997,0.60699999999999998,0.46599999999999997,0.66900000000000004]
[null,"広島電力(株)","A0334",0,"tCO2/千kWh","","","",0.58699999999999997,0.59899999999999998,0.49299999999999994,0.67300000000000004]
[null,"宮城電力(株)","A0335",0,"tCO2/千kWh","","","",0.58699999999999997,0.59899999999999998,0.438,0.67400000000000004]
[null,"(株)沖縄ガスニューパワー","A0336",0.45300000000000001,"tCO2/千kWh","","","",0.19500000000000001,0.47299999999999998,0.502,0.41499999999999998,0.68400000000000005,0.45300000000000001]
[null,"諏訪瓦斯(株)","A0337",0.36399999999999999,"tCO3/千kWh","","","","",0.223,0.33300000000000002,0.502,0.44700000000000001,0.36399999999999999]
[null,"エッセンシャルエナジー(株)","A0338",0.49299999999999994,"tCO2/千kWh","","","","",0.56499999999999995,0.54799999999999993,0.45500000000000002,0.52800000000000002,0.49299999999999994]
[null,"(株)ナカシマパワーソリューション","A0339",0,"tCO2/千kWh","","","",0.57499999999999996,0.56100000000000005,0.52700000000000002,0.49199999999999999]
[null,"(株)エージーピー","A0340",0.38300000000000001,"tCO2/千kWh","","","",0.41199999999999998,0.38500000000000001,0.42799999999999999,0.44700000000000001,0.308,0.38300000000000001]
[null,"(株)いちき串木野電力","A0342",0.55099999999999993,"tCO2/千kWh","","","",0.47799999999999998,0.48299999999999998,0.49200000000000005,0.40300000000000002,0.45,0.55099999999999993]
[null,"(株)クローバー・テクノロジーズ(旧：四つ葉電力(株))","A0343",0.43099999999999999,"tCO2/千kWh","","","","",0.54300000000000004,0.51700000000000002,0.48599999999999999,0.47800000000000004,0.43099999999999999]
[null,"西武ガス(株)","A0344",0.36399999999999999,"tCO2/千kWh","","","","",0.57799999999999996,0.57799999999999996,0.502,0.44700000000000001,0.36399999999999999]
[null,"松本ガス(株)","A0345",0.36399999999999999,"tCO2/千kWh","","","","",0.223,0.33300000000000002,0.502,0.44700000000000001,0.36399999999999999]
[null,"(株)日本省電（旧：グリーンテック(株)）","A0346",0,"tCO2/千kWh",null,null,null,null,null,0.61699999999999999,0.503]
[null,"ＦＴエナジー(株)","A0347",0.47100000000000003,"tCO2/千kWh","","","",0.56100000000000005,0.55900000000000005,0.53200000000000003,0.52800000000000002,0.47600000000000003,0.47100000000000003]
[null,"南部だんだんエナジー(株)","A0348",0.23499999999999999,"tCO2/千kWh","","","",0.56699999999999995,0.38800000000000001,0.22900000000000001,0.16900000000000001,0.21199999999999999,0.23499999999999999]
[null,"(株)エフエネ","A0349",0.51200000000000001,"tCO2/千kWh","","","",0.83,0.63200000000000001,0.59699999999999998,0.57199999999999995,0.51800000000000002,0.51200000000000001]
[null,"こなんウルトラパワー(株)","A0350",{"$f":"IF($B$1>0,INDIRECT(\"R\"&ROW()&\"C\"&$B$1+5,FALSE),0)","v":0.28299999999999997},"tCO2/千kWh","","","",0.57999999999999996,0.46600000000000003,0.38600000000000001,0.308,0.34,0.28299999999999997]
[null,"(株)ＣＨＩＢＡむつざわエナジー","A0351",0.32500000000000001,"tCO2/千kWh","","","",0.41099999999999998,0.30599999999999999,0.376,0.31900000000000001,0.437,0.32500000000000001]
[null,"(株)関西空調","A0352",0.47399999999999998,"tCO2/千kWh","","","",0.54700000000000004,0.34799999999999998,0.55999999999999994,0.52300000000000002,0.51500000000000001,0.47399999999999998]
[null,"奥出雲電力(株)","A0353",0.16500000000000001,"tCO2/千kWh","","","",0.27500000000000002,0.315,0.25,8.1000000000000003E-2,0.16,0.16500000000000001]
[null,"清水建設(株)","A0354",0,"tCO2/千kWh","","","",0.55400000000000005,0.55200000000000005,0.52600000000000002,0.36199999999999999]
[null,"中央電力(株)","A0355",0.47699999999999998,"tCO2/千kWh","","","",0.59599999999999997,0.56100000000000005,0.48399999999999999,0.38200000000000001,0.48799999999999999,0.47699999999999998]
[null,"(株)成田香取エネルギー","A0356",0.34699999999999998,"tCO2/千kWh","","","",0.34,0.38200000000000001,0.24099999999999999,0.38900000000000001,0.36799999999999999,0.34699999999999998]
[null,"三光(株)","A0358",0,"tCO2/千kWh",null,null,null,null,null,0.33900000000000002,0.23100000000000001]
[null,"東罐商事(株)","A0359",0,"tCO2/千kWh","","","",0.53600000000000003,0.56200000000000006,0.35899999999999999,0.46300000000000002]
[null,"グローバルソリューションサービス(株)","A0360",0.5,"tCO2/千kWh","","","","",0.51900000000000002,0.52100000000000002,0.495,0.49,0.5]
[null,"(株)ＣＷＳ","A0362",0.25,"tCO2/千kWh","","","",0.38100000000000001,0.46300000000000002,0.34400000000000003,0.315,0.27700000000000002,0.25]
[null,"ふくしま新電力(株)","A0364",0.49799999999999994,"tCO2/千kWh","","","",0.64,0.58499999999999996,0.52899999999999991,0.48799999999999999,0.48199999999999998,0.49799999999999994]
[null,"ティーダッシュ合同会社（旧：ズームエナジージャパン合同会社）","A0365",0.51200000000000001,"tCO2/千kWh","","","","",0.54500000000000004,0.51600000000000001,0.48099999999999998,0.56599999999999995,0.51200000000000001]
[null,"(株)エネクスライフサービス","A0366",0.47,"tCO2/千kWh","","","",0.48899999999999999,0.56999999999999995,0.52700000000000002,0.625,0.33300000000000002,0.47]
[null,"ネイチャーエナジー小国(株)","A0367",0.24899999999999997,"tCO2/千kWh","","","",0.56599999999999995,0.42799999999999999,0.40400000000000003,0.38500000000000001,0.314,0.24899999999999997]
[null,"リエスパワーネクスト(株)","A0368",0.50800000000000001,"tCO2/千kWh","","","",0.54800000000000004,0.58599999999999997,0.57700000000000007,0.54200000000000004,0.47300000000000003,0.50800000000000001]
[null,"京都生活協同組合","A0369",0.373,"tCO2/千kWh","","","","",0.53500000000000003,0.44499999999999995,0.45800000000000002,0.39399999999999996,0.373]
[null,"関西エネルギーパワー(株)","A0371",0.499,"tCO2/千kWh","","","",0.66,0.57899999999999996,0.53100000000000003,0.51500000000000001,0.503,0.499]
[null,"(株)グリムスパワー","A0372",0.48000000000000004,"tCO2/千kWh","","","",0.59199999999999997,0.62,0.56300000000000006,0.54100000000000004,0.49200000000000005,0.48000000000000004]
[null,"日本ファシリティ・ソリューション(株)","A0373",0.47600000000000003,"tCO2/千kWh","","","","",0.52500000000000002,0.60299999999999998,0.51100000000000001,0.53300000000000003,0.47600000000000003]
[null,"(株)登米電力","A0374",0.45500000000000002,"tCO2/千kWh","","","","",0.57399999999999995,0.54500000000000004,0.52100000000000002,0.52700000000000002,0.45500000000000002]
[null,"情報ハイウェイ協同組合","A0375",0.50600000000000001,"tCO2/千kWh",null,null,null,null,null,null,null,0.57499999999999996,0.50600000000000001]
[null,"自然電力(株)","A0376",0.39599999999999996,"tCO2/千kWh","","","",0,0.32500000000000001,0.51900000000000002,0.501,0.39900000000000002,0.39599999999999996]
[null,"(株)オノプロックス","A0377",0.55000000000000004,"tCO2/千kWh",null,null,null,null,null,0.58099999999999996,0.52700000000000002,0.50800000000000001,0.55000000000000004]
[null,"本庄ガス(株)","A0378",0.36399999999999999,"tCO2/千kWh","","","","",0.57799999999999996,0.57799999999999996,0.502,0.44700000000000001,0.36399999999999999]
[null,"(株)フィット","A0379",0.45700000000000002,"tCO2/千kWh","","","","",0.60699999999999998,0.55800000000000005,0.34499999999999997,0.47699999999999998,0.45700000000000002]
[null,"青森県民エナジー(株)","A0380",0.43,"tCO2/千kWh","","","","",2.5999999999999999E-2,0.38300000000000001,0.156,0.43600000000000005,0.43]
[null,"国際航業(株)","A0381",0.41399999999999998,"tCO2/千kWh","","","","",0.57299999999999995,0.49,0.47199999999999998,0.52800000000000002,0.41399999999999998]
[null,"ローカルでんき(株)","A0382",0.45300000000000001,"tCO2/千kWh","","","","",0.57200000000000006,0.53700000000000003,0.53700000000000003,0.47,0.45300000000000001]
[null,"(株)明治産業","A0383",0.46,"tCO2/千kWh","","","","",0.49,0.47899999999999998,0.44600000000000001,0.45800000000000002,0.46]
[null,"福島電力(株)","A0384",0,"tCO2/千kWh","","","","",0.56899999999999995]
[null,"岡山電力(株)","A0385",0.29500000000000004,"tCO2/千kWh","","","","",0.51100000000000001,0.58699999999999997,0.45900000000000002,0.439,0.29500000000000004]
[null,"ミライフ(株)","A0386",0.16500000000000001,"tCO2/千kWh","","","","",0.60699999999999998,0.55599999999999994,0.53500000000000003,0.51600000000000001,0.16500000000000001]
[null,"(株)翠光トップライン","A0387",0.49799999999999994,"tCO2/千kWh","","","","",0.68799999999999994,0.56099999999999994,0.50700000000000001,0.496,0.49799999999999994]
[null,"楽天エナジー(株)","A0388",0.48500000000000004,"tCO2/千kWh","","","","",0.63100000000000001,0.55800000000000005,0.55700000000000005,0.54299999999999993,0.48500000000000004]
[null,"うすきエネルギー(株)","A0389",0.38600000000000001,"tCO2/千kWh","","","","",0.54500000000000004,0.501,0.38600000000000001,0.5,0.38600000000000001]
[null,"(株)トーヨーエネルギーファーム（旧：(株)Toyo Electric Power）","A0390",0.49399999999999999,"tCO2/千kWh",null,null,null,null,null,0.56499999999999995,0.502,0.48500000000000004,0.49399999999999999]
[null,"森のエネルギー(株)（旧：富士見森のエネルギー(株)）","A0391",0.49,"tCO2/千kWh","","","","",0.41599999999999998,0.54299999999999993,0.53700000000000003,0.42899999999999999,0.49]
[null,"岐阜電力(株)","A0392",0.495,"tCO2/千kWh","","","","",0.66900000000000004,0.55999999999999994,0.52100000000000002,0.52300000000000002,0.495]
[null,"格安電力(株)","A0393",0.38300000000000001,"tCO2/千kWh","","","","",0.7,0.55699999999999994,0.19800000000000001,0.54,0.38300000000000001]
[null,"テクノエフアンドシー(株)","A0395",0,"tCO2/千kWh","","","","",0.505,0.40400000000000003]
[null,"(株)エスケーエナジー","A0396",0.50700000000000001,"tCO2/千kWh","","","","",0.47399999999999998,0.60599999999999998,0.59699999999999998,0.47600000000000003,0.50700000000000001]
[null,"名南共同エネルギー(株)","A0397",0.626,"tCO2/千kWh","","","","",0.65500000000000003,0.70200000000000007,0.55400000000000005,0.64200000000000002,0.626]
[null,"Ａｐａｍａｎ　Ｅｎｅｒｇｙ(株)","A0398",0.5109999999999999,"tCO2/千kWh","","","","",0.59299999999999997,0.52200000000000002,0.52300000000000002,0.50700000000000001,0.5109999999999999]
[null,"ファミリーエナジー合同会社","A0399",0,"tCO2/千kWh","","","","",0.68700000000000006,0.59000000000000008,0.40699999999999997,0.496]
[null,"ＡＧ　Ｅｎｅｒｇｙ(株)","A0400",0,"tCO2/千kWh","","","","",0.72299999999999998,0.56599999999999995]
[null,"アンビット・エナジー・ジャパン合同会社","A0401",9.5000000000000001E-2,"tCO2/千kWh","","","","",0.54300000000000004,0.55300000000000005,0.52400000000000002,0.51400000000000001,9.5000000000000001E-2]
[null,"(株)ＴＯＫＹＯ油電力","A0402",0.51700000000000002,"tCO2/千kWh","","","","",0.628,0.56400000000000006,0.50900000000000001,0.49799999999999994,0.51700000000000002]
[null,"大分ケーブルテレコム(株)","A0403",0.46099999999999997,"tCO2/千kWh","","","","",0.52500000000000002,0.434,0.42599999999999999,0.42899999999999999,0.46099999999999997]
[null,"アストマックス・エネルギー合同会社（旧：Ｊｕｓｔ　Ｅｎｅｒｇｙ　Ｊａｐａｎ合同会社）","A0405",0.51400000000000001,"tCO2/千kWh","","","","",0.81399999999999995,0.68300000000000005,0.52600000000000002,0.53399999999999992,0.51400000000000001]
[null,"生活協同組合コープみらい","A0406",0.372,"tCO2/千kWh","","","","",0.53100000000000003,0.441,0.45600000000000002,0.39,0.372]
[null,"寝屋川電力(株)","A0407",0.48599999999999999,"tCO2/千kWh","","","","",0.68100000000000005,0.55900000000000005,0.52600000000000002,0.51,0.48599999999999999]
[null,"(株)広島一電力","A0408",0,"tCO2/千kWh","","","","",0.56000000000000005,0.58600000000000008,0.47799999999999998]
[null,"富士山電力(株)（旧：大阪府民電力(株)）","A0409",0,"tCO2/千kWh","","","","",0.67600000000000005,0.54299999999999993,0.48099999999999998]
[null,"石川電力(株)","A0410",0.99400000000000011,"tCO2/千kWh","","","","",0.69399999999999995,0.51800000000000002,0.52100000000000002,0.58899999999999997,0.99400000000000011]
[null,"福井電力(株)","A0411",0.48099999999999998,"tCO2/千kWh",null,null,null,null,null,0.50900000000000001,0.56699999999999995,0.5109999999999999,0.48099999999999998]
[null,"(株)MKエネルギー","A0413",0.54400000000000004,"tCO2/千kWh",null,null,null,null,null,null,0.52900000000000003,0.49,0.54400000000000004]
[null,"(株)Ｏｐｔｉｍｉｚｅｄ　Ｅｎｅｒｇｙ","A0414",0.48399999999999999,"tCO2/千kWh","","","","",0.51200000000000001,0.5,0.48799999999999999,0.47,0.48399999999999999]
[null,"エネラボ(株)（旧：せと電力(株)）","A0415",0.53900000000000003,"tCO2/千kWh","","","","",0.50700000000000001,0.58099999999999996,0.65600000000000003,0.45899999999999996,0.53900000000000003]
[null,"(株)ネクシィーズ・ゼロ","A0416",0.50700000000000001,"tCO2/千kWh","","","","",0.54300000000000004,0.55100000000000005,0.53100000000000003,0.51200000000000001,0.50700000000000001]
[null,"地元電力(株)","A0417",0,"tCO2/千kWh","","","","",0.54300000000000004,0.51700000000000002,0.48599999999999999,0.47800000000000004]
[null,"横浜ウォーター(株)","A0418",0.38800000000000001,"tCO2/千kWh","","","","",0.34699999999999998,null,0.36599999999999999,0.38300000000000001,0.38800000000000001]
[null,"スマートエナジー磐田(株)","A0419",0.17399999999999999,"tCO2/千kWh","","","","",0.38700000000000001,0.28799999999999998,0.19800000000000001,0.23,0.17399999999999999]
[null,"そうまＩグリッド合同会社","A0420",0.32600000000000001,"tCO2/千kWh","","","","",0.161,0.39500000000000002,0.41399999999999998,0.39,0.32600000000000001]
[null,"第一日本電力株式会社","A0421",{"$f":"IF($B$1>0,INDIRECT(\"R\"&ROW()&\"C\"&$B$1+5,FALSE),0)","v":0},"tCO2/千kWh",null,null,null,null,null,null,null,0.53600000000000003]
[null,"新潟県民電力(株)","A0424",0.42799999999999999,"tCO2/千kWh","","","","",0.51200000000000001,0.51800000000000002,0.48599999999999999,0.5109999999999999,0.42799999999999999]
[null,"エネトレード(株)","A0425",0.45300000000000001,"tCO2/千kWh",null,null,null,null,null,0.5,0.48799999999999999,0.47,0.45300000000000001]
[null,"Ｍｙシティ電力(株)","A0427",0.51200000000000001,"tCO2/千kWh","","","","",0.71099999999999997,0.56000000000000005,0.51800000000000002,0.52100000000000002,0.51200000000000001]
[null,"(株)トーセキ","A0428",0,"tCO2/千kWh","","","","",0.88700000000000001,0.58699999999999997,0.52900000000000003]
[null,"ニシムラ(株)","A0429",0.503,"tCO2/千kWh",null,null,null,null,null,null,null,0.48299999999999998,0.503]
[null,"(株)さくら新電力","A0430",0.40400000000000003,"tCO2/千kWh",null,null,null,null,null,0.59399999999999997,0.53400000000000003,0.48299999999999998,0.40400000000000003]
[null,"(株)グローアップ","A0431",0.40099999999999997,"tCO2/千kWh",null,null,null,null,null,0.51200000000000001,0.498,0.53200000000000003,0.40099999999999997]
[null,"あくびコミュニケーションズ(株)","A0433",0,"tCO2/千kWh","","","","",0.51200000000000001,0.621]
[null,"いこま市民パワー(株)","A0435",0.10500000000000001,"tCO2/千kWh","","","","",0.38,0.39900000000000002,0.374,0.32400000000000001,0.10500000000000001]
[null,"(株)コープでんき東北","A0436",0.41899999999999998,"tCO2/千kWh","","","","",0.76300000000000001,0.40899999999999997,0.442,0.308,0.41899999999999998]
[null,"おもてなし山形(株)","A0437",0.154,"tCO2/千kWh",null,null,null,null,null,0.54900000000000004,0.48199999999999998,0.26899999999999996,0.154]
[null,"長野都市ガス(株)","A0438",0.36399999999999999,"tCO2/千kWh","","","","",0.223,0.33300000000000002,0.502,0.44700000000000001,0.36399999999999999]
[null,"上田ガス(株)","A0439",0.36399999999999999,"tCO2/千kWh","","","","",0.223,0.33300000000000002,0.502,0.44700000000000001,0.36399999999999999]
[null,"日本瓦斯(株)（旧：(株)エネカット）","A0440",0.49200000000000005,"tCO2/千kWh","","","","",0.67600000000000005,0.71599999999999997,0.51800000000000002,0.54900000000000004,0.49200000000000005]
[null,"(株)内藤工業所","A0441",0.50800000000000001,"tCO2/千kWh","","","","",0.39200000000000002,0.54900000000000004,0.51700000000000002,0.504,0.50800000000000001]
[null,"(株)シグナストラスト","A0442",0.53,"tCO2/千kWh","","","","",0.34200000000000003,0.496,0.54700000000000004,3.4000000000000002E-2,0.53]
[null,"ゲーテハウス(株)","A0443",0.48899999999999993,"tCO2/千kWh",null,null,null,null,null,0.54799999999999993,0.49399999999999999,0.48399999999999999,0.48899999999999993]
[null,"おまかせ電力(株)(旧：(株)コデンエナジーバンク)","A0444",0,"tCO2/千kWh",null,null,null,null,null,0.51700000000000002,0.46300000000000002,0.47600000000000003]
[null,"岩手電力(株)","A0445",0.52200000000000002,"tCO2/千kWh",null,null,null,null,null,0.629,0.54600000000000004,0.51,0.52200000000000002]
[null,"ＪＰエネルギー(株)","A0446",0.495,"tCO2/千kWh",null,null,null,null,null,0.61699999999999999,0.56999999999999995,0.51,0.495]
[null,"兵庫電力(株)","A0447",0.47600000000000003,"tCO2/千kWh",null,null,null,null,null,0.50700000000000001,0.47299999999999998,0.44400000000000001,0.47600000000000003]
[null,"大和ライフエナジア(株)","A0448",0.47600000000000003,"tCO2/千kWh",null,null,null,null,null,0.84599999999999997,0.51100000000000001,0.48000000000000004,0.47600000000000003]
[null,"京都新電力(株)","A0449",0,"tCO2/千kWh",null,null,null,null,null,0.64300000000000002,0.48299999999999998]
[null,"Ｃｏｃｏテラスたがわ(株)","A0451",0.32500000000000001,"tCO2/千kWh",null,null,null,null,null,0.46900000000000003,0.40300000000000002,0.44700000000000001,0.32500000000000001]
[null,"東北電力エナジートレーディング(株)","A0452",0.45300000000000001,"tCO2/千kWh",null,null,null,null,null,0.5,0.48799999999999999,0.47,0.45300000000000001]
[null,"(株)横浜環境デザイン","A0453",0.38900000000000001,"tCO2/千kWh",null,null,null,null,null,0.15100000000000002,0.311,0.36099999999999999,0.38900000000000001]
[null,"(株)まち未来製作所","A0454",0.30200000000000005,"tCO2/千kWh",null,null,null,null,null,0.36799999999999999,0.106,0.53300000000000003,0.30200000000000005]
[null,"ＴＲＥＮＤＥ(株)","A0455",0.49399999999999999,"tCO2/千kWh",null,null,null,null,null,0.76900000000000002,0.48499999999999999,0.51800000000000002,0.49399999999999999]
[null,"(株)どさんこパワー","A0456",0.505,"tCO2/千kWh",null,null,null,null,null,0.59899999999999998,0.53800000000000003,0.50700000000000001,0.505]
[null,"トリニティエナジー(株)","A0457",0.45900000000000002,"tCO2/千kWh",null,null,null,null,null,null,null,null,0.45900000000000002]
[null,"ワンワールドエナジー(株)(旧：(株)地方創生テクノロジーラボ)","A0458",0.46500000000000002,"tCO2/千kWh",null,null,null,null,null,0.52300000000000002,0.496,0.48500000000000004,0.46500000000000002]
[null,"みなとみらい電力(株)","A0459",0.49399999999999999,"tCO2/千kWh",null,null,null,null,null,0.64600000000000002,0.53400000000000003,0.50700000000000001,0.49399999999999999]
[null,"日本電灯電力販売(株)","A0460",0,"tCO2/千kWh",null,null,null,null,null,0.58499999999999996,0.51500000000000001,0.50700000000000001]
[null,"(株)ＬＩＸＩＬ　ＴＥＰＣＯ　スマートパートナーズ","A0461",0.49700000000000005,"tCO2/千kWh",null,null,null,null,null,0.64100000000000001,0.48899999999999999,0.48099999999999998,0.49700000000000005]
[null,"(株)NEXT ONE","A0463",0.53100000000000003,"tCO2/千kWh",null,null,null,null,null,null,0.61299999999999999,0.503,0.53100000000000003]
[null,"三菱瓦斯化学(株)","A0464",0,"tCO2/千kWh",null,null,null,null,null,0.54]
[null,"(株)ユビニティー","A0465",0.58100000000000007,"tCO2/千kWh",null,null,null,null,null,0.51700000000000002,0.48599999999999999,0.50700000000000001,0.58100000000000007]
[null,"(株)宮交シティ","A0466",0.32200000000000001,"tCO2/千kWh",null,null,null,null,null,0.501,0.42299999999999999,0.495,0.32200000000000001]
[null,"(株)アルファライズ","A0467",0.51,"tCO2/千kWh",null,null,null,null,null,0.51700000000000002,0.48599999999999999,0.47800000000000004,0.51]
[null,"おおすみ半島スマートエネルギー(株)","A0468",0.45800000000000002,"tCO2/千kWh",null,null,null,null,null,0.46599999999999997,0.309,0.16600000000000001,0.45800000000000002]
[null,"おきなわコープエナジー(株)","A0470",0.69599999999999995,"tCO2/千kWh",null,null,null,null,null,0.80900000000000005,0.71799999999999997,0.77500000000000002,0.69599999999999995]
[null,"久慈地域エネルギー(株)","A0471",0.42599999999999999,"tCO2/千kWh",null,null,null,null,null,0.55699999999999994,0.52500000000000002,0.42000000000000004,0.42599999999999999]
[null,"弘前ガス(株)","A0472",0.47699999999999998,"tCO2/千kWh",null,null,null,null,null,0.57499999999999996,0.625,0.33300000000000002,0.47699999999999998]
[null,"(株)フォーバルテレコム","A0473",0.47499999999999998,"tCO2/千kWh",null,null,null,null,null,0.48599999999999999,0.47299999999999998,0.44400000000000001,0.47499999999999998]
[null,"信州電力(株)","A0475",0,"tCO2/千kWh",null,null,null,null,null,0.54600000000000004,0.51900000000000002,0.49700000000000005]
[null,"(株)グランデータ(旧：(株)ひまわりでんき)","A0476",0.52200000000000002,"tCO2/千kWh",null,null,null,null,null,0.51700000000000002,0.48599999999999999,0.47800000000000004,0.52200000000000002]
[null,"くるめエネルギー(株)","A0477",0.55400000000000005,"tCO2/千kWh",null,null,null,null,null,0.42399999999999999,0.44900000000000001,0.42599999999999999,0.55400000000000005]
[null,"(株)はまエネ","A0478",0.495,"tCO2/千kWh",null,null,null,null,null,0.64,0.504,0.49,0.495]
[null,"(株)ホープ","A0479",0,"tCO2/千kWh",null,null,null,null,null,0.56800000000000006,0.52400000000000002,0.47300000000000003]
[null,"松阪新電力(株)","A0480",9.1999999999999998E-2,"tCO2/千kWh",null,null,null,null,null,0.22,0.20200000000000001,0.114,9.1999999999999998E-2]
[null,"ヒューリックプロパティソリューション(株)","A0481",0.315,"tCO2/千kWh",null,null,null,null,null,0.46200000000000002,0.42399999999999999,0.34699999999999998,0.315]
[null,"宮崎電力(株)(旧：(株)盛和)","A0482",0.40299999999999997,"tCO2/千kWh",null,null,null,null,null,0.47499999999999998,0.45700000000000002,0.374,0.40299999999999997]
[null,"みの市民エネルギー(株)","A0483",0.51800000000000002,"tCO2/千kWh",null,null,null,null,null,0.55400000000000005,0.50800000000000001,0.496,0.51800000000000002]
[null,"三友エンテック(株)","A0484",0.47499999999999998,"tCO2/千kWh",null,null,null,null,null,0.48599999999999999,0.47299999999999998,0.44400000000000001,0.47499999999999998]
[null,"府中・調布まちなかエナジー(株)","A0486",0.48000000000000004,"tCO2/千kWh",null,null,null,null,null,0.54199999999999993,0.495,0.47300000000000003,0.48000000000000004]
[null,"伊勢志摩電力(株)","A0487",0.48299999999999998,"tCO2/千kWh",null,null,null,null,null,0.64899999999999991,0.53700000000000003,0.51500000000000001,0.48299999999999998]
[null,"(一社)塩尻市森林公社","A0488",0,"tCO2/千kWh",null,null,null,null,null,1.071,0.47299999999999998,0.31900000000000001]
[null,"九州スポーツ電力(株)","A0489",0,"tCO2/千kWh",null,null,null,null,null,0.747,0.57599999999999996,0.73199999999999998]
[null,"(株)ＣＤエナジーダイレクト","A0490",0.41100000000000003,"tCO2/千kWh",null,null,null,null,null,0.47600000000000003,0.48099999999999998,0.41300000000000003,0.41100000000000003]
[null,"Ｑ．ＥＮＥＳＴでんき(株)(旧：ジニーエナジー合同会社)","A0491",0.45899999999999996,"tCO2/千kWh",null,null,null,null,null,0.5,0.48799999999999999,0.505,0.45899999999999996]
[null,"(株)ぶんごおおのエナジー","A0493",0.377,"tCO2/千kWh",null,null,null,null,null,0.53100000000000003,0.42,0.36200000000000004,0.377]
[null,"ヴィジョナリーパワー(株)","A0494",0.379,"tCO2/千kWh",null,null,null,null,null,0.60899999999999999,0.52400000000000002,0.49099999999999999,0.379]
[null,"有明エナジー(株)","A0495",0.33900000000000002,"tCO2/千kWh",null,null,null,null,null,0.48599999999999999,0.41299999999999998,0.47600000000000003,0.33900000000000002]
[null,"Ｅｔｈｏｓ合同会社","A0498",0,"tCO2/千kWh",null,null,null,null,null,0.81599999999999995,0.503,0.51200000000000001]
[null,"厚木瓦斯(株)","A0499",{"$f":"IF($B$1>0,INDIRECT(\"R\"&ROW()&\"C\"&$B$1+5,FALSE),0)","v":0.36399999999999999},"tCO2/千kWh",null,null,null,null,null,0.57799999999999996,0.502,0.44700000000000001,0.36399999999999999]
[null,"(株)エネ・ビジョン","A0500",0.29199999999999998,"tCO2/千kWh",null,null,null,null,null,0.47100000000000003,0.39900000000000002,0.47699999999999998,0.29199999999999998]
[null,"イワタニ三重(株)","A0501",0.36399999999999999,"tCO2/千kWh",null,null,null,null,null,0.33300000000000002,0.502,0.44700000000000001,0.36399999999999999]
[null,"(株)マルヰ","A0502",0.46400000000000002,"tCO2/千kWh",null,null,null,null,null,0.55599999999999994,0.52300000000000002,0.504,0.46400000000000002]
[null,"大多喜ガス(株)","A0503",0.432,"tCO2/千kWh",null,null,null,null,null,0.51200000000000001,0.504,0.56999999999999995,0.432]
[null,"郡上エネルギー(株)","A0505",0,"tCO2/千kWh",null,null,null,null,null,0.60599999999999998,0.51500000000000001,0.48199999999999998]
[null,"鈴与電力(株)","A0506",0.45899999999999996,"tCO2/千kWh",null,null,null,null,null,0.53799999999999992,0.505,0.495,0.45899999999999996]
[null,"コープ電力(株)","A0507",0.23,"tCO2/千kWh",null,null,null,null,null,0.20100000000000001,0.218,0.153,0.23]
[null,"生活協同組合コープぐんま","A0508",0.371,"tCO2/千kWh",null,null,null,null,null,0.441,0.45600000000000002,0.39,0.371]
[null,"とちぎコープ生活協同組合","A0509",0.372,"tCO2/千kWh",null,null,null,null,null,0.441,0.45600000000000002,0.39,0.372]
[null,"いばらきコープ生活協同組合","A0510",0.372,"tCO2/千kWh",null,null,null,null,null,0.441,0.45500000000000002,0.39,0.372]
[null,"亀岡ふるさとエナジー(株)","A0511",7.4999999999999997E-2,"tCO2/千kWh",null,null,null,null,null,0.376,4.3999999999999997E-2,0.26100000000000001,7.4999999999999997E-2]
[null,"ISエナジー(株)","A0512",0,"tCO2/千kWh",null,null,null,null,null,null,0.53700000000000003,0.51700000000000002]
[null,"(株)織戸組","A0513",0.47100000000000003,"tCO2/千kWh",null,null,null,null,null,0.54600000000000004,0.52300000000000002,0.504,0.47100000000000003]
[null,"ふかやｅパワー(株)","A0514",0.45199999999999996,"tCO2/千kWh",null,null,null,null,null,0.60899999999999999,0.53900000000000003,0.45700000000000002,0.45199999999999996]
[null,"(株)Ｌｉｎｋ　Ｌｉｆｅ","A0515",0.51600000000000001,"tCO2/千kWh",null,null,null,null,null,0.5,0.58299999999999996,0.52100000000000002,0.51600000000000001]
[null,"(株)グローバルキャスト","A0518",0.374,"tCO2/千kWh",null,null,null,null,null,null,0.61,0.49099999999999999,0.374]
[null,"日本エネルギー総合システム(株)","A0519",0.5,"tCO2/千kWh",null,null,null,null,null,0.46500000000000002,0.55000000000000004,0.46200000000000002,0.5]
[null,"イワタニ東海(株)","A0520",0.36399999999999999,"tCO2/千kWh",null,null,null,null,null,0.33300000000000002,0.502,0.44700000000000001,0.36399999999999999]
[null,"(株)デライトアップ","A0522",0.47499999999999998,"tCO2/千kWh",null,null,null,null,null,null,null,0.47799999999999998,0.47499999999999998]
[null,"(株)オンテックス","A0524",0,"tCO2/千kWh",null,null,null,null,null,null,0.55800000000000005,0.5109999999999999]
[null,"(株)ところざわ未来電力","A0525",5.8000000000000003E-2,"tCO2/千kWh",null,null,null,null,null,3.4999999999999996E-2,4.1000000000000002E-2,6.8999999999999992E-2,5.8000000000000003E-2]
[null,"朝日ガスエナジー(株)","A0526",0.36399999999999999,"tCO2/千kWh",null,null,null,null,null,0.33300000000000002,0.502,0.44700000000000001,0.36399999999999999]
[null,"(株)エネファント","A0528",0.46299999999999997,"tCO2/千kWh",null,null,null,null,null,null,0.28699999999999998,0.47800000000000004,0.46299999999999997]
[null,"(株)エスエナジー","A0529",0.47800000000000004,"tCO2/千kWh",null,null,null,null,null,0.51700000000000002,0.48599999999999999,0.48599999999999999,0.47800000000000004]
[null,"(株)Ｍｐｏｗｅｒ","A0532",0.38499999999999995,"tCO2/千kWh",null,null,null,null,null,null,0.53800000000000003,0.504,0.38499999999999995]
[null,"秩父新電力(株)","A0533",0.314,"tCO2/千kWh",null,null,null,null,null,null,0.48799999999999999,0.33100000000000002,0.314]
[null,"みよしエナジー(株)","A0534",0.23299999999999998,"tCO2/千kWh",null,null,null,null,null,0.54400000000000004,0.45200000000000001,0.50600000000000001,0.23299999999999998]
[null,"東日本ガス(株)","A0536",0.49299999999999994,"tCO2/千kWh",null,null,null,null,null,0.5,0.52300000000000002,0.54900000000000004,0.49299999999999994]
[null,"東彩ガス(株)","A0537",0.49299999999999994,"tCO2/千kWh",null,null,null,null,null,0.5,0.52400000000000002,0.54900000000000004,0.49299999999999994]
[null,"綿半パートナーズ(株)","A0538",0.51200000000000001,"tCO2/千kWh",null,null,null,null,null,null,0.57799999999999996,0.51200000000000001,0.51200000000000001]
[null,"(株)ｋａｒｃｈ","A0539",0.10100000000000001,"tCO2/千kWh",null,null,null,null,null,0.16699999999999998,0.20300000000000001,0.247,0.10100000000000001]
[null,"森の灯り(株)","A0542",0.50700000000000001,"tCO2/千kWh",null,null,null,null,null,null,null,0,0.50700000000000001]
[null,"(株)かみでん里山公社","A0543",0.32600000000000001,"tCO2/千kWh",null,null,null,null,null,0.51400000000000001,0.51100000000000001,0.38400000000000001,0.32600000000000001]
[null,"レックスイノベーション(株)","A0544",0,"tCO2/千kWh",null,null,null,null,null,null,0.59299999999999997,0.52500000000000002]
[null,"(株)三郷ひまわりエナジー","A0546",0.48099999999999998,"tCO2/千kWh",null,null,null,null,null,null,0.4,0.45899999999999996,0.48099999999999998]
[null,"(株)球磨村森電力","A0547",0.32800000000000001,"tCO2/千kWh",null,null,null,null,null,null,0.41299999999999998,0.48399999999999999,0.32800000000000001]
[null,"北日本ガス(株)","A0548",0.49299999999999994,"tCO2/千kWh",null,null,null,null,null,0.46500000000000002,0.52800000000000002,0.54900000000000004,0.49299999999999994]
[null,"くこくエネルギー(株)(旧：熊本電力(株))","A0549",0.501,"tCO2/千kWh",null,null,null,null,null,null,null,0.47,0.501]
[null,"(株)エコログ","A0550",0.54200000000000004,"tCO2/千kWh",null,null,null,null,null,null,null,null,0.54200000000000004]
[null,"飯田まちづくり電力(株)","A0551",0.26600000000000001,"tCO2/千kWh",null,null,null,null,null,null,0.375,0.32600000000000001,0.26600000000000001]
[null,"イワタニ長野(株)","A0552",0.36399999999999999,"tCO2/千kWh",null,null,null,null,null,0.33300000000000002,0.502,0.44700000000000001,0.36399999999999999]
[null,"シェルジャパン(株)","A0553",0.45300000000000001,"tCO2/千kWh",null,null,null,null,null,null,0.48799999999999999,0.47,0.45300000000000001]
[null,"(株)クボタ","A0554",0.39900000000000002,"tCO2/千kWh",null,null,null,null,null,0.443,0.45500000000000002,0.41699999999999998,0.39900000000000002]
[null,"石油資源開発(株)","A0555",0.45300000000000001,"tCO2/千kWh",null,null,null,null,null,null,0.49399999999999999,0.47,0.45300000000000001]
[null,"越後天然ガス(株)","A0556",0.52200000000000002,"tCO2/千kWh",null,null,null,null,null,null,0.53200000000000003,0.505,0.52200000000000002]
[null,"(株)大仙こまちパワー","A0557",1.4E-2,"tCO2/千kWh",null,null,null,null,null,null,3.0000000000000001E-3,1.6E-2,1.4E-2]
[null,"坂戸ガス(株)","A0558",0.40700000000000003,"tCO2/千kWh",null,null,null,null,null,null,0.48199999999999998,0.45399999999999996,0.40700000000000003]
[null,"(株)デベロップ(旧：１号発電所(株))","A0559",0.4,"tCO2/千kWh",null,null,null,null,null,null,0.41899999999999998,0.48099999999999998,0.4]
[null,"(株)テレ・マーカー","A0560",0.629,"tCO2/千kWh",null,null,null,null,null,null,0.61799999999999999,0.54100000000000004,0.629]
[null,"ＭＧＣエネルギー(株)","A0562",0.38499999999999995,"tCO2/千kWh",null,null,null,null,null,null,0.54799999999999993,0.25,0.38499999999999995]
[null,"新日本瓦斯(株)","A0564",0,"tCO2/千kWh",null,null,null,null,null,null,0.76999999999999991]
[null,"福島フェニックス電力(株)","A0565",0.45300000000000001,"tCO2/千kWh",null,null,null,null,null,null,0.499,9.5000000000000001E-2,0.45300000000000001]
[null,"あんしん電力合同会社","A0566",0.44700000000000001,"tCO2/千kWh",null,null,null,null,null,null,null,0.53400000000000003,0.44700000000000001]
[null,"(株)美作国電力","A0567",0.51,"tCO2/千kWh",null,null,null,null,null,null,0.53399999999999992,0.56200000000000006,0.51]
[null,"エア・ウォーター(株)","A0568",0.46400000000000002,"tCO2/千kWh",null,null,null,null,null,null,0.47499999999999998,0.49099999999999999,0.46400000000000002]
[null,"八幡商事(株)","A0570",0.36399999999999999,"tCO2/千kWh",null,null,null,null,null,null,null,0.44700000000000001,0.36399999999999999]
[null,"おいでんエネルギー(株)","A0571",0.47,"tCO2/千kWh",null,null,null,null,null,null,0.56099999999999994,0.49099999999999999,0.47]
[null,"(株)イシオ","A0572",0.50900000000000001,"tCO2/千kWh",null,null,null,null,null,null,0.48599999999999999,0.54900000000000004,0.50900000000000001]
[null,"北陸電力ビズ・エナジーソリューション(株)","A0573",0.77,"tCO2/千kWh",null,null,null,null,null,null,null,null,0.77]
[null,"加賀市総合サービス(株)","A0575",0.496,"tCO2/千kWh",null,null,null,null,null,null,0.51200000000000001,0.33200000000000002,0.496]
[null,"丸紅伊那みらいでんき(株)","A0577",0.18000000000000002,"tCO2/千kWh",null,null,null,null,null,null,0.186,0.13400000000000001,0.18000000000000002]
[null,"富士山エナジー(株)","A0578",0.47899999999999998,"tCO2/千kWh",null,null,null,null,null,null,0.48099999999999998,0.48299999999999998,0.47899999999999998]
[null,"(株)OKUTA","A0579",0,"tCO2/千kWh",null,null,null,null,null,null,0.65,0.52500000000000002]
[null,"(株)エナネス","A0580",0.46799999999999997,"tCO2/千kWh",null,null,null,null,null,null,0.625,0.49799999999999994,0.46799999999999997]
[null,"WSエナジー(株)","A0581",0.36399999999999999,"tCO2/千kWh",null,null,null,null,null,null,0.42599999999999999,0.44600000000000001,0.36399999999999999]
[null,"TERA Energy(株)","A0582",{"$f":"IF($B$1>0,INDIRECT(\"R\"&ROW()&\"C\"&$B$1+5,FALSE),0)","v":0.46299999999999997},"tCO2/千kWh",null,null,null,null,null,null,0.19699999999999998,0.50800000000000001,0.46299999999999997]
[null,"(株)ケアネス(旧：(株)ルーア)","A0583",0.48599999999999999,"tCO2/千kWh",null,null,null,null,null,null,1.0109999999999999,0.5109999999999999,0.48599999999999999]
[null,"ＭＣＰＤ(株)(旧：ＭＣＰＤ合同会社)","A0584",0.36599999999999999,"tCO2/千kWh",null,null,null,null,null,null,0.505,0.48599999999999999,0.36599999999999999]
[null,"グリーンシティこばやし(株)","A0586",0.42799999999999999,"tCO2/千kWh",null,null,null,null,null,null,0.36000000000000004,0.48000000000000004,0.42799999999999999]
[null,"(株)吉田石油店","A0587",0.36399999999999999,"tCO2/千kWh",null,null,null,null,null,null,0.502,0.44700000000000001,0.36399999999999999]
[null,"スマートエナジー熊本(株)","A0589",4.5000000000000005E-2,"tCO2/千kWh",null,null,null,null,null,null,7.1000000000000008E-2,8.1000000000000003E-2,4.5000000000000005E-2]
[null,"福山未来エナジー(株)","A0590",0.20799999999999999,"tCO2/千kWh",null,null,null,null,null,null,0.22900000000000001,0.193,0.20799999999999999]
[null,"(株)メディオテック","A0592",0.495,"tCO2/千kWh",null,null,null,null,null,null,0.56499999999999995,0.47100000000000003,0.495]
[null,"(株)Sanko IB","A0593",0.499,"tCO2/千kWh",null,null,null,null,null,null,0.54,0.502,0.499]
[null,"五島市民電力(株)","A0596",0.38699999999999996,"tCO2/千kWh",null,null,null,null,null,null,0.13200000000000001,0.33399999999999996,0.38699999999999996]
[null,"電力保全サービス(株)","A0597",0.4,"tCO2/千kWh",null,null,null,null,null,null,0.45700000000000002,0.46099999999999997,0.4]
[null,"リストプロパティーズ(株)","A0598",0.501,"tCO2/千kWh",null,null,null,null,null,null,0.60599999999999998,0.49299999999999994,0.501]
[null,"(株)インフォシステム","A0600",0.44400000000000001,"tCO2/千kWh",null,null,null,null,null,null,0.69599999999999995,0.49099999999999999,0.44400000000000001]
[null,"(株)ナサホーム","A0601",0,"tCO2/千kWh",null,null,null,null,null,null,0.52500000000000002]
[null,"(株)情熱電力","A0602",0.53,"tCO2/千kWh",null,null,null,null,null,null,null,0.439,0.53]
[null,"バンプーパワートレーディング合同会社","A0603",0.68900000000000006,"tCO2/千kWh",null,null,null,null,null,null,null,0.55599999999999994,0.68900000000000006]
[null,"(株)エイチティーピー","A0604",0.308,"tCO2/千kWh",null,null,null,null,null,null,null,null,0.308]
[null,"(株)センカク","A0605",0.50800000000000001,"tCO2/千kWh",null,null,null,null,null,null,0.52200000000000002,0.503,0.50800000000000001]
[null,"新電力いばらき(株)","A0606",0.41300000000000003,"tCO2/千kWh",null,null,null,null,null,null,1.026,0.51800000000000002,0.41300000000000003]
[null,"緑屋電気(株)","A0607",0.44700000000000001,"tCO2/千kWh",null,null,null,null,null,null,0.46200000000000002,0.48700000000000004,0.44700000000000001]
[null,"(株)ミナサポ","A0609",0.317,"tCO2/千kWh",null,null,null,null,null,null,0.51300000000000001,0.46299999999999997,0.317]
[null,"唐津電力(株)","A0610",0.39300000000000002,"tCO2/千kWh",null,null,null,null,null,null,null,0.309,0.39300000000000002]
[null,"RE100電力(株)","A0611",0.16,"tCO2/千kWh",null,null,null,null,null,null,0.48599999999999999,0.157,0.16]
[null,"一般社団法人フライングエステート","A0613",0,"tCO2/千kWh",null,null,null,null,null,null,0.66200000000000003,0.502]
[null,"(株)イーネットワーク","A0615",0.45100000000000001,"tCO2/千kWh",null,null,null,null,null,null,0.502,0.48099999999999998,0.45100000000000001]
[null,"スマートエコエナジー(株)","A0617",0.41800000000000004,"tCO2/千kWh",null,null,null,null,null,null,0.38600000000000001,0.42199999999999999,0.41800000000000004]
[null,"ジャパンベストレスキューシステム(株)","A0619",0,"tCO2/千kWh",null,null,null,null,null,null,0.71,0.50600000000000001]
[null,"株式会社LENETS","A0620",0.49700000000000005,"tCO2/千kWh",null,null,null,null,null,null,null,0.503,0.49700000000000005]
[null,"アイエスジー(株)","A0622",0.57099999999999995,"tCO2/千kWh",null,null,null,null,null,null,0.66,0.5,0.57099999999999995]
[null,"(株)富士山電力","A0623",0.48199999999999998,"tCO2/千kWh",null,null,null,null,null,null,null,null,0.48199999999999998]
[null,"(株)エネクル(旧：堀川産業(株))","A0624",0.36399999999999999,"tCO2/千kWh",null,null,null,null,null,null,0.502,0.44700000000000001,0.36399999999999999]
[null,"フィンテックラボ協同組合","A0627",0.496,"tCO2/千kWh",null,null,null,null,null,null,0.70600000000000007,0.49399999999999999,0.496]
[null,"新電力新潟(株)","A0629",0.379,"tCO2/千kWh",null,null,null,null,null,null,0.442,0.308,0.379]
[null,"(株)タケエイでんき(旧：(株)横須賀アーバンウッドパワー)","A0630",0.115,"tCO2/千kWh",null,null,null,null,null,null,0.41100000000000003,8.7999999999999995E-2,0.115]
[null,"気仙沼グリーンエナジー(株)","A0631",0.27900000000000003,"tCO2/千kWh",null,null,null,null,null,null,6.0000000000000005E-2,0.307,0.27900000000000003]
[null,"(株)ユーラスグリーンエナジー","A0632",0.312,"tCO2/千kWh",null,null,null,null,null,null,0.36299999999999999,0.5,0.312]
[null,"(株)サイホープロパティーズ","A0633",0.58200000000000007,"tCO2/千kWh",null,null,null,null,null,null,null,0.626,0.58200000000000007]
[null,"GYRO　HOLDINGS株式会社","A0635",0,"tCO2/千kWh",null,null,null,null,null,null,null,0.505]
[null,"生活協同組合コープながの","A0636",0.372,"tCO2/千kWh",null,null,null,null,null,null,0.45800000000000002,0.39300000000000002,0.372]
[null,"京セラ関電エナジー合同会社","A0637",0.63700000000000001,"tCO2/千kWh",null,null,null,null,null,null,0.214,0.44900000000000001,0.63700000000000001]
[null,"酒田天然瓦斯(株)","A0639",0.36399999999999999,"tCO2/千kWh",null,null,null,null,null,null,0.502,0.44700000000000001,0.36399999999999999]
[null,"東亜ガス(株)","A0640",0.50700000000000001,"tCO2/千kWh",null,null,null,null,null,null,null,0.51100000000000001,0.50700000000000001]
[null,"(株)三河の山里コミュニティパワー","A0641",0.36399999999999999,"tCO2/千kWh",null,null,null,null,null,null,0.502,0.44700000000000001,0.36399999999999999]
[null,"新潟スワンエナジー(株)","A0642",0.10299999999999999,"tCO2/千kWh",null,null,null,null,null,null,0.11299999999999999,8.1000000000000003E-2,0.10299999999999999]
[null,"グリーンピープルズパワー(株)","A0644",0.25600000000000001,"tCO2/千kWh",null,null,null,null,null,null,0.51600000000000001,0.36399999999999999,0.25600000000000001]
[null,"レネックス電力合同会社","A0647",0.56299999999999994,"tCO2/千kWh",null,null,null,null,null,null,null,null,0.56299999999999994]
[null,"(株)マルイファシリティーズ","A0648",9.7000000000000003E-2,"tCO2/千kWh",null,null,null,null,null,null,null,0.47,9.7000000000000003E-2]
[null,"(株)デンケン","A0649",0.434,"tCO2/千kWh",null,null,null,null,null,null,0.5109999999999999,0.47600000000000003,0.434]
[null,"(株)東名","A0650",0.51300000000000001,"tCO2/千kWh",null,null,null,null,null,null,0.48599999999999999,0.58699999999999997,0.51300000000000001]
[null,"北海道電力コクリエーション(株)","A0652",0.71,"tCO2/千kWh",null,null,null,null,null,null,0.91100000000000003,0.56999999999999995,0.71]
[null,"ＮＴＴアノードエナジー(株)","A0653",0.45300000000000001,"tCO2/千kWh",null,null,null,null,null,null,null,null,0.45300000000000001]
[null,"スマート電気(株)","A0654",0.47599999999999998,"tCO2/千kWh",null,null,null,null,null,null,null,null,0.47599999999999998]
[null,"(株)唐津パワーホールディングス","A0655",0.48599999999999999,"tCO2/千kWh",null,null,null,null,null,null,0.51500000000000001,0.46200000000000002,0.48599999999999999]
[null,"(株)クリーンエネルギー総合研究所","A0656",0.47100000000000003,"tCO2/千kWh",null,null,null,null,null,null,null,0.54400000000000004,0.47100000000000003]
[null,"株式会社かづのパワー","A0659",0,"tCO2/千kWh",null,null,null,null,null,null,null,6.9999999999999993E-2]
[null,"ＵＮＩＶＥＲＧＹ(株)","A0660",0.41499999999999998,"tCO2/千kWh",null,null,null,null,null,null,null,0.50800000000000001,0.41499999999999998]
[null,"ＪＲ西日本住宅サービス(株)","A0661",0.34699999999999998,"tCO2/千kWh",null,null,null,null,null,null,null,0.39399999999999996,0.34699999999999998]
[null,"(株)アイキューブ・マーケティング","A0663",0.373,"tCO2/千kWh",null,null,null,null,null,null,null,null,0.373]
[null,"デジタルグリッド(株)","A0664",0.46700000000000003,"tCO2/千kWh",null,null,null,null,null,null,0.46700000000000003,0.49299999999999999,0.46700000000000003]
[null,"(株)西九州させぼパワーズ","A0666",0.23800000000000002,"tCO2/千kWh",null,null,null,null,null,null,null,0.45700000000000002,0.23800000000000002]
[null,"たんたんエナジー(株)","A0667",0,"tCO2/千kWh",null,null,null,null,null,null,0,0,0]
[null,"(株)能勢・豊能まち作り","A0668",0.20599999999999999,"tCO2/千kWh",null,null,null,null,null,null,null,6.2E-2,0.20599999999999999]
[null,"(株)再エネ思考電力","A0670",0.45300000000000001,"tCO2/千kWh",null,null,null,null,null,null,null,0.56400000000000006,0.45300000000000001]
[null,"(株)スマート","A0671",0.47499999999999998,"tCO2/千kWh",null,null,null,null,null,null,null,0.44400000000000001,0.47499999999999998]
[null,"(株)ジャパネットサービスイノベーション","A0673",0.61099999999999999,"tCO2/千kWh",null,null,null,null,null,null,null,0.501,0.61099999999999999]
[null,"(株)リクルート","A0675",0.50700000000000001,"tCO2/千kWh",null,null,null,null,null,null,null,0.52300000000000002,0.50700000000000001]
[null,"ＫＢＮ(株)","A0676",0.51600000000000001,"tCO2/千kWh",null,null,null,null,null,null,null,0.57600000000000007,0.51600000000000001]
[null,"(株)しおさい電力","A0677",0.50900000000000001,"tCO2/千kWh",null,null,null,null,null,null,null,0.56099999999999994,0.50900000000000001]
[null,"アスエネ(株)","A0678",0.11299999999999999,"tCO2/千kWh",null,null,null,null,null,null,null,0.47,0.11299999999999999]
[null,"TEPCOライフサービス(株)","A0679",0.49299999999999994,"tCO2/千kWh",null,null,null,null,null,null,0.49099999999999999,0.46899999999999997,0.49299999999999994]
[null,"会津エナジー(株)","A0680",0.1,"tCO2/千kWh",null,null,null,null,null,null,null,null,0.1]
[null,"うべ未来エネルギー(株)","A0681",{"$f":"IF($B$1>0,INDIRECT(\"R\"&ROW()&\"C\"&$B$1+5,FALSE),0)","v":0.29699999999999999},"tCO2/千kWh",null,null,null,null,null,null,null,0.13400000000000001,0.29699999999999999]
[null,"永井自動車工業(株)","A0683",0.47299999999999998,"tCO2/千kWh",null,null,null,null,null,null,null,null,0.47299999999999998]
[null,"小島電機工業(株)","A0684",0.51500000000000001,"tCO2/千kWh",null,null,null,null,null,null,null,0.47800000000000004,0.51500000000000001]
[null,"陸前高田しみんエネルギー(株)","A0685",0.49299999999999994,"tCO2/千kWh",null,null,null,null,null,null,null,0.51400000000000001,0.49299999999999994]
[null,"(株)チャームドライフ","A0687",0.47300000000000003,"tCO2/千kWh",null,null,null,null,null,null,null,0.48000000000000004,0.47300000000000003]
[null,"スターティア(株)","A0689",0.51600000000000001,"tCO2/千kWh",null,null,null,null,null,null,null,0.56899999999999995,0.51600000000000001]
[null,"東広島スマートエネルギー(株)","A0690",0.56899999999999995,"tCO2/千kWh",null,null,null,null,null,null,null,0.65,0.56899999999999995]
[null,"旭化成(株)","A0692",0.47699999999999998,"tCO2/千kWh",null,null,null,null,null,null,null,0.46400000000000002,0.47699999999999998]
[null,"京和ガス(株)","A0693",0.51500000000000001,"tCO2/千kWh",null,null,null,null,null,null,null,0.64600000000000002,0.51500000000000001]
[null,"ＫＭパワー(株)","A0695",0,"tCO2/千kWh",null,null,null,null,null,null,null,0.46799999999999997]
[null,"(株)岡崎建材","A0696",0.49299999999999994,"tCO2/千kWh",null,null,null,null,null,null,null,0.60099999999999998,0.49299999999999994]
[null,"(株)エフオン","A0698",0.45300000000000001,"tCO2/千kWh",null,null,null,null,null,null,null,0.47,0.45300000000000001]
[null,"(株)岡崎さくら電力","A0699",0.185,"tCO2/千kWh",null,null,null,null,null,null,null,0.12300000000000001,0.185]
[null,"旭マルヰガス(株)","A0702",0.51600000000000001,"tCO2/千kWh",null,null,null,null,null,null,null,0.63,0.51600000000000001]
[null,"ＪＲＥトレーディング(株)","A0703",0.45300000000000001,"tCO2/千kWh",null,null,null,null,null,null,null,null,0.45300000000000001]
[null,"Ｃａｓｔｌｅｔｏｎ　Ｃｏｍｍｏｄｉｔｉｅｓ　Ｊａｐａｎ合同会社","A0704",0.20499999999999999,"tCO2/千kWh",null,null,null,null,null,null,null,0.46200000000000002,0.20499999999999999]
[null,"神戸電力(株)","A0705",0.61799999999999999,"tCO2/千kWh",null,null,null,null,null,null,null,0.64499999999999991,0.61799999999999999]
[null,"エア・ウォーター・ライフソリューション(株)(旧：エア・ウォーター北海道(株))","A0708",0.60299999999999998,"tCO2/千kWh",null,null,null,null,null,null,null,1.0920000000000001,0.60299999999999998]
[null,"生活協同組合ひろしま","A0709",0.36699999999999999,"tCO2/千kWh",null,null,null,null,null,null,null,0.38100000000000001,0.36699999999999999]
[null,"(株)京楽産業ホールディングス","A0710",0.48299999999999998,"tCO2/千kWh",null,null,null,null,null,null,null,null,0.48299999999999998]
[null,"(株)RenoLabo","A0711",0.51,"tCO2/千kWh",null,null,null,null,null,null,null,0.51400000000000001,0.51]
[null,"アークエルテクノロジーズ(株)","A0712",0.51300000000000001,"tCO2/千kWh",null,null,null,null,null,null,null,0.495,0.51300000000000001]
[null,"弥富ガス協同組合","A0713",0.52500000000000002,"tCO2/千kWh",null,null,null,null,null,null,null,0.60199999999999998,0.52500000000000002]
[null,"エルメック(株)","A0714",0.39100000000000001,"tCO2/千kWh",null,null,null,null,null,null,null,0.626,0.39100000000000001]
[null,"(株)オズエナジー","A0715",0.496,"tCO2/千kWh",null,null,null,null,null,null,null,0.47800000000000004,0.496]
[null,"レモンガス(株)","A0716",0.46,"tCO2/千kWh",null,null,null,null,null,null,null,null,0.46]
[null,"(株)日本海水","A0718",0.374,"tCO2/千kWh",null,null,null,null,null,null,null,null,0.374]
[null,"(株)ａｆｔｅｒＦＩＴ","A0720",0.496,"tCO2/千kWh",null,null,null,null,null,null,null,0.49700000000000005,0.496]
[null,"中小企業支援(株)","A0721",0.53799999999999992,"tCO2/千kWh",null,null,null,null,null,null,null,0.79100000000000004,0.53799999999999992]
[null,"サントラベラーズサービス有限会社","A0722",0.51400000000000001,"tCO2/千kWh",null,null,null,null,null,null,null,0.55199999999999994,0.51400000000000001]
[null,"合同会社Ｐｅａｋ８","A0725",0.47499999999999998,"tCO2/千kWh",null,null,null,null,null,null,null,null,0.47499999999999998]
[null,"八千代エンジニヤリング(株)","A0726",0.47799999999999998,"tCO2/千kWh",null,null,null,null,null,null,null,null,0.47799999999999998]
[null,"神楽電力(株)","A0729",0.44900000000000001,"tCO2/千kWh",null,null,null,null,null,null,null,0.47800000000000004,0.44900000000000001]
[null,"ゆきぐに新電力(株)","A0730",0.52200000000000002,"tCO2/千kWh",null,null,null,null,null,null,null,null,0.52200000000000002]
[null,"(株)ながさきサステナエナジー","A0732",8.1000000000000003E-2,"tCO2/千kWh",null,null,null,null,null,null,null,0.05,8.1000000000000003E-2]
[null,"(株)Ｉ＆Ｉ","A0734",0.53200000000000003,"tCO2/千kWh",null,null,null,null,null,null,null,null,0.53200000000000003]
[null,"(株)グルーヴエナジー","A0738",0.56999999999999995,"tCO2/千kWh",null,null,null,null,null,null,null,null,0.56999999999999995]
[null,"高知ニューエナジー(株)","A0739",0.46599999999999997,"tCO2/千kWh",null,null,null,null,null,null,null,0.48099999999999998,0.46599999999999997]
[null,"もみじ電力(株)","A0740",0.49799999999999994,"tCO2/千kWh",null,null,null,null,null,null,null,0.47,0.49799999999999994]
[null,"Nature(株)","A0741",0,"tCO2/千kWh",null,null,null,null,null,null,null,0.747]
[null,"(株)縁人","A0742",0.58499999999999996,"tCO2/千kWh",null,null,null,null,null,null,null,null,0.58499999999999996]
[null,"T＆Tエナジー(株)","A0743",0.49299999999999994,"tCO2/千kWh",null,null,null,null,null,null,null,0.55400000000000005,0.49299999999999994]
[null,"(株)ルーク","A0744",0.44700000000000001,"tCO2/千kWh",null,null,null,null,null,null,null,null,0.44700000000000001]
[null,"(株)ふくしま未来パワー","A0745",0.45300000000000001,"tCO2/千kWh",null,null,null,null,null,null,null,null,0.45300000000000001]
[null,"かけがわ報徳パワー(株)","A0746",0.47,"tCO2/千kWh",null,null,null,null,null,null,null,null,0.47]
[null,"ＳｕｓｔａｉｎａｂｌｅＥｎｅｒｇｙ(株)","A0747",0.56000000000000005,"tCO2/千kWh",null,null,null,null,null,null,null,null,0.56000000000000005]
[null,"穂の国とよはし電力(株)","A0748",0.122,"tCO2/千kWh",null,null,null,null,null,null,null,8.5000000000000006E-2,0.122]
[null,"イワタニセントラル北海道(株)","A0752",1.099,"tCO2/千kWh",null,null,null,null,null,null,null,null,1.099]
[null,"ホームタウンエナジー(株)","A0753",0.44800000000000001,"tCO2/千kWh",null,null,null,null,null,null,null,null,0.44800000000000001]
[null,"(株)彩の国でんき","A0754",0.40400000000000003,"tCO2/千kWh",null,null,null,null,null,null,null,null,0.40400000000000003]
[null,"(株)ホープエナジー","A0756",0.46799999999999997,"tCO2/千kWh",null,null,null,null,null,null,null,null,0.46799999999999997]
[null,"(株)クリーンベンチャー２１","A0759",0.53300000000000003,"tCO2/千kWh",null,null,null,null,null,null,null,null,0.53300000000000003]
[null,"三河商事(株)","A0760",0.5,"tCO2/千kWh",null,null,null,null,null,null,null,null,0.5]
[null,"(株)みとや","A0761",0.47,"tCO2/千kWh",null,null,null,null,null,null,null,null,0.47]
[null,"三州電力(株)","A0762",0.53,"tCO2/千kWh",null,null,null,null,null,null,null,null,0.53]
[null,"フラットエナジー(株)","A0763",0.54800000000000004,"tCO2/千kWh",null,null,null,null,null,null,null,null,0.54800000000000004]
[null,"沖縄新エネ開発(株)","A0764",0.5,"tCO2/千kWh",null,null,null,null,null,null,null,null,0.5]
[null,"つづくみらいエナジー(株)","A0766",4.8000000000000001E-2,"tCO2/千kWh",null,null,null,null,null,null,null,null,4.8000000000000001E-2]
[null,"(株)中庄商店","A0769",0.32300000000000001,"tCO2/千kWh",null,null,null,null,null,null,null,null,0.32300000000000001]
[null,"(株)ほくだん","A0770",0.48299999999999998,"tCO2/千kWh",null,null,null,null,null,null,null,null,0.48299999999999998]
[null,"(株)コノミヤホールディングス","A0774",0.503,"tCO2/千kWh",null,null,null,null,null,null,null,null,0.503]
[null,"自由でんき(株)","A0776",0.32800000000000001,"tCO2/千kWh",null,null,null,null,null,null,null,null,0.32800000000000001]
[null,"(株)ビジョン","A0780",0.379,"tCO2/千kWh",null,null,null,null,null,null,null,null,0.379]
[null,"(株)丸の内電力","A0781",0.58899999999999997,"tCO2/千kWh",null,null,null,null,null,null,null,null,0.58899999999999997]
[null,"西川建材工業(株)","A0782",0.78400000000000003,"tCO2/千kWh",null,null,null,null,null,null,null,null,0.78400000000000003]
[null,"(株)中京電力","A0783",0.55500000000000005,"tCO2/千kWh",null,null,null,null,null,null,null,null,0.55500000000000005]
[null,"(株)クオリティプラス","A0785",0.55100000000000005,"tCO2/千kWh",null,null,null,null,null,null,null,null,0.55100000000000005]
[null,"Ｙ．Ｗ．Ｃ(株)","A0786",0.56200000000000006,"tCO2/千kWh",null,null,null,null,null,null,null,null,0.56200000000000006]
[null,"ＴＧオクトパスエナジー(株)","A0793",0.39399999999999996,"tCO2/千kWh",null,null,null,null,null,null,null,null,0.39399999999999996]
[null,"東北電力フロンティア(株)","A0796",0.624,"tCO2/千kWh",null,null,null,null,null,null,null,null,0.624]
[null,"(株)ファラデー","A0798",0.47799999999999998,"tCO2/千kWh",null,null,null,null,null,null,null,null,0.47799999999999998]
[null,"出雲ケーブルビジョン(株)","A0803",0.41299999999999998,"tCO2/千kWh",null,null,null,null,null,null,null,null,0.41299999999999998]
[null,"いずも縁結び電力(株)","A0806",0.10199999999999999,"tCO2/千kWh",null,null,null,null,null,null,null,null,0.10199999999999999]
[null,"宇都宮ライトパワー(株)","A0808",0.313,"tCO2/千kWh",null,null,null,null,null,null,null,null,0.313]
[null,"代替値","なし",0.441,"tCO2/千kWh",0.55100000000000005,0.57899999999999996,0.58699999999999997,0.51200000000000001,0.51200000000000001,0.48799999999999999,0.47,0.45300000000000001,0.441]
[null,"※事業者を追加する場合は、「代替値」より上の行で行の挿入を行い、追加すること。"]
[null,null,null,null,null,"（平成２６年１２月５日公表）※平成２７年７月１４日一部追加・修正","（平成27年11月30日公表）","（平成28年12月27日公表）","(平成29年12月21日公表)","(平成30年12月27日公表)","(令和2年1月7日公表)"]

{"sheet":"認定総括表","index":21,"n_rows":46,"n_cols":20,"rows_kept":46,"cut":false,"hidden":true,"merged":[[12,3,12,6],[12,7,12,11],[13,3,13,6],[13,7,13,11],[3,3,3,6],[10,3,10,6],[10,7,10,11],[11,3,11,6],[11,7,11,11],[1,3,1,13],[4,3,4,6],[3,7,3,11],[4,7,4,11],[7,3,7,6],[7,7,7,11],[27,3,27,6],[27,7,27,11],[8,3,8,6],[8,7,8,11],[9,3,9,6],[9,7,9,11],[19,3,19,6],[19,7,19,11],[20,3,20,6],[20,7,20,11],[26,3,26,6],[26,7,26,11],[14,3,14,6],[14,7,14,11],[15,3,15,6],[15,7,15,11],[16,3,16,6],[16,7,16,11],[22,3,22,6],[22,7,22,11],[17,3,17,6],[17,7,17,11],[18,3,18,6],[18,7,18,11],[21,3,21,6],[21,7,21,11],[25,3,25,6],[25,7,25,11],[23,3,23,6],[23,7,23,11],[24,3,24,6],[24,7,24,11]]}
[1]
[null,null,null,"貨客輸送事業者認定総括表　認定管理統括貨客輸送事業者及び管理関係貨客輸送事業者において、輸送能力の合計が令第１５条２項に定める数値以上の貨客輸送事業者の一覧"]
[null,null,null,"１．認定管理統括貨客輸送事業者"]
[4,"No.",null,"認定管理統括貨客輸送事業者指定番号",null,null,null,"認定管理統括貨客輸送事業者の名称",null,null,null,null,null,null,null,null,null,"フラグ","保存転記用"]
[null,1,null,null,null,null,null,null,null,null,null,null,null,null,null,null,null,0,1,{"$f":"$D$5","v":0}]
[null,null,null,null,null,null,null,null,null,null,null,null,null,null,null,null,null,null,2,{"$f":"$H$5","v":0}]
[null,null,null,"２．管理関係貨客輸送事業者",null,null,null,null,null,null,null,null,null,null,null,null,null,null,3,{"$f":"$D$9","v":0}]
[4,"No.",null,"管理関係貨客輸送事業者指定番号",null,null,null,"管理関係貨客輸送事業者の名称",null,null,null,null,null,null,null,null,null,null,4,{"$f":"$H$9","v":0}]
[null,2,null,null,null,null,null,null,null,null,null,null,null,null,null,null,null,0,5,{"$f":"$D$10","v":0}]
[null,3,null,null,null,null,null,null,null,null,null,null,null,null,null,null,null,0,6,{"$f":"$H$10","v":0}]
[null,4,null,null,null,null,null,null,null,null,null,null,null,null,null,null,null,0,7,{"$f":"$D$11","v":0}]
[null,5,null,null,null,null,null,null,null,null,null,null,null,null,null,null,null,0,8,{"$f":"$H$11","v":0}]
[null,6,null,null,null,null,null,null,null,null,null,null,null,null,null,null,null,0,9,{"$f":"$D$12","v":0}]
[null,7,null,null,null,null,null,null,null,null,null,null,null,null,null,null,null,0,10,{"$f":"$H$12","v":0}]
[null,8,null,null,null,null,null,null,null,null,null,null,null,null,null,null,null,0,11,{"$f":"$D$13","v":0}]
[null,9,null,null,null,null,null,null,null,null,null,null,null,null,null,null,null,0,12,{"$f":"$H$13","v":0}]
[null,10,null,null,null,null,null,null,null,null,null,null,null,null,null,null,null,0,13,{"$f":"$D$14","v":0}]
[null,11,null,null,null,null,null,null,null,null,null,null,null,null,null,null,null,0,14,{"$f":"$H$14","v":0}]
[null,12,null,null,null,null,null,null,null,null,null,null,null,null,null,null,null,0,15,{"$f":"$D$15","v":0}]
[null,13,null,null,null,null,null,null,null,null,null,null,null,null,null,null,null,0,16,{"$f":"$H$15","v":0}]
[null,14,null,null,null,null,null,null,null,null,null,null,null,null,null,null,null,0,17,{"$f":"$D$16","v":0}]
[null,15,null,null,null,null,null,null,null,null,null,null,null,null,null,null,null,0,18,{"$f":"$H$16","v":0}]
[null,16,null,null,null,null,null,null,null,null,null,null,null,null,null,null,null,0,19,{"$f":"$D$17","v":0}]
[null,17,null,null,null,null,null,null,null,null,null,null,null,null,null,null,null,0,20,{"$f":"$H$17","v":0}]
[null,18,null,null,null,null,null,null,null,null,null,null,null,null,null,null,null,0,21,{"$f":"$D$18","v":0}]
[null,19,null,null,null,null,null,null,null,null,null,null,null,null,null,null,null,0,22,{"$f":"$H$18","v":0}]
[null,20,null,null,null,null,null,null,null,null,null,null,null,null,null,null,null,0,23,{"$f":"$D$19","v":0}]
[null,21,null,null,null,null,null,null,null,null,null,null,null,null,null,null,null,0,24,{"$f":"$H$19","v":0}]
[null,null,null,null,null,null,null,null,null,null,null,null,null,null,null,null,null,null,25,{"$f":"$D$20","v":0}]
[null,null,null,null,null,null,null,null,null,null,null,null,null,null,null,null,null,null,26,{"$f":"$H$20","v":0}]
[null,null,null,null,null,null,null,null,null,null,null,null,null,null,null,null,null,null,27,{"$f":"$D$21","v":0}]
[null,null,null,null,null,null,null,null,null,null,null,null,null,null,null,null,null,null,28,{"$f":"$H$21","v":0}]
[null,null,null,null,null,null,null,null,null,null,null,null,null,null,null,null,null,null,29,{"$f":"$D$22","v":0}]
[null,null,null,null,null,null,null,null,null,null,null,null,null,null,null,null,null,null,30,{"$f":"$H$22","v":0}]
[null,null,null,null,null,null,null,null,null,null,null,null,null,null,null,null,null,null,31,{"$f":"$D$23","v":0}]
[null,null,null,null,null,null,null,null,null,null,null,null,null,null,null,null,null,null,32,{"$f":"$H$23","v":0}]
[null,null,null,null,null,null,null,null,null,null,null,null,null,null,null,null,null,null,33,{"$f":"$D$24","v":0}]
[null,null,null,null,null,null,null,null,null,null,null,null,null,null,null,null,null,null,34,{"$f":"$H$24","v":0}]
[null,null,null,null,null,null,null,null,null,null,null,null,null,null,null,null,null,null,35,{"$f":"$D$25","v":0}]
[null,null,null,null,null,null,null,null,null,null,null,null,null,null,null,null,null,null,36,{"$f":"$H$25","v":0}]
[null,null,null,null,null,null,null,null,null,null,null,null,null,null,null,null,null,null,37,{"$f":"$D$26","v":0}]
[null,null,null,null,null,null,null,null,null,null,null,null,null,null,null,null,null,null,38,{"$f":"$H$26","v":0}]
[null,null,null,null,null,null,null,null,null,null,null,null,null,null,null,null,null,null,39,{"$f":"$D$27","v":0}]
[null,null,null,null,null,null,null,null,null,null,null,null,null,null,null,null,null,null,40,{"$f":"$H$27","v":0}]
[null,null,null,null,null,null,null,null,null,null,null,null,null,null,null,null,null,null,41,{"$f":"$D$28","v":0}]
[null,null,null,null,null,null,null,null,null,null,null,null,null,null,null,null,null,null,42,{"$f":"$H$28","v":0}]

{"sheet":"印刷用２３","index":22,"n_rows":0,"n_cols":0,"rows_kept":0,"cut":false,"hidden":true,"merged":[]}

{"sheet":"印刷用４５６","index":23,"n_rows":0,"n_cols":0,"rows_kept":0,"cut":false,"hidden":true,"merged":[]}

{"sheet":"保存用","index":24,"n_rows":72,"n_cols":26,"rows_kept":72,"cut":false,"hidden":true,"merged":[]}
["開始年",{"$f":"メニュー!A7","v":2006}]
["■貨物",null,{"$f":"C3","v":38718},{"$f":"D3","v":39083},39448,39814,40179,40544,40909,41275,41640,42005,42370,42736,43101,43466,43831,44197,44562,44927,45292,45658,46023,46388,46753,47119]
[null,null,{"$f":"DATEVALUE($B$1+COLUMN(C27)-3 & \"/1/1\")","v":"2006-01-01"},{"$f":"DATEVALUE($B$1+COLUMN(D27)-3 & \"/1/1\")","v":"2007-01-01"},"2008-01-01","2009-01-01","2010-01-01","2011-01-01","2012-01-01","2013-01-01","2014-01-01","2015-01-01","2016-01-01","2017-01-01","2018-01-01","2019-01-01","2020-01-01","2021-01-01","2022-01-01","2023-01-01","2024-01-01","2025-01-01","2026-01-01","2027-01-01","2028-01-01","2029-01-01"]
[null,"第１表自社分"]
[null,"第１表連携分（自社）"]
[null,"第１表連携分（他社）"]
[null,"第３表自社分"]
[null,"第３表連携分"]
[null,"第４表エネルギー自社分"]
[null,"第４表エネルギー連携分"]
[null,"第４表電気自社分"]
[null,"第４表電気連携分"]
[]
["開始年度変更前",null,38718,39083,39448,39814,40179,40544,40909,41275,41640,42005,42370,42736,43101,43466,43831,44197,44562,44927,45292,45658,46023,46388,46753,47119]
[null,null,"2006-01-01","2007-01-01","2008-01-01","2009-01-01","2010-01-01","2011-01-01","2012-01-01","2013-01-01","2014-01-01","2015-01-01","2016-01-01","2017-01-01","2018-01-01","2019-01-01","2020-01-01","2021-01-01","2022-01-01","2023-01-01","2024-01-01","2025-01-01","2026-01-01","2027-01-01","2028-01-01","2029-01-01"]
[{"$f":"SUM($C16:$IV16)","v":0},"第１表自社分"]
[{"$f":"SUM($C17:$IV17)","v":0},"第１表連携分（自社）"]
[0,"第１表連携分（他社）"]
[0,"第３表自社分"]
[0,"第３表連携分"]
[0,"第４表エネルギー自社分"]
[0,"第４表エネルギー連携分"]
[0,"第４表電気自社分"]
[0,"第４表電気連携分"]
[]
["■旅客",null,{"$f":"C27","v":38718},{"$f":"D27","v":39083},39448,39814,40179,40544,40909,41275,41640,42005,42370,42736,43101,43466,43831,44197,44562,44927,45292,45658,46023,46388,46753,47119]
[null,null,{"$f":"DATEVALUE($B$1+COLUMN(C27)-3 & \"/1/1\")","v":"2006-01-01"},{"$f":"DATEVALUE($B$1+COLUMN(D27)-3 & \"/1/1\")","v":"2007-01-01"},{"$f":"DATEVALUE($B$1+COLUMN(E27)-3 & \"/1/1\")","v":"2008-01-01"},{"$f":"DATEVALUE($B$1+COLUMN(F27)-3 & \"/1/1\")","v":"2009-01-01"},"2010-01-01","2011-01-01","2012-01-01","2013-01-01","2014-01-01","2015-01-01","2016-01-01","2017-01-01","2018-01-01","2019-01-01","2020-01-01","2021-01-01","2022-01-01","2023-01-01","2024-01-01","2025-01-01","2026-01-01","2027-01-01","2028-01-01","2029-01-01"]
[null,"第１表自社分"]
[null,"第１表連携分（自社）"]
[null,"第１表連携分（他社）"]
[null,"第３表自社分"]
[null,"第３表連携分"]
[null,"第４表エネルギー自社分"]
[null,"第４表エネルギー連携分"]
[null,"第４表電気自社分"]
[null,"第４表電気連携分"]
[]
["開始年度変更前",null,38718,39083,39448,39814,40179,40544,40909,41275,41640,42005,42370,42736,43101,43466,43831,44197,44562,44927,45292,45658,46023,46388,46753,47119]
[null,null,"2006-01-01","2007-01-01","2008-01-01","2009-01-01","2010-01-01","2011-01-01","2012-01-01","2013-01-01","2014-01-01","2015-01-01","2016-01-01","2017-01-01","2018-01-01","2019-01-01","2020-01-01","2021-01-01","2022-01-01","2023-01-01","2024-01-01","2025-01-01","2026-01-01","2027-01-01","2028-01-01","2029-01-01"]
[{"$f":"SUM($C40:$IV40)","v":0},"第１表自社分"]
[{"$f":"SUM($C41:$IV41)","v":0},"第１表連携分（自社）"]
[0,"第１表連携分（他社）"]
[0,"第３表自社分"]
[0,"第３表連携分"]
[0,"第４表エネルギー自社分"]
[0,"第４表エネルギー連携分"]
[0,"第４表電気自社分"]
[0,"第４表電気連携分"]
[]
["■航空",null,{"$f":"C51","v":38718},39083,39448,39814,40179,40544,40909,41275,41640,42005,42370,42736,43101,43466,43831,44197,44562,44927,45292,45658,46023,46388,46753,47119]
[null,null,{"$f":"DATEVALUE($B$1+COLUMN(C51)-3 & \"/1/1\")","v":"2006-01-01"},{"$f":"DATEVALUE($B$1+COLUMN(D51)-3 & \"/1/1\")","v":"2007-01-01"},{"$f":"DATEVALUE($B$1+COLUMN(E51)-3 & \"/1/1\")","v":"2008-01-01"},"2009-01-01","2010-01-01","2011-01-01","2012-01-01","2013-01-01","2014-01-01","2015-01-01","2016-01-01","2017-01-01","2018-01-01","2019-01-01","2020-01-01","2021-01-01","2022-01-01","2023-01-01","2024-01-01","2025-01-01","2026-01-01","2027-01-01","2028-01-01","2029-01-01"]
[null,"第１表自社分"]
[null,"第１表連携分（自社）"]
[null,"第１表連携分（他社）"]
[null,"第３表自社分"]
[null,"第３表連携分"]
[null,"第４表エネルギー自社分"]
[null,"第４表エネルギー連携分"]
[null,"第４表電気自社分"]
[null,"第４表電気連携分"]
[]
["開始年度変更前",null,38718,39083,39448,39814,40179,40544,40909,41275,41640,42005,42370,42736,43101,43466,43831,44197,44562,44927,45292,45658,46023,46388,46753,47119]
[null,null,"2006-01-01","2007-01-01","2008-01-01","2009-01-01","2010-01-01","2011-01-01","2012-01-01","2013-01-01","2014-01-01","2015-01-01","2016-01-01","2017-01-01","2018-01-01","2019-01-01","2020-01-01","2021-01-01","2022-01-01","2023-01-01","2024-01-01","2025-01-01","2026-01-01","2027-01-01","2028-01-01","2029-01-01"]
[{"$f":"SUM($C64:$IV64)","v":0},"第１表自社分"]
[{"$f":"SUM($C65:$IV65)","v":0},"第１表連携分（自社）"]
[0,"第１表連携分（他社）"]
[0,"第３表自社分"]
[0,"第３表連携分"]
[0,"第４表エネルギー自社分"]
[0,"第４表エネルギー連携分"]
[0,"第４表電気自社分"]
[0,"第４表電気連携分"]

{"sheet":"保存用(認定管理関係)","index":25,"n_rows":48,"n_cols":26,"rows_kept":48,"cut":false,"hidden":true,"merged":[]}
["開始年",{"$f":"メニュー!A7","v":2006}]
["■事業者指定番号",null,38718,39083,39448,39814,40179,40544,40909,41275,41640,42005,42370,42736,43101,43466,43831,44197,44562,44927,45292,45658,46023,46388,46753,47119]
[null,null,"2006-01-01","2007-01-01","2008-01-01","2009-01-01","2010-01-01","2011-01-01","2012-01-01","2013-01-01","2014-01-01","2015-01-01","2016-01-01","2017-01-01","2018-01-01","2019-01-01","2020-01-01","2021-01-01","2022-01-01","2023-01-01","2024-01-01","2025-01-01","2026-01-01","2027-01-01","2028-01-01","2029-01-01"]
["認定管理統括貨客","統括",null,null,null,null,null,null,null,null,null,null,null,null,null,0]
["管理関係貨客","事業者１",null,null,null,null,null,null,null,null,null,null,null,null,null,0]
[null,"事業者２",null,null,null,null,null,null,null,null,null,null,null,null,null,0]
[null,"事業者３",null,null,null,null,null,null,null,null,null,null,null,null,null,0]
[null,"事業者４",null,null,null,null,null,null,null,null,null,null,null,null,null,0]
[null,"事業者５",null,null,null,null,null,null,null,null,null,null,null,null,null,0]
[null,"事業者６",null,null,null,null,null,null,null,null,null,null,null,null,null,0]
[null,"事業者７",null,null,null,null,null,null,null,null,null,null,null,null,null,0]
[null,"事業者８",null,null,null,null,null,null,null,null,null,null,null,null,null,0]
[null,"事業者９",null,null,null,null,null,null,null,null,null,null,null,null,null,0]
[null,"事業者１０",null,null,null,null,null,null,null,null,null,null,null,null,null,0]
[null,"事業者１１",null,null,null,null,null,null,null,null,null,null,null,null,null,"00:00:00"]
[null,"事業者１２",null,null,null,null,null,null,null,null,null,null,null,null,null,0]
[null,"事業者１３",null,null,null,null,null,null,null,null,null,null,null,null,null,0]
[null,"事業者１４",null,null,null,null,null,null,null,null,null,null,null,null,null,0]
[null,"事業者１５",null,null,null,null,null,null,null,null,null,null,null,null,null,0]
[null,"事業者１６",null,null,null,null,null,null,null,null,null,null,null,null,null,0]
[null,"事業者１７",null,null,null,null,null,null,null,null,null,null,null,null,null,0]
[null,"事業者１８",null,null,null,null,null,null,null,null,null,null,null,null,null,0]
[null,"事業者１９",null,null,null,null,null,null,null,null,null,null,null,null,null,0]
[null,"事業者２０",null,null,null,null,null,null,null,null,null,null,null,null,null,0]
[]
["■原油換算kl",null,{"$f":"C27","v":38718},39083,39448,39814,40179,40544,40909,41275,41640,42005,42370,42736,43101,43466,43831,44197,44562,44927,45292,45658,46023,46388,46753,47119]
[null,null,{"$f":"DATEVALUE($B$1+COLUMN(C27)-3 & \"/1/1\")","v":"2006-01-01"},{"$f":"DATEVALUE($B$1+COLUMN(D27)-3 & \"/1/1\")","v":"2007-01-01"},{"$f":"DATEVALUE($B$1+COLUMN(E27)-3 & \"/1/1\")","v":"2008-01-01"},"2009-01-01","2010-01-01","2011-01-01","2012-01-01","2013-01-01","2014-01-01","2015-01-01","2016-01-01","2017-01-01","2018-01-01","2019-01-01","2020-01-01","2021-01-01","2022-01-01","2023-01-01","2024-01-01","2025-01-01","2026-01-01","2027-01-01","2028-01-01","2029-01-01"]
["認定管理統括貨客","統括",null,null,null,null,null,null,null,null,null,null,null,null,null,0]
["管理関係貨客","事業者１",null,null,null,null,null,null,null,null,null,null,null,null,null,0]
[null,"事業者２",null,null,null,null,null,null,null,null,null,null,null,null,null,0]
[null,"事業者３",null,null,null,null,null,null,null,null,null,null,null,null,null,0]
[null,"事業者４",null,null,null,null,null,null,null,null,null,null,null,null,null,0]
[null,"事業者５",null,null,null,null,null,null,null,null,null,null,null,null,null,0]
[null,"事業者６",null,null,null,null,null,null,null,null,null,null,null,null,null,0]
[null,"事業者７",null,null,null,null,null,null,null,null,null,null,null,null,null,0]
[null,"事業者８",null,null,null,null,null,null,null,null,null,null,null,null,null,0]
[null,"事業者９",null,null,null,null,null,null,null,null,null,null,null,null,null,0]
[null,"事業者１０",null,null,null,null,null,null,null,null,null,null,null,null,null,0]
[null,"事業者１１",null,null,null,null,null,null,null,null,null,null,null,null,null,"00:00:00"]
[null,"事業者１２",null,null,null,null,null,null,null,null,null,null,null,null,null,0]
[null,"事業者１３",null,null,null,null,null,null,null,null,null,null,null,null,null,0]
[null,"事業者１４",null,null,null,null,null,null,null,null,null,null,null,null,null,0]
[null,"事業者１５",null,null,null,null,null,null,null,null,null,null,null,null,null,0]
[null,"事業者１６",null,null,null,null,null,null,null,null,null,null,null,null,null,0]
[null,"事業者１７",null,null,null,null,null,null,null,null,null,null,null,null,null,0]
[null,"事業者１８",null,null,null,null,null,null,null,null,null,null,null,null,null,0]
[null,"事業者１９",null,null,null,null,null,null,null,null,null,null,null,null,null,0]
[null,"事業者２０",null,null,null,null,null,null,null,null,null,null,null,null,null,0]

{"sheet":"係数（燃料）","index":26,"n_rows":24,"n_cols":14,"rows_kept":24,"cut":false,"hidden":true,"merged":[[1,12,1,13],[1,10,1,11],[1,4,1,5],[1,6,1,7],[1,8,1,9]]}
[]
[null,"No.","燃料・電気の種類","固有量①\n単位","単位発熱量②",null,"CO2排出係数\n（炭素ベース）③",null,"エネルギー算定式④",null,"CO2算定式",null,"付表1～3　CO2計算用"]
[null,1,"揮発油","ｋｌ",34.6,"GJ/kl",1.83E-2,"tC/GJ","①×②","GJ","④×③×44/12","tCO2",{"$f":"G3*44/12","v":6.7100000000000007E-2},"③×44/12"]
[null,2,"軽油","ｋｌ",37.700000000000003,"GJ/kl",1.8699999999999998E-2,"tC/GJ","①×②","GJ","④×③×44/12","tCO2",6.8566666666666651E-2,"③×44/12"]
[null,3,"Ａ重油","ｋｌ",39.1,"GJ/kl",1.89E-2,"tC/GJ","①×②","GJ","④×③×44/12","tCO2",6.93E-2,"③×44/12"]
[null,4,"Ｂ・Ｃ重油","ｋｌ",41.9,"GJ/kl",1.95E-2,"tC/GJ","①×②","GJ","④×③×44/12","tCO2",7.1499999999999994E-2,"③×44/12"]
[null,5,"液化石油ガス(ＬＰＧ)","t",50.8,"GJ/t",1.61E-2,"tC/GJ","①×②","GJ","④×③×44/12","tCO2",5.9033333333333333E-2,"③×44/12"]
[null,6,"液化天然ガス(ＬＮＧ)","t",54.6,"GJ/t",1.35E-2,"tC/GJ","①×②","GJ","④×③×44/12","tCO2",4.9499999999999995E-2,"③×44/12"]
[null,7,"ジェット燃料油","ｋｌ",36.700000000000003,"GJ/kl",1.83E-2,"tC/GJ","①×②","GJ","④×③×44/12","tCO2",6.7100000000000007E-2,"③×44/12"]
[null,8,"石炭（原料炭）","t",29,"GJ/t",2.4500000000000001E-2,"tC/GJ","①×②","GJ","④×③×44/12","tCO2",8.9833333333333334E-2,"③×44/12"]
[null,9,"石炭（一般炭）","t",25.7,"GJ/t",2.47E-2,"tC/GJ","①×②","GJ","④×③×44/12","tCO2",9.056666666666667E-2,"③×44/12"]
[null,10,"石炭（無煙炭）","t",26.9,"GJ/t",2.5499999999999998E-2,"tC/GJ","①×②","GJ","④×③×44/12","tCO2",9.3499999999999986E-2,"③×44/12"]
[null,11,"都市ガス","千Nm3",{"$f":"'第1表(1)_貨物'!E50","v":0},"GJ/千Nm3",1.3599999999999999E-2,"tC/GJ","①×②","GJ","④×③×44/12","tCO2",{"$f":"G13*44/12","v":4.9866666666666663E-2},"③×44/12"]
[]
[]
[]
[]
[]
[]
[null,null,"t->kl換算係数","kl->t換算係数"]
[null,"A重油",{"$f":"1/0.83","v":1.2048192771084338},0.83]
[null,"B重油",{"$f":"1/0.86","v":1.1627906976744187},0.86]
[null,"C重油",{"$f":"1/0.94","v":1.0638297872340425},0.94]
[null,"LPG",{"$f":"1/0.56","v":1.7857142857142856},0.56000000000000005]

{"sheet":"入力範囲","index":27,"n_rows":77,"n_cols":83,"rows_kept":77,"cut":false,"hidden":true,"merged":[]}
[null,"→年度",1970,1971,1972,1973,1974,1975,1976,1977,1978,1979,1980,1981,1982,1983,1984,1985,1986,1987,1988,1989,1990,1991,1992,1993,1994,1995,1996,1997,1998,1999,2000,2001,2002,2003,2004,2005,2006,2007,2008,2009,2010,2011,2012,2013,2014,2015,2016,2017,2018,2019,2020,2021,2022,2023,2024,2025,2026,2027,2028,2029,2030,2031,2032,2033,2034,2035,2036,2037,2038,2039,2040,2041,2042,2043,2044,2045,2046,2047,2048,2049,2050]
["第１表開始値","揮発油",0.5,0.5,0.5,0.5,0.5,0.5,0.5,0.5,0.5,0.5,0.5,0.5,0.5,0.5,0.5,0.5,0.5,0.5,0.5,0.5,0.5,0.5,0.5,0.5,0.5,0.5,0.5,0.5,0.5,0.5,0.5,0.5,0.5,0.5,0.5,0.5,0.5,0.5,0.5,0.5,0.5,0.5,0.5,0.5,0.5,0.5,0.5,0.5,0.5,0.5,0.5,0.5,0.5,0.5,0.5,0.5,0.5,0.5,0.5,0.5,0.5,0.5,0.5,0.5,0.5,0.5,0.5,0.5,0.5,0.5,0.5,0.5,0.5,0.5,0.5,0.5,0.5,0.5,0.5,0.5,0.5]
[null,"ジェット燃料油",0.5,0.5,0.5,0.5,0.5,0.5,0.5,0.5,0.5,0.5,0.5,0.5,0.5,0.5,0.5,0.5,0.5,0.5,0.5,0.5,0.5,0.5,0.5,0.5,0.5,0.5,0.5,0.5,0.5,0.5,0.5,0.5,0.5,0.5,0.5,0.5,0.5,0.5,0.5,0.5,0.5,0.5,0.5,0.5,0.5,0.5,0.5,0.5,0.5,0.5,0.5,0.5,0.5,0.5,0.5,0.5,0.5,0.5,0.5,0.5,0.5,0.5,0.5,0.5,0.5,0.5,0.5,0.5,0.5,0.5,0.5,0.5,0.5,0.5,0.5,0.5,0.5,0.5,0.5,0.5,0.5]
[null,"軽油",0.5,0.5,0.5,0.5,0.5,0.5,0.5,0.5,0.5,0.5,0.5,0.5,0.5,0.5,0.5,0.5,0.5,0.5,0.5,0.5,0.5,0.5,0.5,0.5,0.5,0.5,0.5,0.5,0.5,0.5,0.5,0.5,0.5,0.5,0.5,0.5,0.5,0.5,0.5,0.5,0.5,0.5,0.5,0.5,0.5,0.5,0.5,0.5,0.5,0.5,0.5,0.5,0.5,0.5,0.5,0.5,0.5,0.5,0.5,0.5,0.5,0.5,0.5,0.5,0.5,0.5,0.5,0.5,0.5,0.5,0.5,0.5,0.5,0.5,0.5,0.5,0.5,0.5,0.5,0.5,0.5]
[null,"Ａ重油",0.5,0.5,0.5,0.5,0.5,0.5,0.5,0.5,0.5,0.5,0.5,0.5,0.5,0.5,0.5,0.5,0.5,0.5,0.5,0.5,0.5,0.5,0.5,0.5,0.5,0.5,0.5,0.5,0.5,0.5,0.5,0.5,0.5,0.5,0.5,0.5,0.5,0.5,0.5,0.5,0.5,0.5,0.5,0.5,0.5,0.5,0.5,0.5,0.5,0.5,0.5,0.5,0.5,0.5,0.5,0.5,0.5,0.5,0.5,0.5,0.5,0.5,0.5,0.5,0.5,0.5,0.5,0.5,0.5,0.5,0.5,0.5,0.5,0.5,0.5,0.5,0.5,0.5,0.5,0.5,0.5]
[null,"Ｂ・Ｃ重油",0.5,0.5,0.5,0.5,0.5,0.5,0.5,0.5,0.5,0.5,0.5,0.5,0.5,0.5,0.5,0.5,0.5,0.5,0.5,0.5,0.5,0.5,0.5,0.5,0.5,0.5,0.5,0.5,0.5,0.5,0.5,0.5,0.5,0.5,0.5,0.5,0.5,0.5,0.5,0.5,0.5,0.5,0.5,0.5,0.5,0.5,0.5,0.5,0.5,0.5,0.5,0.5,0.5,0.5,0.5,0.5,0.5,0.5,0.5,0.5,0.5,0.5,0.5,0.5,0.5,0.5,0.5,0.5,0.5,0.5,0.5,0.5,0.5,0.5,0.5,0.5,0.5,0.5,0.5,0.5,0.5]
[null,"液化石油ガス(ＬＰＧ)",0.5,0.5,0.5,0.5,0.5,0.5,0.5,0.5,0.5,0.5,0.5,0.5,0.5,0.5,0.5,0.5,0.5,0.5,0.5,0.5,0.5,0.5,0.5,0.5,0.5,0.5,0.5,0.5,0.5,0.5,0.5,0.5,0.5,0.5,0.5,0.5,0.5,0.5,0.5,0.5,0.5,0.5,0.5,0.5,0.5,0.5,0.5,0.5,0.5,0.5,0.5,0.5,0.5,0.5,0.5,0.5,0.5,0.5,0.5,0.5,0.5,0.5,0.5,0.5,0.5,0.5,0.5,0.5,0.5,0.5,0.5,0.5,0.5,0.5,0.5,0.5,0.5,0.5,0.5,0.5,0.5]
[null,"液化天然ガス(ＬＮＧ)",0.5,0.5,0.5,0.5,0.5,0.5,0.5,0.5,0.5,0.5,0.5,0.5,0.5,0.5,0.5,0.5,0.5,0.5,0.5,0.5,0.5,0.5,0.5,0.5,0.5,0.5,0.5,0.5,0.5,0.5,0.5,0.5,0.5,0.5,0.5,0.5,0.5,0.5,0.5,0.5,0.5,0.5,0.5,0.5,0.5,0.5,0.5,0.5,0.5,0.5,0.5,0.5,0.5,0.5,0.5,0.5,0.5,0.5,0.5,0.5,0.5,0.5,0.5,0.5,0.5,0.5,0.5,0.5,0.5,0.5,0.5,0.5,0.5,0.5,0.5,0.5,0.5,0.5,0.5,0.5,0.5]
[null,"石炭（原料炭）",0.5,0.5,0.5,0.5,0.5,0.5,0.5,0.5,0.5,0.5,0.5,0.5,0.5,0.5,0.5,0.5,0.5,0.5,0.5,0.5,0.5,0.5,0.5,0.5,0.5,0.5,0.5,0.5,0.5,0.5,0.5,0.5,0.5,0.5,0.5,0.5,0.5,0.5,0.5,0.5,0.5,0.5,0.5,0.5,0.5,0.5,0.5,0.5,0.5,0.5,0.5,0.5,0.5,0.5,0.5,0.5,0.5,0.5,0.5,0.5,0.5,0.5,0.5,0.5,0.5,0.5,0.5,0.5,0.5,0.5,0.5,0.5,0.5,0.5,0.5,0.5,0.5,0.5,0.5,0.5,0.5]
[null,"石炭（一般炭）",0.5,0.5,0.5,0.5,0.5,0.5,0.5,0.5,0.5,0.5,0.5,0.5,0.5,0.5,0.5,0.5,0.5,0.5,0.5,0.5,0.5,0.5,0.5,0.5,0.5,0.5,0.5,0.5,0.5,0.5,0.5,0.5,0.5,0.5,0.5,0.5,0.5,0.5,0.5,0.5,0.5,0.5,0.5,0.5,0.5,0.5,0.5,0.5,0.5,0.5,0.5,0.5,0.5,0.5,0.5,0.5,0.5,0.5,0.5,0.5,0.5,0.5,0.5,0.5,0.5,0.5,0.5,0.5,0.5,0.5,0.5,0.5,0.5,0.5,0.5,0.5,0.5,0.5,0.5,0.5,0.5]
[null,"石炭（無煙炭）",0.5,0.5,0.5,0.5,0.5,0.5,0.5,0.5,0.5,0.5,0.5,0.5,0.5,0.5,0.5,0.5,0.5,0.5,0.5,0.5,0.5,0.5,0.5,0.5,0.5,0.5,0.5,0.5,0.5,0.5,0.5,0.5,0.5,0.5,0.5,0.5,0.5,0.5,0.5,0.5,0.5,0.5,0.5,0.5,0.5,0.5,0.5,0.5,0.5,0.5,0.5,0.5,0.5,0.5,0.5,0.5,0.5,0.5,0.5,0.5,0.5,0.5,0.5,0.5,0.5,0.5,0.5,0.5,0.5,0.5,0.5,0.5,0.5,0.5,0.5,0.5,0.5,0.5,0.5,0.5,0.5]
[null,"都市ガス（CNGを含む。）",0.5,0.5,0.5,0.5,0.5,0.5,0.5,0.5,0.5,0.5,0.5,0.5,0.5,0.5,0.5,0.5,0.5,0.5,0.5,0.5,0.5,0.5,0.5,0.5,0.5,0.5,0.5,0.5,0.5,0.5,0.5,0.5,0.5,0.5,0.5,0.5,0.5,0.5,0.5,0.5,0.5,0.5,0.5,0.5,0.5,0.5,0.5,0.5,0.5,0.5,0.5,0.5,0.5,0.5,0.5,0.5,0.5,0.5,0.5,0.5,0.5,0.5,0.5,0.5,0.5,0.5,0.5,0.5,0.5,0.5,0.5,0.5,0.5,0.5,0.5,0.5,0.5,0.5,0.5,0.5,0.5]
[null,"昼間買電",0.5,0.5,0.5,0.5,0.5,0.5,0.5,0.5,0.5,0.5,0.5,0.5,0.5,0.5,0.5,0.5,0.5,0.5,0.5,0.5,0.5,0.5,0.5,0.5,0.5,0.5,0.5,0.5,0.5,0.5,0.5,0.5,0.5,0.5,0.5,0.5,0.5,0.5,0.5,0.5,0.5,0.5,0.5,0.5,0.5,0.5,0.5,0.5,0.5,0.5,0.5,0.5,0.5,0.5,0.5,0.5,0.5,0.5,0.5,0.5,0.5,0.5,0.5,0.5,0.5,0.5,0.5,0.5,0.5,0.5,0.5,0.5,0.5,0.5,0.5,0.5,0.5,0.5,0.5,0.5,0.5]
[null,"夏季・冬季における電気需要平準化時間帯",0.5,0.5,0.5,0.5,0.5,0.5,0.5,0.5,0.5,0.5,0.5,0.5,0.5,0.5,0.5,0.5,0.5,0.5,0.5,0.5,0.5,0.5,0.5,0.5,0.5,0.5,0.5,0.5,0.5,0.5,0.5,0.5,0.5,0.5,0.5,0.5,0.5,0.5,0.5,0.5,0.5,0.5,0.5,0.5,0.5,0.5,0.5,0.5,0.5,0.5,0.5,0.5,0.5,0.5,0.5,0.5,0.5,0.5,0.5,0.5,0.5,0.5,0.5,0.5,0.5,0.5,0.5,0.5,0.5,0.5,0.5,0.5,0.5,0.5,0.5,0.5,0.5,0.5,0.5,0.5,0.5]
[null,"夜間買電",0.5,0.5,0.5,0.5,0.5,0.5,0.5,0.5,0.5,0.5,0.5,0.5,0.5,0.5,0.5,0.5,0.5,0.5,0.5,0.5,0.5,0.5,0.5,0.5,0.5,0.5,0.5,0.5,0.5,0.5,0.5,0.5,0.5,0.5,0.5,0.5,0.5,0.5,0.5,0.5,0.5,0.5,0.5,0.5,0.5,0.5,0.5,0.5,0.5,0.5,0.5,0.5,0.5,0.5,0.5,0.5,0.5,0.5,0.5,0.5,0.5,0.5,0.5,0.5,0.5,0.5,0.5,0.5,0.5,0.5,0.5,0.5,0.5,0.5,0.5,0.5,0.5,0.5,0.5,0.5,0.5]
[null,"上記以外の買電",0.5,0.5,0.5,0.5,0.5,0.5,0.5,0.5,0.5,0.5,0.5,0.5,0.5,0.5,0.5,0.5,0.5,0.5,0.5,0.5,0.5,0.5,0.5,0.5,0.5,0.5,0.5,0.5,0.5,0.5,0.5,0.5,0.5,0.5,0.5,0.5,0.5,0.5,0.5,0.5,0.5,0.5,0.5,0.5,0.5,0.5,0.5,0.5,0.5,0.5,0.5,0.5,0.5,0.5,0.5,0.5,0.5,0.5,0.5,0.5,0.5,0.5,0.5,0.5,0.5,0.5,0.5,0.5,0.5,0.5,0.5,0.5,0.5,0.5,0.5,0.5,0.5,0.5,0.5,0.5,0.5]
[null,"自家発電",0.5,0.5,0.5,0.5,0.5,0.5,0.5,0.5,0.5,0.5,0.5,0.5,0.5,0.5,0.5,0.5,0.5,0.5,0.5,0.5,0.5,0.5,0.5,0.5,0.5,0.5,0.5,0.5,0.5,0.5,0.5,0.5,0.5,0.5,0.5,0.5,0.5,0.5,0.5,0.5,0.5,0.5,0.5,0.5,0.5,0.5,0.5,0.5,0.5,0.5,0.5,0.5,0.5,0.5,0.5,0.5,0.5,0.5,0.5,0.5,0.5,0.5,0.5,0.5,0.5,0.5,0.5,0.5,0.5,0.5,0.5,0.5,0.5,0.5,0.5,0.5,0.5,0.5,0.5,0.5,0.5]
[null,"CO2排出量独自揮発油",0.5,0.5,0.5,0.5,0.5,0.5,0.5,0.5,0.5,0.5,0.5,0.5,0.5,0.5,0.5,0.5,0.5,0.5,0.5,0.5,0.5,0.5,0.5,0.5,0.5,0.5,0.5,0.5,0.5,0.5,0.5,0.5,0.5,0.5,0.5,0.5,0.5,0.5,0.5,0.5,0.5,0.5,0.5,0.5,0.5,0.5,0.5,0.5,0.5,0.5,0.5,0.5,0.5,0.5,0.5,0.5,0.5,0.5,0.5,0.5,0.5,0.5,0.5,0.5,0.5,0.5,0.5,0.5,0.5,0.5,0.5,0.5,0.5,0.5,0.5,0.5,0.5,0.5,0.5,0.5,0.5]
[null,"CO2排出量独自ジェット燃料油",0.5,0.5,0.5,0.5,0.5,0.5,0.5,0.5,0.5,0.5,0.5,0.5,0.5,0.5,0.5,0.5,0.5,0.5,0.5,0.5,0.5,0.5,0.5,0.5,0.5,0.5,0.5,0.5,0.5,0.5,0.5,0.5,0.5,0.5,0.5,0.5,0.5,0.5,0.5,0.5,0.5,0.5,0.5,0.5,0.5,0.5,0.5,0.5,0.5,0.5,0.5,0.5,0.5,0.5,0.5,0.5,0.5,0.5,0.5,0.5,0.5,0.5,0.5,0.5,0.5,0.5,0.5,0.5,0.5,0.5,0.5,0.5,0.5,0.5,0.5,0.5,0.5,0.5,0.5,0.5,0.5]
[null,"CO2排出量独自軽油",0.5,0.5,0.5,0.5,0.5,0.5,0.5,0.5,0.5,0.5,0.5,0.5,0.5,0.5,0.5,0.5,0.5,0.5,0.5,0.5,0.5,0.5,0.5,0.5,0.5,0.5,0.5,0.5,0.5,0.5,0.5,0.5,0.5,0.5,0.5,0.5,0.5,0.5,0.5,0.5,0.5,0.5,0.5,0.5,0.5,0.5,0.5,0.5,0.5,0.5,0.5,0.5,0.5,0.5,0.5,0.5,0.5,0.5,0.5,0.5,0.5,0.5,0.5,0.5,0.5,0.5,0.5,0.5,0.5,0.5,0.5,0.5,0.5,0.5,0.5,0.5,0.5,0.5,0.5,0.5,0.5]
[null,"CO2排出量独自Ａ重油",0.5,0.5,0.5,0.5,0.5,0.5,0.5,0.5,0.5,0.5,0.5,0.5,0.5,0.5,0.5,0.5,0.5,0.5,0.5,0.5,0.5,0.5,0.5,0.5,0.5,0.5,0.5,0.5,0.5,0.5,0.5,0.5,0.5,0.5,0.5,0.5,0.5,0.5,0.5,0.5,0.5,0.5,0.5,0.5,0.5,0.5,0.5,0.5,0.5,0.5,0.5,0.5,0.5,0.5,0.5,0.5,0.5,0.5,0.5,0.5,0.5,0.5,0.5,0.5,0.5,0.5,0.5,0.5,0.5,0.5,0.5,0.5,0.5,0.5,0.5,0.5,0.5,0.5,0.5,0.5,0.5]
[null,"CO2排出量独自Ｂ・Ｃ重油",0.5,0.5,0.5,0.5,0.5,0.5,0.5,0.5,0.5,0.5,0.5,0.5,0.5,0.5,0.5,0.5,0.5,0.5,0.5,0.5,0.5,0.5,0.5,0.5,0.5,0.5,0.5,0.5,0.5,0.5,0.5,0.5,0.5,0.5,0.5,0.5,0.5,0.5,0.5,0.5,0.5,0.5,0.5,0.5,0.5,0.5,0.5,0.5,0.5,0.5,0.5,0.5,0.5,0.5,0.5,0.5,0.5,0.5,0.5,0.5,0.5,0.5,0.5,0.5,0.5,0.5,0.5,0.5,0.5,0.5,0.5,0.5,0.5,0.5,0.5,0.5,0.5,0.5,0.5,0.5,0.5]
[null,"CO2排出量独自液化石油ガス(ＬＰＧ)",0.5,0.5,0.5,0.5,0.5,0.5,0.5,0.5,0.5,0.5,0.5,0.5,0.5,0.5,0.5,0.5,0.5,0.5,0.5,0.5,0.5,0.5,0.5,0.5,0.5,0.5,0.5,0.5,0.5,0.5,0.5,0.5,0.5,0.5,0.5,0.5,0.5,0.5,0.5,0.5,0.5,0.5,0.5,0.5,0.5,0.5,0.5,0.5,0.5,0.5,0.5,0.5,0.5,0.5,0.5,0.5,0.5,0.5,0.5,0.5,0.5,0.5,0.5,0.5,0.5,0.5,0.5,0.5,0.5,0.5,0.5,0.5,0.5,0.5,0.5,0.5,0.5,0.5,0.5,0.5,0.5]
[null,"CO2排出量独自液化天然ガス(ＬＮＧ)",0.5,0.5,0.5,0.5,0.5,0.5,0.5,0.5,0.5,0.5,0.5,0.5,0.5,0.5,0.5,0.5,0.5,0.5,0.5,0.5,0.5,0.5,0.5,0.5,0.5,0.5,0.5,0.5,0.5,0.5,0.5,0.5,0.5,0.5,0.5,0.5,0.5,0.5,0.5,0.5,0.5,0.5,0.5,0.5,0.5,0.5,0.5,0.5,0.5,0.5,0.5,0.5,0.5,0.5,0.5,0.5,0.5,0.5,0.5,0.5,0.5,0.5,0.5,0.5,0.5,0.5,0.5,0.5,0.5,0.5,0.5,0.5,0.5,0.5,0.5,0.5,0.5,0.5,0.5,0.5,0.5]
[null,"CO2排出量独自石炭（原料炭）",0.5,0.5,0.5,0.5,0.5,0.5,0.5,0.5,0.5,0.5,0.5,0.5,0.5,0.5,0.5,0.5,0.5,0.5,0.5,0.5,0.5,0.5,0.5,0.5,0.5,0.5,0.5,0.5,0.5,0.5,0.5,0.5,0.5,0.5,0.5,0.5,0.5,0.5,0.5,0.5,0.5,0.5,0.5,0.5,0.5,0.5,0.5,0.5,0.5,0.5,0.5,0.5,0.5,0.5,0.5,0.5,0.5,0.5,0.5,0.5,0.5,0.5,0.5,0.5,0.5,0.5,0.5,0.5,0.5,0.5,0.5,0.5,0.5,0.5,0.5,0.5,0.5,0.5,0.5,0.5,0.5]
[null,"CO2排出量独自石炭（一般炭）",0.5,0.5,0.5,0.5,0.5,0.5,0.5,0.5,0.5,0.5,0.5,0.5,0.5,0.5,0.5,0.5,0.5,0.5,0.5,0.5,0.5,0.5,0.5,0.5,0.5,0.5,0.5,0.5,0.5,0.5,0.5,0.5,0.5,0.5,0.5,0.5,0.5,0.5,0.5,0.5,0.5,0.5,0.5,0.5,0.5,0.5,0.5,0.5,0.5,0.5,0.5,0.5,0.5,0.5,0.5,0.5,0.5,0.5,0.5,0.5,0.5,0.5,0.5,0.5,0.5,0.5,0.5,0.5,0.5,0.5,0.5,0.5,0.5,0.5,0.5,0.5,0.5,0.5,0.5,0.5,0.5]
[null,"CO2排出量独自石炭（無煙炭）",0.5,0.5,0.5,0.5,0.5,0.5,0.5,0.5,0.5,0.5,0.5,0.5,0.5,0.5,0.5,0.5,0.5,0.5,0.5,0.5,0.5,0.5,0.5,0.5,0.5,0.5,0.5,0.5,0.5,0.5,0.5,0.5,0.5,0.5,0.5,0.5,0.5,0.5,0.5,0.5,0.5,0.5,0.5,0.5,0.5,0.5,0.5,0.5,0.5,0.5,0.5,0.5,0.5,0.5,0.5,0.5,0.5,0.5,0.5,0.5,0.5,0.5,0.5,0.5,0.5,0.5,0.5,0.5,0.5,0.5,0.5,0.5,0.5,0.5,0.5,0.5,0.5,0.5,0.5,0.5,0.5]
[null,"CO2排出量独自都市ガス（CNGを含む。）",0.5,0.5,0.5,0.5,0.5,0.5,0.5,0.5,0.5,0.5,0.5,0.5,0.5,0.5,0.5,0.5,0.5,0.5,0.5,0.5,0.5,0.5,0.5,0.5,0.5,0.5,0.5,0.5,0.5,0.5,0.5,0.5,0.5,0.5,0.5,0.5,0.5,0.5,0.5,0.5,0.5,0.5,0.5,0.5,0.5,0.5,0.5,0.5,0.5,0.5,0.5,0.5,0.5,0.5,0.5,0.5,0.5,0.5,0.5,0.5,0.5,0.5,0.5,0.5,0.5,0.5,0.5,0.5,0.5,0.5,0.5,0.5,0.5,0.5,0.5,0.5,0.5,0.5,0.5,0.5,0.5]
[null,"CO2排出量独自昼間買電",0.5,0.5,0.5,0.5,0.5,0.5,0.5,0.5,0.5,0.5,0.5,0.5,0.5,0.5,0.5,0.5,0.5,0.5,0.5,0.5,0.5,0.5,0.5,0.5,0.5,0.5,0.5,0.5,0.5,0.5,0.5,0.5,0.5,0.5,0.5,0.5,0.5,0.5,0.5,0.5,0.5,0.5,0.5,0.5,0.5,0.5,0.5,0.5,0.5,0.5,0.5,0.5,0.5,0.5,0.5,0.5,0.5,0.5,0.5,0.5,0.5,0.5,0.5,0.5,0.5,0.5,0.5,0.5,0.5,0.5,0.5,0.5,0.5,0.5,0.5,0.5,0.5,0.5,0.5,0.5,0.5]
[null,"CO2排出量独自夏季・冬季における電気需要平準化時間帯",0.5,0.5,0.5,0.5,0.5,0.5,0.5,0.5,0.5,0.5,0.5,0.5,0.5,0.5,0.5,0.5,0.5,0.5,0.5,0.5,0.5,0.5,0.5,0.5,0.5,0.5,0.5,0.5,0.5,0.5,0.5,0.5,0.5,0.5,0.5,0.5,0.5,0.5,0.5,0.5,0.5,0.5,0.5,0.5,0.5,0.5,0.5,0.5,0.5,0.5,0.5,0.5,0.5,0.5,0.5,0.5,0.5,0.5,0.5,0.5,0.5,0.5,0.5,0.5,0.5,0.5,0.5,0.5,0.5,0.5,0.5,0.5,0.5,0.5,0.5,0.5,0.5,0.5,0.5,0.5,0.5]
[null,"CO2排出量独自夜間買電",0.5,0.5,0.5,0.5,0.5,0.5,0.5,0.5,0.5,0.5,0.5,0.5,0.5,0.5,0.5,0.5,0.5,0.5,0.5,0.5,0.5,0.5,0.5,0.5,0.5,0.5,0.5,0.5,0.5,0.5,0.5,0.5,0.5,0.5,0.5,0.5,0.5,0.5,0.5,0.5,0.5,0.5,0.5,0.5,0.5,0.5,0.5,0.5,0.5,0.5,0.5,0.5,0.5,0.5,0.5,0.5,0.5,0.5,0.5,0.5,0.5,0.5,0.5,0.5,0.5,0.5,0.5,0.5,0.5,0.5,0.5,0.5,0.5,0.5,0.5,0.5,0.5,0.5,0.5,0.5,0.5]
[null,"CO2排出量独自上記以外の買電",0.5,0.5,0.5,0.5,0.5,0.5,0.5,0.5,0.5,0.5,0.5,0.5,0.5,0.5,0.5,0.5,0.5,0.5,0.5,0.5,0.5,0.5,0.5,0.5,0.5,0.5,0.5,0.5,0.5,0.5,0.5,0.5,0.5,0.5,0.5,0.5,0.5,0.5,0.5,0.5,0.5,0.5,0.5,0.5,0.5,0.5,0.5,0.5,0.5,0.5,0.5,0.5,0.5,0.5,0.5,0.5,0.5,0.5,0.5,0.5,0.5,0.5,0.5,0.5,0.5,0.5,0.5,0.5,0.5,0.5,0.5,0.5,0.5,0.5,0.5,0.5,0.5,0.5,0.5,0.5,0.5]
[null,"その他エネルギー名",0.5,0.5,0.5,0.5,0.5,0.5,0.5,0.5,0.5,0.5,0.5,0.5,0.5,0.5,0.5,0.5,0.5,0.5,0.5,0.5,0.5,0.5,0.5,0.5,0.5,0.5,0.5,0.5,0.5,0.5,0.5,0.5,0.5,0.5,0.5,0.5,0.5,0.5,0.5,0.5,0.5,0.5,0.5,0.5,0.5,0.5,0.5,0.5,0.5,0.5,0.5,0.5,0.5,0.5,0.5,0.5,0.5,0.5,0.5,0.5,0.5,0.5,0.5,0.5,0.5,0.5,0.5,0.5,0.5,0.5,0.5,0.5,0.5,0.5,0.5,0.5,0.5,0.5,0.5,0.5,0.5]
[null,"その他エネルギー単位",0.5,0.5,0.5,0.5,0.5,0.5,0.5,0.5,0.5,0.5,0.5,0.5,0.5,0.5,0.5,0.5,0.5,0.5,0.5,0.5,0.5,0.5,0.5,0.5,0.5,0.5,0.5,0.5,0.5,0.5,0.5,0.5,0.5,0.5,0.5,0.5,0.5,0.5,0.5,0.5,0.5,0.5,0.5,0.5,0.5,0.5,0.5,0.5,0.5,0.5,0.5,0.5,0.5,0.5,0.5,0.5,0.5,0.5,0.5,0.5,0.5,0.5,0.5,0.5,0.5,0.5,0.5,0.5,0.5,0.5,0.5,0.5,0.5,0.5,0.5,0.5,0.5,0.5,0.5,0.5,0.5]
[null,"その他エネルギー値",0.5,0.5,0.5,0.5,0.5,0.5,0.5,0.5,0.5,0.5,0.5,0.5,0.5,0.5,0.5,0.5,0.5,0.5,0.5,0.5,0.5,0.5,0.5,0.5,0.5,0.5,0.5,0.5,0.5,0.5,0.5,0.5,0.5,0.5,0.5,0.5,0.5,0.5,0.5,0.5,0.5,0.5,0.5,0.5,0.5,0.5,0.5,0.5,0.5,0.5,0.5,0.5,0.5,0.5,0.5,0.5,0.5,0.5,0.5,0.5,0.5,0.5,0.5,0.5,0.5,0.5,0.5,0.5,0.5,0.5,0.5,0.5,0.5,0.5,0.5,0.5,0.5,0.5,0.5,0.5,0.5]
[null,"その他エネルギー熱量GJ",0.5,0.5,0.5,0.5,0.5,0.5,0.5,0.5,0.5,0.5,0.5,0.5,0.5,0.5,0.5,0.5,0.5,0.5,0.5,0.5,0.5,0.5,0.5,0.5,0.5,0.5,0.5,0.5,0.5,0.5,0.5,0.5,0.5,0.5,0.5,0.5,0.5,0.5,0.5,0.5,0.5,0.5,0.5,0.5,0.5,0.5,0.5,0.5,0.5,0.5,0.5,0.5,0.5,0.5,0.5,0.5,0.5,0.5,0.5,0.5,0.5,0.5,0.5,0.5,0.5,0.5,0.5,0.5,0.5,0.5,0.5,0.5,0.5,0.5,0.5,0.5,0.5,0.5,0.5,0.5,0.5]
[null,"その他エネルギーCO2排出量",0.5,0.5,0.5,0.5,0.5,0.5,0.5,0.5,0.5,0.5,0.5,0.5,0.5,0.5,0.5,0.5,0.5,0.5,0.5,0.5,0.5,0.5,0.5,0.5,0.5,0.5,0.5,0.5,0.5,0.5,0.5,0.5,0.5,0.5,0.5,0.5,0.5,0.5,0.5,0.5,0.5,0.5,0.5,0.5,0.5,0.5,0.5,0.5,0.5,0.5,0.5,0.5,0.5,0.5,0.5,0.5,0.5,0.5,0.5,0.5,0.5,0.5,0.5,0.5,0.5,0.5,0.5,0.5,0.5,0.5,0.5,0.5,0.5,0.5,0.5,0.5,0.5,0.5,0.5,0.5,0.5]
["第3表開始値","量",0.5,0.5,0.5,0.5,0.5,0.5,0.5,0.5,0.5,0.5,0.5,0.5,0.5,0.5,0.5,0.5,0.5,0.5,0.5,0.5,0.5,0.5,0.5,0.5,0.5,0.5,0.5,0.5,0.5,0.5,0.5,0.5,0.5,0.5,0.5,0.5,0.5,0.5,0.5,0.5,0.5,0.5,0.5,0.5,0.5,0.5,0.5,0.5,0.5,0.5,0.5,0.5,0.5,0.5,0.5,0.5,0.5,0.5,0.5,0.5,0.5,0.5,0.5,0.5,0.5,0.5,0.5,0.5,0.5,0.5,0.5,0.5,0.5,0.5,0.5,0.5,0.5,0.5,0.5,0.5,0.5]
[]
[null,"→年度",1970,1971,1972,1973,1974,1975,1976,1977,1978,1979,1980,1981,1982,1983,1984,1985,1986,1987,1988,1989,1990,1991,1992,1993,1994,1995,1996,1997,1998,1999,2000,2001,2002,2003,2004,2005,2006,2007,2008,2009,2010,2011,2012,2013,2014,2015,2016,2017,2018,2019,2020,2021,2022,2023,2024,2025,2026,2027,2028,2029,2030,2031,2032,2033,2034,2035,2036,2037,2038,2039,2040,2041,2042,2043,2044,2045,2046,2047,2048,2049,2050]
["第１表終了値","揮発油",2,2,2,2,2,2,2,2,2,2,2,2,2,2,2,2,2,2,2,2,2,2,2,2,2,2,2,2,2,2,2,2,2,2,2,2,2,2,2,2,2,2,2,2,2,2,2,2,2,2,2,2,2,2,2,2,2,2,2,2,2,2,2,2,2,2,2,2,2,2,2,2,2,2,2,2,2,2,2,2,2]
[null,"ジェット燃料油",2,2,2,2,2,2,2,2,2,2,2,2,2,2,2,2,2,2,2,2,2,2,2,2,2,2,2,2,2,2,2,2,2,2,2,2,2,2,2,2,2,2,2,2,2,2,2,2,2,2,2,2,2,2,2,2,2,2,2,2,2,2,2,2,2,2,2,2,2,2,2,2,2,2,2,2,2,2,2,2,2]
[null,"軽油",2,2,2,2,2,2,2,2,2,2,2,2,2,2,2,2,2,2,2,2,2,2,2,2,2,2,2,2,2,2,2,2,2,2,2,2,2,2,2,2,2,2,2,2,2,2,2,2,2,2,2,2,2,2,2,2,2,2,2,2,2,2,2,2,2,2,2,2,2,2,2,2,2,2,2,2,2,2,2,2,2]
[null,"Ａ重油",2,2,2,2,2,2,2,2,2,2,2,2,2,2,2,2,2,2,2,2,2,2,2,2,2,2,2,2,2,2,2,2,2,2,2,2,2,2,2,2,2,2,2,2,2,2,2,2,2,2,2,2,2,2,2,2,2,2,2,2,2,2,2,2,2,2,2,2,2,2,2,2,2,2,2,2,2,2,2,2,2]
[null,"Ｂ・Ｃ重油",2,2,2,2,2,2,2,2,2,2,2,2,2,2,2,2,2,2,2,2,2,2,2,2,2,2,2,2,2,2,2,2,2,2,2,2,2,2,2,2,2,2,2,2,2,2,2,2,2,2,2,2,2,2,2,2,2,2,2,2,2,2,2,2,2,2,2,2,2,2,2,2,2,2,2,2,2,2,2,2,2]
[null,"液化石油ガス(ＬＰＧ)",2,2,2,2,2,2,2,2,2,2,2,2,2,2,2,2,2,2,2,2,2,2,2,2,2,2,2,2,2,2,2,2,2,2,2,2,2,2,2,2,2,2,2,2,2,2,2,2,2,2,2,2,2,2,2,2,2,2,2,2,2,2,2,2,2,2,2,2,2,2,2,2,2,2,2,2,2,2,2,2,2]
[null,"液化天然ガス(ＬＮＧ)",2,2,2,2,2,2,2,2,2,2,2,2,2,2,2,2,2,2,2,2,2,2,2,2,2,2,2,2,2,2,2,2,2,2,2,2,2,2,2,2,2,2,2,2,2,2,2,2,2,2,2,2,2,2,2,2,2,2,2,2,2,2,2,2,2,2,2,2,2,2,2,2,2,2,2,2,2,2,2,2,2]
[null,"石炭（原料炭）",2,2,2,2,2,2,2,2,2,2,2,2,2,2,2,2,2,2,2,2,2,2,2,2,2,2,2,2,2,2,2,2,2,2,2,2,2,2,2,2,2,2,2,2,2,2,2,2,2,2,2,2,2,2,2,2,2,2,2,2,2,2,2,2,2,2,2,2,2,2,2,2,2,2,2,2,2,2,2,2,2]
[null,"石炭（一般炭）",2,2,2,2,2,2,2,2,2,2,2,2,2,2,2,2,2,2,2,2,2,2,2,2,2,2,2,2,2,2,2,2,2,2,2,2,2,2,2,2,2,2,2,2,2,2,2,2,2,2,2,2,2,2,2,2,2,2,2,2,2,2,2,2,2,2,2,2,2,2,2,2,2,2,2,2,2,2,2,2,2]
[null,"石炭（無煙炭）",2,2,2,2,2,2,2,2,2,2,2,2,2,2,2,2,2,2,2,2,2,2,2,2,2,2,2,2,2,2,2,2,2,2,2,2,2,2,2,2,2,2,2,2,2,2,2,2,2,2,2,2,2,2,2,2,2,2,2,2,2,2,2,2,2,2,2,2,2,2,2,2,2,2,2,2,2,2,2,2,2]
[null,"都市ガス（CNGを含む。）",2,2,2,2,2,2,2,2,2,2,2,2,2,2,2,2,2,2,2,2,2,2,2,2,2,2,2,2,2,2,2,2,2,2,2,2,2,2,2,2,2,2,2,2,2,2,2,2,2,2,2,2,2,2,2,2,2,2,2,2,2,2,2,2,2,2,2,2,2,2,2,2,2,2,2,2,2,2,2,2,2]
[null,"昼間買電",2,2,2,2,2,2,2,2,2,2,2,2,2,2,2,2,2,2,2,2,2,2,2,2,2,2,2,2,2,2,2,2,2,2,2,2,2,2,2,2,2,2,2,2,2,2,2,2,2,2,2,2,2,2,2,2,2,2,2,2,2,2,2,2,2,2,2,2,2,2,2,2,2,2,2,2,2,2,2,2,2]
[null,"夏季・冬季における電気需要平準化時間帯",2,2,2,2,2,2,2,2,2,2,2,2,2,2,2,2,2,2,2,2,2,2,2,2,2,2,2,2,2,2,2,2,2,2,2,2,2,2,2,2,2,2,2,2,2,2,2,2,2,2,2,2,2,2,2,2,2,2,2,2,2,2,2,2,2,2,2,2,2,2,2,2,2,2,2,2,2,2,2,2,2]
[null,"夜間買電",2,2,2,2,2,2,2,2,2,2,2,2,2,2,2,2,2,2,2,2,2,2,2,2,2,2,2,2,2,2,2,2,2,2,2,2,2,2,2,2,2,2,2,2,2,2,2,2,2,2,2,2,2,2,2,2,2,2,2,2,2,2,2,2,2,2,2,2,2,2,2,2,2,2,2,2,2,2,2,2,2]
[null,"上記以外の買電",2,2,2,2,2,2,2,2,2,2,2,2,2,2,2,2,2,2,2,2,2,2,2,2,2,2,2,2,2,2,2,2,2,2,2,2,2,2,2,2,2,2,2,2,2,2,2,2,2,2,2,2,2,2,2,2,2,2,2,2,2,2,2,2,2,2,2,2,2,2,2,2,2,2,2,2,2,2,2,2,2]
[null,"自家発電",2,2,2,2,2,2,2,2,2,2,2,2,2,2,2,2,2,2,2,2,2,2,2,2,2,2,2,2,2,2,2,2,2,2,2,2,2,2,2,2,2,2,2,2,2,2,2,2,2,2,2,2,2,2,2,2,2,2,2,2,2,2,2,2,2,2,2,2,2,2,2,2,2,2,2,2,2,2,2,2,2]
[null,"CO2排出量独自揮発油",2,2,2,2,2,2,2,2,2,2,2,2,2,2,2,2,2,2,2,2,2,2,2,2,2,2,2,2,2,2,2,2,2,2,2,2,2,2,2,2,2,2,2,2,2,2,2,2,2,2,2,2,2,2,2,2,2,2,2,2,2,2,2,2,2,2,2,2,2,2,2,2,2,2,2,2,2,2,2,2,2]
[null,"CO2排出量独自ジェット燃料油",2,2,2,2,2,2,2,2,2,2,2,2,2,2,2,2,2,2,2,2,2,2,2,2,2,2,2,2,2,2,2,2,2,2,2,2,2,2,2,2,2,2,2,2,2,2,2,2,2,2,2,2,2,2,2,2,2,2,2,2,2,2,2,2,2,2,2,2,2,2,2,2,2,2,2,2,2,2,2,2,2]
[null,"CO2排出量独自軽油",2,2,2,2,2,2,2,2,2,2,2,2,2,2,2,2,2,2,2,2,2,2,2,2,2,2,2,2,2,2,2,2,2,2,2,2,2,2,2,2,2,2,2,2,2,2,2,2,2,2,2,2,2,2,2,2,2,2,2,2,2,2,2,2,2,2,2,2,2,2,2,2,2,2,2,2,2,2,2,2,2]
[null,"CO2排出量独自Ａ重油",2,2,2,2,2,2,2,2,2,2,2,2,2,2,2,2,2,2,2,2,2,2,2,2,2,2,2,2,2,2,2,2,2,2,2,2,2,2,2,2,2,2,2,2,2,2,2,2,2,2,2,2,2,2,2,2,2,2,2,2,2,2,2,2,2,2,2,2,2,2,2,2,2,2,2,2,2,2,2,2,2]
[null,"CO2排出量独自Ｂ・Ｃ重油",2,2,2,2,2,2,2,2,2,2,2,2,2,2,2,2,2,2,2,2,2,2,2,2,2,2,2,2,2,2,2,2,2,2,2,2,2,2,2,2,2,2,2,2,2,2,2,2,2,2,2,2,2,2,2,2,2,2,2,2,2,2,2,2,2,2,2,2,2,2,2,2,2,2,2,2,2,2,2,2,2]
[null,"CO2排出量独自液化石油ガス(ＬＰＧ)",2,2,2,2,2,2,2,2,2,2,2,2,2,2,2,2,2,2,2,2,2,2,2,2,2,2,2,2,2,2,2,2,2,2,2,2,2,2,2,2,2,2,2,2,2,2,2,2,2,2,2,2,2,2,2,2,2,2,2,2,2,2,2,2,2,2,2,2,2,2,2,2,2,2,2,2,2,2,2,2,2]
[null,"CO2排出量独自液化天然ガス(ＬＮＧ)",2,2,2,2,2,2,2,2,2,2,2,2,2,2,2,2,2,2,2,2,2,2,2,2,2,2,2,2,2,2,2,2,2,2,2,2,2,2,2,2,2,2,2,2,2,2,2,2,2,2,2,2,2,2,2,2,2,2,2,2,2,2,2,2,2,2,2,2,2,2,2,2,2,2,2,2,2,2,2,2,2]
[null,"CO2排出量独自石炭（原料炭）",2,2,2,2,2,2,2,2,2,2,2,2,2,2,2,2,2,2,2,2,2,2,2,2,2,2,2,2,2,2,2,2,2,2,2,2,2,2,2,2,2,2,2,2,2,2,2,2,2,2,2,2,2,2,2,2,2,2,2,2,2,2,2,2,2,2,2,2,2,2,2,2,2,2,2,2,2,2,2,2,2]
[null,"CO2排出量独自石炭（一般炭）",2,2,2,2,2,2,2,2,2,2,2,2,2,2,2,2,2,2,2,2,2,2,2,2,2,2,2,2,2,2,2,2,2,2,2,2,2,2,2,2,2,2,2,2,2,2,2,2,2,2,2,2,2,2,2,2,2,2,2,2,2,2,2,2,2,2,2,2,2,2,2,2,2,2,2,2,2,2,2,2,2]
[null,"CO2排出量独自石炭（無煙炭）",2,2,2,2,2,2,2,2,2,2,2,2,2,2,2,2,2,2,2,2,2,2,2,2,2,2,2,2,2,2,2,2,2,2,2,2,2,2,2,2,2,2,2,2,2,2,2,2,2,2,2,2,2,2,2,2,2,2,2,2,2,2,2,2,2,2,2,2,2,2,2,2,2,2,2,2,2,2,2,2,2]
[null,"CO2排出量独自都市ガス（CNGを含む。）",2,2,2,2,2,2,2,2,2,2,2,2,2,2,2,2,2,2,2,2,2,2,2,2,2,2,2,2,2,2,2,2,2,2,2,2,2,2,2,2,2,2,2,2,2,2,2,2,2,2,2,2,2,2,2,2,2,2,2,2,2,2,2,2,2,2,2,2,2,2,2,2,2,2,2,2,2,2,2,2,2]
[null,"CO2排出量独自昼間買電",2,2,2,2,2,2,2,2,2,2,2,2,2,2,2,2,2,2,2,2,2,2,2,2,2,2,2,2,2,2,2,2,2,2,2,2,2,2,2,2,2,2,2,2,2,2,2,2,2,2,2,2,2,2,2,2,2,2,2,2,2,2,2,2,2,2,2,2,2,2,2,2,2,2,2,2,2,2,2,2,2]
[null,"CO2排出量独自夏季・冬季における電気需要平準化時間帯",2,2,2,2,2,2,2,2,2,2,2,2,2,2,2,2,2,2,2,2,2,2,2,2,2,2,2,2,2,2,2,2,2,2,2,2,2,2,2,2,2,2,2,2,2,2,2,2,2,2,2,2,2,2,2,2,2,2,2,2,2,2,2,2,2,2,2,2,2,2,2,2,2,2,2,2,2,2,2,2,2]
[null,"CO2排出量独自夜間買電",2,2,2,2,2,2,2,2,2,2,2,2,2,2,2,2,2,2,2,2,2,2,2,2,2,2,2,2,2,2,2,2,2,2,2,2,2,2,2,2,2,2,2,2,2,2,2,2,2,2,2,2,2,2,2,2,2,2,2,2,2,2,2,2,2,2,2,2,2,2,2,2,2,2,2,2,2,2,2,2,2]
[null,"CO2排出量独自上記以外の買電",2,2,2,2,2,2,2,2,2,2,2,2,2,2,2,2,2,2,2,2,2,2,2,2,2,2,2,2,2,2,2,2,2,2,2,2,2,2,2,2,2,2,2,2,2,2,2,2,2,2,2,2,2,2,2,2,2,2,2,2,2,2,2,2,2,2,2,2,2,2,2,2,2,2,2,2,2,2,2,2,2]
[null,"その他エネルギー名",2,2,2,2,2,2,2,2,2,2,2,2,2,2,2,2,2,2,2,2,2,2,2,2,2,2,2,2,2,2,2,2,2,2,2,2,2,2,2,2,2,2,2,2,2,2,2,2,2,2,2,2,2,2,2,2,2,2,2,2,2,2,2,2,2,2,2,2,2,2,2,2,2,2,2,2,2,2,2,2,2]
[null,"その他エネルギー単位",2,2,2,2,2,2,2,2,2,2,2,2,2,2,2,2,2,2,2,2,2,2,2,2,2,2,2,2,2,2,2,2,2,2,2,2,2,2,2,2,2,2,2,2,2,2,2,2,2,2,2,2,2,2,2,2,2,2,2,2,2,2,2,2,2,2,2,2,2,2,2,2,2,2,2,2,2,2,2,2,2]
[null,"その他エネルギー値",2,2,2,2,2,2,2,2,2,2,2,2,2,2,2,2,2,2,2,2,2,2,2,2,2,2,2,2,2,2,2,2,2,2,2,2,2,2,2,2,2,2,2,2,2,2,2,2,2,2,2,2,2,2,2,2,2,2,2,2,2,2,2,2,2,2,2,2,2,2,2,2,2,2,2,2,2,2,2,2,2]
[null,"その他エネルギー熱量GJ",2,2,2,2,2,2,2,2,2,2,2,2,2,2,2,2,2,2,2,2,2,2,2,2,2,2,2,2,2,2,2,2,2,2,2,2,2,2,2,2,2,2,2,2,2,2,2,2,2,2,2,2,2,2,2,2,2,2,2,2,2,2,2,2,2,2,2,2,2,2,2,2,2,2,2,2,2,2,2,2,2]
[null,"その他エネルギーCO2排出量",2,2,2,2,2,2,2,2,2,2,2,2,2,2,2,2,2,2,2,2,2,2,2,2,2,2,2,2,2,2,2,2,2,2,2,2,2,2,2,2,2,2,2,2,2,2,2,2,2,2,2,2,2,2,2,2,2,2,2,2,2,2,2,2,2,2,2,2,2,2,2,2,2,2,2,2,2,2,2,2,2]
["第3表終了値","量",2,2,2,2,2,2,2,2,2,2,2,2,2,2,2,2,2,2,2,2,2,2,2,2,2,2,2,2,2,2,2,2,2,2,2,2,2,2,2,2,2,2,2,2,2,2,2,2,2,2,2,2,2,2,2,2,2,2,2,2,2,2,2,2,2,2,2,2,2,2,2,2,2,2,2,2,2,2,2,2,2]

{"sheet":"入力履歴","index":28,"n_rows":118,"n_cols":872,"rows_kept":69,"cut":true,"hidden":true,"merged":[[12,0,16,0],[12,1,16,1],[12,2,12,38],[12,39,12,76],[12,77,12,114],[12,115,12,152],[14,10,16,19],[14,20,16,28],[14,29,16,29],[12,534,12,537],[12,538,12,541],[12,542,12,545],[12,546,12,553],[12,554,12,561],[12,562,12,569],[12,153,12,190],[12,191,12,228],[12,229,12,266],[12,267,12,304],[12,305,12,342],[12,343,12,380],[12,820,12,830],[12,831,12,839],[12,840,12,848],[12,849,12,857],[12,570,12,619],[12,620,12,669],[12,670,12,719],[12,768,12,784],[12,785,12,797],[12,752,12,759],[12,760,12,767],[12,736,12,743],[12,744,12,751],[12,720,12,727],[12,728,12,735],[12,870,16,870],[12,871,16,871],[14,2,16,2],[14,3,16,3],[14,4,16,4],[14,5,16,5],[14,6,16,6],[14,7,16,7],[14,8,16,8],[14,9,16,9],[12,864,16,864],[12,865,16,865],[12,866,16,866],[12,867,16,867],[12,868,16,868],[12,869,16,869],[12,858,16,858],[12,859,16,859],[12,860,16,860],[12,861,16,861],[12,862,16,862],[12,863,16,863],[12,798,12,811],[12,812,12,819],[14,381,16,381],[14,382,16,382],[14,383,14,387],[14,388,14,392],[14,393,14,397],[14,398,14,402],[15,391,16,391],[15,392,16,392],[15,393,16,393],[15,394,16,394],[15,401,16,401],[15,402,16,402],[14,433,14,437],[14,438,14,442],[14,443,14,447],[14,448,14,452],[14,453,14,457],[14,458,14,465],[14,403,14,407],[14,408,14,412],[14,413,14,417],[14,418,14,422],[14,423,14,427],[14,428,14,432],[14,490,14,493],[14,494,14,497],[14,498,14,501],[14,502,14,505],[14,506,14,509],[14,510,14,513],[14,466,14,469],[14,470,14,473],[14,474,14,477],[14,478,14,481],[14,482,14,485],[14,486,14,489],[14,514,14,517],[14,518,14,521],[14,522,14,525],[14,526,14,529],[14,530,14,533],[14,534,15,535],[15,519,16,519],[15,520,16,520],[15,521,16,521],[15,522,16,522],[15,529,16,529],[15,530,16,530],[15,531,16,531],[15,532,16,532],[15,533,16,533],[15,523,16,523],[15,524,16,524],[15,525,16,525],[15,526,16,526],[15,527,16,527],[15,528,16,528],[14,585,14,594],[14,595,14,609],[14,610,14,619],[14,620,14,634],[14,635,14,644],[14,645,14,659],[14,560,15,561],[14,562,15,563],[14,564,15,565],[14,566,15,567],[14,568,15,569],[14,570,14,584],[15,575,15,579],[15,580,15,584],[15,570,15,574],[15,615,15,619],[15,620,15,624],[15,625,15,629],[15,630,15,634],[15,635,15,639],[15,640,15,644],[15,585,15,589],[15,590,15,594],[15,595,15,599],[14,660,14,669],[14,670,14,684],[14,685,14,694],[14,695,14,709],[14,710,14,719],[14,752,16,755],[15,675,15,679],[15,680,15,684],[15,685,15,689],[15,690,15,694],[14,736,16,739],[14,740,16,743],[14,744,16,747],[14,748,16,751],[14,720,16,723],[14,724,16,727],[14,728,16,731],[14,732,16,735],[14,779,14,781],[14,782,14,784],[14,785,14,789],[14,790,14,791],[14,792,14,794],[14,796,14,797],[14,756,16,759],[14,760,16,763],[14,764,16,767],[14,768,14,772],[14,773,14,774],[14,775,14,777],[15,769,16,769],[15,770,16,770],[15,771,16,771],[15,772,16,772],[15,779,16,779],[15,780,16,780],[15,781,16,781],[15,782,16,782],[15,783,16,783],[15,784,16,784],[15,773,16,773],[15,774,16,774],[14,820,16,820],[14,821,16,828],[14,829,16,829],[14,830,16,830],[14,831,16,831],[14,832,16,832],[14,798,14,802],[14,803,14,804],[14,805,14,807],[14,809,14,810],[14,812,16,815],[14,816,16,819],[15,803,16,803],[15,804,16,804],[15,805,16,805],[15,806,16,806],[15,809,16,809],[15,810,16,810],[15,811,16,811],[15,807,16,807],[15,808,16,808],[14,841,16,841],[14,842,16,842],[14,843,16,843],[14,844,16,844],[14,833,16,833],[14,834,16,834],[14,835,16,835],[14,836,16,836],[14,837,16,837],[14,838,16,838],[14,857,16,857],[15,30,15,33],[15,383,16,383],[15,384,16,384],[15,385,16,385],[15,386,16,386],[15,387,16,387],[15,388,16,388],[15,389,16,389],[15,390,16,390],[14,851,16,851],[14,852,16,852],[14,853,16,853],[14,854,16,854],[14,855,16,855],[14,856,16,856],[14,845,16,845],[14,846,16,846],[14,847,16,847],[14,848,16,848],[14,849,16,849],[14,850,16,850],[14,839,16,839],[14,840,16,840],[15,403,16,403],[15,404,16,404],[15,405,16,405],[15,406,16,406],[15,395,16,395],[15,396,16,396],[15,397,16,397],[15,398,16,398],[15,399,16,399],[15,400,16,400],[15,413,16,413],[15,414,16,414],[15,415,16,415],[15,416,16,416],[15,417,16,417],[15,418,16,418],[15,407,16,407],[15,408,16,408],[15,409,16,409],[15,410,16,410],[15,411,16,411],[15,412,16,412],[15,425,16,425],[15,426,16,426],[15,427,16,427],[15,428,16,428],[15,429,16,429],[15,430,16,430],[15,419,16,419],[15,420,16,420],[15,421,16,421],[15,422,16,422],[15,423,16,423],[15,424,16,424],[15,437,16,437],[15,438,16,438],[15,439,16,439],[15,440,16,440],[15,441,16,441],[15,442,16,442],[15,431,16,431],[15,432,16,432],[15,433,16,433],[15,434,16,434],[15,435,16,435],[15,436,16,436],[15,449,16,449],[15,450,16,450],[15,451,16,451],[15,452,16,452],[15,453,16,453],[15,454,16,454],[15,443,16,443],[15,444,16,444],[15,445,16,445],[15,446,16,446],[15,447,16,447],[15,448,16,448],[15,461,16,461],[15,462,16,462],[15,463,16,463],[15,464,16,464],[15,465,16,465],[15,466,16,466],[15,455,16,455],[15,456,16,456],[15,457,16,457],[15,458,16,458],[15,459,16,459],[15,460,16,460],[15,473,16,473],[15,474,16,474],[15,475,16,475],[15,476,16,476],[15,477,16,477],[15,478,16,478],[15,467,16,467],[15,468,16,468],[15,469,16,469],[15,470,16,470],[15,471,16,471],[15,472,16,472],[15,485,16,485],[15,486,16,486],[15,487,16,487],[15,488,16,488],[15,489,16,489],[15,490,16,490],[15,479,16,479],[15,480,16,480],[15,481,16,481],[15,482,16,482],[15,483,16,483],[15,484,16,484],[15,497,16,497],[15,498,16,498],[15,499,16,499],[15,500,16,500],[15,501,16,501],[15,502,16,502],[15,491,16,491],[15,492,16,492],[15,493,16,493],[15,494,16,494],[15,495,16,495],[15,496,16,496],[15,509,16,509],[15,510,16,510],[15,511,16,511],[15,512,16,512],[15,513,16,513],[15,518,16,518],[15,503,16,503],[15,504,16,504],[15,505,16,505],[15,506,16,506],[15,507,16,507],[15,508,16,508],[14,548,15,549],[14,550,15,551],[14,552,15,553],[14,554,15,555],[14,556,15,557],[14,558,15,559],[14,536,15,537],[14,538,15,539],[14,540,15,541],[14,542,15,543],[14,544,15,545],[14,546,15,547],[15,600,15,604],[15,605,15,609],[15,610,15,614],[15,695,15,699],[15,700,15,704],[15,705,15,709],[15,710,15,714],[15,715,15,719],[15,768,16,768],[15,645,15,649],[15,650,15,654],[15,655,15,659],[15,660,15,664],[15,665,15,669],[15,670,15,674],[15,797,16,797],[15,798,16,798],[15,799,16,799],[15,800,16,800],[15,801,16,801],[15,802,16,802],[15,775,16,775],[15,776,16,776],[15,777,16,777],[15,778,16,778],[15,791,16,791],[15,792,16,792],[15,793,16,793],[15,794,16,794],[15,795,16,795],[30,724,30,727],[30,720,30,723],[31,720,31,723],[15,796,16,796],[15,785,16,785],[15,786,16,786],[15,787,16,787],[15,788,16,788],[15,789,16,789],[15,790,16,790]],"bounds":{"rows_first":31,"rows_last":7,"rows_between":31,"halvings":6}}
[null,"様式名","表紙","表紙","表紙","表紙","表紙","表紙","表紙","表紙","表紙","表紙","表紙","表紙","表紙","表紙","表紙","表紙","表紙","表紙","表紙","表紙","表紙","表紙","表紙","表紙","表紙","表紙","表紙","表紙","表紙","表紙","表紙","表紙","表紙","表紙","表紙","表紙","表紙","第1表(1)_貨物","第1表(1)_貨物","第1表(1)_貨物","第1表(1)_貨物","第1表(1)_貨物","第1表(1)_貨物","第1表(1)_貨物","第1表(1)_貨物","第1表(1)_貨物","第1表(1)_貨物","第1表(1)_貨物","第1表(1)_貨物","第1表(1)_貨物","第1表(1)_貨物","第1表(1)_貨物","第1表(1)_貨物","第1表(1)_貨物","第1表(1)_貨物","第1表(1)_貨物","第1表(1)_貨物","第1表(1)_貨物","第1表(1)_貨物","第1表(1)_貨物","第1表(1)_貨物","第1表(1)_貨物","第1表(1)_貨物","第1表(1)_貨物","第1表(1)_貨物","第1表(1)_貨物","第1表(1)_貨物","第1表(1)_貨物","第1表(1)_貨物","第1表(1)_貨物","第1表(1)_貨物","第1表(1)_貨物","第1表(1)_貨物","第1表(1)_貨物","第1表(1)_貨物","第1表(1)_貨物","第1表(1)_貨物","第1表(1)_貨物","第1表(1)_貨物","第1表(1)_貨物","第1表(1)_貨物","第1表(1)_貨物","第1表(1)_貨物","第1表(1)_貨物","第1表(1)_貨物","第1表(1)_貨物","第1表(1)_貨物","第1表(1)_貨物","第1表(1)_貨物","第1表(1)_貨物","第1表(1)_貨物","第1表(1)_貨物","第1表(1)_貨物","第1表(1)_貨物","第1表(1)_貨物","第1表(1)_貨物","第1表(1)_貨物","第1表(1)_貨物","第1表(1)_貨物","第1表(1)_貨物","第1表(1)_貨物","第1表(1)_貨物","第1表(1)_貨物","第1表(1)_貨物","第1表(1)_貨物","第1表(1)_貨物","第1表(1)_貨物","第1表(1)_貨物","第1表(1)_貨物","第1表(1)_貨物","第1表(1)_貨物","第1表(1)_貨物","第1表(1)_貨物","第1表(1)_貨物","第1表(1)_貨物","第1表(1)_貨物","第1表(1)_貨物","第1表(1)_貨物","第1表(1)_貨物","第1表(1)_貨物","第1表(1)_貨物","第1表(1)_貨物","第1表(1)_貨物","第1表(1)_貨物","第1表(1)_貨物","第1表(1)_貨物","第1表(1)_貨物","第1表(1)_貨物","第1表(1)_貨物","第1表(1)_貨物","第1表(1)_貨物","第1表(1)_貨物","第1表(1)_貨物","第1表(1)_貨物","第1表(1)_貨物","第1表(1)_貨物","第1表(1)_貨物","第1表(1)_貨物","第1表(1)_貨物","第1表(1)_貨物","第1表(1)_貨物","第1表(1)_貨物","第1表(1)_貨物","第1表(1)_貨物","第1表(1)_貨物","第1表(1)_貨物","第1表(1)_貨物","第1表(1)_貨物","第1表(1)_貨物","第1表(1)_貨物","第1表(1)_貨物","第1表(1)_旅客","第1表(1)_旅客","第1表(1)_旅客","第1表(1)_旅客","第1表(1)_旅客","第1表(1)_旅客","第1表(1)_旅客","第1表(1)_旅客","第1表(1)_旅客","第1表(1)_旅客","第1表(1)_旅客","第1表(1)_旅客","第1表(1)_旅客","第1表(1)_旅客","第1表(1)_旅客","第1表(1)_旅客","第1表(1)_旅客","第1表(1)_旅客","第1表(1)_旅客","第1表(1)_旅客","第1表(1)_旅客","第1表(1)_旅客","第1表(1)_旅客","第1表(1)_旅客","第1表(1)_旅客","第1表(1)_旅客","第1表(1)_旅客","第1表(1)_旅客","第1表(1)_旅客","第1表(1)_旅客","第1表(1)_旅客","第1表(1)_旅客","第1表(1)_旅客","第1表(1)_旅客","第1表(1)_旅客","第1表(1)_旅客","第1表(1)_旅客","第1表(1)_旅客","第1表(1)_旅客","第1表(1)_旅客","第1表(1)_旅客","第1表(1)_旅客","第1表(1)_旅客","第1表(1)_旅客","第1表(1)_旅客","第1表(1)_旅客","第1表(1)_旅客","第1表(1)_旅客","第1表(1)_旅客","第1表(1)_旅客","第1表(1)_旅客","第1表(1)_旅客","第1表(1)_旅客","第1表(1)_旅客","第1表(1)_旅客","第1表(1)_旅客","第1表(1)_旅客","第1表(1)_旅客","第1表(1)_旅客","第1表(1)_旅客","第1表(1)_旅客","第1表(1)_旅客","第1表(1)_旅客","第1表(1)_旅客","第1表(1)_旅客","第1表(1)_旅客","第1表(1)_旅客","第1表(1)_旅客","第1表(1)_旅客","第1表(1)_旅客","第1表(1)_旅客","第1表(1)_旅客","第1表(1)_旅客","第1表(1)_旅客","第1表(1)_旅客","第1表(1)_旅客","第1表(1)_旅客","第1表(1)_旅客","第1表(1)_旅客","第1表(1)_旅客","第1表(1)_旅客","第1表(1)_旅客","第1表(1)_旅客","第1表(1)_旅客","第1表(1)_旅客","第1表(1)_旅客","第1表(1)_旅客","第1表(1)_旅客","第1表(1)_旅客","第1表(1)_旅客","第1表(1)_旅客","第1表(1)_旅客","第1表(1)_旅客","第1表(1)_旅客","第1表(1)_旅客","第1表(1)_旅客","第1表(1)_旅客","第1表(1)_旅客","第1表(1)_旅客","第1表(1)_旅客","第1表(1)_旅客","第1表(1)_旅客","第1表(1)_旅客","第1表(1)_旅客","第1表(1)_旅客","第1表(1)_旅客","第1表(1)_旅客","第1表(1)_旅客","第1表(1)_旅客","第1表(1)_旅客","第1表(1)_旅客","第1表(1)_旅客","第1表(1)_旅客","第1表(1)_旅客","第1表(1)_航空","第1表(1)_航空","第1表(1)_航空","第1表(1)_航空","第1表(1)_航空","第1表(1)_航空","第1表(1)_航空","第1表(1)_航空","第1表(1)_航空","第1表(1)_航空","第1表(1)_航空","第1表(1)_航空","第1表(1)_航空","第1表(1)_航空","第1表(1)_航空","第1表(1)_航空","第1表(1)_航空","第1表(1)_航空","第1表(1)_航空","第1表(1)_航空","第1表(1)_航空","第1表(1)_航空","第1表(1)_航空","第1表(1)_航空","第1表(1)_航空","第1表(1)_航空","第1表(1)_航空","第1表(1)_航空","第1表(1)_航空","第1表(1)_航空","第1表(1)_航空","第1表(1)_航空","第1表(1)_航空","第1表(1)_航空","第1表(1)_航空","第1表(1)_航空","第1表(1)_航空","第1表(1)_航空","第1表(1)_航空","第1表(1)_航空","第1表(1)_航空","第1表(1)_航空","第1表(1)_航空","第1表(1)_航空","第1表(1)_航空","第1表(1)_航空","第1表(1)_航空","第1表(1)_航空","第1表(1)_航空","第1表(1)_航空","第1表(1)_航空","第1表(1)_航空","第1表(1)_航空","第1表(1)_航空","第1表(1)_航空","第1表(1)_航空","第1表(1)_航空","第1表(1)_航空","第1表(1)_航空","第1表(1)_航空","第1表(1)_航空","第1表(1)_航空","第1表(1)_航空","第1表(1)_航空","第1表(1)_航空","第1表(1)_航空","第1表(1)_航空","第1表(1)_航空","第1表(1)_航空","第1表(1)_航空","第1表(1)_航空","第1表(1)_航空","第1表(1)_航空","第1表(1)_航空","第1表(1)_航空","第1表(1)_航空","第1表(1)_航空","第1表(1)_航空","第1表(1)_航空","第1表(1)_航空","第1表(1)_航空","第1表(1)_航空","第1表(1)_航空","第1表(1)_航空","第1表(1)_航空","第1表(1)_航空","第1表(1)_航空","第1表(1)_航空","第1表(1)_航空","第1表(1)_航空","第1表(1)_航空","第1表(1)_航空","第1表(1)_航空","第1表(1)_航空","第1表(1)_航空","第1表(1)_航空","第1表(1)_航空","第1表(1)_航空","第1表(1)_航空","第1表(1)_航空","第1表(1)_航空","第1表(1)_航空","第1表(1)_航空","第1表(1)_航空","第1表(1)_航空","第1表(1)_航空","第1表(1)_航空","第1表(1)_航空","第1表(1)_航空","第1表(1)_航空","第1表(1)_航空","第1表(1)_航空","第1表(1)_航空","第1表(1)_航空","第1表(2)","第1表(2)","第1表(2)","第1表(2)","第1表(2)","第1表(2)","第1表(2)","第1表(2)","第1表(2)","第1表(2)","第1表(2)","第1表(2)","第1表(2)","第1表(2)","第1表(2)","第1表(2)","第1表(2)","第1表(2)","第1表(2)","第1表(2)","第1表(2)","第1表(2)","第1表(2)","第1表(2)","第1表(2)","第1表(2)","第1表(2)","第1表(2)","第1表(2)","第1表(2)","第1表(2)","第1表(2)","第1表(2)","第1表(2)","第1表(2)","第1表(2)","第1表(2)","第1表(2)","第1表(2)","第1表(2)","第1表(2)","第1表(2)","第1表(2)","第1表(2)","第1表(2)","第1表(2)","第1表(2)","第1表(2)","第1表(2)","第1表(2)","第1表(2)","第1表(2)","第1表(2)","第1表(2)","第1表(2)","第1表(2)","第1表(2)","第1表(2)","第1表(2)","第1表(2)","第1表(2)","第1表(2)","第1表(2)","第1表(2)","第1表(2)","第1表(2)","第1表(2)","第1表(2)","第1表(2)","第1表(2)","第1表(2)","第1表(2)","第1表(2)","第1表(2)","第1表(2)","第1表(2)","第1表(2)","第1表(2)","第1表(2)","第1表(2)","第1表(2)","第1表(2)","第1表(2)","第1表(2)","第1表(2)","第2表","第2表","第2表","第2表","第2表","第2表","第2表","第2表","第2表","第2表","第2表","第2表","第2表","第2表","第2表","第2表","第2表","第2表","第2表","第2表","第2表","第2表","第2表","第2表","第2表","第2表","第2表","第2表","第2表","第2表","第2表","第2表","第2表","第2表","第2表","第2表","第2表","第2表","第2表","第2表","第2表","第2表","第2表","第2表","第2表","第2表","第2表","第2表","第2表","第2表","第2表","第2表","第2表","第2表","第2表","第2表","第2表","第2表","第2表","第2表","第2表","第2表","第2表","第2表","第2表","第2表","第2表","第2表","第3表","第3表","第3表","第3表","第3表","第3表","第3表","第3表","第3表","第3表","第3表","第3表","第4表","第4表","第4表","第4表","第4表","第4表","第4表","第4表","第4表","第4表","第4表","第4表","第4表","第4表","第4表","第4表","第4表","第4表","第4表","第4表","第4表","第4表","第4表","第4表","第5表","第5表","第5表","第5表","第5表","第5表","第5表","第5表","第5表","第5表","第5表","第5表","第5表","第5表","第5表","第5表","第5表","第5表","第5表","第5表","第5表","第5表","第5表","第5表","第5表","第5表","第5表","第5表","第5表","第5表","第5表","第5表","第5表","第5表","第5表","第5表","第5表","第5表","第5表","第5表","第5表","第5表","第5表","第5表","第5表","第5表","第5表","第5表","第5表","第5表","第5表","第5表","第5表","第5表","第5表","第5表","第5表","第5表","第5表","第5表","第5表","第5表","第5表","第5表","第5表","第5表","第5表","第5表","第5表","第5表","第5表","第5表","第5表","第5表","第5表","第5表","第5表","第5表","第5表","第5表","第5表","第5表","第5表","第5表","第5表","第5表","第5表","第5表","第5表","第5表","第5表","第5表","第5表","第5表","第5表","第5表","第5表","第5表","第5表","第5表","第5表","第5表","第5表","第5表","第5表","第5表","第5表","第5表","第5表","第5表","第5表","第5表","第5表","第5表","第5表","第5表","第5表","第5表","第5表","第5表","第5表","第5表","第5表","第5表","第5表","第5表","第5表","第5表","第5表","第5表","第5表","第5表","第5表","第5表","第5表","第5表","第5表","第5表","第5表","第5表","第5表","第5表","第5表","第5表","第5表","第5表","第5表","第5表","第5表","第5表","第6表","第6表","第6表","第6表","第6表","第6表","第6表","第6表","第6表","第6表","第6表","第6表","第6表","第6表","第6表","第6表","第6表","第6表","第6表","第6表","第6表","第6表","第6表","第6表","第6表","第6表","第6表","第6表","第6表","第6表","第6表","第6表","第6表","第6表","第6表","第6表","第6表","第6表","第6表","第6表","第6表","第6表","第6表","第6表","第6表","第6表","第6表","第6表","第7表","第7表","第7表","第7表","第7表","第7表","第7表","第7表","第7表","第7表","第7表","第7表","第7表","第7表","第7表","第7表","第7表","第7表","第7表","第7表","第7表","第7表","第7表","第7表","第7表","第7表","第7表","第7表","第7表","第7表","第7表","第7表","第7表","第7表","第7表","第7表","第7表","第7表","第7表","第7表","第7表","第7表","第7表","第7表","第8表","第8表","第8表","第8表","第8表","第8表","第8表","第8表","第9表","第9表","第9表","第9表","第9表","第9表","第9表","第9表","第9表","第9表","第9表","第1表(1)_貨物","第1表(1)_貨物","第1表(1)_貨物","第3表","第3表","第4表","第4表","第4表","第4表","第1表(1)_旅客","第1表(1)_旅客","第1表(1)_旅客","第3表","第3表","第4表","第4表","第4表","第4表","第1表(1)_航空","第1表(1)_航空","第1表(1)_航空","第3表","第3表","第4表","第4表","第4表","第4表"]
[1,"様式４（貨物）","C11","L14","O14","Q14","K19","K21","K23","K25","I28","J28","K28","L28","M28","N28","O28","P28","Q28","R28","J29","K29","L29","M29","M29","O29","P29","Q29","R29","G30","O30","P30","Q30","R30","A30","G39","I41","I42","I43","H7","H9","H11","H13","H15","H17","H19","H21","H23","H25","H27","H29","H31","H33","H35","H37","H39","C39","G39","L39","Q39","T7","T9","T11","T13","T15","T17","T19","T21","T23","T25","T27","T29","T31","T33","T35","C50","E50","J7","J9","J11","J13","J15","J17","J19","J21","J23","J25","J27","J29","J31","J33","J35","J37","J39",null,null,"N39","R39","U7","U9","U11","U13","U15","U17","U19","U21","U23","U25","U27","U29","U31","U33","U35",null,null,"J8","J10","J12","J14","J16","J18","J20","J22","J24","J26","J28","J30","J32","J34","J36","J38","J40",null,null,"N40","R40","U8","U10","U12","U14","U16","U18","U20","U22","U24","U26","U28","U30","U32","U34","U36","C51","E51",null,null,null,null,null,null,null,null,null,null,null,null,null,null,null,null,null,null,null,null,null,null,null,null,null,null,null,null,null,null,null,null,null,null,null,null,null,null,null,null,null,null,null,null,null,null,null,null,null,null,null,null,null,null,null,null,null,null,null,null,null,null,null,null,null,null,null,null,null,null,null,null,null,null,null,null,null,null,null,null,null,null,null,null,null,null,null,null,null,null,null,null,null,null,null,null,null,null,null,null,null,null,null,null,null,null,null,null,null,null,null,null,null,null,null,null,null,null,null,null,null,null,null,null,null,null,null,null,null,null,null,null,null,null,null,null,null,null,null,null,null,null,null,null,null,null,null,null,null,null,null,null,null,null,null,null,null,null,null,null,null,null,null,null,null,null,null,null,null,null,null,null,null,null,null,null,null,null,null,null,null,null,null,null,null,null,null,null,null,null,null,null,null,null,null,null,null,null,null,null,null,null,null,null,null,null,null,null,null,null,null,null,null,null,null,null,null,null,null,null,null,null,null,null,null,null,null,null,"C4","C10","C18","H18","L18","P18","Q18","C19","H19","L19","P19","Q19","C20","H20","L20","P20","Q20","C21","H21","L21","P21","Q21","C22","H22","L22","P22","Q22","C23","H23","L23","P23","Q23","C24","H24","L24","P24","Q24","C25","H25","L25","P25","Q25","C26","H26","L26","P26","Q26","C27","H27","L27","P27","Q27","C28","H28","L28","P28","Q28","C29","H29","L29","P29","Q29","C30","H30","L30","P30","Q30","C31","H31","L31","P31","Q31","C32","H32","L32","P32","Q32","C34","F34","H34","J34","L34","N34","P34","Q34","C4","F4","J4","N4","C5","F5","J5","N5","C6","F6","J6","N6","C7","F7","J7","N7","C8","F8","J8","N8","C9","F9","J9","N9","C10","F10","J10","N10","C11","F11","J11","N11","C12","F12","J12","N12","C13","F13","J13","N13","C14","F14","J14","N14","C15","F15","J15","N15","C16","F16","J16","N16","C17","F17","J17","N17","C18","F18","J18","N18","C19","F19","J19","N19","C20","F20","J20","N20","L4","N4","L5","N5",null,null,null,null,null,null,null,null,"K5","N5","K7","N7","K30","N30","K32","N32",null,null,null,null,null,null,null,null,null,null,null,null,null,null,null,null,"F4","H4","J4","L4","N4","F6","H6","J6","L6","N6","H8","J8","L8","N8","P8","F9","H9","J9","L9","N9","H11","J11","L11","N11","P11","F36","H36","J36","L36","N36","F38","H38","J38","L38","N38","H40","J40","L40","N40","P40","F41","H41","J41","L41","N41","H43","J43","L43","N43","P43",null,null,null,null,null,null,null,null,null,null,null,null,null,null,null,null,null,null,null,null,null,null,null,null,null,null,null,null,null,null,null,null,null,null,null,null,null,null,null,null,null,null,null,null,null,null,null,null,null,null,null,null,null,null,null,null,null,null,null,null,null,null,null,null,null,null,null,null,null,null,null,null,null,null,null,null,null,null,null,null,null,null,null,null,null,null,null,null,null,null,null,null,null,null,null,null,null,null,null,null,"C5",null,null,null,"C10",null,null,null,null,null,null,null,null,null,null,null,null,null,null,null,null,null,null,null,"C41",null,null,null,"C46",null,null,null,null,null,null,null,null,null,null,null,null,null,null,null,null,null,null,null,"T6","T7","T8","T9","T11","T16","T17","T22","T23","T24","T28","T33","T34","T35","T39","T40","T41",null,null,null,null,null,null,null,null,null,null,null,null,null,null,null,null,null,null,null,null,null,null,null,null,null,null,null,"T5",null,null,null,"T12",null,null,null,"K5","C8",null,null,null,null,null,null,null,"Q19","Q23","L44","N44","N45","L4","L5","K5","K7","K30","K32","L44","N44","N45","L8","L9","K14","K16","K39","K41","L44","N44","N45","L12",null,"K23",null,"K48"]
[2,"様式８（旅客）","C11","L14","O14","Q14","K19","K21","K23","K25","I28","J28","K28","L28","M28","N28","O28","P28","Q28","R28","J29","K29","L29","M29","M29","O29","P29","Q29","R29","G30","O30","P30","Q30","R30","A30","G39","I41","I42","I43",null,null,null,null,null,null,null,null,null,null,null,null,null,null,null,null,null,null,null,null,null,null,null,null,null,null,null,null,null,null,null,null,null,null,null,null,null,null,null,null,null,null,null,null,null,null,null,null,null,null,null,null,null,null,null,null,null,null,null,null,null,null,null,null,null,null,null,null,null,null,null,null,null,null,null,null,null,null,null,null,null,null,null,null,null,null,null,null,null,null,null,null,null,null,null,null,null,null,null,null,null,null,null,null,null,null,null,null,null,null,null,null,null,null,"H7","H9","H11","H13","H15","H17","H19","H21","H23","H25","H27","H29","H31","H33","H35","H37","H39","C39","G39","L39","Q39","T7","T9","T11","T13","T15","T17","T19","T21","T23","T25","T27","T29","T31","T33","T35","C50","E50","J7","J9","J11","J13","J15","J17","J19","J21","J23","J25","J27","J29","J31","J33","J35","J37","J39",null,null,"N39","R39","U7","U9","U11","U13","U15","U17","U19","U21","U23","U25","U27","U29","U31","U33","U35",null,null,"J8","J10","J12","J14","J16","J18","J20","J22","J24","J26","J28","J30","J32","J34","J36","J38","J40",null,null,"N40","R40","U8","U10","U12","U14","U16","U18","U20","U22","U24","U26","U28","U30","U32","U34","U36","C51","E51",null,null,null,null,null,null,null,null,null,null,null,null,null,null,null,null,null,null,null,null,null,null,null,null,null,null,null,null,null,null,null,null,null,null,null,null,null,null,null,null,null,null,null,null,null,null,null,null,null,null,null,null,null,null,null,null,null,null,null,null,null,null,null,null,null,null,null,null,null,null,null,null,null,null,null,null,null,null,null,null,null,null,null,null,null,null,null,null,null,null,null,null,null,null,null,null,null,null,null,null,null,null,null,null,null,null,null,null,null,null,null,null,null,null,"C4","C10","C18","H18","L18","P18","Q18","C19","H19","L19","P19","Q19","C20","H20","L20","P20","Q20","C21","H21","L21","P21","Q21","C22","H22","L22","P22","Q22","C23","H23","L23","P23","Q23","C24","H24","L24","P24","Q24","C25","H25","L25","P25","Q25","C26","H26","L26","P26","Q26","C27","H27","L27","P27","Q27","C28","H28","L28","P28","Q28","C29","H29","L29","P29","Q29","C30","H30","L30","P30","Q30","C31","H31","L31","P31","Q31","C32","H32","L32","P32","Q32","C34","F34","H34","J34","L34","N34","P34","Q34","C4","F4","J4","N4","C5","F5","J5","N5","C6","F6","J6","N6","C7","F7","J7","N7","C8","F8","J8","N8","C9","F9","J9","N9","C10","F10","J10","N10","C11","F11","J11","N11","C12","F12","J12","N12","C13","F13","J13","N13","C14","F14","J14","N14","C15","F15","J15","N15","C16","F16","J16","N16","C17","F17","J17","N17","C18","F18","J18","N18","C19","F19","J19","N19","C20","F20","J20","N20",null,null,null,null,"L8","N8","L9","N9",null,null,null,null,null,null,null,null,null,null,null,null,"K14","N14","K16","N16","K39","N39","K41","N41",null,null,null,null,null,null,null,null,null,null,null,null,null,null,null,null,null,null,null,null,null,null,null,null,null,null,null,null,null,null,null,null,null,null,null,null,null,null,null,null,null,null,null,null,null,null,null,null,null,null,null,null,null,null,null,null,null,null,"F16","H16","J16","L16","N16","F18","H18","J18","L18","N18","H20","J20","L20","N20","P20","F21","H21","J21","L21","N21","H23","J23","L23","N23","P23","F48","H48","J48","L48","N48","F50","H50","J50","L50","N50","H52","J52","L52","N52","P52","F53","H53","J53","L53","N53","H55","J55","L55","N55","P55",null,null,null,null,null,null,null,null,null,null,null,null,null,null,null,null,null,null,null,null,null,null,null,null,null,null,null,null,null,null,null,null,null,null,null,null,null,null,null,null,null,null,null,null,null,null,null,null,null,null,null,null,null,null,null,null,null,null,"C17",null,null,null,"C22",null,null,null,null,null,null,null,null,null,null,null,null,null,null,null,null,null,null,null,"C53",null,null,null,"C58",null,null,null,null,null,null,null,null,null,null,null,null,null,null,null,null,null,null,null,null,null,null,null,null,null,null,null,null,"T49","T50","T51","T52","T54","T59","T60","T65","T66","T67","T71","T76","T77",null,null,null,null,null,null,null,null,null,null,null,null,null,null,"T5",null,null,null,"T12",null,null,null,"K5","C8",null,null,null,null,null,null,null,"Q19","Q23","L44","N44","N45","L4","L5","K5","K7","K30","K32","L44","N44","N45","L8","L9","K14","K16","K39","K41","L44","N44","N45","L12",null,"K23",null,"K48"]
[3,"様式２５（航空）","C11","L14","O14","Q14","K19","K21","K23","K25","I28","J28","K28","L28","M28","N28","O28","P28","Q28","R28","J29","K29","L29","M29","M29","O29","P29","Q29","R29","G30","O30","P30","Q30","R30","A30","G39","I41","I42","I43",null,null,null,null,null,null,null,null,null,null,null,null,null,null,null,null,null,null,null,null,null,null,null,null,null,null,null,null,null,null,null,null,null,null,null,null,null,null,null,null,null,null,null,null,null,null,null,null,null,null,null,null,null,null,null,null,null,null,null,null,null,null,null,null,null,null,null,null,null,null,null,null,null,null,null,null,null,null,null,null,null,null,null,null,null,null,null,null,null,null,null,null,null,null,null,null,null,null,null,null,null,null,null,null,null,null,null,null,null,null,null,null,null,null,null,null,null,null,null,null,null,null,null,null,null,null,null,null,null,null,null,null,null,null,null,null,null,null,null,null,null,null,null,null,null,null,null,null,null,null,null,null,null,null,null,null,null,null,null,null,null,null,null,null,null,null,null,null,null,null,null,null,null,null,null,null,null,null,null,null,null,null,null,null,null,null,null,null,null,null,null,null,null,null,null,null,null,null,null,null,null,null,null,null,null,null,null,null,null,null,null,null,null,null,null,null,null,null,null,null,null,null,null,null,null,null,null,null,"H7","H9","H11","H13","H15","H17","H19","H21","H23","H25","H27","H29","H31","H33","H35","H37","H39","C39","G39","L39","Q39","T7","T9","T11","T13","T15","T17","T19","T21","T23","T25","T27","T29","T31","T33","T35","C50","E50",null,null,null,null,null,null,null,null,null,null,null,null,null,null,null,null,null,null,null,null,null,null,null,null,null,null,null,null,null,null,null,null,null,null,null,null,null,null,null,null,null,null,null,null,null,null,null,null,null,null,null,null,null,null,null,null,null,null,null,null,null,null,null,null,null,null,null,null,null,null,null,null,null,null,null,null,null,null,null,null,null,null,null,null,null,null,null,null,null,null,null,null,null,null,null,null,null,null,null,null,null,null,null,null,null,null,null,null,null,null,null,null,null,null,null,null,null,null,null,null,null,null,null,null,null,null,null,null,null,null,null,null,null,null,null,null,null,null,null,null,null,null,null,null,null,null,null,null,null,null,null,null,null,null,null,null,null,null,null,null,null,"C4","F4","J4","N4","C5","F5","J5","N5","C6","F6","J6","N6","C7","F7","J7","N7","C8","F8","J8","N8","C9","F9","J9","N9","C10","F10","J10","N10","C11","F11","J11","N11","C12","F12","J12","N12","C13","F13","J13","N13","C14","F14","J14","N14","C15","F15","J15","N15","C16","F16","J16","N16","C17","F17","J17","N17","C18","F18","J18","N18","C19","F19","J19","N19","C20","F20","J20","N20",null,null,null,null,null,null,null,null,"L12","N12",null,null,null,null,null,null,null,null,null,null,null,null,null,null,null,null,null,null,"K23","N23",null,null,"K48","N48",null,null,null,null,null,null,null,null,null,null,null,null,null,null,null,null,null,null,null,null,null,null,null,null,null,null,null,null,null,null,null,null,null,null,null,null,null,null,null,null,null,null,null,null,null,null,null,null,null,null,null,null,null,null,null,null,null,null,null,null,null,null,null,null,null,null,null,null,null,null,null,null,null,null,null,null,null,null,null,null,null,null,null,null,null,null,null,null,null,null,null,null,null,null,null,null,null,null,null,null,null,null,"F28","H28","J28","L28","N28","F30","H30","J30","L30","N30","H32","J32","L32","N32","P32",null,null,null,null,null,null,null,null,null,null,"F60","H60","J60","L60","N60","F62","H62","J62","L62","N62","H64","J64","L64","N64","P64",null,null,null,null,null,null,null,null,null,null,null,null,null,null,null,null,null,null,null,null,null,null,null,null,null,null,"C29",null,null,null,"C34",null,null,null,null,null,null,null,null,null,null,null,null,null,null,null,null,null,null,null,"C65",null,null,null,"C70",null,null,null,null,null,null,null,null,null,null,null,null,null,null,null,null,null,null,null,null,null,null,null,null,null,null,null,null,null,null,null,null,null,"T84","T85","T86","T87","T89","T94","T95","T100","T101","T102","T106","T111","T112","T117","T5",null,null,null,"T12",null,null,null,"K5","C8",null,null,null,null,null,null,null,"Q19","Q23","L44","N44","N45","L4","L5","K5","K7","K30","K32","L44","N44","N45","L8","L9","K14","K16","K39","K41","L44","N44","N45","L12",null,"K23",null,"K48"]
[4,"様式２０（非特定貨物）","C11","L14","O14","Q14","K19","K21","K23","K25","I28","J28","K28","L28","M28","N28","O28","P28","Q28","R28","J29","K29","L29","M29","M29","O29","P29","Q29","R29","G30","O30","P30","Q30","R30","A30","G39","I41","I42","I43",null,null,null,null,null,null,null,null,null,null,null,null,null,null,null,null,null,null,null,null,null,null,null,null,null,null,null,null,null,null,null,null,null,null,null,null,null,null,"J7","J9","J11","J13","J15","J17","J19","J21","J23","J25","J27","J29","J31","J33","J35","J37","J39","C39","G39","N39","R39","U7","U9","U11","U13","U15","U17","U19","U21","U23","U25","U27","U29","U31","U33","U35","C50","E50","J8","J10","J12","J14","J16","J18","J20","J22","J24","J26","J28","J30","J32","J34","J36","J38","J40",null,null,"N40","R40","U8","U10","U12","U14","U16","U18","U20","U22","U24","U26","U28","U30","U32","U34","U36","C51","E51",null,null,null,null,null,null,null,null,null,null,null,null,null,null,null,null,null,null,null,null,null,null,null,null,null,null,null,null,null,null,null,null,null,null,null,null,null,null,null,null,null,null,null,null,null,null,null,null,null,null,null,null,null,null,null,null,null,null,null,null,null,null,null,null,null,null,null,null,null,null,null,null,null,null,null,null,null,null,null,null,null,null,null,null,null,null,null,null,null,null,null,null,null,null,null,null,null,null,null,null,null,null,null,null,null,null,null,null,null,null,null,null,null,null,null,null,null,null,null,null,null,null,null,null,null,null,null,null,null,null,null,null,null,null,null,null,null,null,null,null,null,null,null,null,null,null,null,null,null,null,null,null,null,null,null,null,null,null,null,null,null,null,null,null,null,null,null,null,null,null,null,null,null,null,null,null,null,null,null,null,null,null,null,null,null,null,null,null,null,null,null,null,null,null,null,null,null,null,null,null,null,null,null,null,null,null,null,null,null,null,null,null,null,null,null,null,null,null,null,null,null,null,null,null,null,null,null,null,"C4","C10","C18","H18","L18","P18","Q18","C19","H19","L19","P19","Q19","C20","H20","L20","P20","Q20","C21","H21","L21","P21","Q21","C22","H22","L22","P22","Q22","C23","H23","L23","P23","Q23","C24","H24","L24","P24","Q24","C25","H25","L25","P25","Q25","C26","H26","L26","P26","Q26","C27","H27","L27","P27","Q27","C28","H28","L28","P28","Q28","C29","H29","L29","P29","Q29","C30","H30","L30","P30","Q30","C31","H31","L31","P31","Q31","C32","H32","L32","P32","Q32","C34","F34","H34","J34","L34","N34","P34","Q34","C4","F4","J4","N4","C5","F5","J5","N5","C6","F6","J6","N6","C7","F7","J7","N7","C8","F8","J8","N8","C9","F9","J9","N9","C10","F10","J10","N10","C11","F11","J11","N11","C12","F12","J12","N12","C13","F13","J13","N13","C14","F14","J14","N14","C15","F15","J15","N15","C16","F16","J16","N16","C17","F17","J17","N17","C18","F18","J18","N18","C19","F19","J19","N19","C20","F20","J20","N20",null,null,"L5","N5",null,null,null,null,null,null,null,null,null,null,"K7","N7",null,null,"K32","N32",null,null,null,null,null,null,null,null,null,null,null,null,null,null,null,null,"F4","H4","J4","L4","N4",null,null,null,null,null,null,null,null,null,null,"F9","H9","J9","L9","N9","H11","J11","L11","N11","P11","F36","H36","J36","L36","N36",null,null,null,null,null,null,null,null,null,null,"F41","H41","J41","L41","N41","H43","J43","L43","N43","P43",null,null,null,null,null,null,null,null,null,null,null,null,null,null,null,null,null,null,null,null,null,null,null,null,null,null,null,null,null,null,null,null,null,null,null,null,null,null,null,null,null,null,null,null,null,null,null,null,null,null,null,null,null,null,null,null,null,null,null,null,null,null,null,null,null,null,null,null,null,null,null,null,null,null,null,null,null,null,null,null,null,null,null,null,null,null,null,null,null,null,null,null,null,null,null,null,null,null,null,null,null,null,null,null,null,null,null,null,null,null,null,null,null,null,null,null,null,null,null,null,null,null,null,null,null,null,null,null,null,null,null,null,null,null,null,null,null,null,null,null,null,null,null,null,null,null,null,null,null,null,null,null,null,null,null,null,null,null,null,null,null,null,null,null,null,null,null,null,null,null,null,null,null,null,null,null,null,null,null,null,null,null,null,null,null,null,null,null,null,null,null,null,"T5",null,null,null,"T12",null,null,null,null,null,null,null,null,null,null,null,null,null,null,"L44","N44","N45","L4","L5","K5","K7","K30","K32","L44","N44","N45","L8","L9","K14","K16","K39","K41","L44","N44","N45","L12",null,"K23",null,"K48"]
[5,"様式２１（非特定旅客）","C11","L14","O14","Q14","K19","K21","K23","K25","I28","J28","K28","L28","M28","N28","O28","P28","Q28","R28","J29","K29","L29","M29","M29","O29","P29","Q29","R29","G30","O30","P30","Q30","R30","A30","G39","I41","I42","I43",null,null,null,null,null,null,null,null,null,null,null,null,null,null,null,null,null,null,null,null,null,null,null,null,null,null,null,null,null,null,null,null,null,null,null,null,null,null,null,null,null,null,null,null,null,null,null,null,null,null,null,null,null,null,null,null,null,null,null,null,null,null,null,null,null,null,null,null,null,null,null,null,null,null,null,null,null,null,null,null,null,null,null,null,null,null,null,null,null,null,null,null,null,null,null,null,null,null,null,null,null,null,null,null,null,null,null,null,null,null,null,null,null,null,null,null,null,null,null,null,null,null,null,null,null,null,null,null,null,null,null,null,null,null,null,null,null,null,null,null,null,null,null,null,null,null,null,null,null,null,null,null,"J7","J9","J11","J13","J15","J17","J19","J21","J23","J25","J27","J29","J31","J33","J35","J37","J39","C39","G39","N39","R39","U7","U9","U11","U13","U15","U17","U19","U21","U23","U25","U27","U29","U31","U33","U35","C50","E50","J8","J10","J12","J14","J16","J18","J20","J22","J24","J26","J28","J30","J32","J34","J36","J38","J40",null,null,"N40","R40","U8","U10","U12","U14","U16","U18","U20","U22","U24","U26","U28","U30","U32","U34","U36","C51","E51",null,null,null,null,null,null,null,null,null,null,null,null,null,null,null,null,null,null,null,null,null,null,null,null,null,null,null,null,null,null,null,null,null,null,null,null,null,null,null,null,null,null,null,null,null,null,null,null,null,null,null,null,null,null,null,null,null,null,null,null,null,null,null,null,null,null,null,null,null,null,null,null,null,null,null,null,null,null,null,null,null,null,null,null,null,null,null,null,null,null,null,null,null,null,null,null,null,null,null,null,null,null,null,null,null,null,null,null,null,null,null,null,null,null,"C4","C10","C18","H18","L18","P18","Q18","C19","H19","L19","P19","Q19","C20","H20","L20","P20","Q20","C21","H21","L21","P21","Q21","C22","H22","L22","P22","Q22","C23","H23","L23","P23","Q23","C24","H24","L24","P24","Q24","C25","H25","L25","P25","Q25","C26","H26","L26","P26","Q26","C27","H27","L27","P27","Q27","C28","H28","L28","P28","Q28","C29","H29","L29","P29","Q29","C30","H30","L30","P30","Q30","C31","H31","L31","P31","Q31","C32","H32","L32","P32","Q32","C34","F34","H34","J34","L34","N34","P34","Q34","C4","F4","J4","N4","C5","F5","J5","N5","C6","F6","J6","N6","C7","F7","J7","N7","C8","F8","J8","N8","C9","F9","J9","N9","C10","F10","J10","N10","C11","F11","J11","N11","C12","F12","J12","N12","C13","F13","J13","N13","C14","F14","J14","N14","C15","F15","J15","N15","C16","F16","J16","N16","C17","F17","J17","N17","C18","F18","J18","N18","C19","F19","J19","N19","C20","F20","J20","N20",null,null,null,null,null,null,"L9","N9",null,null,null,null,null,null,null,null,null,null,null,null,null,null,"K16","N16",null,null,"K41","N41",null,null,null,null,null,null,null,null,null,null,null,null,null,null,null,null,null,null,null,null,null,null,null,null,null,null,null,null,null,null,null,null,null,null,null,null,null,null,null,null,null,null,null,null,null,null,null,null,null,null,null,null,null,null,null,null,null,null,"F16","H16","J16","L16","N16",null,null,null,null,null,null,null,null,null,null,"F21","H21","J21","L21","N21","H23","J23","L23","N23","P23","F48","H48","J48","L48","N48",null,null,null,null,null,null,null,null,null,null,"F53","H53","J53","L53","N53","H55","J55","L55","N55","P55",null,null,null,null,null,null,null,null,null,null,null,null,null,null,null,null,null,null,null,null,null,null,null,null,null,null,null,null,null,null,null,null,null,null,null,null,null,null,null,null,null,null,null,null,null,null,null,null,null,null,null,null,null,null,null,null,null,null,null,null,null,null,null,null,null,null,null,null,null,null,null,null,null,null,null,null,null,null,null,null,null,null,null,null,null,null,null,null,null,null,null,null,null,null,null,null,null,null,null,null,null,null,null,null,null,null,null,null,null,null,null,null,null,null,null,null,null,null,null,null,null,null,null,null,null,null,null,null,null,null,null,null,null,null,null,null,null,null,null,null,null,null,"T5",null,null,null,"T12",null,null,null,null,null,null,null,null,null,null,null,null,null,null,"L44","N44","N45","L4","L5","K5","K7","K30","K32","L44","N44","N45","L8","L9","K14","K16","K39","K41","L44","N44","N45","L12",null,"K23",null,"K48"]
[6,"様式１３（認定管理統括貨客）","C11","L14","O14","Q14","K19","K21","K23","K25","I28","J28","K28","L28","M28","N28","O28","P28","Q28","R28","J29","K29","L29","M29","M29","O29","P29","Q29","R29","G30","O30","P30","Q30","R30","A30","G39","I41","I42","I43","H7","H9","H11","H13","H15","H17","H19","H21","H23","H25","H27","H29","H31","H33","H35","H37","H39","C39","G39","L39","Q39","T7","T9","T11","T13","T15","T17","T19","T21","T23","T25","T27","T29","T31","T33","T35","C50","E50","J7","J9","J11","J13","J15","J17","J19","J21","J23","J25","J27","J29","J31","J33","J35","J37","J39",null,null,"N39","R39","U7","U9","U11","U13","U15","U17","U19","U21","U23","U25","U27","U29","U31","U33","U35",null,null,"J8","J10","J12","J14","J16","J18","J20","J22","J24","J26","J28","J30","J32","J34","J36","J38","J40",null,null,"N40","R40","U8","U10","U12","U14","U16","U18","U20","U22","U24","U26","U28","U30","U32","U34","U36","C51","E51","H7","H9","H11","H13","H15","H17","H19","H21","H23","H25","H27","H29","H31","H33","H35","H37","H39","C39","G39","L39","Q39","T7","T9","T11","T13","T15","T17","T19","T21","T23","T25","T27","T29","T31","T33","T35","C50","E50","J7","J9","J11","J13","J15","J17","J19","J21","J23","J25","J27","J29","J31","J33","J35","J37","J39",null,null,"N39","R39","U7","U9","U11","U13","U15","U17","U19","U21","U23","U25","U27","U29","U31","U33","U35",null,null,"J8","J10","J12","J14","J16","J18","J20","J22","J24","J26","J28","J30","J32","J34","J36","J38","J40",null,null,"N40","R40","U8","U10","U12","U14","U16","U18","U20","U22","U24","U26","U28","U30","U32","U34","U36","C51","E51",null,null,null,null,null,null,null,null,null,null,null,null,null,null,null,null,null,null,null,null,null,null,null,null,null,null,null,null,null,null,null,null,null,null,null,null,null,null,null,null,null,null,null,null,null,null,null,null,null,null,null,null,null,null,null,null,null,null,null,null,null,null,null,null,null,null,null,null,null,null,null,null,null,null,null,null,null,null,null,null,null,null,null,null,null,null,null,null,null,null,null,null,null,null,null,null,null,null,null,null,null,null,null,null,null,null,null,null,null,null,null,null,null,null,"C4","C10","C18","H18","L18","P18","Q18","C19","H19","L19","P19","Q19","C20","H20","L20","P20","Q20","C21","H21","L21","P21","Q21","C22","H22","L22","P22","Q22","C23","H23","L23","P23","Q23","C24","H24","L24","P24","Q24","C25","H25","L25","P25","Q25","C26","H26","L26","P26","Q26","C27","H27","L27","P27","Q27","C28","H28","L28","P28","Q28","C29","H29","L29","P29","Q29","C30","H30","L30","P30","Q30","C31","H31","L31","P31","Q31","C32","H32","L32","P32","Q32","C34","F34","H34","J34","L34","N34","P34","Q34","C4","F4","J4","N4","C5","F5","J5","N5","C6","F6","J6","N6","C7","F7","J7","N7","C8","F8","J8","N8","C9","F9","J9","N9","C10","F10","J10","N10","C11","F11","J11","N11","C12","F12","J12","N12","C13","F13","J13","N13","C14","F14","J14","N14","C15","F15","J15","N15","C16","F16","J16","N16","C17","F17","J17","N17","C18","F18","J18","N18","C19","F19","J19","N19","C20","F20","J20","N20","L4","N4","L5","N5","L8","N8","L9","N9",null,null,null,null,"K5","N5","K7","N7","K30","N30","K32","N32","K14","N14","K16","N16","K39","N39","K41","N41",null,null,null,null,null,null,null,null,"F4","H4","J4","L4","N4","F6","H6","J6","L6","N6","H8","J8","L8","N8","P8","F9","H9","J9","L9","N9","H11","J11","L11","N11","P11","F36","H36","J36","L36","N36","F38","H38","J38","L38","N38","H40","J40","L40","N40","P40","F41","H41","J41","L41","N41","H43","J43","L43","N43","P43","F16","H16","J16","L16","N16","F18","H18","J18","L18","N18","H20","J20","L20","N20","P20","F21","H21","J21","L21","N21","H23","J23","L23","N23","P23","F48","H48","J48","L48","N48","F50","H50","J50","L50","N50","H52","J52","L52","N52","P52","F53","H53","J53","L53","N53","H55","J55","L55","N55","P55",null,null,null,null,null,null,null,null,null,null,null,null,null,null,null,null,null,null,null,null,null,null,null,null,null,null,null,null,null,null,null,null,null,null,null,null,null,null,null,null,null,null,null,null,null,null,null,null,null,null,"C5",null,null,null,"C10",null,null,null,"C17",null,null,null,"C22",null,null,null,null,null,null,null,null,null,null,null,"C41",null,null,null,"C46",null,null,null,"C53",null,null,null,"C58",null,null,null,null,null,null,null,null,null,null,null,"T6","T7","T8","T9","T11","T16","T17","T22","T23","T24","T28","T33","T34","T35","T39","T40","T41","T49","T50","T51","T52","T54","T59","T60","T65","T66","T67","T71","T76","T77",null,null,null,null,null,null,null,null,null,null,null,null,null,null,"T5",null,null,null,"T12",null,null,null,"K5","C8",null,null,null,null,null,null,null,null,null,"L44","N44","N45","L4","L5","K5","K7","K30","K32","L44","N44","N45","L8","L9","K14","K16","K39","K41","L44","N44","N45","L12",null,"K23",null,"K48"]
[]
[null,"取込ツール（貨物）",{"$f":"IF(C2<>\"\",COUNTA($C2:C2),\"\")","v":1},{"$f":"IF(D2<>\"\",COUNTA($C2:D2),\"\")","v":2},{"$f":"IF(E2<>\"\",COUNTA($C2:E2),\"\")","v":3},{"$f":"IF(F2<>\"\",COUNTA($C2:F2),\"\")","v":4},{"$f":"IF(G2<>\"\",COUNTA($C2:G2),\"\")","v":5},{"$f":"IF(H2<>\"\",COUNTA($C2:H2),\"\")","v":6},{"$f":"IF(I2<>\"\",COUNTA($C2:I2),\"\")","v":7},{"$f":"IF(J2<>\"\",COUNTA($C2:J2),\"\")","v":8},{"$f":"IF(K2<>\"\",COUNTA($C2:K2),\"\")","v":9},{"$f":"IF(L2<>\"\",COUNTA($C2:L2),\"\")","v":10},{"$f":"IF(M2<>\"\",COUNTA($C2:M2),\"\")","v":11},{"$f":"IF(N2<>\"\",COUNTA($C2:N2),\"\")","v":12},{"$f":"IF(O2<>\"\",COUNTA($C2:O2),\"\")","v":13},{"$f":"IF(P2<>\"\",COUNTA($C2:P2),\"\")","v":14},{"$f":"IF(Q2<>\"\",COUNTA($C2:Q2),\"\")","v":15},{"$f":"IF(R2<>\"\",COUNTA($C2:R2),\"\")","v":16},{"$f":"IF(S2<>\"\",COUNTA($C2:S2),\"\")","v":17},{"$f":"IF(T2<>\"\",COUNTA($C2:T2),\"\")","v":18},{"$f":"IF(U2<>\"\",COUNTA($C2:U2),\"\")","v":19},{"$f":"IF(V2<>\"\",COUNTA($C2:V2),\"\")","v":20},{"$f":"IF(W2<>\"\",COUNTA($C2:W2),\"\")","v":21},{"$f":"IF(X2<>\"\",COUNTA($C2:X2),\"\")","v":22},{"$f":"IF(Y2<>\"\",COUNTA($C2:Y2),\"\")","v":23},{"$f":"IF(Z2<>\"\",COUNTA($C2:Z2),\"\")","v":24},{"$f":"IF(AA2<>\"\",COUNTA($C2:AA2),\"\")","v":25},{"$f":"IF(AB2<>\"\",COUNTA($C2:AB2),\"\")","v":26},{"$f":"IF(AC2<>\"\",COUNTA($C2:AC2),\"\")","v":27},{"$f":"IF(AD2<>\"\",COUNTA($C2:AD2),\"\")","v":28},{"$f":"IF(AE2<>\"\",COUNTA($C2:AE2),\"\")","v":29},{"$f":"IF(AF2<>\"\",COUNTA($C2:AF2),\"\")","v":30},{"$f":"IF(AG2<>\"\",COUNTA($C2:AG2),\"\")","v":31},{"$f":"IF(AH2<>\"\",COUNTA($C2:AH2),\"\")","v":32},{"$f":"IF(AI2<>\"\",COUNTA($C2:AI2),\"\")","v":33},{"$f":"IF(AJ2<>\"\",COUNTA($C2:AJ2),\"\")","v":34},{"$f":"IF(AK2<>\"\",COUNTA($C2:AK2),\"\")","v":35},{"$f":"IF(AL2<>\"\",COUNTA($C2:AL2),\"\")","v":36},{"$f":"IF(AM2<>\"\",COUNTA($C2:AM2),\"\")","v":37},{"$f":"IF(AN2<>\"\",COUNTA($C2:AN2),\"\")","v":38},{"$f":"IF(AO2<>\"\",COUNTA($C2:AO2),\"\")","v":39},{"$f":"IF(AP2<>\"\",COUNTA($C2:AP2),\"\")","v":40},{"$f":"IF(AQ2<>\"\",COUNTA($C2:AQ2),\"\")","v":41},{"$f":"IF(AR2<>\"\",COUNTA($C2:AR2),\"\")","v":42},{"$f":"IF(AS2<>\"\",COUNTA($C2:AS2),\"\")","v":43},{"$f":"IF(AT2<>\"\",COUNTA($C2:AT2),\"\")","v":44},{"$f":"IF(AU2<>\"\",COUNTA($C2:AU2),\"\")","v":45},{"$f":"IF(AV2<>\"\",COUNTA($C2:AV2),\"\")","v":46},{"$f":"IF(AW2<>\"\",COUNTA($C2:AW2),\"\")","v":47},{"$f":"IF(AX2<>\"\",COUNTA($C2:AX2),\"\")","v":48},{"$f":"IF(AY2<>\"\",COUNTA($C2:AY2),\"\")","v":49},{"$f":"IF(AZ2<>\"\",COUNTA($C2:AZ2),\"\")","v":50},{"$f":"IF(BA2<>\"\",COUNTA($C2:BA2),\"\")","v":51},{"$f":"IF(BB2<>\"\",COUNTA($C2:BB2),\"\")","v":52},{"$f":"IF(BC2<>\"\",COUNTA($C2:BC2),\"\")","v":53},{"$f":"IF(BD2<>\"\",COUNTA($C2:BD2),\"\")","v":54},{"$f":"IF(BE2<>\"\",COUNTA($C2:BE2),\"\")","v":55},{"$f":"IF(BF2<>\"\",COUNTA($C2:BF2),\"\")","v":56},{"$f":"IF(BG2<>\"\",COUNTA($C2:BG2),\"\")","v":57},{"$f":"IF(BH2<>\"\",COUNTA($C2:BH2),\"\")","v":58},{"$f":"IF(BI2<>\"\",COUNTA($C2:BI2),\"\")","v":59},{"$f":"IF(BJ2<>\"\",COUNTA($C2:BJ2),\"\")","v":60},{"$f":"IF(BK2<>\"\",COUNTA($C2:BK2),\"\")","v":61},{"$f":"IF(BL2<>\"\",COUNTA($C2:BL2),\"\")","v":62},{"$f":"IF(BM2<>\"\",COUNTA($C2:BM2),\"\")","v":63},{"$f":"IF(BN2<>\"\",COUNTA($C2:BN2),\"\")","v":64},{"$f":"IF(BO2<>\"\",COUNTA($C2:BO2),\"\")","v":65},{"$f":"IF(BP2<>\"\",COUNTA($C2:BP2),\"\")","v":66},{"$f":"IF(BQ2<>\"\",COUNTA($C2:BQ2),\"\")","v":67},{"$f":"IF(BR2<>\"\",COUNTA($C2:BR2),\"\")","v":68},{"$f":"IF(BS2<>\"\",COUNTA($C2:BS2),\"\")","v":69},{"$f":"IF(BT2<>\"\",COUNTA($C2:BT2),\"\")","v":70},{"$f":"IF(BU2<>\"\",COUNTA($C2:BU2),\"\")","v":71},{"$f":"IF(BV2<>\"\",COUNTA($C2:BV2),\"\")","v":72},{"$f":"IF(BW2<>\"\",COUNTA($C2:BW2),\"\")","v":73},{"$f":"IF(BX2<>\"\",COUNTA($C2:BX2),\"\")","v":74},{"$f":"IF(BY2<>\"\",COUNTA($C2:BY2),\"\")","v":75},{"$f":"IF(BZ2<>\"\",COUNTA($C2:BZ2),\"\")","v":76},{"$f":"IF(CA2<>\"\",COUNTA($C2:CA2),\"\")","v":77},{"$f":"IF(CB2<>\"\",COUNTA($C2:CB2),\"\")","v":78},{"$f":"IF(CC2<>\"\",COUNTA($C2:CC2),\"\")","v":79},{"$f":"IF(CD2<>\"\",COUNTA($C2:CD2),\"\")","v":80},{"$f":"IF(CE2<>\"\",COUNTA($C2:CE2),\"\")","v":81},{"$f":"IF(CF2<>\"\",COUNTA($C2:CF2),\"\")","v":82},{"$f":"IF(CG2<>\"\",COUNTA($C2:CG2),\"\")","v":83},{"$f":"IF(CH2<>\"\",COUNTA($C2:CH2),\"\")","v":84},{"$f":"IF(CI2<>\"\",COUNTA($C2:CI2),\"\")","v":85},{"$f":"IF(CJ2<>\"\",COUNTA($C2:CJ2),\"\")","v":86},{"$f":"IF(CK2<>\"\",COUNTA($C2:CK2),\"\")","v":87},{"$f":"IF(CL2<>\"\",COUNTA($C2:CL2),\"\")","v":88},{"$f":"IF(CM2<>\"\",COUNTA($C2:CM2),\"\")","v":89},{"$f":"IF(CN2<>\"\",COUNTA($C2:CN2),\"\")","v":90},{"$f":"IF(CO2<>\"\",COUNTA($C2:CO2),\"\")","v":91},{"$f":"IF(CP2<>\"\",COUNTA($C2:CP2),\"\")","v":92},{"$f":"IF(CQ2<>\"\",COUNTA($C2:CQ2),\"\")","v":""},{"$f":"IF(CR2<>\"\",COUNTA($C2:CR2),\"\")","v":""},{"$f":"IF(CS2<>\"\",COUNTA($C2:CS2),\"\")","v":93},{"$f":"IF(CT2<>\"\",COUNTA($C2:CT2),\"\")","v":94},{"$f":"IF(CU2<>\"\",COUNTA($C2:CU2),\"\")","v":95},{"$f":"IF(CV2<>\"\",COUNTA($C2:CV2),\"\")","v":96},{"$f":"IF(CW2<>\"\",COUNTA($C2:CW2),\"\")","v":97},{"$f":"IF(CX2<>\"\",COUNTA($C2:CX2),\"\")","v":98},{"$f":"IF(CY2<>\"\",COUNTA($C2:CY2),\"\")","v":99},{"$f":"IF(CZ2<>\"\",COUNTA($C2:CZ2),\"\")","v":100},{"$f":"IF(DA2<>\"\",COUNTA($C2:DA2),\"\")","v":101},{"$f":"IF(DB2<>\"\",COUNTA($C2:DB2),\"\")","v":102},{"$f":"IF(DC2<>\"\",COUNTA($C2:DC2),\"\")","v":103},{"$f":"IF(DD2<>\"\",COUNTA($C2:DD2),\"\")","v":104},{"$f":"IF(DE2<>\"\",COUNTA($C2:DE2),\"\")","v":105},{"$f":"IF(DF2<>\"\",COUNTA($C2:DF2),\"\")","v":106},{"$f":"IF(DG2<>\"\",COUNTA($C2:DG2),\"\")","v":107},{"$f":"IF(DH2<>\"\",COUNTA($C2:DH2),\"\")","v":108},{"$f":"IF(DI2<>\"\",COUNTA($C2:DI2),\"\")","v":109},{"$f":"IF(DJ2<>\"\",COUNTA($C2:DJ2),\"\")","v":""},{"$f":"IF(DK2<>\"\",COUNTA($C2:DK2),\"\")","v":""},{"$f":"IF(DL2<>\"\",COUNTA($C2:DL2),\"\")","v":110},{"$f":"IF(DM2<>\"\",COUNTA($C2:DM2),\"\")","v":111},{"$f":"IF(DN2<>\"\",COUNTA($C2:DN2),\"\")","v":112},{"$f":"IF(DO2<>\"\",COUNTA($C2:DO2),\"\")","v":113},{"$f":"IF(DP2<>\"\",COUNTA($C2:DP2),\"\")","v":114},{"$f":"IF(DQ2<>\"\",COUNTA($C2:DQ2),\"\")","v":115},{"$f":"IF(DR2<>\"\",COUNTA($C2:DR2),\"\")","v":116},{"$f":"IF(DS2<>\"\",COUNTA($C2:DS2),\"\")","v":117},{"$f":"IF(DT2<>\"\",COUNTA($C2:DT2),\"\")","v":118},{"$f":"IF(DU2<>\"\",COUNTA($C2:DU2),\"\")","v":119},{"$f":"IF(DV2<>\"\",COUNTA($C2:DV2),\"\")","v":120},{"$f":"IF(DW2<>\"\",COUNTA($C2:DW2),\"\")","v":121},{"$f":"IF(DX2<>\"\",COUNTA($C2:DX2),\"\")","v":122},{"$f":"IF(DY2<>\"\",COUNTA($C2:DY2),\"\")","v":123},{"$f":"IF(DZ2<>\"\",COUNTA($C2:DZ2),\"\")","v":124},{"$f":"IF(EA2<>\"\",COUNTA($C2:EA2),\"\")","v":125},{"$f":"IF(EB2<>\"\",COUNTA($C2:EB2),\"\")","v":126},{"$f":"IF(EC2<>\"\",COUNTA($C2:EC2),\"\")","v":""},{"$f":"IF(ED2<>\"\",COUNTA($C2:ED2),\"\")","v":""},{"$f":"IF(EE2<>\"\",COUNTA($C2:EE2),\"\")","v":127},{"$f":"IF(EF2<>\"\",COUNTA($C2:EF2),\"\")","v":128},{"$f":"IF(EG2<>\"\",COUNTA($C2:EG2),\"\")","v":129},{"$f":"IF(EH2<>\"\",COUNTA($C2:EH2),\"\")","v":130},{"$f":"IF(EI2<>\"\",COUNTA($C2:EI2),\"\")","v":131},{"$f":"IF(EJ2<>\"\",COUNTA($C2:EJ2),\"\")","v":132},{"$f":"IF(EK2<>\"\",COUNTA($C2:EK2),\"\")","v":133},{"$f":"IF(EL2<>\"\",COUNTA($C2:EL2),\"\")","v":134},{"$f":"IF(EM2<>\"\",COUNTA($C2:EM2),\"\")","v":135},{"$f":"IF(EN2<>\"\",COUNTA($C2:EN2),\"\")","v":136},{"$f":"IF(EO2<>\"\",COUNTA($C2:EO2),\"\")","v":137},{"$f":"IF(EP2<>\"\",COUNTA($C2:EP2),\"\")","v":138},{"$f":"IF(EQ2<>\"\",COUNTA($C2:EQ2),\"\")","v":139},{"$f":"IF(ER2<>\"\",COUNTA($C2:ER2),\"\")","v":140},{"$f":"IF(ES2<>\"\",COUNTA($C2:ES2),\"\")","v":141},{"$f":"IF(ET2<>\"\",COUNTA($C2:ET2),\"\")","v":142},{"$f":"IF(EU2<>\"\",COUNTA($C2:EU2),\"\")","v":143},{"$f":"IF(EV2<>\"\",COUNTA($C2:EV2),\"\")","v":144},{"$f":"IF(EW2<>\"\",COUNTA($C2:EW2),\"\")","v":145},{"$f":"IF(EX2<>\"\",COUNTA($C2:EX2),\"\")","v":""},{"$f":"IF(EY2<>\"\",COUNTA($C2:EY2),\"\")","v":""},{"$f":"IF(EZ2<>\"\",COUNTA($C2:EZ2),\"\")","v":""},{"$f":"IF(FA2<>\"\",COUNTA($C2:FA2),\"\")","v":""},{"$f":"IF(FB2<>\"\",COUNTA($C2:FB2),\"\")","v":""},{"$f":"IF(FC2<>\"\",COUNTA($C2:FC2),\"\")","v":""},{"$f":"IF(FD2<>\"\",COUNTA($C2:FD2),\"\")","v":""},{"$f":"IF(FE2<>\"\",COUNTA($C2:FE2),\"\")","v":""},{"$f":"IF(FF2<>\"\",COUNTA($C2:FF2),\"\")","v":""},{"$f":"IF(FG2<>\"\",COUNTA($C2:FG2),\"\")","v":""},{"$f":"IF(FH2<>\"\",COUNTA($C2:FH2),\"\")","v":""},{"$f":"IF(FI2<>\"\",COUNTA($C2:FI2),\"\")","v":""},{"$f":"IF(FJ2<>\"\",COUNTA($C2:FJ2),\"\")","v":""},{"$f":"IF(FK2<>\"\",COUNTA($C2:FK2),\"\")","v":""},{"$f":"IF(FL2<>\"\",COUNTA($C2:FL2),\"\")","v":""},{"$f":"IF(FM2<>\"\",COUNTA($C2:FM2),\"\")","v":""},{"$f":"IF(FN2<>\"\",COUNTA($C2:FN2),\"\")","v":""},{"$f":"IF(FO2<>\"\",COUNTA($C2:FO2),\"\")","v":""},{"$f":"IF(FP2<>\"\",COUNTA($C2:FP2),\"\")","v":""},{"$f":"IF(FQ2<>\"\",COUNTA($C2:FQ2),\"\")","v":""},{"$f":"IF(FR2<>\"\",COUNTA($C2:FR2),\"\")","v":""},{"$f":"IF(FS2<>\"\",COUNTA($C2:FS2),\"\")","v":""},{"$f":"IF(FT2<>\"\",COUNTA($C2:FT2),\"\")","v":""},{"$f":"IF(FU2<>\"\",COUNTA($C2:FU2),\"\")","v":""},{"$f":"IF(FV2<>\"\",COUNTA($C2:FV2),\"\")","v":""},{"$f":"IF(FW2<>\"\",COUNTA($C2:FW2),\"\")","v":""},{"$f":"IF(FX2<>\"\",COUNTA($C2:FX2),\"\")","v":""},{"$f":"IF(FY2<>\"\",COUNTA($C2:FY2),\"\")","v":""},{"$f":"IF(FZ2<>\"\",COUNTA($C2:FZ2),\"\")","v":""},{"$f":"IF(GA2<>\"\",COUNTA($C2:GA2),\"\")","v":""},{"$f":"IF(GB2<>\"\",COUNTA($C2:GB2),\"\")","v":""},{"$f":"IF(GC2<>\"\",COUNTA($C2:GC2),\"\")","v":""},{"$f":"IF(GD2<>\"\",COUNTA($C2:GD2),\"\")","v":""},{"$f":"IF(GE2<>\"\",COUNTA($C2:GE2),\"\")","v":""},{"$f":"IF(GF2<>\"\",COUNTA($C2:GF2),\"\")","v":""},{"$f":"IF(GG2<>\"\",COUNTA($C2:GG2),\"\")","v":""},{"$f":"IF(GH2<>\"\",COUNTA($C2:GH2),\"\")","v":""},{"$f":"IF(GI2<>\"\",COUNTA($C2:GI2),\"\")","v":""},{"$f":"IF(GJ2<>\"\",COUNTA($C2:GJ2),\"\")","v":""},{"$f":"IF(GK2<>\"\",COUNTA($C2:GK2),\"\")","v":""},{"$f":"IF(GL2<>\"\",COUNTA($C2:GL2),\"\")","v":""},{"$f":"IF(GM2<>\"\",COUNTA($C2:GM2),\"\")","v":""},{"$f":"IF(GN2<>\"\",COUNTA($C2:GN2),\"\")","v":""},{"$f":"IF(GO2<>\"\",COUNTA($C2:GO2),\"\")","v":""},{"$f":"IF(GP2<>\"\",COUNTA($C2:GP2),\"\")","v":""},{"$f":"IF(GQ2<>\"\",COUNTA($C2:GQ2),\"\")","v":""},{"$f":"IF(GR2<>\"\",COUNTA($C2:GR2),\"\")","v":""},{"$f":"IF(GS2<>\"\",COUNTA($C2:GS2),\"\")","v":""},{"$f":"IF(GT2<>\"\",COUNTA($C2:GT2),\"\")","v":""},{"$f":"IF(GU2<>\"\",COUNTA($C2:GU2),\"\")","v":""},{"$f":"IF(GV2<>\"\",COUNTA($C2:GV2),\"\")","v":""},{"$f":"IF(GW2<>\"\",COUNTA($C2:GW2),\"\")","v":""},{"$f":"IF(GX2<>\"\",COUNTA($C2:GX2),\"\")","v":""},{"$f":"IF(GY2<>\"\",COUNTA($C2:GY2),\"\")","v":""},{"$f":"IF(GZ2<>\"\",COUNTA($C2:GZ2),\"\")","v":""},{"$f":"IF(HA2<>\"\",COUNTA($C2:HA2),\"\")","v":""},{"$f":"IF(HB2<>\"\",COUNTA($C2:HB2),\"\")","v":""},{"$f":"IF(HC2<>\"\",COUNTA($C2:HC2),\"\")","v":""},{"$f":"IF(HD2<>\"\",COUNTA($C2:HD2),\"\")","v":""},{"$f":"IF(HE2<>\"\",COUNTA($C2:HE2),\"\")","v":""},{"$f":"IF(HF2<>\"\",COUNTA($C2:HF2),\"\")","v":""},{"$f":"IF(HG2<>\"\",COUNTA($C2:HG2),\"\")","v":""},{"$f":"IF(HH2<>\"\",COUNTA($C2:HH2),\"\")","v":""},{"$f":"IF(HI2<>\"\",COUNTA($C2:HI2),\"\")","v":""},{"$f":"IF(HJ2<>\"\",COUNTA($C2:HJ2),\"\")","v":""},{"$f":"IF(HK2<>\"\",COUNTA($C2:HK2),\"\")","v":""},{"$f":"IF(HL2<>\"\",COUNTA($C2:HL2),\"\")","v":""},{"$f":"IF(HM2<>\"\",COUNTA($C2:HM2),\"\")","v":""},{"$f":"IF(HN2<>\"\",COUNTA($C2:HN2),\"\")","v":""},{"$f":"IF(HO2<>\"\",COUNTA($C2:HO2),\"\")","v":""},{"$f":"IF(HP2<>\"\",COUNTA($C2:HP2),\"\")","v":""},{"$f":"IF(HQ2<>\"\",COUNTA($C2:HQ2),\"\")","v":""},{"$f":"IF(HR2<>\"\",COUNTA($C2:HR2),\"\")","v":""},{"$f":"IF(HS2<>\"\",COUNTA($C2:HS2),\"\")","v":""},{"$f":"IF(HT2<>\"\",COUNTA($C2:HT2),\"\")","v":""},{"$f":"IF(HU2<>\"\",COUNTA($C2:HU2),\"\")","v":""},{"$f":"IF(HV2<>\"\",COUNTA($C2:HV2),\"\")","v":""},{"$f":"IF(HW2<>\"\",COUNTA($C2:HW2),\"\")","v":""},{"$f":"IF(HX2<>\"\",COUNTA($C2:HX2),\"\")","v":""},{"$f":"IF(HY2<>\"\",COUNTA($C2:HY2),\"\")","v":""},{"$f":"IF(HZ2<>\"\",COUNTA($C2:HZ2),\"\")","v":""},{"$f":"IF(IA2<>\"\",COUNTA($C2:IA2),\"\")","v":""},{"$f":"IF(IB2<>\"\",COUNTA($C2:IB2),\"\")","v":""},{"$f":"IF(IC2<>\"\",COUNTA($C2:IC2),\"\")","v":""},{"$f":"IF(ID2<>\"\",COUNTA($C2:ID2),\"\")","v":""},{"$f":"IF(IE2<>\"\",COUNTA($C2:IE2),\"\")","v":""},{"$f":"IF(IF2<>\"\",COUNTA($C2:IF2),\"\")","v":""},{"$f":"IF(IG2<>\"\",COUNTA($C2:IG2),\"\")","v":""},{"$f":"IF(IH2<>\"\",COUNTA($C2:IH2),\"\")","v":""},{"$f":"IF(II2<>\"\",COUNTA($C2:II2),\"\")","v":""},{"$f":"IF(IJ2<>\"\",COUNTA($C2:IJ2),\"\")","v":""},{"$f":"IF(IK2<>\"\",COUNTA($C2:IK2),\"\")","v":""},{"$f":"IF(IL2<>\"\",COUNTA($C2:IL2),\"\")","v":""},{"$f":"IF(IM2<>\"\",COUNTA($C2:IM2),\"\")","v":""},{"$f":"IF(IN2<>\"\",COUNTA($C2:IN2),\"\")","v":""},{"$f":"IF(IO2<>\"\",COUNTA($C2:IO2),\"\")","v":""},{"$f":"IF(IP2<>\"\",COUNTA($C2:IP2),\"\")","v":""},{"$f":"IF(IQ2<>\"\",COUNTA($C2:IQ2),\"\")","v":""},{"$f":"IF(IR2<>\"\",COUNTA($C2:IR2),\"\")","v":""},{"$f":"IF(IS2<>\"\",COUNTA($C2:IS2),\"\")","v":""},{"$f":"IF(IT2<>\"\",COUNTA($C2:IT2),\"\")","v":""},{"$f":"IF(IU2<>\"\",COUNTA($C2:IU2),\"\")","v":""},{"$f":"IF(IV2<>\"\",COUNTA($C2:IV2),\"\")","v":""},{"$f":"IF(IW2<>\"\",COUNTA($C2:IW2),\"\")","v":""},{"$f":"IF(IX2<>\"\",COUNTA($C2:IX2),\"\")","v":""},{"$f":"IF(IY2<>\"\",COUNTA($C2:IY2),\"\")","v":""},{"$f":"IF(IZ2<>\"\",COUNTA($C2:IZ2),\"\")","v":""},{"$f":"IF(JA2<>\"\",COUNTA($C2:JA2),\"\")","v":""},{"$f":"IF(JB2<>\"\",COUNTA($C2:JB2),\"\")","v":""},{"$f":"IF(JC2<>\"\",COUNTA($C2:JC2),\"\")","v":""},{"$f":"IF(JD2<>\"\",COUNTA($C2:JD2),\"\")","v":""},{"$f":"IF(JE2<>\"\",COUNTA($C2:JE2),\"\")","v":""},{"$f":"IF(JF2<>\"\",COUNTA($C2:JF2),\"\")","v":""},{"$f":"IF(JG2<>\"\",COUNTA($C2:JG2),\"\")","v":""},{"$f":"IF(JH2<>\"\",COUNTA($C2:JH2),\"\")","v":""},{"$f":"IF(JI2<>\"\",COUNTA($C2:JI2),\"\")","v":""},{"$f":"IF(JJ2<>\"\",COUNTA($C2:JJ2),\"\")","v":""},{"$f":"IF(JK2<>\"\",COUNTA($C2:JK2),\"\")","v":""},{"$f":"IF(JL2<>\"\",COUNTA($C2:JL2),\"\")","v":""},{"$f":"IF(JM2<>\"\",COUNTA($C2:JM2),\"\")","v":""},{"$f":"IF(JN2<>\"\",COUNTA($C2:JN2),\"\")","v":""},{"$f":"IF(JO2<>\"\",COUNTA($C2:JO2),\"\")","v":""},{"$f":"IF(JP2<>\"\",COUNTA($C2:JP2),\"\")","v":""},{"$f":"IF(JQ2<>\"\",COUNTA($C2:JQ2),\"\")","v":""},{"$f":"IF(JR2<>\"\",COUNTA($C2:JR2),\"\")","v":""},{"$f":"IF(JS2<>\"\",COUNTA($C2:JS2),\"\")","v":""},{"$f":"IF(JT2<>\"\",COUNTA($C2:JT2),\"\")","v":""},{"$f":"IF(JU2<>\"\",COUNTA($C2:JU2),\"\")","v":""},{"$f":"IF(JV2<>\"\",COUNTA($C2:JV2),\"\")","v":""},{"$f":"IF(JW2<>\"\",COUNTA($C2:JW2),\"\")","v":""},{"$f":"IF(JX2<>\"\",COUNTA($C2:JX2),\"\")","v":""},{"$f":"IF(JY2<>\"\",COUNTA($C2:JY2),\"\")","v":""},{"$f":"IF(JZ2<>\"\",COUNTA($C2:JZ2),\"\")","v":""},{"$f":"IF(KA2<>\"\",COUNTA($C2:KA2),\"\")","v":""},{"$f":"IF(KB2<>\"\",COUNTA($C2:KB2),\"\")","v":""},{"$f":"IF(KC2<>\"\",COUNTA($C2:KC2),\"\")","v":""},{"$f":"IF(KD2<>\"\",COUNTA($C2:KD2),\"\")","v":""},{"$f":"IF(KE2<>\"\",COUNTA($C2:KE2),\"\")","v":""},{"$f":"IF(KF2<>\"\",COUNTA($C2:KF2),\"\")","v":""},{"$f":"IF(KG2<>\"\",COUNTA($C2:KG2),\"\")","v":""},{"$f":"IF(KH2<>\"\",COUNTA($C2:KH2),\"\")","v":""},{"$f":"IF(KI2<>\"\",COUNTA($C2:KI2),\"\")","v":""},{"$f":"IF(KJ2<>\"\",COUNTA($C2:KJ2),\"\")","v":""},{"$f":"IF(KK2<>\"\",COUNTA($C2:KK2),\"\")","v":""},{"$f":"IF(KL2<>\"\",COUNTA($C2:KL2),\"\")","v":""},{"$f":"IF(KM2<>\"\",COUNTA($C2:KM2),\"\")","v":""},{"$f":"IF(KN2<>\"\",COUNTA($C2:KN2),\"\")","v":""},{"$f":"IF(KO2<>\"\",COUNTA($C2:KO2),\"\")","v":""},{"$f":"IF(KP2<>\"\",COUNTA($C2:KP2),\"\")","v":""},{"$f":"IF(KQ2<>\"\",COUNTA($C2:KQ2),\"\")","v":""},{"$f":"IF(KR2<>\"\",COUNTA($C2:KR2),\"\")","v":""},{"$f":"IF(KS2<>\"\",COUNTA($C2:KS2),\"\")","v":""},{"$f":"IF(KT2<>\"\",COUNTA($C2:KT2),\"\")","v":""},{"$f":"IF(KU2<>\"\",COUNTA($C2:KU2),\"\")","v":""},{"$f":"IF(KV2<>\"\",COUNTA($C2:KV2),\"\")","v":""},{"$f":"IF(KW2<>\"\",COUNTA($C2:KW2),\"\")","v":""},{"$f":"IF(KX2<>\"\",COUNTA($C2:KX2),\"\")","v":""},{"$f":"IF(KY2<>\"\",COUNTA($C2:KY2),\"\")","v":""},{"$f":"IF(KZ2<>\"\",COUNTA($C2:KZ2),\"\")","v":""},{"$f":"IF(LA2<>\"\",COUNTA($C2:LA2),\"\")","v":""},{"$f":"IF(LB2<>\"\",COUNTA($C2:LB2),\"\")","v":""},{"$f":"IF(LC2<>\"\",COUNTA($C2:LC2),\"\")","v":""},{"$f":"IF(LD2<>\"\",COUNTA($C2:LD2),\"\")","v":""},{"$f":"IF(LE2<>\"\",COUNTA($C2:LE2),\"\")","v":""},{"$f":"IF(LF2<>\"\",COUNTA($C2:LF2),\"\")","v":""},{"$f":"IF(LG2<>\"\",COUNTA($C2:LG2),\"\")","v":""},{"$f":"IF(LH2<>\"\",COUNTA($C2:LH2),\"\")","v":""},{"$f":"IF(LI2<>\"\",COUNTA($C2:LI2),\"\")","v":""},{"$f":"IF(LJ2<>\"\",COUNTA($C2:LJ2),\"\")","v":""},{"$f":"IF(LK2<>\"\",COUNTA($C2:LK2),\"\")","v":""},{"$f":"IF(LL2<>\"\",COUNTA($C2:LL2),\"\")","v":""},{"$f":"IF(LM2<>\"\",COUNTA($C2:LM2),\"\")","v":""},{"$f":"IF(LN2<>\"\",COUNTA($C2:LN2),\"\")","v":""},{"$f":"IF(LO2<>\"\",COUNTA($C2:LO2),\"\")","v":""},{"$f":"IF(LP2<>\"\",COUNTA($C2:LP2),\"\")","v":""},{"$f":"IF(LQ2<>\"\",COUNTA($C2:LQ2),\"\")","v":""},{"$f":"IF(LR2<>\"\",COUNTA($C2:LR2),\"\")","v":""},{"$f":"IF(LS2<>\"\",COUNTA($C2:LS2),\"\")","v":""},{"$f":"IF(LT2<>\"\",COUNTA($C2:LT2),\"\")","v":""},{"$f":"IF(LU2<>\"\",COUNTA($C2:LU2),\"\")","v":""},{"$f":"IF(LV2<>\"\",COUNTA($C2:LV2),\"\")","v":""},{"$f":"IF(LW2<>\"\",COUNTA($C2:LW2),\"\")","v":""},{"$f":"IF(LX2<>\"\",COUNTA($C2:LX2),\"\")","v":""},{"$f":"IF(LY2<>\"\",COUNTA($C2:LY2),\"\")","v":""},{"$f":"IF(LZ2<>\"\",COUNTA($C2:LZ2),\"\")","v":""},{"$f":"IF(MA2<>\"\",COUNTA($C2:MA2),\"\")","v":""},{"$f":"IF(MB2<>\"\",COUNTA($C2:MB2),\"\")","v":""},{"$f":"IF(MC2<>\"\",COUNTA($C2:MC2),\"\")","v":""},{"$f":"IF(MD2<>\"\",COUNTA($C2:MD2),\"\")","v":""},{"$f":"IF(ME2<>\"\",COUNTA($C2:ME2),\"\")","v":""},{"$f":"IF(MF2<>\"\",COUNTA($C2:MF2),\"\")","v":""},{"$f":"IF(MG2<>\"\",COUNTA($C2:MG2),\"\")","v":""},{"$f":"IF(MH2<>\"\",COUNTA($C2:MH2),\"\")","v":""},{"$f":"IF(MI2<>\"\",COUNTA($C2:MI2),\"\")","v":""},{"$f":"IF(MJ2<>\"\",COUNTA($C2:MJ2),\"\")","v":""},{"$f":"IF(MK2<>\"\",COUNTA($C2:MK2),\"\")","v":""},{"$f":"IF(ML2<>\"\",COUNTA($C2:ML2),\"\")","v":""},{"$f":"IF(MM2<>\"\",COUNTA($C2:MM2),\"\")","v":""},{"$f":"IF(MN2<>\"\",COUNTA($C2:MN2),\"\")","v":""},{"$f":"IF(MO2<>\"\",COUNTA($C2:MO2),\"\")","v":""},{"$f":"IF(MP2<>\"\",COUNTA($C2:MP2),\"\")","v":""},{"$f":"IF(MQ2<>\"\",COUNTA($C2:MQ2),\"\")","v":""},{"$f":"IF(MR2<>\"\",COUNTA($C2:MR2),\"\")","v":""},{"$f":"IF(MS2<>\"\",COUNTA($C2:MS2),\"\")","v":""},{"$f":"IF(MT2<>\"\",COUNTA($C2:MT2),\"\")","v":""},{"$f":"IF(MU2<>\"\",COUNTA($C2:MU2),\"\")","v":""},{"$f":"IF(MV2<>\"\",COUNTA($C2:MV2),\"\")","v":""},{"$f":"IF(MW2<>\"\",COUNTA($C2:MW2),\"\")","v":""},{"$f":"IF(MX2<>\"\",COUNTA($C2:MX2),\"\")","v":""},{"$f":"IF(MY2<>\"\",COUNTA($C2:MY2),\"\")","v":""},{"$f":"IF(MZ2<>\"\",COUNTA($C2:MZ2),\"\")","v":""},{"$f":"IF(NA2<>\"\",COUNTA($C2:NA2),\"\")","v":""},{"$f":"IF(NB2<>\"\",COUNTA($C2:NB2),\"\")","v":""},{"$f":"IF(NC2<>\"\",COUNTA($C2:NC2),\"\")","v":""},{"$f":"IF(ND2<>\"\",COUNTA($C2:ND2),\"\")","v":""},{"$f":"IF(NE2<>\"\",COUNTA($C2:NE2),\"\")","v":""},{"$f":"IF(NF2<>\"\",COUNTA($C2:NF2),\"\")","v":""},{"$f":"IF(NG2<>\"\",COUNTA($C2:NG2),\"\")","v":""},{"$f":"IF(NH2<>\"\",COUNTA($C2:NH2),\"\")","v":""},{"$f":"IF(NI2<>\"\",COUNTA($C2:NI2),\"\")","v":""},{"$f":"IF(NJ2<>\"\",COUNTA($C2:NJ2),\"\")","v":""},{"$f":"IF(NK2<>\"\",COUNTA($C2:NK2),\"\")","v":""},{"$f":"IF(NL2<>\"\",COUNTA($C2:NL2),\"\")","v":""},{"$f":"IF(NM2<>\"\",COUNTA($C2:NM2),\"\")","v":""},{"$f":"IF(NN2<>\"\",COUNTA($C2:NN2),\"\")","v":""},{"$f":"IF(NO2<>\"\",COUNTA($C2:NO2),\"\")","v":""},{"$f":"IF(NP2<>\"\",COUNTA($C2:NP2),\"\")","v":""},{"$f":"IF(NQ2<>\"\",COUNTA($C2:NQ2),\"\")","v":""},{"$f":"IF(NR2<>\"\",COUNTA($C2:NR2),\"\")","v":146},{"$f":"IF(NS2<>\"\",COUNTA($C2:NS2),\"\")","v":147},{"$f":"IF(NT2<>\"\",COUNTA($C2:NT2),\"\")","v":148},{"$f":"IF(NU2<>\"\",COUNTA($C2:NU2),\"\")","v":149},{"$f":"IF(NV2<>\"\",COUNTA($C2:NV2),\"\")","v":150},{"$f":"IF(NW2<>\"\",COUNTA($C2:NW2),\"\")","v":151},{"$f":"IF(NX2<>\"\",COUNTA($C2:NX2),\"\")","v":152},{"$f":"IF(NY2<>\"\",COUNTA($C2:NY2),\"\")","v":153},{"$f":"IF(NZ2<>\"\",COUNTA($C2:NZ2),\"\")","v":154},{"$f":"IF(OA2<>\"\",COUNTA($C2:OA2),\"\")","v":155},{"$f":"IF(OB2<>\"\",COUNTA($C2:OB2),\"\")","v":156},{"$f":"IF(OC2<>\"\",COUNTA($C2:OC2),\"\")","v":157},{"$f":"IF(OD2<>\"\",COUNTA($C2:OD2),\"\")","v":158},{"$f":"IF(OE2<>\"\",COUNTA($C2:OE2),\"\")","v":159},{"$f":"IF(OF2<>\"\",COUNTA($C2:OF2),\"\")","v":160},{"$f":"IF(OG2<>\"\",COUNTA($C2:OG2),\"\")","v":161},{"$f":"IF(OH2<>\"\",COUNTA($C2:OH2),\"\")","v":162},{"$f":"IF(OI2<>\"\",COUNTA($C2:OI2),\"\")","v":163},{"$f":"IF(OJ2<>\"\",COUNTA($C2:OJ2),\"\")","v":164},{"$f":"IF(OK2<>\"\",COUNTA($C2:OK2),\"\")","v":165},{"$f":"IF(OL2<>\"\",COUNTA($C2:OL2),\"\")","v":166},{"$f":"IF(OM2<>\"\",COUNTA($C2:OM2),\"\")","v":167},{"$f":"IF(ON2<>\"\",COUNTA($C2:ON2),\"\")","v":168},{"$f":"IF(OO2<>\"\",COUNTA($C2:OO2),\"\")","v":169},{"$f":"IF(OP2<>\"\",COUNTA($C2:OP2),\"\")","v":170},{"$f":"IF(OQ2<>\"\",COUNTA($C2:OQ2),\"\")","v":171},{"$f":"IF(OR2<>\"\",COUNTA($C2:OR2),\"\")","v":172},{"$f":"IF(OS2<>\"\",COUNTA($C2:OS2),\"\")","v":173},{"$f":"IF(OT2<>\"\",COUNTA($C2:OT2),\"\")","v":174},{"$f":"IF(OU2<>\"\",COUNTA($C2:OU2),\"\")","v":175},{"$f":"IF(OV2<>\"\",COUNTA($C2:OV2),\"\")","v":176},{"$f":"IF(OW2<>\"\",COUNTA($C2:OW2),\"\")","v":177},{"$f":"IF(OX2<>\"\",COUNTA($C2:OX2),\"\")","v":178},{"$f":"IF(OY2<>\"\",COUNTA($C2:OY2),\"\")","v":179},{"$f":"IF(OZ2<>\"\",COUNTA($C2:OZ2),\"\")","v":180},{"$f":"IF(PA2<>\"\",COUNTA($C2:PA2),\"\")","v":181},{"$f":"IF(PB2<>\"\",COUNTA($C2:PB2),\"\")","v":182},{"$f":"IF(PC2<>\"\",COUNTA($C2:PC2),\"\")","v":183},{"$f":"IF(PD2<>\"\",COUNTA($C2:PD2),\"\")","v":184},{"$f":"IF(PE2<>\"\",COUNTA($C2:PE2),\"\")","v":185},{"$f":"IF(PF2<>\"\",COUNTA($C2:PF2),\"\")","v":186},{"$f":"IF(PG2<>\"\",COUNTA($C2:PG2),\"\")","v":187},{"$f":"IF(PH2<>\"\",COUNTA($C2:PH2),\"\")","v":188},{"$f":"IF(PI2<>\"\",COUNTA($C2:PI2),\"\")","v":189},{"$f":"IF(PJ2<>\"\",COUNTA($C2:PJ2),\"\")","v":190},{"$f":"IF(PK2<>\"\",COUNTA($C2:PK2),\"\")","v":191},{"$f":"IF(PL2<>\"\",COUNTA($C2:PL2),\"\")","v":192},{"$f":"IF(PM2<>\"\",COUNTA($C2:PM2),\"\")","v":193},{"$f":"IF(PN2<>\"\",COUNTA($C2:PN2),\"\")","v":194},{"$f":"IF(PO2<>\"\",COUNTA($C2:PO2),\"\")","v":195},{"$f":"IF(PP2<>\"\",COUNTA($C2:PP2),\"\")","v":196},{"$f":"IF(PQ2<>\"\",COUNTA($C2:PQ2),\"\")","v":197},{"$f":"IF(PR2<>\"\",COUNTA($C2:PR2),\"\")","v":198},{"$f":"IF(PS2<>\"\",COUNTA($C2:PS2),\"\")","v":199},{"$f":"IF(PT2<>\"\",COUNTA($C2:PT2),\"\")","v":200},{"$f":"IF(PU2<>\"\",COUNTA($C2:PU2),\"\")","v":201},{"$f":"IF(PV2<>\"\",COUNTA($C2:PV2),\"\")","v":202},{"$f":"IF(PW2<>\"\",COUNTA($C2:PW2),\"\")","v":203},{"$f":"IF(PX2<>\"\",COUNTA($C2:PX2),\"\")","v":204},{"$f":"IF(PY2<>\"\",COUNTA($C2:PY2),\"\")","v":205},{"$f":"IF(PZ2<>\"\",COUNTA($C2:PZ2),\"\")","v":206},{"$f":"IF(QA2<>\"\",COUNTA($C2:QA2),\"\")","v":207},{"$f":"IF(QB2<>\"\",COUNTA($C2:QB2),\"\")","v":208},{"$f":"IF(QC2<>\"\",COUNTA($C2:QC2),\"\")","v":209},{"$f":"IF(QD2<>\"\",COUNTA($C2:QD2),\"\")","v":210},{"$f":"IF(QE2<>\"\",COUNTA($C2:QE2),\"\")","v":211},{"$f":"IF(QF2<>\"\",COUNTA($C2:QF2),\"\")","v":212},{"$f":"IF(QG2<>\"\",COUNTA($C2:QG2),\"\")","v":213},{"$f":"IF(QH2<>\"\",COUNTA($C2:QH2),\"\")","v":214},{"$f":"IF(QI2<>\"\",COUNTA($C2:QI2),\"\")","v":215},{"$f":"IF(QJ2<>\"\",COUNTA($C2:QJ2),\"\")","v":216},{"$f":"IF(QK2<>\"\",COUNTA($C2:QK2),\"\")","v":217},{"$f":"IF(QL2<>\"\",COUNTA($C2:QL2),\"\")","v":218},{"$f":"IF(QM2<>\"\",COUNTA($C2:QM2),\"\")","v":219},{"$f":"IF(QN2<>\"\",COUNTA($C2:QN2),\"\")","v":220},{"$f":"IF(QO2<>\"\",COUNTA($C2:QO2),\"\")","v":221},{"$f":"IF(QP2<>\"\",COUNTA($C2:QP2),\"\")","v":222},{"$f":"IF(QQ2<>\"\",COUNTA($C2:QQ2),\"\")","v":223},{"$f":"IF(QR2<>\"\",COUNTA($C2:QR2),\"\")","v":224},{"$f":"IF(QS2<>\"\",COUNTA($C2:QS2),\"\")","v":225},{"$f":"IF(QT2<>\"\",COUNTA($C2:QT2),\"\")","v":226},{"$f":"IF(QU2<>\"\",COUNTA($C2:QU2),\"\")","v":227},{"$f":"IF(QV2<>\"\",COUNTA($C2:QV2),\"\")","v":228},{"$f":"IF(QW2<>\"\",COUNTA($C2:QW2),\"\")","v":229},{"$f":"IF(QX2<>\"\",COUNTA($C2:QX2),\"\")","v":230},{"$f":"IF(QY2<>\"\",COUNTA($C2:QY2),\"\")","v":231},{"$f":"IF(QZ2<>\"\",COUNTA($C2:QZ2),\"\")","v":232},{"$f":"IF(RA2<>\"\",COUNTA($C2:RA2),\"\")","v":233},{"$f":"IF(RB2<>\"\",COUNTA($C2:RB2),\"\")","v":234},{"$f":"IF(RC2<>\"\",COUNTA($C2:RC2),\"\")","v":235},{"$f":"IF(RD2<>\"\",COUNTA($C2:RD2),\"\")","v":236},{"$f":"IF(RE2<>\"\",COUNTA($C2:RE2),\"\")","v":237},{"$f":"IF(RF2<>\"\",COUNTA($C2:RF2),\"\")","v":238},{"$f":"IF(RG2<>\"\",COUNTA($C2:RG2),\"\")","v":239},{"$f":"IF(RH2<>\"\",COUNTA($C2:RH2),\"\")","v":240},{"$f":"IF(RI2<>\"\",COUNTA($C2:RI2),\"\")","v":241},{"$f":"IF(RJ2<>\"\",COUNTA($C2:RJ2),\"\")","v":242},{"$f":"IF(RK2<>\"\",COUNTA($C2:RK2),\"\")","v":243},{"$f":"IF(RL2<>\"\",COUNTA($C2:RL2),\"\")","v":244},{"$f":"IF(RM2<>\"\",COUNTA($C2:RM2),\"\")","v":245},{"$f":"IF(RN2<>\"\",COUNTA($C2:RN2),\"\")","v":246},{"$f":"IF(RO2<>\"\",COUNTA($C2:RO2),\"\")","v":247},{"$f":"IF(RP2<>\"\",COUNTA($C2:RP2),\"\")","v":248},{"$f":"IF(RQ2<>\"\",COUNTA($C2:RQ2),\"\")","v":249},{"$f":"IF(RR2<>\"\",COUNTA($C2:RR2),\"\")","v":250},{"$f":"IF(RS2<>\"\",COUNTA($C2:RS2),\"\")","v":251},{"$f":"IF(RT2<>\"\",COUNTA($C2:RT2),\"\")","v":252},{"$f":"IF(RU2<>\"\",COUNTA($C2:RU2),\"\")","v":253},{"$f":"IF(RV2<>\"\",COUNTA($C2:RV2),\"\")","v":254},{"$f":"IF(RW2<>\"\",COUNTA($C2:RW2),\"\")","v":255},{"$f":"IF(RX2<>\"\",COUNTA($C2:RX2),\"\")","v":256},{"$f":"IF(RY2<>\"\",COUNTA($C2:RY2),\"\")","v":257},{"$f":"IF(RZ2<>\"\",COUNTA($C2:RZ2),\"\")","v":258},{"$f":"IF(SA2<>\"\",COUNTA($C2:SA2),\"\")","v":259},{"$f":"IF(SB2<>\"\",COUNTA($C2:SB2),\"\")","v":260},{"$f":"IF(SC2<>\"\",COUNTA($C2:SC2),\"\")","v":261},{"$f":"IF(SD2<>\"\",COUNTA($C2:SD2),\"\")","v":262},{"$f":"IF(SE2<>\"\",COUNTA($C2:SE2),\"\")","v":263},{"$f":"IF(SF2<>\"\",COUNTA($C2:SF2),\"\")","v":264},{"$f":"IF(SG2<>\"\",COUNTA($C2:SG2),\"\")","v":265},{"$f":"IF(SH2<>\"\",COUNTA($C2:SH2),\"\")","v":266},{"$f":"IF(SI2<>\"\",COUNTA($C2:SI2),\"\")","v":267},{"$f":"IF(SJ2<>\"\",COUNTA($C2:SJ2),\"\")","v":268},{"$f":"IF(SK2<>\"\",COUNTA($C2:SK2),\"\")","v":269},{"$f":"IF(SL2<>\"\",COUNTA($C2:SL2),\"\")","v":270},{"$f":"IF(SM2<>\"\",COUNTA($C2:SM2),\"\")","v":271},{"$f":"IF(SN2<>\"\",COUNTA($C2:SN2),\"\")","v":272},{"$f":"IF(SO2<>\"\",COUNTA($C2:SO2),\"\")","v":273},{"$f":"IF(SP2<>\"\",COUNTA($C2:SP2),\"\")","v":274},{"$f":"IF(SQ2<>\"\",COUNTA($C2:SQ2),\"\")","v":275},{"$f":"IF(SR2<>\"\",COUNTA($C2:SR2),\"\")","v":276},{"$f":"IF(SS2<>\"\",COUNTA($C2:SS2),\"\")","v":277},{"$f":"IF(ST2<>\"\",COUNTA($C2:ST2),\"\")","v":278},{"$f":"IF(SU2<>\"\",COUNTA($C2:SU2),\"\")","v":279},{"$f":"IF(SV2<>\"\",COUNTA($C2:SV2),\"\")","v":280},{"$f":"IF(SW2<>\"\",COUNTA($C2:SW2),\"\")","v":281},{"$f":"IF(SX2<>\"\",COUNTA($C2:SX2),\"\")","v":282},{"$f":"IF(SY2<>\"\",COUNTA($C2:SY2),\"\")","v":283},{"$f":"IF(SZ2<>\"\",COUNTA($C2:SZ2),\"\")","v":284},{"$f":"IF(TA2<>\"\",COUNTA($C2:TA2),\"\")","v":285},{"$f":"IF(TB2<>\"\",COUNTA($C2:TB2),\"\")","v":286},{"$f":"IF(TC2<>\"\",COUNTA($C2:TC2),\"\")","v":287},{"$f":"IF(TD2<>\"\",COUNTA($C2:TD2),\"\")","v":288},{"$f":"IF(TE2<>\"\",COUNTA($C2:TE2),\"\")","v":289},{"$f":"IF(TF2<>\"\",COUNTA($C2:TF2),\"\")","v":290},{"$f":"IF(TG2<>\"\",COUNTA($C2:TG2),\"\")","v":291},{"$f":"IF(TH2<>\"\",COUNTA($C2:TH2),\"\")","v":292},{"$f":"IF(TI2<>\"\",COUNTA($C2:TI2),\"\")","v":293},{"$f":"IF(TJ2<>\"\",COUNTA($C2:TJ2),\"\")","v":294},{"$f":"IF(TK2<>\"\",COUNTA($C2:TK2),\"\")","v":295},{"$f":"IF(TL2<>\"\",COUNTA($C2:TL2),\"\")","v":296},{"$f":"IF(TM2<>\"\",COUNTA($C2:TM2),\"\")","v":297},{"$f":"IF(TN2<>\"\",COUNTA($C2:TN2),\"\")","v":298},{"$f":"IF(TO2<>\"\",COUNTA($C2:TO2),\"\")","v":299},{"$f":"IF(TP2<>\"\",COUNTA($C2:TP2),\"\")","v":300},{"$f":"IF(TQ2<>\"\",COUNTA($C2:TQ2),\"\")","v":301},{"$f":"IF(TR2<>\"\",COUNTA($C2:TR2),\"\")","v":302},{"$f":"IF(TS2<>\"\",COUNTA($C2:TS2),\"\")","v":""},{"$f":"IF(TT2<>\"\",COUNTA($C2:TT2),\"\")","v":""},{"$f":"IF(TU2<>\"\",COUNTA($C2:TU2),\"\")","v":""},{"$f":"IF(TV2<>\"\",COUNTA($C2:TV2),\"\")","v":""},{"$f":"IF(TW2<>\"\",COUNTA($C2:TW2),\"\")","v":""},{"$f":"IF(TX2<>\"\",COUNTA($C2:TX2),\"\")","v":""},{"$f":"IF(TY2<>\"\",COUNTA($C2:TY2),\"\")","v":""},{"$f":"IF(TZ2<>\"\",COUNTA($C2:TZ2),\"\")","v":""},{"$f":"IF(UA2<>\"\",COUNTA($C2:UA2),\"\")","v":303},{"$f":"IF(UB2<>\"\",COUNTA($C2:UB2),\"\")","v":304},{"$f":"IF(UC2<>\"\",COUNTA($C2:UC2),\"\")","v":305},{"$f":"IF(UD2<>\"\",COUNTA($C2:UD2),\"\")","v":306},{"$f":"IF(UE2<>\"\",COUNTA($C2:UE2),\"\")","v":307},{"$f":"IF(UF2<>\"\",COUNTA($C2:UF2),\"\")","v":308},{"$f":"IF(UG2<>\"\",COUNTA($C2:UG2),\"\")","v":309},{"$f":"IF(UH2<>\"\",COUNTA($C2:UH2),\"\")","v":310},{"$f":"IF(UI2<>\"\",COUNTA($C2:UI2),\"\")","v":""},{"$f":"IF(UJ2<>\"\",COUNTA($C2:UJ2),\"\")","v":""},{"$f":"IF(UK2<>\"\",COUNTA($C2:UK2),\"\")","v":""},{"$f":"IF(UL2<>\"\",COUNTA($C2:UL2),\"\")","v":""},{"$f":"IF(UM2<>\"\",COUNTA($C2:UM2),\"\")","v":""},{"$f":"IF(UN2<>\"\",COUNTA($C2:UN2),\"\")","v":""},{"$f":"IF(UO2<>\"\",COUNTA($C2:UO2),\"\")","v":""},{"$f":"IF(UP2<>\"\",COUNTA($C2:UP2),\"\")","v":""},{"$f":"IF(UQ2<>\"\",COUNTA($C2:UQ2),\"\")","v":""},{"$f":"IF(UR2<>\"\",COUNTA($C2:UR2),\"\")","v":""},{"$f":"IF(US2<>\"\",COUNTA($C2:US2),\"\")","v":""},{"$f":"IF(UT2<>\"\",COUNTA($C2:UT2),\"\")","v":""},{"$f":"IF(UU2<>\"\",COUNTA($C2:UU2),\"\")","v":""},{"$f":"IF(UV2<>\"\",COUNTA($C2:UV2),\"\")","v":""},{"$f":"IF(UW2<>\"\",COUNTA($C2:UW2),\"\")","v":""},{"$f":"IF(UX2<>\"\",COUNTA($C2:UX2),\"\")","v":""},{"$f":"IF(UY2<>\"\",COUNTA($C2:UY2),\"\")","v":311},{"$f":"IF(UZ2<>\"\",COUNTA($C2:UZ2),\"\")","v":312},{"$f":"IF(VA2<>\"\",COUNTA($C2:VA2),\"\")","v":313},{"$f":"IF(VB2<>\"\",COUNTA($C2:VB2),\"\")","v":314},{"$f":"IF(VC2<>\"\",COUNTA($C2:VC2),\"\")","v":315},{"$f":"IF(VD2<>\"\",COUNTA($C2:VD2),\"\")","v":316},{"$f":"IF(VE2<>\"\",COUNTA($C2:VE2),\"\")","v":317},{"$f":"IF(VF2<>\"\",COUNTA($C2:VF2),\"\")","v":318},{"$f":"IF(VG2<>\"\",COUNTA($C2:VG2),\"\")","v":319},{"$f":"IF(VH2<>\"\",COUNTA($C2:VH2),\"\")","v":320},{"$f":"IF(VI2<>\"\",COUNTA($C2:VI2),\"\")","v":321},{"$f":"IF(VJ2<>\"\",COUNTA($C2:VJ2),\"\")","v":322},{"$f":"IF(VK2<>\"\",COUNTA($C2:VK2),\"\")","v":323},{"$f":"IF(VL2<>\"\",COUNTA($C2:VL2),\"\")","v":324},{"$f":"IF(VM2<>\"\",COUNTA($C2:VM2),\"\")","v":325},{"$f":"IF(VN2<>\"\",COUNTA($C2:VN2),\"\")","v":326},{"$f":"IF(VO2<>\"\",COUNTA($C2:VO2),\"\")","v":327},{"$f":"IF(VP2<>\"\",COUNTA($C2:VP2),\"\")","v":328},{"$f":"IF(VQ2<>\"\",COUNTA($C2:VQ2),\"\")","v":329},{"$f":"IF(VR2<>\"\",COUNTA($C2:VR2),\"\")","v":330},{"$f":"IF(VS2<>\"\",COUNTA($C2:VS2),\"\")","v":331},{"$f":"IF(VT2<>\"\",COUNTA($C2:VT2),\"\")","v":332},{"$f":"IF(VU2<>\"\",COUNTA($C2:VU2),\"\")","v":333},{"$f":"IF(VV2<>\"\",COUNTA($C2:VV2),\"\")","v":334},{"$f":"IF(VW2<>\"\",COUNTA($C2:VW2),\"\")","v":335},{"$f":"IF(VX2<>\"\",COUNTA($C2:VX2),\"\")","v":336},{"$f":"IF(VY2<>\"\",COUNTA($C2:VY2),\"\")","v":337},{"$f":"IF(VZ2<>\"\",COUNTA($C2:VZ2),\"\")","v":338},{"$f":"IF(WA2<>\"\",COUNTA($C2:WA2),\"\")","v":339},{"$f":"IF(WB2<>\"\",COUNTA($C2:WB2),\"\")","v":340},{"$f":"IF(WC2<>\"\",COUNTA($C2:WC2),\"\")","v":341},{"$f":"IF(WD2<>\"\",COUNTA($C2:WD2),\"\")","v":342},{"$f":"IF(WE2<>\"\",COUNTA($C2:WE2),\"\")","v":343},{"$f":"IF(WF2<>\"\",COUNTA($C2:WF2),\"\")","v":344},{"$f":"IF(WG2<>\"\",COUNTA($C2:WG2),\"\")","v":345},{"$f":"IF(WH2<>\"\",COUNTA($C2:WH2),\"\")","v":346},{"$f":"IF(WI2<>\"\",COUNTA($C2:WI2),\"\")","v":347},{"$f":"IF(WJ2<>\"\",COUNTA($C2:WJ2),\"\")","v":348},{"$f":"IF(WK2<>\"\",COUNTA($C2:WK2),\"\")","v":349},{"$f":"IF(WL2<>\"\",COUNTA($C2:WL2),\"\")","v":350},{"$f":"IF(WM2<>\"\",COUNTA($C2:WM2),\"\")","v":351},{"$f":"IF(WN2<>\"\",COUNTA($C2:WN2),\"\")","v":352},{"$f":"IF(WO2<>\"\",COUNTA($C2:WO2),\"\")","v":353},{"$f":"IF(WP2<>\"\",COUNTA($C2:WP2),\"\")","v":354},{"$f":"IF(WQ2<>\"\",COUNTA($C2:WQ2),\"\")","v":355},{"$f":"IF(WR2<>\"\",COUNTA($C2:WR2),\"\")","v":356},{"$f":"IF(WS2<>\"\",COUNTA($C2:WS2),\"\")","v":357},{"$f":"IF(WT2<>\"\",COUNTA($C2:WT2),\"\")","v":358},{"$f":"IF(WU2<>\"\",COUNTA($C2:WU2),\"\")","v":359},{"$f":"IF(WV2<>\"\",COUNTA($C2:WV2),\"\")","v":360},{"$f":"IF(WW2<>\"\",COUNTA($C2:WW2),\"\")","v":""},{"$f":"IF(WX2<>\"\",COUNTA($C2:WX2),\"\")","v":""},{"$f":"IF(WY2<>\"\",COUNTA($C2:WY2),\"\")","v":""},{"$f":"IF(WZ2<>\"\",COUNTA($C2:WZ2),\"\")","v":""},{"$f":"IF(XA2<>\"\",COUNTA($C2:XA2),\"\")","v":""},{"$f":"IF(XB2<>\"\",COUNTA($C2:XB2),\"\")","v":""},{"$f":"IF(XC2<>\"\",COUNTA($C2:XC2),\"\")","v":""},{"$f":"IF(XD2<>\"\",COUNTA($C2:XD2),\"\")","v":""},{"$f":"IF(XE2<>\"\",COUNTA($C2:XE2),\"\")","v":""},{"$f":"IF(XF2<>\"\",COUNTA($C2:XF2),\"\")","v":""},{"$f":"IF(XG2<>\"\",COUNTA($C2:XG2),\"\")","v":""},{"$f":"IF(XH2<>\"\",COUNTA($C2:XH2),\"\")","v":""},{"$f":"IF(XI2<>\"\",COUNTA($C2:XI2),\"\")","v":""},{"$f":"IF(XJ2<>\"\",COUNTA($C2:XJ2),\"\")","v":""},{"$f":"IF(XK2<>\"\",COUNTA($C2:XK2),\"\")","v":""},{"$f":"IF(XL2<>\"\",COUNTA($C2:XL2),\"\")","v":""},{"$f":"IF(XM2<>\"\",COUNTA($C2:XM2),\"\")","v":""},{"$f":"IF(XN2<>\"\",COUNTA($C2:XN2),\"\")","v":""},{"$f":"IF(XO2<>\"\",COUNTA($C2:XO2),\"\")","v":""},{"$f":"IF(XP2<>\"\",COUNTA($C2:XP2),\"\")","v":""},{"$f":"IF(XQ2<>\"\",COUNTA($C2:XQ2),\"\")","v":""},{"$f":"IF(XR2<>\"\",COUNTA($C2:XR2),\"\")","v":""},{"$f":"IF(XS2<>\"\",COUNTA($C2:XS2),\"\")","v":""},{"$f":"IF(XT2<>\"\",COUNTA($C2:XT2),\"\")","v":""},{"$f":"IF(XU2<>\"\",COUNTA($C2:XU2),\"\")","v":""},{"$f":"IF(XV2<>\"\",COUNTA($C2:XV2),\"\")","v":""},{"$f":"IF(XW2<>\"\",COUNTA($C2:XW2),\"\")","v":""},{"$f":"IF(XX2<>\"\",COUNTA($C2:XX2),\"\")","v":""},{"$f":"IF(XY2<>\"\",COUNTA($C2:XY2),\"\")","v":""},{"$f":"IF(XZ2<>\"\",COUNTA($C2:XZ2),\"\")","v":""},{"$f":"IF(YA2<>\"\",COUNTA($C2:YA2),\"\")","v":""},{"$f":"IF(YB2<>\"\",COUNTA($C2:YB2),\"\")","v":""},{"$f":"IF(YC2<>\"\",COUNTA($C2:YC2),\"\")","v":""},{"$f":"IF(YD2<>\"\",COUNTA($C2:YD2),\"\")","v":""},{"$f":"IF(YE2<>\"\",COUNTA($C2:YE2),\"\")","v":""},{"$f":"IF(YF2<>\"\",COUNTA($C2:YF2),\"\")","v":""},{"$f":"IF(YG2<>\"\",COUNTA($C2:YG2),\"\")","v":""},{"$f":"IF(YH2<>\"\",COUNTA($C2:YH2),\"\")","v":""},{"$f":"IF(YI2<>\"\",COUNTA($C2:YI2),\"\")","v":""},{"$f":"IF(YJ2<>\"\",COUNTA($C2:YJ2),\"\")","v":""},{"$f":"IF(YK2<>\"\",COUNTA($C2:YK2),\"\")","v":""},{"$f":"IF(YL2<>\"\",COUNTA($C2:YL2),\"\")","v":""},{"$f":"IF(YM2<>\"\",COUNTA($C2:YM2),\"\")","v":""},{"$f":"IF(YN2<>\"\",COUNTA($C2:YN2),\"\")","v":""},{"$f":"IF(YO2<>\"\",COUNTA($C2:YO2),\"\")","v":""},{"$f":"IF(YP2<>\"\",COUNTA($C2:YP2),\"\")","v":""},{"$f":"IF(YQ2<>\"\",COUNTA($C2:YQ2),\"\")","v":""},{"$f":"IF(YR2<>\"\",COUNTA($C2:YR2),\"\")","v":""},{"$f":"IF(YS2<>\"\",COUNTA($C2:YS2),\"\")","v":""},{"$f":"IF(YT2<>\"\",COUNTA($C2:YT2),\"\")","v":""},{"$f":"IF(YU2<>\"\",COUNTA($C2:YU2),\"\")","v":""},{"$f":"IF(YV2<>\"\",COUNTA($C2:YV2),\"\")","v":""},{"$f":"IF(YW2<>\"\",COUNTA($C2:YW2),\"\")","v":""},{"$f":"IF(YX2<>\"\",COUNTA($C2:YX2),\"\")","v":""},{"$f":"IF(YY2<>\"\",COUNTA($C2:YY2),\"\")","v":""},{"$f":"IF(YZ2<>\"\",COUNTA($C2:YZ2),\"\")","v":""},{"$f":"IF(ZA2<>\"\",COUNTA($C2:ZA2),\"\")","v":""},{"$f":"IF(ZB2<>\"\",COUNTA($C2:ZB2),\"\")","v":""},{"$f":"IF(ZC2<>\"\",COUNTA($C2:ZC2),\"\")","v":""},{"$f":"IF(ZD2<>\"\",COUNTA($C2:ZD2),\"\")","v":""},{"$f":"IF(ZE2<>\"\",COUNTA($C2:ZE2),\"\")","v":""},{"$f":"IF(ZF2<>\"\",COUNTA($C2:ZF2),\"\")","v":""},{"$f":"IF(ZG2<>\"\",COUNTA($C2:ZG2),\"\")","v":""},{"$f":"IF(ZH2<>\"\",COUNTA($C2:ZH2),\"\")","v":""},{"$f":"IF(ZI2<>\"\",COUNTA($C2:ZI2),\"\")","v":""},{"$f":"IF(ZJ2<>\"\",COUNTA($C2:ZJ2),\"\")","v":""},{"$f":"IF(ZK2<>\"\",COUNTA($C2:ZK2),\"\")","v":""},{"$f":"IF(ZL2<>\"\",COUNTA($C2:ZL2),\"\")","v":""},{"$f":"IF(ZM2<>\"\",COUNTA($C2:ZM2),\"\")","v":""},{"$f":"IF(ZN2<>\"\",COUNTA($C2:ZN2),\"\")","v":""},{"$f":"IF(ZO2<>\"\",COUNTA($C2:ZO2),\"\")","v":""},{"$f":"IF(ZP2<>\"\",COUNTA($C2:ZP2),\"\")","v":""},{"$f":"IF(ZQ2<>\"\",COUNTA($C2:ZQ2),\"\")","v":""},{"$f":"IF(ZR2<>\"\",COUNTA($C2:ZR2),\"\")","v":""},{"$f":"IF(ZS2<>\"\",COUNTA($C2:ZS2),\"\")","v":""},{"$f":"IF(ZT2<>\"\",COUNTA($C2:ZT2),\"\")","v":""},{"$f":"IF(ZU2<>\"\",COUNTA($C2:ZU2),\"\")","v":""},{"$f":"IF(ZV2<>\"\",COUNTA($C2:ZV2),\"\")","v":""},{"$f":"IF(ZW2<>\"\",COUNTA($C2:ZW2),\"\")","v":""},{"$f":"IF(ZX2<>\"\",COUNTA($C2:ZX2),\"\")","v":""},{"$f":"IF(ZY2<>\"\",COUNTA($C2:ZY2),\"\")","v":""},{"$f":"IF(ZZ2<>\"\",COUNTA($C2:ZZ2),\"\")","v":""},{"$f":"IF(AAA2<>\"\",COUNTA($C2:AAA2),\"\")","v":""},{"$f":"IF(AAB2<>\"\",COUNTA($C2:AAB2),\"\")","v":""},{"$f":"IF(AAC2<>\"\",COUNTA($C2:AAC2),\"\")","v":""},{"$f":"IF(AAD2<>\"\",COUNTA($C2:AAD2),\"\")","v":""},{"$f":"IF(AAE2<>\"\",COUNTA($C2:AAE2),\"\")","v":""},{"$f":"IF(AAF2<>\"\",COUNTA($C2:AAF2),\"\")","v":""},{"$f":"IF(AAG2<>\"\",COUNTA($C2:AAG2),\"\")","v":""},{"$f":"IF(AAH2<>\"\",COUNTA($C2:AAH2),\"\")","v":""},{"$f":"IF(AAI2<>\"\",COUNTA($C2:AAI2),\"\")","v":""},{"$f":"IF(AAJ2<>\"\",COUNTA($C2:AAJ2),\"\")","v":""},{"$f":"IF(AAK2<>\"\",COUNTA($C2:AAK2),\"\")","v":""},{"$f":"IF(AAL2<>\"\",COUNTA($C2:AAL2),\"\")","v":""},{"$f":"IF(AAM2<>\"\",COUNTA($C2:AAM2),\"\")","v":""},{"$f":"IF(AAN2<>\"\",COUNTA($C2:AAN2),\"\")","v":""},{"$f":"IF(AAO2<>\"\",COUNTA($C2:AAO2),\"\")","v":""},{"$f":"IF(AAP2<>\"\",COUNTA($C2:AAP2),\"\")","v":""},{"$f":"IF(AAQ2<>\"\",COUNTA($C2:AAQ2),\"\")","v":""},{"$f":"IF(AAR2<>\"\",COUNTA($C2:AAR2),\"\")","v":""},{"$f":"IF(AAS2<>\"\",COUNTA($C2:AAS2),\"\")","v":361},{"$f":"IF(AAT2<>\"\",COUNTA($C2:AAT2),\"\")","v":""},{"$f":"IF(AAU2<>\"\",COUNTA($C2:AAU2),\"\")","v":""},{"$f":"IF(AAV2<>\"\",COUNTA($C2:AAV2),\"\")","v":""},{"$f":"IF(AAW2<>\"\",COUNTA($C2:AAW2),\"\")","v":362},{"$f":"IF(AAX2<>\"\",COUNTA($C2:AAX2),\"\")","v":""},{"$f":"IF(AAY2<>\"\",COUNTA($C2:AAY2),\"\")","v":""},{"$f":"IF(AAZ2<>\"\",COUNTA($C2:AAZ2),\"\")","v":""},{"$f":"IF(ABA2<>\"\",COUNTA($C2:ABA2),\"\")","v":""},{"$f":"IF(ABB2<>\"\",COUNTA($C2:ABB2),\"\")","v":""},{"$f":"IF(ABC2<>\"\",COUNTA($C2:ABC2),\"\")","v":""},{"$f":"IF(ABD2<>\"\",COUNTA($C2:ABD2),\"\")","v":""},{"$f":"IF(ABE2<>\"\",COUNTA($C2:ABE2),\"\")","v":""},{"$f":"IF(ABF2<>\"\",COUNTA($C2:ABF2),\"\")","v":""},{"$f":"IF(ABG2<>\"\",COUNTA($C2:ABG2),\"\")","v":""},{"$f":"IF(ABH2<>\"\",COUNTA($C2:ABH2),\"\")","v":""},{"$f":"IF(ABI2<>\"\",COUNTA($C2:ABI2),\"\")","v":""},{"$f":"IF(ABJ2<>\"\",COUNTA($C2:ABJ2),\"\")","v":""},{"$f":"IF(ABK2<>\"\",COUNTA($C2:ABK2),\"\")","v":""},{"$f":"IF(ABL2<>\"\",COUNTA($C2:ABL2),\"\")","v":""},{"$f":"IF(ABM2<>\"\",COUNTA($C2:ABM2),\"\")","v":""},{"$f":"IF(ABN2<>\"\",COUNTA($C2:ABN2),\"\")","v":""},{"$f":"IF(ABO2<>\"\",COUNTA($C2:ABO2),\"\")","v":""},{"$f":"IF(ABP2<>\"\",COUNTA($C2:ABP2),\"\")","v":""},{"$f":"IF(ABQ2<>\"\",COUNTA($C2:ABQ2),\"\")","v":363},{"$f":"IF(ABR2<>\"\",COUNTA($C2:ABR2),\"\")","v":""},{"$f":"IF(ABS2<>\"\",COUNTA($C2:ABS2),\"\")","v":""},{"$f":"IF(ABT2<>\"\",COUNTA($C2:ABT2),\"\")","v":""},{"$f":"IF(ABU2<>\"\",COUNTA($C2:ABU2),\"\")","v":364},{"$f":"IF(ABV2<>\"\",COUNTA($C2:ABV2),\"\")","v":""},{"$f":"IF(ABW2<>\"\",COUNTA($C2:ABW2),\"\")","v":""},{"$f":"IF(ABX2<>\"\",COUNTA($C2:ABX2),\"\")","v":""},{"$f":"IF(ABY2<>\"\",COUNTA($C2:ABY2),\"\")","v":""},{"$f":"IF(ABZ2<>\"\",COUNTA($C2:ABZ2),\"\")","v":""},{"$f":"IF(ACA2<>\"\",COUNTA($C2:ACA2),\"\")","v":""},{"$f":"IF(ACB2<>\"\",COUNTA($C2:ACB2),\"\")","v":""},{"$f":"IF(ACC2<>\"\",COUNTA($C2:ACC2),\"\")","v":""},{"$f":"IF(ACD2<>\"\",COUNTA($C2:ACD2),\"\")","v":""},{"$f":"IF(ACE2<>\"\",COUNTA($C2:ACE2),\"\")","v":""},{"$f":"IF(ACF2<>\"\",COUNTA($C2:ACF2),\"\")","v":""},{"$f":"IF(ACG2<>\"\",COUNTA($C2:ACG2),\"\")","v":""},{"$f":"IF(ACH2<>\"\",COUNTA($C2:ACH2),\"\")","v":""},{"$f":"IF(ACI2<>\"\",COUNTA($C2:ACI2),\"\")","v":""},{"$f":"IF(ACJ2<>\"\",COUNTA($C2:ACJ2),\"\")","v":""},{"$f":"IF(ACK2<>\"\",COUNTA($C2:ACK2),\"\")","v":""},{"$f":"IF(ACL2<>\"\",COUNTA($C2:ACL2),\"\")","v":""},{"$f":"IF(ACM2<>\"\",COUNTA($C2:ACM2),\"\")","v":""},{"$f":"IF(ACN2<>\"\",COUNTA($C2:ACN2),\"\")","v":""},{"$f":"IF(ACO2<>\"\",COUNTA($C2:ACO2),\"\")","v":365},{"$f":"IF(ACP2<>\"\",COUNTA($C2:ACP2),\"\")","v":366},{"$f":"IF(ACQ2<>\"\",COUNTA($C2:ACQ2),\"\")","v":367},{"$f":"IF(ACR2<>\"\",COUNTA($C2:ACR2),\"\")","v":368},{"$f":"IF(ACS2<>\"\",COUNTA($C2:ACS2),\"\")","v":369},{"$f":"IF(ACT2<>\"\",COUNTA($C2:ACT2),\"\")","v":370},{"$f":"IF(ACU2<>\"\",COUNTA($C2:ACU2),\"\")","v":371},{"$f":"IF(ACV2<>\"\",COUNTA($C2:ACV2),\"\")","v":372},{"$f":"IF(ACW2<>\"\",COUNTA($C2:ACW2),\"\")","v":373},{"$f":"IF(ACX2<>\"\",COUNTA($C2:ACX2),\"\")","v":374},{"$f":"IF(ACY2<>\"\",COUNTA($C2:ACY2),\"\")","v":375},{"$f":"IF(ACZ2<>\"\",COUNTA($C2:ACZ2),\"\")","v":376},{"$f":"IF(ADA2<>\"\",COUNTA($C2:ADA2),\"\")","v":377},{"$f":"IF(ADB2<>\"\",COUNTA($C2:ADB2),\"\")","v":378},{"$f":"IF(ADC2<>\"\",COUNTA($C2:ADC2),\"\")","v":379},{"$f":"IF(ADD2<>\"\",COUNTA($C2:ADD2),\"\")","v":380},{"$f":"IF(ADE2<>\"\",COUNTA($C2:ADE2),\"\")","v":381},{"$f":"IF(ADF2<>\"\",COUNTA($C2:ADF2),\"\")","v":""},{"$f":"IF(ADG2<>\"\",COUNTA($C2:ADG2),\"\")","v":""},{"$f":"IF(ADH2<>\"\",COUNTA($C2:ADH2),\"\")","v":""},{"$f":"IF(ADI2<>\"\",COUNTA($C2:ADI2),\"\")","v":""},{"$f":"IF(ADJ2<>\"\",COUNTA($C2:ADJ2),\"\")","v":""},{"$f":"IF(ADK2<>\"\",COUNTA($C2:ADK2),\"\")","v":""},{"$f":"IF(ADL2<>\"\",COUNTA($C2:ADL2),\"\")","v":""},{"$f":"IF(ADM2<>\"\",COUNTA($C2:ADM2),\"\")","v":""},{"$f":"IF(ADN2<>\"\",COUNTA($C2:ADN2),\"\")","v":""},{"$f":"IF(ADO2<>\"\",COUNTA($C2:ADO2),\"\")","v":""},{"$f":"IF(ADP2<>\"\",COUNTA($C2:ADP2),\"\")","v":""},{"$f":"IF(ADQ2<>\"\",COUNTA($C2:ADQ2),\"\")","v":""},{"$f":"IF(ADR2<>\"\",COUNTA($C2:ADR2),\"\")","v":""},{"$f":"IF(ADS2<>\"\",COUNTA($C2:ADS2),\"\")","v":""},{"$f":"IF(ADT2<>\"\",COUNTA($C2:ADT2),\"\")","v":""},{"$f":"IF(ADU2<>\"\",COUNTA($C2:ADU2),\"\")","v":""},{"$f":"IF(ADV2<>\"\",COUNTA($C2:ADV2),\"\")","v":""},{"$f":"IF(ADW2<>\"\",COUNTA($C2:ADW2),\"\")","v":""},{"$f":"IF(ADX2<>\"\",COUNTA($C2:ADX2),\"\")","v":""},{"$f":"IF(ADY2<>\"\",COUNTA($C2:ADY2),\"\")","v":""},{"$f":"IF(ADZ2<>\"\",COUNTA($C2:ADZ2),\"\")","v":""},{"$f":"IF(AEA2<>\"\",COUNTA($C2:AEA2),\"\")","v":""},{"$f":"IF(AEB2<>\"\",COUNTA($C2:AEB2),\"\")","v":""},{"$f":"IF(AEC2<>\"\",COUNTA($C2:AEC2),\"\")","v":""},{"$f":"IF(AED2<>\"\",COUNTA($C2:AED2),\"\")","v":""},{"$f":"IF(AEE2<>\"\",COUNTA($C2:AEE2),\"\")","v":""},{"$f":"IF(AEF2<>\"\",COUNTA($C2:AEF2),\"\")","v":""},{"$f":"IF(AEG2<>\"\",COUNTA($C2:AEG2),\"\")","v":382},{"$f":"IF(AEH2<>\"\",COUNTA($C2:AEH2),\"\")","v":""},{"$f":"IF(AEI2<>\"\",COUNTA($C2:AEI2),\"\")","v":""},{"$f":"IF(AEJ2<>\"\",COUNTA($C2:AEJ2),\"\")","v":""},{"$f":"IF(AEK2<>\"\",COUNTA($C2:AEK2),\"\")","v":383},{"$f":"IF(AEL2<>\"\",COUNTA($C2:AEL2),\"\")","v":""},{"$f":"IF(AEM2<>\"\",COUNTA($C2:AEM2),\"\")","v":""},{"$f":"IF(AEN2<>\"\",COUNTA($C2:AEN2),\"\")","v":""},{"$f":"IF(AEO2<>\"\",COUNTA($C2:AEO2),\"\")","v":384},{"$f":"IF(AEP2<>\"\",COUNTA($C2:AEP2),\"\")","v":385},{"$f":"IF(AEQ2<>\"\",COUNTA($C2:AEQ2),\"\")","v":""},{"$f":"IF(AER2<>\"\",COUNTA($C2:AER2),\"\")","v":""},{"$f":"IF(AES2<>\"\",COUNTA($C2:AES2),\"\")","v":""},{"$f":"IF(AET2<>\"\",COUNTA($C2:AET2),\"\")","v":""},{"$f":"IF(AEU2<>\"\",COUNTA($C2:AEU2),\"\")","v":""},{"$f":"IF(AEV2<>\"\",COUNTA($C2:AEV2),\"\")","v":""},{"$f":"IF(AEW2<>\"\",COUNTA($C2:AEW2),\"\")","v":""},{"$f":"IF(AEX2<>\"\",COUNTA($C2:AEX2),\"\")","v":386},{"$f":"IF(AEY2<>\"\",COUNTA($C2:AEY2),\"\")","v":387},{"$f":"IF(AEZ2<>\"\",COUNTA($C2:AEZ2),\"\")","v":388},{"$f":"IF(AFA2<>\"\",COUNTA($C2:AFA2),\"\")","v":389},{"$f":"IF(AFB2<>\"\",COUNTA($C2:AFB2),\"\")","v":390},{"$f":"IF(AFC2<>\"\",COUNTA($C2:AFC2),\"\")","v":391},{"$f":"IF(AFD2<>\"\",COUNTA($C2:AFD2),\"\")","v":392},{"$f":"IF(AFE2<>\"\",COUNTA($C2:AFE2),\"\")","v":393},{"$f":"IF(AFF2<>\"\",COUNTA($C2:AFF2),\"\")","v":394},{"$f":"IF(AFG2<>\"\",COUNTA($C2:AFG2),\"\")","v":395},{"$f":"IF(AFH2<>\"\",COUNTA($C2:AFH2),\"\")","v":396},{"$f":"IF(AFI2<>\"\",COUNTA($C2:AFI2),\"\")","v":397},{"$f":"IF(AFJ2<>\"\",COUNTA($C2:AFJ2),\"\")","v":398},{"$f":"IF(AFK2<>\"\",COUNTA($C2:AFK2),\"\")","v":399},{"$f":"IF(AFL2<>\"\",COUNTA($C2:AFL2),\"\")","v":400},{"$f":"IF(AFM2<>\"\",COUNTA($C2:AFM2),\"\")","v":401},{"$f":"IF(AFN2<>\"\",COUNTA($C2:AFN2),\"\")","v":402},{"$f":"IF(AFO2<>\"\",COUNTA($C2:AFO2),\"\")","v":403},{"$f":"IF(AFP2<>\"\",COUNTA($C2:AFP2),\"\")","v":404},{"$f":"IF(AFQ2<>\"\",COUNTA($C2:AFQ2),\"\")","v":405},{"$f":"IF(AFR2<>\"\",COUNTA($C2:AFR2),\"\")","v":406},{"$f":"IF(AFS2<>\"\",COUNTA($C2:AFS2),\"\")","v":407},{"$f":"IF(AFT2<>\"\",COUNTA($C2:AFT2),\"\")","v":408},{"$f":"IF(AFU2<>\"\",COUNTA($C2:AFU2),\"\")","v":409},{"$f":"IF(AFV2<>\"\",COUNTA($C2:AFV2),\"\")","v":""},{"$f":"IF(AFW2<>\"\",COUNTA($C2:AFW2),\"\")","v":410},{"$f":"IF(AFX2<>\"\",COUNTA($C2:AFX2),\"\")","v":""},{"$f":"IF(AFY2<>\"\",COUNTA($C2:AFY2),\"\")","v":411},{"$f":"IF(AFZ2<>\"\",COUNTA($C2:AFZ2),\"\")","v":""},{"$f":"+AFZ9+1","v":{"$error":"#VALUE!"}},{"$f":"+AGA9+1","v":{"$error":"#VALUE!"}},{"$error":"#VALUE!"},{"$error":"#VALUE!"},{"$error":"#VALUE!"},{"$error":"#VALUE!"},{"$error":"#VALUE!"},{"$error":"#VALUE!"},{"$error":"#VALUE!"},{"$error":"#VALUE!"},{"$error":"#VALUE!"},{"$error":"#VALUE!"},{"$error":"#VALUE!"},{"$error":"#VALUE!"}]
[null,"取込ツール（旅客）",{"$f":"IF(C3<>\"\",COUNTA($C3:C3),\"\")","v":1},{"$f":"IF(D3<>\"\",COUNTA($C3:D3),\"\")","v":2},{"$f":"IF(E3<>\"\",COUNTA($C3:E3),\"\")","v":3},{"$f":"IF(F3<>\"\",COUNTA($C3:F3),\"\")","v":4},{"$f":"IF(G3<>\"\",COUNTA($C3:G3),\"\")","v":5},{"$f":"IF(H3<>\"\",COUNTA($C3:H3),\"\")","v":6},{"$f":"IF(I3<>\"\",COUNTA($C3:I3),\"\")","v":7},{"$f":"IF(J3<>\"\",COUNTA($C3:J3),\"\")","v":8},{"$f":"IF(K3<>\"\",COUNTA($C3:K3),\"\")","v":9},{"$f":"IF(L3<>\"\",COUNTA($C3:L3),\"\")","v":10},{"$f":"IF(M3<>\"\",COUNTA($C3:M3),\"\")","v":11},{"$f":"IF(N3<>\"\",COUNTA($C3:N3),\"\")","v":12},{"$f":"IF(O3<>\"\",COUNTA($C3:O3),\"\")","v":13},{"$f":"IF(P3<>\"\",COUNTA($C3:P3),\"\")","v":14},{"$f":"IF(Q3<>\"\",COUNTA($C3:Q3),\"\")","v":15},{"$f":"IF(R3<>\"\",COUNTA($C3:R3),\"\")","v":16},{"$f":"IF(S3<>\"\",COUNTA($C3:S3),\"\")","v":17},{"$f":"IF(T3<>\"\",COUNTA($C3:T3),\"\")","v":18},{"$f":"IF(U3<>\"\",COUNTA($C3:U3),\"\")","v":19},{"$f":"IF(V3<>\"\",COUNTA($C3:V3),\"\")","v":20},{"$f":"IF(W3<>\"\",COUNTA($C3:W3),\"\")","v":21},{"$f":"IF(X3<>\"\",COUNTA($C3:X3),\"\")","v":22},{"$f":"IF(Y3<>\"\",COUNTA($C3:Y3),\"\")","v":23},{"$f":"IF(Z3<>\"\",COUNTA($C3:Z3),\"\")","v":24},{"$f":"IF(AA3<>\"\",COUNTA($C3:AA3),\"\")","v":25},{"$f":"IF(AB3<>\"\",COUNTA($C3:AB3),\"\")","v":26},{"$f":"IF(AC3<>\"\",COUNTA($C3:AC3),\"\")","v":27},{"$f":"IF(AD3<>\"\",COUNTA($C3:AD3),\"\")","v":28},{"$f":"IF(AE3<>\"\",COUNTA($C3:AE3),\"\")","v":29},{"$f":"IF(AF3<>\"\",COUNTA($C3:AF3),\"\")","v":30},{"$f":"IF(AG3<>\"\",COUNTA($C3:AG3),\"\")","v":31},{"$f":"IF(AH3<>\"\",COUNTA($C3:AH3),\"\")","v":32},{"$f":"IF(AI3<>\"\",COUNTA($C3:AI3),\"\")","v":33},{"$f":"IF(AJ3<>\"\",COUNTA($C3:AJ3),\"\")","v":34},{"$f":"IF(AK3<>\"\",COUNTA($C3:AK3),\"\")","v":35},{"$f":"IF(AL3<>\"\",COUNTA($C3:AL3),\"\")","v":36},{"$f":"IF(AM3<>\"\",COUNTA($C3:AM3),\"\")","v":37},{"$f":"IF(AN3<>\"\",COUNTA($C3:AN3),\"\")","v":""},{"$f":"IF(AO3<>\"\",COUNTA($C3:AO3),\"\")","v":""},{"$f":"IF(AP3<>\"\",COUNTA($C3:AP3),\"\")","v":""},{"$f":"IF(AQ3<>\"\",COUNTA($C3:AQ3),\"\")","v":""},{"$f":"IF(AR3<>\"\",COUNTA($C3:AR3),\"\")","v":""},{"$f":"IF(AS3<>\"\",COUNTA($C3:AS3),\"\")","v":""},{"$f":"IF(AT3<>\"\",COUNTA($C3:AT3),\"\")","v":""},{"$f":"IF(AU3<>\"\",COUNTA($C3:AU3),\"\")","v":""},{"$f":"IF(AV3<>\"\",COUNTA($C3:AV3),\"\")","v":""},{"$f":"IF(AW3<>\"\",COUNTA($C3:AW3),\"\")","v":""},{"$f":"IF(AX3<>\"\",COUNTA($C3:AX3),\"\")","v":""},{"$f":"IF(AY3<>\"\",COUNTA($C3:AY3),\"\")","v":""},{"$f":"IF(AZ3<>\"\",COUNTA($C3:AZ3),\"\")","v":""},{"$f":"IF(BA3<>\"\",COUNTA($C3:BA3),\"\")","v":""},{"$f":"IF(BB3<>\"\",COUNTA($C3:BB3),\"\")","v":""},{"$f":"IF(BC3<>\"\",COUNTA($C3:BC3),\"\")","v":""},{"$f":"IF(BD3<>\"\",COUNTA($C3:BD3),\"\")","v":""},{"$f":"IF(BE3<>\"\",COUNTA($C3:BE3),\"\")","v":""},{"$f":"IF(BF3<>\"\",COUNTA($C3:BF3),\"\")","v":""},{"$f":"IF(BG3<>\"\",COUNTA($C3:BG3),\"\")","v":""},{"$f":"IF(BH3<>\"\",COUNTA($C3:BH3),\"\")","v":""},{"$f":"IF(BI3<>\"\",COUNTA($C3:BI3),\"\")","v":""},{"$f":"IF(BJ3<>\"\",COUNTA($C3:BJ3),\"\")","v":""},{"$f":"IF(BK3<>\"\",COUNTA($C3:BK3),\"\")","v":""},{"$f":"IF(BL3<>\"\",COUNTA($C3:BL3),\"\")","v":""},{"$f":"IF(BM3<>\"\",COUNTA($C3:BM3),\"\")","v":""},{"$f":"IF(BN3<>\"\",COUNTA($C3:BN3),\"\")","v":""},{"$f":"IF(BO3<>\"\",COUNTA($C3:BO3),\"\")","v":""},{"$f":"IF(BP3<>\"\",COUNTA($C3:BP3),\"\")","v":""},{"$f":"IF(BQ3<>\"\",COUNTA($C3:BQ3),\"\")","v":""},{"$f":"IF(BR3<>\"\",COUNTA($C3:BR3),\"\")","v":""},{"$f":"IF(BS3<>\"\",COUNTA($C3:BS3),\"\")","v":""},{"$f":"IF(BT3<>\"\",COUNTA($C3:BT3),\"\")","v":""},{"$f":"IF(BU3<>\"\",COUNTA($C3:BU3),\"\")","v":""},{"$f":"IF(BV3<>\"\",COUNTA($C3:BV3),\"\")","v":""},{"$f":"IF(BW3<>\"\",COUNTA($C3:BW3),\"\")","v":""},{"$f":"IF(BX3<>\"\",COUNTA($C3:BX3),\"\")","v":""},{"$f":"IF(BY3<>\"\",COUNTA($C3:BY3),\"\")","v":""},{"$f":"IF(BZ3<>\"\",COUNTA($C3:BZ3),\"\")","v":""},{"$f":"IF(CA3<>\"\",COUNTA($C3:CA3),\"\")","v":""},{"$f":"IF(CB3<>\"\",COUNTA($C3:CB3),\"\")","v":""},{"$f":"IF(CC3<>\"\",COUNTA($C3:CC3),\"\")","v":""},{"$f":"IF(CD3<>\"\",COUNTA($C3:CD3),\"\")","v":""},{"$f":"IF(CE3<>\"\",COUNTA($C3:CE3),\"\")","v":""},{"$f":"IF(CF3<>\"\",COUNTA($C3:CF3),\"\")","v":""},{"$f":"IF(CG3<>\"\",COUNTA($C3:CG3),\"\")","v":""},{"$f":"IF(CH3<>\"\",COUNTA($C3:CH3),\"\")","v":""},{"$f":"IF(CI3<>\"\",COUNTA($C3:CI3),\"\")","v":""},{"$f":"IF(CJ3<>\"\",COUNTA($C3:CJ3),\"\")","v":""},{"$f":"IF(CK3<>\"\",COUNTA($C3:CK3),\"\")","v":""},{"$f":"IF(CL3<>\"\",COUNTA($C3:CL3),\"\")","v":""},{"$f":"IF(CM3<>\"\",COUNTA($C3:CM3),\"\")","v":""},{"$f":"IF(CN3<>\"\",COUNTA($C3:CN3),\"\")","v":""},{"$f":"IF(CO3<>\"\",COUNTA($C3:CO3),\"\")","v":""},{"$f":"IF(CP3<>\"\",COUNTA($C3:CP3),\"\")","v":""},{"$f":"IF(CQ3<>\"\",COUNTA($C3:CQ3),\"\")","v":""},{"$f":"IF(CR3<>\"\",COUNTA($C3:CR3),\"\")","v":""},{"$f":"IF(CS3<>\"\",COUNTA($C3:CS3),\"\")","v":""},{"$f":"IF(CT3<>\"\",COUNTA($C3:CT3),\"\")","v":""},{"$f":"IF(CU3<>\"\",COUNTA($C3:CU3),\"\")","v":""},{"$f":"IF(CV3<>\"\",COUNTA($C3:CV3),\"\")","v":""},{"$f":"IF(CW3<>\"\",COUNTA($C3:CW3),\"\")","v":""},{"$f":"IF(CX3<>\"\",COUNTA($C3:CX3),\"\")","v":""},{"$f":"IF(CY3<>\"\",COUNTA($C3:CY3),\"\")","v":""},{"$f":"IF(CZ3<>\"\",COUNTA($C3:CZ3),\"\")","v":""},{"$f":"IF(DA3<>\"\",COUNTA($C3:DA3),\"\")","v":""},{"$f":"IF(DB3<>\"\",COUNTA($C3:DB3),\"\")","v":""},{"$f":"IF(DC3<>\"\",COUNTA($C3:DC3),\"\")","v":""},{"$f":"IF(DD3<>\"\",COUNTA($C3:DD3),\"\")","v":""},{"$f":"IF(DE3<>\"\",COUNTA($C3:DE3),\"\")","v":""},{"$f":"IF(DF3<>\"\",COUNTA($C3:DF3),\"\")","v":""},{"$f":"IF(DG3<>\"\",COUNTA($C3:DG3),\"\")","v":""},{"$f":"IF(DH3<>\"\",COUNTA($C3:DH3),\"\")","v":""},{"$f":"IF(DI3<>\"\",COUNTA($C3:DI3),\"\")","v":""},{"$f":"IF(DJ3<>\"\",COUNTA($C3:DJ3),\"\")","v":""},{"$f":"IF(DK3<>\"\",COUNTA($C3:DK3),\"\")","v":""},{"$f":"IF(DL3<>\"\",COUNTA($C3:DL3),\"\")","v":""},{"$f":"IF(DM3<>\"\",COUNTA($C3:DM3),\"\")","v":""},{"$f":"IF(DN3<>\"\",COUNTA($C3:DN3),\"\")","v":""},{"$f":"IF(DO3<>\"\",COUNTA($C3:DO3),\"\")","v":""},{"$f":"IF(DP3<>\"\",COUNTA($C3:DP3),\"\")","v":""},{"$f":"IF(DQ3<>\"\",COUNTA($C3:DQ3),\"\")","v":""},{"$f":"IF(DR3<>\"\",COUNTA($C3:DR3),\"\")","v":""},{"$f":"IF(DS3<>\"\",COUNTA($C3:DS3),\"\")","v":""},{"$f":"IF(DT3<>\"\",COUNTA($C3:DT3),\"\")","v":""},{"$f":"IF(DU3<>\"\",COUNTA($C3:DU3),\"\")","v":""},{"$f":"IF(DV3<>\"\",COUNTA($C3:DV3),\"\")","v":""},{"$f":"IF(DW3<>\"\",COUNTA($C3:DW3),\"\")","v":""},{"$f":"IF(DX3<>\"\",COUNTA($C3:DX3),\"\")","v":""},{"$f":"IF(DY3<>\"\",COUNTA($C3:DY3),\"\")","v":""},{"$f":"IF(DZ3<>\"\",COUNTA($C3:DZ3),\"\")","v":""},{"$f":"IF(EA3<>\"\",COUNTA($C3:EA3),\"\")","v":""},{"$f":"IF(EB3<>\"\",COUNTA($C3:EB3),\"\")","v":""},{"$f":"IF(EC3<>\"\",COUNTA($C3:EC3),\"\")","v":""},{"$f":"IF(ED3<>\"\",COUNTA($C3:ED3),\"\")","v":""},{"$f":"IF(EE3<>\"\",COUNTA($C3:EE3),\"\")","v":""},{"$f":"IF(EF3<>\"\",COUNTA($C3:EF3),\"\")","v":""},{"$f":"IF(EG3<>\"\",COUNTA($C3:EG3),\"\")","v":""},{"$f":"IF(EH3<>\"\",COUNTA($C3:EH3),\"\")","v":""},{"$f":"IF(EI3<>\"\",COUNTA($C3:EI3),\"\")","v":""},{"$f":"IF(EJ3<>\"\",COUNTA($C3:EJ3),\"\")","v":""},{"$f":"IF(EK3<>\"\",COUNTA($C3:EK3),\"\")","v":""},{"$f":"IF(EL3<>\"\",COUNTA($C3:EL3),\"\")","v":""},{"$f":"IF(EM3<>\"\",COUNTA($C3:EM3),\"\")","v":""},{"$f":"IF(EN3<>\"\",COUNTA($C3:EN3),\"\")","v":""},{"$f":"IF(EO3<>\"\",COUNTA($C3:EO3),\"\")","v":""},{"$f":"IF(EP3<>\"\",COUNTA($C3:EP3),\"\")","v":""},{"$f":"IF(EQ3<>\"\",COUNTA($C3:EQ3),\"\")","v":""},{"$f":"IF(ER3<>\"\",COUNTA($C3:ER3),\"\")","v":""},{"$f":"IF(ES3<>\"\",COUNTA($C3:ES3),\"\")","v":""},{"$f":"IF(ET3<>\"\",COUNTA($C3:ET3),\"\")","v":""},{"$f":"IF(EU3<>\"\",COUNTA($C3:EU3),\"\")","v":""},{"$f":"IF(EV3<>\"\",COUNTA($C3:EV3),\"\")","v":""},{"$f":"IF(EW3<>\"\",COUNTA($C3:EW3),\"\")","v":""},{"$f":"IF(EX3<>\"\",COUNTA($C3:EX3),\"\")","v":38},{"$f":"IF(EY3<>\"\",COUNTA($C3:EY3),\"\")","v":39},{"$f":"IF(EZ3<>\"\",COUNTA($C3:EZ3),\"\")","v":40},{"$f":"IF(FA3<>\"\",COUNTA($C3:FA3),\"\")","v":41},{"$f":"IF(FB3<>\"\",COUNTA($C3:FB3),\"\")","v":42},{"$f":"IF(FC3<>\"\",COUNTA($C3:FC3),\"\")","v":43},{"$f":"IF(FD3<>\"\",COUNTA($C3:FD3),\"\")","v":44},{"$f":"IF(FE3<>\"\",COUNTA($C3:FE3),\"\")","v":45},{"$f":"IF(FF3<>\"\",COUNTA($C3:FF3),\"\")","v":46},{"$f":"IF(FG3<>\"\",COUNTA($C3:FG3),\"\")","v":47},{"$f":"IF(FH3<>\"\",COUNTA($C3:FH3),\"\")","v":48},{"$f":"IF(FI3<>\"\",COUNTA($C3:FI3),\"\")","v":49},{"$f":"IF(FJ3<>\"\",COUNTA($C3:FJ3),\"\")","v":50},{"$f":"IF(FK3<>\"\",COUNTA($C3:FK3),\"\")","v":51},{"$f":"IF(FL3<>\"\",COUNTA($C3:FL3),\"\")","v":52},{"$f":"IF(FM3<>\"\",COUNTA($C3:FM3),\"\")","v":53},{"$f":"IF(FN3<>\"\",COUNTA($C3:FN3),\"\")","v":54},{"$f":"IF(FO3<>\"\",COUNTA($C3:FO3),\"\")","v":55},{"$f":"IF(FP3<>\"\",COUNTA($C3:FP3),\"\")","v":56},{"$f":"IF(FQ3<>\"\",COUNTA($C3:FQ3),\"\")","v":57},{"$f":"IF(FR3<>\"\",COUNTA($C3:FR3),\"\")","v":58},{"$f":"IF(FS3<>\"\",COUNTA($C3:FS3),\"\")","v":59},{"$f":"IF(FT3<>\"\",COUNTA($C3:FT3),\"\")","v":60},{"$f":"IF(FU3<>\"\",COUNTA($C3:FU3),\"\")","v":61},{"$f":"IF(FV3<>\"\",COUNTA($C3:FV3),\"\")","v":62},{"$f":"IF(FW3<>\"\",COUNTA($C3:FW3),\"\")","v":63},{"$f":"IF(FX3<>\"\",COUNTA($C3:FX3),\"\")","v":64},{"$f":"IF(FY3<>\"\",COUNTA($C3:FY3),\"\")","v":65},{"$f":"IF(FZ3<>\"\",COUNTA($C3:FZ3),\"\")","v":66},{"$f":"IF(GA3<>\"\",COUNTA($C3:GA3),\"\")","v":67},{"$f":"IF(GB3<>\"\",COUNTA($C3:GB3),\"\")","v":68},{"$f":"IF(GC3<>\"\",COUNTA($C3:GC3),\"\")","v":69},{"$f":"IF(GD3<>\"\",COUNTA($C3:GD3),\"\")","v":70},{"$f":"IF(GE3<>\"\",COUNTA($C3:GE3),\"\")","v":71},{"$f":"IF(GF3<>\"\",COUNTA($C3:GF3),\"\")","v":72},{"$f":"IF(GG3<>\"\",COUNTA($C3:GG3),\"\")","v":73},{"$f":"IF(GH3<>\"\",COUNTA($C3:GH3),\"\")","v":74},{"$f":"IF(GI3<>\"\",COUNTA($C3:GI3),\"\")","v":75},{"$f":"IF(GJ3<>\"\",COUNTA($C3:GJ3),\"\")","v":76},{"$f":"IF(GK3<>\"\",COUNTA($C3:GK3),\"\")","v":77},{"$f":"IF(GL3<>\"\",COUNTA($C3:GL3),\"\")","v":78},{"$f":"IF(GM3<>\"\",COUNTA($C3:GM3),\"\")","v":79},{"$f":"IF(GN3<>\"\",COUNTA($C3:GN3),\"\")","v":80},{"$f":"IF(GO3<>\"\",COUNTA($C3:GO3),\"\")","v":81},{"$f":"IF(GP3<>\"\",COUNTA($C3:GP3),\"\")","v":82},{"$f":"IF(GQ3<>\"\",COUNTA($C3:GQ3),\"\")","v":83},{"$f":"IF(GR3<>\"\",COUNTA($C3:GR3),\"\")","v":84},{"$f":"IF(GS3<>\"\",COUNTA($C3:GS3),\"\")","v":85},{"$f":"IF(GT3<>\"\",COUNTA($C3:GT3),\"\")","v":86},{"$f":"IF(GU3<>\"\",COUNTA($C3:GU3),\"\")","v":87},{"$f":"IF(GV3<>\"\",COUNTA($C3:GV3),\"\")","v":88},{"$f":"IF(GW3<>\"\",COUNTA($C3:GW3),\"\")","v":89},{"$f":"IF(GX3<>\"\",COUNTA($C3:GX3),\"\")","v":90},{"$f":"IF(GY3<>\"\",COUNTA($C3:GY3),\"\")","v":91},{"$f":"IF(GZ3<>\"\",COUNTA($C3:GZ3),\"\")","v":92},{"$f":"IF(HA3<>\"\",COUNTA($C3:HA3),\"\")","v":""},{"$f":"IF(HB3<>\"\",COUNTA($C3:HB3),\"\")","v":""},{"$f":"IF(HC3<>\"\",COUNTA($C3:HC3),\"\")","v":93},{"$f":"IF(HD3<>\"\",COUNTA($C3:HD3),\"\")","v":94},{"$f":"IF(HE3<>\"\",COUNTA($C3:HE3),\"\")","v":95},{"$f":"IF(HF3<>\"\",COUNTA($C3:HF3),\"\")","v":96},{"$f":"IF(HG3<>\"\",COUNTA($C3:HG3),\"\")","v":97},{"$f":"IF(HH3<>\"\",COUNTA($C3:HH3),\"\")","v":98},{"$f":"IF(HI3<>\"\",COUNTA($C3:HI3),\"\")","v":99},{"$f":"IF(HJ3<>\"\",COUNTA($C3:HJ3),\"\")","v":100},{"$f":"IF(HK3<>\"\",COUNTA($C3:HK3),\"\")","v":101},{"$f":"IF(HL3<>\"\",COUNTA($C3:HL3),\"\")","v":102},{"$f":"IF(HM3<>\"\",COUNTA($C3:HM3),\"\")","v":103},{"$f":"IF(HN3<>\"\",COUNTA($C3:HN3),\"\")","v":104},{"$f":"IF(HO3<>\"\",COUNTA($C3:HO3),\"\")","v":105},{"$f":"IF(HP3<>\"\",COUNTA($C3:HP3),\"\")","v":106},{"$f":"IF(HQ3<>\"\",COUNTA($C3:HQ3),\"\")","v":107},{"$f":"IF(HR3<>\"\",COUNTA($C3:HR3),\"\")","v":108},{"$f":"IF(HS3<>\"\",COUNTA($C3:HS3),\"\")","v":109},{"$f":"IF(HT3<>\"\",COUNTA($C3:HT3),\"\")","v":""},{"$f":"IF(HU3<>\"\",COUNTA($C3:HU3),\"\")","v":""},{"$f":"IF(HV3<>\"\",COUNTA($C3:HV3),\"\")","v":110},{"$f":"IF(HW3<>\"\",COUNTA($C3:HW3),\"\")","v":111},{"$f":"IF(HX3<>\"\",COUNTA($C3:HX3),\"\")","v":112},{"$f":"IF(HY3<>\"\",COUNTA($C3:HY3),\"\")","v":113},{"$f":"IF(HZ3<>\"\",COUNTA($C3:HZ3),\"\")","v":114},{"$f":"IF(IA3<>\"\",COUNTA($C3:IA3),\"\")","v":115},{"$f":"IF(IB3<>\"\",COUNTA($C3:IB3),\"\")","v":116},{"$f":"IF(IC3<>\"\",COUNTA($C3:IC3),\"\")","v":117},{"$f":"IF(ID3<>\"\",COUNTA($C3:ID3),\"\")","v":118},{"$f":"IF(IE3<>\"\",COUNTA($C3:IE3),\"\")","v":119},{"$f":"IF(IF3<>\"\",COUNTA($C3:IF3),\"\")","v":120},{"$f":"IF(IG3<>\"\",COUNTA($C3:IG3),\"\")","v":121},{"$f":"IF(IH3<>\"\",COUNTA($C3:IH3),\"\")","v":122},{"$f":"IF(II3<>\"\",COUNTA($C3:II3),\"\")","v":123},{"$f":"IF(IJ3<>\"\",COUNTA($C3:IJ3),\"\")","v":124},{"$f":"IF(IK3<>\"\",COUNTA($C3:IK3),\"\")","v":125},{"$f":"IF(IL3<>\"\",COUNTA($C3:IL3),\"\")","v":126},{"$f":"IF(IM3<>\"\",COUNTA($C3:IM3),\"\")","v":""},{"$f":"IF(IN3<>\"\",COUNTA($C3:IN3),\"\")","v":""},{"$f":"IF(IO3<>\"\",COUNTA($C3:IO3),\"\")","v":127},{"$f":"IF(IP3<>\"\",COUNTA($C3:IP3),\"\")","v":128},{"$f":"IF(IQ3<>\"\",COUNTA($C3:IQ3),\"\")","v":129},{"$f":"IF(IR3<>\"\",COUNTA($C3:IR3),\"\")","v":130},{"$f":"IF(IS3<>\"\",COUNTA($C3:IS3),\"\")","v":131},{"$f":"IF(IT3<>\"\",COUNTA($C3:IT3),\"\")","v":132},{"$f":"IF(IU3<>\"\",COUNTA($C3:IU3),\"\")","v":133},{"$f":"IF(IV3<>\"\",COUNTA($C3:IV3),\"\")","v":134},{"$f":"IF(IW3<>\"\",COUNTA($C3:IW3),\"\")","v":135},{"$f":"IF(IX3<>\"\",COUNTA($C3:IX3),\"\")","v":136},{"$f":"IF(IY3<>\"\",COUNTA($C3:IY3),\"\")","v":137},{"$f":"IF(IZ3<>\"\",COUNTA($C3:IZ3),\"\")","v":138},{"$f":"IF(JA3<>\"\",COUNTA($C3:JA3),\"\")","v":139},{"$f":"IF(JB3<>\"\",COUNTA($C3:JB3),\"\")","v":140},{"$f":"IF(JC3<>\"\",COUNTA($C3:JC3),\"\")","v":141},{"$f":"IF(JD3<>\"\",COUNTA($C3:JD3),\"\")","v":142},{"$f":"IF(JE3<>\"\",COUNTA($C3:JE3),\"\")","v":143},{"$f":"IF(JF3<>\"\",COUNTA($C3:JF3),\"\")","v":144},{"$f":"IF(JG3<>\"\",COUNTA($C3:JG3),\"\")","v":145},{"$f":"IF(JH3<>\"\",COUNTA($C3:JH3),\"\")","v":""},{"$f":"IF(JI3<>\"\",COUNTA($C3:JI3),\"\")","v":""},{"$f":"IF(JJ3<>\"\",COUNTA($C3:JJ3),\"\")","v":""},{"$f":"IF(JK3<>\"\",COUNTA($C3:JK3),\"\")","v":""},{"$f":"IF(JL3<>\"\",COUNTA($C3:JL3),\"\")","v":""},{"$f":"IF(JM3<>\"\",COUNTA($C3:JM3),\"\")","v":""},{"$f":"IF(JN3<>\"\",COUNTA($C3:JN3),\"\")","v":""},{"$f":"IF(JO3<>\"\",COUNTA($C3:JO3),\"\")","v":""},{"$f":"IF(JP3<>\"\",COUNTA($C3:JP3),\"\")","v":""},{"$f":"IF(JQ3<>\"\",COUNTA($C3:JQ3),\"\")","v":""},{"$f":"IF(JR3<>\"\",COUNTA($C3:JR3),\"\")","v":""},{"$f":"IF(JS3<>\"\",COUNTA($C3:JS3),\"\")","v":""},{"$f":"IF(JT3<>\"\",COUNTA($C3:JT3),\"\")","v":""},{"$f":"IF(JU3<>\"\",COUNTA($C3:JU3),\"\")","v":""},{"$f":"IF(JV3<>\"\",COUNTA($C3:JV3),\"\")","v":""},{"$f":"IF(JW3<>\"\",COUNTA($C3:JW3),\"\")","v":""},{"$f":"IF(JX3<>\"\",COUNTA($C3:JX3),\"\")","v":""},{"$f":"IF(JY3<>\"\",COUNTA($C3:JY3),\"\")","v":""},{"$f":"IF(JZ3<>\"\",COUNTA($C3:JZ3),\"\")","v":""},{"$f":"IF(KA3<>\"\",COUNTA($C3:KA3),\"\")","v":""},{"$f":"IF(KB3<>\"\",COUNTA($C3:KB3),\"\")","v":""},{"$f":"IF(KC3<>\"\",COUNTA($C3:KC3),\"\")","v":""},{"$f":"IF(KD3<>\"\",COUNTA($C3:KD3),\"\")","v":""},{"$f":"IF(KE3<>\"\",COUNTA($C3:KE3),\"\")","v":""},{"$f":"IF(KF3<>\"\",COUNTA($C3:KF3),\"\")","v":""},{"$f":"IF(KG3<>\"\",COUNTA($C3:KG3),\"\")","v":""},{"$f":"IF(KH3<>\"\",COUNTA($C3:KH3),\"\")","v":""},{"$f":"IF(KI3<>\"\",COUNTA($C3:KI3),\"\")","v":""},{"$f":"IF(KJ3<>\"\",COUNTA($C3:KJ3),\"\")","v":""},{"$f":"IF(KK3<>\"\",COUNTA($C3:KK3),\"\")","v":""},{"$f":"IF(KL3<>\"\",COUNTA($C3:KL3),\"\")","v":""},{"$f":"IF(KM3<>\"\",COUNTA($C3:KM3),\"\")","v":""},{"$f":"IF(KN3<>\"\",COUNTA($C3:KN3),\"\")","v":""},{"$f":"IF(KO3<>\"\",COUNTA($C3:KO3),\"\")","v":""},{"$f":"IF(KP3<>\"\",COUNTA($C3:KP3),\"\")","v":""},{"$f":"IF(KQ3<>\"\",COUNTA($C3:KQ3),\"\")","v":""},{"$f":"IF(KR3<>\"\",COUNTA($C3:KR3),\"\")","v":""},{"$f":"IF(KS3<>\"\",COUNTA($C3:KS3),\"\")","v":""},{"$f":"IF(KT3<>\"\",COUNTA($C3:KT3),\"\")","v":""},{"$f":"IF(KU3<>\"\",COUNTA($C3:KU3),\"\")","v":""},{"$f":"IF(KV3<>\"\",COUNTA($C3:KV3),\"\")","v":""},{"$f":"IF(KW3<>\"\",COUNTA($C3:KW3),\"\")","v":""},{"$f":"IF(KX3<>\"\",COUNTA($C3:KX3),\"\")","v":""},{"$f":"IF(KY3<>\"\",COUNTA($C3:KY3),\"\")","v":""},{"$f":"IF(KZ3<>\"\",COUNTA($C3:KZ3),\"\")","v":""},{"$f":"IF(LA3<>\"\",COUNTA($C3:LA3),\"\")","v":""},{"$f":"IF(LB3<>\"\",COUNTA($C3:LB3),\"\")","v":""},{"$f":"IF(LC3<>\"\",COUNTA($C3:LC3),\"\")","v":""},{"$f":"IF(LD3<>\"\",COUNTA($C3:LD3),\"\")","v":""},{"$f":"IF(LE3<>\"\",COUNTA($C3:LE3),\"\")","v":""},{"$f":"IF(LF3<>\"\",COUNTA($C3:LF3),\"\")","v":""},{"$f":"IF(LG3<>\"\",COUNTA($C3:LG3),\"\")","v":""},{"$f":"IF(LH3<>\"\",COUNTA($C3:LH3),\"\")","v":""},{"$f":"IF(LI3<>\"\",COUNTA($C3:LI3),\"\")","v":""},{"$f":"IF(LJ3<>\"\",COUNTA($C3:LJ3),\"\")","v":""},{"$f":"IF(LK3<>\"\",COUNTA($C3:LK3),\"\")","v":""},{"$f":"IF(LL3<>\"\",COUNTA($C3:LL3),\"\")","v":""},{"$f":"IF(LM3<>\"\",COUNTA($C3:LM3),\"\")","v":""},{"$f":"IF(LN3<>\"\",COUNTA($C3:LN3),\"\")","v":""},{"$f":"IF(LO3<>\"\",COUNTA($C3:LO3),\"\")","v":""},{"$f":"IF(LP3<>\"\",COUNTA($C3:LP3),\"\")","v":""},{"$f":"IF(LQ3<>\"\",COUNTA($C3:LQ3),\"\")","v":""},{"$f":"IF(LR3<>\"\",COUNTA($C3:LR3),\"\")","v":""},{"$f":"IF(LS3<>\"\",COUNTA($C3:LS3),\"\")","v":""},{"$f":"IF(LT3<>\"\",COUNTA($C3:LT3),\"\")","v":""},{"$f":"IF(LU3<>\"\",COUNTA($C3:LU3),\"\")","v":""},{"$f":"IF(LV3<>\"\",COUNTA($C3:LV3),\"\")","v":""},{"$f":"IF(LW3<>\"\",COUNTA($C3:LW3),\"\")","v":""},{"$f":"IF(LX3<>\"\",COUNTA($C3:LX3),\"\")","v":""},{"$f":"IF(LY3<>\"\",COUNTA($C3:LY3),\"\")","v":""},{"$f":"IF(LZ3<>\"\",COUNTA($C3:LZ3),\"\")","v":""},{"$f":"IF(MA3<>\"\",COUNTA($C3:MA3),\"\")","v":""},{"$f":"IF(MB3<>\"\",COUNTA($C3:MB3),\"\")","v":""},{"$f":"IF(MC3<>\"\",COUNTA($C3:MC3),\"\")","v":""},{"$f":"IF(MD3<>\"\",COUNTA($C3:MD3),\"\")","v":""},{"$f":"IF(ME3<>\"\",COUNTA($C3:ME3),\"\")","v":""},{"$f":"IF(MF3<>\"\",COUNTA($C3:MF3),\"\")","v":""},{"$f":"IF(MG3<>\"\",COUNTA($C3:MG3),\"\")","v":""},{"$f":"IF(MH3<>\"\",COUNTA($C3:MH3),\"\")","v":""},{"$f":"IF(MI3<>\"\",COUNTA($C3:MI3),\"\")","v":""},{"$f":"IF(MJ3<>\"\",COUNTA($C3:MJ3),\"\")","v":""},{"$f":"IF(MK3<>\"\",COUNTA($C3:MK3),\"\")","v":""},{"$f":"IF(ML3<>\"\",COUNTA($C3:ML3),\"\")","v":""},{"$f":"IF(MM3<>\"\",COUNTA($C3:MM3),\"\")","v":""},{"$f":"IF(MN3<>\"\",COUNTA($C3:MN3),\"\")","v":""},{"$f":"IF(MO3<>\"\",COUNTA($C3:MO3),\"\")","v":""},{"$f":"IF(MP3<>\"\",COUNTA($C3:MP3),\"\")","v":""},{"$f":"IF(MQ3<>\"\",COUNTA($C3:MQ3),\"\")","v":""},{"$f":"IF(MR3<>\"\",COUNTA($C3:MR3),\"\")","v":""},{"$f":"IF(MS3<>\"\",COUNTA($C3:MS3),\"\")","v":""},{"$f":"IF(MT3<>\"\",COUNTA($C3:MT3),\"\")","v":""},{"$f":"IF(MU3<>\"\",COUNTA($C3:MU3),\"\")","v":""},{"$f":"IF(MV3<>\"\",COUNTA($C3:MV3),\"\")","v":""},{"$f":"IF(MW3<>\"\",COUNTA($C3:MW3),\"\")","v":""},{"$f":"IF(MX3<>\"\",COUNTA($C3:MX3),\"\")","v":""},{"$f":"IF(MY3<>\"\",COUNTA($C3:MY3),\"\")","v":""},{"$f":"IF(MZ3<>\"\",COUNTA($C3:MZ3),\"\")","v":""},{"$f":"IF(NA3<>\"\",COUNTA($C3:NA3),\"\")","v":""},{"$f":"IF(NB3<>\"\",COUNTA($C3:NB3),\"\")","v":""},{"$f":"IF(NC3<>\"\",COUNTA($C3:NC3),\"\")","v":""},{"$f":"IF(ND3<>\"\",COUNTA($C3:ND3),\"\")","v":""},{"$f":"IF(NE3<>\"\",COUNTA($C3:NE3),\"\")","v":""},{"$f":"IF(NF3<>\"\",COUNTA($C3:NF3),\"\")","v":""},{"$f":"IF(NG3<>\"\",COUNTA($C3:NG3),\"\")","v":""},{"$f":"IF(NH3<>\"\",COUNTA($C3:NH3),\"\")","v":""},{"$f":"IF(NI3<>\"\",COUNTA($C3:NI3),\"\")","v":""},{"$f":"IF(NJ3<>\"\",COUNTA($C3:NJ3),\"\")","v":""},{"$f":"IF(NK3<>\"\",COUNTA($C3:NK3),\"\")","v":""},{"$f":"IF(NL3<>\"\",COUNTA($C3:NL3),\"\")","v":""},{"$f":"IF(NM3<>\"\",COUNTA($C3:NM3),\"\")","v":""},{"$f":"IF(NN3<>\"\",COUNTA($C3:NN3),\"\")","v":""},{"$f":"IF(NO3<>\"\",COUNTA($C3:NO3),\"\")","v":""},{"$f":"IF(NP3<>\"\",COUNTA($C3:NP3),\"\")","v":""},{"$f":"IF(NQ3<>\"\",COUNTA($C3:NQ3),\"\")","v":""},{"$f":"IF(NR3<>\"\",COUNTA($C3:NR3),\"\")","v":146},{"$f":"IF(NS3<>\"\",COUNTA($C3:NS3),\"\")","v":147},{"$f":"IF(NT3<>\"\",COUNTA($C3:NT3),\"\")","v":148},{"$f":"IF(NU3<>\"\",COUNTA($C3:NU3),\"\")","v":149},{"$f":"IF(NV3<>\"\",COUNTA($C3:NV3),\"\")","v":150},{"$f":"IF(NW3<>\"\",COUNTA($C3:NW3),\"\")","v":151},{"$f":"IF(NX3<>\"\",COUNTA($C3:NX3),\"\")","v":152},{"$f":"IF(NY3<>\"\",COUNTA($C3:NY3),\"\")","v":153},{"$f":"IF(NZ3<>\"\",COUNTA($C3:NZ3),\"\")","v":154},{"$f":"IF(OA3<>\"\",COUNTA($C3:OA3),\"\")","v":155},{"$f":"IF(OB3<>\"\",COUNTA($C3:OB3),\"\")","v":156},{"$f":"IF(OC3<>\"\",COUNTA($C3:OC3),\"\")","v":157},{"$f":"IF(OD3<>\"\",COUNTA($C3:OD3),\"\")","v":158},{"$f":"IF(OE3<>\"\",COUNTA($C3:OE3),\"\")","v":159},{"$f":"IF(OF3<>\"\",COUNTA($C3:OF3),\"\")","v":160},{"$f":"IF(OG3<>\"\",COUNTA($C3:OG3),\"\")","v":161},{"$f":"IF(OH3<>\"\",COUNTA($C3:OH3),\"\")","v":162},{"$f":"IF(OI3<>\"\",COUNTA($C3:OI3),\"\")","v":163},{"$f":"IF(OJ3<>\"\",COUNTA($C3:OJ3),\"\")","v":164},{"$f":"IF(OK3<>\"\",COUNTA($C3:OK3),\"\")","v":165},{"$f":"IF(OL3<>\"\",COUNTA($C3:OL3),\"\")","v":166},{"$f":"IF(OM3<>\"\",COUNTA($C3:OM3),\"\")","v":167},{"$f":"IF(ON3<>\"\",COUNTA($C3:ON3),\"\")","v":168},{"$f":"IF(OO3<>\"\",COUNTA($C3:OO3),\"\")","v":169},{"$f":"IF(OP3<>\"\",COUNTA($C3:OP3),\"\")","v":170},{"$f":"IF(OQ3<>\"\",COUNTA($C3:OQ3),\"\")","v":171},{"$f":"IF(OR3<>\"\",COUNTA($C3:OR3),\"\")","v":172},{"$f":"IF(OS3<>\"\",COUNTA($C3:OS3),\"\")","v":173},{"$f":"IF(OT3<>\"\",COUNTA($C3:OT3),\"\")","v":174},{"$f":"IF(OU3<>\"\",COUNTA($C3:OU3),\"\")","v":175},{"$f":"IF(OV3<>\"\",COUNTA($C3:OV3),\"\")","v":176},{"$f":"IF(OW3<>\"\",COUNTA($C3:OW3),\"\")","v":177},{"$f":"IF(OX3<>\"\",COUNTA($C3:OX3),\"\")","v":178},{"$f":"IF(OY3<>\"\",COUNTA($C3:OY3),\"\")","v":179},{"$f":"IF(OZ3<>\"\",COUNTA($C3:OZ3),\"\")","v":180},{"$f":"IF(PA3<>\"\",COUNTA($C3:PA3),\"\")","v":181},{"$f":"IF(PB3<>\"\",COUNTA($C3:PB3),\"\")","v":182},{"$f":"IF(PC3<>\"\",COUNTA($C3:PC3),\"\")","v":183},{"$f":"IF(PD3<>\"\",COUNTA($C3:PD3),\"\")","v":184},{"$f":"IF(PE3<>\"\",COUNTA($C3:PE3),\"\")","v":185},{"$f":"IF(PF3<>\"\",COUNTA($C3:PF3),\"\")","v":186},{"$f":"IF(PG3<>\"\",COUNTA($C3:PG3),\"\")","v":187},{"$f":"IF(PH3<>\"\",COUNTA($C3:PH3),\"\")","v":188},{"$f":"IF(PI3<>\"\",COUNTA($C3:PI3),\"\")","v":189},{"$f":"IF(PJ3<>\"\",COUNTA($C3:PJ3),\"\")","v":190},{"$f":"IF(PK3<>\"\",COUNTA($C3:PK3),\"\")","v":191},{"$f":"IF(PL3<>\"\",COUNTA($C3:PL3),\"\")","v":192},{"$f":"IF(PM3<>\"\",COUNTA($C3:PM3),\"\")","v":193},{"$f":"IF(PN3<>\"\",COUNTA($C3:PN3),\"\")","v":194},{"$f":"IF(PO3<>\"\",COUNTA($C3:PO3),\"\")","v":195},{"$f":"IF(PP3<>\"\",COUNTA($C3:PP3),\"\")","v":196},{"$f":"IF(PQ3<>\"\",COUNTA($C3:PQ3),\"\")","v":197},{"$f":"IF(PR3<>\"\",COUNTA($C3:PR3),\"\")","v":198},{"$f":"IF(PS3<>\"\",COUNTA($C3:PS3),\"\")","v":199},{"$f":"IF(PT3<>\"\",COUNTA($C3:PT3),\"\")","v":200},{"$f":"IF(PU3<>\"\",COUNTA($C3:PU3),\"\")","v":201},{"$f":"IF(PV3<>\"\",COUNTA($C3:PV3),\"\")","v":202},{"$f":"IF(PW3<>\"\",COUNTA($C3:PW3),\"\")","v":203},{"$f":"IF(PX3<>\"\",COUNTA($C3:PX3),\"\")","v":204},{"$f":"IF(PY3<>\"\",COUNTA($C3:PY3),\"\")","v":205},{"$f":"IF(PZ3<>\"\",COUNTA($C3:PZ3),\"\")","v":206},{"$f":"IF(QA3<>\"\",COUNTA($C3:QA3),\"\")","v":207},{"$f":"IF(QB3<>\"\",COUNTA($C3:QB3),\"\")","v":208},{"$f":"IF(QC3<>\"\",COUNTA($C3:QC3),\"\")","v":209},{"$f":"IF(QD3<>\"\",COUNTA($C3:QD3),\"\")","v":210},{"$f":"IF(QE3<>\"\",COUNTA($C3:QE3),\"\")","v":211},{"$f":"IF(QF3<>\"\",COUNTA($C3:QF3),\"\")","v":212},{"$f":"IF(QG3<>\"\",COUNTA($C3:QG3),\"\")","v":213},{"$f":"IF(QH3<>\"\",COUNTA($C3:QH3),\"\")","v":214},{"$f":"IF(QI3<>\"\",COUNTA($C3:QI3),\"\")","v":215},{"$f":"IF(QJ3<>\"\",COUNTA($C3:QJ3),\"\")","v":216},{"$f":"IF(QK3<>\"\",COUNTA($C3:QK3),\"\")","v":217},{"$f":"IF(QL3<>\"\",COUNTA($C3:QL3),\"\")","v":218},{"$f":"IF(QM3<>\"\",COUNTA($C3:QM3),\"\")","v":219},{"$f":"IF(QN3<>\"\",COUNTA($C3:QN3),\"\")","v":220},{"$f":"IF(QO3<>\"\",COUNTA($C3:QO3),\"\")","v":221},{"$f":"IF(QP3<>\"\",COUNTA($C3:QP3),\"\")","v":222},{"$f":"IF(QQ3<>\"\",COUNTA($C3:QQ3),\"\")","v":223},{"$f":"IF(QR3<>\"\",COUNTA($C3:QR3),\"\")","v":224},{"$f":"IF(QS3<>\"\",COUNTA($C3:QS3),\"\")","v":225},{"$f":"IF(QT3<>\"\",COUNTA($C3:QT3),\"\")","v":226},{"$f":"IF(QU3<>\"\",COUNTA($C3:QU3),\"\")","v":227},{"$f":"IF(QV3<>\"\",COUNTA($C3:QV3),\"\")","v":228},{"$f":"IF(QW3<>\"\",COUNTA($C3:QW3),\"\")","v":229},{"$f":"IF(QX3<>\"\",COUNTA($C3:QX3),\"\")","v":230},{"$f":"IF(QY3<>\"\",COUNTA($C3:QY3),\"\")","v":231},{"$f":"IF(QZ3<>\"\",COUNTA($C3:QZ3),\"\")","v":232},{"$f":"IF(RA3<>\"\",COUNTA($C3:RA3),\"\")","v":233},{"$f":"IF(RB3<>\"\",COUNTA($C3:RB3),\"\")","v":234},{"$f":"IF(RC3<>\"\",COUNTA($C3:RC3),\"\")","v":235},{"$f":"IF(RD3<>\"\",COUNTA($C3:RD3),\"\")","v":236},{"$f":"IF(RE3<>\"\",COUNTA($C3:RE3),\"\")","v":237},{"$f":"IF(RF3<>\"\",COUNTA($C3:RF3),\"\")","v":238},{"$f":"IF(RG3<>\"\",COUNTA($C3:RG3),\"\")","v":239},{"$f":"IF(RH3<>\"\",COUNTA($C3:RH3),\"\")","v":240},{"$f":"IF(RI3<>\"\",COUNTA($C3:RI3),\"\")","v":241},{"$f":"IF(RJ3<>\"\",COUNTA($C3:RJ3),\"\")","v":242},{"$f":"IF(RK3<>\"\",COUNTA($C3:RK3),\"\")","v":243},{"$f":"IF(RL3<>\"\",COUNTA($C3:RL3),\"\")","v":244},{"$f":"IF(RM3<>\"\",COUNTA($C3:RM3),\"\")","v":245},{"$f":"IF(RN3<>\"\",COUNTA($C3:RN3),\"\")","v":246},{"$f":"IF(RO3<>\"\",COUNTA($C3:RO3),\"\")","v":247},{"$f":"IF(RP3<>\"\",COUNTA($C3:RP3),\"\")","v":248},{"$f":"IF(RQ3<>\"\",COUNTA($C3:RQ3),\"\")","v":249},{"$f":"IF(RR3<>\"\",COUNTA($C3:RR3),\"\")","v":250},{"$f":"IF(RS3<>\"\",COUNTA($C3:RS3),\"\")","v":251},{"$f":"IF(RT3<>\"\",COUNTA($C3:RT3),\"\")","v":252},{"$f":"IF(RU3<>\"\",COUNTA($C3:RU3),\"\")","v":253},{"$f":"IF(RV3<>\"\",COUNTA($C3:RV3),\"\")","v":254},{"$f":"IF(RW3<>\"\",COUNTA($C3:RW3),\"\")","v":255},{"$f":"IF(RX3<>\"\",COUNTA($C3:RX3),\"\")","v":256},{"$f":"IF(RY3<>\"\",COUNTA($C3:RY3),\"\")","v":257},{"$f":"IF(RZ3<>\"\",COUNTA($C3:RZ3),\"\")","v":258},{"$f":"IF(SA3<>\"\",COUNTA($C3:SA3),\"\")","v":259},{"$f":"IF(SB3<>\"\",COUNTA($C3:SB3),\"\")","v":260},{"$f":"IF(SC3<>\"\",COUNTA($C3:SC3),\"\")","v":261},{"$f":"IF(SD3<>\"\",COUNTA($C3:SD3),\"\")","v":262},{"$f":"IF(SE3<>\"\",COUNTA($C3:SE3),\"\")","v":263},{"$f":"IF(SF3<>\"\",COUNTA($C3:SF3),\"\")","v":264},{"$f":"IF(SG3<>\"\",COUNTA($C3:SG3),\"\")","v":265},{"$f":"IF(SH3<>\"\",COUNTA($C3:SH3),\"\")","v":266},{"$f":"IF(SI3<>\"\",COUNTA($C3:SI3),\"\")","v":267},{"$f":"IF(SJ3<>\"\",COUNTA($C3:SJ3),\"\")","v":268},{"$f":"IF(SK3<>\"\",COUNTA($C3:SK3),\"\")","v":269},{"$f":"IF(SL3<>\"\",COUNTA($C3:SL3),\"\")","v":270},{"$f":"IF(SM3<>\"\",COUNTA($C3:SM3),\"\")","v":271},{"$f":"IF(SN3<>\"\",COUNTA($C3:SN3),\"\")","v":272},{"$f":"IF(SO3<>\"\",COUNTA($C3:SO3),\"\")","v":273},{"$f":"IF(SP3<>\"\",COUNTA($C3:SP3),\"\")","v":274},{"$f":"IF(SQ3<>\"\",COUNTA($C3:SQ3),\"\")","v":275},{"$f":"IF(SR3<>\"\",COUNTA($C3:SR3),\"\")","v":276},{"$f":"IF(SS3<>\"\",COUNTA($C3:SS3),\"\")","v":277},{"$f":"IF(ST3<>\"\",COUNTA($C3:ST3),\"\")","v":278},{"$f":"IF(SU3<>\"\",COUNTA($C3:SU3),\"\")","v":279},{"$f":"IF(SV3<>\"\",COUNTA($C3:SV3),\"\")","v":280},{"$f":"IF(SW3<>\"\",COUNTA($C3:SW3),\"\")","v":281},{"$f":"IF(SX3<>\"\",COUNTA($C3:SX3),\"\")","v":282},{"$f":"IF(SY3<>\"\",COUNTA($C3:SY3),\"\")","v":283},{"$f":"IF(SZ3<>\"\",COUNTA($C3:SZ3),\"\")","v":284},{"$f":"IF(TA3<>\"\",COUNTA($C3:TA3),\"\")","v":285},{"$f":"IF(TB3<>\"\",COUNTA($C3:TB3),\"\")","v":286},{"$f":"IF(TC3<>\"\",COUNTA($C3:TC3),\"\")","v":287},{"$f":"IF(TD3<>\"\",COUNTA($C3:TD3),\"\")","v":288},{"$f":"IF(TE3<>\"\",COUNTA($C3:TE3),\"\")","v":289},{"$f":"IF(TF3<>\"\",COUNTA($C3:TF3),\"\")","v":290},{"$f":"IF(TG3<>\"\",COUNTA($C3:TG3),\"\")","v":291},{"$f":"IF(TH3<>\"\",COUNTA($C3:TH3),\"\")","v":292},{"$f":"IF(TI3<>\"\",COUNTA($C3:TI3),\"\")","v":293},{"$f":"IF(TJ3<>\"\",COUNTA($C3:TJ3),\"\")","v":294},{"$f":"IF(TK3<>\"\",COUNTA($C3:TK3),\"\")","v":295},{"$f":"IF(TL3<>\"\",COUNTA($C3:TL3),\"\")","v":296},{"$f":"IF(TM3<>\"\",COUNTA($C3:TM3),\"\")","v":297},{"$f":"IF(TN3<>\"\",COUNTA($C3:TN3),\"\")","v":298},{"$f":"IF(TO3<>\"\",COUNTA($C3:TO3),\"\")","v":""},{"$f":"IF(TP3<>\"\",COUNTA($C3:TP3),\"\")","v":""},{"$f":"IF(TQ3<>\"\",COUNTA($C3:TQ3),\"\")","v":""},{"$f":"IF(TR3<>\"\",COUNTA($C3:TR3),\"\")","v":""},{"$f":"IF(TS3<>\"\",COUNTA($C3:TS3),\"\")","v":299},{"$f":"IF(TT3<>\"\",COUNTA($C3:TT3),\"\")","v":300},{"$f":"IF(TU3<>\"\",COUNTA($C3:TU3),\"\")","v":301},{"$f":"IF(TV3<>\"\",COUNTA($C3:TV3),\"\")","v":302},{"$f":"IF(TW3<>\"\",COUNTA($C3:TW3),\"\")","v":""},{"$f":"IF(TX3<>\"\",COUNTA($C3:TX3),\"\")","v":""},{"$f":"IF(TY3<>\"\",COUNTA($C3:TY3),\"\")","v":""},{"$f":"IF(TZ3<>\"\",COUNTA($C3:TZ3),\"\")","v":""},{"$f":"IF(UA3<>\"\",COUNTA($C3:UA3),\"\")","v":""},{"$f":"IF(UB3<>\"\",COUNTA($C3:UB3),\"\")","v":""},{"$f":"IF(UC3<>\"\",COUNTA($C3:UC3),\"\")","v":""},{"$f":"IF(UD3<>\"\",COUNTA($C3:UD3),\"\")","v":""},{"$f":"IF(UE3<>\"\",COUNTA($C3:UE3),\"\")","v":""},{"$f":"IF(UF3<>\"\",COUNTA($C3:UF3),\"\")","v":""},{"$f":"IF(UG3<>\"\",COUNTA($C3:UG3),\"\")","v":""},{"$f":"IF(UH3<>\"\",COUNTA($C3:UH3),\"\")","v":""},{"$f":"IF(UI3<>\"\",COUNTA($C3:UI3),\"\")","v":303},{"$f":"IF(UJ3<>\"\",COUNTA($C3:UJ3),\"\")","v":304},{"$f":"IF(UK3<>\"\",COUNTA($C3:UK3),\"\")","v":305},{"$f":"IF(UL3<>\"\",COUNTA($C3:UL3),\"\")","v":306},{"$f":"IF(UM3<>\"\",COUNTA($C3:UM3),\"\")","v":307},{"$f":"IF(UN3<>\"\",COUNTA($C3:UN3),\"\")","v":308},{"$f":"IF(UO3<>\"\",COUNTA($C3:UO3),\"\")","v":309},{"$f":"IF(UP3<>\"\",COUNTA($C3:UP3),\"\")","v":310},{"$f":"IF(UQ3<>\"\",COUNTA($C3:UQ3),\"\")","v":""},{"$f":"IF(UR3<>\"\",COUNTA($C3:UR3),\"\")","v":""},{"$f":"IF(US3<>\"\",COUNTA($C3:US3),\"\")","v":""},{"$f":"IF(UT3<>\"\",COUNTA($C3:UT3),\"\")","v":""},{"$f":"IF(UU3<>\"\",COUNTA($C3:UU3),\"\")","v":""},{"$f":"IF(UV3<>\"\",COUNTA($C3:UV3),\"\")","v":""},{"$f":"IF(UW3<>\"\",COUNTA($C3:UW3),\"\")","v":""},{"$f":"IF(UX3<>\"\",COUNTA($C3:UX3),\"\")","v":""},{"$f":"IF(UY3<>\"\",COUNTA($C3:UY3),\"\")","v":""},{"$f":"IF(UZ3<>\"\",COUNTA($C3:UZ3),\"\")","v":""},{"$f":"IF(VA3<>\"\",COUNTA($C3:VA3),\"\")","v":""},{"$f":"IF(VB3<>\"\",COUNTA($C3:VB3),\"\")","v":""},{"$f":"IF(VC3<>\"\",COUNTA($C3:VC3),\"\")","v":""},{"$f":"IF(VD3<>\"\",COUNTA($C3:VD3),\"\")","v":""},{"$f":"IF(VE3<>\"\",COUNTA($C3:VE3),\"\")","v":""},{"$f":"IF(VF3<>\"\",COUNTA($C3:VF3),\"\")","v":""},{"$f":"IF(VG3<>\"\",COUNTA($C3:VG3),\"\")","v":""},{"$f":"IF(VH3<>\"\",COUNTA($C3:VH3),\"\")","v":""},{"$f":"IF(VI3<>\"\",COUNTA($C3:VI3),\"\")","v":""},{"$f":"IF(VJ3<>\"\",COUNTA($C3:VJ3),\"\")","v":""},{"$f":"IF(VK3<>\"\",COUNTA($C3:VK3),\"\")","v":""},{"$f":"IF(VL3<>\"\",COUNTA($C3:VL3),\"\")","v":""},{"$f":"IF(VM3<>\"\",COUNTA($C3:VM3),\"\")","v":""},{"$f":"IF(VN3<>\"\",COUNTA($C3:VN3),\"\")","v":""},{"$f":"IF(VO3<>\"\",COUNTA($C3:VO3),\"\")","v":""},{"$f":"IF(VP3<>\"\",COUNTA($C3:VP3),\"\")","v":""},{"$f":"IF(VQ3<>\"\",COUNTA($C3:VQ3),\"\")","v":""},{"$f":"IF(VR3<>\"\",COUNTA($C3:VR3),\"\")","v":""},{"$f":"IF(VS3<>\"\",COUNTA($C3:VS3),\"\")","v":""},{"$f":"IF(VT3<>\"\",COUNTA($C3:VT3),\"\")","v":""},{"$f":"IF(VU3<>\"\",COUNTA($C3:VU3),\"\")","v":""},{"$f":"IF(VV3<>\"\",COUNTA($C3:VV3),\"\")","v":""},{"$f":"IF(VW3<>\"\",COUNTA($C3:VW3),\"\")","v":""},{"$f":"IF(VX3<>\"\",COUNTA($C3:VX3),\"\")","v":""},{"$f":"IF(VY3<>\"\",COUNTA($C3:VY3),\"\")","v":""},{"$f":"IF(VZ3<>\"\",COUNTA($C3:VZ3),\"\")","v":""},{"$f":"IF(WA3<>\"\",COUNTA($C3:WA3),\"\")","v":""},{"$f":"IF(WB3<>\"\",COUNTA($C3:WB3),\"\")","v":""},{"$f":"IF(WC3<>\"\",COUNTA($C3:WC3),\"\")","v":""},{"$f":"IF(WD3<>\"\",COUNTA($C3:WD3),\"\")","v":""},{"$f":"IF(WE3<>\"\",COUNTA($C3:WE3),\"\")","v":""},{"$f":"IF(WF3<>\"\",COUNTA($C3:WF3),\"\")","v":""},{"$f":"IF(WG3<>\"\",COUNTA($C3:WG3),\"\")","v":""},{"$f":"IF(WH3<>\"\",COUNTA($C3:WH3),\"\")","v":""},{"$f":"IF(WI3<>\"\",COUNTA($C3:WI3),\"\")","v":""},{"$f":"IF(WJ3<>\"\",COUNTA($C3:WJ3),\"\")","v":""},{"$f":"IF(WK3<>\"\",COUNTA($C3:WK3),\"\")","v":""},{"$f":"IF(WL3<>\"\",COUNTA($C3:WL3),\"\")","v":""},{"$f":"IF(WM3<>\"\",COUNTA($C3:WM3),\"\")","v":""},{"$f":"IF(WN3<>\"\",COUNTA($C3:WN3),\"\")","v":""},{"$f":"IF(WO3<>\"\",COUNTA($C3:WO3),\"\")","v":""},{"$f":"IF(WP3<>\"\",COUNTA($C3:WP3),\"\")","v":""},{"$f":"IF(WQ3<>\"\",COUNTA($C3:WQ3),\"\")","v":""},{"$f":"IF(WR3<>\"\",COUNTA($C3:WR3),\"\")","v":""},{"$f":"IF(WS3<>\"\",COUNTA($C3:WS3),\"\")","v":""},{"$f":"IF(WT3<>\"\",COUNTA($C3:WT3),\"\")","v":""},{"$f":"IF(WU3<>\"\",COUNTA($C3:WU3),\"\")","v":""},{"$f":"IF(WV3<>\"\",COUNTA($C3:WV3),\"\")","v":""},{"$f":"IF(WW3<>\"\",COUNTA($C3:WW3),\"\")","v":311},{"$f":"IF(WX3<>\"\",COUNTA($C3:WX3),\"\")","v":312},{"$f":"IF(WY3<>\"\",COUNTA($C3:WY3),\"\")","v":313},{"$f":"IF(WZ3<>\"\",COUNTA($C3:WZ3),\"\")","v":314},{"$f":"IF(XA3<>\"\",COUNTA($C3:XA3),\"\")","v":315},{"$f":"IF(XB3<>\"\",COUNTA($C3:XB3),\"\")","v":316},{"$f":"IF(XC3<>\"\",COUNTA($C3:XC3),\"\")","v":317},{"$f":"IF(XD3<>\"\",COUNTA($C3:XD3),\"\")","v":318},{"$f":"IF(XE3<>\"\",COUNTA($C3:XE3),\"\")","v":319},{"$f":"IF(XF3<>\"\",COUNTA($C3:XF3),\"\")","v":320},{"$f":"IF(XG3<>\"\",COUNTA($C3:XG3),\"\")","v":321},{"$f":"IF(XH3<>\"\",COUNTA($C3:XH3),\"\")","v":322},{"$f":"IF(XI3<>\"\",COUNTA($C3:XI3),\"\")","v":323},{"$f":"IF(XJ3<>\"\",COUNTA($C3:XJ3),\"\")","v":324},{"$f":"IF(XK3<>\"\",COUNTA($C3:XK3),\"\")","v":325},{"$f":"IF(XL3<>\"\",COUNTA($C3:XL3),\"\")","v":326},{"$f":"IF(XM3<>\"\",COUNTA($C3:XM3),\"\")","v":327},{"$f":"IF(XN3<>\"\",COUNTA($C3:XN3),\"\")","v":328},{"$f":"IF(XO3<>\"\",COUNTA($C3:XO3),\"\")","v":329},{"$f":"IF(XP3<>\"\",COUNTA($C3:XP3),\"\")","v":330},{"$f":"IF(XQ3<>\"\",COUNTA($C3:XQ3),\"\")","v":331},{"$f":"IF(XR3<>\"\",COUNTA($C3:XR3),\"\")","v":332},{"$f":"IF(XS3<>\"\",COUNTA($C3:XS3),\"\")","v":333},{"$f":"IF(XT3<>\"\",COUNTA($C3:XT3),\"\")","v":334},{"$f":"IF(XU3<>\"\",COUNTA($C3:XU3),\"\")","v":335},{"$f":"IF(XV3<>\"\",COUNTA($C3:XV3),\"\")","v":336},{"$f":"IF(XW3<>\"\",COUNTA($C3:XW3),\"\")","v":337},{"$f":"IF(XX3<>\"\",COUNTA($C3:XX3),\"\")","v":338},{"$f":"IF(XY3<>\"\",COUNTA($C3:XY3),\"\")","v":339},{"$f":"IF(XZ3<>\"\",COUNTA($C3:XZ3),\"\")","v":340},{"$f":"IF(YA3<>\"\",COUNTA($C3:YA3),\"\")","v":341},{"$f":"IF(YB3<>\"\",COUNTA($C3:YB3),\"\")","v":342},{"$f":"IF(YC3<>\"\",COUNTA($C3:YC3),\"\")","v":343},{"$f":"IF(YD3<>\"\",COUNTA($C3:YD3),\"\")","v":344},{"$f":"IF(YE3<>\"\",COUNTA($C3:YE3),\"\")","v":345},{"$f":"IF(YF3<>\"\",COUNTA($C3:YF3),\"\")","v":346},{"$f":"IF(YG3<>\"\",COUNTA($C3:YG3),\"\")","v":347},{"$f":"IF(YH3<>\"\",COUNTA($C3:YH3),\"\")","v":348},{"$f":"IF(YI3<>\"\",COUNTA($C3:YI3),\"\")","v":349},{"$f":"IF(YJ3<>\"\",COUNTA($C3:YJ3),\"\")","v":350},{"$f":"IF(YK3<>\"\",COUNTA($C3:YK3),\"\")","v":351},{"$f":"IF(YL3<>\"\",COUNTA($C3:YL3),\"\")","v":352},{"$f":"IF(YM3<>\"\",COUNTA($C3:YM3),\"\")","v":353},{"$f":"IF(YN3<>\"\",COUNTA($C3:YN3),\"\")","v":354},{"$f":"IF(YO3<>\"\",COUNTA($C3:YO3),\"\")","v":355},{"$f":"IF(YP3<>\"\",COUNTA($C3:YP3),\"\")","v":356},{"$f":"IF(YQ3<>\"\",COUNTA($C3:YQ3),\"\")","v":357},{"$f":"IF(YR3<>\"\",COUNTA($C3:YR3),\"\")","v":358},{"$f":"IF(YS3<>\"\",COUNTA($C3:YS3),\"\")","v":359},{"$f":"IF(YT3<>\"\",COUNTA($C3:YT3),\"\")","v":360},{"$f":"IF(YU3<>\"\",COUNTA($C3:YU3),\"\")","v":""},{"$f":"IF(YV3<>\"\",COUNTA($C3:YV3),\"\")","v":""},{"$f":"IF(YW3<>\"\",COUNTA($C3:YW3),\"\")","v":""},{"$f":"IF(YX3<>\"\",COUNTA($C3:YX3),\"\")","v":""},{"$f":"IF(YY3<>\"\",COUNTA($C3:YY3),\"\")","v":""},{"$f":"IF(YZ3<>\"\",COUNTA($C3:YZ3),\"\")","v":""},{"$f":"IF(ZA3<>\"\",COUNTA($C3:ZA3),\"\")","v":""},{"$f":"IF(ZB3<>\"\",COUNTA($C3:ZB3),\"\")","v":""},{"$f":"IF(ZC3<>\"\",COUNTA($C3:ZC3),\"\")","v":""},{"$f":"IF(ZD3<>\"\",COUNTA($C3:ZD3),\"\")","v":""},{"$f":"IF(ZE3<>\"\",COUNTA($C3:ZE3),\"\")","v":""},{"$f":"IF(ZF3<>\"\",COUNTA($C3:ZF3),\"\")","v":""},{"$f":"IF(ZG3<>\"\",COUNTA($C3:ZG3),\"\")","v":""},{"$f":"IF(ZH3<>\"\",COUNTA($C3:ZH3),\"\")","v":""},{"$f":"IF(ZI3<>\"\",COUNTA($C3:ZI3),\"\")","v":""},{"$f":"IF(ZJ3<>\"\",COUNTA($C3:ZJ3),\"\")","v":""},{"$f":"IF(ZK3<>\"\",COUNTA($C3:ZK3),\"\")","v":""},{"$f":"IF(ZL3<>\"\",COUNTA($C3:ZL3),\"\")","v":""},{"$f":"IF(ZM3<>\"\",COUNTA($C3:ZM3),\"\")","v":""},{"$f":"IF(ZN3<>\"\",COUNTA($C3:ZN3),\"\")","v":""},{"$f":"IF(ZO3<>\"\",COUNTA($C3:ZO3),\"\")","v":""},{"$f":"IF(ZP3<>\"\",COUNTA($C3:ZP3),\"\")","v":""},{"$f":"IF(ZQ3<>\"\",COUNTA($C3:ZQ3),\"\")","v":""},{"$f":"IF(ZR3<>\"\",COUNTA($C3:ZR3),\"\")","v":""},{"$f":"IF(ZS3<>\"\",COUNTA($C3:ZS3),\"\")","v":""},{"$f":"IF(ZT3<>\"\",COUNTA($C3:ZT3),\"\")","v":""},{"$f":"IF(ZU3<>\"\",COUNTA($C3:ZU3),\"\")","v":""},{"$f":"IF(ZV3<>\"\",COUNTA($C3:ZV3),\"\")","v":""},{"$f":"IF(ZW3<>\"\",COUNTA($C3:ZW3),\"\")","v":""},{"$f":"IF(ZX3<>\"\",COUNTA($C3:ZX3),\"\")","v":""},{"$f":"IF(ZY3<>\"\",COUNTA($C3:ZY3),\"\")","v":""},{"$f":"IF(ZZ3<>\"\",COUNTA($C3:ZZ3),\"\")","v":""},{"$f":"IF(AAA3<>\"\",COUNTA($C3:AAA3),\"\")","v":""},{"$f":"IF(AAB3<>\"\",COUNTA($C3:AAB3),\"\")","v":""},{"$f":"IF(AAC3<>\"\",COUNTA($C3:AAC3),\"\")","v":""},{"$f":"IF(AAD3<>\"\",COUNTA($C3:AAD3),\"\")","v":""},{"$f":"IF(AAE3<>\"\",COUNTA($C3:AAE3),\"\")","v":""},{"$f":"IF(AAF3<>\"\",COUNTA($C3:AAF3),\"\")","v":""},{"$f":"IF(AAG3<>\"\",COUNTA($C3:AAG3),\"\")","v":""},{"$f":"IF(AAH3<>\"\",COUNTA($C3:AAH3),\"\")","v":""},{"$f":"IF(AAI3<>\"\",COUNTA($C3:AAI3),\"\")","v":""},{"$f":"IF(AAJ3<>\"\",COUNTA($C3:AAJ3),\"\")","v":""},{"$f":"IF(AAK3<>\"\",COUNTA($C3:AAK3),\"\")","v":""},{"$f":"IF(AAL3<>\"\",COUNTA($C3:AAL3),\"\")","v":""},{"$f":"IF(AAM3<>\"\",COUNTA($C3:AAM3),\"\")","v":""},{"$f":"IF(AAN3<>\"\",COUNTA($C3:AAN3),\"\")","v":""},{"$f":"IF(AAO3<>\"\",COUNTA($C3:AAO3),\"\")","v":""},{"$f":"IF(AAP3<>\"\",COUNTA($C3:AAP3),\"\")","v":""},{"$f":"IF(AAQ3<>\"\",COUNTA($C3:AAQ3),\"\")","v":""},{"$f":"IF(AAR3<>\"\",COUNTA($C3:AAR3),\"\")","v":""},{"$f":"IF(AAS3<>\"\",COUNTA($C3:AAS3),\"\")","v":""},{"$f":"IF(AAT3<>\"\",COUNTA($C3:AAT3),\"\")","v":""},{"$f":"IF(AAU3<>\"\",COUNTA($C3:AAU3),\"\")","v":""},{"$f":"IF(AAV3<>\"\",COUNTA($C3:AAV3),\"\")","v":""},{"$f":"IF(AAW3<>\"\",COUNTA($C3:AAW3),\"\")","v":""},{"$f":"IF(AAX3<>\"\",COUNTA($C3:AAX3),\"\")","v":""},{"$f":"IF(AAY3<>\"\",COUNTA($C3:AAY3),\"\")","v":""},{"$f":"IF(AAZ3<>\"\",COUNTA($C3:AAZ3),\"\")","v":""},{"$f":"IF(ABA3<>\"\",COUNTA($C3:ABA3),\"\")","v":361},{"$f":"IF(ABB3<>\"\",COUNTA($C3:ABB3),\"\")","v":""},{"$f":"IF(ABC3<>\"\",COUNTA($C3:ABC3),\"\")","v":""},{"$f":"IF(ABD3<>\"\",COUNTA($C3:ABD3),\"\")","v":""},{"$f":"IF(ABE3<>\"\",COUNTA($C3:ABE3),\"\")","v":362},{"$f":"IF(ABF3<>\"\",COUNTA($C3:ABF3),\"\")","v":""},{"$f":"IF(ABG3<>\"\",COUNTA($C3:ABG3),\"\")","v":""},{"$f":"IF(ABH3<>\"\",COUNTA($C3:ABH3),\"\")","v":""},{"$f":"IF(ABI3<>\"\",COUNTA($C3:ABI3),\"\")","v":""},{"$f":"IF(ABJ3<>\"\",COUNTA($C3:ABJ3),\"\")","v":""},{"$f":"IF(ABK3<>\"\",COUNTA($C3:ABK3),\"\")","v":""},{"$f":"IF(ABL3<>\"\",COUNTA($C3:ABL3),\"\")","v":""},{"$f":"IF(ABM3<>\"\",COUNTA($C3:ABM3),\"\")","v":""},{"$f":"IF(ABN3<>\"\",COUNTA($C3:ABN3),\"\")","v":""},{"$f":"IF(ABO3<>\"\",COUNTA($C3:ABO3),\"\")","v":""},{"$f":"IF(ABP3<>\"\",COUNTA($C3:ABP3),\"\")","v":""},{"$f":"IF(ABQ3<>\"\",COUNTA($C3:ABQ3),\"\")","v":""},{"$f":"IF(ABR3<>\"\",COUNTA($C3:ABR3),\"\")","v":""},{"$f":"IF(ABS3<>\"\",COUNTA($C3:ABS3),\"\")","v":""},{"$f":"IF(ABT3<>\"\",COUNTA($C3:ABT3),\"\")","v":""},{"$f":"IF(ABU3<>\"\",COUNTA($C3:ABU3),\"\")","v":""},{"$f":"IF(ABV3<>\"\",COUNTA($C3:ABV3),\"\")","v":""},{"$f":"IF(ABW3<>\"\",COUNTA($C3:ABW3),\"\")","v":""},{"$f":"IF(ABX3<>\"\",COUNTA($C3:ABX3),\"\")","v":""},{"$f":"IF(ABY3<>\"\",COUNTA($C3:ABY3),\"\")","v":363},{"$f":"IF(ABZ3<>\"\",COUNTA($C3:ABZ3),\"\")","v":""},{"$f":"IF(ACA3<>\"\",COUNTA($C3:ACA3),\"\")","v":""},{"$f":"IF(ACB3<>\"\",COUNTA($C3:ACB3),\"\")","v":""},{"$f":"IF(ACC3<>\"\",COUNTA($C3:ACC3),\"\")","v":364},{"$f":"IF(ACD3<>\"\",COUNTA($C3:ACD3),\"\")","v":""},{"$f":"IF(ACE3<>\"\",COUNTA($C3:ACE3),\"\")","v":""},{"$f":"IF(ACF3<>\"\",COUNTA($C3:ACF3),\"\")","v":""},{"$f":"IF(ACG3<>\"\",COUNTA($C3:ACG3),\"\")","v":""},{"$f":"IF(ACH3<>\"\",COUNTA($C3:ACH3),\"\")","v":""},{"$f":"IF(ACI3<>\"\",COUNTA($C3:ACI3),\"\")","v":""},{"$f":"IF(ACJ3<>\"\",COUNTA($C3:ACJ3),\"\")","v":""},{"$f":"IF(ACK3<>\"\",COUNTA($C3:ACK3),\"\")","v":""},{"$f":"IF(ACL3<>\"\",COUNTA($C3:ACL3),\"\")","v":""},{"$f":"IF(ACM3<>\"\",COUNTA($C3:ACM3),\"\")","v":""},{"$f":"IF(ACN3<>\"\",COUNTA($C3:ACN3),\"\")","v":""},{"$f":"IF(ACO3<>\"\",COUNTA($C3:ACO3),\"\")","v":""},{"$f":"IF(ACP3<>\"\",COUNTA($C3:ACP3),\"\")","v":""},{"$f":"IF(ACQ3<>\"\",COUNTA($C3:ACQ3),\"\")","v":""},{"$f":"IF(ACR3<>\"\",COUNTA($C3:ACR3),\"\")","v":""},{"$f":"IF(ACS3<>\"\",COUNTA($C3:ACS3),\"\")","v":""},{"$f":"IF(ACT3<>\"\",COUNTA($C3:ACT3),\"\")","v":""},{"$f":"IF(ACU3<>\"\",COUNTA($C3:ACU3),\"\")","v":""},{"$f":"IF(ACV3<>\"\",COUNTA($C3:ACV3),\"\")","v":""},{"$f":"IF(ACW3<>\"\",COUNTA($C3:ACW3),\"\")","v":""},{"$f":"IF(ACX3<>\"\",COUNTA($C3:ACX3),\"\")","v":""},{"$f":"IF(ACY3<>\"\",COUNTA($C3:ACY3),\"\")","v":""},{"$f":"IF(ACZ3<>\"\",COUNTA($C3:ACZ3),\"\")","v":""},{"$f":"IF(ADA3<>\"\",COUNTA($C3:ADA3),\"\")","v":""},{"$f":"IF(ADB3<>\"\",COUNTA($C3:ADB3),\"\")","v":""},{"$f":"IF(ADC3<>\"\",COUNTA($C3:ADC3),\"\")","v":""},{"$f":"IF(ADD3<>\"\",COUNTA($C3:ADD3),\"\")","v":""},{"$f":"IF(ADE3<>\"\",COUNTA($C3:ADE3),\"\")","v":""},{"$f":"IF(ADF3<>\"\",COUNTA($C3:ADF3),\"\")","v":365},{"$f":"IF(ADG3<>\"\",COUNTA($C3:ADG3),\"\")","v":366},{"$f":"IF(ADH3<>\"\",COUNTA($C3:ADH3),\"\")","v":367},{"$f":"IF(ADI3<>\"\",COUNTA($C3:ADI3),\"\")","v":368},{"$f":"IF(ADJ3<>\"\",COUNTA($C3:ADJ3),\"\")","v":369},{"$f":"IF(ADK3<>\"\",COUNTA($C3:ADK3),\"\")","v":370},{"$f":"IF(ADL3<>\"\",COUNTA($C3:ADL3),\"\")","v":371},{"$f":"IF(ADM3<>\"\",COUNTA($C3:ADM3),\"\")","v":372},{"$f":"IF(ADN3<>\"\",COUNTA($C3:ADN3),\"\")","v":373},{"$f":"IF(ADO3<>\"\",COUNTA($C3:ADO3),\"\")","v":374},{"$f":"IF(ADP3<>\"\",COUNTA($C3:ADP3),\"\")","v":375},{"$f":"IF(ADQ3<>\"\",COUNTA($C3:ADQ3),\"\")","v":376},{"$f":"IF(ADR3<>\"\",COUNTA($C3:ADR3),\"\")","v":377},{"$f":"IF(ADS3<>\"\",COUNTA($C3:ADS3),\"\")","v":""},{"$f":"IF(ADT3<>\"\",COUNTA($C3:ADT3),\"\")","v":""},{"$f":"IF(ADU3<>\"\",COUNTA($C3:ADU3),\"\")","v":""},{"$f":"IF(ADV3<>\"\",COUNTA($C3:ADV3),\"\")","v":""},{"$f":"IF(ADW3<>\"\",COUNTA($C3:ADW3),\"\")","v":""},{"$f":"IF(ADX3<>\"\",COUNTA($C3:ADX3),\"\")","v":""},{"$f":"IF(ADY3<>\"\",COUNTA($C3:ADY3),\"\")","v":""},{"$f":"IF(ADZ3<>\"\",COUNTA($C3:ADZ3),\"\")","v":""},{"$f":"IF(AEA3<>\"\",COUNTA($C3:AEA3),\"\")","v":""},{"$f":"IF(AEB3<>\"\",COUNTA($C3:AEB3),\"\")","v":""},{"$f":"IF(AEC3<>\"\",COUNTA($C3:AEC3),\"\")","v":""},{"$f":"IF(AED3<>\"\",COUNTA($C3:AED3),\"\")","v":""},{"$f":"IF(AEE3<>\"\",COUNTA($C3:AEE3),\"\")","v":""},{"$f":"IF(AEF3<>\"\",COUNTA($C3:AEF3),\"\")","v":""},{"$f":"IF(AEG3<>\"\",COUNTA($C3:AEG3),\"\")","v":378},{"$f":"IF(AEH3<>\"\",COUNTA($C3:AEH3),\"\")","v":""},{"$f":"IF(AEI3<>\"\",COUNTA($C3:AEI3),\"\")","v":""},{"$f":"IF(AEJ3<>\"\",COUNTA($C3:AEJ3),\"\")","v":""},{"$f":"IF(AEK3<>\"\",COUNTA($C3:AEK3),\"\")","v":379},{"$f":"IF(AEL3<>\"\",COUNTA($C3:AEL3),\"\")","v":""},{"$f":"IF(AEM3<>\"\",COUNTA($C3:AEM3),\"\")","v":""},{"$f":"IF(AEN3<>\"\",COUNTA($C3:AEN3),\"\")","v":""},{"$f":"IF(AEO3<>\"\",COUNTA($C3:AEO3),\"\")","v":380},{"$f":"IF(AEP3<>\"\",COUNTA($C3:AEP3),\"\")","v":381},{"$f":"IF(AEQ3<>\"\",COUNTA($C3:AEQ3),\"\")","v":""},{"$f":"IF(AER3<>\"\",COUNTA($C3:AER3),\"\")","v":""},{"$f":"IF(AES3<>\"\",COUNTA($C3:AES3),\"\")","v":""},{"$f":"IF(AET3<>\"\",COUNTA($C3:AET3),\"\")","v":""},{"$f":"IF(AEU3<>\"\",COUNTA($C3:AEU3),\"\")","v":""},{"$f":"IF(AEV3<>\"\",COUNTA($C3:AEV3),\"\")","v":""},{"$f":"IF(AEW3<>\"\",COUNTA($C3:AEW3),\"\")","v":""},{"$f":"IF(AEX3<>\"\",COUNTA($C3:AEX3),\"\")","v":382},{"$f":"IF(AEY3<>\"\",COUNTA($C3:AEY3),\"\")","v":383},{"$f":"IF(AEZ3<>\"\",COUNTA($C3:AEZ3),\"\")","v":384},{"$f":"IF(AFA3<>\"\",COUNTA($C3:AFA3),\"\")","v":385},{"$f":"IF(AFB3<>\"\",COUNTA($C3:AFB3),\"\")","v":386},{"$f":"IF(AFC3<>\"\",COUNTA($C3:AFC3),\"\")","v":387},{"$f":"IF(AFD3<>\"\",COUNTA($C3:AFD3),\"\")","v":388},{"$f":"IF(AFE3<>\"\",COUNTA($C3:AFE3),\"\")","v":389},{"$f":"IF(AFF3<>\"\",COUNTA($C3:AFF3),\"\")","v":390},{"$f":"IF(AFG3<>\"\",COUNTA($C3:AFG3),\"\")","v":391},{"$f":"IF(AFH3<>\"\",COUNTA($C3:AFH3),\"\")","v":392},{"$f":"IF(AFI3<>\"\",COUNTA($C3:AFI3),\"\")","v":393},{"$f":"IF(AFJ3<>\"\",COUNTA($C3:AFJ3),\"\")","v":394},{"$f":"IF(AFK3<>\"\",COUNTA($C3:AFK3),\"\")","v":395},{"$f":"IF(AFL3<>\"\",COUNTA($C3:AFL3),\"\")","v":396},{"$f":"IF(AFM3<>\"\",COUNTA($C3:AFM3),\"\")","v":397},{"$f":"IF(AFN3<>\"\",COUNTA($C3:AFN3),\"\")","v":398},{"$f":"IF(AFO3<>\"\",COUNTA($C3:AFO3),\"\")","v":399},{"$f":"IF(AFP3<>\"\",COUNTA($C3:AFP3),\"\")","v":400},{"$f":"IF(AFQ3<>\"\",COUNTA($C3:AFQ3),\"\")","v":401},{"$f":"IF(AFR3<>\"\",COUNTA($C3:AFR3),\"\")","v":402},{"$f":"IF(AFS3<>\"\",COUNTA($C3:AFS3),\"\")","v":403},{"$f":"IF(AFT3<>\"\",COUNTA($C3:AFT3),\"\")","v":404},{"$f":"IF(AFU3<>\"\",COUNTA($C3:AFU3),\"\")","v":405},{"$f":"IF(AFV3<>\"\",COUNTA($C3:AFV3),\"\")","v":""},{"$f":"IF(AFW3<>\"\",COUNTA($C3:AFW3),\"\")","v":406},{"$f":"IF(AFX3<>\"\",COUNTA($C3:AFX3),\"\")","v":""},{"$f":"IF(AFY3<>\"\",COUNTA($C3:AFY3),\"\")","v":407},{"$f":"IF(AFZ3<>\"\",COUNTA($C3:AFZ3),\"\")","v":""},{"$error":"#VALUE!"},{"$error":"#VALUE!"},{"$error":"#VALUE!"},{"$error":"#VALUE!"},{"$error":"#VALUE!"},{"$error":"#VALUE!"},{"$error":"#VALUE!"},{"$error":"#VALUE!"},{"$error":"#VALUE!"},{"$error":"#VALUE!"},{"$error":"#VALUE!"},{"$error":"#VALUE!"},{"$error":"#VALUE!"},{"$error":"#VALUE!"}]
[]
[0,"←集計対象総事業者数",3,{"$f":"+C12+1","v":4},5,6,7,8,9,10,11,12,13,14,15,16,17,18,19,20,21,22,23,24,25,26,27,28,29,30,31,32,33,34,35,36,37,38,39,40,41,42,43,44,45,46,47,48,49,50,51,52,53,54,55,56,57,58,59,60,61,62,63,64,65,66,67,{"$f":"+BO12+1","v":68},69,70,71,72,73,74,75,76,77,78,79,80,81,82,83,84,85,86,87,88,89,90,91,92,93,94,95,96,97,98,99,100,101,102,103,104,105,106,107,108,109,110,111,112,113,114,115,116,117,118,119,120,121,122,123,124,125,126,127,128,129,130,131,{"$f":"+EA12+1","v":132},133,134,135,136,137,138,139,140,141,142,143,144,145,146,147,148,149,150,151,152,153,154,155,156,157,158,159,160,161,162,163,164,165,166,167,168,169,170,171,172,173,174,175,176,177,178,179,180,181,182,183,184,185,186,187,188,189,190,191,192,193,194,195,{"$f":"+GM12+1","v":196},197,198,199,200,201,202,203,204,205,206,207,208,209,210,211,212,213,214,215,216,217,218,219,220,221,222,223,224,225,226,227,228,229,230,231,232,233,234,235,236,237,238,239,240,241,242,243,244,245,246,247,248,249,250,251,252,253,254,255,256,257,258,259,{"$f":"+IY12+1","v":260},261,262,263,264,265,266,267,268,269,270,271,272,273,274,275,276,277,278,279,280,281,282,283,284,285,286,287,288,289,290,291,292,293,294,295,296,297,298,299,300,301,302,303,304,305,306,307,308,309,310,311,312,313,314,315,316,317,318,319,320,321,322,323,{"$f":"+LK12+1","v":324},325,326,327,328,329,330,331,332,333,334,335,336,337,338,339,340,341,342,343,344,345,346,347,348,349,350,351,352,353,354,355,356,357,358,359,360,361,362,363,364,365,366,367,368,369,370,371,372,373,374,375,376,377,378,379,380,381,382,383,384,385,386,387,{"$f":"+NW12+1","v":388},389,390,391,392,393,394,395,396,397,398,399,400,401,402,403,404,405,406,407,408,409,410,411,412,413,414,415,416,417,418,419,420,421,422,423,424,425,426,427,428,429,430,431,432,433,434,435,436,437,438,439,440,441,442,443,444,445,446,447,448,449,450,451,{"$f":"+QI12+1","v":452},453,454,455,456,457,458,459,460,461,462,463,464,465,466,467,468,469,470,471,472,473,474,475,476,477,478,479,480,481,482,483,484,485,486,487,488,489,490,491,492,493,494,495,496,497,498,499,500,501,502,503,504,505,506,507,508,509,510,511,512,513,514,515,{"$f":"+SU12+1","v":516},517,518,519,520,521,522,523,524,525,526,527,528,529,530,531,532,533,534,535,536,537,538,539,540,541,542,543,544,545,546,547,548,549,550,551,552,553,554,555,556,557,558,559,560,561,562,563,564,565,566,567,568,569,570,571,572,573,574,575,576,577,578,579,{"$f":"+VG12+1","v":580},581,582,583,584,585,586,587,588,589,590,591,592,593,594,595,596,597,598,599,600,601,602,603,604,605,606,607,608,609,610,611,612,613,614,615,616,617,618,619,620,621,622,623,624,625,626,627,628,629,630,631,632,633,634,635,636,637,638,639,640,641,642,643,{"$f":"+XS12+1","v":644},645,646,647,648,649,650,651,652,653,654,655,656,657,658,659,660,661,662,663,664,665,666,667,668,669,670,671,672,673,674,675,676,677,678,679,680,681,682,683,684,685,686,687,688,689,690,691,692,693,694,695,696,697,698,699,700,701,702,703,704,705,706,707,{"$f":"+AAE12+1","v":708},709,710,711,712,713,714,715,716,717,718,719,720,721,{"$f":"+AAS12+1","v":722},{"$f":"+AAT12+1","v":723},{"$f":"+AAU12+1","v":724},{"$f":"+AAV12+1","v":725},{"$f":"+AAW12+1","v":726},{"$f":"+AAX12+1","v":727},{"$f":"+AAY12+1","v":728},{"$f":"+AAZ12+1","v":729},{"$f":"+ABA12+1","v":730},{"$f":"+ABB12+1","v":731},{"$f":"+ABC12+1","v":732},{"$f":"+ABD12+1","v":733},{"$f":"+ABE12+1","v":734},{"$f":"+ABF12+1","v":735},{"$f":"+ABG12+1","v":736},{"$f":"+ABH12+1","v":737},738,{"$f":"+ABJ12+1","v":739},{"$f":"+ABK12+1","v":740},{"$f":"+ABL12+1","v":741},{"$f":"+ABM12+1","v":742},{"$f":"+ABN12+1","v":743},{"$f":"+ABO12+1","v":744},{"$f":"+ABP12+1","v":745},{"$f":"+ABQ12+1","v":746},{"$f":"+ABR12+1","v":747},{"$f":"+ABS12+1","v":748},{"$f":"+ABT12+1","v":749},{"$f":"+ABU12+1","v":750},{"$f":"+ABV12+1","v":751},{"$f":"+ABW12+1","v":752},753,754,755,756,757,758,759,760,761,762,763,764,765,766,767,768,{"$f":"+ACN12+1","v":769},770,771,772,773,774,775,776,777,778,779,780,781,782,783,784,785,786,787,788,789,790,791,792,793,794,795,796,797,798,799,800,801,802,803,{"$f":"+ADW12+1","v":804},805,806,807,808,809,810,811,812,813,814,815,816,817,818,819,820,821,822,823,824,825,826,827,828,829,830,831,832,833,834,835,836,837,838,839,840,841,842,843,844,845,846,847,848,849,850,851,852,853,854,855,856,857,858,859,860,861,862,863,864,865,866,867,{"$f":"+AGI12+1","v":868},869,870,871,872]
["NO","報告年度","表紙",null,null,null,null,null,null,null,null,null,null,null,null,null,null,null,null,null,null,null,null,null,null,null,null,null,null,null,null,null,null,null,null,null,null,null,null,"第1表(1)_貨物",null,null,null,null,null,null,null,null,null,null,null,null,null,null,null,null,null,null,null,null,null,null,null,null,null,null,null,null,null,null,null,null,null,null,null,null,null,"第1表(1)_貨物_連携(自己分)",null,null,null,null,null,null,null,null,null,null,null,null,null,null,null,null,null,null,null,null,null,null,null,null,null,null,null,null,null,null,null,null,null,null,null,null,null,"第1表(1)_貨物_連携(連携分)",null,null,null,null,null,null,null,null,null,null,null,null,null,null,null,null,null,null,null,null,null,null,null,null,null,null,null,null,null,null,null,null,null,null,null,null,null,"第1表(1)_旅客",null,null,null,null,null,null,null,null,null,null,null,null,null,null,null,null,null,null,null,null,null,null,null,null,null,null,null,null,null,null,null,null,null,null,null,null,null,"第1表(1)_旅客_連携(自己分)",null,null,null,null,null,null,null,null,null,null,null,null,null,null,null,null,null,null,null,null,null,null,null,null,null,null,null,null,null,null,null,null,null,null,null,null,null,"第1表(1)_旅客_連携(連携分)",null,null,null,null,null,null,null,null,null,null,null,null,null,null,null,null,null,null,null,null,null,null,null,null,null,null,null,null,null,null,null,null,null,null,null,null,null,"第1表(1)_航空",null,null,null,null,null,null,null,null,null,null,null,null,null,null,null,null,null,null,null,null,null,null,null,null,null,null,null,null,null,null,null,null,null,null,null,null,null,"第1表(1)_航空_連携(自己分)",null,null,null,null,null,null,null,null,null,null,null,null,null,null,null,null,null,null,null,null,null,null,null,null,null,null,null,null,null,null,null,null,null,null,null,null,null,"第1表(1)_航空_連携(連携分)",null,null,null,null,null,null,null,null,null,null,null,null,null,null,null,null,null,null,null,null,null,null,null,null,null,null,null,null,null,null,null,null,null,null,null,null,null,"第1表(2)","第1表(2)","第1表(2)","第1表(2)","第1表(2)","第1表(2)","第1表(2)","第1表(2)","第1表(2)","第1表(2)","第1表(2)","第1表(2)","第1表(2)","第1表(2)","第1表(2)","第1表(2)","第1表(2)","第1表(2)","第1表(2)","第1表(2)","第1表(2)","第1表(2)","第1表(2)","第1表(2)","第1表(2)","第1表(2)","第1表(2)","第1表(2)","第1表(2)","第1表(2)","第1表(2)","第1表(2)","第1表(2)","第1表(2)","第1表(2)","第1表(2)","第1表(2)","第1表(2)","第1表(2)","第1表(2)","第1表(2)","第1表(2)","第1表(2)","第1表(2)","第1表(2)","第1表(2)","第1表(2)","第1表(2)","第1表(2)","第1表(2)","第1表(2)","第1表(2)","第1表(2)","第1表(2)","第1表(2)","第1表(2)","第1表(2)","第1表(2)","第1表(2)","第1表(2)","第1表(2)","第1表(2)","第1表(2)","第1表(2)","第1表(2)","第1表(2)","第1表(2)","第1表(2)","第1表(2)","第1表(2)","第1表(2)","第1表(2)","第1表(2)","第1表(2)","第1表(2)","第1表(2)","第1表(2)","第1表(2)","第1表(2)","第1表(2)","第1表(2)","第1表(2)","第1表(2)","第1表(2)","第1表(2)","第2表","第2表","第2表","第2表","第2表","第2表","第2表","第2表","第2表","第2表","第2表","第2表","第2表","第2表","第2表","第2表","第2表","第2表","第2表","第2表","第2表","第2表","第2表","第2表","第2表","第2表","第2表","第2表","第2表","第2表","第2表","第2表","第2表","第2表","第2表","第2表","第2表","第2表","第2表","第2表","第2表","第2表","第2表","第2表","第2表","第2表","第2表","第2表","第2表","第2表","第2表","第2表","第2表","第2表","第2表","第2表","第2表","第2表","第2表","第2表","第2表","第2表","第2表","第2表","第2表","第2表","第2表","第2表","第3表（貨物）",null,null,null,"第3表（旅客）",null,null,null,"第3表（航空）",null,null,null,"第4表（貨物）",null,null,null,null,null,null,null,"第4表（旅客）",null,null,null,null,null,null,null,"第4表（航空）",null,null,null,null,null,null,null,"第5表（貨物）",null,null,null,null,null,null,null,null,null,null,null,null,null,null,null,null,null,null,null,null,null,null,null,null,null,null,null,null,null,null,null,null,null,null,null,null,null,null,null,null,null,null,null,null,null,null,null,null,null,"第5表（旅客）",null,null,null,null,null,null,null,null,null,null,null,null,null,null,null,null,null,null,null,null,null,null,null,null,null,null,null,null,null,null,null,null,null,null,null,null,null,null,null,null,null,null,null,null,null,null,null,null,null,"第5表（航空）",null,null,null,null,null,null,null,null,null,null,null,null,null,null,null,null,null,null,null,null,null,null,null,null,null,null,null,null,null,null,null,null,null,null,null,null,null,null,null,null,null,null,null,null,null,null,null,null,null,"第6表（貨物・エネルギー）",null,null,null,null,null,null,null,"第6表（旅客・エネルギー）",null,null,null,null,null,null,null,"第6表（航空・エネルギー）",null,null,null,null,null,null,null,"第6表（貨物・電気）",null,null,null,null,null,null,null,"第6表（旅客・電気）",null,null,null,null,null,null,null,"第6表（航空・電気）",null,null,null,null,null,null,null,"第7表（貨物）",null,null,null,null,null,null,null,null,null,null,null,null,null,null,null,null,"第7表（旅客）",null,null,null,null,null,null,null,null,null,null,null,null,"第7表（航空）",null,null,null,null,null,null,null,null,null,null,null,null,null,"第8表",null,null,null,null,null,null,null,"第9表",null,null,null,null,null,null,null,null,null,null,"隠れシート(保存用)(貨物)",null,null,null,null,null,null,null,null,"隠れシート(保存用)(旅客)",null,null,null,null,null,null,null,null,"隠れシート(保存用)(航空)",null,null,null,null,null,null,null,null,"NO","特定輸送事業者指定番号","特定排出者番号","事業者名番号","電力(貨物)","電力(貨物)_連携(自己分)","電力(貨物)_連携(連携分)","電力(旅客)","電力(旅客)_連携(自己分)","電力(旅客)_連携(連携分)","電力(航空)","電力(航空)_連携(自己分)","電力(航空)_連携(連携分)","ファイル\nバージョン"]
[null,null,1,{"$f":"+C14+1","v":2},3,4,5,6,7,8,9,10,11,12,13,14,15,16,17,18,19,20,21,22,23,24,25,26,27,28,29,30,31,32,33,34,35,36,37,38,39,40,41,42,43,44,45,46,47,48,49,50,51,52,53,54,55,56,57,58,59,60,61,62,63,64,65,{"$f":"+BO14+1","v":66},67,68,69,70,71,72,73,74,75,76,77,78,79,80,81,82,83,84,85,86,87,88,89,90,91,92,93,94,95,96,97,98,99,100,101,102,103,104,105,106,107,108,109,110,111,112,113,114,115,116,117,118,119,120,121,122,123,124,125,126,127,128,129,{"$f":"+EA14+1","v":130},131,132,133,134,135,136,137,138,139,140,141,142,143,144,145,146,147,148,149,150,151,152,153,154,155,156,157,158,159,160,161,162,163,164,165,166,167,168,169,170,171,172,173,174,175,176,177,178,179,180,181,182,183,184,185,186,187,188,189,190,191,192,193,{"$f":"+GM14+1","v":194},195,196,197,198,199,200,201,202,203,204,205,206,207,208,209,210,211,212,213,214,215,216,217,218,219,220,221,222,223,224,225,226,227,228,229,230,231,232,233,234,235,236,237,238,239,240,241,242,243,244,245,246,247,248,249,250,251,252,253,254,255,256,257,{"$f":"+IY14+1","v":258},259,260,261,262,263,264,265,266,267,268,269,270,271,272,273,274,275,276,277,278,279,280,281,282,283,284,285,286,287,288,289,290,291,292,293,294,295,296,297,298,299,300,301,302,303,304,305,306,307,308,309,310,311,312,313,314,315,316,317,318,319,320,321,{"$f":"+LK14+1","v":322},323,324,325,326,327,328,329,330,331,332,333,334,335,336,337,338,339,340,341,342,343,344,345,346,347,348,349,350,351,352,353,354,355,356,357,358,359,360,361,362,363,364,365,366,367,368,369,370,371,372,373,374,375,376,377,378,379,380,381,382,383,384,385,{"$f":"+NW14+1","v":386},387,388,389,390,391,392,393,394,395,396,397,398,399,400,401,402,403,404,405,406,407,408,409,410,411,412,413,414,415,416,417,418,419,420,421,422,423,424,425,426,427,428,429,430,431,432,433,434,435,436,437,438,439,440,441,442,443,444,445,446,447,448,449,{"$f":"+QI14+1","v":450},451,452,453,454,455,456,457,458,459,460,461,462,463,464,465,466,467,468,469,470,471,472,473,474,475,476,477,478,479,480,481,482,483,484,485,486,487,488,489,490,491,492,493,494,495,496,497,498,499,500,501,502,503,504,505,506,507,508,509,510,511,512,513,{"$f":"+SU14+1","v":514},515,516,517,518,519,520,521,522,523,524,525,526,527,528,529,530,531,532,533,534,535,536,537,538,539,540,541,542,543,544,545,546,547,548,549,550,551,552,553,554,555,556,557,558,559,560,561,562,563,564,565,566,567,568,569,570,571,572,573,574,575,576,577,{"$f":"+VG14+1","v":578},579,580,581,582,583,584,585,586,587,588,589,590,591,592,593,594,595,596,597,598,599,600,601,602,603,604,605,606,607,608,609,610,611,612,613,614,615,616,617,618,619,620,621,622,623,624,625,626,627,628,629,630,631,632,633,634,635,636,637,638,639,640,641,{"$f":"+XS14+1","v":642},643,644,645,646,647,648,649,650,651,652,653,654,655,656,657,658,659,660,661,662,663,664,665,666,667,668,669,670,671,672,673,674,675,676,677,678,679,680,681,682,683,684,685,686,687,688,689,690,691,692,693,694,695,696,697,698,699,700,701,702,703,704,705,{"$f":"+AAE14+1","v":706},707,708,709,710,711,712,713,714,715,716,717,718,719,{"$f":"+AAS14+1","v":720},{"$f":"+AAT14+1","v":721},{"$f":"+AAU14+1","v":722},{"$f":"+AAV14+1","v":723},{"$f":"+AAW14+1","v":724},{"$f":"+AAX14+1","v":725},{"$f":"+AAY14+1","v":726},{"$f":"+AAZ14+1","v":727},{"$f":"+ABA14+1","v":728},{"$f":"+ABB14+1","v":729},{"$f":"+ABC14+1","v":730},{"$f":"+ABD14+1","v":731},{"$f":"+ABE14+1","v":732},{"$f":"+ABF14+1","v":733},{"$f":"+ABG14+1","v":734},735,{"$f":"+ABI14+1","v":736},{"$f":"+ABJ14+1","v":737},{"$f":"+ABK14+1","v":738},{"$f":"+ABL14+1","v":739},{"$f":"+ABM14+1","v":740},{"$f":"+ABN14+1","v":741},{"$f":"+ABO14+1","v":742},{"$f":"+ABP14+1","v":743},{"$f":"+ABQ14+1","v":744},{"$f":"+ABR14+1","v":745},{"$f":"+ABS14+1","v":746},{"$f":"+ABT14+1","v":747},{"$f":"+ABU14+1","v":748},{"$f":"+ABV14+1","v":749},{"$f":"+ABW14+1","v":750},751,752,753,754,755,756,757,758,759,760,761,762,763,764,765,766,767,768,769,770,771,772,773,774,775,776,777,778,779,780,781,782,783,784,785,786,787,788,789,790,791,792,793,794,795,796,797,798,799,800,801,{"$f":"+ADW14+1","v":802},803,804,805,806,807,808,809,810,811,812,813,814,815,816,817,818,819,820,821,822,823,824,825,826,827,828,829,830,831,832,833,834,835,836,837,838,839,840,841,842,843,844,845,846,847,848,849,850,851,852,853,854,855,856]
[null,null,"運輸局名","年","月","日","住所","法人名","役職","代表者氏名","特定輸送事業者指定番号又は認定管理統括貨客輸送事業者指定番号",null,null,null,null,null,null,null,null,null,"特定排出者番号",null,null,null,null,null,null,null,null,"事業者名",null,null,null,null,null,null,null,null,null,null,null,null,null,null,null,null,null,null,null,null,null,null,null,null,null,null,null,null,null,null,null,null,null,null,null,null,null,null,null,null,null,null,null,null,null,null,null,null,null,null,null,null,null,null,null,null,null,null,null,null,null,null,null,null,null,null,null,null,null,null,null,null,null,null,null,null,null,null,null,null,null,null,null,null,null,null,null,null,null,null,null,null,null,null,null,null,null,null,null,null,null,null,null,null,null,null,null,null,null,null,null,null,null,null,null,null,null,null,null,null,null,null,null,null,null,null,null,null,null,null,null,null,null,null,null,null,null,null,null,null,null,null,null,null,null,null,null,null,null,null,null,null,null,null,null,null,null,null,null,null,null,null,null,null,null,null,null,null,null,null,null,null,null,null,null,null,null,null,null,null,null,null,null,null,null,null,null,null,null,null,null,null,null,null,null,null,null,null,null,null,null,null,null,null,null,null,null,null,null,null,null,null,null,null,null,null,null,null,null,null,null,null,null,null,null,null,null,null,null,null,null,null,null,null,null,null,null,null,null,null,null,null,null,null,null,null,null,null,null,null,null,null,null,null,null,null,null,null,null,null,null,null,null,null,null,null,null,null,null,null,null,null,null,null,null,null,null,null,null,null,null,null,null,null,null,null,null,null,null,null,null,null,null,null,null,null,null,null,null,null,null,null,null,null,null,null,null,null,null,null,null,null,null,null,null,null,null,null,null,null,null,null,null,null,null,null,null,null,null,null,null,null,null,null,null,null,null,null,null,null,null,null,null,null,null,null,null,null,null,null,null,"連携省エネ輸送量と省エネ効果","連携省エネで使用したエネルギー量の算出方法","エネルギー量等1行目",null,null,null,null,"エネルギー量等2行目",null,null,null,null,"エネルギー量等3行目",null,null,null,null,"エネルギー量等4行目",null,null,null,null,"エネルギー量等5行目",null,null,null,null,"エネルギー量等6行目",null,null,null,null,"エネルギー量等7行目",null,null,null,null,"エネルギー量等8行目",null,null,null,null,"エネルギー量等9行目",null,null,null,null,"エネルギー量等10行目",null,null,null,null,"エネルギー量等11行目",null,null,null,null,"エネルギー量等12行目",null,null,null,null,"エネルギー量等13行目",null,null,null,null,"エネルギー量等14行目",null,null,null,null,"エネルギー量等15行目",null,null,null,null,"その他のエネルギー",null,null,null,null,null,null,null,"1行目",null,null,null,"2行目",null,null,null,"3行目",null,null,null,"4行目",null,null,null,"5行目",null,null,null,"6行目",null,null,null,"7行目",null,null,null,"8行目",null,null,null,"9行目",null,null,null,"10行目",null,null,null,"11行目",null,null,null,"12行目",null,null,null,"13行目",null,null,null,"14行目",null,null,null,"15行目",null,null,null,"16行目",null,null,null,"17行目",null,null,null,"貨物重量×輸送距離の合算値（貨物）",null,"貨物重量×輸送距離の合算値（貨物・連携）",null,"貨物重量×輸送距離の合算値（旅客）",null,"貨物重量×輸送距離の合算値（旅客・連携）",null,"貨物重量×輸送距離の合算値（航空）",null,"貨物重量×輸送距離の合算値（航空・連携）",null,"エネルギーの使用に係る原単位（貨物）",null,"エネルギーの使用に係る原単位（貨物・連携）",null,"電気需要平準化評価原単位（貨物）",null,"電気需要平準化評価原単位（貨物・連携）",null,"エネルギーの使用に係る原単位（旅客）",null,"エネルギーの使用に係る原単位（旅客・連携）",null,"電気需要平準化評価原単位（旅客）",null,"電気需要平準化評価原単位（旅客・連携）",null,"エネルギーの使用に係る原単位（航空）",null,"エネルギーの使用に係る原単位（航空・連携）",null,"電気需要平準化評価原単位（航空）",null,"電気需要平準化評価原単位（航空・連携）",null,"エネルギーの使用に係る原単位（貨物）",null,null,null,null,null,null,null,null,null,null,null,null,null,null,"連携省エネを踏まえたエネルギーの使用に係る原単位（貨物）",null,null,null,null,null,null,null,null,null,"電気需要平準化評価原単位（貨物）",null,null,null,null,null,null,null,null,null,null,null,null,null,null,"連携省エネを踏まえた電気需要平準化原単位（貨物）",null,null,null,null,null,null,null,null,null,"エネルギーの使用に係る原単位（旅客）",null,null,null,null,null,null,null,null,null,null,null,null,null,null,"連携省エネを踏まえたエネルギーの使用に係る原単位（旅客）",null,null,null,null,null,null,null,null,null,"電気需要平準化評価原単位（旅客）",null,null,null,null,null,null,null,null,null,null,null,null,null,null,"連携省エネを踏まえた電気需要平準化原単位（旅客）",null,null,null,null,null,null,null,null,null,"エネルギーの使用に係る原単位（航空）",null,null,null,null,null,null,null,null,null,null,null,null,null,null,"連携省エネを踏まえたエネルギーの使用に係る原単位（航空）",null,null,null,null,null,null,null,null,null,"電気需要平準化評価原単位（航空）",null,null,null,null,null,null,null,null,null,null,null,null,null,null,"連携省エネを踏まえた電気需要平準化原単位（航空）",null,null,null,null,null,null,null,null,null,"1％改善出来ない理由",null,null,null,"前年比で改善出来ない理由",null,null,null,"1％改善出来ない理由",null,null,null,"前年比で改善出来ない理由",null,null,null,"1％改善出来ない理由",null,null,null,"前年比で改善出来ない理由",null,null,null,"1％改善出来ない理由",null,null,null,"前年比で改善出来ない理由",null,null,null,"1％改善出来ない理由",null,null,null,"前年比で改善出来ない理由",null,null,null,"1％改善出来ない理由",null,null,null,"前年比で改善出来ない理由",null,null,null,"取り組み方針の作成とその効果等の把握",null,null,null,null,"省エネ輸送用機械器具",null,"省エネ運転・操縦",null,null,"輸送能力高","輸送能力の効率的な活用",null,null,"その他",null,null,"取り組み方針の作成とその効果等の把握",null,null,null,null,"省エネ輸送用機械器具",null,"省エネ運転・操縦",null,null,"回送距離縮減","その他",null,"取り組み方針の作成とその効果等の把握",null,null,null,null,"省エネ輸送用機械器具",null,"省エネ運転・操縦",null,null,"輸送能力高","輸送能力の効率的な活用",null,"その他","エネルギーの使用の合理化に関し実施した措置",null,null,null,"エネルギーの使用の合理化に関し実施した措置",null,null,null,"CO2排出量","GHG算定方法、係数",null,null,null,null,null,null,null,"権利利益の保護に係る請求の有無","情報提供の有無","第１表原油換算値(自社分)(基準年度)","第１表原油換算値(自社+連携分)(基準年度)","第１表原油換算値(連携分)(基準年度)","第３表輸送量(自社分)(基準年度)","第３表輸送量(連携分)(基準年度)","第４表エネルギー原単位(自社分)(基準年度)","第４表エネルギー原単位(基準年度)","第４表②電気エネルギー原単位(基準年度)","第４表②電気エネルギー原単位(基準年度)","第１表原油換算値(自社分)(基準年度)","第１表原油換算値(自社+連携分)(基準年度)","第１表原油換算値(連携分)(基準年度)","第３表輸送量(自社分)(基準年度)","第３表輸送量(連携分)(基準年度)","第４表エネルギー原単位(自社分)(基準年度)","第４表エネルギー原単位(基準年度)","第４表②電気エネルギー原単位(基準年度)","第４表②電気エネルギー原単位(基準年度)","第１表原油換算値(自社分)(基準年度)","第１表原油換算値(自社+連携分)(基準年度)","第１表原油換算値(連携分)(基準年度)","第３表輸送量(自社分)(基準年度)","第３表輸送量(連携分)(基準年度)","第４表エネルギー原単位(自社分)(基準年度)","第４表エネルギー原単位(基準年度)","第４表②電気エネルギー原単位(基準年度)","第４表②電気エネルギー原単位(基準年度)"]
[null,null,null,null,null,null,null,null,null,null,null,null,null,null,null,null,null,null,null,null,null,null,null,null,null,null,null,null,null,null,"事業者名番号",null,null,null,"輸送区分","所在地","電話","FAX","email","揮発油","ジェット燃料油","軽油","A重油","BC重油","液化石油ガス(LPG)","液化天然ガス(LNG)","石炭（原料炭）","石炭（一般炭）","石炭（無煙炭）","都市ガス（CNG含）","昼間買電","夏季・冬季における電気需要平準化時間帯","夜間買電","上記以外の買電","自家発電","その他使用量","その他エネルギー種類","その他単位","その他熱量","その他CO2排出量","揮発油","ジェット燃料油","軽油","A重油","BC重油","液化石油ガス(LPG)","液化天然ガス(LNG)","石炭（原料炭）","石炭（一般炭）","石炭（無煙炭）","都市ガス（CNG含）","昼間買電","夏季・冬季における電気需要平準化時間帯","夜間買電","上記以外の買電","都市ガス種類","熱量","揮発油","ジェット燃料油","軽油","A重油","BC重油","液化石油ガス(LPG)","液化天然ガス(LNG)","石炭（原料炭）","石炭（一般炭）","石炭（無煙炭）","都市ガス（CNG含）","昼間買電","夏季・冬季における電気需要平準化時間帯","夜間買電","上記以外の買電","自家発電","その他使用量","その他エネルギー種類","その他単位","その他熱量","その他CO2排出量","揮発油","ジェット燃料油","軽油","A重油","BC重油","液化石油ガス(LPG)","液化天然ガス(LNG)","石炭（原料炭）","石炭（一般炭）","石炭（無煙炭）","都市ガス（CNG含）","昼間買電","夏季・冬季における電気需要平準化時間帯","夜間買電","上記以外の買電","都市ガス種類","熱量","揮発油","ジェット燃料油","軽油","A重油","BC重油","液化石油ガス(LPG)","液化天然ガス(LNG)","石炭（原料炭）","石炭（一般炭）","石炭（無煙炭）","都市ガス（CNG含）","昼間買電","夏季・冬季における電気需要平準化時間帯","夜間買電","上記以外の買電","自家発電","その他使用量","その他エネルギー種類","その他単位","その他熱量","その他CO2排出量","揮発油","ジェット燃料油","軽油","A重油","BC重油","液化石油ガス(LPG)","液化天然ガス(LNG)","石炭（原料炭）","石炭（一般炭）","石炭（無煙炭）","都市ガス（CNG含）","昼間買電","夏季・冬季における電気需要平準化時間帯","夜間買電","上記以外の買電","都市ガス種類","熱量","揮発油","ジェット燃料油","軽油","A重油","BC重油","液化石油ガス(LPG)","液化天然ガス(LNG)","石炭（原料炭）","石炭（一般炭）","石炭（無煙炭）","都市ガス（CNG含）","昼間買電","夏季・冬季における電気需要平準化時間帯","夜間買電","上記以外の買電","自家発電","その他使用量","その他エネルギー種類","その他単位","その他熱量","その他CO2排出量","揮発油","ジェット燃料油","軽油","A重油","BC重油","液化石油ガス(LPG)","液化天然ガス(LNG)","石炭（原料炭）","石炭（一般炭）","石炭（無煙炭）","都市ガス（CNG含）","昼間買電","夏季・冬季における電気需要平準化時間帯","夜間買電","上記以外の買電","都市ガス種類","熱量","揮発油","ジェット燃料油","軽油","A重油","BC重油","液化石油ガス(LPG)","液化天然ガス(LNG)","石炭（原料炭）","石炭（一般炭）","石炭（無煙炭）","都市ガス（CNG含）","昼間買電","夏季・冬季における電気需要平準化時間帯","夜間買電","上記以外の買電","自家発電","その他使用量","その他エネルギー種類","その他単位","その他熱量","その他CO2排出量","揮発油","ジェット燃料油","軽油","A重油","BC重油","液化石油ガス(LPG)","液化天然ガス(LNG)","石炭（原料炭）","石炭（一般炭）","石炭（無煙炭）","都市ガス（CNG含）","昼間買電","夏季・冬季における電気需要平準化時間帯","夜間買電","上記以外の買電","都市ガス種類","熱量","揮発油","ジェット燃料油","軽油","A重油","BC重油","液化石油ガス(LPG)","液化天然ガス(LNG)","石炭（原料炭）","石炭（一般炭）","石炭（無煙炭）","都市ガス（CNG含）","昼間買電","夏季・冬季における電気需要平準化時間帯","夜間買電","上記以外の買電","自家発電","その他使用量","その他エネルギー種類","その他単位","その他熱量","その他CO2排出量","揮発油","ジェット燃料油","軽油","A重油","BC重油","液化石油ガス(LPG)","液化天然ガス(LNG)","石炭（原料炭）","石炭（一般炭）","石炭（無煙炭）","都市ガス（CNG含）","昼間買電","夏季・冬季における電気需要平準化時間帯","夜間買電","上記以外の買電","都市ガス種類","熱量","揮発油","ジェット燃料油","軽油","A重油","BC重油","液化石油ガス(LPG)","液化天然ガス(LNG)","石炭（原料炭）","石炭（一般炭）","石炭（無煙炭）","都市ガス（CNG含）","昼間買電","夏季・冬季における電気需要平準化時間帯","夜間買電","上記以外の買電","自家発電","その他使用量","その他エネルギー種類","その他単位","その他熱量","その他CO2排出量","揮発油","ジェット燃料油","軽油","A重油","BC重油","液化石油ガス(LPG)","液化天然ガス(LNG)","石炭（原料炭）","石炭（一般炭）","石炭（無煙炭）","都市ガス（CNG含）","昼間買電","夏季・冬季における電気需要平準化時間帯","夜間買電","上記以外の買電","都市ガス種類","熱量","揮発油","ジェット燃料油","軽油","A重油","BC重油","液化石油ガス(LPG)","液化天然ガス(LNG)","石炭（原料炭）","石炭（一般炭）","石炭（無煙炭）","都市ガス（CNG含）","昼間買電","夏季・冬季における電気需要平準化時間帯","夜間買電","上記以外の買電","自家発電","その他使用量","その他エネルギー種類","その他単位","その他熱量","その他CO2排出量","揮発油","ジェット燃料油","軽油","A重油","BC重油","液化石油ガス(LPG)","液化天然ガス(LNG)","石炭（原料炭）","石炭（一般炭）","石炭（無煙炭）","都市ガス（CNG含）","昼間買電","夏季・冬季における電気需要平準化時間帯","夜間買電","上記以外の買電","都市ガス種類","熱量","揮発油","ジェット燃料油","軽油","A重油","BC重油","液化石油ガス(LPG)","液化天然ガス(LNG)","石炭（原料炭）","石炭（一般炭）","石炭（無煙炭）","都市ガス（CNG含）","昼間買電","夏季・冬季における電気需要平準化時間帯","夜間買電","上記以外の買電","自家発電","その他使用量","その他エネルギー種類","その他単位","その他熱量","その他CO2排出量","揮発油","ジェット燃料油","軽油","A重油","BC重油","液化石油ガス(LPG)","液化天然ガス(LNG)","石炭（原料炭）","石炭（一般炭）","石炭（無煙炭）","都市ガス（CNG含）","昼間買電","夏季・冬季における電気需要平準化時間帯","夜間買電","上記以外の買電","都市ガス種類","熱量",null,null,"エネルギーの種類","実際のエネルギー使用量","連携省エネを踏まえたエネルギー使用量","輸送量又は営業距離","輸送量又は営業距離の単位","エネルギーの種類","実際のエネルギー使用量","連携省エネを踏まえたエネルギー使用量","輸送量又は営業距離","輸送量又は営業距離の単位","エネルギーの種類","実際のエネルギー使用量","連携省エネを踏まえたエネルギー使用量","輸送量又は営業距離","輸送量又は営業距離の単位","エネルギーの種類","実際のエネルギー使用量","連携省エネを踏まえたエネルギー使用量","輸送量又は営業距離","輸送量又は営業距離の単位","エネルギーの種類","実際のエネルギー使用量","連携省エネを踏まえたエネルギー使用量","輸送量又は営業距離","輸送量又は営業距離の単位","エネルギーの種類","実際のエネルギー使用量","連携省エネを踏まえたエネルギー使用量","輸送量又は営業距離","輸送量又は営業距離の単位","エネルギーの種類","実際のエネルギー使用量","連携省エネを踏まえたエネルギー使用量","輸送量又は営業距離","輸送量又は営業距離の単位","エネルギーの種類","実際のエネルギー使用量","連携省エネを踏まえたエネルギー使用量","輸送量又は営業距離","輸送量又は営業距離の単位","エネルギーの種類","実際のエネルギー使用量","連携省エネを踏まえたエネルギー使用量","輸送量又は営業距離","輸送量又は営業距離の単位","エネルギーの種類","実際のエネルギー使用量","連携省エネを踏まえたエネルギー使用量","輸送量又は営業距離","輸送量又は営業距離の単位","エネルギーの種類","実際のエネルギー使用量","連携省エネを踏まえたエネルギー使用量","輸送量又は営業距離","輸送量又は営業距離の単位","エネルギーの種類","実際のエネルギー使用量","連携省エネを踏まえたエネルギー使用量","輸送量又は営業距離","輸送量又は営業距離の単位","エネルギーの種類","実際のエネルギー使用量","連携省エネを踏まえたエネルギー使用量","輸送量又は営業距離","輸送量又は営業距離の単位","エネルギーの種類","実際のエネルギー使用量","連携省エネを踏まえたエネルギー使用量","輸送量又は営業距離","輸送量又は営業距離の単位","エネルギーの種類","実際のエネルギー使用量","連携省エネを踏まえたエネルギー使用量","輸送量又は営業距離","輸送量又は営業距離の単位","エネルギーの種類","エネルギーの単位","実際のエネルギー使用量","実際のエネルギー使用量（熱量GJ）","連携省エネを踏まえたエネルギー使用量","連携省エネを踏まえたエネルギー使用量（熱量GJ）","輸送量又は営業距離","輸送量又は営業距離の単位","器具名称","概要","使用状況","導入改造廃棄状況","器具名称","概要","使用状況","導入改造廃棄状況","器具名称","概要","使用状況","導入改造廃棄状況","器具名称","概要","使用状況","導入改造廃棄状況","器具名称","概要","使用状況","導入改造廃棄状況","器具名称","概要","使用状況","導入改造廃棄状況","器具名称","概要","使用状況","導入改造廃棄状況","器具名称","概要","使用状況","導入改造廃棄状況","器具名称","概要","使用状況","導入改造廃棄状況","器具名称","概要","使用状況","導入改造廃棄状況","器具名称","概要","使用状況","導入改造廃棄状況","器具名称","概要","使用状況","導入改造廃棄状況","器具名称","概要","使用状況","導入改造廃棄状況","器具名称","概要","使用状況","導入改造廃棄状況","器具名称","概要","使用状況","導入改造廃棄状況","器具名称","概要","使用状況","導入改造廃棄状況","器具名称","概要","使用状況","導入改造廃棄状況",null,null,null,null,null,null,null,null,null,null,null,null,null,null,null,null,null,null,null,null,null,null,null,null,null,null,null,null,null,null,null,null,null,null,null,null,"年度",null,null,null,null,"原単位",null,null,null,null,"前年度比",null,null,null,null,"原単位",null,null,null,null,"前年度比",null,null,null,null,"年度",null,null,null,null,"原単位",null,null,null,null,"前年度比",null,null,null,null,"原単位",null,null,null,null,"前年度比",null,null,null,null,"年度",null,null,null,null,"原単位",null,null,null,null,"前年度比",null,null,null,null,"原単位",null,null,null,null,"前年度比",null,null,null,null,"年度",null,null,null,null,"原単位",null,null,null,null,"前年度比",null,null,null,null,"原単位",null,null,null,null,"前年度比",null,null,null,null,"年度",null,null,null,null,"原単位",null,null,null,null,"前年度比",null,null,null,null,"原単位",null,null,null,null,"前年度比",null,null,null,null,"年度",null,null,null,null,"原単位",null,null,null,null,"前年度比",null,null,null,null,"原単位",null,null,null,null,"前年度比",null,null,null,null,null,null,null,null,null,null,null,null,null,null,null,null,null,null,null,null,null,null,null,null,null,null,null,null,null,null,null,null,null,null,null,null,null,null,null,null,null,null,null,null,null,null,null,null,null,null,null,null,"取組方針の策定","省エネ推進体制・責任者設置","責任者による取組の状況","従業員教育実施","省エネ目標設定・効果測定策見直し","省エネ輸送用機械器具導入","省エネに資する器具導入","省エネ運転・操縦","効率的輸送ルート選択","冷凍機効率の向上","輸送用機械器具大型化","積載率向上","対貨物量輸送能力適正化","空荷走行・航行距離縮減","関係者連携強化","効率的輸送方法選択促進","物流拠点の整備","取組方針の策定","省エネ推進体制・責任者設置","責任者による取組の状況","従業員教育実施","省エネ目標設定・効果測定策見直し","省エネ輸送用機械器具導入","省エネに資する器具導入","省エネ運転・操縦","効率的輸送ルート選択","冷暖房効率の向上","回送走行・航行距離縮減","関係者連携強化","効率的輸送方法選択促進","取組方針の策定","省エネ推進体制・責任者設置","責任者による取組の状況","従業員教育実施","省エネ目標設定・効果測定策見直し","省エネ輸送用機械器具導入","省エネに資する器具導入","省エネ運転・操縦","搭載物の改善","地上運用における省エネ","輸送用機械器具大型化","積載率向上","回送航行距離縮減","関係者連携強化"]
[null,null,null,null,null,null,null,null,null,null,null,null,null,null,null,null,null,null,null,null,null,null,null,null,null,null,null,null,null,null,null,null,null,null,null,null,null,null,null,"ｋｌ","ｋｌ","ｋｌ","ｋｌ","ｋｌ","ｔ","ｔ","ｔ","ｔ","ｔ","千m３","千kWh","千kWh","千kWh","千kWh","千kWh",null,null,null,"GJ","tCO2","tCO2","tCO2","tCO2","tCO2","tCO2","tCO2","tCO2","tCO2","tCO2","tCO2","tCO2","tCO2","tCO2","tCO2","tCO2",null,null,"ｋｌ","ｋｌ","ｋｌ","ｋｌ","ｋｌ","ｔ","ｔ","ｔ","ｔ","ｔ","千m３","千kWh","千kWh","千kWh","千kWh","千kWh",null,null,null,"GJ","tCO2","tCO2","tCO2","tCO2","tCO2","tCO2","tCO2","tCO2","tCO2","tCO2","tCO2","tCO2","tCO2","tCO2","tCO2","tCO2",null,null,"ｋｌ","ｋｌ","ｋｌ","ｋｌ","ｋｌ","ｔ","ｔ","ｔ","ｔ","ｔ","千m３","千kWh","千kWh","千kWh","千kWh","千kWh",null,null,null,"GJ","tCO2","tCO2","tCO2","tCO2","tCO2","tCO2","tCO2","tCO2","tCO2","tCO2","tCO2","tCO2","tCO2","tCO2","tCO2","tCO2",null,null,"ｋｌ","ｋｌ","ｋｌ","ｋｌ","ｋｌ","ｔ","ｔ","ｔ","ｔ","ｔ","千m３","千kWh","千kWh","千kWh","千kWh","千kWh",null,null,null,"GJ","tCO2","tCO2","tCO2","tCO2","tCO2","tCO2","tCO2","tCO2","tCO2","tCO2","tCO2","tCO2","tCO2","tCO2","tCO2","tCO2",null,null,"ｋｌ","ｋｌ","ｋｌ","ｋｌ","ｋｌ","ｔ","ｔ","ｔ","ｔ","ｔ","千m３","千kWh","千kWh","千kWh","千kWh","千kWh",null,null,null,"GJ","tCO2","tCO2","tCO2","tCO2","tCO2","tCO2","tCO2","tCO2","tCO2","tCO2","tCO2","tCO2","tCO2","tCO2","tCO2","tCO2",null,null,"ｋｌ","ｋｌ","ｋｌ","ｋｌ","ｋｌ","ｔ","ｔ","ｔ","ｔ","ｔ","千m３","千kWh","千kWh","千kWh","千kWh","千kWh",null,null,null,"GJ","tCO2","tCO2","tCO2","tCO2","tCO2","tCO2","tCO2","tCO2","tCO2","tCO2","tCO2","tCO2","tCO2","tCO2","tCO2","tCO2",null,null,"ｋｌ","ｋｌ","ｋｌ","ｋｌ","ｋｌ","ｔ","ｔ","ｔ","ｔ","ｔ","千m３","千kWh","千kWh","千kWh","千kWh","千kWh",null,null,null,"GJ","tCO2","tCO2","tCO2","tCO2","tCO2","tCO2","tCO2","tCO2","tCO2","tCO2","tCO2","tCO2","tCO2","tCO2","tCO2","tCO2",null,null,"ｋｌ","ｋｌ","ｋｌ","ｋｌ","ｋｌ","ｔ","ｔ","ｔ","ｔ","ｔ","千m３","千kWh","千kWh","千kWh","千kWh","千kWh",null,null,null,"GJ","tCO2","tCO2","tCO2","tCO2","tCO2","tCO2","tCO2","tCO2","tCO2","tCO2","tCO2","tCO2","tCO2","tCO2","tCO2","tCO2",null,null,"ｋｌ","ｋｌ","ｋｌ","ｋｌ","ｋｌ","ｔ","ｔ","ｔ","ｔ","ｔ","千m３","千kWh","千kWh","千kWh","千kWh","千kWh",null,null,null,"GJ","tCO2","tCO2","tCO2","tCO2","tCO2","tCO2","tCO2","tCO2","tCO2","tCO2","tCO2","tCO2","tCO2","tCO2","tCO2","tCO2",null,null,null,null,null,null,null,null,null,null,null,null,null,null,null,null,null,null,null,null,null,null,null,null,null,null,null,null,null,null,null,null,null,null,null,null,null,null,null,null,null,null,null,null,null,null,null,null,null,null,null,null,null,null,null,null,null,null,null,null,null,null,null,null,null,null,null,null,null,null,null,null,null,null,null,null,null,null,null,null,null,null,null,null,null,null,null,null,null,null,null,null,null,null,null,null,null,null,null,null,null,null,null,null,null,null,null,null,null,null,null,null,null,null,null,null,null,null,null,null,null,null,null,null,null,null,null,null,null,null,null,null,null,null,null,null,null,null,null,null,null,null,null,null,null,null,null,null,null,null,null,null,null,null,null,"万ｔ・km","対前年比","万ｔ・km","対前年比","万ｔ・km","対前年比","万ｔ・km","対前年比","万ｔ・km","対前年比","万ｔ・km","対前年比","kl/万ﾄﾝkm","対前年比","kl/万ﾄﾝkm","対前年比","kl/万ﾄﾝkm","対前年比","kl/万ﾄﾝkm","対前年比","kl/万ﾄﾝkm","対前年比","kl/万ﾄﾝkm","対前年比","kl/万ﾄﾝkm","対前年比","kl/万ﾄﾝkm","対前年比","kl/万ﾄﾝkm","対前年比","kl/万ﾄﾝkm","対前年比","kl/万ﾄﾝkm","対前年比","kl/万ﾄﾝkm","対前年比","初年度","2年度","3年度","4年度","5年度","初年度","2年度","3年度","4年度","5年度","2年度","3年度","4年度","5年度","5年平均","初年度","2年度","3年度","4年度","5年度","2年度","3年度","4年度","5年度","5年平均","初年度","2年度","3年度","4年度","5年度","初年度","2年度","3年度","4年度","5年度","2年度","3年度","4年度","5年度","5年平均","初年度","2年度","3年度","4年度","5年度","2年度","3年度","4年度","5年度","5年平均","初年度","2年度","3年度","4年度","5年度","初年度","2年度","3年度","4年度","5年度","2年度","3年度","4年度","5年度","5年平均","初年度","2年度","3年度","4年度","5年度","2年度","3年度","4年度","5年度","5年平均","初年度","2年度","3年度","4年度","5年度","初年度","2年度","3年度","4年度","5年度","2年度","3年度","4年度","5年度","5年平均","初年度","2年度","3年度","4年度","5年度","2年度","3年度","4年度","5年度","5年平均","初年度","2年度","3年度","4年度","5年度","初年度","2年度","3年度","4年度","5年度","2年度","3年度","4年度","5年度","5年平均","初年度","2年度","3年度","4年度","5年度","2年度","3年度","4年度","5年度","5年平均","初年度","2年度","3年度","4年度","5年度","初年度","2年度","3年度","4年度","5年度","2年度","3年度","4年度","5年度","5年平均","初年度","2年度","3年度","4年度","5年度","2年度","3年度","4年度","5年度","5年平均"]
[1,2001,null,null,null,null,null,null,null,null,null,null,null,null,null,null,null,null,null,null,null,null,null,null,null,null,null,null,null,null,null,null,null,null,null,null,null,null,null,null,null,null,null,null,null,null,null,null,null,null,null,null,null,null,null,null,null,null,null,null,null,null,null,null,null,null,null,null,null,null,null,null,null,null,null,null,null,null,null,null,null,null,null,null,null,null,null,null,null,null,null,null,null,null,null,null,null,null,null,null,null,null,null,null,null,null,null,null,null,null,null,null,null,null,null,null,null,null,null,null,null,null,null,null,null,null,null,null,null,null,null,null,null,null,null,null,null,null,null,null,null,null,null,null,null,null,null,null,null,null,null,null,null,null,null,null,null,null,null,null,null,null,null,null,null,null,null,null,null,null,null,null,null,null,null,null,null,null,null,null,null,null,null,null,null,null,null,null,null,null,null,null,null,null,null,null,null,null,null,null,null,null,null,null,null,null,null,null,null,null,null,null,null,null,null,null,null,null,null,null,null,null,null,null,null,null,null,null,null,null,null,null,null,null,null,null,null,null,null,null,null,null,null,null,null,null,null,null,null,null,null,null,null,null,null,null,null,null,null,null,null,null,null,null,null,null,null,null,null,null,null,null,null,null,null,null,null,null,null,null,null,null,null,null,null,null,null,null,null,null,null,null,null,null,null,null,null,null,null,null,null,null,null,null,null,null,null,null,null,null,null,null,null,null,null,null,null,null,null,null,null,null,null,null,null,null,null,null,null,null,null,null,null,null,null,null,null,null,null,null,null,null,null,null,null,null,null,null,null,null,null,null,null,null,null,null,null,null,null,null,null,null,null,null,null,null,null,null,null,null,null,null,null,null,null,null,null,null,null,null,null,null,null,null,null,null,null,null,null,null,null,null,null,null,null,null,null,null,null,null,null,null,null,null,null,null,null,null,null,null,null,null,null,null,null,null,null,null,null,null,null,null,null,null,null,null,null,null,null,null,null,null,null,null,null,null,null,null,null,null,null,null,null,null,null,null,null,null,null,null,null,null,null,null,null,null,null,null,null,null,null,null,null,null,null,null,null,null,null,null,null,null,null,null,null,null,null,null,null,null,null,null,null,null,null,null,null,null,null,null,null,null,null,null,null,null,null,null,null,null,null,null,null,null,null,null,null,null,null,null,null,null,null,null,null,null,null,null,null,null,null,null,null,null,null,null,null,null,null,null,null,null,null,null,null,null,null,null,null,null,null,null,null,null,null,null,null,null,null,null,null,null,null,null,null,null,null,null,null,null,null,null,null,null,null,null,null,null,null,null,null,null,null,null,null,null,null,null,null,null,null,null,null,null,null,null,null,null,null,null,null,null,null,null,null,null,null,null,null,null,null,null,null,null,null,null,null,null,null,null,null,null,null,null,null,null,null,null,null,null,null,null,null,null,null,null,null,null,null,null,null,null,null,null,null,null,null,null,null,null,null,null,null,null,null,null,null,null,null,null,null,null,null,null,null,null,null,null,null,null,null,null,null,null,null,null,null,null,null,null,null,null,null,null,null,null,null,null,null,null,null,null,null,null,null,null,null,null,null,null,null,null,null,null,null,null,null,null,null,null,null,null,null,null,null,null,null,null,null,null,null,null,null,null,null,null,null,null,null,null,null,null,null,null,null,null,null,null,null,null,null,null,null,null,null,null,null,null,null,null,null,null,null,null,null,null,null,null,null,null,null,null,null,null,null,null,null,null,null,null,null,null,null,null,null,null,null,null,null,null,null,null,null,null,null,null,null,null,null,null,null,null,null,null,null,null,null,null,null,null,null,null,null,null,null,null,null,null,null,null,null,null,null,null,null,null,null,null,null,null,null,null,null,null,null,null,null,null,null,null,null,null,null,null,null,null,null,null,null,null,null,null,null,null,null,null,null,null,null,null,null,null,null,null,null,null,null,null,null,null,null,null,null,null,null,null,null,null,1,{"$f":"+VALUE(K18&L18&M18&N18&O18&P18&Q18&R18&S18&T18)","v":{"$error":"#VALUE!"}},{"$f":"+VALUE(U18&V18&W18&X18&Y18&Z18&AA18&AB18&AC18)","v":{"$error":"#VALUE!"}},{"$f":"+VALUE(AE18&AF18&AG18&AH18)","v":{"$error":"#VALUE!"}},{"$f":"+SUM(AY18:BB18)","v":0},{"$f":"+SUM(CK18:CN18)","v":0},{"$f":"+SUM(DW18:DZ18)","v":0},{"$f":"+SUM(FI18:FL18)","v":0},{"$f":"+SUM(GU18:GX18)","v":0},{"$f":"+SUM(IG18:IJ18)","v":0},{"$f":"+SUM(JS18:JW18)","v":0},{"$f":"+SUM(LE18:LH18)","v":0},{"$f":"+SUM(MQ18:MT18)","v":0}]
[{"$f":"+A18+1","v":2},{"$f":"B18+1","v":2002},null,null,null,null,null,null,null,null,null,null,null,null,null,null,null,null,null,null,null,null,null,null,null,null,null,null,null,null,null,null,null,null,null,null,null,null,null,null,null,null,null,null,null,null,null,null,null,null,null,null,null,null,null,null,null,null,null,null,null,null,null,null,null,null,null,null,null,null,null,null,null,null,null,null,null,null,null,null,null,null,null,null,null,null,null,null,null,null,null,null,null,null,null,null,null,null,null,null,null,null,null,null,null,null,null,null,null,null,null,null,null,null,null,null,null,null,null,null,null,null,null,null,null,null,null,null,null,null,null,null,null,null,null,null,null,null,null,null,null,null,null,null,null,null,null,null,null,null,null,null,null,null,null,null,null,null,null,null,null,null,null,null,null,null,null,null,null,null,null,null,null,null,null,null,null,null,null,null,null,null,null,null,null,null,null,null,null,null,null,null,null,null,null,null,null,null,null,null,null,null,null,null,null,null,null,null,null,null,null,null,null,null,null,null,null,null,null,null,null,null,null,null,null,null,null,null,null,null,null,null,null,null,null,null,null,null,null,null,null,null,null,null,null,null,null,null,null,null,null,null,null,null,null,null,null,null,null,null,null,null,null,null,null,null,null,null,null,null,null,null,null,null,null,null,null,null,null,null,null,null,null,null,null,null,null,null,null,null,null,null,null,null,null,null,null,null,null,null,null,null,null,null,null,null,null,null,null,null,null,null,null,null,null,null,null,null,null,null,null,null,null,null,null,null,null,null,null,null,null,null,null,null,null,null,null,null,null,null,null,null,null,null,null,null,null,null,null,null,null,null,null,null,null,null,null,null,null,null,null,null,null,null,null,null,null,null,null,null,null,null,null,null,null,null,null,null,null,null,null,null,null,null,null,null,null,null,null,null,null,null,null,null,null,null,null,null,null,null,null,null,null,null,null,null,null,null,null,null,null,null,null,null,null,null,null,null,null,null,null,null,null,null,null,null,null,null,null,null,null,null,null,null,null,null,null,null,null,null,null,null,null,null,null,null,null,null,null,null,null,null,null,null,null,null,null,null,null,null,null,null,null,null,null,null,null,null,null,null,null,null,null,null,null,null,null,null,null,null,null,null,null,null,null,null,null,null,null,null,null,null,null,null,null,null,null,null,null,null,null,null,null,null,null,null,null,null,null,null,null,null,null,null,null,null,null,null,null,null,null,null,null,null,null,null,null,null,null,null,null,null,null,null,null,null,null,null,null,null,null,null,null,null,null,null,null,null,null,null,null,null,null,null,null,null,null,null,null,null,null,null,null,null,null,null,null,null,null,null,null,null,null,null,null,null,null,null,null,null,null,null,null,null,null,null,null,null,null,null,null,null,null,null,null,null,null,null,null,null,null,null,null,null,null,null,null,null,null,null,null,null,null,null,null,null,null,null,null,null,null,null,null,null,null,null,null,null,null,null,null,null,null,null,null,null,null,null,null,null,null,null,null,null,null,null,null,null,null,null,null,null,null,null,null,null,null,null,null,null,null,null,null,null,null,null,null,null,null,null,null,null,null,null,null,null,null,null,null,null,null,null,null,null,null,null,null,null,null,null,null,null,null,null,null,null,null,null,null,null,null,null,null,null,null,null,null,null,null,null,null,null,null,null,null,null,null,null,null,null,null,null,null,null,null,null,null,null,null,null,null,null,null,null,null,null,null,null,null,null,null,null,null,null,null,null,null,null,null,null,null,null,null,null,null,null,null,null,null,null,null,null,null,null,null,null,null,null,null,null,null,null,null,null,null,null,null,null,null,null,null,null,null,null,null,null,null,null,null,null,null,null,null,null,null,null,null,null,null,null,null,null,null,null,null,null,null,null,null,null,null,null,null,null,null,null,null,null,null,null,null,null,null,null,null,null,null,null,null,null,null,null,null,null,null,null,null,null,null,null,null,null,null,null,null,null,null,null,null,null,null,null,null,null,null,null,null,null,{"$f":"+AGA18+1","v":2},{"$error":"#VALUE!"},{"$error":"#VALUE!"},{"$error":"#VALUE!"},{"$f":"+SUM(AY19:BB19)","v":0},{"$f":"+SUM(CK19:CN19)","v":0},{"$f":"+SUM(DW19:DZ19)","v":0},{"$f":"+SUM(FI19:FL19)","v":0},{"$f":"+SUM(GU19:GX19)","v":0},{"$f":"+SUM(IG19:IJ19)","v":0},{"$f":"+SUM(JS19:JW19)","v":0},{"$f":"+SUM(LE19:LH19)","v":0},{"$f":"+SUM(MQ19:MT19)","v":0}]
[3,{"$f":"B19+1","v":2003},null,null,null,null,null,null,null,null,null,null,null,null,null,null,null,null,null,null,null,null,null,null,null,null,null,null,null,null,null,null,null,null,null,null,null,null,null,null,null,null,null,null,null,null,null,null,null,null,null,null,null,null,null,null,null,null,null,null,null,null,null,null,null,null,null,null,null,null,null,null,null,null,null,null,null,null,null,null,null,null,null,null,null,null,null,null,null,null,null,null,null,null,null,null,null,null,null,null,null,null,null,null,null,null,null,null,null,null,null,null,null,null,null,null,null,null,null,null,null,null,null,null,null,null,null,null,null,null,null,null,null,null,null,null,null,null,null,null,null,null,null,null,null,null,null,null,null,null,null,null,null,null,null,null,null,null,null,null,null,null,null,null,null,null,null,null,null,null,null,null,null,null,null,null,null,null,null,null,null,null,null,null,null,null,null,null,null,null,null,null,null,null,null,null,null,null,null,null,null,null,null,null,null,null,null,null,null,null,null,null,null,null,null,null,null,null,null,null,null,null,null,null,null,null,null,null,null,null,null,null,null,null,null,null,null,null,null,null,null,null,null,null,null,null,null,null,null,null,null,null,null,null,null,null,null,null,null,null,null,null,null,null,null,null,null,null,null,null,null,null,null,null,null,null,null,null,null,null,null,null,null,null,null,null,null,null,null,null,null,null,null,null,null,null,null,null,null,null,null,null,null,null,null,null,null,null,null,null,null,null,null,null,null,null,null,null,null,null,null,null,null,null,null,null,null,null,null,null,null,null,null,null,null,null,null,null,null,null,null,null,null,null,null,null,null,null,null,null,null,null,null,null,null,null,null,null,null,null,null,null,null,null,null,null,null,null,null,null,null,null,null,null,null,null,null,null,null,null,null,null,null,null,null,null,null,null,null,null,null,null,null,null,null,null,null,null,null,null,null,null,null,null,null,null,null,null,null,null,null,null,null,null,null,null,null,null,null,null,null,null,null,null,null,null,null,null,null,null,null,null,null,null,null,null,null,null,null,null,null,null,null,null,null,null,null,null,null,null,null,null,null,null,null,null,null,null,null,null,null,null,null,null,null,null,null,null,null,null,null,null,null,null,null,null,null,null,null,null,null,null,null,null,null,null,null,null,null,null,null,null,null,null,null,null,null,null,null,null,null,null,null,null,null,null,null,null,null,null,null,null,null,null,null,null,null,null,null,null,null,null,null,null,null,null,null,null,null,null,null,null,null,null,null,null,null,null,null,null,null,null,null,null,null,null,null,null,null,null,null,null,null,null,null,null,null,null,null,null,null,null,null,null,null,null,null,null,null,null,null,null,null,null,null,null,null,null,null,null,null,null,null,null,null,null,null,null,null,null,null,null,null,null,null,null,null,null,null,null,null,null,null,null,null,null,null,null,null,null,null,null,null,null,null,null,null,null,null,null,null,null,null,null,null,null,null,null,null,null,null,null,null,null,null,null,null,null,null,null,null,null,null,null,null,null,null,null,null,null,null,null,null,null,null,null,null,null,null,null,null,null,null,null,null,null,null,null,null,null,null,null,null,null,null,null,null,null,null,null,null,null,null,null,null,null,null,null,null,null,null,null,null,null,null,null,null,null,null,null,null,null,null,null,null,null,null,null,null,null,null,null,null,null,null,null,null,null,null,null,null,null,null,null,null,null,null,null,null,null,null,null,null,null,null,null,null,null,null,null,null,null,null,null,null,null,null,null,null,null,null,null,null,null,null,null,null,null,null,null,null,null,null,null,null,null,null,null,null,null,null,null,null,null,null,null,null,null,null,null,null,null,null,null,null,null,null,null,null,null,null,null,null,null,null,null,null,null,null,null,null,null,null,null,null,null,null,null,null,null,null,null,null,null,null,null,null,null,null,null,null,null,null,null,null,null,null,null,null,null,null,null,null,null,null,null,null,null,null,null,null,null,null,null,null,null,null,null,null,null,null,null,null,null,null,null,null,null,{"$f":"+AGA19+1","v":3},{"$error":"#VALUE!"},{"$error":"#VALUE!"},{"$error":"#VALUE!"},0,0,0,0,0,0,0,0,0]
[4,2004,null,null,null,null,null,null,null,null,null,null,null,null,null,null,null,null,null,null,null,null,null,null,null,null,null,null,null,null,null,null,null,null,null,null,null,null,null,null,null,null,null,null,null,null,null,null,null,null,null,null,null,null,null,null,null,null,null,null,null,null,null,null,null,null,null,null,null,null,null,null,null,null,null,null,null,null,null,null,null,null,null,null,null,null,null,null,null,null,null,null,null,null,null,null,null,null,null,null,null,null,null,null,null,null,null,null,null,null,null,null,null,null,null,null,null,null,null,null,null,null,null,null,null,null,null,null,null,null,null,null,null,null,null,null,null,null,null,null,null,null,null,null,null,null,null,null,null,null,null,null,null,null,null,null,null,null,null,null,null,null,null,null,null,null,null,null,null,null,null,null,null,null,null,null,null,null,null,null,null,null,null,null,null,null,null,null,null,null,null,null,null,null,null,null,null,null,null,null,null,null,null,null,null,null,null,null,null,null,null,null,null,null,null,null,null,null,null,null,null,null,null,null,null,null,null,null,null,null,null,null,null,null,null,null,null,null,null,null,null,null,null,null,null,null,null,null,null,null,null,null,null,null,null,null,null,null,null,null,null,null,null,null,null,null,null,null,null,null,null,null,null,null,null,null,null,null,null,null,null,null,null,null,null,null,null,null,null,null,null,null,null,null,null,null,null,null,null,null,null,null,null,null,null,null,null,null,null,null,null,null,null,null,null,null,null,null,null,null,null,null,null,null,null,null,null,null,null,null,null,null,null,null,null,null,null,null,null,null,null,null,null,null,null,null,null,null,null,null,null,null,null,null,null,null,null,null,null,null,null,null,null,null,null,null,null,null,null,null,null,null,null,null,null,null,null,null,null,null,null,null,null,null,null,null,null,null,null,null,null,null,null,null,null,null,null,null,null,null,null,null,null,null,null,null,null,null,null,null,null,null,null,null,null,null,null,null,null,null,null,null,null,null,null,null,null,null,null,null,null,null,null,null,null,null,null,null,null,null,null,null,null,null,null,null,null,null,null,null,null,null,null,null,null,null,null,null,null,null,null,null,null,null,null,null,null,null,null,null,null,null,null,null,null,null,null,null,null,null,null,null,null,null,null,null,null,null,null,null,null,null,null,null,null,null,null,null,null,null,null,null,null,null,null,null,null,null,null,null,null,null,null,null,null,null,null,null,null,null,null,null,null,null,null,null,null,null,null,null,null,null,null,null,null,null,null,null,null,null,null,null,null,null,null,null,null,null,null,null,null,null,null,null,null,null,null,null,null,null,null,null,null,null,null,null,null,null,null,null,null,null,null,null,null,null,null,null,null,null,null,null,null,null,null,null,null,null,null,null,null,null,null,null,null,null,null,null,null,null,null,null,null,null,null,null,null,null,null,null,null,null,null,null,null,null,null,null,null,null,null,null,null,null,null,null,null,null,null,null,null,null,null,null,null,null,null,null,null,null,null,null,null,null,null,null,null,null,null,null,null,null,null,null,null,null,null,null,null,null,null,null,null,null,null,null,null,null,null,null,null,null,null,null,null,null,null,null,null,null,null,null,null,null,null,null,null,null,null,null,null,null,null,null,null,null,null,null,null,null,null,null,null,null,null,null,null,null,null,null,null,null,null,null,null,null,null,null,null,null,null,null,null,null,null,null,null,null,null,null,null,null,null,null,null,null,null,null,null,null,null,null,null,null,null,null,null,null,null,null,null,null,null,null,null,null,null,null,null,null,null,null,null,null,null,null,null,null,null,null,null,null,null,null,null,null,null,null,null,null,null,null,null,null,null,null,null,null,null,null,null,null,null,null,null,null,null,null,null,null,null,null,null,null,null,null,null,null,null,null,null,null,null,null,null,null,null,null,null,null,null,null,null,null,null,null,null,null,null,null,null,null,null,null,null,null,null,null,null,null,null,null,null,null,null,null,null,null,null,null,null,null,null,null,null,null,null,null,4,{"$error":"#VALUE!"},{"$error":"#VALUE!"},{"$error":"#VALUE!"},0,0,0,0,0,0,0,0,0]
[5,2005,null,null,null,null,null,null,null,null,null,null,null,null,null,null,null,null,null,null,null,null,null,null,null,null,null,null,null,null,null,null,null,null,null,null,null,null,null,null,null,null,null,null,null,null,null,null,null,null,null,null,null,null,null,null,null,null,null,null,null,null,null,null,null,null,null,null,null,null,null,null,null,null,null,null,null,null,null,null,null,null,null,null,null,null,null,null,null,null,null,null,null,null,null,null,null,null,null,null,null,null,null,null,null,null,null,null,null,null,null,null,null,null,null,null,null,null,null,null,null,null,null,null,null,null,null,null,null,null,null,null,null,null,null,null,null,null,null,null,null,null,null,null,null,null,null,null,null,null,null,null,null,null,null,null,null,null,null,null,null,null,null,null,null,null,null,null,null,null,null,null,null,null,null,null,null,null,null,null,null,null,null,null,null,null,null,null,null,null,null,null,null,null,null,null,null,null,null,null,null,null,null,null,null,null,null,null,null,null,null,null,null,null,null,null,null,null,null,null,null,null,null,null,null,null,null,null,null,null,null,null,null,null,null,null,null,null,null,null,null,null,null,null,null,null,null,null,null,null,null,null,null,null,null,null,null,null,null,null,null,null,null,null,null,null,null,null,null,null,null,null,null,null,null,null,null,null,null,null,null,null,null,null,null,null,null,null,null,null,null,null,null,null,null,null,null,null,null,null,null,null,null,null,null,null,null,null,null,null,null,null,null,null,null,null,null,null,null,null,null,null,null,null,null,null,null,null,null,null,null,null,null,null,null,null,null,null,null,null,null,null,null,null,null,null,null,null,null,null,null,null,null,null,null,null,null,null,null,null,null,null,null,null,null,null,null,null,null,null,null,null,null,null,null,null,null,null,null,null,null,null,null,null,null,null,null,null,null,null,null,null,null,null,null,null,null,null,null,null,null,null,null,null,null,null,null,null,null,null,null,null,null,null,null,null,null,null,null,null,null,null,null,null,null,null,null,null,null,null,null,null,null,null,null,null,null,null,null,null,null,null,null,null,null,null,null,null,null,null,null,null,null,null,null,null,null,null,null,null,null,null,null,null,null,null,null,null,null,null,null,null,null,null,null,null,null,null,null,null,null,null,null,null,null,null,null,null,null,null,null,null,null,null,null,null,null,null,null,null,null,null,null,null,null,null,null,null,null,null,null,null,null,null,null,null,null,null,null,null,null,null,null,null,null,null,null,null,null,null,null,null,null,null,null,null,null,null,null,null,null,null,null,null,null,null,null,null,null,null,null,null,null,null,null,null,null,null,null,null,null,null,null,null,null,null,null,null,null,null,null,null,null,null,null,null,null,null,null,null,null,null,null,null,null,null,null,null,null,null,null,null,null,null,null,null,null,null,null,null,null,null,null,null,null,null,null,null,null,null,null,null,null,null,null,null,null,null,null,null,null,null,null,null,null,null,null,null,null,null,null,null,null,null,null,null,null,null,null,null,null,null,null,null,null,null,null,null,null,null,null,null,null,null,null,null,null,null,null,null,null,null,null,null,null,null,null,null,null,null,null,null,null,null,null,null,null,null,null,null,null,null,null,null,null,null,null,null,null,null,null,null,null,null,null,null,null,null,null,null,null,null,null,null,null,null,null,null,null,null,null,null,null,null,null,null,null,null,null,null,null,null,null,null,null,null,null,null,null,null,null,null,null,null,null,null,null,null,null,null,null,null,null,null,null,null,null,null,null,null,null,null,null,null,null,null,null,null,null,null,null,null,null,null,null,null,null,null,null,null,null,null,null,null,null,null,null,null,null,null,null,null,null,null,null,null,null,null,null,null,null,null,null,null,null,null,null,null,null,null,null,null,null,null,null,null,null,null,null,null,null,null,null,null,null,null,null,null,null,null,null,null,null,null,null,null,null,null,null,null,null,null,null,null,null,null,null,null,null,null,null,null,null,null,null,null,null,null,null,null,null,null,null,null,null,null,null,null,5,{"$error":"#VALUE!"},{"$error":"#VALUE!"},{"$error":"#VALUE!"},0,0,0,0,0,0,0,0,0]
[6,2006,null,null,null,null,null,null,null,null,null,null,null,null,null,null,null,null,null,null,null,null,null,null,null,null,null,null,null,null,null,null,null,null,null,null,null,null,null,null,null,null,null,null,null,null,null,null,null,null,null,null,null,null,null,null,null,null,null,null,null,null,null,null,null,null,null,null,null,null,null,null,null,null,null,null,null,null,null,null,null,null,null,null,null,null,null,null,null,null,null,null,null,null,null,null,null,null,null,null,null,null,null,null,null,null,null,null,null,null,null,null,null,null,null,null,null,null,null,null,null,null,null,null,null,null,null,null,null,null,null,null,null,null,null,null,null,null,null,null,null,null,null,null,null,null,null,null,null,null,null,null,null,null,null,null,null,null,null,null,null,null,null,null,null,null,null,null,null,null,null,null,null,null,null,null,null,null,null,null,null,null,null,null,null,null,null,null,null,null,null,null,null,null,null,null,null,null,null,null,null,null,null,null,null,null,null,null,null,null,null,null,null,null,null,null,null,null,null,null,null,null,null,null,null,null,null,null,null,null,null,null,null,null,null,null,null,null,null,null,null,null,null,null,null,null,null,null,null,null,null,null,null,null,null,null,null,null,null,null,null,null,null,null,null,null,null,null,null,null,null,null,null,null,null,null,null,null,null,null,null,null,null,null,null,null,null,null,null,null,null,null,null,null,null,null,null,null,null,null,null,null,null,null,null,null,null,null,null,null,null,null,null,null,null,null,null,null,null,null,null,null,null,null,null,null,null,null,null,null,null,null,null,null,null,null,null,null,null,null,null,null,null,null,null,null,null,null,null,null,null,null,null,null,null,null,null,null,null,null,null,null,null,null,null,null,null,null,null,null,null,null,null,null,null,null,null,null,null,null,null,null,null,null,null,null,null,null,null,null,null,null,null,null,null,null,null,null,null,null,null,null,null,null,null,null,null,null,null,null,null,null,null,null,null,null,null,null,null,null,null,null,null,null,null,null,null,null,null,null,null,null,null,null,null,null,null,null,null,null,null,null,null,null,null,null,null,null,null,null,null,null,null,null,null,null,null,null,null,null,null,null,null,null,null,null,null,null,null,null,null,null,null,null,null,null,null,null,null,null,null,null,null,null,null,null,null,null,null,null,null,null,null,null,null,null,null,null,null,null,null,null,null,null,null,null,null,null,null,null,null,null,null,null,null,null,null,null,null,null,null,null,null,null,null,null,null,null,null,null,null,null,null,null,null,null,null,null,null,null,null,null,null,null,null,null,null,null,null,null,null,null,null,null,null,null,null,null,null,null,null,null,null,null,null,null,null,null,null,null,null,null,null,null,null,null,null,null,null,null,null,null,null,null,null,null,null,null,null,null,null,null,null,null,null,null,null,null,null,null,null,null,null,null,null,null,null,null,null,null,null,null,null,null,null,null,null,null,null,null,null,null,null,null,null,null,null,null,null,null,null,null,null,null,null,null,null,null,null,null,null,null,null,null,null,null,null,null,null,null,null,null,null,null,null,null,null,null,null,null,null,null,null,null,null,null,null,null,null,null,null,null,null,null,null,null,null,null,null,null,null,null,null,null,null,null,null,null,null,null,null,null,null,null,null,null,null,null,null,null,null,null,null,null,null,null,null,null,null,null,null,null,null,null,null,null,null,null,null,null,null,null,null,null,null,null,null,null,null,null,null,null,null,null,null,null,null,null,null,null,null,null,null,null,null,null,null,null,null,null,null,null,null,null,null,null,null,null,null,null,null,null,null,null,null,null,null,null,null,null,null,null,null,null,null,null,null,null,null,null,null,null,null,null,null,null,null,null,null,null,null,null,null,null,null,null,null,null,null,null,null,null,null,null,null,null,null,null,null,null,null,null,null,null,null,null,null,null,null,null,null,null,null,null,null,null,null,null,null,null,null,null,null,null,null,null,null,null,null,null,null,null,null,null,null,null,null,null,null,null,null,null,null,null,null,null,null,null,6,{"$error":"#VALUE!"},{"$error":"#VALUE!"},{"$error":"#VALUE!"},0,0,0,0,0,0,0,0,0]
[7,2007,null,null,null,null,null,null,null,null,null,null,null,null,null,null,null,null,null,null,null,null,null,null,null,null,null,null,null,null,null,null,null,null,null,null,null,null,null,null,null,null,null,null,null,null,null,null,null,null,null,null,null,null,null,null,null,null,null,null,null,null,null,null,null,null,null,null,null,null,null,null,null,null,null,null,null,null,null,null,null,null,null,null,null,null,null,null,null,null,null,null,null,null,null,null,null,null,null,null,null,null,null,null,null,null,null,null,null,null,null,null,null,null,null,null,null,null,null,null,null,null,null,null,null,null,null,null,null,null,null,null,null,null,null,null,null,null,null,null,null,null,null,null,null,null,null,null,null,null,null,null,null,null,null,null,null,null,null,null,null,null,null,null,null,null,null,null,null,null,null,null,null,null,null,null,null,null,null,null,null,null,null,null,null,null,null,null,null,null,null,null,null,null,null,null,null,null,null,null,null,null,null,null,null,null,null,null,null,null,null,null,null,null,null,null,null,null,null,null,null,null,null,null,null,null,null,null,null,null,null,null,null,null,null,null,null,null,null,null,null,null,null,null,null,null,null,null,null,null,null,null,null,null,null,null,null,null,null,null,null,null,null,null,null,null,null,null,null,null,null,null,null,null,null,null,null,null,null,null,null,null,null,null,null,null,null,null,null,null,null,null,null,null,null,null,null,null,null,null,null,null,null,null,null,null,null,null,null,null,null,null,null,null,null,null,null,null,null,null,null,null,null,null,null,null,null,null,null,null,null,null,null,null,null,null,null,null,null,null,null,null,null,null,null,null,null,null,null,null,null,null,null,null,null,null,null,null,null,null,null,null,null,null,null,null,null,null,null,null,null,null,null,null,null,null,null,null,null,null,null,null,null,null,null,null,null,null,null,null,null,null,null,null,null,null,null,null,null,null,null,null,null,null,null,null,null,null,null,null,null,null,null,null,null,null,null,null,null,null,null,null,null,null,null,null,null,null,null,null,null,null,null,null,null,null,null,null,null,null,null,null,null,null,null,null,null,null,null,null,null,null,null,null,null,null,null,null,null,null,null,null,null,null,null,null,null,null,null,null,null,null,null,null,null,null,null,null,null,null,null,null,null,null,null,null,null,null,null,null,null,null,null,null,null,null,null,null,null,null,null,null,null,null,null,null,null,null,null,null,null,null,null,null,null,null,null,null,null,null,null,null,null,null,null,null,null,null,null,null,null,null,null,null,null,null,null,null,null,null,null,null,null,null,null,null,null,null,null,null,null,null,null,null,null,null,null,null,null,null,null,null,null,null,null,null,null,null,null,null,null,null,null,null,null,null,null,null,null,null,null,null,null,null,null,null,null,null,null,null,null,null,null,null,null,null,null,null,null,null,null,null,null,null,null,null,null,null,null,null,null,null,null,null,null,null,null,null,null,null,null,null,null,null,null,null,null,null,null,null,null,null,null,null,null,null,null,null,null,null,null,null,null,null,null,null,null,null,null,null,null,null,null,null,null,null,null,null,null,null,null,null,null,null,null,null,null,null,null,null,null,null,null,null,null,null,null,null,null,null,null,null,null,null,null,null,null,null,null,null,null,null,null,null,null,null,null,null,null,null,null,null,null,null,null,null,null,null,null,null,null,null,null,null,null,null,null,null,null,null,null,null,null,null,null,null,null,null,null,null,null,null,null,null,null,null,null,null,null,null,null,null,null,null,null,null,null,null,null,null,null,null,null,null,null,null,null,null,null,null,null,null,null,null,null,null,null,null,null,null,null,null,null,null,null,null,null,null,null,null,null,null,null,null,null,null,null,null,null,null,null,null,null,null,null,null,null,null,null,null,null,null,null,null,null,null,null,null,null,null,null,null,null,null,null,null,null,null,null,null,null,null,null,null,null,null,null,null,null,null,null,null,null,null,null,null,null,null,null,null,null,null,null,null,null,null,null,null,null,null,null,null,null,null,null,null,null,null,7,{"$error":"#VALUE!"},{"$error":"#VALUE!"},{"$error":"#VALUE!"},0,0,0,0,0,0,0,0,0]
[8,2008,null,null,null,null,null,null,null,null,null,null,null,null,null,null,null,null,null,null,null,null,null,null,null,null,null,null,null,null,null,null,null,null,null,null,null,null,null,null,null,null,null,null,null,null,null,null,null,null,null,null,null,null,null,null,null,null,null,null,null,null,null,null,null,null,null,null,null,null,null,null,null,null,null,null,null,null,null,null,null,null,null,null,null,null,null,null,null,null,null,null,null,null,null,null,null,null,null,null,null,null,null,null,null,null,null,null,null,null,null,null,null,null,null,null,null,null,null,null,null,null,null,null,null,null,null,null,null,null,null,null,null,null,null,null,null,null,null,null,null,null,null,null,null,null,null,null,null,null,null,null,null,null,null,null,null,null,null,null,null,null,null,null,null,null,null,null,null,null,null,null,null,null,null,null,null,null,null,null,null,null,null,null,null,null,null,null,null,null,null,null,null,null,null,null,null,null,null,null,null,null,null,null,null,null,null,null,null,null,null,null,null,null,null,null,null,null,null,null,null,null,null,null,null,null,null,null,null,null,null,null,null,null,null,null,null,null,null,null,null,null,null,null,null,null,null,null,null,null,null,null,null,null,null,null,null,null,null,null,null,null,null,null,null,null,null,null,null,null,null,null,null,null,null,null,null,null,null,null,null,null,null,null,null,null,null,null,null,null,null,null,null,null,null,null,null,null,null,null,null,null,null,null,null,null,null,null,null,null,null,null,null,null,null,null,null,null,null,null,null,null,null,null,null,null,null,null,null,null,null,null,null,null,null,null,null,null,null,null,null,null,null,null,null,null,null,null,null,null,null,null,null,null,null,null,null,null,null,null,null,null,null,null,null,null,null,null,null,null,null,null,null,null,null,null,null,null,null,null,null,null,null,null,null,null,null,null,null,null,null,null,null,null,null,null,null,null,null,null,null,null,null,null,null,null,null,null,null,null,null,null,null,null,null,null,null,null,null,null,null,null,null,null,null,null,null,null,null,null,null,null,null,null,null,null,null,null,null,null,null,null,null,null,null,null,null,null,null,null,null,null,null,null,null,null,null,null,null,null,null,null,null,null,null,null,null,null,null,null,null,null,null,null,null,null,null,null,null,null,null,null,null,null,null,null,null,null,null,null,null,null,null,null,null,null,null,null,null,null,null,null,null,null,null,null,null,null,null,null,null,null,null,null,null,null,null,null,null,null,null,null,null,null,null,null,null,null,null,null,null,null,null,null,null,null,null,null,null,null,null,null,null,null,null,null,null,null,null,null,null,null,null,null,null,null,null,null,null,null,null,null,null,null,null,null,null,null,null,null,null,null,null,null,null,null,null,null,null,null,null,null,null,null,null,null,null,null,null,null,null,null,null,null,null,null,null,null,null,null,null,null,null,null,null,null,null,null,null,null,null,null,null,null,null,null,null,null,null,null,null,null,null,null,null,null,null,null,null,null,null,null,null,null,null,null,null,null,null,null,null,null,null,null,null,null,null,null,null,null,null,null,null,null,null,null,null,null,null,null,null,null,null,null,null,null,null,null,null,null,null,null,null,null,null,null,null,null,null,null,null,null,null,null,null,null,null,null,null,null,null,null,null,null,null,null,null,null,null,null,null,null,null,null,null,null,null,null,null,null,null,null,null,null,null,null,null,null,null,null,null,null,null,null,null,null,null,null,null,null,null,null,null,null,null,null,null,null,null,null,null,null,null,null,null,null,null,null,null,null,null,null,null,null,null,null,null,null,null,null,null,null,null,null,null,null,null,null,null,null,null,null,null,null,null,null,null,null,null,null,null,null,null,null,null,null,null,null,null,null,null,null,null,null,null,null,null,null,null,null,null,null,null,null,null,null,null,null,null,null,null,null,null,null,null,null,null,null,null,null,null,null,null,null,null,null,null,null,null,null,null,null,null,null,null,null,null,null,null,null,null,null,null,null,null,null,null,null,null,null,null,null,null,null,null,null,null,null,8,{"$error":"#VALUE!"},{"$error":"#VALUE!"},{"$error":"#VALUE!"},0,0,0,0,0,0,0,0,0]
[9,2009,null,null,null,null,null,null,null,null,null,null,null,null,null,null,null,null,null,null,null,null,null,null,null,null,null,null,null,null,null,null,null,null,null,null,null,null,null,null,null,null,null,null,null,null,null,null,null,null,null,null,null,null,null,null,null,null,null,null,null,null,null,null,null,null,null,null,null,null,null,null,null,null,null,null,null,null,null,null,null,null,null,null,null,null,null,null,null,null,null,null,null,null,null,null,null,null,null,null,null,null,null,null,null,null,null,null,null,null,null,null,null,null,null,null,null,null,null,null,null,null,null,null,null,null,null,null,null,null,null,null,null,null,null,null,null,null,null,null,null,null,null,null,null,null,null,null,null,null,null,null,null,null,null,null,null,null,null,null,null,null,null,null,null,null,null,null,null,null,null,null,null,null,null,null,null,null,null,null,null,null,null,null,null,null,null,null,null,null,null,null,null,null,null,null,null,null,null,null,null,null,null,null,null,null,null,null,null,null,null,null,null,null,null,null,null,null,null,null,null,null,null,null,null,null,null,null,null,null,null,null,null,null,null,null,null,null,null,null,null,null,null,null,null,null,null,null,null,null,null,null,null,null,null,null,null,null,null,null,null,null,null,null,null,null,null,null,null,null,null,null,null,null,null,null,null,null,null,null,null,null,null,null,null,null,null,null,null,null,null,null,null,null,null,null,null,null,null,null,null,null,null,null,null,null,null,null,null,null,null,null,null,null,null,null,null,null,null,null,null,null,null,null,null,null,null,null,null,null,null,null,null,null,null,null,null,null,null,null,null,null,null,null,null,null,null,null,null,null,null,null,null,null,null,null,null,null,null,null,null,null,null,null,null,null,null,null,null,null,null,null,null,null,null,null,null,null,null,null,null,null,null,null,null,null,null,null,null,null,null,null,null,null,null,null,null,null,null,null,null,null,null,null,null,null,null,null,null,null,null,null,null,null,null,null,null,null,null,null,null,null,null,null,null,null,null,null,null,null,null,null,null,null,null,null,null,null,null,null,null,null,null,null,null,null,null,null,null,null,null,null,null,null,null,null,null,null,null,null,null,null,null,null,null,null,null,null,null,null,null,null,null,null,null,null,null,null,null,null,null,null,null,null,null,null,null,null,null,null,null,null,null,null,null,null,null,null,null,null,null,null,null,null,null,null,null,null,null,null,null,null,null,null,null,null,null,null,null,null,null,null,null,null,null,null,null,null,null,null,null,null,null,null,null,null,null,null,null,null,null,null,null,null,null,null,null,null,null,null,null,null,null,null,null,null,null,null,null,null,null,null,null,null,null,null,null,null,null,null,null,null,null,null,null,null,null,null,null,null,null,null,null,null,null,null,null,null,null,null,null,null,null,null,null,null,null,null,null,null,null,null,null,null,null,null,null,null,null,null,null,null,null,null,null,null,null,null,null,null,null,null,null,null,null,null,null,null,null,null,null,null,null,null,null,null,null,null,null,null,null,null,null,null,null,null,null,null,null,null,null,null,null,null,null,null,null,null,null,null,null,null,null,null,null,null,null,null,null,null,null,null,null,null,null,null,null,null,null,null,null,null,null,null,null,null,null,null,null,null,null,null,null,null,null,null,null,null,null,null,null,null,null,null,null,null,null,null,null,null,null,null,null,null,null,null,null,null,null,null,null,null,null,null,null,null,null,null,null,null,null,null,null,null,null,null,null,null,null,null,null,null,null,null,null,null,null,null,null,null,null,null,null,null,null,null,null,null,null,null,null,null,null,null,null,null,null,null,null,null,null,null,null,null,null,null,null,null,null,null,null,null,null,null,null,null,null,null,null,null,null,null,null,null,null,null,null,null,null,null,null,null,null,null,null,null,null,null,null,null,null,null,null,null,null,null,null,null,null,null,null,null,null,null,null,null,null,null,null,null,null,null,null,null,null,null,null,null,null,null,null,null,null,null,null,null,null,null,null,null,null,null,null,null,null,null,null,null,9,{"$error":"#VALUE!"},{"$error":"#VALUE!"},{"$error":"#VALUE!"},0,0,0,0,0,0,0,0,0]
[{"$f":"+A26+1","v":10},2010,null,null,null,null,null,null,null,null,null,null,null,null,null,null,null,null,null,null,null,null,null,null,null,null,null,null,null,null,null,null,null,null,null,null,null,null,null,null,null,null,null,null,null,null,null,null,null,null,null,null,null,null,null,null,null,null,null,null,null,null,null,null,null,null,null,null,null,null,null,null,null,null,null,null,null,null,null,null,null,null,null,null,null,null,null,null,null,null,null,null,null,null,null,null,null,null,null,null,null,null,null,null,null,null,null,null,null,null,null,null,null,null,null,null,null,null,null,null,null,null,null,null,null,null,null,null,null,null,null,null,null,null,null,null,null,null,null,null,null,null,null,null,null,null,null,null,null,null,null,null,null,null,null,null,null,null,null,null,null,null,null,null,null,null,null,null,null,null,null,null,null,null,null,null,null,null,null,null,null,null,null,null,null,null,null,null,null,null,null,null,null,null,null,null,null,null,null,null,null,null,null,null,null,null,null,null,null,null,null,null,null,null,null,null,null,null,null,null,null,null,null,null,null,null,null,null,null,null,null,null,null,null,null,null,null,null,null,null,null,null,null,null,null,null,null,null,null,null,null,null,null,null,null,null,null,null,null,null,null,null,null,null,null,null,null,null,null,null,null,null,null,null,null,null,null,null,null,null,null,null,null,null,null,null,null,null,null,null,null,null,null,null,null,null,null,null,null,null,null,null,null,null,null,null,null,null,null,null,null,null,null,null,null,null,null,null,null,null,null,null,null,null,null,null,null,null,null,null,null,null,null,null,null,null,null,null,null,null,null,null,null,null,null,null,null,null,null,null,null,null,null,null,null,null,null,null,null,null,null,null,null,null,null,null,null,null,null,null,null,null,null,null,null,null,null,null,null,null,null,null,null,null,null,null,null,null,null,null,null,null,null,null,null,null,null,null,null,null,null,null,null,null,null,null,null,null,null,null,null,null,null,null,null,null,null,null,null,null,null,null,null,null,null,null,null,null,null,null,null,null,null,null,null,null,null,null,null,null,null,null,null,null,null,null,null,null,null,null,null,null,null,null,null,null,null,null,null,null,null,null,null,null,null,null,null,null,null,null,null,null,null,null,null,null,null,null,null,null,null,null,null,null,null,null,null,null,null,null,null,null,null,null,null,null,null,null,null,null,null,null,null,null,null,null,null,null,null,null,null,null,null,null,null,null,null,null,null,null,null,null,null,null,null,null,null,null,null,null,null,null,null,null,null,null,null,null,null,null,null,null,null,null,null,null,null,null,null,null,null,null,null,null,null,null,null,null,null,null,null,null,null,null,null,null,null,null,null,null,null,null,null,null,null,null,null,null,null,null,null,null,null,null,null,null,null,null,null,null,null,null,null,null,null,null,null,null,null,null,null,null,null,null,null,null,null,null,null,null,null,null,null,null,null,null,null,null,null,null,null,null,null,null,null,null,null,null,null,null,null,null,null,null,null,null,null,null,null,null,null,null,null,null,null,null,null,null,null,null,null,null,null,null,null,null,null,null,null,null,null,null,null,null,null,null,null,null,null,null,null,null,null,null,null,null,null,null,null,null,null,null,null,null,null,null,null,null,null,null,null,null,null,null,null,null,null,null,null,null,null,null,null,null,null,null,null,null,null,null,null,null,null,null,null,null,null,null,null,null,null,null,null,null,null,null,null,null,null,null,null,null,null,null,null,null,null,null,null,null,null,null,null,null,null,null,null,null,null,null,null,null,null,null,null,null,null,null,null,null,null,null,null,null,null,null,null,null,null,null,null,null,null,null,null,null,null,null,null,null,null,null,null,null,null,null,null,null,null,null,null,null,null,null,null,null,null,null,null,null,null,null,null,null,null,null,null,null,null,null,null,null,null,null,null,null,null,null,null,null,null,null,null,null,null,null,null,null,null,null,null,null,null,null,null,null,null,null,null,null,null,null,null,null,null,null,null,null,null,null,null,null,null,null,null,null,null,null,10,{"$error":"#VALUE!"},{"$error":"#VALUE!"},{"$error":"#VALUE!"},0,0,0,0,0,0,0,0,0]
[{"$f":"+A27+1","v":11},2011,null,null,null,null,null,null,null,null,null,null,null,null,null,null,null,null,null,null,null,null,null,null,null,null,null,null,null,null,null,null,null,null,null,null,null,null,null,null,null,null,null,null,null,null,null,null,null,null,null,null,null,null,null,null,null,null,null,null,null,null,null,null,null,null,null,null,null,null,null,null,null,null,null,null,null,null,null,null,null,null,null,null,null,null,null,null,null,null,null,null,null,null,null,null,null,null,null,null,null,null,null,null,null,null,null,null,null,null,null,null,null,null,null,null,null,null,null,null,null,null,null,null,null,null,null,null,null,null,null,null,null,null,null,null,null,null,null,null,null,null,null,null,null,null,null,null,null,null,null,null,null,null,null,null,null,null,null,null,null,null,null,null,null,null,null,null,null,null,null,null,null,null,null,null,null,null,null,null,null,null,null,null,null,null,null,null,null,null,null,null,null,null,null,null,null,null,null,null,null,null,null,null,null,null,null,null,null,null,null,null,null,null,null,null,null,null,null,null,null,null,null,null,null,null,null,null,null,null,null,null,null,null,null,null,null,null,null,null,null,null,null,null,null,null,null,null,null,null,null,null,null,null,null,null,null,null,null,null,null,null,null,null,null,null,null,null,null,null,null,null,null,null,null,null,null,null,null,null,null,null,null,null,null,null,null,null,null,null,null,null,null,null,null,null,null,null,null,null,null,null,null,null,null,null,null,null,null,null,null,null,null,null,null,null,null,null,null,null,null,null,null,null,null,null,null,null,null,null,null,null,null,null,null,null,null,null,null,null,null,null,null,null,null,null,null,null,null,null,null,null,null,null,null,null,null,null,null,null,null,null,null,null,null,null,null,null,null,null,null,null,null,null,null,null,null,null,null,null,null,null,null,null,null,null,null,null,null,null,null,null,null,null,null,null,null,null,null,null,null,null,null,null,null,null,null,null,null,null,null,null,null,null,null,null,null,null,null,null,null,null,null,null,null,null,null,null,null,null,null,null,null,null,null,null,null,null,null,null,null,null,null,null,null,null,null,null,null,null,null,null,null,null,null,null,null,null,null,null,null,null,null,null,null,null,null,null,null,null,null,null,null,null,null,null,null,null,null,null,null,null,null,null,null,null,null,null,null,null,null,null,null,null,null,null,null,null,null,null,null,null,null,null,null,null,null,null,null,null,null,null,null,null,null,null,null,null,null,null,null,null,null,null,null,null,null,null,null,null,null,null,null,null,null,null,null,null,null,null,null,null,null,null,null,null,null,null,null,null,null,null,null,null,null,null,null,null,null,null,null,null,null,null,null,null,null,null,null,null,null,null,null,null,null,null,null,null,null,null,null,null,null,null,null,null,null,null,null,null,null,null,null,null,null,null,null,null,null,null,null,null,null,null,null,null,null,null,null,null,null,null,null,null,null,null,null,null,null,null,null,null,null,null,null,null,null,null,null,null,null,null,null,null,null,null,null,null,null,null,null,null,null,null,null,null,null,null,null,null,null,null,null,null,null,null,null,null,null,null,null,null,null,null,null,null,null,null,null,null,null,null,null,null,null,null,null,null,null,null,null,null,null,null,null,null,null,null,null,null,null,null,null,null,null,null,null,null,null,null,null,null,null,null,null,null,null,null,null,null,null,null,null,null,null,null,null,null,null,null,null,null,null,null,null,null,null,null,null,null,null,null,null,null,null,null,null,null,null,null,null,null,null,null,null,null,null,null,null,null,null,null,null,null,null,null,null,null,null,null,null,null,null,null,null,null,null,null,null,null,null,null,null,null,null,null,null,null,null,null,null,null,null,null,null,null,null,null,null,null,null,null,null,null,null,null,null,null,null,null,null,null,null,null,null,null,null,null,null,null,null,null,null,null,null,null,null,null,null,null,null,null,null,null,null,null,null,null,null,null,null,null,null,null,null,null,null,null,null,null,null,null,null,null,null,null,null,null,null,null,null,null,null,null,null,null,null,null,11,{"$error":"#VALUE!"},{"$error":"#VALUE!"},{"$error":"#VALUE!"},0,0,0,0,0,0,0,0,0]
[12,2012,null,null,null,null,null,null,null,null,null,null,null,null,null,null,null,null,null,null,null,null,null,null,null,null,null,null,null,null,null,null,null,null,null,null,null,null,null,null,null,null,null,null,null,null,null,null,null,null,null,null,null,null,null,null,null,null,null,null,null,null,null,null,null,null,null,null,null,null,null,null,null,null,null,null,null,null,null,null,null,null,null,null,null,null,null,null,null,null,null,null,null,null,null,null,null,null,null,null,null,null,null,null,null,null,null,null,null,null,null,null,null,null,null,null,null,null,null,null,null,null,null,null,null,null,null,null,null,null,null,null,null,null,null,null,null,null,null,null,null,null,null,null,null,null,null,null,null,null,null,null,null,null,null,null,null,null,null,null,null,null,null,null,null,null,null,null,null,null,null,null,null,null,null,null,null,null,null,null,null,null,null,null,null,null,null,null,null,null,null,null,null,null,null,null,null,null,null,null,null,null,null,null,null,null,null,null,null,null,null,null,null,null,null,null,null,null,null,null,null,null,null,null,null,null,null,null,null,null,null,null,null,null,null,null,null,null,null,null,null,null,null,null,null,null,null,null,null,null,null,null,null,null,null,null,null,null,null,null,null,null,null,null,null,null,null,null,null,null,null,null,null,null,null,null,null,null,null,null,null,null,null,null,null,null,null,null,null,null,null,null,null,null,null,null,null,null,null,null,null,null,null,null,null,null,null,null,null,null,null,null,null,null,null,null,null,null,null,null,null,null,null,null,null,null,null,null,null,null,null,null,null,null,null,null,null,null,null,null,null,null,null,null,null,null,null,null,null,null,null,null,null,null,null,null,null,null,null,null,null,null,null,null,null,null,null,null,null,null,null,null,null,null,null,null,null,null,null,null,null,null,null,null,null,null,null,null,null,null,null,null,null,null,null,null,null,null,null,null,null,null,null,null,null,null,null,null,null,null,null,null,null,null,null,null,null,null,null,null,null,null,null,null,null,null,null,null,null,null,null,null,null,null,null,null,null,null,null,null,null,null,null,null,null,null,null,null,null,null,null,null,null,null,null,null,null,null,null,null,null,null,null,null,null,null,null,null,null,null,null,null,null,null,null,null,null,null,null,null,null,null,null,null,null,null,null,null,null,null,null,null,null,null,null,null,null,null,null,null,null,null,null,null,null,null,null,null,null,null,null,null,null,null,null,null,null,null,null,null,null,null,null,null,null,null,null,null,null,null,null,null,null,null,null,null,null,null,null,null,null,null,null,null,null,null,null,null,null,null,null,null,null,null,null,null,null,null,null,null,null,null,null,null,null,null,null,null,null,null,null,null,null,null,null,null,null,null,null,null,null,null,null,null,null,null,null,null,null,null,null,null,null,null,null,null,null,null,null,null,null,null,null,null,null,null,null,null,null,null,null,null,null,null,null,null,null,null,null,null,null,null,null,null,null,null,null,null,null,null,null,null,null,null,null,null,null,null,null,null,null,null,null,null,null,null,null,null,null,null,null,null,null,null,null,null,null,null,null,null,null,null,null,null,null,null,null,null,null,null,null,null,null,null,null,null,null,null,null,null,null,null,null,null,null,null,null,null,null,null,null,null,null,null,null,null,null,null,null,null,null,null,null,null,null,null,null,null,null,null,null,null,null,null,null,null,null,null,null,null,null,null,null,null,null,null,null,null,null,null,null,null,null,null,null,null,null,null,null,null,null,null,null,null,null,null,null,null,null,null,null,null,null,null,null,null,null,null,null,null,null,null,null,null,null,null,null,null,null,null,null,null,null,null,null,null,null,null,null,null,null,null,null,null,null,null,null,null,null,null,null,null,null,null,null,null,null,null,null,null,null,null,null,null,null,null,null,null,null,null,null,null,null,null,null,null,null,null,null,null,null,null,null,null,null,null,null,null,null,null,null,null,null,null,null,null,null,null,null,null,null,null,null,null,null,null,null,null,null,null,null,null,null,null,null,null,null,null,12,{"$error":"#VALUE!"},{"$error":"#VALUE!"},{"$error":"#VALUE!"},0,0,0,0,0,0,0,0,0]
[13,2013,null,null,null,null,null,null,null,null,null,null,null,null,null,null,null,null,null,null,null,null,null,null,null,null,null,null,null,null,null,null,null,null,null,null,null,null,null,null,null,null,null,null,null,null,null,null,null,null,null,null,null,null,null,null,null,null,null,null,null,null,null,null,null,null,null,null,null,null,null,null,null,null,null,null,null,null,null,null,null,null,null,null,null,null,null,null,null,null,null,null,null,null,null,null,null,null,null,null,null,null,null,null,null,null,null,null,null,null,null,null,null,null,null,null,null,null,null,null,null,null,null,null,null,null,null,null,null,null,null,null,null,null,null,null,null,null,null,null,null,null,null,null,null,null,null,null,null,null,null,null,null,null,null,null,null,null,null,null,null,null,null,null,null,null,null,null,null,null,null,null,null,null,null,null,null,null,null,null,null,null,null,null,null,null,null,null,null,null,null,null,null,null,null,null,null,null,null,null,null,null,null,null,null,null,null,null,null,null,null,null,null,null,null,null,null,null,null,null,null,null,null,null,null,null,null,null,null,null,null,null,null,null,null,null,null,null,null,null,null,null,null,null,null,null,null,null,null,null,null,null,null,null,null,null,null,null,null,null,null,null,null,null,null,null,null,null,null,null,null,null,null,null,null,null,null,null,null,null,null,null,null,null,null,null,null,null,null,null,null,null,null,null,null,null,null,null,null,null,null,null,null,null,null,null,null,null,null,null,null,null,null,null,null,null,null,null,null,null,null,null,null,null,null,null,null,null,null,null,null,null,null,null,null,null,null,null,null,null,null,null,null,null,null,null,null,null,null,null,null,null,null,null,null,null,null,null,null,null,null,null,null,null,null,null,null,null,null,null,null,null,null,null,null,null,null,null,null,null,null,null,null,null,null,null,null,null,null,null,null,null,null,null,null,null,null,null,null,null,null,null,null,null,null,null,null,null,null,null,null,null,null,null,null,null,null,null,null,null,null,null,null,null,null,null,null,null,null,null,null,null,null,null,null,null,null,null,null,null,null,null,null,null,null,null,null,null,null,null,null,null,null,null,null,null,null,null,null,null,null,null,null,null,null,null,null,null,null,null,null,null,null,null,null,null,null,null,null,null,null,null,null,null,null,null,null,null,null,null,null,null,null,null,null,null,null,null,null,null,null,null,null,null,null,null,null,null,null,null,null,null,null,null,null,null,null,null,null,null,null,null,null,null,null,null,null,null,null,null,null,null,null,null,null,null,null,null,null,null,null,null,null,null,null,null,null,null,null,null,null,null,null,null,null,null,null,null,null,null,null,null,null,null,null,null,null,null,null,null,null,null,null,null,null,null,null,null,null,null,null,null,null,null,null,null,null,null,null,null,null,null,null,null,null,null,null,null,null,null,null,null,null,null,null,null,null,null,null,null,null,null,null,null,null,null,null,null,null,null,null,null,null,null,null,null,null,null,null,null,null,null,null,null,null,null,null,null,null,null,null,null,null,null,null,null,null,null,null,null,null,null,null,null,null,null,null,null,null,null,null,null,null,null,null,null,null,null,null,null,null,null,null,null,null,null,null,null,null,null,null,null,null,null,null,null,null,null,null,null,null,null,null,null,null,null,null,null,null,null,null,null,null,null,null,null,null,null,null,null,null,null,null,null,null,null,null,null,null,null,null,null,null,null,null,null,null,null,null,null,null,null,null,null,null,null,null,null,null,null,null,null,null,null,null,null,null,null,null,null,null,null,null,null,null,null,null,null,null,null,null,null,null,null,null,null,null,null,null,null,null,null,null,null,null,null,null,null,null,null,null,null,null,null,null,null,null,null,null,null,null,null,null,null,null,null,null,null,null,null,null,null,null,null,null,null,null,null,null,null,null,null,null,null,null,null,null,null,null,null,null,null,null,null,null,null,null,null,null,null,null,null,null,null,null,null,null,null,null,null,null,null,null,null,null,null,null,null,null,null,null,null,null,null,null,null,null,null,13,{"$error":"#VALUE!"},{"$error":"#VALUE!"},{"$error":"#VALUE!"},0,0,0,0,0,0,0,0,0]
[14,2014,null,null,null,null,null,null,null,null,null,null,null,null,null,null,null,null,null,null,null,null,null,null,null,null,null,null,null,null,null,null,null,null,null,null,null,null,null,null,null,null,null,null,null,null,null,null,null,null,null,null,null,null,null,null,null,null,null,null,null,null,null,null,null,null,null,null,null,null,null,null,null,null,null,null,null,null,null,null,null,null,null,null,null,null,null,null,null,null,null,null,null,null,null,null,null,null,null,null,null,null,null,null,null,null,null,null,null,null,null,null,null,null,null,null,null,null,null,null,null,null,null,null,null,null,null,null,null,null,null,null,null,null,null,null,null,null,null,null,null,null,null,null,null,null,null,null,null,null,null,null,null,null,null,null,null,null,null,null,null,null,null,null,null,null,null,null,null,null,null,null,null,null,null,null,null,null,null,null,null,null,null,null,null,null,null,null,null,null,null,null,null,null,null,null,null,null,null,null,null,null,null,null,null,null,null,null,null,null,null,null,null,null,null,null,null,null,null,null,null,null,null,null,null,null,null,null,null,null,null,null,null,null,null,null,null,null,null,null,null,null,null,null,null,null,null,null,null,null,null,null,null,null,null,null,null,null,null,null,null,null,null,null,null,null,null,null,null,null,null,null,null,null,null,null,null,null,null,null,null,null,null,null,null,null,null,null,null,null,null,null,null,null,null,null,null,null,null,null,null,null,null,null,null,null,null,null,null,null,null,null,null,null,null,null,null,null,null,null,null,null,null,null,null,null,null,null,null,null,null,null,null,null,null,null,null,null,null,null,null,null,null,null,null,null,null,null,null,null,null,null,null,null,null,null,null,null,null,null,null,null,null,null,null,null,null,null,null,null,null,null,null,null,null,null,null,null,null,null,null,null,null,null,null,null,null,null,null,null,null,null,null,null,null,null,null,null,null,null,null,null,null,null,null,null,null,null,null,null,null,null,null,null,null,null,null,null,null,null,null,null,null,null,null,null,null,null,null,null,null,null,null,null,null,null,null,null,null,null,null,null,null,null,null,null,null,null,null,null,null,null,null,null,null,null,null,null,null,null,null,null,null,null,null,null,null,null,null,null,null,null,null,null,null,null,null,null,null,null,null,null,null,null,null,null,null,null,null,null,null,null,null,null,null,null,null,null,null,null,null,null,null,null,null,null,null,null,null,null,null,null,null,null,null,null,null,null,null,null,null,null,null,null,null,null,null,null,null,null,null,null,null,null,null,null,null,null,null,null,null,null,null,null,null,null,null,null,null,null,null,null,null,null,null,null,null,null,null,null,null,null,null,null,null,null,null,null,null,null,null,null,null,null,null,null,null,null,null,null,null,null,null,null,null,null,null,null,null,null,null,null,null,null,null,null,null,null,null,null,null,null,null,null,null,null,null,null,null,null,null,null,null,null,null,null,null,null,null,null,null,null,null,null,null,null,null,null,null,null,null,null,null,null,null,null,null,null,null,null,null,null,null,null,null,null,null,null,null,null,null,null,null,null,null,null,null,null,null,null,null,null,null,null,null,null,null,null,null,null,null,null,null,null,null,null,null,null,null,null,null,null,null,null,null,null,null,null,null,null,null,null,null,null,null,null,null,null,null,null,null,null,null,null,null,null,null,null,null,null,null,null,null,null,null,null,null,null,null,null,null,null,null,null,null,null,null,null,null,null,null,null,null,null,null,null,null,null,null,null,null,null,null,null,null,null,null,null,null,null,null,null,null,null,null,null,null,null,null,null,null,null,null,null,null,null,null,null,null,null,null,null,null,null,null,null,null,null,null,null,null,null,null,null,null,null,null,null,null,null,null,null,null,null,null,null,null,null,null,null,null,null,null,null,null,null,null,null,null,null,null,null,null,null,null,null,null,null,null,null,null,null,null,null,null,null,null,null,null,null,null,null,null,null,null,null,null,null,null,null,null,null,null,null,null,null,null,null,null,null,null,null,null,null,null,null,null,null,14,{"$error":"#VALUE!"},{"$error":"#VALUE!"},{"$error":"#VALUE!"},0,0,0,0,0,0,0,0,0]
[16,2016,null,null,null,null,null,null,null,null,null,null,null,null,null,null,null,null,null,null,null,null,null,null,null,null,null,null,null,null,null,null,null,null,null,null,null,null,null,null,null,null,null,null,null,null,null,null,null,null,null,null,null,null,null,null,null,null,null,null,null,null,null,null,null,null,null,null,null,null,null,null,null,null,null,null,null,null,null,null,null,null,null,null,null,null,null,null,null,null,null,null,null,null,null,null,null,null,null,null,null,null,null,null,null,null,null,null,null,null,null,null,null,null,null,null,null,null,null,null,null,null,null,null,null,null,null,null,null,null,null,null,null,null,null,null,null,null,null,null,null,null,null,null,null,null,null,null,null,null,null,null,null,null,null,null,null,null,null,null,null,null,null,null,null,null,null,null,null,null,null,null,null,null,null,null,null,null,null,null,null,null,null,null,null,null,null,null,null,null,null,null,null,null,null,null,null,null,null,null,null,null,null,null,null,null,null,null,null,null,null,null,null,null,null,null,null,null,null,null,null,null,null,null,null,null,null,null,null,null,null,null,null,null,null,null,null,null,null,null,null,null,null,null,null,null,null,null,null,null,null,null,null,null,null,null,null,null,null,null,null,null,null,null,null,null,null,null,null,null,null,null,null,null,null,null,null,null,null,null,null,null,null,null,null,null,null,null,null,null,null,null,null,null,null,null,null,null,null,null,null,null,null,null,null,null,null,null,null,null,null,null,null,null,null,null,null,null,null,null,null,null,null,null,null,null,null,null,null,null,null,null,null,null,null,null,null,null,null,null,null,null,null,null,null,null,null,null,null,null,null,null,null,null,null,null,null,null,null,null,null,null,null,null,null,null,null,null,null,null,null,null,null,null,null,null,null,null,null,null,null,null,null,null,null,null,null,null,null,null,null,null,null,null,null,null,null,null,null,null,null,null,null,null,null,null,null,null,null,null,null,null,null,null,null,null,null,null,null,null,null,null,null,null,null,null,null,null,null,null,null,null,null,null,null,null,null,null,null,null,null,null,null,null,null,null,null,null,null,null,null,null,null,null,null,null,null,null,null,null,null,null,null,null,null,null,null,null,null,null,null,null,null,null,null,null,null,null,null,null,null,null,null,null,null,null,null,null,null,null,null,null,null,null,null,null,null,null,null,null,null,null,null,null,null,null,null,null,null,null,null,null,null,null,null,null,null,null,null,null,null,null,null,null,null,null,null,null,null,null,null,null,null,null,null,null,null,null,null,null,null,null,null,null,null,null,null,null,null,null,null,null,null,null,null,null,null,null,null,null,null,null,null,null,null,null,null,null,null,null,null,null,null,null,null,null,null,null,null,null,null,null,null,null,null,null,null,null,null,null,null,null,null,null,null,null,null,null,null,null,null,null,null,null,null,null,null,null,null,null,null,null,null,null,null,null,null,null,null,null,null,null,null,null,null,null,null,null,null,null,null,null,null,null,null,null,null,null,null,null,null,null,null,null,null,null,null,null,null,null,null,null,null,null,null,null,null,null,null,null,null,null,null,null,null,null,null,null,null,null,null,null,null,null,null,null,null,null,null,null,null,null,null,null,null,null,null,null,null,null,null,null,null,null,null,null,null,null,null,null,null,null,null,null,null,null,null,null,null,null,null,null,null,null,null,null,null,null,null,null,null,null,null,null,null,null,null,null,null,null,null,null,null,null,null,null,null,null,null,null,null,null,null,null,null,null,null,null,null,null,null,null,null,null,null,null,null,null,null,null,null,null,null,null,null,null,null,null,null,null,null,null,null,null,null,null,null,null,null,null,null,null,null,null,null,null,null,null,null,null,null,null,null,null,null,null,null,null,null,null,null,null,null,null,null,null,null,null,null,null,null,null,null,null,null,null,null,null,null,null,null,null,null,null,null,null,null,null,null,null,null,null,null,null,null,null,null,null,null,null,null,null,null,null,null,null,null,null,null,null,null,null,null,null,null,null,null,null,16,{"$error":"#VALUE!"},{"$error":"#VALUE!"},{"$error":"#VALUE!"},0,0,0,0,0,0,0,0,0]
[18,2018,null,null,null,null,null,null,null,null,null,null,null,null,null,null,null,null,null,null,null,null,null,null,null,null,null,null,null,null,null,null,null,null,1,null,null,null,null,null,null,null,null,null,null,null,null,null,null,null,0,0,0,0,null,null,null,null,null,null,null,null,null,null,null,null,null,null,null,null,null,null,null,null,null,null,null,null,null,null,null,null,null,null,null,null,null,null,0,0,0,0,null,null,null,null,null,null,null,null,null,null,null,null,null,null,null,null,null,null,null,null,null,null,null,null,null,null,null,null,null,null,null,null,null,null,0,0,0,0,null,null,null,null,null,null,null,null,null,null,null,null,null,null,null,null,null,null,null,null,null,null,null,null,null,null,null,null,null,null,null,null,null,null,0,0,0,0,null,null,null,null,null,null,null,null,null,null,null,null,null,null,null,null,null,null,null,null,null,null,null,null,null,null,null,null,null,null,null,null,null,null,0,0,0,0,null,null,null,null,null,null,null,null,null,null,null,null,null,null,null,null,null,null,null,null,null,null,null,null,null,null,null,null,null,null,null,null,null,null,0,0,0,0,null,null,null,null,null,null,null,null,null,null,null,null,null,null,null,null,null,null,null,null,null,null,null,null,null,null,null,null,null,null,null,null,null,null,null,null,null,null,null,null,null,null,null,null,null,null,null,null,null,null,null,null,null,null,null,null,null,null,null,null,null,null,null,null,null,null,null,null,null,null,null,null,null,null,null,null,null,null,null,null,null,null,null,null,null,null,null,null,null,null,null,null,null,null,null,null,null,null,null,null,null,null,null,null,null,null,null,null,null,null,null,null,null,null,null,null,null,null,null,null,null,null,null,null,null,null,null,null,null,null,null,null,null,null,null,null,null,null,null,null,null,null,null,null,null,null,null,null,null,null,null,null,null,null,null,null,null,null,null,null,null,null,null,null,null,null,null,null,null,null,null,null,null,null,null,null,null,null,null,null,null,null,null,null,null,null,null,null,null,null,null,null,null,null,null,null,null,null,null,null,null,null,null,null,null,null,null,null,null,null,null,null,null,null,null,null,null,null,null,null,null,null,null,null,null,null,null,null,null,null,null,null,null,null,null,null,null,null,null,null,null,null,null,null,null,null,null,null,null,null,null,null,null,null,null,null,null,null,null,null,null,null,null,null,null,null,null,null,null,null,null,null,null,null,null,null,null,null,null,null,null,null,null,null,null,null,null,null,null,null,null,"－",null,"－",null,"－",null,"－",null,null,null,null,"－","－","－","－","－","－","－","－","－","－","－","－","－","－","－","－",null,null,null,null,null,null,null,null,41640,42005,42370,42736,43101,0,0,0,0,0,null,null,null,null,"－",0,0,0,0,0,null,null,null,null,"－",41640,42005,42370,42736,43101,0,0,0,0,0,null,null,null,null,"－",0,0,0,0,0,null,null,null,null,"－",41640,42005,42370,42736,43101,0,0,0,0,0,null,null,null,null,"－",0,0,0,0,0,null,null,null,null,"－",41640,42005,42370,42736,43101,0,0,0,0,0,null,null,null,null,"－",0,0,0,0,0,null,null,null,null,"－",null,null,null,null,null,null,null,null,null,null,null,null,null,null,null,null,null,null,null,null,null,null,null,null,null,null,null,null,null,null,null,null,null,null,null,null,null,null,null,null,null,null,null,null,null,null,null,null,null,null,null,null,null,null,null,null,null,null,null,null,null,null,null,null,null,null,null,null,null,null,null,null,null,null,null,null,null,null,null,null,null,null,null,null,null,null,null,null,null,null,null,null,null,null,null,null,null,null,1,1,1,1,1,1,1,1,1,1,1,1,1,1,1,1,1,1,1,1,1,1,1,1,1,1,1,1,1,1,null,null,null,null,null,null,null,null,null,null,null,null,null,null,null,null,null,null,null,null,null,null,0,null,null,null,null,null,null,null,null,2,2,0,0,0,null,null,"－","－","－","－",0,0,0,null,null,"－","－","－","－",0,0,0,null,null,"－",null,"－",null,18,{"$error":"#VALUE!"},{"$error":"#VALUE!"},{"$error":"#VALUE!"},0,0,0,0,0,0,0,0,0]
[21,2021,null,null,null,null,null,null,null,null,null,null,null,null,null,null,null,null,1,null,null,null,null,null,null,null,null,null,null,null,null,null,null,null,1,null,null,null,null,null,null,null,null,null,null,null,null,null,null,null,0,0,0,0,null,null,null,null,null,null,null,null,null,null,null,null,null,null,null,null,null,null,null,null,null,null,null,null,null,null,null,null,null,null,null,null,null,null,0,0,0,0,null,null,null,null,null,null,null,null,null,null,null,null,null,null,null,null,null,null,null,null,null,null,null,null,null,null,null,null,null,null,null,null,null,null,0,0,0,0,null,null,null,null,null,null,null,null,null,null,null,null,null,null,null,null,null,null,null,null,null,null,null,null,null,null,null,null,null,null,null,null,null,null,null,null,null,null,null,null,null,null,null,null,null,null,null,null,null,null,null,null,null,null,null,null,null,null,null,null,null,null,null,null,null,null,null,null,null,null,null,null,null,null,null,null,null,null,null,null,null,null,null,null,null,null,null,null,null,null,null,null,null,null,null,null,null,null,null,null,null,null,null,null,null,null,null,null,null,null,null,null,null,null,null,null,null,null,null,null,null,null,null,null,null,null,null,null,null,null,null,null,null,null,null,null,null,null,null,null,null,null,null,null,null,null,null,null,null,null,null,null,null,null,null,null,null,null,null,null,null,null,null,null,null,null,null,null,null,null,null,null,null,null,null,null,null,null,null,null,null,null,null,null,null,null,null,null,null,null,null,null,null,null,null,null,null,null,null,null,null,null,null,null,null,null,null,null,null,null,null,null,null,null,null,null,null,null,null,null,null,null,null,null,null,null,null,null,null,null,null,null,null,null,null,null,null,null,null,null,null,null,null,null,null,null,null,null,null,null,null,null,null,null,null,null,null,null,null,null,null,null,null,null,null,null,null,null,null,null,null,null,null,null,null,null,null,null,null,null,null,null,null,null,null,null,null,null,null,null,null,null,null,null,null,null,null,null,null,null,null,null,null,null,null,null,null,null,null,null,null,null,null,null,null,null,null,null,null,null,null,null,null,null,null,null,null,null,null,null,null,null,null,null,null,null,null,null,null,null,null,null,null,null,null,null,null,null,null,null,null,null,null,null,null,null,null,null,null,null,null,null,null,null,null,null,null,null,null,null,null,null,null,null,null,null,null,null,null,null,null,null,null,null,null,null,null,null,null,null,null,null,null,null,null,null,null,null,null,null,null,null,null,null,null,"－",null,"－",null,null,null,null,null,null,null,null,"－","－","－","－","－","－","－","－",null,null,null,null,null,null,null,null,null,null,null,null,null,null,null,null,42736,43101,43466,43831,44197,0,0,0,0,0,null,null,null,null,"－",0,0,0,0,0,null,null,null,null,"－",42736,43101,43466,43831,44197,0,0,0,0,0,null,null,null,null,"－",0,0,0,0,0,null,null,null,null,"－",null,null,null,null,null,null,null,null,null,null,null,null,null,null,null,null,null,null,null,null,null,null,null,null,null,null,null,null,null,null,null,null,null,null,null,null,null,null,null,null,null,null,null,null,null,null,null,null,null,null,null,null,null,null,null,null,null,null,null,null,null,null,null,null,null,null,null,null,null,null,null,null,null,null,null,null,null,null,null,null,null,null,null,null,null,null,null,null,null,null,null,null,null,null,null,null,null,null,null,null,null,null,null,null,null,null,null,null,null,null,null,null,null,null,null,null,null,null,null,null,null,null,null,null,null,null,null,null,null,null,null,null,null,null,null,null,null,null,null,null,null,null,null,null,null,null,null,null,1,1,1,1,1,1,1,1,1,1,1,1,1,1,1,1,1,null,null,null,null,null,null,null,null,null,null,null,null,null,null,null,null,null,null,null,null,null,null,null,null,null,null,null,null,null,null,null,null,null,null,null,0,null,null,null,null,null,null,null,null,2,2,0,0,0,null,null,"－","－","－","－",0,0,0,null,null,"－","－","－","－",0,0,0,null,null,"－",null,"－",null,21,1,{"$error":"#VALUE!"},{"$error":"#VALUE!"},0,0,0,0,0,0,0,0,0]
[24,2024,null,null,null,null,null,null,null,null,null,null,null,null,null,null,null,null,null,null,null,null,null,null,null,null,null,null,null,null,null,null,null,null,null,null,null,null,null,null,null,null,null,null,null,null,null,null,null,null,null,null,null,null,null,null,null,null,null,null,null,null,null,null,null,null,null,null,null,null,null,null,null,null,null,null,null,null,null,null,null,null,null,null,null,null,null,null,null,null,null,null,null,null,null,null,null,null,null,null,null,null,null,null,null,null,null,null,null,null,null,null,null,null,null,null,null,null,null,null,null,null,null,null,null,null,null,null,null,null,null,null,null,null,null,null,null,null,null,null,null,null,null,null,null,null,null,null,null,null,null,null,null,null,null,null,null,null,null,null,null,null,null,null,null,null,null,null,null,null,null,null,null,null,null,null,null,null,null,null,null,null,null,null,null,null,null,null,null,null,null,null,null,null,null,null,null,null,null,null,null,null,null,null,null,null,null,null,null,null,null,null,null,null,null,null,null,null,null,null,null,null,null,null,null,null,null,null,null,null,null,null,null,null,null,null,null,null,null,null,null,null,null,null,null,null,null,null,null,null,null,null,null,null,null,null,null,null,null,null,null,null,null,null,null,null,null,null,null,null,null,null,null,null,null,null,null,null,null,null,null,null,null,null,null,null,null,null,null,null,null,null,null,null,null,null,null,null,null,null,null,null,null,null,null,null,null,null,null,null,null,null,null,null,null,null,null,null,null,null,null,null,null,null,null,null,null,null,null,null,null,null,null,null,null,null,null,null,null,null,null,null,null,null,null,null,null,null,null,null,null,null,null,null,null,null,null,null,null,null,null,null,null,null,null,null,null,null,null,null,null,null,null,null,null,null,null,null,null,null,null,null,null,null,null,null,null,null,null,null,null,null,null,null,null,null,null,null,null,null,null,null,null,null,null,null,null,null,null,null,null,null,null,null,null,null,null,null,null,null,null,null,null,null,null,null,null,null,null,null,null,null,null,null,null,null,null,null,null,null,null,null,null,null,null,null,null,null,null,null,null,null,null,null,null,null,null,null,null,null,null,null,null,null,null,null,null,null,null,null,null,null,null,null,null,null,null,null,null,null,null,null,null,null,null,null,null,null,null,null,null,null,null,null,null,null,null,null,null,null,null,null,null,null,null,null,null,null,null,null,null,null,null,null,null,null,null,null,null,null,null,null,null,null,null,null,null,null,null,null,null,null,null,null,null,null,null,null,null,null,null,null,null,null,null,null,null,null,null,null,null,null,null,null,null,null,null,null,null,null,null,null,null,null,null,null,null,null,null,null,null,null,null,null,null,null,null,null,null,null,null,null,null,null,null,null,null,null,null,null,null,null,null,null,null,null,null,null,null,null,null,null,null,null,null,null,null,null,null,null,null,null,null,null,null,null,null,null,null,null,null,null,null,null,null,null,null,null,null,null,null,null,null,null,null,null,null,null,null,null,null,null,null,null,null,null,null,null,null,null,null,null,null,null,null,null,null,null,null,null,null,null,null,null,null,null,null,null,null,null,null,null,null,null,null,null,null,null,null,null,null,null,null,null,null,null,null,null,null,null,null,null,null,null,null,null,null,null,null,null,null,null,null,null,null,null,null,null,null,null,null,null,null,null,null,null,null,null,null,null,null,null,null,null,null,null,null,null,null,null,null,null,null,null,null,null,null,null,null,null,null,null,null,null,null,null,null,null,null,null,null,null,null,null,null,null,null,null,null,null,null,null,null,null,null,null,null,null,null,null,null,null,null,null,null,null,null,null,null,null,null,null,null,null,null,null,null,null,null,null,null,null,null,null,null,null,null,null,null,null,null,null,null,null,null,null,null,null,null,null,null,null,null,null,null,null,null,null,null,null,null,null,null,null,null,null,null,null,null,null,null,null,null,null,null,null,null,null,null,null,null,null,null,null,null,null,null,null,null,null,null,null,null,null,null,null,null,null,24,{"$error":"#VALUE!"},{"$error":"#VALUE!"},{"$error":"#VALUE!"},0,0,0,0,0,0,0,0,0]
[26,2026,null,null,null,null,null,null,null,null,null,null,null,null,null,null,null,null,null,null,null,null,null,null,null,null,null,null,null,null,null,null,null,null,null,null,null,null,null,null,null,null,null,null,null,null,null,null,null,null,null,null,null,null,null,null,null,null,null,null,null,null,null,null,null,null,null,null,null,null,null,null,null,null,null,null,null,null,null,null,null,null,null,null,null,null,null,null,null,null,null,null,null,null,null,null,null,null,null,null,null,null,null,null,null,null,null,null,null,null,null,null,null,null,null,null,null,null,null,null,null,null,null,null,null,null,null,null,null,null,null,null,null,null,null,null,null,null,null,null,null,null,null,null,null,null,null,null,null,null,null,null,null,null,null,null,null,null,null,null,null,null,null,null,null,null,null,null,null,null,null,null,null,null,null,null,null,null,null,null,null,null,null,null,null,null,null,null,null,null,null,null,null,null,null,null,null,null,null,null,null,null,null,null,null,null,null,null,null,null,null,null,null,null,null,null,null,null,null,null,null,null,null,null,null,null,null,null,null,null,null,null,null,null,null,null,null,null,null,null,null,null,null,null,null,null,null,null,null,null,null,null,null,null,null,null,null,null,null,null,null,null,null,null,null,null,null,null,null,null,null,null,null,null,null,null,null,null,null,null,null,null,null,null,null,null,null,null,null,null,null,null,null,null,null,null,null,null,null,null,null,null,null,null,null,null,null,null,null,null,null,null,null,null,null,null,null,null,null,null,null,null,null,null,null,null,null,null,null,null,null,null,null,null,null,null,null,null,null,null,null,null,null,null,null,null,null,null,null,null,null,null,null,null,null,null,null,null,null,null,null,null,null,null,null,null,null,null,null,null,null,null,null,null,null,null,null,null,null,null,null,null,null,null,null,null,null,null,null,null,null,null,null,null,null,null,null,null,null,null,null,null,null,null,null,null,null,null,null,null,null,null,null,null,null,null,null,null,null,null,null,null,null,null,null,null,null,null,null,null,null,null,null,null,null,null,null,null,null,null,null,null,null,null,null,null,null,null,null,null,null,null,null,null,null,null,null,null,null,null,null,null,null,null,null,null,null,null,null,null,null,null,null,null,null,null,null,null,null,null,null,null,null,null,null,null,null,null,null,null,null,null,null,null,null,null,null,null,null,null,null,null,null,null,null,null,null,null,null,null,null,null,null,null,null,null,null,null,null,null,null,null,null,null,null,null,null,null,null,null,null,null,null,null,null,null,null,null,null,null,null,null,null,null,null,null,null,null,null,null,null,null,null,null,null,null,null,null,null,null,null,null,null,null,null,null,null,null,null,null,null,null,null,null,null,null,null,null,null,null,null,null,null,null,null,null,null,null,null,null,null,null,null,null,null,null,null,null,null,null,null,null,null,null,null,null,null,null,null,null,null,null,null,null,null,null,null,null,null,null,null,null,null,null,null,null,null,null,null,null,null,null,null,null,null,null,null,null,null,null,null,null,null,null,null,null,null,null,null,null,null,null,null,null,null,null,null,null,null,null,null,null,null,null,null,null,null,null,null,null,null,null,null,null,null,null,null,null,null,null,null,null,null,null,null,null,null,null,null,null,null,null,null,null,null,null,null,null,null,null,null,null,null,null,null,null,null,null,null,null,null,null,null,null,null,null,null,null,null,null,null,null,null,null,null,null,null,null,null,null,null,null,null,null,null,null,null,null,null,null,null,null,null,null,null,null,null,null,null,null,null,null,null,null,null,null,null,null,null,null,null,null,null,null,null,null,null,null,null,null,null,null,null,null,null,null,null,null,null,null,null,null,null,null,null,null,null,null,null,null,null,null,null,null,null,null,null,null,null,null,null,null,null,null,null,null,null,null,null,null,null,null,null,null,null,null,null,null,null,null,null,null,null,null,null,null,null,null,null,null,null,null,null,null,null,null,null,null,null,null,null,null,null,null,null,null,null,null,null,null,null,null,null,null,null,null,null,null,26,{"$error":"#VALUE!"},{"$error":"#VALUE!"},{"$error":"#VALUE!"},0,0,0,0,0,0,0,0,0]
[29,2029,null,null,null,null,null,null,null,null,null,null,null,null,null,null,null,null,null,null,null,null,null,null,null,null,null,null,null,null,null,null,null,null,null,null,null,null,null,null,null,null,null,null,null,null,null,null,null,null,null,null,null,null,null,null,null,null,null,null,null,null,null,null,null,null,null,null,null,null,null,null,null,null,null,null,null,null,null,null,null,null,null,null,null,null,null,null,null,null,null,null,null,null,null,null,null,null,null,null,null,null,null,null,null,null,null,null,null,null,null,null,null,null,null,null,null,null,null,null,null,null,null,null,null,null,null,null,null,null,null,null,null,null,null,null,null,null,null,null,null,null,null,null,null,null,null,null,null,null,null,null,null,null,null,null,null,null,null,null,null,null,null,null,null,null,null,null,null,null,null,null,null,null,null,null,null,null,null,null,null,null,null,null,null,null,null,null,null,null,null,null,null,null,null,null,null,null,null,null,null,null,null,null,null,null,null,null,null,null,null,null,null,null,null,null,null,null,null,null,null,null,null,null,null,null,null,null,null,null,null,null,null,null,null,null,null,null,null,null,null,null,null,null,null,null,null,null,null,null,null,null,null,null,null,null,null,null,null,null,null,null,null,null,null,null,null,null,null,null,null,null,null,null,null,null,null,null,null,null,null,null,null,null,null,null,null,null,null,null,null,null,null,null,null,null,null,null,null,null,null,null,null,null,null,null,null,null,null,null,null,null,null,null,null,null,null,null,null,null,null,null,null,null,null,null,null,null,null,null,null,null,null,null,null,null,null,null,null,null,null,null,null,null,null,null,null,null,null,null,null,null,null,null,null,null,null,null,null,null,null,null,null,null,null,null,null,null,null,null,null,null,null,null,null,null,null,null,null,null,null,null,null,null,null,null,null,null,null,null,null,null,null,null,null,null,null,null,null,null,null,null,null,null,null,null,null,null,null,null,null,null,null,null,null,null,null,null,null,null,null,null,null,null,null,null,null,null,null,null,null,null,null,null,null,null,null,null,null,null,null,null,null,null,null,null,null,null,null,null,null,null,null,null,null,null,null,null,null,null,null,null,null,null,null,null,null,null,null,null,null,null,null,null,null,null,null,null,null,null,null,null,null,null,null,null,null,null,null,null,null,null,null,null,null,null,null,null,null,null,null,null,null,null,null,null,null,null,null,null,null,null,null,null,null,null,null,null,null,null,null,null,null,null,null,null,null,null,null,null,null,null,null,null,null,null,null,null,null,null,null,null,null,null,null,null,null,null,null,null,null,null,null,null,null,null,null,null,null,null,null,null,null,null,null,null,null,null,null,null,null,null,null,null,null,null,null,null,null,null,null,null,null,null,null,null,null,null,null,null,null,null,null,null,null,null,null,null,null,null,null,null,null,null,null,null,null,null,null,null,null,null,null,null,null,null,null,null,null,null,null,null,null,null,null,null,null,null,null,null,null,null,null,null,null,null,null,null,null,null,null,null,null,null,null,null,null,null,null,null,null,null,null,null,null,null,null,null,null,null,null,null,null,null,null,null,null,null,null,null,null,null,null,null,null,null,null,null,null,null,null,null,null,null,null,null,null,null,null,null,null,null,null,null,null,null,null,null,null,null,null,null,null,null,null,null,null,null,null,null,null,null,null,null,null,null,null,null,null,null,null,null,null,null,null,null,null,null,null,null,null,null,null,null,null,null,null,null,null,null,null,null,null,null,null,null,null,null,null,null,null,null,null,null,null,null,null,null,null,null,null,null,null,null,null,null,null,null,null,null,null,null,null,null,null,null,null,null,null,null,null,null,null,null,null,null,null,null,null,null,null,null,null,null,null,null,null,null,null,null,null,null,null,null,null,null,null,null,null,null,null,null,null,null,null,null,null,null,null,null,null,null,null,null,null,null,null,null,null,null,null,null,null,null,null,null,null,null,null,null,null,null,null,null,null,null,null,null,null,null,null,null,null,null,null,null,null,null,29,{"$error":"#VALUE!"},{"$error":"#VALUE!"},{"$error":"#VALUE!"},0,0,0,0,0,0,0,0,0]
[30,2030,null,null,null,null,null,null,null,null,null,null,null,null,null,null,null,null,null,null,null,null,null,null,null,null,null,null,null,null,null,null,null,null,null,null,null,null,null,null,null,null,null,null,null,null,null,null,null,null,null,null,null,null,null,null,null,null,null,null,null,null,null,null,null,null,null,null,null,null,null,null,null,null,null,null,null,null,null,null,null,null,null,null,null,null,null,null,null,null,null,null,null,null,null,null,null,null,null,null,null,null,null,null,null,null,null,null,null,null,null,null,null,null,null,null,null,null,null,null,null,null,null,null,null,null,null,null,null,null,null,null,null,null,null,null,null,null,null,null,null,null,null,null,null,null,null,null,null,null,null,null,null,null,null,null,null,null,null,null,null,null,null,null,null,null,null,null,null,null,null,null,null,null,null,null,null,null,null,null,null,null,null,null,null,null,null,null,null,null,null,null,null,null,null,null,null,null,null,null,null,null,null,null,null,null,null,null,null,null,null,null,null,null,null,null,null,null,null,null,null,null,null,null,null,null,null,null,null,null,null,null,null,null,null,null,null,null,null,null,null,null,null,null,null,null,null,null,null,null,null,null,null,null,null,null,null,null,null,null,null,null,null,null,null,null,null,null,null,null,null,null,null,null,null,null,null,null,null,null,null,null,null,null,null,null,null,null,null,null,null,null,null,null,null,null,null,null,null,null,null,null,null,null,null,null,null,null,null,null,null,null,null,null,null,null,null,null,null,null,null,null,null,null,null,null,null,null,null,null,null,null,null,null,null,null,null,null,null,null,null,null,null,null,null,null,null,null,null,null,null,null,null,null,null,null,null,null,null,null,null,null,null,null,null,null,null,null,null,null,null,null,null,null,null,null,null,null,null,null,null,null,null,null,null,null,null,null,null,null,null,null,null,null,null,null,null,null,null,null,null,null,null,null,null,null,null,null,null,null,null,null,null,null,null,null,null,null,null,null,null,null,null,null,null,null,null,null,null,null,null,null,null,null,null,null,null,null,null,null,null,null,null,null,null,null,null,null,null,null,null,null,null,null,null,null,null,null,null,null,null,null,null,null,null,null,null,null,null,null,null,null,null,null,null,null,null,null,null,null,null,null,null,null,null,null,null,null,null,null,null,null,null,null,null,null,null,null,null,null,null,null,null,null,null,null,null,null,null,null,null,null,null,null,null,null,null,null,null,null,null,null,null,null,null,null,null,null,null,null,null,null,null,null,null,null,null,null,null,null,null,null,null,null,null,null,null,null,null,null,null,null,null,null,null,null,null,null,null,null,null,null,null,null,null,null,null,null,null,null,null,null,null,null,null,null,null,null,null,null,null,null,null,null,null,null,null,null,null,null,null,null,null,null,null,null,null,null,null,null,null,null,null,null,null,null,null,null,null,null,null,null,null,null,null,null,null,null,null,null,null,null,null,null,null,null,null,null,null,null,null,null,null,null,null,null,null,null,null,null,null,null,null,null,null,null,null,null,null,null,null,null,null,null,null,null,null,null,null,null,null,null,null,null,null,null,null,null,null,null,null,null,null,null,null,null,null,null,null,null,null,null,null,null,null,null,null,null,null,null,null,null,null,null,null,null,null,null,null,null,null,null,null,null,null,null,null,null,null,null,null,null,null,null,null,null,null,null,null,null,null,null,null,null,null,null,null,null,null,null,null,null,null,null,null,null,null,null,null,null,null,null,null,null,null,null,null,null,null,null,null,null,null,null,null,null,null,null,null,null,null,null,null,null,null,null,null,null,null,null,null,null,null,null,null,null,null,null,null,null,null,null,null,null,null,null,null,null,null,null,null,null,null,null,null,null,null,null,null,null,null,null,null,null,null,null,null,null,null,null,null,null,null,null,null,null,null,null,null,null,null,null,null,null,null,null,null,null,null,null,null,null,null,null,null,null,null,null,null,null,null,null,null,null,null,null,null,null,null,null,null,null,null,null,null,null,null,null,30,{"$error":"#VALUE!"},{"$error":"#VALUE!"},{"$error":"#VALUE!"},0,0,0,0,0,0,0,0,0]
[33,2033,null,null,null,null,null,null,null,null,null,null,null,null,null,null,null,null,null,null,null,null,null,null,null,null,null,null,null,null,null,null,null,null,null,null,null,null,null,null,null,null,null,null,null,null,null,null,null,null,null,null,null,null,null,null,null,null,null,null,null,null,null,null,null,null,null,null,null,null,null,null,null,null,null,null,null,null,null,null,null,null,null,null,null,null,null,null,null,null,null,null,null,null,null,null,null,null,null,null,null,null,null,null,null,null,null,null,null,null,null,null,null,null,null,null,null,null,null,null,null,null,null,null,null,null,null,null,null,null,null,null,null,null,null,null,null,null,null,null,null,null,null,null,null,null,null,null,null,null,null,null,null,null,null,null,null,null,null,null,null,null,null,null,null,null,null,null,null,null,null,null,null,null,null,null,null,null,null,null,null,null,null,null,null,null,null,null,null,null,null,null,null,null,null,null,null,null,null,null,null,null,null,null,null,null,null,null,null,null,null,null,null,null,null,null,null,null,null,null,null,null,null,null,null,null,null,null,null,null,null,null,null,null,null,null,null,null,null,null,null,null,null,null,null,null,null,null,null,null,null,null,null,null,null,null,null,null,null,null,null,null,null,null,null,null,null,null,null,null,null,null,null,null,null,null,null,null,null,null,null,null,null,null,null,null,null,null,null,null,null,null,null,null,null,null,null,null,null,null,null,null,null,null,null,null,null,null,null,null,null,null,null,null,null,null,null,null,null,null,null,null,null,null,null,null,null,null,null,null,null,null,null,null,null,null,null,null,null,null,null,null,null,null,null,null,null,null,null,null,null,null,null,null,null,null,null,null,null,null,null,null,null,null,null,null,null,null,null,null,null,null,null,null,null,null,null,null,null,null,null,null,null,null,null,null,null,null,null,null,null,null,null,null,null,null,null,null,null,null,null,null,null,null,null,null,null,null,null,null,null,null,null,null,null,null,null,null,null,null,null,null,null,null,null,null,null,null,null,null,null,null,null,null,null,null,null,null,null,null,null,null,null,null,null,null,null,null,null,null,null,null,null,null,null,null,null,null,null,null,null,null,null,null,null,null,null,null,null,null,null,null,null,null,null,null,null,null,null,null,null,null,null,null,null,null,null,null,null,null,null,null,null,null,null,null,null,null,null,null,null,null,null,null,null,null,null,null,null,null,null,null,null,null,null,null,null,null,null,null,null,null,null,null,null,null,null,null,null,null,null,null,null,null,null,null,null,null,null,null,null,null,null,null,null,null,null,null,null,null,null,null,null,null,null,null,null,null,null,null,null,null,null,null,null,null,null,null,null,null,null,null,null,null,null,null,null,null,null,null,null,null,null,null,null,null,null,null,null,null,null,null,null,null,null,null,null,null,null,null,null,null,null,null,null,null,null,null,null,null,null,null,null,null,null,null,null,null,null,null,null,null,null,null,null,null,null,null,null,null,null,null,null,null,null,null,null,null,null,null,null,null,null,null,null,null,null,null,null,null,null,null,null,null,null,null,null,null,null,null,null,null,null,null,null,null,null,null,null,null,null,null,null,null,null,null,null,null,null,null,null,null,null,null,null,null,null,null,null,null,null,null,null,null,null,null,null,null,null,null,null,null,null,null,null,null,null,null,null,null,null,null,null,null,null,null,null,null,null,null,null,null,null,null,null,null,null,null,null,null,null,null,null,null,null,null,null,null,null,null,null,null,null,null,null,null,null,null,null,null,null,null,null,null,null,null,null,null,null,null,null,null,null,null,null,null,null,null,null,null,null,null,null,null,null,null,null,null,null,null,null,null,null,null,null,null,null,null,null,null,null,null,null,null,null,null,null,null,null,null,null,null,null,null,null,null,null,null,null,null,null,null,null,null,null,null,null,null,null,null,null,null,null,null,null,null,null,null,null,null,null,null,null,null,null,null,null,null,null,null,null,null,null,null,null,null,null,null,null,null,null,null,null,null,null,null,null,null,33,{"$error":"#VALUE!"},{"$error":"#VALUE!"},{"$error":"#VALUE!"},0,0,0,0,0,0,0,0,0]
[36,2036,null,null,null,null,null,null,null,null,null,null,null,null,null,null,null,null,null,null,null,null,null,null,null,null,null,null,null,null,null,null,null,null,null,null,null,null,null,null,null,null,null,null,null,null,null,null,null,null,null,null,null,null,null,null,null,null,null,null,null,null,null,null,null,null,null,null,null,null,null,null,null,null,null,null,null,null,null,null,null,null,null,null,null,null,null,null,null,null,null,null,null,null,null,null,null,null,null,null,null,null,null,null,null,null,null,null,null,null,null,null,null,null,null,null,null,null,null,null,null,null,null,null,null,null,null,null,null,null,null,null,null,null,null,null,null,null,null,null,null,null,null,null,null,null,null,null,null,null,null,null,null,null,null,null,null,null,null,null,null,null,null,null,null,null,null,null,null,null,null,null,null,null,null,null,null,null,null,null,null,null,null,null,null,null,null,null,null,null,null,null,null,null,null,null,null,null,null,null,null,null,null,null,null,null,null,null,null,null,null,null,null,null,null,null,null,null,null,null,null,null,null,null,null,null,null,null,null,null,null,null,null,null,null,null,null,null,null,null,null,null,null,null,null,null,null,null,null,null,null,null,null,null,null,null,null,null,null,null,null,null,null,null,null,null,null,null,null,null,null,null,null,null,null,null,null,null,null,null,null,null,null,null,null,null,null,null,null,null,null,null,null,null,null,null,null,null,null,null,null,null,null,null,null,null,null,null,null,null,null,null,null,null,null,null,null,null,null,null,null,null,null,null,null,null,null,null,null,null,null,null,null,null,null,null,null,null,null,null,null,null,null,null,null,null,null,null,null,null,null,null,null,null,null,null,null,null,null,null,null,null,null,null,null,null,null,null,null,null,null,null,null,null,null,null,null,null,null,null,null,null,null,null,null,null,null,null,null,null,null,null,null,null,null,null,null,null,null,null,null,null,null,null,null,null,null,null,null,null,null,null,null,null,null,null,null,null,null,null,null,null,null,null,null,null,null,null,null,null,null,null,null,null,null,null,null,null,null,null,null,null,null,null,null,null,null,null,null,null,null,null,null,null,null,null,null,null,null,null,null,null,null,null,null,null,null,null,null,null,null,null,null,null,null,null,null,null,null,null,null,null,null,null,null,null,null,null,null,null,null,null,null,null,null,null,null,null,null,null,null,null,null,null,null,null,null,null,null,null,null,null,null,null,null,null,null,null,null,null,null,null,null,null,null,null,null,null,null,null,null,null,null,null,null,null,null,null,null,null,null,null,null,null,null,null,null,null,null,null,null,null,null,null,null,null,null,null,null,null,null,null,null,null,null,null,null,null,null,null,null,null,null,null,null,null,null,null,null,null,null,null,null,null,null,null,null,null,null,null,null,null,null,null,null,null,null,null,null,null,null,null,null,null,null,null,null,null,null,null,null,null,null,null,null,null,null,null,null,null,null,null,null,null,null,null,null,null,null,null,null,null,null,null,null,null,null,null,null,null,null,null,null,null,null,null,null,null,null,null,null,null,null,null,null,null,null,null,null,null,null,null,null,null,null,null,null,null,null,null,null,null,null,null,null,null,null,null,null,null,null,null,null,null,null,null,null,null,null,null,null,null,null,null,null,null,null,null,null,null,null,null,null,null,null,null,null,null,null,null,null,null,null,null,null,null,null,null,null,null,null,null,null,null,null,null,null,null,null,null,null,null,null,null,null,null,null,null,null,null,null,null,null,null,null,null,null,null,null,null,null,null,null,null,null,null,null,null,null,null,null,null,null,null,null,null,null,null,null,null,null,null,null,null,null,null,null,null,null,null,null,null,null,null,null,null,null,null,null,null,null,null,null,null,null,null,null,null,null,null,null,null,null,null,null,null,null,null,null,null,null,null,null,null,null,null,null,null,null,null,null,null,null,null,null,null,null,null,null,null,null,null,null,null,null,null,null,null,null,null,null,null,null,null,null,null,null,null,null,null,null,null,null,null,null,null,null,null,36,{"$error":"#VALUE!"},{"$error":"#VALUE!"},{"$error":"#VALUE!"},0,0,0,0,0,0,0,0,0]
[38,2038,null,null,null,null,null,null,null,null,null,null,null,null,null,null,null,null,null,null,null,null,null,null,null,null,null,null,null,null,null,null,null,null,null,null,null,null,null,null,null,null,null,null,null,null,null,null,null,null,null,null,null,null,null,null,null,null,null,null,null,null,null,null,null,null,null,null,null,null,null,null,null,null,null,null,null,null,null,null,null,null,null,null,null,null,null,null,null,null,null,null,null,null,null,null,null,null,null,null,null,null,null,null,null,null,null,null,null,null,null,null,null,null,null,null,null,null,null,null,null,null,null,null,null,null,null,null,null,null,null,null,null,null,null,null,null,null,null,null,null,null,null,null,null,null,null,null,null,null,null,null,null,null,null,null,null,null,null,null,null,null,null,null,null,null,null,null,null,null,null,null,null,null,null,null,null,null,null,null,null,null,null,null,null,null,null,null,null,null,null,null,null,null,null,null,null,null,null,null,null,null,null,null,null,null,null,null,null,null,null,null,null,null,null,null,null,null,null,null,null,null,null,null,null,null,null,null,null,null,null,null,null,null,null,null,null,null,null,null,null,null,null,null,null,null,null,null,null,null,null,null,null,null,null,null,null,null,null,null,null,null,null,null,null,null,null,null,null,null,null,null,null,null,null,null,null,null,null,null,null,null,null,null,null,null,null,null,null,null,null,null,null,null,null,null,null,null,null,null,null,null,null,null,null,null,null,null,null,null,null,null,null,null,null,null,null,null,null,null,null,null,null,null,null,null,null,null,null,null,null,null,null,null,null,null,null,null,null,null,null,null,null,null,null,null,null,null,null,null,null,null,null,null,null,null,null,null,null,null,null,null,null,null,null,null,null,null,null,null,null,null,null,null,null,null,null,null,null,null,null,null,null,null,null,null,null,null,null,null,null,null,null,null,null,null,null,null,null,null,null,null,null,null,null,null,null,null,null,null,null,null,null,null,null,null,null,null,null,null,null,null,null,null,null,null,null,null,null,null,null,null,null,null,null,null,null,null,null,null,null,null,null,null,null,null,null,null,null,null,null,null,null,null,null,null,null,null,null,null,null,null,null,null,null,null,null,null,null,null,null,null,null,null,null,null,null,null,null,null,null,null,null,null,null,null,null,null,null,null,null,null,null,null,null,null,null,null,null,null,null,null,null,null,null,null,null,null,null,null,null,null,null,null,null,null,null,null,null,null,null,null,null,null,null,null,null,null,null,null,null,null,null,null,null,null,null,null,null,null,null,null,null,null,null,null,null,null,null,null,null,null,null,null,null,null,null,null,null,null,null,null,null,null,null,null,null,null,null,null,null,null,null,null,null,null,null,null,null,null,null,null,null,null,null,null,null,null,null,null,null,null,null,null,null,null,null,null,null,null,null,null,null,null,null,null,null,null,null,null,null,null,null,null,null,null,null,null,null,null,null,null,null,null,null,null,null,null,null,null,null,null,null,null,null,null,null,null,null,null,null,null,null,null,null,null,null,null,null,null,null,null,null,null,null,null,null,null,null,null,null,null,null,null,null,null,null,null,null,null,null,null,null,null,null,null,null,null,null,null,null,null,null,null,null,null,null,null,null,null,null,null,null,null,null,null,null,null,null,null,null,null,null,null,null,null,null,null,null,null,null,null,null,null,null,null,null,null,null,null,null,null,null,null,null,null,null,null,null,null,null,null,null,null,null,null,null,null,null,null,null,null,null,null,null,null,null,null,null,null,null,null,null,null,null,null,null,null,null,null,null,null,null,null,null,null,null,null,null,null,null,null,null,null,null,null,null,null,null,null,null,null,null,null,null,null,null,null,null,null,null,null,null,null,null,null,null,null,null,null,null,null,null,null,null,null,null,null,null,null,null,null,null,null,null,null,null,null,null,null,null,null,null,null,null,null,null,null,null,null,null,null,null,null,null,null,null,null,null,null,null,null,null,null,null,null,null,null,null,null,null,null,null,null,null,null,null,null,38,{"$error":"#VALUE!"},{"$error":"#VALUE!"},{"$error":"#VALUE!"},0,0,0,0,0,0,0,0,0]
[41,2041,null,null,null,null,null,null,null,null,null,null,null,null,null,null,null,null,null,null,null,null,null,null,null,null,null,null,null,null,null,null,null,null,null,null,null,null,null,null,null,null,null,null,null,null,null,null,null,null,null,null,null,null,null,null,null,null,null,null,null,null,null,null,null,null,null,null,null,null,null,null,null,null,null,null,null,null,null,null,null,null,null,null,null,null,null,null,null,null,null,null,null,null,null,null,null,null,null,null,null,null,null,null,null,null,null,null,null,null,null,null,null,null,null,null,null,null,null,null,null,null,null,null,null,null,null,null,null,null,null,null,null,null,null,null,null,null,null,null,null,null,null,null,null,null,null,null,null,null,null,null,null,null,null,null,null,null,null,null,null,null,null,null,null,null,null,null,null,null,null,null,null,null,null,null,null,null,null,null,null,null,null,null,null,null,null,null,null,null,null,null,null,null,null,null,null,null,null,null,null,null,null,null,null,null,null,null,null,null,null,null,null,null,null,null,null,null,null,null,null,null,null,null,null,null,null,null,null,null,null,null,null,null,null,null,null,null,null,null,null,null,null,null,null,null,null,null,null,null,null,null,null,null,null,null,null,null,null,null,null,null,null,null,null,null,null,null,null,null,null,null,null,null,null,null,null,null,null,null,null,null,null,null,null,null,null,null,null,null,null,null,null,null,null,null,null,null,null,null,null,null,null,null,null,null,null,null,null,null,null,null,null,null,null,null,null,null,null,null,null,null,null,null,null,null,null,null,null,null,null,null,null,null,null,null,null,null,null,null,null,null,null,null,null,null,null,null,null,null,null,null,null,null,null,null,null,null,null,null,null,null,null,null,null,null,null,null,null,null,null,null,null,null,null,null,null,null,null,null,null,null,null,null,null,null,null,null,null,null,null,null,null,null,null,null,null,null,null,null,null,null,null,null,null,null,null,null,null,null,null,null,null,null,null,null,null,null,null,null,null,null,null,null,null,null,null,null,null,null,null,null,null,null,null,null,null,null,null,null,null,null,null,null,null,null,null,null,null,null,null,null,null,null,null,null,null,null,null,null,null,null,null,null,null,null,null,null,null,null,null,null,null,null,null,null,null,null,null,null,null,null,null,null,null,null,null,null,null,null,null,null,null,null,null,null,null,null,null,null,null,null,null,null,null,null,null,null,null,null,null,null,null,null,null,null,null,null,null,null,null,null,null,null,null,null,null,null,null,null,null,null,null,null,null,null,null,null,null,null,null,null,null,null,null,null,null,null,null,null,null,null,null,null,null,null,null,null,null,null,null,null,null,null,null,null,null,null,null,null,null,null,null,null,null,null,null,null,null,null,null,null,null,null,null,null,null,null,null,null,null,null,null,null,null,null,null,null,null,null,null,null,null,null,null,null,null,null,null,null,null,null,null,null,null,null,null,null,null,null,null,null,null,null,null,null,null,null,null,null,null,null,null,null,null,null,null,null,null,null,null,null,null,null,null,null,null,null,null,null,null,null,null,null,null,null,null,null,null,null,null,null,null,null,null,null,null,null,null,null,null,null,null,null,null,null,null,null,null,null,null,null,null,null,null,null,null,null,null,null,null,null,null,null,null,null,null,null,null,null,null,null,null,null,null,null,null,null,null,null,null,null,null,null,null,null,null,null,null,null,null,null,null,null,null,null,null,null,null,null,null,null,null,null,null,null,null,null,null,null,null,null,null,null,null,null,null,null,null,null,null,null,null,null,null,null,null,null,null,null,null,null,null,null,null,null,null,null,null,null,null,null,null,null,null,null,null,null,null,null,null,null,null,null,null,null,null,null,null,null,null,null,null,null,null,null,null,null,null,null,null,null,null,null,null,null,null,null,null,null,null,null,null,null,null,null,null,null,null,null,null,null,null,null,null,null,null,null,null,null,null,null,null,null,null,null,null,null,null,null,null,null,null,null,null,null,null,null,null,null,null,null,null,null,null,null,null,null,41,{"$error":"#VALUE!"},{"$error":"#VALUE!"},{"$error":"#VALUE!"},0,0,0,0,0,0,0,0,0]
[43,2043,null,null,null,null,null,null,null,null,null,null,null,null,null,null,null,null,null,null,null,null,null,null,null,null,null,null,null,null,null,null,null,null,null,null,null,null,null,null,null,null,null,null,null,null,null,null,null,null,null,null,null,null,null,null,null,null,null,null,null,null,null,null,null,null,null,null,null,null,null,null,null,null,null,null,null,null,null,null,null,null,null,null,null,null,null,null,null,null,null,null,null,null,null,null,null,null,null,null,null,null,null,null,null,null,null,null,null,null,null,null,null,null,null,null,null,null,null,null,null,null,null,null,null,null,null,null,null,null,null,null,null,null,null,null,null,null,null,null,null,null,null,null,null,null,null,null,null,null,null,null,null,null,null,null,null,null,null,null,null,null,null,null,null,null,null,null,null,null,null,null,null,null,null,null,null,null,null,null,null,null,null,null,null,null,null,null,null,null,null,null,null,null,null,null,null,null,null,null,null,null,null,null,null,null,null,null,null,null,null,null,null,null,null,null,null,null,null,null,null,null,null,null,null,null,null,null,null,null,null,null,null,null,null,null,null,null,null,null,null,null,null,null,null,null,null,null,null,null,null,null,null,null,null,null,null,null,null,null,null,null,null,null,null,null,null,null,null,null,null,null,null,null,null,null,null,null,null,null,null,null,null,null,null,null,null,null,null,null,null,null,null,null,null,null,null,null,null,null,null,null,null,null,null,null,null,null,null,null,null,null,null,null,null,null,null,null,null,null,null,null,null,null,null,null,null,null,null,null,null,null,null,null,null,null,null,null,null,null,null,null,null,null,null,null,null,null,null,null,null,null,null,null,null,null,null,null,null,null,null,null,null,null,null,null,null,null,null,null,null,null,null,null,null,null,null,null,null,null,null,null,null,null,null,null,null,null,null,null,null,null,null,null,null,null,null,null,null,null,null,null,null,null,null,null,null,null,null,null,null,null,null,null,null,null,null,null,null,null,null,null,null,null,null,null,null,null,null,null,null,null,null,null,null,null,null,null,null,null,null,null,null,null,null,null,null,null,null,null,null,null,null,null,null,null,null,null,null,null,null,null,null,null,null,null,null,null,null,null,null,null,null,null,null,null,null,null,null,null,null,null,null,null,null,null,null,null,null,null,null,null,null,null,null,null,null,null,null,null,null,null,null,null,null,null,null,null,null,null,null,null,null,null,null,null,null,null,null,null,null,null,null,null,null,null,null,null,null,null,null,null,null,null,null,null,null,null,null,null,null,null,null,null,null,null,null,null,null,null,null,null,null,null,null,null,null,null,null,null,null,null,null,null,null,null,null,null,null,null,null,null,null,null,null,null,null,null,null,null,null,null,null,null,null,null,null,null,null,null,null,null,null,null,null,null,null,null,null,null,null,null,null,null,null,null,null,null,null,null,null,null,null,null,null,null,null,null,null,null,null,null,null,null,null,null,null,null,null,null,null,null,null,null,null,null,null,null,null,null,null,null,null,null,null,null,null,null,null,null,null,null,null,null,null,null,null,null,null,null,null,null,null,null,null,null,null,null,null,null,null,null,null,null,null,null,null,null,null,null,null,null,null,null,null,null,null,null,null,null,null,null,null,null,null,null,null,null,null,null,null,null,null,null,null,null,null,null,null,null,null,null,null,null,null,null,null,null,null,null,null,null,null,null,null,null,null,null,null,null,null,null,null,null,null,null,null,null,null,null,null,null,null,null,null,null,null,null,null,null,null,null,null,null,null,null,null,null,null,null,null,null,null,null,null,null,null,null,null,null,null,null,null,null,null,null,null,null,null,null,null,null,null,null,null,null,null,null,null,null,null,null,null,null,null,null,null,null,null,null,null,null,null,null,null,null,null,null,null,null,null,null,null,null,null,null,null,null,null,null,null,null,null,null,null,null,null,null,null,null,null,null,null,null,null,null,null,null,null,null,null,null,null,null,null,null,null,null,null,null,null,null,null,null,null,null,null,null,43,{"$error":"#VALUE!"},{"$error":"#VALUE!"},{"$error":"#VALUE!"},0,0,0,0,0,0,0,0,0]
[47,2047,null,null,null,null,null,null,null,null,null,null,null,null,null,null,null,null,null,null,null,null,null,null,null,null,null,null,null,null,null,null,null,null,null,null,null,null,null,null,null,null,null,null,null,null,null,null,null,null,null,null,null,null,null,null,null,null,null,null,null,null,null,null,null,null,null,null,null,null,null,null,null,null,null,null,null,null,null,null,null,null,null,null,null,null,null,null,null,null,null,null,null,null,null,null,null,null,null,null,null,null,null,null,null,null,null,null,null,null,null,null,null,null,null,null,null,null,null,null,null,null,null,null,null,null,null,null,null,null,null,null,null,null,null,null,null,null,null,null,null,null,null,null,null,null,null,null,null,null,null,null,null,null,null,null,null,null,null,null,null,null,null,null,null,null,null,null,null,null,null,null,null,null,null,null,null,null,null,null,null,null,null,null,null,null,null,null,null,null,null,null,null,null,null,null,null,null,null,null,null,null,null,null,null,null,null,null,null,null,null,null,null,null,null,null,null,null,null,null,null,null,null,null,null,null,null,null,null,null,null,null,null,null,null,null,null,null,null,null,null,null,null,null,null,null,null,null,null,null,null,null,null,null,null,null,null,null,null,null,null,null,null,null,null,null,null,null,null,null,null,null,null,null,null,null,null,null,null,null,null,null,null,null,null,null,null,null,null,null,null,null,null,null,null,null,null,null,null,null,null,null,null,null,null,null,null,null,null,null,null,null,null,null,null,null,null,null,null,null,null,null,null,null,null,null,null,null,null,null,null,null,null,null,null,null,null,null,null,null,null,null,null,null,null,null,null,null,null,null,null,null,null,null,null,null,null,null,null,null,null,null,null,null,null,null,null,null,null,null,null,null,null,null,null,null,null,null,null,null,null,null,null,null,null,null,null,null,null,null,null,null,null,null,null,null,null,null,null,null,null,null,null,null,null,null,null,null,null,null,null,null,null,null,null,null,null,null,null,null,null,null,null,null,null,null,null,null,null,null,null,null,null,null,null,null,null,null,null,null,null,null,null,null,null,null,null,null,null,null,null,null,null,null,null,null,null,null,null,null,null,null,null,null,null,null,null,null,null,null,null,null,null,null,null,null,null,null,null,null,null,null,null,null,null,null,null,null,null,null,null,null,null,null,null,null,null,null,null,null,null,null,null,null,null,null,null,null,null,null,null,null,null,null,null,null,null,null,null,null,null,null,null,null,null,null,null,null,null,null,null,null,null,null,null,null,null,null,null,null,null,null,null,null,null,null,null,null,null,null,null,null,null,null,null,null,null,null,null,null,null,null,null,null,null,null,null,null,null,null,null,null,null,null,null,null,null,null,null,null,null,null,null,null,null,null,null,null,null,null,null,null,null,null,null,null,null,null,null,null,null,null,null,null,null,null,null,null,null,null,null,null,null,null,null,null,null,null,null,null,null,null,null,null,null,null,null,null,null,null,null,null,null,null,null,null,null,null,null,null,null,null,null,null,null,null,null,null,null,null,null,null,null,null,null,null,null,null,null,null,null,null,null,null,null,null,null,null,null,null,null,null,null,null,null,null,null,null,null,null,null,null,null,null,null,null,null,null,null,null,null,null,null,null,null,null,null,null,null,null,null,null,null,null,null,null,null,null,null,null,null,null,null,null,null,null,null,null,null,null,null,null,null,null,null,null,null,null,null,null,null,null,null,null,null,null,null,null,null,null,null,null,null,null,null,null,null,null,null,null,null,null,null,null,null,null,null,null,null,null,null,null,null,null,null,null,null,null,null,null,null,null,null,null,null,null,null,null,null,null,null,null,null,null,null,null,null,null,null,null,null,null,null,null,null,null,null,null,null,null,null,null,null,null,null,null,null,null,null,null,null,null,null,null,null,null,null,null,null,null,null,null,null,null,null,null,null,null,null,null,null,null,null,null,null,null,null,null,null,null,null,null,null,null,null,null,null,null,null,null,null,null,null,null,null,null,null,null,47,{"$error":"#VALUE!"},{"$error":"#VALUE!"},{"$error":"#VALUE!"},0,0,0,0,0,0,0,0,0]
[50,2050,null,null,null,null,null,null,null,null,null,null,null,null,null,null,null,null,null,null,null,null,null,null,null,null,null,null,null,null,null,null,null,null,null,null,null,null,null,null,null,null,null,null,null,null,null,null,null,null,null,null,null,null,null,null,null,null,null,null,null,null,null,null,null,null,null,null,null,null,null,null,null,null,null,null,null,null,null,null,null,null,null,null,null,null,null,null,null,null,null,null,null,null,null,null,null,null,null,null,null,null,null,null,null,null,null,null,null,null,null,null,null,null,null,null,null,null,null,null,null,null,null,null,null,null,null,null,null,null,null,null,null,null,null,null,null,null,null,null,null,null,null,null,null,null,null,null,null,null,null,null,null,null,null,null,null,null,null,null,null,null,null,null,null,null,null,null,null,null,null,null,null,null,null,null,null,null,null,null,null,null,null,null,null,null,null,null,null,null,null,null,null,null,null,null,null,null,null,null,null,null,null,null,null,null,null,null,null,null,null,null,null,null,null,null,null,null,null,null,null,null,null,null,null,null,null,null,null,null,null,null,null,null,null,null,null,null,null,null,null,null,null,null,null,null,null,null,null,null,null,null,null,null,null,null,null,null,null,null,null,null,null,null,null,null,null,null,null,null,null,null,null,null,null,null,null,null,null,null,null,null,null,null,null,null,null,null,null,null,null,null,null,null,null,null,null,null,null,null,null,null,null,null,null,null,null,null,null,null,null,null,null,null,null,null,null,null,null,null,null,null,null,null,null,null,null,null,null,null,null,null,null,null,null,null,null,null,null,null,null,null,null,null,null,null,null,null,null,null,null,null,null,null,null,null,null,null,null,null,null,null,null,null,null,null,null,null,null,null,null,null,null,null,null,null,null,null,null,null,null,null,null,null,null,null,null,null,null,null,null,null,null,null,null,null,null,null,null,null,null,null,null,null,null,null,null,null,null,null,null,null,null,null,null,null,null,null,null,null,null,null,null,null,null,null,null,null,null,null,null,null,null,null,null,null,null,null,null,null,null,null,null,null,null,null,null,null,null,null,null,null,null,null,null,null,null,null,null,null,null,null,null,null,null,null,null,null,null,null,null,null,null,null,null,null,null,null,null,null,null,null,null,null,null,null,null,null,null,null,null,null,null,null,null,null,null,null,null,null,null,null,null,null,null,null,null,null,null,null,null,null,null,null,null,null,null,null,null,null,null,null,null,null,null,null,null,null,null,null,null,null,null,null,null,null,null,null,null,null,null,null,null,null,null,null,null,null,null,null,null,null,null,null,null,null,null,null,null,null,null,null,null,null,null,null,null,null,null,null,null,null,null,null,null,null,null,null,null,null,null,null,null,null,null,null,null,null,null,null,null,null,null,null,null,null,null,null,null,null,null,null,null,null,null,null,null,null,null,null,null,null,null,null,null,null,null,null,null,null,null,null,null,null,null,null,null,null,null,null,null,null,null,null,null,null,null,null,null,null,null,null,null,null,null,null,null,null,null,null,null,null,null,null,null,null,null,null,null,null,null,null,null,null,null,null,null,null,null,null,null,null,null,null,null,null,null,null,null,null,null,null,null,null,null,null,null,null,null,null,null,null,null,null,null,null,null,null,null,null,null,null,null,null,null,null,null,null,null,null,null,null,null,null,null,null,null,null,null,null,null,null,null,null,null,null,null,null,null,null,null,null,null,null,null,null,null,null,null,null,null,null,null,null,null,null,null,null,null,null,null,null,null,null,null,null,null,null,null,null,null,null,null,null,null,null,null,null,null,null,null,null,null,null,null,null,null,null,null,null,null,null,null,null,null,null,null,null,null,null,null,null,null,null,null,null,null,null,null,null,null,null,null,null,null,null,null,null,null,null,null,null,null,null,null,null,null,null,null,null,null,null,null,null,null,null,null,null,null,null,null,null,null,null,null,null,null,null,null,null,null,null,null,null,null,null,null,null,null,null,null,null,null,null,null,null,null,null,50,{"$error":"#VALUE!"},{"$error":"#VALUE!"},{"$error":"#VALUE!"},0,0,0,0,0,0,0,0,0]
[52,2052,null,null,null,null,null,null,null,null,null,null,null,null,null,null,null,null,null,null,null,null,null,null,null,null,null,null,null,null,null,null,null,null,null,null,null,null,null,null,null,null,null,null,null,null,null,null,null,null,null,null,null,null,null,null,null,null,null,null,null,null,null,null,null,null,null,null,null,null,null,null,null,null,null,null,null,null,null,null,null,null,null,null,null,null,null,null,null,null,null,null,null,null,null,null,null,null,null,null,null,null,null,null,null,null,null,null,null,null,null,null,null,null,null,null,null,null,null,null,null,null,null,null,null,null,null,null,null,null,null,null,null,null,null,null,null,null,null,null,null,null,null,null,null,null,null,null,null,null,null,null,null,null,null,null,null,null,null,null,null,null,null,null,null,null,null,null,null,null,null,null,null,null,null,null,null,null,null,null,null,null,null,null,null,null,null,null,null,null,null,null,null,null,null,null,null,null,null,null,null,null,null,null,null,null,null,null,null,null,null,null,null,null,null,null,null,null,null,null,null,null,null,null,null,null,null,null,null,null,null,null,null,null,null,null,null,null,null,null,null,null,null,null,null,null,null,null,null,null,null,null,null,null,null,null,null,null,null,null,null,null,null,null,null,null,null,null,null,null,null,null,null,null,null,null,null,null,null,null,null,null,null,null,null,null,null,null,null,null,null,null,null,null,null,null,null,null,null,null,null,null,null,null,null,null,null,null,null,null,null,null,null,null,null,null,null,null,null,null,null,null,null,null,null,null,null,null,null,null,null,null,null,null,null,null,null,null,null,null,null,null,null,null,null,null,null,null,null,null,null,null,null,null,null,null,null,null,null,null,null,null,null,null,null,null,null,null,null,null,null,null,null,null,null,null,null,null,null,null,null,null,null,null,null,null,null,null,null,null,null,null,null,null,null,null,null,null,null,null,null,null,null,null,null,null,null,null,null,null,null,null,null,null,null,null,null,null,null,null,null,null,null,null,null,null,null,null,null,null,null,null,null,null,null,null,null,null,null,null,null,null,null,null,null,null,null,null,null,null,null,null,null,null,null,null,null,null,null,null,null,null,null,null,null,null,null,null,null,null,null,null,null,null,null,null,null,null,null,null,null,null,null,null,null,null,null,null,null,null,null,null,null,null,null,null,null,null,null,null,null,null,null,null,null,null,null,null,null,null,null,null,null,null,null,null,null,null,null,null,null,null,null,null,null,null,null,null,null,null,null,null,null,null,null,null,null,null,null,null,null,null,null,null,null,null,null,null,null,null,null,null,null,null,null,null,null,null,null,null,null,null,null,null,null,null,null,null,null,null,null,null,null,null,null,null,null,null,null,null,null,null,null,null,null,null,null,null,null,null,null,null,null,null,null,null,null,null,null,null,null,null,null,null,null,null,null,null,null,null,null,null,null,null,null,null,null,null,null,null,null,null,null,null,null,null,null,null,null,null,null,null,null,null,null,null,null,null,null,null,null,null,null,null,null,null,null,null,null,null,null,null,null,null,null,null,null,null,null,null,null,null,null,null,null,null,null,null,null,null,null,null,null,null,null,null,null,null,null,null,null,null,null,null,null,null,null,null,null,null,null,null,null,null,null,null,null,null,null,null,null,null,null,null,null,null,null,null,null,null,null,null,null,null,null,null,null,null,null,null,null,null,null,null,null,null,null,null,null,null,null,null,null,null,null,null,null,null,null,null,null,null,null,null,null,null,null,null,null,null,null,null,null,null,null,null,null,null,null,null,null,null,null,null,null,null,null,null,null,null,null,null,null,null,null,null,null,null,null,null,null,null,null,null,null,null,null,null,null,null,null,null,null,null,null,null,null,null,null,null,null,null,null,null,null,null,null,null,null,null,null,null,null,null,null,null,null,null,null,null,null,null,null,null,null,null,null,null,null,null,null,null,null,null,null,null,null,null,null,null,null,null,null,null,null,null,null,null,null,null,null,null,null,null,null,null,null,null,52,{"$error":"#VALUE!"},{"$error":"#VALUE!"},{"$error":"#VALUE!"},0,0,0,0,0,0,0,0,0]
[53,2053,null,null,null,null,null,null,null,null,null,null,null,null,null,null,null,null,null,null,null,null,null,null,null,null,null,null,null,null,null,null,null,null,null,null,null,null,null,null,null,null,null,null,null,null,null,null,null,null,null,null,null,null,null,null,null,null,null,null,null,null,null,null,null,null,null,null,null,null,null,null,null,null,null,null,null,null,null,null,null,null,null,null,null,null,null,null,null,null,null,null,null,null,null,null,null,null,null,null,null,null,null,null,null,null,null,null,null,null,null,null,null,null,null,null,null,null,null,null,null,null,null,null,null,null,null,null,null,null,null,null,null,null,null,null,null,null,null,null,null,null,null,null,null,null,null,null,null,null,null,null,null,null,null,null,null,null,null,null,null,null,null,null,null,null,null,null,null,null,null,null,null,null,null,null,null,null,null,null,null,null,null,null,null,null,null,null,null,null,null,null,null,null,null,null,null,null,null,null,null,null,null,null,null,null,null,null,null,null,null,null,null,null,null,null,null,null,null,null,null,null,null,null,null,null,null,null,null,null,null,null,null,null,null,null,null,null,null,null,null,null,null,null,null,null,null,null,null,null,null,null,null,null,null,null,null,null,null,null,null,null,null,null,null,null,null,null,null,null,null,null,null,null,null,null,null,null,null,null,null,null,null,null,null,null,null,null,null,null,null,null,null,null,null,null,null,null,null,null,null,null,null,null,null,null,null,null,null,null,null,null,null,null,null,null,null,null,null,null,null,null,null,null,null,null,null,null,null,null,null,null,null,null,null,null,null,null,null,null,null,null,null,null,null,null,null,null,null,null,null,null,null,null,null,null,null,null,null,null,null,null,null,null,null,null,null,null,null,null,null,null,null,null,null,null,null,null,null,null,null,null,null,null,null,null,null,null,null,null,null,null,null,null,null,null,null,null,null,null,null,null,null,null,null,null,null,null,null,null,null,null,null,null,null,null,null,null,null,null,null,null,null,null,null,null,null,null,null,null,null,null,null,null,null,null,null,null,null,null,null,null,null,null,null,null,null,null,null,null,null,null,null,null,null,null,null,null,null,null,null,null,null,null,null,null,null,null,null,null,null,null,null,null,null,null,null,null,null,null,null,null,null,null,null,null,null,null,null,null,null,null,null,null,null,null,null,null,null,null,null,null,null,null,null,null,null,null,null,null,null,null,null,null,null,null,null,null,null,null,null,null,null,null,null,null,null,null,null,null,null,null,null,null,null,null,null,null,null,null,null,null,null,null,null,null,null,null,null,null,null,null,null,null,null,null,null,null,null,null,null,null,null,null,null,null,null,null,null,null,null,null,null,null,null,null,null,null,null,null,null,null,null,null,null,null,null,null,null,null,null,null,null,null,null,null,null,null,null,null,null,null,null,null,null,null,null,null,null,null,null,null,null,null,null,null,null,null,null,null,null,null,null,null,null,null,null,null,null,null,null,null,null,null,null,null,null,null,null,null,null,null,null,null,null,null,null,null,null,null,null,null,null,null,null,null,null,null,null,null,null,null,null,null,null,null,null,null,null,null,null,null,null,null,null,null,null,null,null,null,null,null,null,null,null,null,null,null,null,null,null,null,null,null,null,null,null,null,null,null,null,null,null,null,null,null,null,null,null,null,null,null,null,null,null,null,null,null,null,null,null,null,null,null,null,null,null,null,null,null,null,null,null,null,null,null,null,null,null,null,null,null,null,null,null,null,null,null,null,null,null,null,null,null,null,null,null,null,null,null,null,null,null,null,null,null,null,null,null,null,null,null,null,null,null,null,null,null,null,null,null,null,null,null,null,null,null,null,null,null,null,null,null,null,null,null,null,null,null,null,null,null,null,null,null,null,null,null,null,null,null,null,null,null,null,null,null,null,null,null,null,null,null,null,null,null,null,null,null,null,null,null,null,null,null,null,null,null,null,null,null,null,null,null,null,null,null,null,null,null,null,null,null,null,null,null,null,null,53,{"$error":"#VALUE!"},{"$error":"#VALUE!"},{"$error":"#VALUE!"},0,0,0,0,0,0,0,0,0]
[57,2057,null,null,null,null,null,null,null,null,null,null,null,null,null,null,null,null,null,null,null,null,null,null,null,null,null,null,null,null,null,null,null,null,null,null,null,null,null,null,null,null,null,null,null,null,null,null,null,null,null,null,null,null,null,null,null,null,null,null,null,null,null,null,null,null,null,null,null,null,null,null,null,null,null,null,null,null,null,null,null,null,null,null,null,null,null,null,null,null,null,null,null,null,null,null,null,null,null,null,null,null,null,null,null,null,null,null,null,null,null,null,null,null,null,null,null,null,null,null,null,null,null,null,null,null,null,null,null,null,null,null,null,null,null,null,null,null,null,null,null,null,null,null,null,null,null,null,null,null,null,null,null,null,null,null,null,null,null,null,null,null,null,null,null,null,null,null,null,null,null,null,null,null,null,null,null,null,null,null,null,null,null,null,null,null,null,null,null,null,null,null,null,null,null,null,null,null,null,null,null,null,null,null,null,null,null,null,null,null,null,null,null,null,null,null,null,null,null,null,null,null,null,null,null,null,null,null,null,null,null,null,null,null,null,null,null,null,null,null,null,null,null,null,null,null,null,null,null,null,null,null,null,null,null,null,null,null,null,null,null,null,null,null,null,null,null,null,null,null,null,null,null,null,null,null,null,null,null,null,null,null,null,null,null,null,null,null,null,null,null,null,null,null,null,null,null,null,null,null,null,null,null,null,null,null,null,null,null,null,null,null,null,null,null,null,null,null,null,null,null,null,null,null,null,null,null,null,null,null,null,null,null,null,null,null,null,null,null,null,null,null,null,null,null,null,null,null,null,null,null,null,null,null,null,null,null,null,null,null,null,null,null,null,null,null,null,null,null,null,null,null,null,null,null,null,null,null,null,null,null,null,null,null,null,null,null,null,null,null,null,null,null,null,null,null,null,null,null,null,null,null,null,null,null,null,null,null,null,null,null,null,null,null,null,null,null,null,null,null,null,null,null,null,null,null,null,null,null,null,null,null,null,null,null,null,null,null,null,null,null,null,null,null,null,null,null,null,null,null,null,null,null,null,null,null,null,null,null,null,null,null,null,null,null,null,null,null,null,null,null,null,null,null,null,null,null,null,null,null,null,null,null,null,null,null,null,null,null,null,null,null,null,null,null,null,null,null,null,null,null,null,null,null,null,null,null,null,null,null,null,null,null,null,null,null,null,null,null,null,null,null,null,null,null,null,null,null,null,null,null,null,null,null,null,null,null,null,null,null,null,null,null,null,null,null,null,null,null,null,null,null,null,null,null,null,null,null,null,null,null,null,null,null,null,null,null,null,null,null,null,null,null,null,null,null,null,null,null,null,null,null,null,null,null,null,null,null,null,null,null,null,null,null,null,null,null,null,null,null,null,null,null,null,null,null,null,null,null,null,null,null,null,null,null,null,null,null,null,null,null,null,null,null,null,null,null,null,null,null,null,null,null,null,null,null,null,null,null,null,null,null,null,null,null,null,null,null,null,null,null,null,null,null,null,null,null,null,null,null,null,null,null,null,null,null,null,null,null,null,null,null,null,null,null,null,null,null,null,null,null,null,null,null,null,null,null,null,null,null,null,null,null,null,null,null,null,null,null,null,null,null,null,null,null,null,null,null,null,null,null,null,null,null,null,null,null,null,null,null,null,null,null,null,null,null,null,null,null,null,null,null,null,null,null,null,null,null,null,null,null,null,null,null,null,null,null,null,null,null,null,null,null,null,null,null,null,null,null,null,null,null,null,null,null,null,null,null,null,null,null,null,null,null,null,null,null,null,null,null,null,null,null,null,null,null,null,null,null,null,null,null,null,null,null,null,null,null,null,null,null,null,null,null,null,null,null,null,null,null,null,null,null,null,null,null,null,null,null,null,null,null,null,null,null,null,null,null,null,null,null,null,null,null,null,null,null,null,null,null,null,null,null,null,null,null,null,null,null,null,null,null,null,null,null,null,null,null,57,{"$error":"#VALUE!"},{"$error":"#VALUE!"},{"$error":"#VALUE!"},0,0,0,0,0,0,0,0,0]
[59,2059,null,null,null,null,null,null,null,null,null,null,null,null,null,null,null,null,null,null,null,null,null,null,null,null,null,null,null,null,null,null,null,null,null,null,null,null,null,null,null,null,null,null,null,null,null,null,null,null,null,null,null,null,null,null,null,null,null,null,null,null,null,null,null,null,null,null,null,null,null,null,null,null,null,null,null,null,null,null,null,null,null,null,null,null,null,null,null,null,null,null,null,null,null,null,null,null,null,null,null,null,null,null,null,null,null,null,null,null,null,null,null,null,null,null,null,null,null,null,null,null,null,null,null,null,null,null,null,null,null,null,null,null,null,null,null,null,null,null,null,null,null,null,null,null,null,null,null,null,null,null,null,null,null,null,null,null,null,null,null,null,null,null,null,null,null,null,null,null,null,null,null,null,null,null,null,null,null,null,null,null,null,null,null,null,null,null,null,null,null,null,null,null,null,null,null,null,null,null,null,null,null,null,null,null,null,null,null,null,null,null,null,null,null,null,null,null,null,null,null,null,null,null,null,null,null,null,null,null,null,null,null,null,null,null,null,null,null,null,null,null,null,null,null,null,null,null,null,null,null,null,null,null,null,null,null,null,null,null,null,null,null,null,null,null,null,null,null,null,null,null,null,null,null,null,null,null,null,null,null,null,null,null,null,null,null,null,null,null,null,null,null,null,null,null,null,null,null,null,null,null,null,null,null,null,null,null,null,null,null,null,null,null,null,null,null,null,null,null,null,null,null,null,null,null,null,null,null,null,null,null,null,null,null,null,null,null,null,null,null,null,null,null,null,null,null,null,null,null,null,null,null,null,null,null,null,null,null,null,null,null,null,null,null,null,null,null,null,null,null,null,null,null,null,null,null,null,null,null,null,null,null,null,null,null,null,null,null,null,null,null,null,null,null,null,null,null,null,null,null,null,null,null,null,null,null,null,null,null,null,null,null,null,null,null,null,null,null,null,null,null,null,null,null,null,null,null,null,null,null,null,null,null,null,null,null,null,null,null,null,null,null,null,null,null,null,null,null,null,null,null,null,null,null,null,null,null,null,null,null,null,null,null,null,null,null,null,null,null,null,null,null,null,null,null,null,null,null,null,null,null,null,null,null,null,null,null,null,null,null,null,null,null,null,null,null,null,null,null,null,null,null,null,null,null,null,null,null,null,null,null,null,null,null,null,null,null,null,null,null,null,null,null,null,null,null,null,null,null,null,null,null,null,null,null,null,null,null,null,null,null,null,null,null,null,null,null,null,null,null,null,null,null,null,null,null,null,null,null,null,null,null,null,null,null,null,null,null,null,null,null,null,null,null,null,null,null,null,null,null,null,null,null,null,null,null,null,null,null,null,null,null,null,null,null,null,null,null,null,null,null,null,null,null,null,null,null,null,null,null,null,null,null,null,null,null,null,null,null,null,null,null,null,null,null,null,null,null,null,null,null,null,null,null,null,null,null,null,null,null,null,null,null,null,null,null,null,null,null,null,null,null,null,null,null,null,null,null,null,null,null,null,null,null,null,null,null,null,null,null,null,null,null,null,null,null,null,null,null,null,null,null,null,null,null,null,null,null,null,null,null,null,null,null,null,null,null,null,null,null,null,null,null,null,null,null,null,null,null,null,null,null,null,null,null,null,null,null,null,null,null,null,null,null,null,null,null,null,null,null,null,null,null,null,null,null,null,null,null,null,null,null,null,null,null,null,null,null,null,null,null,null,null,null,null,null,null,null,null,null,null,null,null,null,null,null,null,null,null,null,null,null,null,null,null,null,null,null,null,null,null,null,null,null,null,null,null,null,null,null,null,null,null,null,null,null,null,null,null,null,null,null,null,null,null,null,null,null,null,null,null,null,null,null,null,null,null,null,null,null,null,null,null,null,null,null,null,null,null,null,null,null,null,null,null,null,null,null,null,null,null,null,null,null,null,null,null,null,null,null,null,null,null,null,null,null,null,59,{"$error":"#VALUE!"},{"$error":"#VALUE!"},{"$error":"#VALUE!"},0,0,0,0,0,0,0,0,0]
[62,2062,null,null,null,null,null,null,null,null,null,null,null,null,null,null,null,null,null,null,null,null,null,null,null,null,null,null,null,null,null,null,null,null,null,null,null,null,null,null,null,null,null,null,null,null,null,null,null,null,null,null,null,null,null,null,null,null,null,null,null,null,null,null,null,null,null,null,null,null,null,null,null,null,null,null,null,null,null,null,null,null,null,null,null,null,null,null,null,null,null,null,null,null,null,null,null,null,null,null,null,null,null,null,null,null,null,null,null,null,null,null,null,null,null,null,null,null,null,null,null,null,null,null,null,null,null,null,null,null,null,null,null,null,null,null,null,null,null,null,null,null,null,null,null,null,null,null,null,null,null,null,null,null,null,null,null,null,null,null,null,null,null,null,null,null,null,null,null,null,null,null,null,null,null,null,null,null,null,null,null,null,null,null,null,null,null,null,null,null,null,null,null,null,null,null,null,null,null,null,null,null,null,null,null,null,null,null,null,null,null,null,null,null,null,null,null,null,null,null,null,null,null,null,null,null,null,null,null,null,null,null,null,null,null,null,null,null,null,null,null,null,null,null,null,null,null,null,null,null,null,null,null,null,null,null,null,null,null,null,null,null,null,null,null,null,null,null,null,null,null,null,null,null,null,null,null,null,null,null,null,null,null,null,null,null,null,null,null,null,null,null,null,null,null,null,null,null,null,null,null,null,null,null,null,null,null,null,null,null,null,null,null,null,null,null,null,null,null,null,null,null,null,null,null,null,null,null,null,null,null,null,null,null,null,null,null,null,null,null,null,null,null,null,null,null,null,null,null,null,null,null,null,null,null,null,null,null,null,null,null,null,null,null,null,null,null,null,null,null,null,null,null,null,null,null,null,null,null,null,null,null,null,null,null,null,null,null,null,null,null,null,null,null,null,null,null,null,null,null,null,null,null,null,null,null,null,null,null,null,null,null,null,null,null,null,null,null,null,null,null,null,null,null,null,null,null,null,null,null,null,null,null,null,null,null,null,null,null,null,null,null,null,null,null,null,null,null,null,null,null,null,null,null,null,null,null,null,null,null,null,null,null,null,null,null,null,null,null,null,null,null,null,null,null,null,null,null,null,null,null,null,null,null,null,null,null,null,null,null,null,null,null,null,null,null,null,null,null,null,null,null,null,null,null,null,null,null,null,null,null,null,null,null,null,null,null,null,null,null,null,null,null,null,null,null,null,null,null,null,null,null,null,null,null,null,null,null,null,null,null,null,null,null,null,null,null,null,null,null,null,null,null,null,null,null,null,null,null,null,null,null,null,null,null,null,null,null,null,null,null,null,null,null,null,null,null,null,null,null,null,null,null,null,null,null,null,null,null,null,null,null,null,null,null,null,null,null,null,null,null,null,null,null,null,null,null,null,null,null,null,null,null,null,null,null,null,null,null,null,null,null,null,null,null,null,null,null,null,null,null,null,null,null,null,null,null,null,null,null,null,null,null,null,null,null,null,null,null,null,null,null,null,null,null,null,null,null,null,null,null,null,null,null,null,null,null,null,null,null,null,null,null,null,null,null,null,null,null,null,null,null,null,null,null,null,null,null,null,null,null,null,null,null,null,null,null,null,null,null,null,null,null,null,null,null,null,null,null,null,null,null,null,null,null,null,null,null,null,null,null,null,null,null,null,null,null,null,null,null,null,null,null,null,null,null,null,null,null,null,null,null,null,null,null,null,null,null,null,null,null,null,null,null,null,null,null,null,null,null,null,null,null,null,null,null,null,null,null,null,null,null,null,null,null,null,null,null,null,null,null,null,null,null,null,null,null,null,null,null,null,null,null,null,null,null,null,null,null,null,null,null,null,null,null,null,null,null,null,null,null,null,null,null,null,null,null,null,null,null,null,null,null,null,null,null,null,null,null,null,null,null,null,null,null,null,null,null,null,null,null,null,null,null,null,null,null,null,null,null,null,null,null,null,null,null,null,null,62,{"$error":"#VALUE!"},{"$error":"#VALUE!"},{"$error":"#VALUE!"},0,0,0,0,0,0,0,0,0]
[64,2064,null,null,null,null,null,null,null,null,null,null,null,null,null,null,null,null,null,null,null,null,null,null,null,null,null,null,null,null,null,null,null,null,null,null,null,null,null,null,null,null,null,null,null,null,null,null,null,null,null,null,null,null,null,null,null,null,null,null,null,null,null,null,null,null,null,null,null,null,null,null,null,null,null,null,null,null,null,null,null,null,null,null,null,null,null,null,null,null,null,null,null,null,null,null,null,null,null,null,null,null,null,null,null,null,null,null,null,null,null,null,null,null,null,null,null,null,null,null,null,null,null,null,null,null,null,null,null,null,null,null,null,null,null,null,null,null,null,null,null,null,null,null,null,null,null,null,null,null,null,null,null,null,null,null,null,null,null,null,null,null,null,null,null,null,null,null,null,null,null,null,null,null,null,null,null,null,null,null,null,null,null,null,null,null,null,null,null,null,null,null,null,null,null,null,null,null,null,null,null,null,null,null,null,null,null,null,null,null,null,null,null,null,null,null,null,null,null,null,null,null,null,null,null,null,null,null,null,null,null,null,null,null,null,null,null,null,null,null,null,null,null,null,null,null,null,null,null,null,null,null,null,null,null,null,null,null,null,null,null,null,null,null,null,null,null,null,null,null,null,null,null,null,null,null,null,null,null,null,null,null,null,null,null,null,null,null,null,null,null,null,null,null,null,null,null,null,null,null,null,null,null,null,null,null,null,null,null,null,null,null,null,null,null,null,null,null,null,null,null,null,null,null,null,null,null,null,null,null,null,null,null,null,null,null,null,null,null,null,null,null,null,null,null,null,null,null,null,null,null,null,null,null,null,null,null,null,null,null,null,null,null,null,null,null,null,null,null,null,null,null,null,null,null,null,null,null,null,null,null,null,null,null,null,null,null,null,null,null,null,null,null,null,null,null,null,null,null,null,null,null,null,null,null,null,null,null,null,null,null,null,null,null,null,null,null,null,null,null,null,null,null,null,null,null,null,null,null,null,null,null,null,null,null,null,null,null,null,null,null,null,null,null,null,null,null,null,null,null,null,null,null,null,null,null,null,null,null,null,null,null,null,null,null,null,null,null,null,null,null,null,null,null,null,null,null,null,null,null,null,null,null,null,null,null,null,null,null,null,null,null,null,null,null,null,null,null,null,null,null,null,null,null,null,null,null,null,null,null,null,null,null,null,null,null,null,null,null,null,null,null,null,null,null,null,null,null,null,null,null,null,null,null,null,null,null,null,null,null,null,null,null,null,null,null,null,null,null,null,null,null,null,null,null,null,null,null,null,null,null,null,null,null,null,null,null,null,null,null,null,null,null,null,null,null,null,null,null,null,null,null,null,null,null,null,null,null,null,null,null,null,null,null,null,null,null,null,null,null,null,null,null,null,null,null,null,null,null,null,null,null,null,null,null,null,null,null,null,null,null,null,null,null,null,null,null,null,null,null,null,null,null,null,null,null,null,null,null,null,null,null,null,null,null,null,null,null,null,null,null,null,null,null,null,null,null,null,null,null,null,null,null,null,null,null,null,null,null,null,null,null,null,null,null,null,null,null,null,null,null,null,null,null,null,null,null,null,null,null,null,null,null,null,null,null,null,null,null,null,null,null,null,null,null,null,null,null,null,null,null,null,null,null,null,null,null,null,null,null,null,null,null,null,null,null,null,null,null,null,null,null,null,null,null,null,null,null,null,null,null,null,null,null,null,null,null,null,null,null,null,null,null,null,null,null,null,null,null,null,null,null,null,null,null,null,null,null,null,null,null,null,null,null,null,null,null,null,null,null,null,null,null,null,null,null,null,null,null,null,null,null,null,null,null,null,null,null,null,null,null,null,null,null,null,null,null,null,null,null,null,null,null,null,null,null,null,null,null,null,null,null,null,null,null,null,null,null,null,null,null,null,null,null,null,null,null,null,null,null,null,null,null,null,null,null,null,null,null,null,null,null,null,null,null,null,null,null,64,{"$error":"#VALUE!"},{"$error":"#VALUE!"},{"$error":"#VALUE!"},0,0,0,0,0,0,0,0,0]
[68,2068,null,null,null,null,null,null,null,null,null,null,null,null,null,null,null,null,null,null,null,null,null,null,null,null,null,null,null,null,null,null,null,null,null,null,null,null,null,null,null,null,null,null,null,null,null,null,null,null,null,null,null,null,null,null,null,null,null,null,null,null,null,null,null,null,null,null,null,null,null,null,null,null,null,null,null,null,null,null,null,null,null,null,null,null,null,null,null,null,null,null,null,null,null,null,null,null,null,null,null,null,null,null,null,null,null,null,null,null,null,null,null,null,null,null,null,null,null,null,null,null,null,null,null,null,null,null,null,null,null,null,null,null,null,null,null,null,null,null,null,null,null,null,null,null,null,null,null,null,null,null,null,null,null,null,null,null,null,null,null,null,null,null,null,null,null,null,null,null,null,null,null,null,null,null,null,null,null,null,null,null,null,null,null,null,null,null,null,null,null,null,null,null,null,null,null,null,null,null,null,null,null,null,null,null,null,null,null,null,null,null,null,null,null,null,null,null,null,null,null,null,null,null,null,null,null,null,null,null,null,null,null,null,null,null,null,null,null,null,null,null,null,null,null,null,null,null,null,null,null,null,null,null,null,null,null,null,null,null,null,null,null,null,null,null,null,null,null,null,null,null,null,null,null,null,null,null,null,null,null,null,null,null,null,null,null,null,null,null,null,null,null,null,null,null,null,null,null,null,null,null,null,null,null,null,null,null,null,null,null,null,null,null,null,null,null,null,null,null,null,null,null,null,null,null,null,null,null,null,null,null,null,null,null,null,null,null,null,null,null,null,null,null,null,null,null,null,null,null,null,null,null,null,null,null,null,null,null,null,null,null,null,null,null,null,null,null,null,null,null,null,null,null,null,null,null,null,null,null,null,null,null,null,null,null,null,null,null,null,null,null,null,null,null,null,null,null,null,null,null,null,null,null,null,null,null,null,null,null,null,null,null,null,null,null,null,null,null,null,null,null,null,null,null,null,null,null,null,null,null,null,null,null,null,null,null,null,null,null,null,null,null,null,null,null,null,null,null,null,null,null,null,null,null,null,null,null,null,null,null,null,null,null,null,null,null,null,null,null,null,null,null,null,null,null,null,null,null,null,null,null,null,null,null,null,null,null,null,null,null,null,null,null,null,null,null,null,null,null,null,null,null,null,null,null,null,null,null,null,null,null,null,null,null,null,null,null,null,null,null,null,null,null,null,null,null,null,null,null,null,null,null,null,null,null,null,null,null,null,null,null,null,null,null,null,null,null,null,null,null,null,null,null,null,null,null,null,null,null,null,null,null,null,null,null,null,null,null,null,null,null,null,null,null,null,null,null,null,null,null,null,null,null,null,null,null,null,null,null,null,null,null,null,null,null,null,null,null,null,null,null,null,null,null,null,null,null,null,null,null,null,null,null,null,null,null,null,null,null,null,null,null,null,null,null,null,null,null,null,null,null,null,null,null,null,null,null,null,null,null,null,null,null,null,null,null,null,null,null,null,null,null,null,null,null,null,null,null,null,null,null,null,null,null,null,null,null,null,null,null,null,null,null,null,null,null,null,null,null,null,null,null,null,null,null,null,null,null,null,null,null,null,null,null,null,null,null,null,null,null,null,null,null,null,null,null,null,null,null,null,null,null,null,null,null,null,null,null,null,null,null,null,null,null,null,null,null,null,null,null,null,null,null,null,null,null,null,null,null,null,null,null,null,null,null,null,null,null,null,null,null,null,null,null,null,null,null,null,null,null,null,null,null,null,null,null,null,null,null,null,null,null,null,null,null,null,null,null,null,null,null,null,null,null,null,null,null,null,null,null,null,null,null,null,null,null,null,null,null,null,null,null,null,null,null,null,null,null,null,null,null,null,null,null,null,null,null,null,null,null,null,null,null,null,null,null,null,null,null,null,null,null,null,null,null,null,null,null,null,null,null,null,null,null,null,null,null,null,null,null,null,null,null,null,null,null,null,68,{"$error":"#VALUE!"},{"$error":"#VALUE!"},{"$error":"#VALUE!"},0,0,0,0,0,0,0,0,0]
[69,2069,null,null,null,null,null,null,null,null,null,null,null,null,null,null,null,null,null,null,null,null,null,null,null,null,null,null,null,null,null,null,null,null,null,null,null,null,null,null,null,null,null,null,null,null,null,null,null,null,null,null,null,null,null,null,null,null,null,null,null,null,null,null,null,null,null,null,null,null,null,null,null,null,null,null,null,null,null,null,null,null,null,null,null,null,null,null,null,null,null,null,null,null,null,null,null,null,null,null,null,null,null,null,null,null,null,null,null,null,null,null,null,null,null,null,null,null,null,null,null,null,null,null,null,null,null,null,null,null,null,null,null,null,null,null,null,null,null,null,null,null,null,null,null,null,null,null,null,null,null,null,null,null,null,null,null,null,null,null,null,null,null,null,null,null,null,null,null,null,null,null,null,null,null,null,null,null,null,null,null,null,null,null,null,null,null,null,null,null,null,null,null,null,null,null,null,null,null,null,null,null,null,null,null,null,null,null,null,null,null,null,null,null,null,null,null,null,null,null,null,null,null,null,null,null,null,null,null,null,null,null,null,null,null,null,null,null,null,null,null,null,null,null,null,null,null,null,null,null,null,null,null,null,null,null,null,null,null,null,null,null,null,null,null,null,null,null,null,null,null,null,null,null,null,null,null,null,null,null,null,null,null,null,null,null,null,null,null,null,null,null,null,null,null,null,null,null,null,null,null,null,null,null,null,null,null,null,null,null,null,null,null,null,null,null,null,null,null,null,null,null,null,null,null,null,null,null,null,null,null,null,null,null,null,null,null,null,null,null,null,null,null,null,null,null,null,null,null,null,null,null,null,null,null,null,null,null,null,null,null,null,null,null,null,null,null,null,null,null,null,null,null,null,null,null,null,null,null,null,null,null,null,null,null,null,null,null,null,null,null,null,null,null,null,null,null,null,null,null,null,null,null,null,null,null,null,null,null,null,null,null,null,null,null,null,null,null,null,null,null,null,null,null,null,null,null,null,null,null,null,null,null,null,null,null,null,null,null,null,null,null,null,null,null,null,null,null,null,null,null,null,null,null,null,null,null,null,null,null,null,null,null,null,null,null,null,null,null,null,null,null,null,null,null,null,null,null,null,null,null,null,null,null,null,null,null,null,null,null,null,null,null,null,null,null,null,null,null,null,null,null,null,null,null,null,null,null,null,null,null,null,null,null,null,null,null,null,null,null,null,null,null,null,null,null,null,null,null,null,null,null,null,null,null,null,null,null,null,null,null,null,null,null,null,null,null,null,null,null,null,null,null,null,null,null,null,null,null,null,null,null,null,null,null,null,null,null,null,null,null,null,null,null,null,null,null,null,null,null,null,null,null,null,null,null,null,null,null,null,null,null,null,null,null,null,null,null,null,null,null,null,null,null,null,null,null,null,null,null,null,null,null,null,null,null,null,null,null,null,null,null,null,null,null,null,null,null,null,null,null,null,null,null,null,null,null,null,null,null,null,null,null,null,null,null,null,null,null,null,null,null,null,null,null,null,null,null,null,null,null,null,null,null,null,null,null,null,null,null,null,null,null,null,null,null,null,null,null,null,null,null,null,null,null,null,null,null,null,null,null,null,null,null,null,null,null,null,null,null,null,null,null,null,null,null,null,null,null,null,null,null,null,null,null,null,null,null,null,null,null,null,null,null,null,null,null,null,null,null,null,null,null,null,null,null,null,null,null,null,null,null,null,null,null,null,null,null,null,null,null,null,null,null,null,null,null,null,null,null,null,null,null,null,null,null,null,null,null,null,null,null,null,null,null,null,null,null,null,null,null,null,null,null,null,null,null,null,null,null,null,null,null,null,null,null,null,null,null,null,null,null,null,null,null,null,null,null,null,null,null,null,null,null,null,null,null,null,null,null,null,null,null,null,null,null,null,null,null,null,null,null,null,null,null,null,null,null,null,null,null,null,null,null,null,null,null,null,null,null,null,null,null,null,null,null,null,null,69,{"$error":"#VALUE!"},{"$error":"#VALUE!"},{"$error":"#VALUE!"},0,0,0,0,0,0,0,0,0]
[71,2071,null,null,null,null,null,null,null,null,null,null,null,null,null,null,null,null,null,null,null,null,null,null,null,null,null,null,null,null,null,null,null,null,null,null,null,null,null,null,null,null,null,null,null,null,null,null,null,null,null,null,null,null,null,null,null,null,null,null,null,null,null,null,null,null,null,null,null,null,null,null,null,null,null,null,null,null,null,null,null,null,null,null,null,null,null,null,null,null,null,null,null,null,null,null,null,null,null,null,null,null,null,null,null,null,null,null,null,null,null,null,null,null,null,null,null,null,null,null,null,null,null,null,null,null,null,null,null,null,null,null,null,null,null,null,null,null,null,null,null,null,null,null,null,null,null,null,null,null,null,null,null,null,null,null,null,null,null,null,null,null,null,null,null,null,null,null,null,null,null,null,null,null,null,null,null,null,null,null,null,null,null,null,null,null,null,null,null,null,null,null,null,null,null,null,null,null,null,null,null,null,null,null,null,null,null,null,null,null,null,null,null,null,null,null,null,null,null,null,null,null,null,null,null,null,null,null,null,null,null,null,null,null,null,null,null,null,null,null,null,null,null,null,null,null,null,null,null,null,null,null,null,null,null,null,null,null,null,null,null,null,null,null,null,null,null,null,null,null,null,null,null,null,null,null,null,null,null,null,null,null,null,null,null,null,null,null,null,null,null,null,null,null,null,null,null,null,null,null,null,null,null,null,null,null,null,null,null,null,null,null,null,null,null,null,null,null,null,null,null,null,null,null,null,null,null,null,null,null,null,null,null,null,null,null,null,null,null,null,null,null,null,null,null,null,null,null,null,null,null,null,null,null,null,null,null,null,null,null,null,null,null,null,null,null,null,null,null,null,null,null,null,null,null,null,null,null,null,null,null,null,null,null,null,null,null,null,null,null,null,null,null,null,null,null,null,null,null,null,null,null,null,null,null,null,null,null,null,null,null,null,null,null,null,null,null,null,null,null,null,null,null,null,null,null,null,null,null,null,null,null,null,null,null,null,null,null,null,null,null,null,null,null,null,null,null,null,null,null,null,null,null,null,null,null,null,null,null,null,null,null,null,null,null,null,null,null,null,null,null,null,null,null,null,null,null,null,null,null,null,null,null,null,null,null,null,null,null,null,null,null,null,null,null,null,null,null,null,null,null,null,null,null,null,null,null,null,null,null,null,null,null,null,null,null,null,null,null,null,null,null,null,null,null,null,null,null,null,null,null,null,null,null,null,null,null,null,null,null,null,null,null,null,null,null,null,null,null,null,null,null,null,null,null,null,null,null,null,null,null,null,null,null,null,null,null,null,null,null,null,null,null,null,null,null,null,null,null,null,null,null,null,null,null,null,null,null,null,null,null,null,null,null,null,null,null,null,null,null,null,null,null,null,null,null,null,null,null,null,null,null,null,null,null,null,null,null,null,null,null,null,null,null,null,null,null,null,null,null,null,null,null,null,null,null,null,null,null,null,null,null,null,null,null,null,null,null,null,null,null,null,null,null,null,null,null,null,null,null,null,null,null,null,null,null,null,null,null,null,null,null,null,null,null,null,null,null,null,null,null,null,null,null,null,null,null,null,null,null,null,null,null,null,null,null,null,null,null,null,null,null,null,null,null,null,null,null,null,null,null,null,null,null,null,null,null,null,null,null,null,null,null,null,null,null,null,null,null,null,null,null,null,null,null,null,null,null,null,null,null,null,null,null,null,null,null,null,null,null,null,null,null,null,null,null,null,null,null,null,null,null,null,null,null,null,null,null,null,null,null,null,null,null,null,null,null,null,null,null,null,null,null,null,null,null,null,null,null,null,null,null,null,null,null,null,null,null,null,null,null,null,null,null,null,null,null,null,null,null,null,null,null,null,null,null,null,null,null,null,null,null,null,null,null,null,null,null,null,null,null,null,null,null,null,null,null,null,null,null,null,null,null,null,null,null,null,null,null,null,null,null,null,null,null,null,null,null,71,{"$error":"#VALUE!"},{"$error":"#VALUE!"},{"$error":"#VALUE!"},0,0,0,0,0,0,0,0,0]
[74,2074,null,null,null,null,null,null,null,null,null,null,null,null,null,null,null,null,null,null,null,null,null,null,null,null,null,null,null,null,null,null,null,null,null,null,null,null,null,null,null,null,null,null,null,null,null,null,null,null,null,null,null,null,null,null,null,null,null,null,null,null,null,null,null,null,null,null,null,null,null,null,null,null,null,null,null,null,null,null,null,null,null,null,null,null,null,null,null,null,null,null,null,null,null,null,null,null,null,null,null,null,null,null,null,null,null,null,null,null,null,null,null,null,null,null,null,null,null,null,null,null,null,null,null,null,null,null,null,null,null,null,null,null,null,null,null,null,null,null,null,null,null,null,null,null,null,null,null,null,null,null,null,null,null,null,null,null,null,null,null,null,null,null,null,null,null,null,null,null,null,null,null,null,null,null,null,null,null,null,null,null,null,null,null,null,null,null,null,null,null,null,null,null,null,null,null,null,null,null,null,null,null,null,null,null,null,null,null,null,null,null,null,null,null,null,null,null,null,null,null,null,null,null,null,null,null,null,null,null,null,null,null,null,null,null,null,null,null,null,null,null,null,null,null,null,null,null,null,null,null,null,null,null,null,null,null,null,null,null,null,null,null,null,null,null,null,null,null,null,null,null,null,null,null,null,null,null,null,null,null,null,null,null,null,null,null,null,null,null,null,null,null,null,null,null,null,null,null,null,null,null,null,null,null,null,null,null,null,null,null,null,null,null,null,null,null,null,null,null,null,null,null,null,null,null,null,null,null,null,null,null,null,null,null,null,null,null,null,null,null,null,null,null,null,null,null,null,null,null,null,null,null,null,null,null,null,null,null,null,null,null,null,null,null,null,null,null,null,null,null,null,null,null,null,null,null,null,null,null,null,null,null,null,null,null,null,null,null,null,null,null,null,null,null,null,null,null,null,null,null,null,null,null,null,null,null,null,null,null,null,null,null,null,null,null,null,null,null,null,null,null,null,null,null,null,null,null,null,null,null,null,null,null,null,null,null,null,null,null,null,null,null,null,null,null,null,null,null,null,null,null,null,null,null,null,null,null,null,null,null,null,null,null,null,null,null,null,null,null,null,null,null,null,null,null,null,null,null,null,null,null,null,null,null,null,null,null,null,null,null,null,null,null,null,null,null,null,null,null,null,null,null,null,null,null,null,null,null,null,null,null,null,null,null,null,null,null,null,null,null,null,null,null,null,null,null,null,null,null,null,null,null,null,null,null,null,null,null,null,null,null,null,null,null,null,null,null,null,null,null,null,null,null,null,null,null,null,null,null,null,null,null,null,null,null,null,null,null,null,null,null,null,null,null,null,null,null,null,null,null,null,null,null,null,null,null,null,null,null,null,null,null,null,null,null,null,null,null,null,null,null,null,null,null,null,null,null,null,null,null,null,null,null,null,null,null,null,null,null,null,null,null,null,null,null,null,null,null,null,null,null,null,null,null,null,null,null,null,null,null,null,null,null,null,null,null,null,null,null,null,null,null,null,null,null,null,null,null,null,null,null,null,null,null,null,null,null,null,null,null,null,null,null,null,null,null,null,null,null,null,null,null,null,null,null,null,null,null,null,null,null,null,null,null,null,null,null,null,null,null,null,null,null,null,null,null,null,null,null,null,null,null,null,null,null,null,null,null,null,null,null,null,null,null,null,null,null,null,null,null,null,null,null,null,null,null,null,null,null,null,null,null,null,null,null,null,null,null,null,null,null,null,null,null,null,null,null,null,null,null,null,null,null,null,null,null,null,null,null,null,null,null,null,null,null,null,null,null,null,null,null,null,null,null,null,null,null,null,null,null,null,null,null,null,null,null,null,null,null,null,null,null,null,null,null,null,null,null,null,null,null,null,null,null,null,null,null,null,null,null,null,null,null,null,null,null,null,null,null,null,null,null,null,null,null,null,null,null,null,null,null,null,null,null,null,null,null,null,null,null,null,null,null,null,null,null,null,74,{"$error":"#VALUE!"},{"$error":"#VALUE!"},{"$error":"#VALUE!"},0,0,0,0,0,0,0,0,0]
[77,2077,null,null,null,null,null,null,null,null,null,null,null,null,null,null,null,null,null,null,null,null,null,null,null,null,null,null,null,null,null,null,null,null,null,null,null,null,null,null,null,null,null,null,null,null,null,null,null,null,null,null,null,null,null,null,null,null,null,null,null,null,null,null,null,null,null,null,null,null,null,null,null,null,null,null,null,null,null,null,null,null,null,null,null,null,null,null,null,null,null,null,null,null,null,null,null,null,null,null,null,null,null,null,null,null,null,null,null,null,null,null,null,null,null,null,null,null,null,null,null,null,null,null,null,null,null,null,null,null,null,null,null,null,null,null,null,null,null,null,null,null,null,null,null,null,null,null,null,null,null,null,null,null,null,null,null,null,null,null,null,null,null,null,null,null,null,null,null,null,null,null,null,null,null,null,null,null,null,null,null,null,null,null,null,null,null,null,null,null,null,null,null,null,null,null,null,null,null,null,null,null,null,null,null,null,null,null,null,null,null,null,null,null,null,null,null,null,null,null,null,null,null,null,null,null,null,null,null,null,null,null,null,null,null,null,null,null,null,null,null,null,null,null,null,null,null,null,null,null,null,null,null,null,null,null,null,null,null,null,null,null,null,null,null,null,null,null,null,null,null,null,null,null,null,null,null,null,null,null,null,null,null,null,null,null,null,null,null,null,null,null,null,null,null,null,null,null,null,null,null,null,null,null,null,null,null,null,null,null,null,null,null,null,null,null,null,null,null,null,null,null,null,null,null,null,null,null,null,null,null,null,null,null,null,null,null,null,null,null,null,null,null,null,null,null,null,null,null,null,null,null,null,null,null,null,null,null,null,null,null,null,null,null,null,null,null,null,null,null,null,null,null,null,null,null,null,null,null,null,null,null,null,null,null,null,null,null,null,null,null,null,null,null,null,null,null,null,null,null,null,null,null,null,null,null,null,null,null,null,null,null,null,null,null,null,null,null,null,null,null,null,null,null,null,null,null,null,null,null,null,null,null,null,null,null,null,null,null,null,null,null,null,null,null,null,null,null,null,null,null,null,null,null,null,null,null,null,null,null,null,null,null,null,null,null,null,null,null,null,null,null,null,null,null,null,null,null,null,null,null,null,null,null,null,null,null,null,null,null,null,null,null,null,null,null,null,null,null,null,null,null,null,null,null,null,null,null,null,null,null,null,null,null,null,null,null,null,null,null,null,null,null,null,null,null,null,null,null,null,null,null,null,null,null,null,null,null,null,null,null,null,null,null,null,null,null,null,null,null,null,null,null,null,null,null,null,null,null,null,null,null,null,null,null,null,null,null,null,null,null,null,null,null,null,null,null,null,null,null,null,null,null,null,null,null,null,null,null,null,null,null,null,null,null,null,null,null,null,null,null,null,null,null,null,null,null,null,null,null,null,null,null,null,null,null,null,null,null,null,null,null,null,null,null,null,null,null,null,null,null,null,null,null,null,null,null,null,null,null,null,null,null,null,null,null,null,null,null,null,null,null,null,null,null,null,null,null,null,null,null,null,null,null,null,null,null,null,null,null,null,null,null,null,null,null,null,null,null,null,null,null,null,null,null,null,null,null,null,null,null,null,null,null,null,null,null,null,null,null,null,null,null,null,null,null,null,null,null,null,null,null,null,null,null,null,null,null,null,null,null,null,null,null,null,null,null,null,null,null,null,null,null,null,null,null,null,null,null,null,null,null,null,null,null,null,null,null,null,null,null,null,null,null,null,null,null,null,null,null,null,null,null,null,null,null,null,null,null,null,null,null,null,null,null,null,null,null,null,null,null,null,null,null,null,null,null,null,null,null,null,null,null,null,null,null,null,null,null,null,null,null,null,null,null,null,null,null,null,null,null,null,null,null,null,null,null,null,null,null,null,null,null,null,null,null,null,null,null,null,null,null,null,null,null,null,null,null,null,null,null,null,null,null,null,null,null,null,null,null,null,null,null,null,null,null,null,null,77,{"$error":"#VALUE!"},{"$error":"#VALUE!"},{"$error":"#VALUE!"},0,0,0,0,0,0,0,0,0]
[80,2080,null,null,null,null,null,null,null,null,null,null,null,null,null,null,null,null,null,null,null,null,null,null,null,null,null,null,null,null,null,null,null,null,null,null,null,null,null,null,null,null,null,null,null,null,null,null,null,null,null,null,null,null,null,null,null,null,null,null,null,null,null,null,null,null,null,null,null,null,null,null,null,null,null,null,null,null,null,null,null,null,null,null,null,null,null,null,null,null,null,null,null,null,null,null,null,null,null,null,null,null,null,null,null,null,null,null,null,null,null,null,null,null,null,null,null,null,null,null,null,null,null,null,null,null,null,null,null,null,null,null,null,null,null,null,null,null,null,null,null,null,null,null,null,null,null,null,null,null,null,null,null,null,null,null,null,null,null,null,null,null,null,null,null,null,null,null,null,null,null,null,null,null,null,null,null,null,null,null,null,null,null,null,null,null,null,null,null,null,null,null,null,null,null,null,null,null,null,null,null,null,null,null,null,null,null,null,null,null,null,null,null,null,null,null,null,null,null,null,null,null,null,null,null,null,null,null,null,null,null,null,null,null,null,null,null,null,null,null,null,null,null,null,null,null,null,null,null,null,null,null,null,null,null,null,null,null,null,null,null,null,null,null,null,null,null,null,null,null,null,null,null,null,null,null,null,null,null,null,null,null,null,null,null,null,null,null,null,null,null,null,null,null,null,null,null,null,null,null,null,null,null,null,null,null,null,null,null,null,null,null,null,null,null,null,null,null,null,null,null,null,null,null,null,null,null,null,null,null,null,null,null,null,null,null,null,null,null,null,null,null,null,null,null,null,null,null,null,null,null,null,null,null,null,null,null,null,null,null,null,null,null,null,null,null,null,null,null,null,null,null,null,null,null,null,null,null,null,null,null,null,null,null,null,null,null,null,null,null,null,null,null,null,null,null,null,null,null,null,null,null,null,null,null,null,null,null,null,null,null,null,null,null,null,null,null,null,null,null,null,null,null,null,null,null,null,null,null,null,null,null,null,null,null,null,null,null,null,null,null,null,null,null,null,null,null,null,null,null,null,null,null,null,null,null,null,null,null,null,null,null,null,null,null,null,null,null,null,null,null,null,null,null,null,null,null,null,null,null,null,null,null,null,null,null,null,null,null,null,null,null,null,null,null,null,null,null,null,null,null,null,null,null,null,null,null,null,null,null,null,null,null,null,null,null,null,null,null,null,null,null,null,null,null,null,null,null,null,null,null,null,null,null,null,null,null,null,null,null,null,null,null,null,null,null,null,null,null,null,null,null,null,null,null,null,null,null,null,null,null,null,null,null,null,null,null,null,null,null,null,null,null,null,null,null,null,null,null,null,null,null,null,null,null,null,null,null,null,null,null,null,null,null,null,null,null,null,null,null,null,null,null,null,null,null,null,null,null,null,null,null,null,null,null,null,null,null,null,null,null,null,null,null,null,null,null,null,null,null,null,null,null,null,null,null,null,null,null,null,null,null,null,null,null,null,null,null,null,null,null,null,null,null,null,null,null,null,null,null,null,null,null,null,null,null,null,null,null,null,null,null,null,null,null,null,null,null,null,null,null,null,null,null,null,null,null,null,null,null,null,null,null,null,null,null,null,null,null,null,null,null,null,null,null,null,null,null,null,null,null,null,null,null,null,null,null,null,null,null,null,null,null,null,null,null,null,null,null,null,null,null,null,null,null,null,null,null,null,null,null,null,null,null,null,null,null,null,null,null,null,null,null,null,null,null,null,null,null,null,null,null,null,null,null,null,null,null,null,null,null,null,null,null,null,null,null,null,null,null,null,null,null,null,null,null,null,null,null,null,null,null,null,null,null,null,null,null,null,null,null,null,null,null,null,null,null,null,null,null,null,null,null,null,null,null,null,null,null,null,null,null,null,null,null,null,null,null,null,null,null,null,null,null,null,null,null,null,null,null,null,null,null,null,null,null,null,null,null,null,null,null,null,null,null,null,null,null,80,{"$error":"#VALUE!"},{"$error":"#VALUE!"},{"$error":"#VALUE!"},0,0,0,0,0,0,0,0,0]
[83,2083,null,null,null,null,null,null,null,null,null,null,null,null,null,null,null,null,null,null,null,null,null,null,null,null,null,null,null,null,null,null,null,null,null,null,null,null,null,null,null,null,null,null,null,null,null,null,null,null,null,null,null,null,null,null,null,null,null,null,null,null,null,null,null,null,null,null,null,null,null,null,null,null,null,null,null,null,null,null,null,null,null,null,null,null,null,null,null,null,null,null,null,null,null,null,null,null,null,null,null,null,null,null,null,null,null,null,null,null,null,null,null,null,null,null,null,null,null,null,null,null,null,null,null,null,null,null,null,null,null,null,null,null,null,null,null,null,null,null,null,null,null,null,null,null,null,null,null,null,null,null,null,null,null,null,null,null,null,null,null,null,null,null,null,null,null,null,null,null,null,null,null,null,null,null,null,null,null,null,null,null,null,null,null,null,null,null,null,null,null,null,null,null,null,null,null,null,null,null,null,null,null,null,null,null,null,null,null,null,null,null,null,null,null,null,null,null,null,null,null,null,null,null,null,null,null,null,null,null,null,null,null,null,null,null,null,null,null,null,null,null,null,null,null,null,null,null,null,null,null,null,null,null,null,null,null,null,null,null,null,null,null,null,null,null,null,null,null,null,null,null,null,null,null,null,null,null,null,null,null,null,null,null,null,null,null,null,null,null,null,null,null,null,null,null,null,null,null,null,null,null,null,null,null,null,null,null,null,null,null,null,null,null,null,null,null,null,null,null,null,null,null,null,null,null,null,null,null,null,null,null,null,null,null,null,null,null,null,null,null,null,null,null,null,null,null,null,null,null,null,null,null,null,null,null,null,null,null,null,null,null,null,null,null,null,null,null,null,null,null,null,null,null,null,null,null,null,null,null,null,null,null,null,null,null,null,null,null,null,null,null,null,null,null,null,null,null,null,null,null,null,null,null,null,null,null,null,null,null,null,null,null,null,null,null,null,null,null,null,null,null,null,null,null,null,null,null,null,null,null,null,null,null,null,null,null,null,null,null,null,null,null,null,null,null,null,null,null,null,null,null,null,null,null,null,null,null,null,null,null,null,null,null,null,null,null,null,null,null,null,null,null,null,null,null,null,null,null,null,null,null,null,null,null,null,null,null,null,null,null,null,null,null,null,null,null,null,null,null,null,null,null,null,null,null,null,null,null,null,null,null,null,null,null,null,null,null,null,null,null,null,null,null,null,null,null,null,null,null,null,null,null,null,null,null,null,null,null,null,null,null,null,null,null,null,null,null,null,null,null,null,null,null,null,null,null,null,null,null,null,null,null,null,null,null,null,null,null,null,null,null,null,null,null,null,null,null,null,null,null,null,null,null,null,null,null,null,null,null,null,null,null,null,null,null,null,null,null,null,null,null,null,null,null,null,null,null,null,null,null,null,null,null,null,null,null,null,null,null,null,null,null,null,null,null,null,null,null,null,null,null,null,null,null,null,null,null,null,null,null,null,null,null,null,null,null,null,null,null,null,null,null,null,null,null,null,null,null,null,null,null,null,null,null,null,null,null,null,null,null,null,null,null,null,null,null,null,null,null,null,null,null,null,null,null,null,null,null,null,null,null,null,null,null,null,null,null,null,null,null,null,null,null,null,null,null,null,null,null,null,null,null,null,null,null,null,null,null,null,null,null,null,null,null,null,null,null,null,null,null,null,null,null,null,null,null,null,null,null,null,null,null,null,null,null,null,null,null,null,null,null,null,null,null,null,null,null,null,null,null,null,null,null,null,null,null,null,null,null,null,null,null,null,null,null,null,null,null,null,null,null,null,null,null,null,null,null,null,null,null,null,null,null,null,null,null,null,null,null,null,null,null,null,null,null,null,null,null,null,null,null,null,null,null,null,null,null,null,null,null,null,null,null,null,null,null,null,null,null,null,null,null,null,null,null,null,null,null,null,null,null,null,null,null,null,null,null,null,null,null,null,null,null,null,null,null,null,83,{"$error":"#VALUE!"},{"$error":"#VALUE!"},{"$error":"#VALUE!"},0,0,0,0,0,0,0,0,0]
[86,2086,null,null,null,null,null,null,null,null,null,null,null,null,null,null,null,null,null,null,null,null,null,null,null,null,null,null,null,null,null,null,null,null,null,null,null,null,null,null,null,null,null,null,null,null,null,null,null,null,null,null,null,null,null,null,null,null,null,null,null,null,null,null,null,null,null,null,null,null,null,null,null,null,null,null,null,null,null,null,null,null,null,null,null,null,null,null,null,null,null,null,null,null,null,null,null,null,null,null,null,null,null,null,null,null,null,null,null,null,null,null,null,null,null,null,null,null,null,null,null,null,null,null,null,null,null,null,null,null,null,null,null,null,null,null,null,null,null,null,null,null,null,null,null,null,null,null,null,null,null,null,null,null,null,null,null,null,null,null,null,null,null,null,null,null,null,null,null,null,null,null,null,null,null,null,null,null,null,null,null,null,null,null,null,null,null,null,null,null,null,null,null,null,null,null,null,null,null,null,null,null,null,null,null,null,null,null,null,null,null,null,null,null,null,null,null,null,null,null,null,null,null,null,null,null,null,null,null,null,null,null,null,null,null,null,null,null,null,null,null,null,null,null,null,null,null,null,null,null,null,null,null,null,null,null,null,null,null,null,null,null,null,null,null,null,null,null,null,null,null,null,null,null,null,null,null,null,null,null,null,null,null,null,null,null,null,null,null,null,null,null,null,null,null,null,null,null,null,null,null,null,null,null,null,null,null,null,null,null,null,null,null,null,null,null,null,null,null,null,null,null,null,null,null,null,null,null,null,null,null,null,null,null,null,null,null,null,null,null,null,null,null,null,null,null,null,null,null,null,null,null,null,null,null,null,null,null,null,null,null,null,null,null,null,null,null,null,null,null,null,null,null,null,null,null,null,null,null,null,null,null,null,null,null,null,null,null,null,null,null,null,null,null,null,null,null,null,null,null,null,null,null,null,null,null,null,null,null,null,null,null,null,null,null,null,null,null,null,null,null,null,null,null,null,null,null,null,null,null,null,null,null,null,null,null,null,null,null,null,null,null,null,null,null,null,null,null,null,null,null,null,null,null,null,null,null,null,null,null,null,null,null,null,null,null,null,null,null,null,null,null,null,null,null,null,null,null,null,null,null,null,null,null,null,null,null,null,null,null,null,null,null,null,null,null,null,null,null,null,null,null,null,null,null,null,null,null,null,null,null,null,null,null,null,null,null,null,null,null,null,null,null,null,null,null,null,null,null,null,null,null,null,null,null,null,null,null,null,null,null,null,null,null,null,null,null,null,null,null,null,null,null,null,null,null,null,null,null,null,null,null,null,null,null,null,null,null,null,null,null,null,null,null,null,null,null,null,null,null,null,null,null,null,null,null,null,null,null,null,null,null,null,null,null,null,null,null,null,null,null,null,null,null,null,null,null,null,null,null,null,null,null,null,null,null,null,null,null,null,null,null,null,null,null,null,null,null,null,null,null,null,null,null,null,null,null,null,null,null,null,null,null,null,null,null,null,null,null,null,null,null,null,null,null,null,null,null,null,null,null,null,null,null,null,null,null,null,null,null,null,null,null,null,null,null,null,null,null,null,null,null,null,null,null,null,null,null,null,null,null,null,null,null,null,null,null,null,null,null,null,null,null,null,null,null,null,null,null,null,null,null,null,null,null,null,null,null,null,null,null,null,null,null,null,null,null,null,null,null,null,null,null,null,null,null,null,null,null,null,null,null,null,null,null,null,null,null,null,null,null,null,null,null,null,null,null,null,null,null,null,null,null,null,null,null,null,null,null,null,null,null,null,null,null,null,null,null,null,null,null,null,null,null,null,null,null,null,null,null,null,null,null,null,null,null,null,null,null,null,null,null,null,null,null,null,null,null,null,null,null,null,null,null,null,null,null,null,null,null,null,null,null,null,null,null,null,null,null,null,null,null,null,null,null,null,null,null,null,null,null,null,null,null,null,null,null,null,null,null,null,null,null,null,null,null,null,null,86,{"$error":"#VALUE!"},{"$error":"#VALUE!"},{"$error":"#VALUE!"},0,0,0,0,0,0,0,0,0]
[88,2088,null,null,null,null,null,null,null,null,null,null,null,null,null,null,null,null,null,null,null,null,null,null,null,null,null,null,null,null,null,null,null,null,null,null,null,null,null,null,null,null,null,null,null,null,null,null,null,null,null,null,null,null,null,null,null,null,null,null,null,null,null,null,null,null,null,null,null,null,null,null,null,null,null,null,null,null,null,null,null,null,null,null,null,null,null,null,null,null,null,null,null,null,null,null,null,null,null,null,null,null,null,null,null,null,null,null,null,null,null,null,null,null,null,null,null,null,null,null,null,null,null,null,null,null,null,null,null,null,null,null,null,null,null,null,null,null,null,null,null,null,null,null,null,null,null,null,null,null,null,null,null,null,null,null,null,null,null,null,null,null,null,null,null,null,null,null,null,null,null,null,null,null,null,null,null,null,null,null,null,null,null,null,null,null,null,null,null,null,null,null,null,null,null,null,null,null,null,null,null,null,null,null,null,null,null,null,null,null,null,null,null,null,null,null,null,null,null,null,null,null,null,null,null,null,null,null,null,null,null,null,null,null,null,null,null,null,null,null,null,null,null,null,null,null,null,null,null,null,null,null,null,null,null,null,null,null,null,null,null,null,null,null,null,null,null,null,null,null,null,null,null,null,null,null,null,null,null,null,null,null,null,null,null,null,null,null,null,null,null,null,null,null,null,null,null,null,null,null,null,null,null,null,null,null,null,null,null,null,null,null,null,null,null,null,null,null,null,null,null,null,null,null,null,null,null,null,null,null,null,null,null,null,null,null,null,null,null,null,null,null,null,null,null,null,null,null,null,null,null,null,null,null,null,null,null,null,null,null,null,null,null,null,null,null,null,null,null,null,null,null,null,null,null,null,null,null,null,null,null,null,null,null,null,null,null,null,null,null,null,null,null,null,null,null,null,null,null,null,null,null,null,null,null,null,null,null,null,null,null,null,null,null,null,null,null,null,null,null,null,null,null,null,null,null,null,null,null,null,null,null,null,null,null,null,null,null,null,null,null,null,null,null,null,null,null,null,null,null,null,null,null,null,null,null,null,null,null,null,null,null,null,null,null,null,null,null,null,null,null,null,null,null,null,null,null,null,null,null,null,null,null,null,null,null,null,null,null,null,null,null,null,null,null,null,null,null,null,null,null,null,null,null,null,null,null,null,null,null,null,null,null,null,null,null,null,null,null,null,null,null,null,null,null,null,null,null,null,null,null,null,null,null,null,null,null,null,null,null,null,null,null,null,null,null,null,null,null,null,null,null,null,null,null,null,null,null,null,null,null,null,null,null,null,null,null,null,null,null,null,null,null,null,null,null,null,null,null,null,null,null,null,null,null,null,null,null,null,null,null,null,null,null,null,null,null,null,null,null,null,null,null,null,null,null,null,null,null,null,null,null,null,null,null,null,null,null,null,null,null,null,null,null,null,null,null,null,null,null,null,null,null,null,null,null,null,null,null,null,null,null,null,null,null,null,null,null,null,null,null,null,null,null,null,null,null,null,null,null,null,null,null,null,null,null,null,null,null,null,null,null,null,null,null,null,null,null,null,null,null,null,null,null,null,null,null,null,null,null,null,null,null,null,null,null,null,null,null,null,null,null,null,null,null,null,null,null,null,null,null,null,null,null,null,null,null,null,null,null,null,null,null,null,null,null,null,null,null,null,null,null,null,null,null,null,null,null,null,null,null,null,null,null,null,null,null,null,null,null,null,null,null,null,null,null,null,null,null,null,null,null,null,null,null,null,null,null,null,null,null,null,null,null,null,null,null,null,null,null,null,null,null,null,null,null,null,null,null,null,null,null,null,null,null,null,null,null,null,null,null,null,null,null,null,null,null,null,null,null,null,null,null,null,null,null,null,null,null,null,null,null,null,null,null,null,null,null,null,null,null,null,null,null,null,null,null,null,null,null,null,null,null,null,null,null,null,null,null,null,null,null,null,null,null,null,null,null,88,{"$error":"#VALUE!"},{"$error":"#VALUE!"},{"$error":"#VALUE!"},0,0,0,0,0,0,0,0,0]
[89,2089,null,null,null,null,null,null,null,null,null,null,null,null,null,null,null,null,null,null,null,null,null,null,null,null,null,null,null,null,null,null,null,null,null,null,null,null,null,null,null,null,null,null,null,null,null,null,null,null,null,null,null,null,null,null,null,null,null,null,null,null,null,null,null,null,null,null,null,null,null,null,null,null,null,null,null,null,null,null,null,null,null,null,null,null,null,null,null,null,null,null,null,null,null,null,null,null,null,null,null,null,null,null,null,null,null,null,null,null,null,null,null,null,null,null,null,null,null,null,null,null,null,null,null,null,null,null,null,null,null,null,null,null,null,null,null,null,null,null,null,null,null,null,null,null,null,null,null,null,null,null,null,null,null,null,null,null,null,null,null,null,null,null,null,null,null,null,null,null,null,null,null,null,null,null,null,null,null,null,null,null,null,null,null,null,null,null,null,null,null,null,null,null,null,null,null,null,null,null,null,null,null,null,null,null,null,null,null,null,null,null,null,null,null,null,null,null,null,null,null,null,null,null,null,null,null,null,null,null,null,null,null,null,null,null,null,null,null,null,null,null,null,null,null,null,null,null,null,null,null,null,null,null,null,null,null,null,null,null,null,null,null,null,null,null,null,null,null,null,null,null,null,null,null,null,null,null,null,null,null,null,null,null,null,null,null,null,null,null,null,null,null,null,null,null,null,null,null,null,null,null,null,null,null,null,null,null,null,null,null,null,null,null,null,null,null,null,null,null,null,null,null,null,null,null,null,null,null,null,null,null,null,null,null,null,null,null,null,null,null,null,null,null,null,null,null,null,null,null,null,null,null,null,null,null,null,null,null,null,null,null,null,null,null,null,null,null,null,null,null,null,null,null,null,null,null,null,null,null,null,null,null,null,null,null,null,null,null,null,null,null,null,null,null,null,null,null,null,null,null,null,null,null,null,null,null,null,null,null,null,null,null,null,null,null,null,null,null,null,null,null,null,null,null,null,null,null,null,null,null,null,null,null,null,null,null,null,null,null,null,null,null,null,null,null,null,null,null,null,null,null,null,null,null,null,null,null,null,null,null,null,null,null,null,null,null,null,null,null,null,null,null,null,null,null,null,null,null,null,null,null,null,null,null,null,null,null,null,null,null,null,null,null,null,null,null,null,null,null,null,null,null,null,null,null,null,null,null,null,null,null,null,null,null,null,null,null,null,null,null,null,null,null,null,null,null,null,null,null,null,null,null,null,null,null,null,null,null,null,null,null,null,null,null,null,null,null,null,null,null,null,null,null,null,null,null,null,null,null,null,null,null,null,null,null,null,null,null,null,null,null,null,null,null,null,null,null,null,null,null,null,null,null,null,null,null,null,null,null,null,null,null,null,null,null,null,null,null,null,null,null,null,null,null,null,null,null,null,null,null,null,null,null,null,null,null,null,null,null,null,null,null,null,null,null,null,null,null,null,null,null,null,null,null,null,null,null,null,null,null,null,null,null,null,null,null,null,null,null,null,null,null,null,null,null,null,null,null,null,null,null,null,null,null,null,null,null,null,null,null,null,null,null,null,null,null,null,null,null,null,null,null,null,null,null,null,null,null,null,null,null,null,null,null,null,null,null,null,null,null,null,null,null,null,null,null,null,null,null,null,null,null,null,null,null,null,null,null,null,null,null,null,null,null,null,null,null,null,null,null,null,null,null,null,null,null,null,null,null,null,null,null,null,null,null,null,null,null,null,null,null,null,null,null,null,null,null,null,null,null,null,null,null,null,null,null,null,null,null,null,null,null,null,null,null,null,null,null,null,null,null,null,null,null,null,null,null,null,null,null,null,null,null,null,null,null,null,null,null,null,null,null,null,null,null,null,null,null,null,null,null,null,null,null,null,null,null,null,null,null,null,null,null,null,null,null,null,null,null,null,null,null,null,null,null,null,null,null,null,null,null,null,null,null,null,null,null,null,null,null,null,null,null,null,null,null,null,89,{"$error":"#VALUE!"},{"$error":"#VALUE!"},{"$error":"#VALUE!"},0,0,0,0,0,0,0,0,0]
[92,2092,null,null,null,null,null,null,null,null,null,null,null,null,null,null,null,null,null,null,null,null,null,null,null,null,null,null,null,null,null,null,null,null,null,null,null,null,null,null,null,null,null,null,null,null,null,null,null,null,null,null,null,null,null,null,null,null,null,null,null,null,null,null,null,null,null,null,null,null,null,null,null,null,null,null,null,null,null,null,null,null,null,null,null,null,null,null,null,null,null,null,null,null,null,null,null,null,null,null,null,null,null,null,null,null,null,null,null,null,null,null,null,null,null,null,null,null,null,null,null,null,null,null,null,null,null,null,null,null,null,null,null,null,null,null,null,null,null,null,null,null,null,null,null,null,null,null,null,null,null,null,null,null,null,null,null,null,null,null,null,null,null,null,null,null,null,null,null,null,null,null,null,null,null,null,null,null,null,null,null,null,null,null,null,null,null,null,null,null,null,null,null,null,null,null,null,null,null,null,null,null,null,null,null,null,null,null,null,null,null,null,null,null,null,null,null,null,null,null,null,null,null,null,null,null,null,null,null,null,null,null,null,null,null,null,null,null,null,null,null,null,null,null,null,null,null,null,null,null,null,null,null,null,null,null,null,null,null,null,null,null,null,null,null,null,null,null,null,null,null,null,null,null,null,null,null,null,null,null,null,null,null,null,null,null,null,null,null,null,null,null,null,null,null,null,null,null,null,null,null,null,null,null,null,null,null,null,null,null,null,null,null,null,null,null,null,null,null,null,null,null,null,null,null,null,null,null,null,null,null,null,null,null,null,null,null,null,null,null,null,null,null,null,null,null,null,null,null,null,null,null,null,null,null,null,null,null,null,null,null,null,null,null,null,null,null,null,null,null,null,null,null,null,null,null,null,null,null,null,null,null,null,null,null,null,null,null,null,null,null,null,null,null,null,null,null,null,null,null,null,null,null,null,null,null,null,null,null,null,null,null,null,null,null,null,null,null,null,null,null,null,null,null,null,null,null,null,null,null,null,null,null,null,null,null,null,null,null,null,null,null,null,null,null,null,null,null,null,null,null,null,null,null,null,null,null,null,null,null,null,null,null,null,null,null,null,null,null,null,null,null,null,null,null,null,null,null,null,null,null,null,null,null,null,null,null,null,null,null,null,null,null,null,null,null,null,null,null,null,null,null,null,null,null,null,null,null,null,null,null,null,null,null,null,null,null,null,null,null,null,null,null,null,null,null,null,null,null,null,null,null,null,null,null,null,null,null,null,null,null,null,null,null,null,null,null,null,null,null,null,null,null,null,null,null,null,null,null,null,null,null,null,null,null,null,null,null,null,null,null,null,null,null,null,null,null,null,null,null,null,null,null,null,null,null,null,null,null,null,null,null,null,null,null,null,null,null,null,null,null,null,null,null,null,null,null,null,null,null,null,null,null,null,null,null,null,null,null,null,null,null,null,null,null,null,null,null,null,null,null,null,null,null,null,null,null,null,null,null,null,null,null,null,null,null,null,null,null,null,null,null,null,null,null,null,null,null,null,null,null,null,null,null,null,null,null,null,null,null,null,null,null,null,null,null,null,null,null,null,null,null,null,null,null,null,null,null,null,null,null,null,null,null,null,null,null,null,null,null,null,null,null,null,null,null,null,null,null,null,null,null,null,null,null,null,null,null,null,null,null,null,null,null,null,null,null,null,null,null,null,null,null,null,null,null,null,null,null,null,null,null,null,null,null,null,null,null,null,null,null,null,null,null,null,null,null,null,null,null,null,null,null,null,null,null,null,null,null,null,null,null,null,null,null,null,null,null,null,null,null,null,null,null,null,null,null,null,null,null,null,null,null,null,null,null,null,null,null,null,null,null,null,null,null,null,null,null,null,null,null,null,null,null,null,null,null,null,null,null,null,null,null,null,null,null,null,null,null,null,null,null,null,null,null,null,null,null,null,null,null,null,null,null,null,null,null,null,null,null,null,null,null,null,null,null,null,null,92,{"$error":"#VALUE!"},{"$error":"#VALUE!"},{"$error":"#VALUE!"},0,0,0,0,0,0,0,0,0]
[95,2095,null,null,null,null,null,null,null,null,null,null,null,null,null,null,null,null,null,null,null,null,null,null,null,null,null,null,null,null,null,null,null,null,null,null,null,null,null,null,null,null,null,null,null,null,null,null,null,null,null,null,null,null,null,null,null,null,null,null,null,null,null,null,null,null,null,null,null,null,null,null,null,null,null,null,null,null,null,null,null,null,null,null,null,null,null,null,null,null,null,null,null,null,null,null,null,null,null,null,null,null,null,null,null,null,null,null,null,null,null,null,null,null,null,null,null,null,null,null,null,null,null,null,null,null,null,null,null,null,null,null,null,null,null,null,null,null,null,null,null,null,null,null,null,null,null,null,null,null,null,null,null,null,null,null,null,null,null,null,null,null,null,null,null,null,null,null,null,null,null,null,null,null,null,null,null,null,null,null,null,null,null,null,null,null,null,null,null,null,null,null,null,null,null,null,null,null,null,null,null,null,null,null,null,null,null,null,null,null,null,null,null,null,null,null,null,null,null,null,null,null,null,null,null,null,null,null,null,null,null,null,null,null,null,null,null,null,null,null,null,null,null,null,null,null,null,null,null,null,null,null,null,null,null,null,null,null,null,null,null,null,null,null,null,null,null,null,null,null,null,null,null,null,null,null,null,null,null,null,null,null,null,null,null,null,null,null,null,null,null,null,null,null,null,null,null,null,null,null,null,null,null,null,null,null,null,null,null,null,null,null,null,null,null,null,null,null,null,null,null,null,null,null,null,null,null,null,null,null,null,null,null,null,null,null,null,null,null,null,null,null,null,null,null,null,null,null,null,null,null,null,null,null,null,null,null,null,null,null,null,null,null,null,null,null,null,null,null,null,null,null,null,null,null,null,null,null,null,null,null,null,null,null,null,null,null,null,null,null,null,null,null,null,null,null,null,null,null,null,null,null,null,null,null,null,null,null,null,null,null,null,null,null,null,null,null,null,null,null,null,null,null,null,null,null,null,null,null,null,null,null,null,null,null,null,null,null,null,null,null,null,null,null,null,null,null,null,null,null,null,null,null,null,null,null,null,null,null,null,null,null,null,null,null,null,null,null,null,null,null,null,null,null,null,null,null,null,null,null,null,null,null,null,null,null,null,null,null,null,null,null,null,null,null,null,null,null,null,null,null,null,null,null,null,null,null,null,null,null,null,null,null,null,null,null,null,null,null,null,null,null,null,null,null,null,null,null,null,null,null,null,null,null,null,null,null,null,null,null,null,null,null,null,null,null,null,null,null,null,null,null,null,null,null,null,null,null,null,null,null,null,null,null,null,null,null,null,null,null,null,null,null,null,null,null,null,null,null,null,null,null,null,null,null,null,null,null,null,null,null,null,null,null,null,null,null,null,null,null,null,null,null,null,null,null,null,null,null,null,null,null,null,null,null,null,null,null,null,null,null,null,null,null,null,null,null,null,null,null,null,null,null,null,null,null,null,null,null,null,null,null,null,null,null,null,null,null,null,null,null,null,null,null,null,null,null,null,null,null,null,null,null,null,null,null,null,null,null,null,null,null,null,null,null,null,null,null,null,null,null,null,null,null,null,null,null,null,null,null,null,null,null,null,null,null,null,null,null,null,null,null,null,null,null,null,null,null,null,null,null,null,null,null,null,null,null,null,null,null,null,null,null,null,null,null,null,null,null,null,null,null,null,null,null,null,null,null,null,null,null,null,null,null,null,null,null,null,null,null,null,null,null,null,null,null,null,null,null,null,null,null,null,null,null,null,null,null,null,null,null,null,null,null,null,null,null,null,null,null,null,null,null,null,null,null,null,null,null,null,null,null,null,null,null,null,null,null,null,null,null,null,null,null,null,null,null,null,null,null,null,null,null,null,null,null,null,null,null,null,null,null,null,null,null,null,null,null,null,null,null,null,null,null,null,null,null,null,null,null,null,null,null,null,null,null,null,null,null,null,null,null,null,null,null,null,null,null,95,{"$error":"#VALUE!"},{"$error":"#VALUE!"},{"$error":"#VALUE!"},0,0,0,0,0,0,0,0,0]
[96,2096,null,null,null,null,null,null,null,null,null,null,null,null,null,null,null,null,null,null,null,null,null,null,null,null,null,null,null,null,null,null,null,null,null,null,null,null,null,null,null,null,null,null,null,null,null,null,null,null,null,null,null,null,null,null,null,null,null,null,null,null,null,null,null,null,null,null,null,null,null,null,null,null,null,null,null,null,null,null,null,null,null,null,null,null,null,null,null,null,null,null,null,null,null,null,null,null,null,null,null,null,null,null,null,null,null,null,null,null,null,null,null,null,null,null,null,null,null,null,null,null,null,null,null,null,null,null,null,null,null,null,null,null,null,null,null,null,null,null,null,null,null,null,null,null,null,null,null,null,null,null,null,null,null,null,null,null,null,null,null,null,null,null,null,null,null,null,null,null,null,null,null,null,null,null,null,null,null,null,null,null,null,null,null,null,null,null,null,null,null,null,null,null,null,null,null,null,null,null,null,null,null,null,null,null,null,null,null,null,null,null,null,null,null,null,null,null,null,null,null,null,null,null,null,null,null,null,null,null,null,null,null,null,null,null,null,null,null,null,null,null,null,null,null,null,null,null,null,null,null,null,null,null,null,null,null,null,null,null,null,null,null,null,null,null,null,null,null,null,null,null,null,null,null,null,null,null,null,null,null,null,null,null,null,null,null,null,null,null,null,null,null,null,null,null,null,null,null,null,null,null,null,null,null,null,null,null,null,null,null,null,null,null,null,null,null,null,null,null,null,null,null,null,null,null,null,null,null,null,null,null,null,null,null,null,null,null,null,null,null,null,null,null,null,null,null,null,null,null,null,null,null,null,null,null,null,null,null,null,null,null,null,null,null,null,null,null,null,null,null,null,null,null,null,null,null,null,null,null,null,null,null,null,null,null,null,null,null,null,null,null,null,null,null,null,null,null,null,null,null,null,null,null,null,null,null,null,null,null,null,null,null,null,null,null,null,null,null,null,null,null,null,null,null,null,null,null,null,null,null,null,null,null,null,null,null,null,null,null,null,null,null,null,null,null,null,null,null,null,null,null,null,null,null,null,null,null,null,null,null,null,null,null,null,null,null,null,null,null,null,null,null,null,null,null,null,null,null,null,null,null,null,null,null,null,null,null,null,null,null,null,null,null,null,null,null,null,null,null,null,null,null,null,null,null,null,null,null,null,null,null,null,null,null,null,null,null,null,null,null,null,null,null,null,null,null,null,null,null,null,null,null,null,null,null,null,null,null,null,null,null,null,null,null,null,null,null,null,null,null,null,null,null,null,null,null,null,null,null,null,null,null,null,null,null,null,null,null,null,null,null,null,null,null,null,null,null,null,null,null,null,null,null,null,null,null,null,null,null,null,null,null,null,null,null,null,null,null,null,null,null,null,null,null,null,null,null,null,null,null,null,null,null,null,null,null,null,null,null,null,null,null,null,null,null,null,null,null,null,null,null,null,null,null,null,null,null,null,null,null,null,null,null,null,null,null,null,null,null,null,null,null,null,null,null,null,null,null,null,null,null,null,null,null,null,null,null,null,null,null,null,null,null,null,null,null,null,null,null,null,null,null,null,null,null,null,null,null,null,null,null,null,null,null,null,null,null,null,null,null,null,null,null,null,null,null,null,null,null,null,null,null,null,null,null,null,null,null,null,null,null,null,null,null,null,null,null,null,null,null,null,null,null,null,null,null,null,null,null,null,null,null,null,null,null,null,null,null,null,null,null,null,null,null,null,null,null,null,null,null,null,null,null,null,null,null,null,null,null,null,null,null,null,null,null,null,null,null,null,null,null,null,null,null,null,null,null,null,null,null,null,null,null,null,null,null,null,null,null,null,null,null,null,null,null,null,null,null,null,null,null,null,null,null,null,null,null,null,null,null,null,null,null,null,null,null,null,null,null,null,null,null,null,null,null,null,null,null,null,null,null,null,null,null,null,null,null,null,null,null,null,null,null,null,null,null,null,96,{"$error":"#VALUE!"},{"$error":"#VALUE!"},{"$error":"#VALUE!"},0,0,0,0,0,0,0,0,0]
[97,2097,null,null,null,null,null,null,null,null,null,null,null,null,null,null,null,null,null,null,null,null,null,null,null,null,null,null,null,null,null,null,null,null,null,null,null,null,null,null,null,null,null,null,null,null,null,null,null,null,null,null,null,null,null,null,null,null,null,null,null,null,null,null,null,null,null,null,null,null,null,null,null,null,null,null,null,null,null,null,null,null,null,null,null,null,null,null,null,null,null,null,null,null,null,null,null,null,null,null,null,null,null,null,null,null,null,null,null,null,null,null,null,null,null,null,null,null,null,null,null,null,null,null,null,null,null,null,null,null,null,null,null,null,null,null,null,null,null,null,null,null,null,null,null,null,null,null,null,null,null,null,null,null,null,null,null,null,null,null,null,null,null,null,null,null,null,null,null,null,null,null,null,null,null,null,null,null,null,null,null,null,null,null,null,null,null,null,null,null,null,null,null,null,null,null,null,null,null,null,null,null,null,null,null,null,null,null,null,null,null,null,null,null,null,null,null,null,null,null,null,null,null,null,null,null,null,null,null,null,null,null,null,null,null,null,null,null,null,null,null,null,null,null,null,null,null,null,null,null,null,null,null,null,null,null,null,null,null,null,null,null,null,null,null,null,null,null,null,null,null,null,null,null,null,null,null,null,null,null,null,null,null,null,null,null,null,null,null,null,null,null,null,null,null,null,null,null,null,null,null,null,null,null,null,null,null,null,null,null,null,null,null,null,null,null,null,null,null,null,null,null,null,null,null,null,null,null,null,null,null,null,null,null,null,null,null,null,null,null,null,null,null,null,null,null,null,null,null,null,null,null,null,null,null,null,null,null,null,null,null,null,null,null,null,null,null,null,null,null,null,null,null,null,null,null,null,null,null,null,null,null,null,null,null,null,null,null,null,null,null,null,null,null,null,null,null,null,null,null,null,null,null,null,null,null,null,null,null,null,null,null,null,null,null,null,null,null,null,null,null,null,null,null,null,null,null,null,null,null,null,null,null,null,null,null,null,null,null,null,null,null,null,null,null,null,null,null,null,null,null,null,null,null,null,null,null,null,null,null,null,null,null,null,null,null,null,null,null,null,null,null,null,null,null,null,null,null,null,null,null,null,null,null,null,null,null,null,null,null,null,null,null,null,null,null,null,null,null,null,null,null,null,null,null,null,null,null,null,null,null,null,null,null,null,null,null,null,null,null,null,null,null,null,null,null,null,null,null,null,null,null,null,null,null,null,null,null,null,null,null,null,null,null,null,null,null,null,null,null,null,null,null,null,null,null,null,null,null,null,null,null,null,null,null,null,null,null,null,null,null,null,null,null,null,null,null,null,null,null,null,null,null,null,null,null,null,null,null,null,null,null,null,null,null,null,null,null,null,null,null,null,null,null,null,null,null,null,null,null,null,null,null,null,null,null,null,null,null,null,null,null,null,null,null,null,null,null,null,null,null,null,null,null,null,null,null,null,null,null,null,null,null,null,null,null,null,null,null,null,null,null,null,null,null,null,null,null,null,null,null,null,null,null,null,null,null,null,null,null,null,null,null,null,null,null,null,null,null,null,null,null,null,null,null,null,null,null,null,null,null,null,null,null,null,null,null,null,null,null,null,null,null,null,null,null,null,null,null,null,null,null,null,null,null,null,null,null,null,null,null,null,null,null,null,null,null,null,null,null,null,null,null,null,null,null,null,null,null,null,null,null,null,null,null,null,null,null,null,null,null,null,null,null,null,null,null,null,null,null,null,null,null,null,null,null,null,null,null,null,null,null,null,null,null,null,null,null,null,null,null,null,null,null,null,null,null,null,null,null,null,null,null,null,null,null,null,null,null,null,null,null,null,null,null,null,null,null,null,null,null,null,null,null,null,null,null,null,null,null,null,null,null,null,null,null,null,null,null,null,null,null,null,null,null,null,null,null,null,null,null,null,null,null,null,null,null,null,null,null,null,null,null,null,null,null,null,null,97,{"$error":"#VALUE!"},{"$error":"#VALUE!"},{"$error":"#VALUE!"},0,0,0,0,0,0,0,0,0]
[98,2098,null,null,null,null,null,null,null,null,null,null,null,null,null,null,null,null,null,null,null,null,null,null,null,null,null,null,null,null,null,null,null,null,null,null,null,null,null,null,null,null,null,null,null,null,null,null,null,null,null,null,null,null,null,null,null,null,null,null,null,null,null,null,null,null,null,null,null,null,null,null,null,null,null,null,null,null,null,null,null,null,null,null,null,null,null,null,null,null,null,null,null,null,null,null,null,null,null,null,null,null,null,null,null,null,null,null,null,null,null,null,null,null,null,null,null,null,null,null,null,null,null,null,null,null,null,null,null,null,null,null,null,null,null,null,null,null,null,null,null,null,null,null,null,null,null,null,null,null,null,null,null,null,null,null,null,null,null,null,null,null,null,null,null,null,null,null,null,null,null,null,null,null,null,null,null,null,null,null,null,null,null,null,null,null,null,null,null,null,null,null,null,null,null,null,null,null,null,null,null,null,null,null,null,null,null,null,null,null,null,null,null,null,null,null,null,null,null,null,null,null,null,null,null,null,null,null,null,null,null,null,null,null,null,null,null,null,null,null,null,null,null,null,null,null,null,null,null,null,null,null,null,null,null,null,null,null,null,null,null,null,null,null,null,null,null,null,null,null,null,null,null,null,null,null,null,null,null,null,null,null,null,null,null,null,null,null,null,null,null,null,null,null,null,null,null,null,null,null,null,null,null,null,null,null,null,null,null,null,null,null,null,null,null,null,null,null,null,null,null,null,null,null,null,null,null,null,null,null,null,null,null,null,null,null,null,null,null,null,null,null,null,null,null,null,null,null,null,null,null,null,null,null,null,null,null,null,null,null,null,null,null,null,null,null,null,null,null,null,null,null,null,null,null,null,null,null,null,null,null,null,null,null,null,null,null,null,null,null,null,null,null,null,null,null,null,null,null,null,null,null,null,null,null,null,null,null,null,null,null,null,null,null,null,null,null,null,null,null,null,null,null,null,null,null,null,null,null,null,null,null,null,null,null,null,null,null,null,null,null,null,null,null,null,null,null,null,null,null,null,null,null,null,null,null,null,null,null,null,null,null,null,null,null,null,null,null,null,null,null,null,null,null,null,null,null,null,null,null,null,null,null,null,null,null,null,null,null,null,null,null,null,null,null,null,null,null,null,null,null,null,null,null,null,null,null,null,null,null,null,null,null,null,null,null,null,null,null,null,null,null,null,null,null,null,null,null,null,null,null,null,null,null,null,null,null,null,null,null,null,null,null,null,null,null,null,null,null,null,null,null,null,null,null,null,null,null,null,null,null,null,null,null,null,null,null,null,null,null,null,null,null,null,null,null,null,null,null,null,null,null,null,null,null,null,null,null,null,null,null,null,null,null,null,null,null,null,null,null,null,null,null,null,null,null,null,null,null,null,null,null,null,null,null,null,null,null,null,null,null,null,null,null,null,null,null,null,null,null,null,null,null,null,null,null,null,null,null,null,null,null,null,null,null,null,null,null,null,null,null,null,null,null,null,null,null,null,null,null,null,null,null,null,null,null,null,null,null,null,null,null,null,null,null,null,null,null,null,null,null,null,null,null,null,null,null,null,null,null,null,null,null,null,null,null,null,null,null,null,null,null,null,null,null,null,null,null,null,null,null,null,null,null,null,null,null,null,null,null,null,null,null,null,null,null,null,null,null,null,null,null,null,null,null,null,null,null,null,null,null,null,null,null,null,null,null,null,null,null,null,null,null,null,null,null,null,null,null,null,null,null,null,null,null,null,null,null,null,null,null,null,null,null,null,null,null,null,null,null,null,null,null,null,null,null,null,null,null,null,null,null,null,null,null,null,null,null,null,null,null,null,null,null,null,null,null,null,null,null,null,null,null,null,null,null,null,null,null,null,null,null,null,null,null,null,null,null,null,null,null,null,null,null,null,null,null,null,null,null,null,null,null,null,null,null,null,null,null,null,null,null,null,null,null,null,null,null,98,{"$error":"#VALUE!"},{"$error":"#VALUE!"},{"$error":"#VALUE!"},0,0,0,0,0,0,0,0,0]
[99,2099,null,null,null,null,null,null,null,null,null,null,null,null,null,null,null,null,null,null,null,null,null,null,null,null,null,null,null,null,null,null,null,null,null,null,null,null,null,null,null,null,null,null,null,null,null,null,null,null,null,null,null,null,null,null,null,null,null,null,null,null,null,null,null,null,null,null,null,null,null,null,null,null,null,null,null,null,null,null,null,null,null,null,null,null,null,null,null,null,null,null,null,null,null,null,null,null,null,null,null,null,null,null,null,null,null,null,null,null,null,null,null,null,null,null,null,null,null,null,null,null,null,null,null,null,null,null,null,null,null,null,null,null,null,null,null,null,null,null,null,null,null,null,null,null,null,null,null,null,null,null,null,null,null,null,null,null,null,null,null,null,null,null,null,null,null,null,null,null,null,null,null,null,null,null,null,null,null,null,null,null,null,null,null,null,null,null,null,null,null,null,null,null,null,null,null,null,null,null,null,null,null,null,null,null,null,null,null,null,null,null,null,null,null,null,null,null,null,null,null,null,null,null,null,null,null,null,null,null,null,null,null,null,null,null,null,null,null,null,null,null,null,null,null,null,null,null,null,null,null,null,null,null,null,null,null,null,null,null,null,null,null,null,null,null,null,null,null,null,null,null,null,null,null,null,null,null,null,null,null,null,null,null,null,null,null,null,null,null,null,null,null,null,null,null,null,null,null,null,null,null,null,null,null,null,null,null,null,null,null,null,null,null,null,null,null,null,null,null,null,null,null,null,null,null,null,null,null,null,null,null,null,null,null,null,null,null,null,null,null,null,null,null,null,null,null,null,null,null,null,null,null,null,null,null,null,null,null,null,null,null,null,null,null,null,null,null,null,null,null,null,null,null,null,null,null,null,null,null,null,null,null,null,null,null,null,null,null,null,null,null,null,null,null,null,null,null,null,null,null,null,null,null,null,null,null,null,null,null,null,null,null,null,null,null,null,null,null,null,null,null,null,null,null,null,null,null,null,null,null,null,null,null,null,null,null,null,null,null,null,null,null,null,null,null,null,null,null,null,null,null,null,null,null,null,null,null,null,null,null,null,null,null,null,null,null,null,null,null,null,null,null,null,null,null,null,null,null,null,null,null,null,null,null,null,null,null,null,null,null,null,null,null,null,null,null,null,null,null,null,null,null,null,null,null,null,null,null,null,null,null,null,null,null,null,null,null,null,null,null,null,null,null,null,null,null,null,null,null,null,null,null,null,null,null,null,null,null,null,null,null,null,null,null,null,null,null,null,null,null,null,null,null,null,null,null,null,null,null,null,null,null,null,null,null,null,null,null,null,null,null,null,null,null,null,null,null,null,null,null,null,null,null,null,null,null,null,null,null,null,null,null,null,null,null,null,null,null,null,null,null,null,null,null,null,null,null,null,null,null,null,null,null,null,null,null,null,null,null,null,null,null,null,null,null,null,null,null,null,null,null,null,null,null,null,null,null,null,null,null,null,null,null,null,null,null,null,null,null,null,null,null,null,null,null,null,null,null,null,null,null,null,null,null,null,null,null,null,null,null,null,null,null,null,null,null,null,null,null,null,null,null,null,null,null,null,null,null,null,null,null,null,null,null,null,null,null,null,null,null,null,null,null,null,null,null,null,null,null,null,null,null,null,null,null,null,null,null,null,null,null,null,null,null,null,null,null,null,null,null,null,null,null,null,null,null,null,null,null,null,null,null,null,null,null,null,null,null,null,null,null,null,null,null,null,null,null,null,null,null,null,null,null,null,null,null,null,null,null,null,null,null,null,null,null,null,null,null,null,null,null,null,null,null,null,null,null,null,null,null,null,null,null,null,null,null,null,null,null,null,null,null,null,null,null,null,null,null,null,null,null,null,null,null,null,null,null,null,null,null,null,null,null,null,null,null,null,null,null,null,null,null,null,null,null,null,null,null,null,null,null,null,null,null,null,null,null,null,null,null,null,null,null,null,null,null,null,99,{"$error":"#VALUE!"},{"$error":"#VALUE!"},{"$error":"#VALUE!"},0,0,0,0,0,0,0,0,0]
[100,2100,null,null,null,null,null,null,null,null,null,null,null,null,null,null,null,null,null,null,null,null,null,null,null,null,null,null,null,null,null,null,null,null,null,null,null,null,null,null,null,null,null,null,null,null,null,null,null,null,null,null,null,null,null,null,null,null,null,null,null,null,null,null,null,null,null,null,null,null,null,null,null,null,null,null,null,null,null,null,null,null,null,null,null,null,null,null,null,null,null,null,null,null,null,null,null,null,null,null,null,null,null,null,null,null,null,null,null,null,null,null,null,null,null,null,null,null,null,null,null,null,null,null,null,null,null,null,null,null,null,null,null,null,null,null,null,null,null,null,null,null,null,null,null,null,null,null,null,null,null,null,null,null,null,null,null,null,null,null,null,null,null,null,null,null,null,null,null,null,null,null,null,null,null,null,null,null,null,null,null,null,null,null,null,null,null,null,null,null,null,null,null,null,null,null,null,null,null,null,null,null,null,null,null,null,null,null,null,null,null,null,null,null,null,null,null,null,null,null,null,null,null,null,null,null,null,null,null,null,null,null,null,null,null,null,null,null,null,null,null,null,null,null,null,null,null,null,null,null,null,null,null,null,null,null,null,null,null,null,null,null,null,null,null,null,null,null,null,null,null,null,null,null,null,null,null,null,null,null,null,null,null,null,null,null,null,null,null,null,null,null,null,null,null,null,null,null,null,null,null,null,null,null,null,null,null,null,null,null,null,null,null,null,null,null,null,null,null,null,null,null,null,null,null,null,null,null,null,null,null,null,null,null,null,null,null,null,null,null,null,null,null,null,null,null,null,null,null,null,null,null,null,null,null,null,null,null,null,null,null,null,null,null,null,null,null,null,null,null,null,null,null,null,null,null,null,null,null,null,null,null,null,null,null,null,null,null,null,null,null,null,null,null,null,null,null,null,null,null,null,null,null,null,null,null,null,null,null,null,null,null,null,null,null,null,null,null,null,null,null,null,null,null,null,null,null,null,null,null,null,null,null,null,null,null,null,null,null,null,null,null,null,null,null,null,null,null,null,null,null,null,null,null,null,null,null,null,null,null,null,null,null,null,null,null,null,null,null,null,null,null,null,null,null,null,null,null,null,null,null,null,null,null,null,null,null,null,null,null,null,null,null,null,null,null,null,null,null,null,null,null,null,null,null,null,null,null,null,null,null,null,null,null,null,null,null,null,null,null,null,null,null,null,null,null,null,null,null,null,null,null,null,null,null,null,null,null,null,null,null,null,null,null,null,null,null,null,null,null,null,null,null,null,null,null,null,null,null,null,null,null,null,null,null,null,null,null,null,null,null,null,null,null,null,null,null,null,null,null,null,null,null,null,null,null,null,null,null,null,null,null,null,null,null,null,null,null,null,null,null,null,null,null,null,null,null,null,null,null,null,null,null,null,null,null,null,null,null,null,null,null,null,null,null,null,null,null,null,null,null,null,null,null,null,null,null,null,null,null,null,null,null,null,null,null,null,null,null,null,null,null,null,null,null,null,null,null,null,null,null,null,null,null,null,null,null,null,null,null,null,null,null,null,null,null,null,null,null,null,null,null,null,null,null,null,null,null,null,null,null,null,null,null,null,null,null,null,null,null,null,null,null,null,null,null,null,null,null,null,null,null,null,null,null,null,null,null,null,null,null,null,null,null,null,null,null,null,null,null,null,null,null,null,null,null,null,null,null,null,null,null,null,null,null,null,null,null,null,null,null,null,null,null,null,null,null,null,null,null,null,null,null,null,null,null,null,null,null,null,null,null,null,null,null,null,null,null,null,null,null,null,null,null,null,null,null,null,null,null,null,null,null,null,null,null,null,null,null,null,null,null,null,null,null,null,null,null,null,null,null,null,null,null,null,null,null,null,null,null,null,null,null,null,null,null,null,null,null,null,null,null,null,null,null,null,null,null,null,null,null,null,null,null,null,null,null,null,null,null,null,null,null,null,null,null,null,null,100,{"$f":"+VALUE(K117&L117&M117&N117&O117&P117&Q117&R117&S117&T117)","v":{"$error":"#VALUE!"}},{"$f":"+VALUE(U117&V117&W117&X117&Y117&Z117&AA117&AB117&AC117)","v":{"$error":"#VALUE!"}},{"$f":"+VALUE(AE117&AF117&AG117&AH117)","v":{"$error":"#VALUE!"}},{"$f":"+SUM(AY117:BB117)","v":0},{"$f":"+SUM(CK117:CN117)","v":0},{"$f":"+SUM(DW117:DZ117)","v":0},{"$f":"+SUM(FI117:FL117)","v":0},{"$f":"+SUM(GU117:GX117)","v":0},{"$f":"+SUM(IG117:IJ117)","v":0},{"$f":"+SUM(JS117:JW117)","v":0},{"$f":"+SUM(LE117:LH117)","v":0},{"$f":"+SUM(MQ117:MT117)","v":0}]
[null,null,null,null,null,null,null,null,null,null,null,null,null,null,null,null,null,null,null,null,null,null,null,null,null,null,null,null,null,null,null,null,null,null,null,null,null,null,null,null,null,null,null,null,null,null,null,null,null,null,null,null,null,null,null,null,null,null,null,null,null,null,null,null,null,null,null,null,null,null,null,null,null,null,null,null,"あ",null,null,null,null,null,null,null,null,null,null,null,null,null,null,null,null,null,null,null,null,null,null,null,null,null,null,null,null,null,null,null,null,null,null,null,null,null,null,null,null,null,null,null,null,null,null,null,null,null,null,null,null,null,null,null,null,null,null,null,null,null,null,null,null,null,null,null,null,null,null,null,null,null,null,null,null,null,null,null,null,null,null,null,null,null,null,null,null,null,null,null,null,null,null,null,null,null,null,null,null,null,null,null,null,null,null,null,null,null,null,null,null,null,"あ",null,null,null,null,null,null,null,null,null,null,null,null,null,null,null,null,null,null,null,null,null,null,null,null,null,null,null,null,null,null,null,null,null,null,null,null,null,null,null,null,null,null,null,null,null,null,null,null,null,null,null,null,null,null,null,null,null,null,null,null,null,null,null,null,null,null,null,null,null,null,null,null,null,null,null,null,null,null,null,null,null,null,null,null,null,null,null,null,null,null,null,null,null,null,null,null,null,null,null,null,null,null,null,null,null,null,null,null,null,null,null,null,null,"あ",null,null,null,null,null,null,null,null,null,null,null,null,null,null,null,null,null,null,null,null,null,null,null,null,null,null,null,null,null,null,null,null,null,null,null,null,null,null,null,null,null,null,null,null,null,null,null,null,null,null,null,null,null,null,null,null,null,null,null,null,null,null,null,null,null,null,null,null,null,null,null,null,null,null,null,null,null,null,null,null,null,null,null,null,null,null,null,null,null,null,null,null,null,null,null,null,null,null,null,null,null,null,null,null,null,null,null,null,null,null,null,null,null,null,null,null,null,null,null,null,null,null,null,null,null,null,null,null,null,null,null,null,null,null,null,null,null,null,null,null,null,null,null,null,null,null,null,null,null,null,null,null,null,null,null,null,null,null,null,null,null,null,null,null,null,null,null,null,null,null,null,null,null,null,null,null,null,null,null,null,null,null,null,null,null,null,null,null,null,null,null,null,null,null,null,null,null,null,null,null,null,null,null,null,null,null,null,null,null,null,null,null,null,null,null,null,null,null,null,null,null,null,null,null,null,null,null,null,null,null,null,null,null,null,null,null,null,null,null,null,null,null,null,null,null,null,null,null,null,null,null,null,null,null,null,null,null,null,null,null,null,null,null,null,null,"あ",null,null,null,null,null,null,null,null,null,null,null,null,null,null,null,null,null,null,null,null,null,null,null,null,null,null,null,null,null,null,null,null,null,null,null,null,null,null,null,null,null,null,null,null,null,null,null,null,null,"あ",null,null,null,null,null,null,null,null,null,null,null,null,null,null,null,null,null,null,null,null,null,null,null,null,null,null,null,null,null,null,null,null,null,null,null,null,null,null,null,null,null,null,null,null,null,null,null,null,null,"あ"]

{"sheet":"入力履歴（～2018）","index":29,"n_rows":273,"n_cols":5,"rows_kept":273,"cut":false,"hidden":true,"merged":[]}
[null,"列","貨物","旅客","航空"]
["表紙","事業者指定番号",-1,-1,-1]
[null,"特定排出者番号",-1,-1,-1]
[null,"貨物輸送区分",35,35,35]
[null,"予備"]
[null,"予備"]
[null,"予備"]
[null,"予備"]
[null,"予備"]
["第１表","揮発油",40,154,268]
[null,"ジェット燃料油",41,155,269]
[null,"軽油",42,156,270]
[null,"Ａ重油",43,157,271]
[null,"Ｂ・Ｃ重油",44,158,272]
[null,"液化石油ガス(ＬＰＧ)",45,159,273]
[null,"液化天然ガス(ＬＮＧ)",46,160,274]
[null,"石炭（原料炭）",47,161,275]
[null,"石炭（一般炭）",48,162,276]
[null,"石炭（無煙炭）",49,163,277]
[null,"都市ガス（CNGを含む。）",50,164,278]
[null,"昼間買電",51,165,279]
[null,"夏季・冬季における電気需要平準化時間帯",52,166,280]
[null,"夜間買電",53,167,281]
[null,"上記以外の買電",54,168,282]
[null,"自家発電",55,169,283]
[null,"CO2排出量独自揮発油",61,175,289]
[null,"CO2排出量独自ジェット燃料油",62,176,290]
[null,"CO2排出量独自軽油",63,177,291]
[null,"CO2排出量独自Ａ重油",64,178,292]
[null,"CO2排出量独自Ｂ・Ｃ重油",65,179,293]
[null,"CO2排出量独自液化石油ガス(ＬＰＧ)",66,180,294]
[null,"CO2排出量独自液化天然ガス(ＬＮＧ)",67,181,295]
[null,"CO2排出量独自石炭（原料炭）",68,182,296]
[null,"CO2排出量独自石炭（一般炭）",69,183,297]
[null,"CO2排出量独自石炭（無煙炭）",70,184,298]
[null,"CO2排出量独自都市ガス（CNGを含む。）",71,185,299]
[null,"CO2排出量独自昼間買電",72,186,300]
[null,"CO2排出量独自夏季・冬季における電気需要平準化時間帯",73,187,301]
[null,"CO2排出量独自夜間買電",74,188,302]
[null,"CO2排出量独自上記以外の買電",75,189,303]
[null,"その他エネルギー名",57,171,285]
[null,"その他エネルギー単位",58,172,286]
[null,"その他エネルギー値",56,170,284]
[null,"その他エネルギー熱量GJ",59,173,287]
[null,"その他エネルギーCO2排出量",60,174,288]
[null,"ガス量",76,190,304]
[null,"単位発熱量",77,191,305]
[null,"A重油"]
[null,"B重油"]
[null,"C重油"]
[null,"LPG"]
["第2表","器具の名称",467,467,467]
[null,"器具の概要",468,468,468]
[null,"使用状況",469,469,469]
[null,"導入・改造・廃棄の状況",470,470,470]
[null,"器具の名称",471,471,471]
[null,"器具の概要",472,472,472]
[null,"使用状況",473,473,473]
[null,"導入・改造・廃棄の状況",474,474,474]
[null,"器具の名称",475,475,475]
[null,"器具の概要",476,476,476]
[null,"使用状況",477,477,477]
[null,"導入・改造・廃棄の状況",478,478,478]
[null,"器具の名称",479,479,479]
[null,"器具の概要",480,480,480]
[null,"使用状況",481,481,481]
[null,"導入・改造・廃棄の状況",482,482,482]
[null,"器具の名称",483,483,483]
[null,"器具の概要",484,484,484]
[null,"使用状況",485,485,485]
[null,"導入・改造・廃棄の状況",486,486,486]
[null,"器具の名称",487,487,487]
[null,"器具の概要",488,488,488]
[null,"使用状況",489,489,489]
[null,"導入・改造・廃棄の状況",490,490,490]
[null,"器具の名称",491,491,491]
[null,"器具の概要",492,492,492]
[null,"使用状況",493,493,493]
[null,"導入・改造・廃棄の状況",494,494,494]
[null,"器具の名称",495,495,495]
[null,"器具の概要",496,496,496]
[null,"使用状況",497,497,497]
[null,"導入・改造・廃棄の状況",498,498,498]
[null,"器具の名称",499,499,499]
[null,"器具の概要",500,500,500]
[null,"使用状況",501,501,501]
[null,"導入・改造・廃棄の状況",502,502,502]
[null,"器具の名称",503,503,503]
[null,"器具の概要",504,504,504]
[null,"使用状況",505,505,505]
[null,"導入・改造・廃棄の状況",506,506,506]
[null,"器具の名称",507,507,507]
[null,"器具の概要",508,508,508]
[null,"使用状況",509,509,509]
[null,"導入・改造・廃棄の状況",510,510,510]
[null,"器具の名称",511,511,511]
[null,"器具の概要",512,512,512]
[null,"使用状況",513,513,513]
[null,"導入・改造・廃棄の状況",514,514,514]
[null,"器具の名称",515,515,515]
[null,"器具の概要",516,516,516]
[null,"使用状況",517,517,517]
[null,"導入・改造・廃棄の状況",518,518,518]
[null,"器具の名称",519,519,519]
[null,"器具の概要",520,520,520]
[null,"使用状況",521,521,521]
[null,"導入・改造・廃棄の状況",522,522,522]
[null,"器具の名称",523,523,523]
[null,"器具の概要",524,524,524]
[null,"使用状況",525,525,525]
[null,"導入・改造・廃棄の状況",526,526,526]
[null,"器具の名称",527,527,527]
[null,"器具の概要",528,528,528]
[null,"使用状況",529,529,529]
[null,"導入・改造・廃棄の状況",530,530,530]
[null,"器具の名称",531,531,531]
[null,"器具の概要",532,532,532]
[null,"使用状況",533,533,533]
[null,"導入・改造・廃棄の状況",534,534,534]
["第3表","量",535,539,543]
["第6表","イの理由1",721,729,737]
[null,"イの理由2",722,730,738]
[null,"イの理由3",723,731,739]
[null,"イの理由4",724,732,740]
[null,"ロの理由1",725,733,741]
[null,"ロの理由2",726,734,742]
[null,"ロの理由3",727,735,743]
[null,"ロの理由4",728,736,744]
[null,"ハの理由1",745,753,761]
[null,"ハの理由2",746,754,762]
[null,"ハの理由3",747,755,763]
[null,"ハの理由4",748,756,764]
[null,"ニの理由1",749,757,765]
[null,"ニの理由2",750,758,766]
[null,"ニの理由3",751,759,767]
[null,"ニの理由4",752,760,768]
["第7表","省エネ指針策定、見直し",769,786,799]
[null,"省エネ目標設定・効測定策見直し",773,790,803]
[null,"省エネ推進体制・責任者設置",770,787,800]
[null,"従業員教育実施",772,789,802]
[null,"省エネ輸送用機械器具導入",774,791,804]
[null,"省エネに資する器具導入",775,792,805]
[null,"省エネ運転・操縦",776,793,806]
[null,"効率的輸送ルート選択",777,794,807]
[null,"冷凍機効率の向上",778,795,808]
[null,"輸送用機械器具大型化",779,796,809]
[null,"積載率向上",780,797,810]
[null,"対貨物量輸送能力適正化",781,798,811]
[null,"空荷走行・航行距離縮減",782,null,812]
[null,"荷主等関係者連携強化",783]
[null,"効率的輸送方法選択促進",784]
[null,"物流拠点の整備",785]
["第8表","エネルギーの使用の合理化に関する事項1",813,813,813]
[null,"エネルギーの使用の合理化に関する事項2",814,814,814]
[null,"エネルギーの使用の合理化に関する事項3",815,815,815]
[null,"エネルギーの使用の合理化に関する事項4",816,816,816]
[null,"電気の需要の平準化に資する措置に関する事項1",817,817,817]
[null,"電気の需要の平準化に資する措置に関する事項2",818,818,818]
[null,"電気の需要の平準化に資する措置に関する事項3",819,819,819]
[null,"電気の需要の平準化に資する措置に関する事項4",820,820,820]
["第9表","内容1",822,822,822]
[null,"内容2",823,823,823]
[null,"内容3",824,824,824]
[null,"内容4",825,825,825]
[null,"内容5",826,826,826]
[null,"内容6",827,827,827]
[null,"内容7",828,828,828]
[null,"内容8",829,829,829]
[null,"請求有無",830,830,830]
[null,"情報提供有無",831,831,831]
["入力・計算補助（電気）","事業者1"]
[null,"事業者2"]
[null,"事業者3"]
[null,"事業者4"]
[null,"事業者5"]
[null,"事業者6"]
[null,"事業者7"]
[null,"事業者8"]
[null,"事業者9"]
[null,"事業者10"]
[null,"事業者11"]
[null,"事業者12"]
[null,"事業者13"]
[null,"事業者14"]
[null,"事業者15"]
[null,"事業者16"]
[null,"事業者17"]
[null,"事業者18"]
[null,"事業者19"]
[null,"事業者20"]
[null,"排出係数1"]
[null,"排出係数2"]
[null,"排出係数3"]
[null,"排出係数4"]
[null,"排出係数5"]
[null,"排出係数6"]
[null,"排出係数7"]
[null,"排出係数8"]
[null,"排出係数9"]
[null,"排出係数10"]
[null,"排出係数11"]
[null,"排出係数12"]
[null,"排出係数13"]
[null,"排出係数14"]
[null,"排出係数15"]
[null,"排出係数16"]
[null,"排出係数17"]
[null,"排出係数18"]
[null,"排出係数19"]
[null,"排出係数20"]
[null,"昼間買電量1"]
[null,"昼間買電量2"]
[null,"昼間買電量3"]
[null,"昼間買電量4"]
[null,"昼間買電量5"]
[null,"昼間買電量6"]
[null,"昼間買電量7"]
[null,"昼間買電量8"]
[null,"昼間買電量9"]
[null,"昼間買電量10"]
[null,"昼間買電量11"]
[null,"昼間買電量12"]
[null,"昼間買電量13"]
[null,"昼間買電量14"]
[null,"昼間買電量15"]
[null,"昼間買電量16"]
[null,"昼間買電量17"]
[null,"昼間買電量18"]
[null,"昼間買電量19"]
[null,"昼間買電量20"]
[null,"うち夏季・冬季における電気需要平準化時間帯1"]
[null,"うち夏季・冬季における電気需要平準化時間帯2"]
[null,"うち夏季・冬季における電気需要平準化時間帯3"]
[null,"うち夏季・冬季における電気需要平準化時間帯4"]
[null,"うち夏季・冬季における電気需要平準化時間帯5"]
[null,"うち夏季・冬季における電気需要平準化時間帯6"]
[null,"うち夏季・冬季における電気需要平準化時間帯7"]
[null,"うち夏季・冬季における電気需要平準化時間帯8"]
[null,"うち夏季・冬季における電気需要平準化時間帯9"]
[null,"うち夏季・冬季における電気需要平準化時間帯10"]
[null,"うち夏季・冬季における電気需要平準化時間帯11"]
[null,"うち夏季・冬季における電気需要平準化時間帯12"]
[null,"うち夏季・冬季における電気需要平準化時間帯13"]
[null,"うち夏季・冬季における電気需要平準化時間帯14"]
[null,"うち夏季・冬季における電気需要平準化時間帯15"]
[null,"うち夏季・冬季における電気需要平準化時間帯16"]
[null,"うち夏季・冬季における電気需要平準化時間帯17"]
[null,"うち夏季・冬季における電気需要平準化時間帯18"]
[null,"うち夏季・冬季における電気需要平準化時間帯19"]
[null,"うち夏季・冬季における電気需要平準化時間帯20"]
[null,"夜間買電量1"]
[null,"夜間買電量2"]
[null,"夜間買電量3"]
[null,"夜間買電量4"]
[null,"夜間買電量5"]
[null,"夜間買電量6"]
[null,"夜間買電量7"]
[null,"夜間買電量8"]
[null,"夜間買電量9"]
[null,"夜間買電量10"]
[null,"夜間買電量11"]
[null,"夜間買電量12"]
[null,"夜間買電量13"]
[null,"夜間買電量14"]
[null,"夜間買電量15"]
[null,"夜間買電量16"]
[null,"夜間買電量17"]
[null,"夜間買電量18"]
[null,"夜間買電量19"]
[null,"夜間買電量20"]
[null,"上記以外の買電／事業者"]
[null,"上記以外の買電／排出係数"]
[null,"上記以外の買電／買電量"]

{"sheet":"様式指定","index":30,"n_rows":10,"n_cols":2,"rows_kept":10,"cut":false,"hidden":true,"merged":[]}
[1,"←ここに設定された値で各シートを制御"]
[]
["No","様式番号"]
[1,"第４(貨物)"]
[2,"第８(旅客)"]
[3,"第２５(航空)"]
[4,"第２０（貨物、非特定)"]
[5,"第２１(旅客、非特定)"]
[6,"第１３(認定管理統括貨客)"]
[9,"デバッグモード（認定管理関係以外の全シート表示）"]