{"text_format":"1","workbook":"xlsx","n_sheets":22,"sheets":["入力シート①","入力シート②","マニュアル","TEMP","①入札正式1-5","②入札正式6-10","③入札正式11-15","④入札正式16-20","①入札公表1-5","②入札公表6-10","③入札公表11-15","④入札公表16-20","①入札不調1-5","②入札不調6-10","③入札不調11-15","④入札不調16-20","①見積5者-5回","①見積5者-10回","①見積5者-20回","②見積10者-5回","②見積10者-10回","②見積10者-20回"],"not_rendered":{"charts":0,"images":1,"macros":1,"external_links":0,"defined_names":21,"comments":0,"pivot_tables":0},"unopened":[],"bounds":{"document_bytes":16777216,"sheet_cells":100000,"rows_first":2000,"rows_last":500,"rows_between":2000,"halvings":0,"cell_chars":16384,"cell_head_chars":4096},"cells_cut":0,"cells_raw":0,"read":"whole","date_system":"1900"}

{"sheet":"入力シート①","index":0,"n_rows":31,"n_cols":62,"rows_kept":31,"cut":false,"hidden":false,"merged":[[24,38,24,43],[9,61,9,64],[10,61,10,64],[11,61,11,64],[12,61,12,64],[13,61,13,64],[14,61,14,64],[15,61,15,64],[19,52,21,64],[26,44,26,49],[23,44,23,49],[22,44,22,49],[25,44,25,49],[21,27,21,37],[20,24,20,25],[21,24,21,25],[28,44,28,49],[16,24,16,25],[27,38,27,43],[17,38,17,43],[17,44,17,49],[16,38,16,43],[16,44,16,49],[19,38,19,43],[19,44,19,49],[18,38,18,43],[18,44,18,49],[21,38,21,43],[21,44,21,49],[20,38,20,43],[20,44,20,49],[27,44,27,49],[26,38,26,43],[28,38,28,43],[23,38,23,43],[22,38,22,43],[25,38,25,43],[30,38,30,43],[30,44,30,49],[29,38,29,43],[29,44,29,49],[22,22,22,23],[23,22,23,23],[22,27,22,37],[22,24,22,25],[23,24,23,25],[24,24,24,25],[27,22,27,23],[27,27,27,37],[24,44,24,49],[23,27,23,37],[24,27,24,37],[25,27,25,37],[28,22,28,23],[29,22,29,23],[30,22,30,23],[28,27,28,37],[29,27,29,37],[30,27,30,37],[26,27,26,37],[24,22,24,23],[4,38,4,49],[5,22,5,37],[5,38,5,49],[15,13,15,20],[9,1,10,6],[11,27,11,37],[17,1,17,5],[11,22,11,23],[12,22,12,23],[13,22,13,23],[14,22,14,23],[15,22,15,23],[12,27,12,37],[13,27,13,37],[14,27,14,37],[17,24,17,25],[10,44,10,49],[13,38,13,43],[12,38,12,43],[12,14,12,20],[6,10,6,11],[4,14,4,15],[2,1,2,5],[2,7,2,59],[16,13,16,20],[11,44,11,49],[13,44,13,49],[11,38,11,43],[12,44,12,49],[15,38,15,43],[15,44,15,49],[14,38,14,43],[14,44,14,49],[10,38,10,43],[4,1,4,5],[5,1,5,5],[15,1,15,5],[8,38,9,49],[5,52,7,64],[9,7,10,13],[9,14,10,20],[11,24,11,25],[12,24,12,25],[13,24,13,25],[7,38,7,49],[4,22,4,37],[15,27,15,37],[16,27,16,37],[17,27,17,37],[18,27,18,37],[19,27,19,37],[20,27,20,37],[18,22,18,23],[19,22,19,23],[19,24,19,25],[18,24,18,25],[7,26,10,37],[7,22,9,25],[14,24,14,25],[15,24,15,25],[27,24,27,25],[28,24,28,25],[29,24,29,25],[30,24,30,25],[10,24,10,25],[11,1,11,6],[12,1,12,6],[11,7,11,13],[12,7,12,13],[11,14,11,20],[20,22,20,23],[21,22,21,23],[18,13,18,20],[16,22,16,23],[17,22,17,23],[17,13,17,20],[25,22,25,23],[26,22,26,23],[25,24,25,25],[26,24,26,25],[16,1,16,5],[18,1,18,5],[4,18,4,19],[5,18,5,19],[6,18,6,19],[4,7,4,9],[5,7,5,9],[6,7,6,9],[21,1,21,12],[21,13,21,20],[23,1,23,12],[23,13,23,20],[4,12,4,13],[5,12,5,13],[6,12,6,13],[4,16,4,17],[5,16,5,17],[6,16,6,17],[5,14,5,15],[6,14,6,15],[7,1,7,5],[6,1,6,5],[7,7,7,20],[8,17,8,19],[4,10,4,11],[5,10,5,11]]}
[null,"競争入札経過調書作成システム　【最低価格落札方式】"]
[]
[null,"件名",null,null,null,null,null,"航空機乗組員の身体検査基準及び航空身体検査マニュアル並びに加齢乗員の現状に関する調査"]
[]
[null,"開札年月日",null,null,null,null,null,"平成",null,null,29,null,"年",null,6,null,"月",null,16,null,"日",null,"落札業者名",null,null,null,null,null,null,null,null,null,null,null,null,null,null,null,"落札金額（税込金額）",null,null,null,null,null,null,null,null,null,null,null,null,null,"競争入札経過調書印刷"]
[null,"落札決定日",null,null,null,null,null,"平成",null,null,29,null,"年",null,6,null,"月",null,16,null,"日",null,{"$f":"TEMP!Q2","v":"一般財団法人航空医学研究センター"},null,null,null,null,null,null,null,null,null,null,null,null,null,null,null,{"$f":"TEMP!V2","v":5184000},null,null,null,null,null,null,null,null,null,null,null,null,null,"※入札の経過として、入札参加者数により、正式作成用、公表用、入札不調用のいずれかを選択し、出力シート画面移行するので、適宜印刷等を実行。"]
[null,"証明年月日",null,null,null,null,null,"平成",null,null,29,null,"年",null,6,null,"月",null,16,null,"日"]
[null,"入札執行官署",null,null,null,null,null,"国土交通省航空局",null,null,null,null,null,null,null,null,null,null,null,null,null,null,"落札\n判定",null,null,null,"入札参加者\n※ ①くじ当選 ②入札金額(安) ③無効 ④辞退 ⑤不着の順",null,null,null,null,null,null,null,null,null,null,null,"入札価格情報"]
[null,null,null,null,null,null,null,null,null,null,null,"現在の消費税率",null,null,null,null,null,8,null,null,"％",null,null,null,null,null,null,null,null,null,null,null,null,null,null,null,null,null,{"$f":"\"入札金額(100/\"&100+R9&\")\"","v":"入札金額(100/108)"},null,null,null,null,null,null,null,null,null,null,null,null,null,"①入札参加者数：5者以内",null,null,null,null,null,null,null,null,"不調用確認先"]
[null,"発注者\n金額データ",null,null,null,null,null,"税込金額",null,null,null,null,null,null,{"$f":"\"入札書比較価格\n(左記100/\"&100+R9&\")\"","v":"入札書比較価格\n(左記100/108)"},null,null,null,null,null,null,null,null,null,null,null,null,null,null,null,null,null,null,null,null,null,null,null,null,null,null,null,null,null,null,null,null,null,null,null,null,null,null,null,null,null,null,null,null,null,null,"参事官"]
[null,null,null,null,null,null,null,null,null,null,null,null,null,null,null,null,null,null,null,null,null,null,null,null,"くじ",null,null,null,null,null,null,null,null,null,null,null,null,null,"第１回目",null,null,null,null,null,"第２回目",null,null,null,null,null,null,null,"②入札参加者数：6～10者",null,null,null,null,null,null,null,null,"課長補佐（総括）"]
[null,"積算額(予定価格)",null,null,null,null,null,5916226,null,null,null,null,null,null,{"$f":"IF(H12=\"\",\"\",ROUNDUP(H12*(100/(100+(1*(R9)))),0))","v":5477988},null,null,null,null,null,null,null,{"$f":"TEMP!W4","v":"落札"},null,null,null,1,"一般財団法人航空医学研究センター",null,null,null,null,null,null,null,null,null,null,4800000,null,null,null,null,null,null,null,null,null,null,null,null,null,null,null,null,null,null,null,null,null,null,"室長"]
[null,"調査基準価格",null,null,null,null,null,null,null,null,null,null,null,null,{"$f":"IF(H13=\"\",\"\",ROUNDUP(H13*100/(100+(1*(R9))),0))","v":""},null,null,null,null,null,null,null,{"$f":"TEMP!W5","v":""},null,null,null,2,null,null,null,null,null,null,null,null,null,null,null,null,null,null,null,null,null,null,null,null,null,null,null,null,null,"③入札参加者数：11～15者",null,null,null,null,null,null,null,null,"課長補佐"]
[null,null,null,null,null,null,null,null,null,null,null,null,null,null,null,null,null,null,null,null,null,null,{"$f":"TEMP!W6","v":""},null,null,null,3,null,null,null,null,null,null,null,null,null,null,null,null,null,null,null,null,null,null,null,null,null,null,null,null,null,null,null,null,null,null,null,null,null,null,"専門官"]
[null,null,null,null,null,null,null,null,null,null,null,null,null,null,null,null,null,null,null,null,null,null,{"$f":"TEMP!W7","v":""},null,null,null,4,null,null,null,null,null,null,null,null,null,null,null,null,null,null,null,null,null,null,null,null,null,null,null,null,null,"④入札参加者数：16～20者",null,null,null,null,null,null,null,null,"係長(契約)"]
[null,"入札執行職員",null,null,null,null,null,null,null,null,null,null,null,"尾野　辰平",null,null,null,null,null,null,null,null,{"$f":"TEMP!W8","v":""},null,null,null,5,null,null,null,null,null,null,null,null,null,null,null,null,null,null,null,null,null,null,null,null,null,null,null,null,null,null,null,null,null,null,null,null,null,null,"担当"]
[null,"補助職員",null,null,null,null,null,null,null,null,null,null,null,"田中　智基",null,null,null,null,null,null,null,null,{"$f":"TEMP!W9","v":""},null,null,null,6]
[null,"立会職員",null,null,null,null,null,null,null,null,null,null,null,"松尾　幸治",null,null,null,null,null,null,null,null,{"$f":"TEMP!W10","v":""},null,null,null,7]
[null,"立会職員",null,null,null,null,null,null,null,null,null,null,null,null,null,null,null,null,null,null,null,null,{"$f":"TEMP!W11","v":""},null,null,null,8]
[null,"契約担当官等",null,null,null,null,null,null,null,null,null,null,null,null,null,null,null,null,null,null,null,null,{"$f":"TEMP!W12","v":""},null,null,null,9,null,null,null,null,null,null,null,null,null,null,null,null,null,null,null,null,null,null,null,null,null,null,null,null,null,"※不落随契に移行した場合は以下のボタンを押し、第２回目の入札以降の見積徴取の経過を作成。"]
[null,null,null,null,null,null,null,null,null,null,null,null,null,null,null,null,null,null,null,null,null,null,{"$f":"TEMP!W13","v":""},null,null,null,10]
[null,"国土交通省航空局長",null,null,null,null,null,null,null,null,null,null,null,"佐藤　善信",null,null,null,null,null,null,null,null,{"$f":"TEMP!W14","v":""},null,null,null,11]
[null,null,null,null,null,null,null,null,null,null,null,null,null,null,null,null,null,null,null,null,null,null,{"$f":"TEMP!W15","v":""},null,null,null,12]
[null,"○○航空局次長",null,null,null,null,null,null,null,null,null,null,null,"●●　●●",null,null,null,null,null,null,null,null,{"$f":"TEMP!W16","v":""},null,null,null,13]
[null,null,null,null,null,null,null,null,null,null,null,null,null,null,null,null,null,null,null,null,null,null,{"$f":"TEMP!W17","v":""},null,null,null,14]
[null,null,null,null,null,null,null,null,null,null,null,null,null,null,null,null,null,null,null,null,null,null,{"$f":"TEMP!W18","v":""},null,null,null,15]
[null,null,null,null,null,null,null,null,null,null,null,null,null,null,null,null,null,null,null,null,null,null,{"$f":"TEMP!W19","v":""},null,null,null,16]
[null,null,null,null,null,null,null,null,null,null,null,null,null,null,null,null,null,null,null,null,null,null,{"$f":"TEMP!W20","v":""},null,null,null,17]
[null,null,null,null,null,null,null,null,null,null,null,null,null,null,null,null,null,null,null,null,null,null,{"$f":"TEMP!W21","v":""},null,null,null,18]
[null,null,null,null,null,null,null,null,null,null,null,null,null,null,null,null,null,null,null,null,null,null,{"$f":"TEMP!W22","v":""},null,null,null,19]
[null,null,null,null,null,null,null,null,null,null,null,null,null,null,null,null,null,null,null,null,null,null,{"$f":"TEMP!W23","v":""},null,null,null,20]

{"sheet":"入力シート②","index":1,"n_rows":24,"n_cols":157,"rows_kept":24,"cut":false,"hidden":false,"merged":[[23,26,23,27],[23,28,23,29],[18,26,18,27],[18,28,18,29],[19,26,19,27],[19,28,19,29],[20,26,20,27],[20,28,20,29],[21,26,21,27],[21,28,21,29],[22,26,22,27],[22,28,22,29],[13,26,13,27],[13,28,13,29],[14,26,14,27],[14,28,14,29],[15,26,15,27],[15,28,15,29],[16,26,16,27],[16,28,16,29],[17,26,17,27],[17,28,17,29],[8,26,8,27],[8,28,8,29],[9,26,9,27],[9,28,9,29],[10,26,10,27],[10,28,10,29],[11,26,11,27],[11,28,11,29],[12,26,12,27],[12,28,12,29],[2,26,2,29],[3,28,3,29],[4,26,4,27],[4,28,4,29],[5,26,5,27],[5,28,5,29],[6,26,6,27],[6,28,6,29],[7,26,7,27],[7,28,7,29],[10,1,10,7],[11,1,11,7],[12,1,12,7],[10,8,10,21],[12,8,12,21],[6,1,7,7],[7,8,7,14],[7,15,7,21],[6,15,6,21],[6,8,6,14],[11,8,11,21],[2,15,3,21],[4,15,4,21],[8,8,8,14],[8,15,8,21],[8,1,8,7],[23,31,23,41],[21,31,21,41],[22,31,22,41],[19,31,19,41],[20,31,20,41],[17,31,17,41],[18,31,18,41],[15,31,15,41],[16,31,16,41],[13,31,13,41],[14,31,14,41],[11,31,11,41],[12,31,12,41],[9,31,9,41],[10,31,10,41],[7,31,7,41],[8,31,8,41],[5,31,5,41],[15,1,17,22],[6,31,6,41],[2,30,3,41],[4,31,4,41],[23,108,23,113],[23,114,23,119],[22,114,22,119],[22,120,22,125],[22,138,22,143],[22,144,22,149],[23,72,23,77],[23,78,23,83],[23,84,23,89],[23,90,23,95],[23,96,23,101],[23,102,23,107],[19,84,19,89],[19,90,19,95],[19,96,19,101],[19,102,19,107],[21,144,21,149],[20,126,20,131],[20,132,20,137],[20,138,20,143],[20,144,20,149],[23,156,23,161],[2,42,2,161],[23,120,23,125],[23,126,23,131],[23,132,23,137],[23,138,23,143],[23,144,23,149],[23,150,23,155],[22,150,22,155],[22,156,22,161],[20,150,20,155],[20,156,20,161],[19,156,19,161],[19,120,19,125],[19,126,19,131],[19,132,19,137],[19,138,19,143],[21,150,21,155],[21,156,21,161],[21,120,21,125],[21,126,21,131],[21,132,21,137],[21,138,21,143],[22,132,22,137],[20,102,20,107],[20,108,20,113],[21,72,21,77],[21,78,21,83],[21,84,21,89],[21,90,21,95],[22,126,22,131],[21,96,21,101],[21,102,21,107],[20,114,20,119],[20,120,20,125],[22,72,22,77],[22,78,22,83],[22,84,22,89],[22,90,22,95],[22,96,22,101],[22,102,22,107],[22,108,22,113],[21,108,21,113],[21,114,21,119],[15,102,15,107],[19,144,19,149],[19,150,19,155],[19,72,19,77],[19,78,19,83],[17,72,17,77],[17,78,17,83],[17,84,17,89],[17,90,17,95],[17,96,17,101],[18,120,18,125],[17,108,17,113],[17,114,17,119],[17,120,17,125],[17,126,17,131],[17,132,17,137],[17,138,17,143],[18,78,18,83],[18,84,18,89],[18,90,18,95],[18,96,18,101],[18,102,18,107],[18,108,18,113],[18,126,18,131],[19,108,19,113],[19,114,19,119],[18,114,18,119],[17,144,17,149],[17,150,17,155],[18,72,18,77],[16,72,16,77],[16,78,16,83],[16,84,16,89],[16,90,16,95],[16,96,16,101],[16,102,16,107],[17,102,17,107],[18,150,18,155],[18,132,18,137],[18,138,18,143],[18,156,18,161],[16,150,16,155],[16,156,16,161],[17,156,17,161],[18,144,18,149],[16,108,16,113],[16,114,16,119],[16,120,16,125],[15,156,15,161],[15,120,15,125],[15,126,15,131],[15,132,15,137],[16,126,16,131],[16,132,16,137],[16,138,16,143],[16,144,16,149],[15,138,15,143],[15,144,15,149],[15,108,15,113],[15,114,15,119],[15,150,15,155],[14,156,14,161],[14,120,14,125],[14,126,14,131],[14,132,14,137],[14,138,14,143],[14,144,14,149],[13,144,13,149],[13,150,13,155],[13,156,13,161],[13,120,13,125],[13,126,13,131],[13,132,13,137],[13,138,13,143],[12,150,12,155],[14,114,14,119],[14,108,14,113],[13,108,13,113],[13,114,13,119],[13,72,13,77],[13,78,13,83],[13,84,13,89],[13,90,13,95],[13,96,13,101],[13,102,13,107],[14,72,14,77],[14,78,14,83],[14,84,14,89],[14,90,14,95],[14,96,14,101],[14,102,14,107],[14,150,14,155],[12,156,12,161],[11,156,11,161],[12,72,12,77],[12,78,12,83],[12,84,12,89],[12,90,12,95],[12,96,12,101],[12,102,12,107],[12,108,12,113],[11,108,11,113],[11,114,11,119],[11,150,11,155],[11,72,11,77],[11,78,11,83],[11,84,11,89],[11,90,11,95],[11,96,11,101],[11,102,11,107],[12,114,12,119],[12,120,12,125],[11,120,11,125],[11,126,11,131],[11,132,11,137],[11,138,11,143],[10,114,10,119],[10,126,10,131],[10,132,10,137],[10,138,10,143],[10,144,10,149],[12,126,12,131],[12,132,12,137],[12,138,12,143],[12,144,12,149],[11,144,11,149],[10,156,10,161],[8,156,8,161],[7,156,7,161],[8,72,8,77],[8,78,8,83],[8,84,8,89],[8,90,8,95],[8,96,8,101],[8,102,8,107],[8,126,8,131],[8,132,8,137],[8,138,8,143],[8,144,8,149],[8,150,8,155],[9,102,9,107],[8,108,8,113],[8,114,8,119],[8,120,8,125],[9,138,9,143],[9,144,9,149],[9,150,9,155],[9,156,9,161],[9,114,9,119],[9,120,9,125],[7,120,7,125],[7,126,7,131],[7,132,7,137],[7,138,7,143],[7,84,7,89],[7,90,7,95],[7,102,7,107],[7,108,7,113],[10,150,10,155],[9,126,9,131],[9,132,9,137],[7,144,7,149],[7,150,7,155],[7,114,7,119],[9,84,9,89],[9,90,9,95],[9,96,9,101],[10,120,10,125],[10,84,10,89],[10,90,10,95],[10,96,10,101],[10,102,10,107],[10,108,10,113],[9,108,9,113],[5,114,5,119],[5,120,5,125],[5,126,5,131],[5,132,5,137],[6,126,6,131],[6,132,6,137],[6,138,6,143],[6,144,6,149],[6,150,6,155],[4,126,4,131],[4,132,4,137],[4,138,4,143],[5,138,5,143],[5,144,5,149],[5,150,5,155],[3,84,3,89],[3,90,3,95],[6,156,6,161],[5,156,5,161],[6,84,6,89],[6,90,6,95],[6,96,6,101],[6,102,6,107],[3,120,3,125],[3,126,3,131],[3,132,3,137],[3,138,3,143],[3,144,3,149],[3,150,3,155],[4,156,4,161],[3,156,3,161],[4,84,4,89],[5,84,5,89],[4,144,4,149],[4,150,4,155],[4,120,4,125],[6,108,6,113],[6,114,6,119],[6,120,6,125],[7,78,7,83],[23,42,23,47],[23,48,23,53],[23,54,23,59],[23,60,23,65],[21,66,21,71],[22,42,22,47],[22,48,22,53],[10,72,10,77],[10,78,10,83],[19,54,19,59],[19,60,19,65],[22,54,22,59],[22,60,22,65],[21,42,21,47],[21,48,21,53],[21,54,21,59],[21,60,21,65],[3,102,3,107],[3,108,3,113],[3,114,3,119],[23,66,23,71],[3,72,3,77],[3,78,3,83],[5,72,5,77],[5,78,5,83],[7,72,7,77],[22,66,22,71],[4,90,4,95],[4,96,4,101],[4,102,4,107],[4,108,4,113],[4,114,4,119],[7,96,7,101],[6,72,6,77],[6,78,6,83],[4,72,4,77],[4,78,4,83],[5,90,5,95],[5,96,5,101],[5,102,5,107],[5,108,5,113],[19,66,19,71],[20,42,20,47],[20,48,20,53],[20,54,20,59],[20,60,20,65],[20,66,20,71],[19,42,19,47],[19,48,19,53],[3,96,3,101],[9,72,9,77],[9,78,9,83],[15,72,15,77],[15,78,15,83],[15,84,15,89],[15,90,15,95],[15,96,15,101],[20,72,20,77],[20,78,20,83],[20,84,20,89],[20,90,20,95],[20,96,20,101],[17,66,17,71],[18,42,18,47],[18,48,18,53],[18,54,18,59],[18,60,18,65],[18,66,18,71],[17,42,17,47],[17,48,17,53],[17,54,17,59],[17,60,17,65],[15,66,15,71],[16,42,16,47],[16,48,16,53],[16,54,16,59],[16,60,16,65],[16,66,16,71],[15,42,15,47],[15,48,15,53],[15,54,15,59],[15,60,15,65],[13,66,13,71],[14,42,14,47],[14,48,14,53],[14,54,14,59],[14,60,14,65],[14,66,14,71],[13,42,13,47],[13,48,13,53],[13,54,13,59],[13,60,13,65],[11,66,11,71],[12,42,12,47],[12,48,12,53],[12,54,12,59],[12,60,12,65],[12,66,12,71],[11,42,11,47],[11,48,11,53],[11,54,11,59],[11,60,11,65],[10,42,10,47],[10,48,10,53],[10,54,10,59],[10,60,10,65],[10,66,10,71],[9,42,9,47],[9,48,9,53],[9,54,9,59],[9,60,9,65],[3,42,3,47],[3,48,3,53],[3,54,3,59],[3,60,3,65],[3,66,3,71],[4,42,4,47],[4,48,4,53],[4,54,4,59],[5,60,5,65],[5,66,5,71],[9,24,9,25],[10,24,10,25],[11,24,11,25],[4,60,4,65],[4,66,4,71],[5,42,5,47],[5,48,5,53],[5,54,5,59],[7,66,7,71],[8,42,8,47],[8,48,8,53],[8,54,8,59],[8,60,8,65],[8,66,8,71],[7,42,7,47],[7,48,7,53],[6,42,6,47],[6,48,6,53],[6,54,6,59],[6,60,6,65],[6,66,6,71],[7,54,7,59],[7,60,7,65],[9,66,9,71],[4,1,4,7],[2,8,3,14],[4,8,4,14],[21,24,21,25],[22,24,22,25],[23,24,23,25],[2,1,3,7],[12,24,12,25],[13,24,13,25],[14,24,14,25],[15,24,15,25],[16,24,16,25],[17,24,17,25],[18,1,18,21],[20,1,20,21],[18,24,18,25],[19,24,19,25],[20,24,20,25],[2,24,3,25],[4,24,4,25],[5,24,5,25],[6,24,6,25],[7,24,7,25],[8,24,8,25]]}
[null,"不落随契による見積徴取経過調書"]
[]
[null,"発注者\n金額データ",null,null,null,null,null,null,"税込金額",null,null,null,null,null,null,{"$f":"\"入札書比較価格\n(左記100/\"&100+入力シート①!$R$9&\")\"","v":"入札書比較価格\n(左記100/108)"},null,null,null,null,null,null,null,null,"参加意思",null,"成立判定",null,null,null,"入札参加者",null,null,null,null,null,null,null,null,null,null,null,"不落随契による見積金額　※税込み額で入力！！！！！！！！！！！"]
[null,null,null,null,null,null,null,null,null,null,null,null,null,null,null,null,null,null,null,null,null,null,null,null,null,null,null,null,"くじ",null,null,null,null,null,null,null,null,null,null,null,null,null,"第１回目",null,null,null,null,null,"第２回目",null,null,null,null,null,"第３回目",null,null,null,null,null,"第４回目",null,null,null,null,null,"第５回目",null,null,null,null,null,"第６回目",null,null,null,null,null,"第７回目",null,null,null,null,null,"第８回目",null,null,null,null,null,"第９回目",null,null,null,null,null,"第１０回目",null,null,null,null,null,"第１１回目",null,null,null,null,null,"第１２回目",null,null,null,null,null,"第１３回目",null,null,null,null,null,"第１４回目",null,null,null,null,null,"第１５回目",null,null,null,null,null,"第１６回目",null,null,null,null,null,"第１７回目",null,null,null,null,null,"第１８回目",null,null,null,null,null,"第１９回目",null,null,null,null,null,"第２０回目"]
[null,"積算額(予定価格)",null,null,null,null,null,null,{"$f":"IF(入力シート①!H12=\"\",\"\",入力シート①!H12)","v":5916226},null,null,null,null,null,null,{"$f":"IF(I5=\"\",\"\",ROUNDUP(I5*(100/(100+(1*(入力シート①!$R$9)))),0))","v":5477988},null,null,null,null,null,null,null,null,null,null,{"$f":"TEMP!AD4","v":""},null,null,null,1,{"$f":"TEMP!AN4","v":"一般財団法人航空医学研究センター"}]
[null,null,null,null,null,null,null,null,null,null,null,null,null,null,null,null,null,null,null,null,null,null,null,null,null,null,{"$f":"TEMP!AD5","v":""},null,null,null,2,{"$f":"TEMP!AN5","v":""}]
[null,"第２回入札の\n最低入札金額",null,null,null,null,null,null,{"$f":"\"右記\"&入力シート①!$R$9&\"%上乗金額\"","v":"右記8%上乗金額"},null,null,null,null,null,null,"入札金額",null,null,null,null,null,null,null,null,null,null,{"$f":"TEMP!AD6","v":""},null,null,null,3,{"$f":"TEMP!AN6","v":""}]
[null,null,null,null,null,null,null,null,{"$f":"IF(P8=\"\",\"\",P8*((100+入力シート①!$R$9)/100))","v":5184000},null,null,null,null,null,null,{"$f":"TEMP!R45","v":4800000},null,null,null,null,null,null,null,null,null,null,{"$f":"TEMP!AD7","v":""},null,null,null,4,{"$f":"TEMP!AN7","v":""}]
[null,"予定価格との差額と割合",null,null,null,null,null,null,{"$f":"IF(P5=\"\",\"\",P8-P5)","v":-677988},null,null,null,null,null,null,{"$f":"IF(P5=\"\",\"\",P8/P5)","v":0.87623412099478859},null,null,null,null,null,null,null,null,null,null,{"$f":"TEMP!AD8","v":""},null,null,null,5,{"$f":"TEMP!AN8","v":""}]
[null,null,null,null,null,null,null,null,null,null,null,null,null,null,null,null,null,null,null,null,null,null,null,null,null,null,{"$f":"TEMP!AD9","v":""},null,null,null,6,{"$f":"TEMP!AN9","v":""}]
[null,"見積成立業者名",null,null,null,null,null,null,{"$f":"TEMP!AH3","v":"-"},null,null,null,null,null,null,null,null,null,null,null,null,null,null,null,null,null,{"$f":"TEMP!AD10","v":""},null,null,null,7,{"$f":"TEMP!AN10","v":""}]
[null,"成立金額",null,null,null,null,null,null,{"$f":"TEMP!AI3","v":"-"},null,null,null,null,null,null,null,null,null,null,null,null,null,null,null,null,null,{"$f":"TEMP!AD11","v":""},null,null,null,8,{"$f":"TEMP!AN11","v":""}]
[null,"摘要",null,null,null,null,null,null,{"$f":"IF(TEMP!AK3=\"\",\"\",\"第\"&TEMP!AK3&\"回見積　成立\")","v":""},null,null,null,null,null,null,null,null,null,null,null,null,null,null,null,null,null,{"$f":"TEMP!AD12","v":""},null,null,null,9,{"$f":"TEMP!AN12","v":""}]
[null,null,null,null,null,null,null,null,null,null,null,null,null,null,null,null,null,null,null,null,null,null,null,null,null,null,{"$f":"TEMP!AD13","v":""},null,null,null,10,{"$f":"TEMP!AN13","v":""}]
[null,"見積徴取の経過印刷",null,null,null,null,null,null,null,null,null,null,null,null,null,null,null,null,null,null,null,null,null,null,null,null,{"$f":"TEMP!AD14","v":""},null,null,null,11,{"$f":"TEMP!AN14","v":""}]
[null,"※不落随契における見積徴取の経過として、参加意思のあった者の数と見積回数により、以下のいずれかを選択すると出力シート画面に移行するので、適宜印刷を実行。",null,null,null,null,null,null,null,null,null,null,null,null,null,null,null,null,null,null,null,null,null,null,null,null,{"$f":"TEMP!AD15","v":""},null,null,null,12,{"$f":"TEMP!AN15","v":""}]
[null,null,null,null,null,null,null,null,null,null,null,null,null,null,null,null,null,null,null,null,null,null,null,null,null,null,{"$f":"TEMP!AD16","v":""},null,null,null,13,{"$f":"TEMP!AN16","v":""}]
[null,null,null,null,null,null,null,null,null,null,null,null,null,null,null,null,null,null,null,null,null,null,null,null,null,null,{"$f":"TEMP!AD17","v":""},null,null,null,14,{"$f":"TEMP!AN17","v":""}]
[null,"①入札参加者のうち、見積徴取への参加意志のあった者：５者以内",null,null,null,null,null,null,null,null,null,null,null,null,null,null,null,null,null,null,null,null,null,null,null,null,{"$f":"TEMP!AD18","v":""},null,null,null,15,{"$f":"TEMP!AN18","v":""}]
[null,null,null,null,null,null,null,null,null,null,null,null,null,null,null,null,null,null,null,null,null,null,null,null,null,null,{"$f":"TEMP!AD19","v":""},null,null,null,16,{"$f":"TEMP!AN19","v":""}]
[null,"②入札参加者のうち、見積徴取への参加意志のあった者：６～１０者",null,null,null,null,null,null,null,null,null,null,null,null,null,null,null,null,null,null,null,null,null,null,null,null,{"$f":"TEMP!AD20","v":""},null,null,null,17,{"$f":"TEMP!AN20","v":""}]
[null,null,null,null,null,null,null,null,null,null,null,null,null,null,null,null,null,null,null,null,null,null,null,null,null,null,{"$f":"TEMP!AD21","v":""},null,null,null,18,{"$f":"TEMP!AN21","v":""}]
[null,null,null,null,null,null,null,null,null,null,null,null,null,null,null,null,null,null,null,null,null,null,null,null,null,null,{"$f":"TEMP!AD22","v":""},null,null,null,19,{"$f":"TEMP!AN22","v":""}]
[null,null,null,null,null,null,null,null,null,null,null,null,null,null,null,null,null,null,null,null,null,null,null,null,null,null,{"$f":"TEMP!AD23","v":""},null,null,null,20,{"$f":"TEMP!AN23","v":""}]

{"sheet":"マニュアル","index":2,"n_rows":0,"n_cols":0,"rows_kept":0,"cut":false,"hidden":false,"merged":[]}

{"sheet":"TEMP","index":3,"n_rows":403,"n_cols":60,"rows_kept":403,"cut":false,"hidden":false,"merged":[]}
[null,"年(開札)",null,null,"月(開札)",null,null,"入札執行職員",null,null,null,null,null,null,"入札による落札結果(20者)"]
[null,11,{"$f":"IF(入力シート①!K5=\"\",\"\",IF(入力シート①!K5=0,\"\",入力シート①!K5))","v":29},null,1,{"$f":"IF(入力シート①!O5=\"\",\"\",IF(入力シート①!O5=0,\"\",入力シート①!O5))","v":6},null,2,{"$f":"IF(H2=1,\"　\",VLOOKUP(H2,TEMP!$H$10:$I$12,2))","v":"国土交通事務官"},null,null,null,null,null,null,{"$f":"MIN(P4:P43)","v":4800000},{"$f":"IF(入力シート①!$O$12=\"\",\"\",IF(入力シート①!$O$12=0,\"\",IF($P$2=0,\"-\",VLOOKUP($P$2,$P$4:$S$43,2,FALSE))))","v":"一般財団法人航空医学研究センター"},{"$f":"IF(入力シート①!$O$12=\"\",\"\",IF(入力シート①!$O$12=0,\"\",IF($P$2=0,\"-\",VLOOKUP($P$2,$P$4:$S$43,3,FALSE))))","v":4800000},{"$f":"IF(入力シート①!$O$12=\"\",\"\",IF(入力シート①!$O$12=0,\"\",IF($P$2=0,\"-\",VLOOKUP($P$2,$P$4:$S$43,4,FALSE))))","v":4800000},null,null,{"$f":"IF(入力シート①!$O$12=\"\",\"\",IF(入力シート①!$O$12=0,\"\",IF($P$2=0,\"-\",R2+(ROUNDDOWN(R2*(0.01*(入力シート①!$R$9)),0)))))","v":5184000}]
[null,"年(落札)",null,null,"月(落札)",null,null,"入札補助職員",null,null,"くじ",{"$f":"SUM(L4:L23)","v":0},null,null,null,null,"入札参加者","入１","金額判定","落札判定",null,"摘要",null,null,null,"参加意思","くじ",{"$f":"SUM(AB4:AB23)","v":0},"成立判定","表示",null,null,{"$f":"MIN(AG4:AG403)","v":0},{"$f":"IF(入力シート①!H12=\"\",\"\",IF(入力シート①!H12=0,\"\",IF(AG3=0,\"-\",VLOOKUP($AG3,$AG$4:$AK$403,2,FALSE))))","v":"-"},{"$f":"IF(入力シート①!H12=\"\",\"\",IF(入力シート①!H12=0,\"\",IF(AG3=0,\"-\",VLOOKUP($AG3,$AG$4:$AK$403,3,FALSE))))","v":"-"},null,{"$f":"IF(入力シート①!H12=\"\",\"\",IF(入力シート①!H12=0,\"\",IF(AG3=0,\"\",VLOOKUP($AG3,$AG$4:$AK$403,5,FALSE))))","v":""},null,null,null,"見１","見２","見３","見４","見５","見６","見７","見８","見９","見１０","見１１","見１２","見１３","見１４","見１５","見１６","見１７","見１８","見１９","見２０"]
[null,1,{"$f":"IF(入力シート①!K6=\"\",\"\",IF(入力シート①!K6=0,\"\",入力シート①!K6))","v":29},null,1,{"$f":"IF(入力シート①!O6=\"\",\"\",IF(入力シート①!O6=0,\"\",入力シート①!O6))","v":6},null,2,{"$f":"IF(H4=1,\"　\",VLOOKUP(H4,TEMP!$H$10:$I$12,2))","v":"国土交通事務官"},null,false,{"$f":"IF(K4=TRUE,1,0)","v":0},null,"入札①",1,{"$f":"IF(S4=\"\",\"\",IF(S4=\"-\",\"\",IF(K4=TRUE,S4-1,S4)))","v":4800000},{"$f":"IF(入力シート①!AB12=\"\",\"\",入力シート①!AB12)","v":"一般財団法人航空医学研究センター"},{"$f":"IF(入力シート①!AB12=\"\",\"\",IF(入力シート①!AM12=\"\",\"\",入力シート①!AM12))","v":4800000},{"$f":"IF(Q4=\"\",\"\",IF(R4=\"\",\"\",IF(入力シート①!$O$12>=R4,R4,\"-\")))","v":4800000},{"$f":"IF(S4=\"\",\"\",IF(S4=\"-\",\"\",\"○\"))","v":"○"},null,{"$f":"IF(入力シート①!$O$12=\"\",\"\",IF($P4=MIN($P$4:$P$23,$P$24:$P$43),\"第１回　落札\",IF($P24=MIN($P$4:$P$23,$P$24:$P$43),\"第２回　落札\",\"\")))","v":"第１回　落札"},{"$f":"IF(V4=\"\",\"\",\"落札\")","v":"落札"},null,1,false,false,{"$f":"IF(AA4=TRUE,1,0)","v":0},{"$f":"IF(Z4=FALSE,\"\",IF(OR(入力シート①!$H$12>=AG4,入力シート①!$H$12>=AG24,入力シート①!$H$12>=AG44,入力シート①!$H$12>=AG64,入力シート①!$H$12>=AG84,入力シート①!$H$12>=AG104,入力シート①!$H$12>=AG124,入力シート①!$H$12>=AG144,入力シート①!$H$12>=AG164,入力シート①!$H$12>=AG184,入力シート①!$H$12>=AG204,入力シート①!$H$12>=AG224,入力シート①!$H$12>=AG244,入力シート①!$H$12>=AG264,入力シート①!$H$12>=AG284,入力シート①!$H$12>=AG304,入力シート①!$H$12>=AG324,入力シート①!$H$12>=AG344,入力シート①!$H$12>=AG364,入力シート①!$H$12>=AG384,),TRUE))","v":""},{"$f":"IF(AC4=\"\",\"\",IF(AC4=FALSE,\"\",IF(AC4=TRUE,IF(OR(AG4=MIN($AG$4:$AG$403),AG24=MIN($AG$4:$AG$403),AG44=MIN($AG$4:$AG$403),AG64=MIN($AG$4:$AG$403),AG84=MIN($AG$4:$AG$403),AG104=MIN($AG$4:$AG$403),AG124=MIN($AG$4:$AG$403),AG144=MIN($AG$4:$AG$403),AG164=MIN($AG$4:$AG$403),AG184=MIN($AG$4:$AG$403),AG204=MIN($AG$4:$AG$403),AG224=MIN($AG$4:$AG$403),AG244=MIN($AG$4:$AG$403),AG264=MIN($AG$4:$AG$403),AG284=MIN($AG$4:$AG$403),AG304=MIN($AG$4:$AG$403),AG324=MIN($AG$4:$AG$403),AG344=MIN($AG$4:$AG$403),AG364=MIN($AG$4:$AG$403),AG384=MIN($AG$4:$AG$403)),\"成立\",\"\"))))","v":""},null,1,{"$f":"IF(AJ4=\"\",\"\",IF(AJ4=\"-\",\"\",IF($AA$4=TRUE,AJ4-1,AJ4)))","v":""},{"$f":"AN$4","v":"一般財団法人航空医学研究センター"},{"$f":"AO4","v":""},{"$f":"IF(AH4=\"\",\"\",IF(AI4=\"\",\"\",IF(入力シート①!$H$12>=AI4,AI4,\"-\")))","v":""},1,null,{"$f":"IF(Z4=TRUE,1,\"\")","v":""},{"$f":"Q4","v":"一般財団法人航空医学研究センター"},{"$f":"IF($Z4=FALSE,\"\",IF(入力シート②!AQ5=\"\",\"\",入力シート②!AQ5))","v":""},{"$f":"IF($Z4=FALSE,\"\",IF(入力シート②!AW5=\"\",\"\",入力シート②!AW5))","v":""},{"$f":"IF($Z4=FALSE,\"\",IF(入力シート②!BC5=\"\",\"\",入力シート②!BC5))","v":""},{"$f":"IF($Z4=FALSE,\"\",IF(入力シート②!BI5=\"\",\"\",入力シート②!BI5))","v":""},{"$f":"IF($Z4=FALSE,\"\",IF(入力シート②!BO5=\"\",\"\",入力シート②!BO5))","v":""},{"$f":"IF($Z4=FALSE,\"\",IF(入力シート②!BU5=\"\",\"\",入力シート②!BU5))","v":""},{"$f":"IF($Z4=FALSE,\"\",IF(入力シート②!CA5=\"\",\"\",入力シート②!CA5))","v":""},{"$f":"IF($Z4=FALSE,\"\",IF(入力シート②!CG5=\"\",\"\",入力シート②!CG5))","v":""},{"$f":"IF($Z4=FALSE,\"\",IF(入力シート②!CM5=\"\",\"\",入力シート②!CM5))","v":""},{"$f":"IF($Z4=FALSE,\"\",IF(入力シート②!CS5=\"\",\"\",入力シート②!CS5))","v":""},{"$f":"IF($Z4=FALSE,\"\",IF(入力シート②!CY5=\"\",\"\",入力シート②!CY5))","v":""},{"$f":"IF($Z4=FALSE,\"\",IF(入力シート②!DE5=\"\",\"\",入力シート②!DE5))","v":""},{"$f":"IF($Z4=FALSE,\"\",IF(入力シート②!DK5=\"\",\"\",入力シート②!DK5))","v":""},{"$f":"IF($Z4=FALSE,\"\",IF(入力シート②!DQ5=\"\",\"\",入力シート②!DQ5))","v":""},{"$f":"IF($Z4=FALSE,\"\",IF(入力シート②!DW5=\"\",\"\",入力シート②!DW5))","v":""},{"$f":"IF($Z4=FALSE,\"\",IF(入力シート②!EC5=\"\",\"\",入力シート②!EC5))","v":""},{"$f":"IF($Z4=FALSE,\"\",IF(入力シート②!EI5=\"\",\"\",入力シート②!EI5))","v":""},{"$f":"IF($Z4=FALSE,\"\",IF(入力シート②!EO5=\"\",\"\",入力シート②!EO5))","v":""},{"$f":"IF($Z4=FALSE,\"\",IF(入力シート②!EU5=\"\",\"\",入力シート②!EU5))","v":""},{"$f":"IF($Z4=FALSE,\"\",IF(入力シート②!FA5=\"\",\"\",入力シート②!FA5))","v":""}]
[null,"年(証明)",null,null,"月(証明)",null,null,"入札立会職員",null,null,false,{"$f":"IF(K5=TRUE,1,0)","v":0},null,"入札①",2,{"$f":"IF(S5=\"\",\"\",IF(S5=\"-\",\"\",IF(K5=TRUE,S5-1,S5)))","v":""},{"$f":"IF(入力シート①!AB13=\"\",\"\",入力シート①!AB13)","v":""},{"$f":"IF(入力シート①!AB13=\"\",\"\",IF(入力シート①!AM13=\"\",\"\",入力シート①!AM13))","v":""},{"$f":"IF(Q5=\"\",\"\",IF(R5=\"\",\"\",IF(入力シート①!$O$12>=R5,R5,\"-\")))","v":""},{"$f":"IF(S5=\"\",\"\",IF(S5=\"-\",\"\",\"○\"))","v":""},null,{"$f":"IF(入力シート①!$O$12=\"\",\"\",IF($P5=MIN($P$4:$P$23,$P$24:$P$43),\"第１回　落札\",IF($P25=MIN($P$4:$P$23,$P$24:$P$43),\"第２回　落札\",\"\")))","v":""},{"$f":"IF(V5=\"\",\"\",\"落札\")","v":""},null,2,false,false,{"$f":"IF(AA5=TRUE,1,0)","v":0},{"$f":"IF(Z5=FALSE,\"\",IF(OR(入力シート①!$H$12>=AG5,入力シート①!$H$12>=AG25,入力シート①!$H$12>=AG45,入力シート①!$H$12>=AG65,入力シート①!$H$12>=AG85,入力シート①!$H$12>=AG105,入力シート①!$H$12>=AG125,入力シート①!$H$12>=AG145,入力シート①!$H$12>=AG165,入力シート①!$H$12>=AG185,入力シート①!$H$12>=AG205,入力シート①!$H$12>=AG225,入力シート①!$H$12>=AG245,入力シート①!$H$12>=AG265,入力シート①!$H$12>=AG285,入力シート①!$H$12>=AG305,入力シート①!$H$12>=AG325,入力シート①!$H$12>=AG345,入力シート①!$H$12>=AG365,入力シート①!$H$12>=AG385,),TRUE))","v":""},"",null,2,{"$f":"IF(AJ5=\"\",\"\",IF(AJ5=\"-\",\"\",IF($AA$5=TRUE,AJ5-1,AJ5)))","v":""},{"$f":"AN$5","v":""},{"$f":"AO5","v":""},{"$f":"IF(AH5=\"\",\"\",IF(AI5=\"\",\"\",IF(入力シート①!$H$12>=AI5,AI5,\"-\")))","v":""},1,null,{"$f":"IF(Z5=TRUE,2,\"\")","v":""},"",{"$f":"IF($Z5=FALSE,\"\",IF(入力シート②!AQ6=\"\",\"\",入力シート②!AQ6))","v":""},{"$f":"IF($Z5=FALSE,\"\",IF(入力シート②!AW6=\"\",\"\",入力シート②!AW6))","v":""},{"$f":"IF($Z5=FALSE,\"\",IF(入力シート②!BC6=\"\",\"\",入力シート②!BC6))","v":""},{"$f":"IF($Z5=FALSE,\"\",IF(入力シート②!BI6=\"\",\"\",入力シート②!BI6))","v":""},{"$f":"IF($Z5=FALSE,\"\",IF(入力シート②!BO6=\"\",\"\",入力シート②!BO6))","v":""},{"$f":"IF($Z5=FALSE,\"\",IF(入力シート②!BU6=\"\",\"\",入力シート②!BU6))","v":""},{"$f":"IF($Z5=FALSE,\"\",IF(入力シート②!CA6=\"\",\"\",入力シート②!CA6))","v":""},{"$f":"IF($Z5=FALSE,\"\",IF(入力シート②!CG6=\"\",\"\",入力シート②!CG6))","v":""},{"$f":"IF($Z5=FALSE,\"\",IF(入力シート②!CM6=\"\",\"\",入力シート②!CM6))","v":""},{"$f":"IF($Z5=FALSE,\"\",IF(入力シート②!CS6=\"\",\"\",入力シート②!CS6))","v":""},{"$f":"IF($Z5=FALSE,\"\",IF(入力シート②!CY6=\"\",\"\",入力シート②!CY6))","v":""},{"$f":"IF($Z5=FALSE,\"\",IF(入力シート②!DE6=\"\",\"\",入力シート②!DE6))","v":""},{"$f":"IF($Z5=FALSE,\"\",IF(入力シート②!DK6=\"\",\"\",入力シート②!DK6))","v":""},{"$f":"IF($Z5=FALSE,\"\",IF(入力シート②!DQ6=\"\",\"\",入力シート②!DQ6))","v":""},{"$f":"IF($Z5=FALSE,\"\",IF(入力シート②!DW6=\"\",\"\",入力シート②!DW6))","v":""},{"$f":"IF($Z5=FALSE,\"\",IF(入力シート②!EC6=\"\",\"\",入力シート②!EC6))","v":""},{"$f":"IF($Z5=FALSE,\"\",IF(入力シート②!EI6=\"\",\"\",入力シート②!EI6))","v":""},{"$f":"IF($Z5=FALSE,\"\",IF(入力シート②!EO6=\"\",\"\",入力シート②!EO6))","v":""},{"$f":"IF($Z5=FALSE,\"\",IF(入力シート②!EU6=\"\",\"\",入力シート②!EU6))","v":""},{"$f":"IF($Z5=FALSE,\"\",IF(入力シート②!FA6=\"\",\"\",入力シート②!FA6))","v":""}]
[null,1,{"$f":"IF(入力シート①!K7=\"\",\"\",IF(入力シート①!K7=0,\"\",入力シート①!K7))","v":29},null,1,{"$f":"IF(入力シート①!O7=\"\",\"\",IF(入力シート①!O7=0,\"\",入力シート①!O7))","v":6},null,3,{"$f":"IF(H6=1,\"　\",VLOOKUP(H6,TEMP!$H$10:$I$12,2))","v":"国土交通技官"},null,false,0,null,"入札①",3,"",{"$f":"IF(入力シート①!AB14=\"\",\"\",入力シート①!AB14)","v":""},{"$f":"IF(入力シート①!AB14=\"\",\"\",IF(入力シート①!AM14=\"\",\"\",入力シート①!AM14))","v":""},{"$f":"IF(Q6=\"\",\"\",IF(R6=\"\",\"\",IF(入力シート①!$O$12>=R6,R6,\"-\")))","v":""},"",null,{"$f":"IF(入力シート①!$O$12=\"\",\"\",IF($P6=MIN($P$4:$P$23,$P$24:$P$43),\"第１回　落札\",IF($P26=MIN($P$4:$P$23,$P$24:$P$43),\"第２回　落札\",\"\")))","v":""},"",null,3,false,false,0,{"$f":"IF(Z6=FALSE,\"\",IF(OR(入力シート①!$H$12>=AG6,入力シート①!$H$12>=AG26,入力シート①!$H$12>=AG46,入力シート①!$H$12>=AG66,入力シート①!$H$12>=AG86,入力シート①!$H$12>=AG106,入力シート①!$H$12>=AG126,入力シート①!$H$12>=AG146,入力シート①!$H$12>=AG166,入力シート①!$H$12>=AG186,入力シート①!$H$12>=AG206,入力シート①!$H$12>=AG226,入力シート①!$H$12>=AG246,入力シート①!$H$12>=AG266,入力シート①!$H$12>=AG286,入力シート①!$H$12>=AG306,入力シート①!$H$12>=AG326,入力シート①!$H$12>=AG346,入力シート①!$H$12>=AG366,入力シート①!$H$12>=AG386,),TRUE))","v":""},"",null,3,{"$f":"IF(AJ6=\"\",\"\",IF(AJ6=\"-\",\"\",IF($AA$6=TRUE,AJ6-1,AJ6)))","v":""},{"$f":"AN$6","v":""},"",{"$f":"IF(AH6=\"\",\"\",IF(AI6=\"\",\"\",IF(入力シート①!$H$12>=AI6,AI6,\"-\")))","v":""},1,null,{"$f":"IF(Z6=TRUE,3,\"\")","v":""},"",{"$f":"IF($Z6=FALSE,\"\",IF(入力シート②!AQ7=\"\",\"\",入力シート②!AQ7))","v":""},{"$f":"IF($Z6=FALSE,\"\",IF(入力シート②!AW7=\"\",\"\",入力シート②!AW7))","v":""},{"$f":"IF($Z6=FALSE,\"\",IF(入力シート②!BC7=\"\",\"\",入力シート②!BC7))","v":""},{"$f":"IF($Z6=FALSE,\"\",IF(入力シート②!BI7=\"\",\"\",入力シート②!BI7))","v":""},{"$f":"IF($Z6=FALSE,\"\",IF(入力シート②!BO7=\"\",\"\",入力シート②!BO7))","v":""},{"$f":"IF($Z6=FALSE,\"\",IF(入力シート②!BU7=\"\",\"\",入力シート②!BU7))","v":""},{"$f":"IF($Z6=FALSE,\"\",IF(入力シート②!CA7=\"\",\"\",入力シート②!CA7))","v":""},{"$f":"IF($Z6=FALSE,\"\",IF(入力シート②!CG7=\"\",\"\",入力シート②!CG7))","v":""},{"$f":"IF($Z6=FALSE,\"\",IF(入力シート②!CM7=\"\",\"\",入力シート②!CM7))","v":""},{"$f":"IF($Z6=FALSE,\"\",IF(入力シート②!CS7=\"\",\"\",入力シート②!CS7))","v":""},{"$f":"IF($Z6=FALSE,\"\",IF(入力シート②!CY7=\"\",\"\",入力シート②!CY7))","v":""},{"$f":"IF($Z6=FALSE,\"\",IF(入力シート②!DE7=\"\",\"\",入力シート②!DE7))","v":""},{"$f":"IF($Z6=FALSE,\"\",IF(入力シート②!DK7=\"\",\"\",入力シート②!DK7))","v":""},{"$f":"IF($Z6=FALSE,\"\",IF(入力シート②!DQ7=\"\",\"\",入力シート②!DQ7))","v":""},{"$f":"IF($Z6=FALSE,\"\",IF(入力シート②!DW7=\"\",\"\",入力シート②!DW7))","v":""},{"$f":"IF($Z6=FALSE,\"\",IF(入力シート②!EC7=\"\",\"\",入力シート②!EC7))","v":""},{"$f":"IF($Z6=FALSE,\"\",IF(入力シート②!EI7=\"\",\"\",入力シート②!EI7))","v":""},{"$f":"IF($Z6=FALSE,\"\",IF(入力シート②!EO7=\"\",\"\",入力シート②!EO7))","v":""},{"$f":"IF($Z6=FALSE,\"\",IF(入力シート②!EU7=\"\",\"\",入力シート②!EU7))","v":""},{"$f":"IF($Z6=FALSE,\"\",IF(入力シート②!FA7=\"\",\"\",入力シート②!FA7))","v":""}]
[null,null,null,null,null,null,null,"入札立会職員",null,null,false,0,null,"入札①",4,"",{"$f":"IF(入力シート①!AB15=\"\",\"\",入力シート①!AB15)","v":""},{"$f":"IF(入力シート①!AB15=\"\",\"\",IF(入力シート①!AM15=\"\",\"\",入力シート①!AM15))","v":""},{"$f":"IF(Q7=\"\",\"\",IF(R7=\"\",\"\",IF(入力シート①!$O$12>=R7,R7,\"-\")))","v":""},"",null,{"$f":"IF(入力シート①!$O$12=\"\",\"\",IF($P7=MIN($P$4:$P$23,$P$24:$P$43),\"第１回　落札\",IF($P27=MIN($P$4:$P$23,$P$24:$P$43),\"第２回　落札\",\"\")))","v":""},"",null,4,false,false,0,{"$f":"IF(Z7=FALSE,\"\",IF(OR(入力シート①!$H$12>=AG7,入力シート①!$H$12>=AG27,入力シート①!$H$12>=AG47,入力シート①!$H$12>=AG67,入力シート①!$H$12>=AG87,入力シート①!$H$12>=AG107,入力シート①!$H$12>=AG127,入力シート①!$H$12>=AG147,入力シート①!$H$12>=AG167,入力シート①!$H$12>=AG187,入力シート①!$H$12>=AG207,入力シート①!$H$12>=AG227,入力シート①!$H$12>=AG247,入力シート①!$H$12>=AG267,入力シート①!$H$12>=AG287,入力シート①!$H$12>=AG307,入力シート①!$H$12>=AG327,入力シート①!$H$12>=AG347,入力シート①!$H$12>=AG367,入力シート①!$H$12>=AG387,),TRUE))","v":""},"",null,4,{"$f":"IF(AJ7=\"\",\"\",IF(AJ7=\"-\",\"\",IF($AA$7=TRUE,AJ7-1,AJ7)))","v":""},{"$f":"AN$7","v":""},"",{"$f":"IF(AH7=\"\",\"\",IF(AI7=\"\",\"\",IF(入力シート①!$H$12>=AI7,AI7,\"-\")))","v":""},1,null,{"$f":"IF(Z7=TRUE,4,\"\")","v":""},"",{"$f":"IF($Z7=FALSE,\"\",IF(入力シート②!AQ8=\"\",\"\",入力シート②!AQ8))","v":""},{"$f":"IF($Z7=FALSE,\"\",IF(入力シート②!AW8=\"\",\"\",入力シート②!AW8))","v":""},{"$f":"IF($Z7=FALSE,\"\",IF(入力シート②!BC8=\"\",\"\",入力シート②!BC8))","v":""},{"$f":"IF($Z7=FALSE,\"\",IF(入力シート②!BI8=\"\",\"\",入力シート②!BI8))","v":""},{"$f":"IF($Z7=FALSE,\"\",IF(入力シート②!BO8=\"\",\"\",入力シート②!BO8))","v":""},{"$f":"IF($Z7=FALSE,\"\",IF(入力シート②!BU8=\"\",\"\",入力シート②!BU8))","v":""},{"$f":"IF($Z7=FALSE,\"\",IF(入力シート②!CA8=\"\",\"\",入力シート②!CA8))","v":""},{"$f":"IF($Z7=FALSE,\"\",IF(入力シート②!CG8=\"\",\"\",入力シート②!CG8))","v":""},{"$f":"IF($Z7=FALSE,\"\",IF(入力シート②!CM8=\"\",\"\",入力シート②!CM8))","v":""},{"$f":"IF($Z7=FALSE,\"\",IF(入力シート②!CS8=\"\",\"\",入力シート②!CS8))","v":""},{"$f":"IF($Z7=FALSE,\"\",IF(入力シート②!CY8=\"\",\"\",入力シート②!CY8))","v":""},{"$f":"IF($Z7=FALSE,\"\",IF(入力シート②!DE8=\"\",\"\",入力シート②!DE8))","v":""},{"$f":"IF($Z7=FALSE,\"\",IF(入力シート②!DK8=\"\",\"\",入力シート②!DK8))","v":""},{"$f":"IF($Z7=FALSE,\"\",IF(入力シート②!DQ8=\"\",\"\",入力シート②!DQ8))","v":""},{"$f":"IF($Z7=FALSE,\"\",IF(入力シート②!DW8=\"\",\"\",入力シート②!DW8))","v":""},{"$f":"IF($Z7=FALSE,\"\",IF(入力シート②!EC8=\"\",\"\",入力シート②!EC8))","v":""},{"$f":"IF($Z7=FALSE,\"\",IF(入力シート②!EI8=\"\",\"\",入力シート②!EI8))","v":""},{"$f":"IF($Z7=FALSE,\"\",IF(入力シート②!EO8=\"\",\"\",入力シート②!EO8))","v":""},{"$f":"IF($Z7=FALSE,\"\",IF(入力シート②!EU8=\"\",\"\",入力シート②!EU8))","v":""},{"$f":"IF($Z7=FALSE,\"\",IF(入力シート②!FA8=\"\",\"\",入力シート②!FA8))","v":""}]
[null,1,null,null,1,null,null,1,{"$f":"IF(H8=1,\"　\",VLOOKUP(H8,TEMP!$H$10:$I$12,2))","v":"　"},null,false,0,null,"入札①",5,"",{"$f":"IF(入力シート①!AB16=\"\",\"\",入力シート①!AB16)","v":""},{"$f":"IF(入力シート①!AB16=\"\",\"\",IF(入力シート①!AM16=\"\",\"\",入力シート①!AM16))","v":""},{"$f":"IF(Q8=\"\",\"\",IF(R8=\"\",\"\",IF(入力シート①!$O$12>=R8,R8,\"-\")))","v":""},"",null,{"$f":"IF(入力シート①!$O$12=\"\",\"\",IF($P8=MIN($P$4:$P$23,$P$24:$P$43),\"第１回　落札\",IF($P28=MIN($P$4:$P$23,$P$24:$P$43),\"第２回　落札\",\"\")))","v":""},"",null,5,false,false,0,{"$f":"IF(Z8=FALSE,\"\",IF(OR(入力シート①!$H$12>=AG8,入力シート①!$H$12>=AG28,入力シート①!$H$12>=AG48,入力シート①!$H$12>=AG68,入力シート①!$H$12>=AG88,入力シート①!$H$12>=AG108,入力シート①!$H$12>=AG128,入力シート①!$H$12>=AG148,入力シート①!$H$12>=AG168,入力シート①!$H$12>=AG188,入力シート①!$H$12>=AG208,入力シート①!$H$12>=AG228,入力シート①!$H$12>=AG248,入力シート①!$H$12>=AG268,入力シート①!$H$12>=AG288,入力シート①!$H$12>=AG308,入力シート①!$H$12>=AG328,入力シート①!$H$12>=AG348,入力シート①!$H$12>=AG368,入力シート①!$H$12>=AG388,),TRUE))","v":""},"",null,5,{"$f":"IF(AJ8=\"\",\"\",IF(AJ8=\"-\",\"\",IF($AA$8=TRUE,AJ8-1,AJ8)))","v":""},{"$f":"AN$8","v":""},"",{"$f":"IF(AH8=\"\",\"\",IF(AI8=\"\",\"\",IF(入力シート①!$H$12>=AI8,AI8,\"-\")))","v":""},1,null,{"$f":"IF(Z8=TRUE,5,\"\")","v":""},"",{"$f":"IF($Z8=FALSE,\"\",IF(入力シート②!AQ9=\"\",\"\",入力シート②!AQ9))","v":""},{"$f":"IF($Z8=FALSE,\"\",IF(入力シート②!AW9=\"\",\"\",入力シート②!AW9))","v":""},{"$f":"IF($Z8=FALSE,\"\",IF(入力シート②!BC9=\"\",\"\",入力シート②!BC9))","v":""},{"$f":"IF($Z8=FALSE,\"\",IF(入力シート②!BI9=\"\",\"\",入力シート②!BI9))","v":""},{"$f":"IF($Z8=FALSE,\"\",IF(入力シート②!BO9=\"\",\"\",入力シート②!BO9))","v":""},{"$f":"IF($Z8=FALSE,\"\",IF(入力シート②!BU9=\"\",\"\",入力シート②!BU9))","v":""},{"$f":"IF($Z8=FALSE,\"\",IF(入力シート②!CA9=\"\",\"\",入力シート②!CA9))","v":""},{"$f":"IF($Z8=FALSE,\"\",IF(入力シート②!CG9=\"\",\"\",入力シート②!CG9))","v":""},{"$f":"IF($Z8=FALSE,\"\",IF(入力シート②!CM9=\"\",\"\",入力シート②!CM9))","v":""},{"$f":"IF($Z8=FALSE,\"\",IF(入力シート②!CS9=\"\",\"\",入力シート②!CS9))","v":""},{"$f":"IF($Z8=FALSE,\"\",IF(入力シート②!CY9=\"\",\"\",入力シート②!CY9))","v":""},{"$f":"IF($Z8=FALSE,\"\",IF(入力シート②!DE9=\"\",\"\",入力シート②!DE9))","v":""},{"$f":"IF($Z8=FALSE,\"\",IF(入力シート②!DK9=\"\",\"\",入力シート②!DK9))","v":""},{"$f":"IF($Z8=FALSE,\"\",IF(入力シート②!DQ9=\"\",\"\",入力シート②!DQ9))","v":""},{"$f":"IF($Z8=FALSE,\"\",IF(入力シート②!DW9=\"\",\"\",入力シート②!DW9))","v":""},{"$f":"IF($Z8=FALSE,\"\",IF(入力シート②!EC9=\"\",\"\",入力シート②!EC9))","v":""},{"$f":"IF($Z8=FALSE,\"\",IF(入力シート②!EI9=\"\",\"\",入力シート②!EI9))","v":""},{"$f":"IF($Z8=FALSE,\"\",IF(入力シート②!EO9=\"\",\"\",入力シート②!EO9))","v":""},{"$f":"IF($Z8=FALSE,\"\",IF(入力シート②!EU9=\"\",\"\",入力シート②!EU9))","v":""},{"$f":"IF($Z8=FALSE,\"\",IF(入力シート②!FA9=\"\",\"\",入力シート②!FA9))","v":""}]
[null,2,"元",null,2,1,null,null,null,null,false,0,null,"入札①",6,"",{"$f":"IF(入力シート①!AB17=\"\",\"\",入力シート①!AB17)","v":""},{"$f":"IF(入力シート①!AB17=\"\",\"\",IF(入力シート①!AM17=\"\",\"\",入力シート①!AM17))","v":""},{"$f":"IF(Q9=\"\",\"\",IF(R9=\"\",\"\",IF(入力シート①!$O$12>=R9,R9,\"-\")))","v":""},"",null,{"$f":"IF(入力シート①!$O$12=\"\",\"\",IF($P9=MIN($P$4:$P$23,$P$24:$P$43),\"第１回　落札\",IF($P29=MIN($P$4:$P$23,$P$24:$P$43),\"第２回　落札\",\"\")))","v":""},"",null,6,false,false,0,{"$f":"IF(Z9=FALSE,\"\",IF(OR(入力シート①!$H$12>=AG9,入力シート①!$H$12>=AG29,入力シート①!$H$12>=AG49,入力シート①!$H$12>=AG69,入力シート①!$H$12>=AG89,入力シート①!$H$12>=AG109,入力シート①!$H$12>=AG129,入力シート①!$H$12>=AG149,入力シート①!$H$12>=AG169,入力シート①!$H$12>=AG189,入力シート①!$H$12>=AG209,入力シート①!$H$12>=AG229,入力シート①!$H$12>=AG249,入力シート①!$H$12>=AG269,入力シート①!$H$12>=AG289,入力シート①!$H$12>=AG309,入力シート①!$H$12>=AG329,入力シート①!$H$12>=AG349,入力シート①!$H$12>=AG369,入力シート①!$H$12>=AG389,),TRUE))","v":""},"",null,6,{"$f":"IF(AJ9=\"\",\"\",IF(AJ9=\"-\",\"\",IF($AA$9=TRUE,AJ9-1,AJ9)))","v":""},{"$f":"AN$9","v":""},"",{"$f":"IF(AH9=\"\",\"\",IF(AI9=\"\",\"\",IF(入力シート①!$H$12>=AI9,AI9,\"-\")))","v":""},1,null,{"$f":"IF(Z9=TRUE,6,\"\")","v":""},"",{"$f":"IF($Z9=FALSE,\"\",IF(入力シート②!AQ10=\"\",\"\",入力シート②!AQ10))","v":""},{"$f":"IF($Z9=FALSE,\"\",IF(入力シート②!AW10=\"\",\"\",入力シート②!AW10))","v":""},{"$f":"IF($Z9=FALSE,\"\",IF(入力シート②!BC10=\"\",\"\",入力シート②!BC10))","v":""},{"$f":"IF($Z9=FALSE,\"\",IF(入力シート②!BI10=\"\",\"\",入力シート②!BI10))","v":""},{"$f":"IF($Z9=FALSE,\"\",IF(入力シート②!BO10=\"\",\"\",入力シート②!BO10))","v":""},{"$f":"IF($Z9=FALSE,\"\",IF(入力シート②!BU10=\"\",\"\",入力シート②!BU10))","v":""},{"$f":"IF($Z9=FALSE,\"\",IF(入力シート②!CA10=\"\",\"\",入力シート②!CA10))","v":""},{"$f":"IF($Z9=FALSE,\"\",IF(入力シート②!CG10=\"\",\"\",入力シート②!CG10))","v":""},{"$f":"IF($Z9=FALSE,\"\",IF(入力シート②!CM10=\"\",\"\",入力シート②!CM10))","v":""},{"$f":"IF($Z9=FALSE,\"\",IF(入力シート②!CS10=\"\",\"\",入力シート②!CS10))","v":""},{"$f":"IF($Z9=FALSE,\"\",IF(入力シート②!CY10=\"\",\"\",入力シート②!CY10))","v":""},{"$f":"IF($Z9=FALSE,\"\",IF(入力シート②!DE10=\"\",\"\",入力シート②!DE10))","v":""},{"$f":"IF($Z9=FALSE,\"\",IF(入力シート②!DK10=\"\",\"\",入力シート②!DK10))","v":""},{"$f":"IF($Z9=FALSE,\"\",IF(入力シート②!DQ10=\"\",\"\",入力シート②!DQ10))","v":""},{"$f":"IF($Z9=FALSE,\"\",IF(入力シート②!DW10=\"\",\"\",入力シート②!DW10))","v":""},{"$f":"IF($Z9=FALSE,\"\",IF(入力シート②!EC10=\"\",\"\",入力シート②!EC10))","v":""},{"$f":"IF($Z9=FALSE,\"\",IF(入力シート②!EI10=\"\",\"\",入力シート②!EI10))","v":""},{"$f":"IF($Z9=FALSE,\"\",IF(入力シート②!EO10=\"\",\"\",入力シート②!EO10))","v":""},{"$f":"IF($Z9=FALSE,\"\",IF(入力シート②!EU10=\"\",\"\",入力シート②!EU10))","v":""},{"$f":"IF($Z9=FALSE,\"\",IF(入力シート②!FA10=\"\",\"\",入力シート②!FA10))","v":""}]
[null,3,2,null,3,2,null,1,null,null,false,0,null,"入札①",7,"",{"$f":"IF(入力シート①!AB18=\"\",\"\",入力シート①!AB18)","v":""},{"$f":"IF(入力シート①!AB18=\"\",\"\",IF(入力シート①!AM18=\"\",\"\",入力シート①!AM18))","v":""},{"$f":"IF(Q10=\"\",\"\",IF(R10=\"\",\"\",IF(入力シート①!$O$12>=R10,R10,\"-\")))","v":""},"",null,{"$f":"IF(入力シート①!$O$12=\"\",\"\",IF($P10=MIN($P$4:$P$23,$P$24:$P$43),\"第１回　落札\",IF($P30=MIN($P$4:$P$23,$P$24:$P$43),\"第２回　落札\",\"\")))","v":""},"",null,7,false,false,0,{"$f":"IF(Z10=FALSE,\"\",IF(OR(入力シート①!$H$12>=AG10,入力シート①!$H$12>=AG30,入力シート①!$H$12>=AG50,入力シート①!$H$12>=AG70,入力シート①!$H$12>=AG90,入力シート①!$H$12>=AG110,入力シート①!$H$12>=AG130,入力シート①!$H$12>=AG150,入力シート①!$H$12>=AG170,入力シート①!$H$12>=AG190,入力シート①!$H$12>=AG210,入力シート①!$H$12>=AG230,入力シート①!$H$12>=AG250,入力シート①!$H$12>=AG270,入力シート①!$H$12>=AG290,入力シート①!$H$12>=AG310,入力シート①!$H$12>=AG330,入力シート①!$H$12>=AG350,入力シート①!$H$12>=AG370,入力シート①!$H$12>=AG390,),TRUE))","v":""},"",null,7,{"$f":"IF(AJ10=\"\",\"\",IF(AJ10=\"-\",\"\",IF($AA$10=TRUE,AJ10-1,AJ10)))","v":""},{"$f":"AN$10","v":""},"",{"$f":"IF(AH10=\"\",\"\",IF(AI10=\"\",\"\",IF(入力シート①!$H$12>=AI10,AI10,\"-\")))","v":""},1,null,{"$f":"IF(Z10=TRUE,7,\"\")","v":""},"",{"$f":"IF($Z10=FALSE,\"\",IF(入力シート②!AQ11=\"\",\"\",入力シート②!AQ11))","v":""},{"$f":"IF($Z10=FALSE,\"\",IF(入力シート②!AW11=\"\",\"\",入力シート②!AW11))","v":""},{"$f":"IF($Z10=FALSE,\"\",IF(入力シート②!BC11=\"\",\"\",入力シート②!BC11))","v":""},{"$f":"IF($Z10=FALSE,\"\",IF(入力シート②!BI11=\"\",\"\",入力シート②!BI11))","v":""},{"$f":"IF($Z10=FALSE,\"\",IF(入力シート②!BO11=\"\",\"\",入力シート②!BO11))","v":""},{"$f":"IF($Z10=FALSE,\"\",IF(入力シート②!BU11=\"\",\"\",入力シート②!BU11))","v":""},{"$f":"IF($Z10=FALSE,\"\",IF(入力シート②!CA11=\"\",\"\",入力シート②!CA11))","v":""},{"$f":"IF($Z10=FALSE,\"\",IF(入力シート②!CG11=\"\",\"\",入力シート②!CG11))","v":""},{"$f":"IF($Z10=FALSE,\"\",IF(入力シート②!CM11=\"\",\"\",入力シート②!CM11))","v":""},{"$f":"IF($Z10=FALSE,\"\",IF(入力シート②!CS11=\"\",\"\",入力シート②!CS11))","v":""},{"$f":"IF($Z10=FALSE,\"\",IF(入力シート②!CY11=\"\",\"\",入力シート②!CY11))","v":""},{"$f":"IF($Z10=FALSE,\"\",IF(入力シート②!DE11=\"\",\"\",入力シート②!DE11))","v":""},{"$f":"IF($Z10=FALSE,\"\",IF(入力シート②!DK11=\"\",\"\",入力シート②!DK11))","v":""},{"$f":"IF($Z10=FALSE,\"\",IF(入力シート②!DQ11=\"\",\"\",入力シート②!DQ11))","v":""},{"$f":"IF($Z10=FALSE,\"\",IF(入力シート②!DW11=\"\",\"\",入力シート②!DW11))","v":""},{"$f":"IF($Z10=FALSE,\"\",IF(入力シート②!EC11=\"\",\"\",入力シート②!EC11))","v":""},{"$f":"IF($Z10=FALSE,\"\",IF(入力シート②!EI11=\"\",\"\",入力シート②!EI11))","v":""},{"$f":"IF($Z10=FALSE,\"\",IF(入力シート②!EO11=\"\",\"\",入力シート②!EO11))","v":""},{"$f":"IF($Z10=FALSE,\"\",IF(入力シート②!EU11=\"\",\"\",入力シート②!EU11))","v":""},{"$f":"IF($Z10=FALSE,\"\",IF(入力シート②!FA11=\"\",\"\",入力シート②!FA11))","v":""}]
[null,4,3,null,4,3,null,2,"国土交通事務官",null,false,0,null,"入札①",8,"",{"$f":"IF(入力シート①!AB19=\"\",\"\",入力シート①!AB19)","v":""},{"$f":"IF(入力シート①!AB19=\"\",\"\",IF(入力シート①!AM19=\"\",\"\",入力シート①!AM19))","v":""},{"$f":"IF(Q11=\"\",\"\",IF(R11=\"\",\"\",IF(入力シート①!$O$12>=R11,R11,\"-\")))","v":""},"",null,{"$f":"IF(入力シート①!$O$12=\"\",\"\",IF($P11=MIN($P$4:$P$23,$P$24:$P$43),\"第１回　落札\",IF($P31=MIN($P$4:$P$23,$P$24:$P$43),\"第２回　落札\",\"\")))","v":""},"",null,8,false,false,0,{"$f":"IF(Z11=FALSE,\"\",IF(OR(入力シート①!$H$12>=AG11,入力シート①!$H$12>=AG31,入力シート①!$H$12>=AG51,入力シート①!$H$12>=AG71,入力シート①!$H$12>=AG91,入力シート①!$H$12>=AG111,入力シート①!$H$12>=AG131,入力シート①!$H$12>=AG151,入力シート①!$H$12>=AG171,入力シート①!$H$12>=AG191,入力シート①!$H$12>=AG211,入力シート①!$H$12>=AG231,入力シート①!$H$12>=AG251,入力シート①!$H$12>=AG271,入力シート①!$H$12>=AG291,入力シート①!$H$12>=AG311,入力シート①!$H$12>=AG331,入力シート①!$H$12>=AG351,入力シート①!$H$12>=AG371,入力シート①!$H$12>=AG391,),TRUE))","v":""},"",null,8,{"$f":"IF(AJ11=\"\",\"\",IF(AJ11=\"-\",\"\",IF($AA$11=TRUE,AJ11-1,AJ11)))","v":""},{"$f":"AN$11","v":""},"",{"$f":"IF(AH11=\"\",\"\",IF(AI11=\"\",\"\",IF(入力シート①!$H$12>=AI11,AI11,\"-\")))","v":""},1,null,{"$f":"IF(Z11=TRUE,8,\"\")","v":""},"",{"$f":"IF($Z11=FALSE,\"\",IF(入力シート②!AQ12=\"\",\"\",入力シート②!AQ12))","v":""},{"$f":"IF($Z11=FALSE,\"\",IF(入力シート②!AW12=\"\",\"\",入力シート②!AW12))","v":""},{"$f":"IF($Z11=FALSE,\"\",IF(入力シート②!BC12=\"\",\"\",入力シート②!BC12))","v":""},{"$f":"IF($Z11=FALSE,\"\",IF(入力シート②!BI12=\"\",\"\",入力シート②!BI12))","v":""},{"$f":"IF($Z11=FALSE,\"\",IF(入力シート②!BO12=\"\",\"\",入力シート②!BO12))","v":""},{"$f":"IF($Z11=FALSE,\"\",IF(入力シート②!BU12=\"\",\"\",入力シート②!BU12))","v":""},{"$f":"IF($Z11=FALSE,\"\",IF(入力シート②!CA12=\"\",\"\",入力シート②!CA12))","v":""},{"$f":"IF($Z11=FALSE,\"\",IF(入力シート②!CG12=\"\",\"\",入力シート②!CG12))","v":""},{"$f":"IF($Z11=FALSE,\"\",IF(入力シート②!CM12=\"\",\"\",入力シート②!CM12))","v":""},{"$f":"IF($Z11=FALSE,\"\",IF(入力シート②!CS12=\"\",\"\",入力シート②!CS12))","v":""},{"$f":"IF($Z11=FALSE,\"\",IF(入力シート②!CY12=\"\",\"\",入力シート②!CY12))","v":""},{"$f":"IF($Z11=FALSE,\"\",IF(入力シート②!DE12=\"\",\"\",入力シート②!DE12))","v":""},{"$f":"IF($Z11=FALSE,\"\",IF(入力シート②!DK12=\"\",\"\",入力シート②!DK12))","v":""},{"$f":"IF($Z11=FALSE,\"\",IF(入力シート②!DQ12=\"\",\"\",入力シート②!DQ12))","v":""},{"$f":"IF($Z11=FALSE,\"\",IF(入力シート②!DW12=\"\",\"\",入力シート②!DW12))","v":""},{"$f":"IF($Z11=FALSE,\"\",IF(入力シート②!EC12=\"\",\"\",入力シート②!EC12))","v":""},{"$f":"IF($Z11=FALSE,\"\",IF(入力シート②!EI12=\"\",\"\",入力シート②!EI12))","v":""},{"$f":"IF($Z11=FALSE,\"\",IF(入力シート②!EO12=\"\",\"\",入力シート②!EO12))","v":""},{"$f":"IF($Z11=FALSE,\"\",IF(入力シート②!EU12=\"\",\"\",入力シート②!EU12))","v":""},{"$f":"IF($Z11=FALSE,\"\",IF(入力シート②!FA12=\"\",\"\",入力シート②!FA12))","v":""}]
[null,5,4,null,5,4,null,3,"国土交通技官",null,false,0,null,"入札①",9,"",{"$f":"IF(入力シート①!AB20=\"\",\"\",入力シート①!AB20)","v":""},{"$f":"IF(入力シート①!AB20=\"\",\"\",IF(入力シート①!AM20=\"\",\"\",入力シート①!AM20))","v":""},{"$f":"IF(Q12=\"\",\"\",IF(R12=\"\",\"\",IF(入力シート①!$O$12>=R12,R12,\"-\")))","v":""},"",null,{"$f":"IF(入力シート①!$O$12=\"\",\"\",IF($P12=MIN($P$4:$P$23,$P$24:$P$43),\"第１回　落札\",IF($P32=MIN($P$4:$P$23,$P$24:$P$43),\"第２回　落札\",\"\")))","v":""},"",null,9,false,false,0,{"$f":"IF(Z12=FALSE,\"\",IF(OR(入力シート①!$H$12>=AG12,入力シート①!$H$12>=AG32,入力シート①!$H$12>=AG52,入力シート①!$H$12>=AG72,入力シート①!$H$12>=AG92,入力シート①!$H$12>=AG112,入力シート①!$H$12>=AG132,入力シート①!$H$12>=AG152,入力シート①!$H$12>=AG172,入力シート①!$H$12>=AG192,入力シート①!$H$12>=AG212,入力シート①!$H$12>=AG232,入力シート①!$H$12>=AG252,入力シート①!$H$12>=AG272,入力シート①!$H$12>=AG292,入力シート①!$H$12>=AG312,入力シート①!$H$12>=AG332,入力シート①!$H$12>=AG352,入力シート①!$H$12>=AG372,入力シート①!$H$12>=AG392,),TRUE))","v":""},"",null,9,{"$f":"IF(AJ12=\"\",\"\",IF(AJ12=\"-\",\"\",IF($AA$12=TRUE,AJ12-1,AJ12)))","v":""},{"$f":"AN$12","v":""},"",{"$f":"IF(AH12=\"\",\"\",IF(AI12=\"\",\"\",IF(入力シート①!$H$12>=AI12,AI12,\"-\")))","v":""},1,null,{"$f":"IF(Z12=TRUE,9,\"\")","v":""},"",{"$f":"IF($Z12=FALSE,\"\",IF(入力シート②!AQ13=\"\",\"\",入力シート②!AQ13))","v":""},{"$f":"IF($Z12=FALSE,\"\",IF(入力シート②!AW13=\"\",\"\",入力シート②!AW13))","v":""},{"$f":"IF($Z12=FALSE,\"\",IF(入力シート②!BC13=\"\",\"\",入力シート②!BC13))","v":""},{"$f":"IF($Z12=FALSE,\"\",IF(入力シート②!BI13=\"\",\"\",入力シート②!BI13))","v":""},{"$f":"IF($Z12=FALSE,\"\",IF(入力シート②!BO13=\"\",\"\",入力シート②!BO13))","v":""},{"$f":"IF($Z12=FALSE,\"\",IF(入力シート②!BU13=\"\",\"\",入力シート②!BU13))","v":""},{"$f":"IF($Z12=FALSE,\"\",IF(入力シート②!CA13=\"\",\"\",入力シート②!CA13))","v":""},{"$f":"IF($Z12=FALSE,\"\",IF(入力シート②!CG13=\"\",\"\",入力シート②!CG13))","v":""},{"$f":"IF($Z12=FALSE,\"\",IF(入力シート②!CM13=\"\",\"\",入力シート②!CM13))","v":""},{"$f":"IF($Z12=FALSE,\"\",IF(入力シート②!CS13=\"\",\"\",入力シート②!CS13))","v":""},{"$f":"IF($Z12=FALSE,\"\",IF(入力シート②!CY13=\"\",\"\",入力シート②!CY13))","v":""},{"$f":"IF($Z12=FALSE,\"\",IF(入力シート②!DE13=\"\",\"\",入力シート②!DE13))","v":""},{"$f":"IF($Z12=FALSE,\"\",IF(入力シート②!DK13=\"\",\"\",入力シート②!DK13))","v":""},{"$f":"IF($Z12=FALSE,\"\",IF(入力シート②!DQ13=\"\",\"\",入力シート②!DQ13))","v":""},{"$f":"IF($Z12=FALSE,\"\",IF(入力シート②!DW13=\"\",\"\",入力シート②!DW13))","v":""},{"$f":"IF($Z12=FALSE,\"\",IF(入力シート②!EC13=\"\",\"\",入力シート②!EC13))","v":""},{"$f":"IF($Z12=FALSE,\"\",IF(入力シート②!EI13=\"\",\"\",入力シート②!EI13))","v":""},{"$f":"IF($Z12=FALSE,\"\",IF(入力シート②!EO13=\"\",\"\",入力シート②!EO13))","v":""},{"$f":"IF($Z12=FALSE,\"\",IF(入力シート②!EU13=\"\",\"\",入力シート②!EU13))","v":""},{"$f":"IF($Z12=FALSE,\"\",IF(入力シート②!FA13=\"\",\"\",入力シート②!FA13))","v":""}]
[null,6,5,null,6,5,null,null,null,null,false,0,null,"入札①",10,"",{"$f":"IF(入力シート①!AB21=\"\",\"\",入力シート①!AB21)","v":""},{"$f":"IF(入力シート①!AB21=\"\",\"\",IF(入力シート①!AM21=\"\",\"\",入力シート①!AM21))","v":""},{"$f":"IF(Q13=\"\",\"\",IF(R13=\"\",\"\",IF(入力シート①!$O$12>=R13,R13,\"-\")))","v":""},"",null,{"$f":"IF(入力シート①!$O$12=\"\",\"\",IF($P13=MIN($P$4:$P$23,$P$24:$P$43),\"第１回　落札\",IF($P33=MIN($P$4:$P$23,$P$24:$P$43),\"第２回　落札\",\"\")))","v":""},"",null,10,false,false,0,{"$f":"IF(Z13=FALSE,\"\",IF(OR(入力シート①!$H$12>=AG13,入力シート①!$H$12>=AG33,入力シート①!$H$12>=AG53,入力シート①!$H$12>=AG73,入力シート①!$H$12>=AG93,入力シート①!$H$12>=AG113,入力シート①!$H$12>=AG133,入力シート①!$H$12>=AG153,入力シート①!$H$12>=AG173,入力シート①!$H$12>=AG193,入力シート①!$H$12>=AG213,入力シート①!$H$12>=AG233,入力シート①!$H$12>=AG253,入力シート①!$H$12>=AG273,入力シート①!$H$12>=AG293,入力シート①!$H$12>=AG313,入力シート①!$H$12>=AG333,入力シート①!$H$12>=AG353,入力シート①!$H$12>=AG373,入力シート①!$H$12>=AG393,),TRUE))","v":""},"",null,10,{"$f":"IF(AJ13=\"\",\"\",IF(AJ13=\"-\",\"\",IF($AA$13=TRUE,AJ13-1,AJ13)))","v":""},{"$f":"AN$13","v":""},"",{"$f":"IF(AH13=\"\",\"\",IF(AI13=\"\",\"\",IF(入力シート①!$H$12>=AI13,AI13,\"-\")))","v":""},1,null,{"$f":"IF(Z13=TRUE,10,\"\")","v":""},"",{"$f":"IF($Z13=FALSE,\"\",IF(入力シート②!AQ14=\"\",\"\",入力シート②!AQ14))","v":""},{"$f":"IF($Z13=FALSE,\"\",IF(入力シート②!AW14=\"\",\"\",入力シート②!AW14))","v":""},{"$f":"IF($Z13=FALSE,\"\",IF(入力シート②!BC14=\"\",\"\",入力シート②!BC14))","v":""},{"$f":"IF($Z13=FALSE,\"\",IF(入力シート②!BI14=\"\",\"\",入力シート②!BI14))","v":""},{"$f":"IF($Z13=FALSE,\"\",IF(入力シート②!BO14=\"\",\"\",入力シート②!BO14))","v":""},{"$f":"IF($Z13=FALSE,\"\",IF(入力シート②!BU14=\"\",\"\",入力シート②!BU14))","v":""},{"$f":"IF($Z13=FALSE,\"\",IF(入力シート②!CA14=\"\",\"\",入力シート②!CA14))","v":""},{"$f":"IF($Z13=FALSE,\"\",IF(入力シート②!CG14=\"\",\"\",入力シート②!CG14))","v":""},{"$f":"IF($Z13=FALSE,\"\",IF(入力シート②!CM14=\"\",\"\",入力シート②!CM14))","v":""},{"$f":"IF($Z13=FALSE,\"\",IF(入力シート②!CS14=\"\",\"\",入力シート②!CS14))","v":""},{"$f":"IF($Z13=FALSE,\"\",IF(入力シート②!CY14=\"\",\"\",入力シート②!CY14))","v":""},{"$f":"IF($Z13=FALSE,\"\",IF(入力シート②!DE14=\"\",\"\",入力シート②!DE14))","v":""},{"$f":"IF($Z13=FALSE,\"\",IF(入力シート②!DK14=\"\",\"\",入力シート②!DK14))","v":""},{"$f":"IF($Z13=FALSE,\"\",IF(入力シート②!DQ14=\"\",\"\",入力シート②!DQ14))","v":""},{"$f":"IF($Z13=FALSE,\"\",IF(入力シート②!DW14=\"\",\"\",入力シート②!DW14))","v":""},{"$f":"IF($Z13=FALSE,\"\",IF(入力シート②!EC14=\"\",\"\",入力シート②!EC14))","v":""},{"$f":"IF($Z13=FALSE,\"\",IF(入力シート②!EI14=\"\",\"\",入力シート②!EI14))","v":""},{"$f":"IF($Z13=FALSE,\"\",IF(入力シート②!EO14=\"\",\"\",入力シート②!EO14))","v":""},{"$f":"IF($Z13=FALSE,\"\",IF(入力シート②!EU14=\"\",\"\",入力シート②!EU14))","v":""},{"$f":"IF($Z13=FALSE,\"\",IF(入力シート②!FA14=\"\",\"\",入力シート②!FA14))","v":""}]
[null,7,6,null,7,6,null,"契約担当官等",null,null,false,0,null,"入札①",11,"",{"$f":"IF(入力シート①!AB22=\"\",\"\",入力シート①!AB22)","v":""},{"$f":"IF(入力シート①!AB22=\"\",\"\",IF(入力シート①!AM22=\"\",\"\",入力シート①!AM22))","v":""},{"$f":"IF(Q14=\"\",\"\",IF(R14=\"\",\"\",IF(入力シート①!$O$12>=R14,R14,\"-\")))","v":""},"",null,{"$f":"IF(入力シート①!$O$12=\"\",\"\",IF($P14=MIN($P$4:$P$23,$P$24:$P$43),\"第１回　落札\",IF($P34=MIN($P$4:$P$23,$P$24:$P$43),\"第２回　落札\",\"\")))","v":""},"",null,11,false,false,0,{"$f":"IF(Z14=FALSE,\"\",IF(OR(入力シート①!$H$12>=AG14,入力シート①!$H$12>=AG34,入力シート①!$H$12>=AG54,入力シート①!$H$12>=AG74,入力シート①!$H$12>=AG94,入力シート①!$H$12>=AG114,入力シート①!$H$12>=AG134,入力シート①!$H$12>=AG154,入力シート①!$H$12>=AG174,入力シート①!$H$12>=AG194,入力シート①!$H$12>=AG214,入力シート①!$H$12>=AG234,入力シート①!$H$12>=AG254,入力シート①!$H$12>=AG274,入力シート①!$H$12>=AG294,入力シート①!$H$12>=AG314,入力シート①!$H$12>=AG334,入力シート①!$H$12>=AG354,入力シート①!$H$12>=AG374,入力シート①!$H$12>=AG394,),TRUE))","v":""},"",null,11,{"$f":"IF(AJ14=\"\",\"\",IF(AJ14=\"-\",\"\",IF($AA$14=TRUE,AJ14-1,AJ14)))","v":""},{"$f":"AN$14","v":""},"",{"$f":"IF(AH14=\"\",\"\",IF(AI14=\"\",\"\",IF(入力シート①!$H$12>=AI14,AI14,\"-\")))","v":""},1,null,{"$f":"IF(Z14=TRUE,11,\"\")","v":""},"",{"$f":"IF($Z14=FALSE,\"\",IF(入力シート②!AQ15=\"\",\"\",入力シート②!AQ15))","v":""},{"$f":"IF($Z14=FALSE,\"\",IF(入力シート②!AW15=\"\",\"\",入力シート②!AW15))","v":""},{"$f":"IF($Z14=FALSE,\"\",IF(入力シート②!BC15=\"\",\"\",入力シート②!BC15))","v":""},{"$f":"IF($Z14=FALSE,\"\",IF(入力シート②!BI15=\"\",\"\",入力シート②!BI15))","v":""},{"$f":"IF($Z14=FALSE,\"\",IF(入力シート②!BO15=\"\",\"\",入力シート②!BO15))","v":""},{"$f":"IF($Z14=FALSE,\"\",IF(入力シート②!BU15=\"\",\"\",入力シート②!BU15))","v":""},{"$f":"IF($Z14=FALSE,\"\",IF(入力シート②!CA15=\"\",\"\",入力シート②!CA15))","v":""},{"$f":"IF($Z14=FALSE,\"\",IF(入力シート②!CG15=\"\",\"\",入力シート②!CG15))","v":""},{"$f":"IF($Z14=FALSE,\"\",IF(入力シート②!CM15=\"\",\"\",入力シート②!CM15))","v":""},{"$f":"IF($Z14=FALSE,\"\",IF(入力シート②!CS15=\"\",\"\",入力シート②!CS15))","v":""},{"$f":"IF($Z14=FALSE,\"\",IF(入力シート②!CY15=\"\",\"\",入力シート②!CY15))","v":""},{"$f":"IF($Z14=FALSE,\"\",IF(入力シート②!DE15=\"\",\"\",入力シート②!DE15))","v":""},{"$f":"IF($Z14=FALSE,\"\",IF(入力シート②!DK15=\"\",\"\",入力シート②!DK15))","v":""},{"$f":"IF($Z14=FALSE,\"\",IF(入力シート②!DQ15=\"\",\"\",入力シート②!DQ15))","v":""},{"$f":"IF($Z14=FALSE,\"\",IF(入力シート②!DW15=\"\",\"\",入力シート②!DW15))","v":""},{"$f":"IF($Z14=FALSE,\"\",IF(入力シート②!EC15=\"\",\"\",入力シート②!EC15))","v":""},{"$f":"IF($Z14=FALSE,\"\",IF(入力シート②!EI15=\"\",\"\",入力シート②!EI15))","v":""},{"$f":"IF($Z14=FALSE,\"\",IF(入力シート②!EO15=\"\",\"\",入力シート②!EO15))","v":""},{"$f":"IF($Z14=FALSE,\"\",IF(入力シート②!EU15=\"\",\"\",入力シート②!EU15))","v":""},{"$f":"IF($Z14=FALSE,\"\",IF(入力シート②!FA15=\"\",\"\",入力シート②!FA15))","v":""}]
[null,8,7,null,8,7,null,1,null,null,false,0,null,"入札①",12,"",{"$f":"IF(入力シート①!AB23=\"\",\"\",入力シート①!AB23)","v":""},{"$f":"IF(入力シート①!AB23=\"\",\"\",IF(入力シート①!AM23=\"\",\"\",入力シート①!AM23))","v":""},{"$f":"IF(Q15=\"\",\"\",IF(R15=\"\",\"\",IF(入力シート①!$O$12>=R15,R15,\"-\")))","v":""},"",null,{"$f":"IF(入力シート①!$O$12=\"\",\"\",IF($P15=MIN($P$4:$P$23,$P$24:$P$43),\"第１回　落札\",IF($P35=MIN($P$4:$P$23,$P$24:$P$43),\"第２回　落札\",\"\")))","v":""},"",null,12,false,false,0,{"$f":"IF(Z15=FALSE,\"\",IF(OR(入力シート①!$H$12>=AG15,入力シート①!$H$12>=AG35,入力シート①!$H$12>=AG55,入力シート①!$H$12>=AG75,入力シート①!$H$12>=AG95,入力シート①!$H$12>=AG115,入力シート①!$H$12>=AG135,入力シート①!$H$12>=AG155,入力シート①!$H$12>=AG175,入力シート①!$H$12>=AG195,入力シート①!$H$12>=AG215,入力シート①!$H$12>=AG235,入力シート①!$H$12>=AG255,入力シート①!$H$12>=AG275,入力シート①!$H$12>=AG295,入力シート①!$H$12>=AG315,入力シート①!$H$12>=AG335,入力シート①!$H$12>=AG355,入力シート①!$H$12>=AG375,入力シート①!$H$12>=AG395,),TRUE))","v":""},"",null,12,{"$f":"IF(AJ15=\"\",\"\",IF(AJ15=\"-\",\"\",IF($AA$15=TRUE,AJ15-1,AJ15)))","v":""},{"$f":"AN$15","v":""},"",{"$f":"IF(AH15=\"\",\"\",IF(AI15=\"\",\"\",IF(入力シート①!$H$12>=AI15,AI15,\"-\")))","v":""},1,null,{"$f":"IF(Z15=TRUE,12,\"\")","v":""},"",{"$f":"IF($Z15=FALSE,\"\",IF(入力シート②!AQ16=\"\",\"\",入力シート②!AQ16))","v":""},{"$f":"IF($Z15=FALSE,\"\",IF(入力シート②!AW16=\"\",\"\",入力シート②!AW16))","v":""},{"$f":"IF($Z15=FALSE,\"\",IF(入力シート②!BC16=\"\",\"\",入力シート②!BC16))","v":""},{"$f":"IF($Z15=FALSE,\"\",IF(入力シート②!BI16=\"\",\"\",入力シート②!BI16))","v":""},{"$f":"IF($Z15=FALSE,\"\",IF(入力シート②!BO16=\"\",\"\",入力シート②!BO16))","v":""},{"$f":"IF($Z15=FALSE,\"\",IF(入力シート②!BU16=\"\",\"\",入力シート②!BU16))","v":""},{"$f":"IF($Z15=FALSE,\"\",IF(入力シート②!CA16=\"\",\"\",入力シート②!CA16))","v":""},{"$f":"IF($Z15=FALSE,\"\",IF(入力シート②!CG16=\"\",\"\",入力シート②!CG16))","v":""},{"$f":"IF($Z15=FALSE,\"\",IF(入力シート②!CM16=\"\",\"\",入力シート②!CM16))","v":""},{"$f":"IF($Z15=FALSE,\"\",IF(入力シート②!CS16=\"\",\"\",入力シート②!CS16))","v":""},{"$f":"IF($Z15=FALSE,\"\",IF(入力シート②!CY16=\"\",\"\",入力シート②!CY16))","v":""},{"$f":"IF($Z15=FALSE,\"\",IF(入力シート②!DE16=\"\",\"\",入力シート②!DE16))","v":""},{"$f":"IF($Z15=FALSE,\"\",IF(入力シート②!DK16=\"\",\"\",入力シート②!DK16))","v":""},{"$f":"IF($Z15=FALSE,\"\",IF(入力シート②!DQ16=\"\",\"\",入力シート②!DQ16))","v":""},{"$f":"IF($Z15=FALSE,\"\",IF(入力シート②!DW16=\"\",\"\",入力シート②!DW16))","v":""},{"$f":"IF($Z15=FALSE,\"\",IF(入力シート②!EC16=\"\",\"\",入力シート②!EC16))","v":""},{"$f":"IF($Z15=FALSE,\"\",IF(入力シート②!EI16=\"\",\"\",入力シート②!EI16))","v":""},{"$f":"IF($Z15=FALSE,\"\",IF(入力シート②!EO16=\"\",\"\",入力シート②!EO16))","v":""},{"$f":"IF($Z15=FALSE,\"\",IF(入力シート②!EU16=\"\",\"\",入力シート②!EU16))","v":""},{"$f":"IF($Z15=FALSE,\"\",IF(入力シート②!FA16=\"\",\"\",入力シート②!FA16))","v":""}]
[null,9,8,null,9,8,null,null,null,null,false,0,null,"入札①",13,"",{"$f":"IF(入力シート①!AB24=\"\",\"\",入力シート①!AB24)","v":""},{"$f":"IF(入力シート①!AB24=\"\",\"\",IF(入力シート①!AM24=\"\",\"\",入力シート①!AM24))","v":""},{"$f":"IF(Q16=\"\",\"\",IF(R16=\"\",\"\",IF(入力シート①!$O$12>=R16,R16,\"-\")))","v":""},"",null,{"$f":"IF(入力シート①!$O$12=\"\",\"\",IF($P16=MIN($P$4:$P$23,$P$24:$P$43),\"第１回　落札\",IF($P36=MIN($P$4:$P$23,$P$24:$P$43),\"第２回　落札\",\"\")))","v":""},"",null,13,false,false,0,{"$f":"IF(Z16=FALSE,\"\",IF(OR(入力シート①!$H$12>=AG16,入力シート①!$H$12>=AG36,入力シート①!$H$12>=AG56,入力シート①!$H$12>=AG76,入力シート①!$H$12>=AG96,入力シート①!$H$12>=AG116,入力シート①!$H$12>=AG136,入力シート①!$H$12>=AG156,入力シート①!$H$12>=AG176,入力シート①!$H$12>=AG196,入力シート①!$H$12>=AG216,入力シート①!$H$12>=AG236,入力シート①!$H$12>=AG256,入力シート①!$H$12>=AG276,入力シート①!$H$12>=AG296,入力シート①!$H$12>=AG316,入力シート①!$H$12>=AG336,入力シート①!$H$12>=AG356,入力シート①!$H$12>=AG376,入力シート①!$H$12>=AG396,),TRUE))","v":""},"",null,13,{"$f":"IF(AJ16=\"\",\"\",IF(AJ16=\"-\",\"\",IF($AA$16=TRUE,AJ16-1,AJ16)))","v":""},{"$f":"AN$16","v":""},"",{"$f":"IF(AH16=\"\",\"\",IF(AI16=\"\",\"\",IF(入力シート①!$H$12>=AI16,AI16,\"-\")))","v":""},1,null,{"$f":"IF(Z16=TRUE,13,\"\")","v":""},"",{"$f":"IF($Z16=FALSE,\"\",IF(入力シート②!AQ17=\"\",\"\",入力シート②!AQ17))","v":""},{"$f":"IF($Z16=FALSE,\"\",IF(入力シート②!AW17=\"\",\"\",入力シート②!AW17))","v":""},{"$f":"IF($Z16=FALSE,\"\",IF(入力シート②!BC17=\"\",\"\",入力シート②!BC17))","v":""},{"$f":"IF($Z16=FALSE,\"\",IF(入力シート②!BI17=\"\",\"\",入力シート②!BI17))","v":""},{"$f":"IF($Z16=FALSE,\"\",IF(入力シート②!BO17=\"\",\"\",入力シート②!BO17))","v":""},{"$f":"IF($Z16=FALSE,\"\",IF(入力シート②!BU17=\"\",\"\",入力シート②!BU17))","v":""},{"$f":"IF($Z16=FALSE,\"\",IF(入力シート②!CA17=\"\",\"\",入力シート②!CA17))","v":""},{"$f":"IF($Z16=FALSE,\"\",IF(入力シート②!CG17=\"\",\"\",入力シート②!CG17))","v":""},{"$f":"IF($Z16=FALSE,\"\",IF(入力シート②!CM17=\"\",\"\",入力シート②!CM17))","v":""},{"$f":"IF($Z16=FALSE,\"\",IF(入力シート②!CS17=\"\",\"\",入力シート②!CS17))","v":""},{"$f":"IF($Z16=FALSE,\"\",IF(入力シート②!CY17=\"\",\"\",入力シート②!CY17))","v":""},{"$f":"IF($Z16=FALSE,\"\",IF(入力シート②!DE17=\"\",\"\",入力シート②!DE17))","v":""},{"$f":"IF($Z16=FALSE,\"\",IF(入力シート②!DK17=\"\",\"\",入力シート②!DK17))","v":""},{"$f":"IF($Z16=FALSE,\"\",IF(入力シート②!DQ17=\"\",\"\",入力シート②!DQ17))","v":""},{"$f":"IF($Z16=FALSE,\"\",IF(入力シート②!DW17=\"\",\"\",入力シート②!DW17))","v":""},{"$f":"IF($Z16=FALSE,\"\",IF(入力シート②!EC17=\"\",\"\",入力シート②!EC17))","v":""},{"$f":"IF($Z16=FALSE,\"\",IF(入力シート②!EI17=\"\",\"\",入力シート②!EI17))","v":""},{"$f":"IF($Z16=FALSE,\"\",IF(入力シート②!EO17=\"\",\"\",入力シート②!EO17))","v":""},{"$f":"IF($Z16=FALSE,\"\",IF(入力シート②!EU17=\"\",\"\",入力シート②!EU17))","v":""},{"$f":"IF($Z16=FALSE,\"\",IF(入力シート②!FA17=\"\",\"\",入力シート②!FA17))","v":""}]
[null,10,9,null,10,9,null,"不調用確認先",null,null,false,0,null,"入札①",14,"",{"$f":"IF(入力シート①!AB25=\"\",\"\",入力シート①!AB25)","v":""},{"$f":"IF(入力シート①!AB25=\"\",\"\",IF(入力シート①!AM25=\"\",\"\",入力シート①!AM25))","v":""},{"$f":"IF(Q17=\"\",\"\",IF(R17=\"\",\"\",IF(入力シート①!$O$12>=R17,R17,\"-\")))","v":""},"",null,{"$f":"IF(入力シート①!$O$12=\"\",\"\",IF($P17=MIN($P$4:$P$23,$P$24:$P$43),\"第１回　落札\",IF($P37=MIN($P$4:$P$23,$P$24:$P$43),\"第２回　落札\",\"\")))","v":""},"",null,14,false,false,0,{"$f":"IF(Z17=FALSE,\"\",IF(OR(入力シート①!$H$12>=AG17,入力シート①!$H$12>=AG37,入力シート①!$H$12>=AG57,入力シート①!$H$12>=AG77,入力シート①!$H$12>=AG97,入力シート①!$H$12>=AG117,入力シート①!$H$12>=AG137,入力シート①!$H$12>=AG157,入力シート①!$H$12>=AG177,入力シート①!$H$12>=AG197,入力シート①!$H$12>=AG217,入力シート①!$H$12>=AG237,入力シート①!$H$12>=AG257,入力シート①!$H$12>=AG277,入力シート①!$H$12>=AG297,入力シート①!$H$12>=AG317,入力シート①!$H$12>=AG337,入力シート①!$H$12>=AG357,入力シート①!$H$12>=AG377,入力シート①!$H$12>=AG397,),TRUE))","v":""},"",null,14,{"$f":"IF(AJ17=\"\",\"\",IF(AJ17=\"-\",\"\",IF($AA$17=TRUE,AJ17-1,AJ17)))","v":""},{"$f":"AN$17","v":""},"",{"$f":"IF(AH17=\"\",\"\",IF(AI17=\"\",\"\",IF(入力シート①!$H$12>=AI17,AI17,\"-\")))","v":""},1,null,{"$f":"IF(Z17=TRUE,14,\"\")","v":""},"",{"$f":"IF($Z17=FALSE,\"\",IF(入力シート②!AQ18=\"\",\"\",入力シート②!AQ18))","v":""},{"$f":"IF($Z17=FALSE,\"\",IF(入力シート②!AW18=\"\",\"\",入力シート②!AW18))","v":""},{"$f":"IF($Z17=FALSE,\"\",IF(入力シート②!BC18=\"\",\"\",入力シート②!BC18))","v":""},{"$f":"IF($Z17=FALSE,\"\",IF(入力シート②!BI18=\"\",\"\",入力シート②!BI18))","v":""},{"$f":"IF($Z17=FALSE,\"\",IF(入力シート②!BO18=\"\",\"\",入力シート②!BO18))","v":""},{"$f":"IF($Z17=FALSE,\"\",IF(入力シート②!BU18=\"\",\"\",入力シート②!BU18))","v":""},{"$f":"IF($Z17=FALSE,\"\",IF(入力シート②!CA18=\"\",\"\",入力シート②!CA18))","v":""},{"$f":"IF($Z17=FALSE,\"\",IF(入力シート②!CG18=\"\",\"\",入力シート②!CG18))","v":""},{"$f":"IF($Z17=FALSE,\"\",IF(入力シート②!CM18=\"\",\"\",入力シート②!CM18))","v":""},{"$f":"IF($Z17=FALSE,\"\",IF(入力シート②!CS18=\"\",\"\",入力シート②!CS18))","v":""},{"$f":"IF($Z17=FALSE,\"\",IF(入力シート②!CY18=\"\",\"\",入力シート②!CY18))","v":""},{"$f":"IF($Z17=FALSE,\"\",IF(入力シート②!DE18=\"\",\"\",入力シート②!DE18))","v":""},{"$f":"IF($Z17=FALSE,\"\",IF(入力シート②!DK18=\"\",\"\",入力シート②!DK18))","v":""},{"$f":"IF($Z17=FALSE,\"\",IF(入力シート②!DQ18=\"\",\"\",入力シート②!DQ18))","v":""},{"$f":"IF($Z17=FALSE,\"\",IF(入力シート②!DW18=\"\",\"\",入力シート②!DW18))","v":""},{"$f":"IF($Z17=FALSE,\"\",IF(入力シート②!EC18=\"\",\"\",入力シート②!EC18))","v":""},{"$f":"IF($Z17=FALSE,\"\",IF(入力シート②!EI18=\"\",\"\",入力シート②!EI18))","v":""},{"$f":"IF($Z17=FALSE,\"\",IF(入力シート②!EO18=\"\",\"\",入力シート②!EO18))","v":""},{"$f":"IF($Z17=FALSE,\"\",IF(入力シート②!EU18=\"\",\"\",入力シート②!EU18))","v":""},{"$f":"IF($Z17=FALSE,\"\",IF(入力シート②!FA18=\"\",\"\",入力シート②!FA18))","v":""}]
[null,11,10,null,11,10,null,{"$f":"IF(I18=\"\",0,1)","v":1},{"$f":"IF(入力シート①!BJ10=\"\",\"\",入力シート①!BJ10)","v":"参事官"},null,false,0,null,"入札①",15,"",{"$f":"IF(入力シート①!AB26=\"\",\"\",入力シート①!AB26)","v":""},{"$f":"IF(入力シート①!AB26=\"\",\"\",IF(入力シート①!AM26=\"\",\"\",入力シート①!AM26))","v":""},{"$f":"IF(Q18=\"\",\"\",IF(R18=\"\",\"\",IF(入力シート①!$O$12>=R18,R18,\"-\")))","v":""},"",null,{"$f":"IF(入力シート①!$O$12=\"\",\"\",IF($P18=MIN($P$4:$P$23,$P$24:$P$43),\"第１回　落札\",IF($P38=MIN($P$4:$P$23,$P$24:$P$43),\"第２回　落札\",\"\")))","v":""},"",null,15,false,false,0,{"$f":"IF(Z18=FALSE,\"\",IF(OR(入力シート①!$H$12>=AG18,入力シート①!$H$12>=AG38,入力シート①!$H$12>=AG58,入力シート①!$H$12>=AG78,入力シート①!$H$12>=AG98,入力シート①!$H$12>=AG118,入力シート①!$H$12>=AG138,入力シート①!$H$12>=AG158,入力シート①!$H$12>=AG178,入力シート①!$H$12>=AG198,入力シート①!$H$12>=AG218,入力シート①!$H$12>=AG238,入力シート①!$H$12>=AG258,入力シート①!$H$12>=AG278,入力シート①!$H$12>=AG298,入力シート①!$H$12>=AG318,入力シート①!$H$12>=AG338,入力シート①!$H$12>=AG358,入力シート①!$H$12>=AG378,入力シート①!$H$12>=AG398,),TRUE))","v":""},"",null,15,{"$f":"IF(AJ18=\"\",\"\",IF(AJ18=\"-\",\"\",IF($AA$18=TRUE,AJ18-1,AJ18)))","v":""},{"$f":"AN$18","v":""},"",{"$f":"IF(AH18=\"\",\"\",IF(AI18=\"\",\"\",IF(入力シート①!$H$12>=AI18,AI18,\"-\")))","v":""},1,null,{"$f":"IF(Z18=TRUE,15,\"\")","v":""},"",{"$f":"IF($Z18=FALSE,\"\",IF(入力シート②!AQ19=\"\",\"\",入力シート②!AQ19))","v":""},{"$f":"IF($Z18=FALSE,\"\",IF(入力シート②!AW19=\"\",\"\",入力シート②!AW19))","v":""},{"$f":"IF($Z18=FALSE,\"\",IF(入力シート②!BC19=\"\",\"\",入力シート②!BC19))","v":""},{"$f":"IF($Z18=FALSE,\"\",IF(入力シート②!BI19=\"\",\"\",入力シート②!BI19))","v":""},{"$f":"IF($Z18=FALSE,\"\",IF(入力シート②!BO19=\"\",\"\",入力シート②!BO19))","v":""},{"$f":"IF($Z18=FALSE,\"\",IF(入力シート②!BU19=\"\",\"\",入力シート②!BU19))","v":""},{"$f":"IF($Z18=FALSE,\"\",IF(入力シート②!CA19=\"\",\"\",入力シート②!CA19))","v":""},{"$f":"IF($Z18=FALSE,\"\",IF(入力シート②!CG19=\"\",\"\",入力シート②!CG19))","v":""},{"$f":"IF($Z18=FALSE,\"\",IF(入力シート②!CM19=\"\",\"\",入力シート②!CM19))","v":""},{"$f":"IF($Z18=FALSE,\"\",IF(入力シート②!CS19=\"\",\"\",入力シート②!CS19))","v":""},{"$f":"IF($Z18=FALSE,\"\",IF(入力シート②!CY19=\"\",\"\",入力シート②!CY19))","v":""},{"$f":"IF($Z18=FALSE,\"\",IF(入力シート②!DE19=\"\",\"\",入力シート②!DE19))","v":""},{"$f":"IF($Z18=FALSE,\"\",IF(入力シート②!DK19=\"\",\"\",入力シート②!DK19))","v":""},{"$f":"IF($Z18=FALSE,\"\",IF(入力シート②!DQ19=\"\",\"\",入力シート②!DQ19))","v":""},{"$f":"IF($Z18=FALSE,\"\",IF(入力シート②!DW19=\"\",\"\",入力シート②!DW19))","v":""},{"$f":"IF($Z18=FALSE,\"\",IF(入力シート②!EC19=\"\",\"\",入力シート②!EC19))","v":""},{"$f":"IF($Z18=FALSE,\"\",IF(入力シート②!EI19=\"\",\"\",入力シート②!EI19))","v":""},{"$f":"IF($Z18=FALSE,\"\",IF(入力シート②!EO19=\"\",\"\",入力シート②!EO19))","v":""},{"$f":"IF($Z18=FALSE,\"\",IF(入力シート②!EU19=\"\",\"\",入力シート②!EU19))","v":""},{"$f":"IF($Z18=FALSE,\"\",IF(入力シート②!FA19=\"\",\"\",入力シート②!FA19))","v":""}]
[null,12,11,null,12,11,null,{"$f":"IF(I19=\"\",0,1)","v":1},{"$f":"IF(入力シート①!BJ11=\"\",\"\",入力シート①!BJ11)","v":"課長補佐（総括）"},null,false,0,null,"入札①",16,"",{"$f":"IF(入力シート①!AB27=\"\",\"\",入力シート①!AB27)","v":""},{"$f":"IF(入力シート①!AB27=\"\",\"\",IF(入力シート①!AM27=\"\",\"\",入力シート①!AM27))","v":""},{"$f":"IF(Q19=\"\",\"\",IF(R19=\"\",\"\",IF(入力シート①!$O$12>=R19,R19,\"-\")))","v":""},"",null,{"$f":"IF(入力シート①!$O$12=\"\",\"\",IF($P19=MIN($P$4:$P$23,$P$24:$P$43),\"第１回　落札\",IF($P39=MIN($P$4:$P$23,$P$24:$P$43),\"第２回　落札\",\"\")))","v":""},"",null,16,false,false,0,{"$f":"IF(Z19=FALSE,\"\",IF(OR(入力シート①!$H$12>=AG19,入力シート①!$H$12>=AG39,入力シート①!$H$12>=AG59,入力シート①!$H$12>=AG79,入力シート①!$H$12>=AG99,入力シート①!$H$12>=AG119,入力シート①!$H$12>=AG139,入力シート①!$H$12>=AG159,入力シート①!$H$12>=AG179,入力シート①!$H$12>=AG199,入力シート①!$H$12>=AG219,入力シート①!$H$12>=AG239,入力シート①!$H$12>=AG259,入力シート①!$H$12>=AG279,入力シート①!$H$12>=AG299,入力シート①!$H$12>=AG319,入力シート①!$H$12>=AG339,入力シート①!$H$12>=AG359,入力シート①!$H$12>=AG379,入力シート①!$H$12>=AG399,),TRUE))","v":""},"",null,16,{"$f":"IF(AJ19=\"\",\"\",IF(AJ19=\"-\",\"\",IF($AA$19=TRUE,AJ19-1,AJ19)))","v":""},{"$f":"AN$19","v":""},"",{"$f":"IF(AH19=\"\",\"\",IF(AI19=\"\",\"\",IF(入力シート①!$H$12>=AI19,AI19,\"-\")))","v":""},1,null,{"$f":"IF(Z19=TRUE,16,\"\")","v":""},"",{"$f":"IF($Z19=FALSE,\"\",IF(入力シート②!AQ20=\"\",\"\",入力シート②!AQ20))","v":""},{"$f":"IF($Z19=FALSE,\"\",IF(入力シート②!AW20=\"\",\"\",入力シート②!AW20))","v":""},{"$f":"IF($Z19=FALSE,\"\",IF(入力シート②!BC20=\"\",\"\",入力シート②!BC20))","v":""},{"$f":"IF($Z19=FALSE,\"\",IF(入力シート②!BI20=\"\",\"\",入力シート②!BI20))","v":""},{"$f":"IF($Z19=FALSE,\"\",IF(入力シート②!BO20=\"\",\"\",入力シート②!BO20))","v":""},{"$f":"IF($Z19=FALSE,\"\",IF(入力シート②!BU20=\"\",\"\",入力シート②!BU20))","v":""},{"$f":"IF($Z19=FALSE,\"\",IF(入力シート②!CA20=\"\",\"\",入力シート②!CA20))","v":""},{"$f":"IF($Z19=FALSE,\"\",IF(入力シート②!CG20=\"\",\"\",入力シート②!CG20))","v":""},{"$f":"IF($Z19=FALSE,\"\",IF(入力シート②!CM20=\"\",\"\",入力シート②!CM20))","v":""},{"$f":"IF($Z19=FALSE,\"\",IF(入力シート②!CS20=\"\",\"\",入力シート②!CS20))","v":""},{"$f":"IF($Z19=FALSE,\"\",IF(入力シート②!CY20=\"\",\"\",入力シート②!CY20))","v":""},{"$f":"IF($Z19=FALSE,\"\",IF(入力シート②!DE20=\"\",\"\",入力シート②!DE20))","v":""},{"$f":"IF($Z19=FALSE,\"\",IF(入力シート②!DK20=\"\",\"\",入力シート②!DK20))","v":""},{"$f":"IF($Z19=FALSE,\"\",IF(入力シート②!DQ20=\"\",\"\",入力シート②!DQ20))","v":""},{"$f":"IF($Z19=FALSE,\"\",IF(入力シート②!DW20=\"\",\"\",入力シート②!DW20))","v":""},{"$f":"IF($Z19=FALSE,\"\",IF(入力シート②!EC20=\"\",\"\",入力シート②!EC20))","v":""},{"$f":"IF($Z19=FALSE,\"\",IF(入力シート②!EI20=\"\",\"\",入力シート②!EI20))","v":""},{"$f":"IF($Z19=FALSE,\"\",IF(入力シート②!EO20=\"\",\"\",入力シート②!EO20))","v":""},{"$f":"IF($Z19=FALSE,\"\",IF(入力シート②!EU20=\"\",\"\",入力シート②!EU20))","v":""},{"$f":"IF($Z19=FALSE,\"\",IF(入力シート②!FA20=\"\",\"\",入力シート②!FA20))","v":""}]
[null,13,12,null,13,12,null,1,{"$f":"IF(入力シート①!BJ12=\"\",\"\",入力シート①!BJ12)","v":"室長"},null,false,0,null,"入札①",17,"",{"$f":"IF(入力シート①!AB28=\"\",\"\",入力シート①!AB28)","v":""},{"$f":"IF(入力シート①!AB28=\"\",\"\",IF(入力シート①!AM28=\"\",\"\",入力シート①!AM28))","v":""},{"$f":"IF(Q20=\"\",\"\",IF(R20=\"\",\"\",IF(入力シート①!$O$12>=R20,R20,\"-\")))","v":""},"",null,{"$f":"IF(入力シート①!$O$12=\"\",\"\",IF($P20=MIN($P$4:$P$23,$P$24:$P$43),\"第１回　落札\",IF($P40=MIN($P$4:$P$23,$P$24:$P$43),\"第２回　落札\",\"\")))","v":""},"",null,17,false,false,0,{"$f":"IF(Z20=FALSE,\"\",IF(OR(入力シート①!$H$12>=AG20,入力シート①!$H$12>=AG40,入力シート①!$H$12>=AG60,入力シート①!$H$12>=AG80,入力シート①!$H$12>=AG100,入力シート①!$H$12>=AG120,入力シート①!$H$12>=AG140,入力シート①!$H$12>=AG160,入力シート①!$H$12>=AG180,入力シート①!$H$12>=AG200,入力シート①!$H$12>=AG220,入力シート①!$H$12>=AG240,入力シート①!$H$12>=AG260,入力シート①!$H$12>=AG280,入力シート①!$H$12>=AG300,入力シート①!$H$12>=AG320,入力シート①!$H$12>=AG340,入力シート①!$H$12>=AG360,入力シート①!$H$12>=AG380,入力シート①!$H$12>=AG400,),TRUE))","v":""},"",null,17,{"$f":"IF(AJ20=\"\",\"\",IF(AJ20=\"-\",\"\",IF($AA$20=TRUE,AJ20-1,AJ20)))","v":""},{"$f":"AN$20","v":""},"",{"$f":"IF(AH20=\"\",\"\",IF(AI20=\"\",\"\",IF(入力シート①!$H$12>=AI20,AI20,\"-\")))","v":""},1,null,{"$f":"IF(Z20=TRUE,17,\"\")","v":""},"",{"$f":"IF($Z20=FALSE,\"\",IF(入力シート②!AQ21=\"\",\"\",入力シート②!AQ21))","v":""},{"$f":"IF($Z20=FALSE,\"\",IF(入力シート②!AW21=\"\",\"\",入力シート②!AW21))","v":""},{"$f":"IF($Z20=FALSE,\"\",IF(入力シート②!BC21=\"\",\"\",入力シート②!BC21))","v":""},{"$f":"IF($Z20=FALSE,\"\",IF(入力シート②!BI21=\"\",\"\",入力シート②!BI21))","v":""},{"$f":"IF($Z20=FALSE,\"\",IF(入力シート②!BO21=\"\",\"\",入力シート②!BO21))","v":""},{"$f":"IF($Z20=FALSE,\"\",IF(入力シート②!BU21=\"\",\"\",入力シート②!BU21))","v":""},{"$f":"IF($Z20=FALSE,\"\",IF(入力シート②!CA21=\"\",\"\",入力シート②!CA21))","v":""},{"$f":"IF($Z20=FALSE,\"\",IF(入力シート②!CG21=\"\",\"\",入力シート②!CG21))","v":""},{"$f":"IF($Z20=FALSE,\"\",IF(入力シート②!CM21=\"\",\"\",入力シート②!CM21))","v":""},{"$f":"IF($Z20=FALSE,\"\",IF(入力シート②!CS21=\"\",\"\",入力シート②!CS21))","v":""},{"$f":"IF($Z20=FALSE,\"\",IF(入力シート②!CY21=\"\",\"\",入力シート②!CY21))","v":""},{"$f":"IF($Z20=FALSE,\"\",IF(入力シート②!DE21=\"\",\"\",入力シート②!DE21))","v":""},{"$f":"IF($Z20=FALSE,\"\",IF(入力シート②!DK21=\"\",\"\",入力シート②!DK21))","v":""},{"$f":"IF($Z20=FALSE,\"\",IF(入力シート②!DQ21=\"\",\"\",入力シート②!DQ21))","v":""},{"$f":"IF($Z20=FALSE,\"\",IF(入力シート②!DW21=\"\",\"\",入力シート②!DW21))","v":""},{"$f":"IF($Z20=FALSE,\"\",IF(入力シート②!EC21=\"\",\"\",入力シート②!EC21))","v":""},{"$f":"IF($Z20=FALSE,\"\",IF(入力シート②!EI21=\"\",\"\",入力シート②!EI21))","v":""},{"$f":"IF($Z20=FALSE,\"\",IF(入力シート②!EO21=\"\",\"\",入力シート②!EO21))","v":""},{"$f":"IF($Z20=FALSE,\"\",IF(入力シート②!EU21=\"\",\"\",入力シート②!EU21))","v":""},{"$f":"IF($Z20=FALSE,\"\",IF(入力シート②!FA21=\"\",\"\",入力シート②!FA21))","v":""}]
[null,14,13,null,null,null,null,1,{"$f":"IF(入力シート①!BJ13=\"\",\"\",入力シート①!BJ13)","v":"課長補佐"},null,false,0,null,"入札①",18,"",{"$f":"IF(入力シート①!AB29=\"\",\"\",入力シート①!AB29)","v":""},{"$f":"IF(入力シート①!AB29=\"\",\"\",IF(入力シート①!AM29=\"\",\"\",入力シート①!AM29))","v":""},{"$f":"IF(Q21=\"\",\"\",IF(R21=\"\",\"\",IF(入力シート①!$O$12>=R21,R21,\"-\")))","v":""},"",null,{"$f":"IF(入力シート①!$O$12=\"\",\"\",IF($P21=MIN($P$4:$P$23,$P$24:$P$43),\"第１回　落札\",IF($P41=MIN($P$4:$P$23,$P$24:$P$43),\"第２回　落札\",\"\")))","v":""},"",null,18,false,false,0,{"$f":"IF(Z21=FALSE,\"\",IF(OR(入力シート①!$H$12>=AG21,入力シート①!$H$12>=AG41,入力シート①!$H$12>=AG61,入力シート①!$H$12>=AG81,入力シート①!$H$12>=AG101,入力シート①!$H$12>=AG121,入力シート①!$H$12>=AG141,入力シート①!$H$12>=AG161,入力シート①!$H$12>=AG181,入力シート①!$H$12>=AG201,入力シート①!$H$12>=AG221,入力シート①!$H$12>=AG241,入力シート①!$H$12>=AG261,入力シート①!$H$12>=AG281,入力シート①!$H$12>=AG301,入力シート①!$H$12>=AG321,入力シート①!$H$12>=AG341,入力シート①!$H$12>=AG361,入力シート①!$H$12>=AG381,入力シート①!$H$12>=AG401,),TRUE))","v":""},"",null,18,{"$f":"IF(AJ21=\"\",\"\",IF(AJ21=\"-\",\"\",IF($AA$21=TRUE,AJ21-1,AJ21)))","v":""},{"$f":"AN$21","v":""},"",{"$f":"IF(AH21=\"\",\"\",IF(AI21=\"\",\"\",IF(入力シート①!$H$12>=AI21,AI21,\"-\")))","v":""},1,null,{"$f":"IF(Z21=TRUE,18,\"\")","v":""},"",{"$f":"IF($Z21=FALSE,\"\",IF(入力シート②!AQ22=\"\",\"\",入力シート②!AQ22))","v":""},{"$f":"IF($Z21=FALSE,\"\",IF(入力シート②!AW22=\"\",\"\",入力シート②!AW22))","v":""},{"$f":"IF($Z21=FALSE,\"\",IF(入力シート②!BC22=\"\",\"\",入力シート②!BC22))","v":""},{"$f":"IF($Z21=FALSE,\"\",IF(入力シート②!BI22=\"\",\"\",入力シート②!BI22))","v":""},{"$f":"IF($Z21=FALSE,\"\",IF(入力シート②!BO22=\"\",\"\",入力シート②!BO22))","v":""},{"$f":"IF($Z21=FALSE,\"\",IF(入力シート②!BU22=\"\",\"\",入力シート②!BU22))","v":""},{"$f":"IF($Z21=FALSE,\"\",IF(入力シート②!CA22=\"\",\"\",入力シート②!CA22))","v":""},{"$f":"IF($Z21=FALSE,\"\",IF(入力シート②!CG22=\"\",\"\",入力シート②!CG22))","v":""},{"$f":"IF($Z21=FALSE,\"\",IF(入力シート②!CM22=\"\",\"\",入力シート②!CM22))","v":""},{"$f":"IF($Z21=FALSE,\"\",IF(入力シート②!CS22=\"\",\"\",入力シート②!CS22))","v":""},{"$f":"IF($Z21=FALSE,\"\",IF(入力シート②!CY22=\"\",\"\",入力シート②!CY22))","v":""},{"$f":"IF($Z21=FALSE,\"\",IF(入力シート②!DE22=\"\",\"\",入力シート②!DE22))","v":""},{"$f":"IF($Z21=FALSE,\"\",IF(入力シート②!DK22=\"\",\"\",入力シート②!DK22))","v":""},{"$f":"IF($Z21=FALSE,\"\",IF(入力シート②!DQ22=\"\",\"\",入力シート②!DQ22))","v":""},{"$f":"IF($Z21=FALSE,\"\",IF(入力シート②!DW22=\"\",\"\",入力シート②!DW22))","v":""},{"$f":"IF($Z21=FALSE,\"\",IF(入力シート②!EC22=\"\",\"\",入力シート②!EC22))","v":""},{"$f":"IF($Z21=FALSE,\"\",IF(入力シート②!EI22=\"\",\"\",入力シート②!EI22))","v":""},{"$f":"IF($Z21=FALSE,\"\",IF(入力シート②!EO22=\"\",\"\",入力シート②!EO22))","v":""},{"$f":"IF($Z21=FALSE,\"\",IF(入力シート②!EU22=\"\",\"\",入力シート②!EU22))","v":""},{"$f":"IF($Z21=FALSE,\"\",IF(入力シート②!FA22=\"\",\"\",入力シート②!FA22))","v":""}]
[null,15,14,null,"日(開札)",null,null,1,{"$f":"IF(入力シート①!BJ14=\"\",\"\",入力シート①!BJ14)","v":"専門官"},null,false,0,null,"入札①",19,"",{"$f":"IF(入力シート①!AB30=\"\",\"\",入力シート①!AB30)","v":""},{"$f":"IF(入力シート①!AB30=\"\",\"\",IF(入力シート①!AM30=\"\",\"\",入力シート①!AM30))","v":""},{"$f":"IF(Q22=\"\",\"\",IF(R22=\"\",\"\",IF(入力シート①!$O$12>=R22,R22,\"-\")))","v":""},"",null,{"$f":"IF(入力シート①!$O$12=\"\",\"\",IF($P22=MIN($P$4:$P$23,$P$24:$P$43),\"第１回　落札\",IF($P42=MIN($P$4:$P$23,$P$24:$P$43),\"第２回　落札\",\"\")))","v":""},"",null,19,false,false,0,{"$f":"IF(Z22=FALSE,\"\",IF(OR(入力シート①!$H$12>=AG22,入力シート①!$H$12>=AG42,入力シート①!$H$12>=AG62,入力シート①!$H$12>=AG82,入力シート①!$H$12>=AG102,入力シート①!$H$12>=AG122,入力シート①!$H$12>=AG142,入力シート①!$H$12>=AG162,入力シート①!$H$12>=AG182,入力シート①!$H$12>=AG202,入力シート①!$H$12>=AG222,入力シート①!$H$12>=AG242,入力シート①!$H$12>=AG262,入力シート①!$H$12>=AG282,入力シート①!$H$12>=AG302,入力シート①!$H$12>=AG322,入力シート①!$H$12>=AG342,入力シート①!$H$12>=AG362,入力シート①!$H$12>=AG382,入力シート①!$H$12>=AG402,),TRUE))","v":""},"",null,19,{"$f":"IF(AJ22=\"\",\"\",IF(AJ22=\"-\",\"\",IF($AA$22=TRUE,AJ22-1,AJ22)))","v":""},{"$f":"AN$22","v":""},"",{"$f":"IF(AH22=\"\",\"\",IF(AI22=\"\",\"\",IF(入力シート①!$H$12>=AI22,AI22,\"-\")))","v":""},1,null,{"$f":"IF(Z22=TRUE,19,\"\")","v":""},"",{"$f":"IF($Z22=FALSE,\"\",IF(入力シート②!AQ23=\"\",\"\",入力シート②!AQ23))","v":""},{"$f":"IF($Z22=FALSE,\"\",IF(入力シート②!AW23=\"\",\"\",入力シート②!AW23))","v":""},{"$f":"IF($Z22=FALSE,\"\",IF(入力シート②!BC23=\"\",\"\",入力シート②!BC23))","v":""},{"$f":"IF($Z22=FALSE,\"\",IF(入力シート②!BI23=\"\",\"\",入力シート②!BI23))","v":""},{"$f":"IF($Z22=FALSE,\"\",IF(入力シート②!BO23=\"\",\"\",入力シート②!BO23))","v":""},{"$f":"IF($Z22=FALSE,\"\",IF(入力シート②!BU23=\"\",\"\",入力シート②!BU23))","v":""},{"$f":"IF($Z22=FALSE,\"\",IF(入力シート②!CA23=\"\",\"\",入力シート②!CA23))","v":""},{"$f":"IF($Z22=FALSE,\"\",IF(入力シート②!CG23=\"\",\"\",入力シート②!CG23))","v":""},{"$f":"IF($Z22=FALSE,\"\",IF(入力シート②!CM23=\"\",\"\",入力シート②!CM23))","v":""},{"$f":"IF($Z22=FALSE,\"\",IF(入力シート②!CS23=\"\",\"\",入力シート②!CS23))","v":""},{"$f":"IF($Z22=FALSE,\"\",IF(入力シート②!CY23=\"\",\"\",入力シート②!CY23))","v":""},{"$f":"IF($Z22=FALSE,\"\",IF(入力シート②!DE23=\"\",\"\",入力シート②!DE23))","v":""},{"$f":"IF($Z22=FALSE,\"\",IF(入力シート②!DK23=\"\",\"\",入力シート②!DK23))","v":""},{"$f":"IF($Z22=FALSE,\"\",IF(入力シート②!DQ23=\"\",\"\",入力シート②!DQ23))","v":""},{"$f":"IF($Z22=FALSE,\"\",IF(入力シート②!DW23=\"\",\"\",入力シート②!DW23))","v":""},{"$f":"IF($Z22=FALSE,\"\",IF(入力シート②!EC23=\"\",\"\",入力シート②!EC23))","v":""},{"$f":"IF($Z22=FALSE,\"\",IF(入力シート②!EI23=\"\",\"\",入力シート②!EI23))","v":""},{"$f":"IF($Z22=FALSE,\"\",IF(入力シート②!EO23=\"\",\"\",入力シート②!EO23))","v":""},{"$f":"IF($Z22=FALSE,\"\",IF(入力シート②!EU23=\"\",\"\",入力シート②!EU23))","v":""},{"$f":"IF($Z22=FALSE,\"\",IF(入力シート②!FA23=\"\",\"\",入力シート②!FA23))","v":""}]
[null,16,15,null,1,{"$f":"IF(入力シート①!S5=\"\",\"\",IF(入力シート①!S5=0,\"\",入力シート①!S5))","v":16},null,1,{"$f":"IF(入力シート①!BJ15=\"\",\"\",入力シート①!BJ15)","v":"係長(契約)"},null,false,0,null,"入札①",20,"",{"$f":"IF(入力シート①!AB31=\"\",\"\",入力シート①!AB31)","v":""},{"$f":"IF(入力シート①!AB31=\"\",\"\",IF(入力シート①!AM31=\"\",\"\",入力シート①!AM31))","v":""},{"$f":"IF(Q23=\"\",\"\",IF(R23=\"\",\"\",IF(入力シート①!$O$12>=R23,R23,\"-\")))","v":""},"",null,{"$f":"IF(入力シート①!$O$12=\"\",\"\",IF($P23=MIN($P$4:$P$23,$P$24:$P$43),\"第１回　落札\",IF($P43=MIN($P$4:$P$23,$P$24:$P$43),\"第２回　落札\",\"\")))","v":""},"",null,20,false,false,0,{"$f":"IF(Z23=FALSE,\"\",IF(OR(入力シート①!$H$12>=AG23,入力シート①!$H$12>=AG43,入力シート①!$H$12>=AG63,入力シート①!$H$12>=AG83,入力シート①!$H$12>=AG103,入力シート①!$H$12>=AG123,入力シート①!$H$12>=AG143,入力シート①!$H$12>=AG163,入力シート①!$H$12>=AG183,入力シート①!$H$12>=AG203,入力シート①!$H$12>=AG223,入力シート①!$H$12>=AG243,入力シート①!$H$12>=AG263,入力シート①!$H$12>=AG283,入力シート①!$H$12>=AG303,入力シート①!$H$12>=AG323,入力シート①!$H$12>=AG343,入力シート①!$H$12>=AG363,入力シート①!$H$12>=AG383,入力シート①!$H$12>=AG403,),TRUE))","v":""},"",null,20,{"$f":"IF(AJ23=\"\",\"\",IF(AJ23=\"-\",\"\",IF($AA$23=TRUE,AJ23-1,AJ23)))","v":""},{"$f":"AN$23","v":""},"",{"$f":"IF(AH23=\"\",\"\",IF(AI23=\"\",\"\",IF(入力シート①!$H$12>=AI23,AI23,\"-\")))","v":""},1,null,{"$f":"IF(Z23=TRUE,20,\"\")","v":""},"",{"$f":"IF($Z23=FALSE,\"\",IF(入力シート②!AQ24=\"\",\"\",入力シート②!AQ24))","v":""},{"$f":"IF($Z23=FALSE,\"\",IF(入力シート②!AW24=\"\",\"\",入力シート②!AW24))","v":""},{"$f":"IF($Z23=FALSE,\"\",IF(入力シート②!BC24=\"\",\"\",入力シート②!BC24))","v":""},{"$f":"IF($Z23=FALSE,\"\",IF(入力シート②!BI24=\"\",\"\",入力シート②!BI24))","v":""},{"$f":"IF($Z23=FALSE,\"\",IF(入力シート②!BO24=\"\",\"\",入力シート②!BO24))","v":""},{"$f":"IF($Z23=FALSE,\"\",IF(入力シート②!BU24=\"\",\"\",入力シート②!BU24))","v":""},{"$f":"IF($Z23=FALSE,\"\",IF(入力シート②!CA24=\"\",\"\",入力シート②!CA24))","v":""},{"$f":"IF($Z23=FALSE,\"\",IF(入力シート②!CG24=\"\",\"\",入力シート②!CG24))","v":""},{"$f":"IF($Z23=FALSE,\"\",IF(入力シート②!CM24=\"\",\"\",入力シート②!CM24))","v":""},{"$f":"IF($Z23=FALSE,\"\",IF(入力シート②!CS24=\"\",\"\",入力シート②!CS24))","v":""},{"$f":"IF($Z23=FALSE,\"\",IF(入力シート②!CY24=\"\",\"\",入力シート②!CY24))","v":""},{"$f":"IF($Z23=FALSE,\"\",IF(入力シート②!DE24=\"\",\"\",入力シート②!DE24))","v":""},{"$f":"IF($Z23=FALSE,\"\",IF(入力シート②!DK24=\"\",\"\",入力シート②!DK24))","v":""},{"$f":"IF($Z23=FALSE,\"\",IF(入力シート②!DQ24=\"\",\"\",入力シート②!DQ24))","v":""},{"$f":"IF($Z23=FALSE,\"\",IF(入力シート②!DW24=\"\",\"\",入力シート②!DW24))","v":""},{"$f":"IF($Z23=FALSE,\"\",IF(入力シート②!EC24=\"\",\"\",入力シート②!EC24))","v":""},{"$f":"IF($Z23=FALSE,\"\",IF(入力シート②!EI24=\"\",\"\",入力シート②!EI24))","v":""},{"$f":"IF($Z23=FALSE,\"\",IF(入力シート②!EO24=\"\",\"\",入力シート②!EO24))","v":""},{"$f":"IF($Z23=FALSE,\"\",IF(入力シート②!EU24=\"\",\"\",入力シート②!EU24))","v":""},{"$f":"IF($Z23=FALSE,\"\",IF(入力シート②!FA24=\"\",\"\",入力シート②!FA24))","v":""}]
[null,17,16,null,"日(落札)",null,null,1,{"$f":"IF(入力シート①!BJ16=\"\",\"\",入力シート①!BJ16)","v":"担当"},null,null,null,null,"入札②",1,{"$f":"IF(S24=\"\",\"\",IF(S24=\"-\",\"\",IF(K4=TRUE,S24-1,S24)))","v":""},{"$f":"Q4","v":"一般財団法人航空医学研究センター"},{"$f":"IF(入力シート①!AB12=\"\",\"\",IF(入力シート①!AS12=\"\",\"\",入力シート①!AS12))","v":""},{"$f":"IF(Q24=\"\",\"\",IF(R24=\"\",\"\",IF(入力シート①!$O$12>=R24,R24,\"-\")))","v":""},"",null,null,null,null,null,null,null,null,null,null,null,1,{"$f":"IF(AJ24=\"\",\"\",IF(AJ24=\"-\",\"\",IF($AA$4=TRUE,AJ24-1,AJ24)))","v":""},{"$f":"AN$4","v":"一般財団法人航空医学研究センター"},{"$f":"AP4","v":""},{"$f":"IF(AH24=\"\",\"\",IF(AI24=\"\",\"\",IF(入力シート①!$H$12>=AI24,AI24,\"-\")))","v":""},2,null,{"$f":"IFERROR(SMALL($AM$4:$AM$23,1),\"\")","v":""},{"$f":"IF($AM24=\"\",\"\",VLOOKUP($AM24,$AM$4:$BH$23,2,FALSE))","v":""},{"$f":"IF($AM24=\"\",\"\",VLOOKUP($AM24,$AM$4:$BH$23,3,FALSE))","v":""},{"$f":"IF($AM24=\"\",\"\",VLOOKUP($AM24,$AM$4:$BH$23,4,FALSE))","v":""},{"$f":"IF($AM24=\"\",\"\",VLOOKUP($AM24,$AM$4:$BH$23,5,FALSE))","v":""},{"$f":"IF($AM24=\"\",\"\",VLOOKUP($AM24,$AM$4:$BH$23,6,FALSE))","v":""},{"$f":"IF($AM24=\"\",\"\",VLOOKUP($AM24,$AM$4:$BH$23,7,FALSE))","v":""},{"$f":"IF($AM24=\"\",\"\",VLOOKUP($AM24,$AM$4:$BH$23,8,FALSE))","v":""},{"$f":"IF($AM24=\"\",\"\",VLOOKUP($AM24,$AM$4:$BH$23,9,FALSE))","v":""},{"$f":"IF($AM24=\"\",\"\",VLOOKUP($AM24,$AM$4:$BH$23,10,FALSE))","v":""},{"$f":"IF($AM24=\"\",\"\",VLOOKUP($AM24,$AM$4:$BH$23,11,FALSE))","v":""},{"$f":"IF($AM24=\"\",\"\",VLOOKUP($AM24,$AM$4:$BH$23,12,FALSE))","v":""},{"$f":"IF($AM24=\"\",\"\",VLOOKUP($AM24,$AM$4:$BH$23,13,FALSE))","v":""},{"$f":"IF($AM24=\"\",\"\",VLOOKUP($AM24,$AM$4:$BH$23,14,FALSE))","v":""},{"$f":"IF($AM24=\"\",\"\",VLOOKUP($AM24,$AM$4:$BH$23,15,FALSE))","v":""},{"$f":"IF($AM24=\"\",\"\",VLOOKUP($AM24,$AM$4:$BH$23,16,FALSE))","v":""},{"$f":"IF($AM24=\"\",\"\",VLOOKUP($AM24,$AM$4:$BH$23,17,FALSE))","v":""},{"$f":"IF($AM24=\"\",\"\",VLOOKUP($AM24,$AM$4:$BH$23,18,FALSE))","v":""},{"$f":"IF($AM24=\"\",\"\",VLOOKUP($AM24,$AM$4:$BH$23,19,FALSE))","v":""},{"$f":"IF($AM24=\"\",\"\",VLOOKUP($AM24,$AM$4:$BH$23,20,FALSE))","v":""},{"$f":"IF($AM24=\"\",\"\",VLOOKUP($AM24,$AM$4:$BH$23,21,FALSE))","v":""},{"$f":"IF($AM24=\"\",\"\",VLOOKUP($AM24,$AM$4:$BH$23,22,FALSE))","v":""}]
[null,18,17,null,1,{"$f":"IF(入力シート①!S6=\"\",\"\",IF(入力シート①!S6=0,\"\",入力シート①!S6))","v":16},null,{"$f":"SUM(H18:H24)","v":7},null,null,null,null,null,"入札②",2,{"$f":"IF(S25=\"\",\"\",IF(S25=\"-\",\"\",IF(K5=TRUE,S25-1,S25)))","v":""},{"$f":"Q5","v":""},{"$f":"IF(入力シート①!AB13=\"\",\"\",IF(入力シート①!AS13=\"\",\"\",入力シート①!AS13))","v":""},{"$f":"IF(Q25=\"\",\"\",IF(R25=\"\",\"\",IF(入力シート①!$O$12>=R25,R25,\"-\")))","v":""},"",null,null,null,null,null,null,null,null,null,null,null,2,{"$f":"IF(AJ25=\"\",\"\",IF(AJ25=\"-\",\"\",IF($AA$5=TRUE,AJ25-1,AJ25)))","v":""},{"$f":"AN$5","v":""},{"$f":"AP5","v":""},{"$f":"IF(AH25=\"\",\"\",IF(AI25=\"\",\"\",IF(入力シート①!$H$12>=AI25,AI25,\"-\")))","v":""},2,null,{"$f":"IFERROR(SMALL($AM$4:$AM$23,2),\"\")","v":""},{"$f":"IF($AM25=\"\",\"\",VLOOKUP($AM25,$AM$4:$BH$23,2,FALSE))","v":""},{"$f":"IF($AM25=\"\",\"\",VLOOKUP($AM25,$AM$4:$BH$23,3,FALSE))","v":""},{"$f":"IF($AM25=\"\",\"\",VLOOKUP($AM25,$AM$4:$BH$23,4,FALSE))","v":""},{"$f":"IF($AM25=\"\",\"\",VLOOKUP($AM25,$AM$4:$BH$23,5,FALSE))","v":""},{"$f":"IF($AM25=\"\",\"\",VLOOKUP($AM25,$AM$4:$BH$23,6,FALSE))","v":""},{"$f":"IF($AM25=\"\",\"\",VLOOKUP($AM25,$AM$4:$BH$23,7,FALSE))","v":""},{"$f":"IF($AM25=\"\",\"\",VLOOKUP($AM25,$AM$4:$BH$23,8,FALSE))","v":""},{"$f":"IF($AM25=\"\",\"\",VLOOKUP($AM25,$AM$4:$BH$23,9,FALSE))","v":""},{"$f":"IF($AM25=\"\",\"\",VLOOKUP($AM25,$AM$4:$BH$23,10,FALSE))","v":""},{"$f":"IF($AM25=\"\",\"\",VLOOKUP($AM25,$AM$4:$BH$23,11,FALSE))","v":""},{"$f":"IF($AM25=\"\",\"\",VLOOKUP($AM25,$AM$4:$BH$23,12,FALSE))","v":""},{"$f":"IF($AM25=\"\",\"\",VLOOKUP($AM25,$AM$4:$BH$23,13,FALSE))","v":""},{"$f":"IF($AM25=\"\",\"\",VLOOKUP($AM25,$AM$4:$BH$23,14,FALSE))","v":""},{"$f":"IF($AM25=\"\",\"\",VLOOKUP($AM25,$AM$4:$BH$23,15,FALSE))","v":""},{"$f":"IF($AM25=\"\",\"\",VLOOKUP($AM25,$AM$4:$BH$23,16,FALSE))","v":""},{"$f":"IF($AM25=\"\",\"\",VLOOKUP($AM25,$AM$4:$BH$23,17,FALSE))","v":""},{"$f":"IF($AM25=\"\",\"\",VLOOKUP($AM25,$AM$4:$BH$23,18,FALSE))","v":""},{"$f":"IF($AM25=\"\",\"\",VLOOKUP($AM25,$AM$4:$BH$23,19,FALSE))","v":""},{"$f":"IF($AM25=\"\",\"\",VLOOKUP($AM25,$AM$4:$BH$23,20,FALSE))","v":""},{"$f":"IF($AM25=\"\",\"\",VLOOKUP($AM25,$AM$4:$BH$23,21,FALSE))","v":""},{"$f":"IF($AM25=\"\",\"\",VLOOKUP($AM25,$AM$4:$BH$23,22,FALSE))","v":""}]
[null,19,18,null,"日(証明)",null,null,null,null,null,null,null,null,"入札②",3,"","",{"$f":"IF(入力シート①!AB14=\"\",\"\",IF(入力シート①!AS14=\"\",\"\",入力シート①!AS14))","v":""},{"$f":"IF(Q26=\"\",\"\",IF(R26=\"\",\"\",IF(入力シート①!$O$12>=R26,R26,\"-\")))","v":""},"",null,null,null,null,null,null,null,null,null,null,null,3,{"$f":"IF(AJ26=\"\",\"\",IF(AJ26=\"-\",\"\",IF($AA$6=TRUE,AJ26-1,AJ26)))","v":""},{"$f":"AN$6","v":""},"",{"$f":"IF(AH26=\"\",\"\",IF(AI26=\"\",\"\",IF(入力シート①!$H$12>=AI26,AI26,\"-\")))","v":""},2,null,{"$f":"IFERROR(SMALL($AM$4:$AM$23,3),\"\")","v":""},"","","","","","","","","","","","","","","","","","","","",""]
[null,20,19,null,1,{"$f":"IF(入力シート①!S7=\"\",\"\",IF(入力シート①!S7=0,\"\",入力シート①!S7))","v":16},null,null,null,null,null,null,null,"入札②",4,"","",{"$f":"IF(入力シート①!AB15=\"\",\"\",IF(入力シート①!AS15=\"\",\"\",入力シート①!AS15))","v":""},{"$f":"IF(Q27=\"\",\"\",IF(R27=\"\",\"\",IF(入力シート①!$O$12>=R27,R27,\"-\")))","v":""},"",null,null,null,null,null,null,null,null,null,null,null,4,{"$f":"IF(AJ27=\"\",\"\",IF(AJ27=\"-\",\"\",IF($AA$7=TRUE,AJ27-1,AJ27)))","v":""},{"$f":"AN$7","v":""},"",{"$f":"IF(AH27=\"\",\"\",IF(AI27=\"\",\"\",IF(入力シート①!$H$12>=AI27,AI27,\"-\")))","v":""},2,null,{"$f":"IFERROR(SMALL($AM$4:$AM$23,4),\"\")","v":""},"","","","","","","","","","","","","","","","","","","","",""]
[null,21,20,null,null,null,null,null,null,null,null,null,null,"入札②",5,"","",{"$f":"IF(入力シート①!AB16=\"\",\"\",IF(入力シート①!AS16=\"\",\"\",入力シート①!AS16))","v":""},{"$f":"IF(Q28=\"\",\"\",IF(R28=\"\",\"\",IF(入力シート①!$O$12>=R28,R28,\"-\")))","v":""},"",null,null,null,null,null,null,null,null,null,null,null,5,{"$f":"IF(AJ28=\"\",\"\",IF(AJ28=\"-\",\"\",IF($AA$8=TRUE,AJ28-1,AJ28)))","v":""},{"$f":"AN$8","v":""},"",{"$f":"IF(AH28=\"\",\"\",IF(AI28=\"\",\"\",IF(入力シート①!$H$12>=AI28,AI28,\"-\")))","v":""},2,null,{"$f":"IFERROR(SMALL($AM$4:$AM$23,5),\"\")","v":""},"","","","","","","","","","","","","","","","","","","","",""]
[null,22,21,null,1,null,null,null,null,null,null,null,null,"入札②",6,"","",{"$f":"IF(入力シート①!AB17=\"\",\"\",IF(入力シート①!AS17=\"\",\"\",入力シート①!AS17))","v":""},{"$f":"IF(Q29=\"\",\"\",IF(R29=\"\",\"\",IF(入力シート①!$O$12>=R29,R29,\"-\")))","v":""},"",null,null,null,null,null,null,null,null,null,null,null,6,{"$f":"IF(AJ29=\"\",\"\",IF(AJ29=\"-\",\"\",IF($AA$9=TRUE,AJ29-1,AJ29)))","v":""},{"$f":"AN$9","v":""},"",{"$f":"IF(AH29=\"\",\"\",IF(AI29=\"\",\"\",IF(入力シート①!$H$12>=AI29,AI29,\"-\")))","v":""},2,null,{"$f":"IFERROR(SMALL($AM$4:$AM$23,6),\"\")","v":""},"","","","","","","","","","","","","","","","","","","","",""]
[null,23,22,null,2,1,null,null,null,null,null,null,null,"入札②",7,"","",{"$f":"IF(入力シート①!AB18=\"\",\"\",IF(入力シート①!AS18=\"\",\"\",入力シート①!AS18))","v":""},{"$f":"IF(Q30=\"\",\"\",IF(R30=\"\",\"\",IF(入力シート①!$O$12>=R30,R30,\"-\")))","v":""},"",null,null,null,null,null,null,null,null,null,null,null,7,{"$f":"IF(AJ30=\"\",\"\",IF(AJ30=\"-\",\"\",IF($AA$10=TRUE,AJ30-1,AJ30)))","v":""},{"$f":"AN$10","v":""},"",{"$f":"IF(AH30=\"\",\"\",IF(AI30=\"\",\"\",IF(入力シート①!$H$12>=AI30,AI30,\"-\")))","v":""},2,null,{"$f":"IFERROR(SMALL($AM$4:$AM$23,7),\"\")","v":""},"","","","","","","","","","","","","","","","","","","","",""]
[null,24,23,null,3,2,null,null,null,null,null,null,null,"入札②",8,"","",{"$f":"IF(入力シート①!AB19=\"\",\"\",IF(入力シート①!AS19=\"\",\"\",入力シート①!AS19))","v":""},{"$f":"IF(Q31=\"\",\"\",IF(R31=\"\",\"\",IF(入力シート①!$O$12>=R31,R31,\"-\")))","v":""},"",null,null,null,null,null,null,null,null,null,null,null,8,{"$f":"IF(AJ31=\"\",\"\",IF(AJ31=\"-\",\"\",IF($AA$11=TRUE,AJ31-1,AJ31)))","v":""},{"$f":"AN$11","v":""},"",{"$f":"IF(AH31=\"\",\"\",IF(AI31=\"\",\"\",IF(入力シート①!$H$12>=AI31,AI31,\"-\")))","v":""},2,null,{"$f":"IFERROR(SMALL($AM$4:$AM$23,8),\"\")","v":""},"","","","","","","","","","","","","","","","","","","","",""]
[null,25,24,null,4,3,null,null,null,null,null,null,null,"入札②",9,"","",{"$f":"IF(入力シート①!AB20=\"\",\"\",IF(入力シート①!AS20=\"\",\"\",入力シート①!AS20))","v":""},{"$f":"IF(Q32=\"\",\"\",IF(R32=\"\",\"\",IF(入力シート①!$O$12>=R32,R32,\"-\")))","v":""},"",null,null,null,null,null,null,null,null,null,null,null,9,{"$f":"IF(AJ32=\"\",\"\",IF(AJ32=\"-\",\"\",IF($AA$12=TRUE,AJ32-1,AJ32)))","v":""},{"$f":"AN$12","v":""},"",{"$f":"IF(AH32=\"\",\"\",IF(AI32=\"\",\"\",IF(入力シート①!$H$12>=AI32,AI32,\"-\")))","v":""},2,null,{"$f":"IFERROR(SMALL($AM$4:$AM$23,9),\"\")","v":""},"","","","","","","","","","","","","","","","","","","","",""]
[null,26,25,null,5,4,null,null,null,null,null,null,null,"入札②",10,"","",{"$f":"IF(入力シート①!AB21=\"\",\"\",IF(入力シート①!AS21=\"\",\"\",入力シート①!AS21))","v":""},{"$f":"IF(Q33=\"\",\"\",IF(R33=\"\",\"\",IF(入力シート①!$O$12>=R33,R33,\"-\")))","v":""},"",null,null,null,null,null,null,null,null,null,null,null,10,{"$f":"IF(AJ33=\"\",\"\",IF(AJ33=\"-\",\"\",IF($AA$13=TRUE,AJ33-1,AJ33)))","v":""},{"$f":"AN$13","v":""},"",{"$f":"IF(AH33=\"\",\"\",IF(AI33=\"\",\"\",IF(入力シート①!$H$12>=AI33,AI33,\"-\")))","v":""},2,null,{"$f":"IFERROR(SMALL($AM$4:$AM$23,10),\"\")","v":""},"","","","","","","","","","","","","","","","","","","","",""]
[null,27,26,null,6,5,null,null,null,null,null,null,null,"入札②",11,"","",{"$f":"IF(入力シート①!AB22=\"\",\"\",IF(入力シート①!AS22=\"\",\"\",入力シート①!AS22))","v":""},{"$f":"IF(Q34=\"\",\"\",IF(R34=\"\",\"\",IF(入力シート①!$O$12>=R34,R34,\"-\")))","v":""},"",null,null,null,null,null,null,null,null,null,null,null,11,{"$f":"IF(AJ34=\"\",\"\",IF(AJ34=\"-\",\"\",IF($AA$14=TRUE,AJ34-1,AJ34)))","v":""},{"$f":"AN$14","v":""},"",{"$f":"IF(AH34=\"\",\"\",IF(AI34=\"\",\"\",IF(入力シート①!$H$12>=AI34,AI34,\"-\")))","v":""},2,null,{"$f":"IFERROR(SMALL($AM$4:$AM$23,11),\"\")","v":""},"","","","","","","","","","","","","","","","","","","","",""]
[null,28,27,null,7,6,null,null,null,null,null,null,null,"入札②",12,"","",{"$f":"IF(入力シート①!AB23=\"\",\"\",IF(入力シート①!AS23=\"\",\"\",入力シート①!AS23))","v":""},{"$f":"IF(Q35=\"\",\"\",IF(R35=\"\",\"\",IF(入力シート①!$O$12>=R35,R35,\"-\")))","v":""},"",null,null,null,null,null,null,null,null,null,null,null,12,{"$f":"IF(AJ35=\"\",\"\",IF(AJ35=\"-\",\"\",IF($AA$15=TRUE,AJ35-1,AJ35)))","v":""},{"$f":"AN$15","v":""},"",{"$f":"IF(AH35=\"\",\"\",IF(AI35=\"\",\"\",IF(入力シート①!$H$12>=AI35,AI35,\"-\")))","v":""},2,null,{"$f":"IFERROR(SMALL($AM$4:$AM$23,12),\"\")","v":""},"","","","","","","","","","","","","","","","","","","","",""]
[null,29,28,null,8,7,null,null,null,null,null,null,null,"入札②",13,"","",{"$f":"IF(入力シート①!AB24=\"\",\"\",IF(入力シート①!AS24=\"\",\"\",入力シート①!AS24))","v":""},{"$f":"IF(Q36=\"\",\"\",IF(R36=\"\",\"\",IF(入力シート①!$O$12>=R36,R36,\"-\")))","v":""},"",null,null,null,null,null,null,null,null,null,null,null,13,{"$f":"IF(AJ36=\"\",\"\",IF(AJ36=\"-\",\"\",IF($AA$16=TRUE,AJ36-1,AJ36)))","v":""},{"$f":"AN$16","v":""},"",{"$f":"IF(AH36=\"\",\"\",IF(AI36=\"\",\"\",IF(入力シート①!$H$12>=AI36,AI36,\"-\")))","v":""},2,null,{"$f":"IFERROR(SMALL($AM$4:$AM$23,13),\"\")","v":""},"","","","","","","","","","","","","","","","","","","","",""]
[null,30,29,null,9,8,null,null,null,null,null,null,null,"入札②",14,"","",{"$f":"IF(入力シート①!AB25=\"\",\"\",IF(入力シート①!AS25=\"\",\"\",入力シート①!AS25))","v":""},{"$f":"IF(Q37=\"\",\"\",IF(R37=\"\",\"\",IF(入力シート①!$O$12>=R37,R37,\"-\")))","v":""},"",null,null,null,null,null,null,null,null,null,null,null,14,{"$f":"IF(AJ37=\"\",\"\",IF(AJ37=\"-\",\"\",IF($AA$17=TRUE,AJ37-1,AJ37)))","v":""},{"$f":"AN$17","v":""},"",{"$f":"IF(AH37=\"\",\"\",IF(AI37=\"\",\"\",IF(入力シート①!$H$12>=AI37,AI37,\"-\")))","v":""},2,null,{"$f":"IFERROR(SMALL($AM$4:$AM$23,14),\"\")","v":""},"","","","","","","","","","","","","","","","","","","","",""]
[null,31,30,null,10,9,null,null,null,null,null,null,null,"入札②",15,"","",{"$f":"IF(入力シート①!AB26=\"\",\"\",IF(入力シート①!AS26=\"\",\"\",入力シート①!AS26))","v":""},{"$f":"IF(Q38=\"\",\"\",IF(R38=\"\",\"\",IF(入力シート①!$O$12>=R38,R38,\"-\")))","v":""},"",null,null,null,null,null,null,null,null,null,null,null,15,{"$f":"IF(AJ38=\"\",\"\",IF(AJ38=\"-\",\"\",IF($AA$18=TRUE,AJ38-1,AJ38)))","v":""},{"$f":"AN$18","v":""},"",{"$f":"IF(AH38=\"\",\"\",IF(AI38=\"\",\"\",IF(入力シート①!$H$12>=AI38,AI38,\"-\")))","v":""},2,null,{"$f":"IFERROR(SMALL($AM$4:$AM$23,15),\"\")","v":""},"","","","","","","","","","","","","","","","","","","","",""]
[null,32,31,null,11,10,null,null,null,null,null,null,null,"入札②",16,"","",{"$f":"IF(入力シート①!AB27=\"\",\"\",IF(入力シート①!AS27=\"\",\"\",入力シート①!AS27))","v":""},{"$f":"IF(Q39=\"\",\"\",IF(R39=\"\",\"\",IF(入力シート①!$O$12>=R39,R39,\"-\")))","v":""},"",null,null,null,null,null,null,null,null,null,null,null,16,{"$f":"IF(AJ39=\"\",\"\",IF(AJ39=\"-\",\"\",IF($AA$19=TRUE,AJ39-1,AJ39)))","v":""},{"$f":"AN$19","v":""},"",{"$f":"IF(AH39=\"\",\"\",IF(AI39=\"\",\"\",IF(入力シート①!$H$12>=AI39,AI39,\"-\")))","v":""},2,null,{"$f":"IFERROR(SMALL($AM$4:$AM$23,16),\"\")","v":""},"","","","","","","","","","","","","","","","","","","","",""]
[null,33,32,null,12,11,null,null,null,null,null,null,null,"入札②",17,"","",{"$f":"IF(入力シート①!AB28=\"\",\"\",IF(入力シート①!AS28=\"\",\"\",入力シート①!AS28))","v":""},{"$f":"IF(Q40=\"\",\"\",IF(R40=\"\",\"\",IF(入力シート①!$O$12>=R40,R40,\"-\")))","v":""},"",null,null,null,null,null,null,null,null,null,null,null,17,{"$f":"IF(AJ40=\"\",\"\",IF(AJ40=\"-\",\"\",IF($AA$20=TRUE,AJ40-1,AJ40)))","v":""},{"$f":"AN$20","v":""},"",{"$f":"IF(AH40=\"\",\"\",IF(AI40=\"\",\"\",IF(入力シート①!$H$12>=AI40,AI40,\"-\")))","v":""},2,null,{"$f":"IFERROR(SMALL($AM$4:$AM$23,17),\"\")","v":""},"","","","","","","","","","","","","","","","","","","","",""]
[null,34,33,null,13,12,null,null,null,null,null,null,null,"入札②",18,"","",{"$f":"IF(入力シート①!AB29=\"\",\"\",IF(入力シート①!AS29=\"\",\"\",入力シート①!AS29))","v":""},{"$f":"IF(Q41=\"\",\"\",IF(R41=\"\",\"\",IF(入力シート①!$O$12>=R41,R41,\"-\")))","v":""},"",null,null,null,null,null,null,null,null,null,null,null,18,{"$f":"IF(AJ41=\"\",\"\",IF(AJ41=\"-\",\"\",IF($AA$21=TRUE,AJ41-1,AJ41)))","v":""},{"$f":"AN$21","v":""},"",{"$f":"IF(AH41=\"\",\"\",IF(AI41=\"\",\"\",IF(入力シート①!$H$12>=AI41,AI41,\"-\")))","v":""},2,null,{"$f":"IFERROR(SMALL($AM$4:$AM$23,18),\"\")","v":""},"","","","","","","","","","","","","","","","","","","","",""]
[null,35,34,null,14,13,null,null,null,null,null,null,null,"入札②",19,"","",{"$f":"IF(入力シート①!AB30=\"\",\"\",IF(入力シート①!AS30=\"\",\"\",入力シート①!AS30))","v":""},{"$f":"IF(Q42=\"\",\"\",IF(R42=\"\",\"\",IF(入力シート①!$O$12>=R42,R42,\"-\")))","v":""},"",null,null,null,null,null,null,null,null,null,null,null,19,{"$f":"IF(AJ42=\"\",\"\",IF(AJ42=\"-\",\"\",IF($AA$22=TRUE,AJ42-1,AJ42)))","v":""},{"$f":"AN$22","v":""},"",{"$f":"IF(AH42=\"\",\"\",IF(AI42=\"\",\"\",IF(入力シート①!$H$12>=AI42,AI42,\"-\")))","v":""},2,null,{"$f":"IFERROR(SMALL($AM$4:$AM$23,19),\"\")","v":""},"","","","","","","","","","","","","","","","","","","","",""]
[null,36,35,null,15,14,null,null,null,null,null,null,null,"入札②",20,"","",{"$f":"IF(入力シート①!AB31=\"\",\"\",IF(入力シート①!AS31=\"\",\"\",入力シート①!AS31))","v":""},{"$f":"IF(Q43=\"\",\"\",IF(R43=\"\",\"\",IF(入力シート①!$O$12>=R43,R43,\"-\")))","v":""},"",null,null,null,null,null,null,null,null,null,null,null,20,{"$f":"IF(AJ43=\"\",\"\",IF(AJ43=\"-\",\"\",IF($AA$23=TRUE,AJ43-1,AJ43)))","v":""},{"$f":"AN$23","v":""},"",{"$f":"IF(AH43=\"\",\"\",IF(AI43=\"\",\"\",IF(入力シート①!$H$12>=AI43,AI43,\"-\")))","v":""},2,null,{"$f":"IFERROR(SMALL($AM$4:$AM$23,20),\"\")","v":""},"","","","","","","","","","","","","","","","","","","","",""]
[null,37,36,null,16,15,null,null,null,null,null,null,null,null,null,null,null,null,null,null,null,null,null,null,null,null,null,null,null,null,null,1,{"$f":"IF(AJ44=\"\",\"\",IF(AJ44=\"-\",\"\",IF($AA$4=TRUE,AJ44-1,AJ44)))","v":""},{"$f":"AN$4","v":"一般財団法人航空医学研究センター"},{"$f":"AQ4","v":""},{"$f":"IF(AH44=\"\",\"\",IF(AI44=\"\",\"\",IF(入力シート①!$H$12>=AI44,AI44,\"-\")))","v":""},3,null,null,null,1,2,3,4,5,6,7,8,9,10,11,12,13,14,15,16,17,18,19,20]
[null,38,37,null,17,16,null,null,null,null,null,null,null,null,null,null,null,{"$f":"IFERROR(SMALL(R4:R43,1),\"\")","v":4800000},null,null,null,null,null,null,null,null,null,null,null,null,null,2,{"$f":"IF(AJ45=\"\",\"\",IF(AJ45=\"-\",\"\",IF($AA$5=TRUE,AJ45-1,AJ45)))","v":""},{"$f":"AN$5","v":""},{"$f":"AQ5","v":""},{"$f":"IF(AH45=\"\",\"\",IF(AI45=\"\",\"\",IF(入力シート①!$H$12>=AI45,AI45,\"-\")))","v":""},3,null,{"$f":"IFERROR(SMALL($AM$4:$AM$23,1),\"\")","v":""},{"$f":"IF($AM45=\"\",\"\",VLOOKUP($AM45,$AM$4:$BH$23,2,FALSE))","v":""},{"$f":"IF(AO24>入力シート①!$H$12,\"\",IF(AO24=MIN(AO$24:AO$43),1))","v":""},{"$f":"IF(AP24>入力シート①!$H$12,\"\",IF(AP24=MIN(AP$24:AP$43),2))","v":""},{"$f":"IF(AQ24>入力シート①!$H$12,\"\",IF(AQ24=MIN(AQ$24:AQ$43),3))","v":""},{"$f":"IF(AR24>入力シート①!$H$12,\"\",IF(AR24=MIN(AR$24:AR$43),4))","v":""},{"$f":"IF(AS24>入力シート①!$H$12,\"\",IF(AS24=MIN(AS$24:AS$43),5))","v":""},{"$f":"IF(AT24>入力シート①!$H$12,\"\",IF(MIN(AT$24:AT$43),6))","v":""},{"$f":"IF(AU24>入力シート①!$H$12,\"\",IF(MIN(AU$24:AU$43),7))","v":""},{"$f":"IF(AV24>入力シート①!$H$12,\"\",IF(MIN(AV$24:AV$43),8))","v":""},{"$f":"IF(AW24>入力シート①!$H$12,\"\",IF(MIN(AW$24:AW$43),9))","v":""},{"$f":"IF(AX24>入力シート①!$H$12,\"\",IF(MIN(AX$24:AX$43),10))","v":""},{"$f":"IF(AY24>入力シート①!$H$12,\"\",IF(MIN(AY$24:AY$43),11))","v":""},{"$f":"IF(AZ24>入力シート①!$H$12,\"\",IF(MIN(AZ$24:AZ$43),12))","v":""},{"$f":"IF(BA24>入力シート①!$H$12,\"\",IF(MIN(BA$24:BA$43),13))","v":""},{"$f":"IF(BB24>入力シート①!$H$12,\"\",IF(MIN(BB$24:BB$43),14))","v":""},{"$f":"IF(BC24>入力シート①!$H$12,\"\",IF(MIN(BC$24:BC$43),15))","v":""},{"$f":"IF(BD24>入力シート①!$H$12,\"\",IF(MIN(BD$24:BD$43),16))","v":""},{"$f":"IF(BE24>入力シート①!$H$12,\"\",IF(MIN(BE$24:BE$43),17))","v":""},{"$f":"IF(BF24>入力シート①!$H$12,\"\",IF(MIN(BF$24:BF$43),18))","v":""},{"$f":"IF(BG24>入力シート①!$H$12,\"\",IF(MIN(BG$24:BG$43),19))","v":""},{"$f":"IF(BH24>入力シート①!$H$12,\"\",IF(MIN(BH$24:BH$43),20))","v":""}]
[null,39,38,null,18,17,null,null,null,null,null,null,null,null,null,null,null,null,null,null,null,null,null,null,null,null,null,null,null,null,null,3,{"$f":"IF(AJ46=\"\",\"\",IF(AJ46=\"-\",\"\",IF($AA$6=TRUE,AJ46-1,AJ46)))","v":""},{"$f":"AN$6","v":""},"",{"$f":"IF(AH46=\"\",\"\",IF(AI46=\"\",\"\",IF(入力シート①!$H$12>=AI46,AI46,\"-\")))","v":""},3,null,{"$f":"IFERROR(SMALL($AM$4:$AM$23,2),\"\")","v":""},{"$f":"IF($AM46=\"\",\"\",VLOOKUP($AM46,$AM$4:$BH$23,2,FALSE))","v":""},{"$f":"IF(AO25>入力シート①!$H$12,\"\",IF(AO25=MIN(AO$24:AO$43),1))","v":""},{"$f":"IF(AP25>入力シート①!$H$12,\"\",IF(AP25=MIN(AP$24:AP$43),2))","v":""},{"$f":"IF(AQ25>入力シート①!$H$12,\"\",IF(AQ25=MIN(AQ$24:AQ$43),3))","v":""},{"$f":"IF(AR25>入力シート①!$H$12,\"\",IF(AR25=MIN(AR$24:AR$43),4))","v":""},{"$f":"IF(AS25>入力シート①!$H$12,\"\",IF(AS25=MIN(AS$24:AS$43),5))","v":""},{"$f":"IF(AT25>入力シート①!$H$12,\"\",IF(MIN(AT$24:AT$43),6))","v":""},{"$f":"IF(AU25>入力シート①!$H$12,\"\",IF(MIN(AU$24:AU$43),7))","v":""},{"$f":"IF(AV25>入力シート①!$H$12,\"\",IF(MIN(AV$24:AV$43),8))","v":""},{"$f":"IF(AW25>入力シート①!$H$12,\"\",IF(MIN(AW$24:AW$43),9))","v":""},{"$f":"IF(AX25>入力シート①!$H$12,\"\",IF(MIN(AX$24:AX$43),10))","v":""},{"$f":"IF(AY25>入力シート①!$H$12,\"\",IF(MIN(AY$24:AY$43),11))","v":""},{"$f":"IF(AZ25>入力シート①!$H$12,\"\",IF(MIN(AZ$24:AZ$43),12))","v":""},{"$f":"IF(BA25>入力シート①!$H$12,\"\",IF(MIN(BA$24:BA$43),13))","v":""},{"$f":"IF(BB25>入力シート①!$H$12,\"\",IF(MIN(BB$24:BB$43),14))","v":""},{"$f":"IF(BC25>入力シート①!$H$12,\"\",IF(MIN(BC$24:BC$43),15))","v":""},{"$f":"IF(BD25>入力シート①!$H$12,\"\",IF(MIN(BD$24:BD$43),16))","v":""},{"$f":"IF(BE25>入力シート①!$H$12,\"\",IF(MIN(BE$24:BE$43),17))","v":""},{"$f":"IF(BF25>入力シート①!$H$12,\"\",IF(MIN(BF$24:BF$43),18))","v":""},{"$f":"IF(BG25>入力シート①!$H$12,\"\",IF(MIN(BG$24:BG$43),19))","v":""},{"$f":"IF(BH25>入力シート①!$H$12,\"\",IF(MIN(BH$24:BH$43),20))","v":""}]
[null,40,39,null,19,18,null,null,null,null,null,null,null,null,null,null,null,null,null,null,null,null,null,null,null,null,null,null,null,null,null,4,{"$f":"IF(AJ47=\"\",\"\",IF(AJ47=\"-\",\"\",IF($AA$7=TRUE,AJ47-1,AJ47)))","v":""},{"$f":"AN$7","v":""},"",{"$f":"IF(AH47=\"\",\"\",IF(AI47=\"\",\"\",IF(入力シート①!$H$12>=AI47,AI47,\"-\")))","v":""},3,null,{"$f":"IFERROR(SMALL($AM$4:$AM$23,3),\"\")","v":""},"",{"$f":"IF(AO26>入力シート①!$H$12,\"\",IF(AO26=MIN(AO$24:AO$43),1))","v":""},{"$f":"IF(AP26>入力シート①!$H$12,\"\",IF(AP26=MIN(AP$24:AP$43),2))","v":""},{"$f":"IF(AQ26>入力シート①!$H$12,\"\",IF(AQ26=MIN(AQ$24:AQ$43),3))","v":""},{"$f":"IF(AR26>入力シート①!$H$12,\"\",IF(AR26=MIN(AR$24:AR$43),4))","v":""},{"$f":"IF(AS26>入力シート①!$H$12,\"\",IF(AS26=MIN(AS$24:AS$43),5))","v":""},{"$f":"IF(AT26>入力シート①!$H$12,\"\",IF(MIN(AT$24:AT$43),6))","v":""},{"$f":"IF(AU26>入力シート①!$H$12,\"\",IF(MIN(AU$24:AU$43),7))","v":""},{"$f":"IF(AV26>入力シート①!$H$12,\"\",IF(MIN(AV$24:AV$43),8))","v":""},{"$f":"IF(AW26>入力シート①!$H$12,\"\",IF(MIN(AW$24:AW$43),9))","v":""},{"$f":"IF(AX26>入力シート①!$H$12,\"\",IF(MIN(AX$24:AX$43),10))","v":""},{"$f":"IF(AY26>入力シート①!$H$12,\"\",IF(MIN(AY$24:AY$43),11))","v":""},{"$f":"IF(AZ26>入力シート①!$H$12,\"\",IF(MIN(AZ$24:AZ$43),12))","v":""},{"$f":"IF(BA26>入力シート①!$H$12,\"\",IF(MIN(BA$24:BA$43),13))","v":""},{"$f":"IF(BB26>入力シート①!$H$12,\"\",IF(MIN(BB$24:BB$43),14))","v":""},{"$f":"IF(BC26>入力シート①!$H$12,\"\",IF(MIN(BC$24:BC$43),15))","v":""},{"$f":"IF(BD26>入力シート①!$H$12,\"\",IF(MIN(BD$24:BD$43),16))","v":""},{"$f":"IF(BE26>入力シート①!$H$12,\"\",IF(MIN(BE$24:BE$43),17))","v":""},{"$f":"IF(BF26>入力シート①!$H$12,\"\",IF(MIN(BF$24:BF$43),18))","v":""},{"$f":"IF(BG26>入力シート①!$H$12,\"\",IF(MIN(BG$24:BG$43),19))","v":""},{"$f":"IF(BH26>入力シート①!$H$12,\"\",IF(MIN(BH$24:BH$43),20))","v":""}]
[null,41,40,null,20,19,null,null,null,null,null,null,null,null,null,null,null,null,null,null,null,null,null,null,null,null,null,null,null,null,null,5,{"$f":"IF(AJ48=\"\",\"\",IF(AJ48=\"-\",\"\",IF($AA$8=TRUE,AJ48-1,AJ48)))","v":""},{"$f":"AN$8","v":""},"",{"$f":"IF(AH48=\"\",\"\",IF(AI48=\"\",\"\",IF(入力シート①!$H$12>=AI48,AI48,\"-\")))","v":""},3,null,{"$f":"IFERROR(SMALL($AM$4:$AM$23,4),\"\")","v":""},"",{"$f":"IF(AO27>入力シート①!$H$12,\"\",IF(AO27=MIN(AO$24:AO$43),1))","v":""},{"$f":"IF(AP27>入力シート①!$H$12,\"\",IF(AP27=MIN(AP$24:AP$43),2))","v":""},{"$f":"IF(AQ27>入力シート①!$H$12,\"\",IF(AQ27=MIN(AQ$24:AQ$43),3))","v":""},{"$f":"IF(AR27>入力シート①!$H$12,\"\",IF(AR27=MIN(AR$24:AR$43),4))","v":""},{"$f":"IF(AS27>入力シート①!$H$12,\"\",IF(AS27=MIN(AS$24:AS$43),5))","v":""},{"$f":"IF(AT27>入力シート①!$H$12,\"\",IF(MIN(AT$24:AT$43),6))","v":""},{"$f":"IF(AU27>入力シート①!$H$12,\"\",IF(MIN(AU$24:AU$43),7))","v":""},{"$f":"IF(AV27>入力シート①!$H$12,\"\",IF(MIN(AV$24:AV$43),8))","v":""},{"$f":"IF(AW27>入力シート①!$H$12,\"\",IF(MIN(AW$24:AW$43),9))","v":""},{"$f":"IF(AX27>入力シート①!$H$12,\"\",IF(MIN(AX$24:AX$43),10))","v":""},{"$f":"IF(AY27>入力シート①!$H$12,\"\",IF(MIN(AY$24:AY$43),11))","v":""},{"$f":"IF(AZ27>入力シート①!$H$12,\"\",IF(MIN(AZ$24:AZ$43),12))","v":""},{"$f":"IF(BA27>入力シート①!$H$12,\"\",IF(MIN(BA$24:BA$43),13))","v":""},{"$f":"IF(BB27>入力シート①!$H$12,\"\",IF(MIN(BB$24:BB$43),14))","v":""},{"$f":"IF(BC27>入力シート①!$H$12,\"\",IF(MIN(BC$24:BC$43),15))","v":""},{"$f":"IF(BD27>入力シート①!$H$12,\"\",IF(MIN(BD$24:BD$43),16))","v":""},{"$f":"IF(BE27>入力シート①!$H$12,\"\",IF(MIN(BE$24:BE$43),17))","v":""},{"$f":"IF(BF27>入力シート①!$H$12,\"\",IF(MIN(BF$24:BF$43),18))","v":""},{"$f":"IF(BG27>入力シート①!$H$12,\"\",IF(MIN(BG$24:BG$43),19))","v":""},{"$f":"IF(BH27>入力シート①!$H$12,\"\",IF(MIN(BH$24:BH$43),20))","v":""}]
[null,null,null,null,21,20,null,null,null,null,null,null,null,null,null,null,null,null,null,null,null,null,null,null,null,null,null,null,null,null,null,6,{"$f":"IF(AJ49=\"\",\"\",IF(AJ49=\"-\",\"\",IF($AA$9=TRUE,AJ49-1,AJ49)))","v":""},{"$f":"AN$9","v":""},"",{"$f":"IF(AH49=\"\",\"\",IF(AI49=\"\",\"\",IF(入力シート①!$H$12>=AI49,AI49,\"-\")))","v":""},3,null,{"$f":"IFERROR(SMALL($AM$4:$AM$23,5),\"\")","v":""},"",{"$f":"IF(AO28>入力シート①!$H$12,\"\",IF(AO28=MIN(AO$24:AO$43),1))","v":""},{"$f":"IF(AP28>入力シート①!$H$12,\"\",IF(AP28=MIN(AP$24:AP$43),2))","v":""},{"$f":"IF(AQ28>入力シート①!$H$12,\"\",IF(AQ28=MIN(AQ$24:AQ$43),3))","v":""},{"$f":"IF(AR28>入力シート①!$H$12,\"\",IF(AR28=MIN(AR$24:AR$43),4))","v":""},{"$f":"IF(AS28>入力シート①!$H$12,\"\",IF(AS28=MIN(AS$24:AS$43),5))","v":""},{"$f":"IF(AT28>入力シート①!$H$12,\"\",IF(MIN(AT$24:AT$43),6))","v":""},{"$f":"IF(AU28>入力シート①!$H$12,\"\",IF(MIN(AU$24:AU$43),7))","v":""},{"$f":"IF(AV28>入力シート①!$H$12,\"\",IF(MIN(AV$24:AV$43),8))","v":""},{"$f":"IF(AW28>入力シート①!$H$12,\"\",IF(MIN(AW$24:AW$43),9))","v":""},{"$f":"IF(AX28>入力シート①!$H$12,\"\",IF(MIN(AX$24:AX$43),10))","v":""},{"$f":"IF(AY28>入力シート①!$H$12,\"\",IF(MIN(AY$24:AY$43),11))","v":""},{"$f":"IF(AZ28>入力シート①!$H$12,\"\",IF(MIN(AZ$24:AZ$43),12))","v":""},{"$f":"IF(BA28>入力シート①!$H$12,\"\",IF(MIN(BA$24:BA$43),13))","v":""},{"$f":"IF(BB28>入力シート①!$H$12,\"\",IF(MIN(BB$24:BB$43),14))","v":""},{"$f":"IF(BC28>入力シート①!$H$12,\"\",IF(MIN(BC$24:BC$43),15))","v":""},{"$f":"IF(BD28>入力シート①!$H$12,\"\",IF(MIN(BD$24:BD$43),16))","v":""},{"$f":"IF(BE28>入力シート①!$H$12,\"\",IF(MIN(BE$24:BE$43),17))","v":""},{"$f":"IF(BF28>入力シート①!$H$12,\"\",IF(MIN(BF$24:BF$43),18))","v":""},{"$f":"IF(BG28>入力シート①!$H$12,\"\",IF(MIN(BG$24:BG$43),19))","v":""},{"$f":"IF(BH28>入力シート①!$H$12,\"\",IF(MIN(BH$24:BH$43),20))","v":""}]
[null,null,null,null,22,21,null,null,null,null,null,null,null,null,null,null,null,null,null,null,null,null,null,null,null,null,null,null,null,null,null,7,{"$f":"IF(AJ50=\"\",\"\",IF(AJ50=\"-\",\"\",IF($AA$10=TRUE,AJ50-1,AJ50)))","v":""},{"$f":"AN$10","v":""},"",{"$f":"IF(AH50=\"\",\"\",IF(AI50=\"\",\"\",IF(入力シート①!$H$12>=AI50,AI50,\"-\")))","v":""},3,null,{"$f":"IFERROR(SMALL($AM$4:$AM$23,6),\"\")","v":""},"",{"$f":"IF(AO29>入力シート①!$H$12,\"\",IF(AO29=MIN(AO$24:AO$43),1))","v":""},{"$f":"IF(AP29>入力シート①!$H$12,\"\",IF(AP29=MIN(AP$24:AP$43),2))","v":""},{"$f":"IF(AQ29>入力シート①!$H$12,\"\",IF(AQ29=MIN(AQ$24:AQ$43),3))","v":""},{"$f":"IF(AR29>入力シート①!$H$12,\"\",IF(AR29=MIN(AR$24:AR$43),4))","v":""},{"$f":"IF(AS29>入力シート①!$H$12,\"\",IF(AS29=MIN(AS$24:AS$43),5))","v":""},{"$f":"IF(AT29>入力シート①!$H$12,\"\",IF(MIN(AT$24:AT$43),6))","v":""},{"$f":"IF(AU29>入力シート①!$H$12,\"\",IF(MIN(AU$24:AU$43),7))","v":""},{"$f":"IF(AV29>入力シート①!$H$12,\"\",IF(MIN(AV$24:AV$43),8))","v":""},{"$f":"IF(AW29>入力シート①!$H$12,\"\",IF(MIN(AW$24:AW$43),9))","v":""},{"$f":"IF(AX29>入力シート①!$H$12,\"\",IF(MIN(AX$24:AX$43),10))","v":""},{"$f":"IF(AY29>入力シート①!$H$12,\"\",IF(MIN(AY$24:AY$43),11))","v":""},{"$f":"IF(AZ29>入力シート①!$H$12,\"\",IF(MIN(AZ$24:AZ$43),12))","v":""},{"$f":"IF(BA29>入力シート①!$H$12,\"\",IF(MIN(BA$24:BA$43),13))","v":""},{"$f":"IF(BB29>入力シート①!$H$12,\"\",IF(MIN(BB$24:BB$43),14))","v":""},{"$f":"IF(BC29>入力シート①!$H$12,\"\",IF(MIN(BC$24:BC$43),15))","v":""},{"$f":"IF(BD29>入力シート①!$H$12,\"\",IF(MIN(BD$24:BD$43),16))","v":""},{"$f":"IF(BE29>入力シート①!$H$12,\"\",IF(MIN(BE$24:BE$43),17))","v":""},{"$f":"IF(BF29>入力シート①!$H$12,\"\",IF(MIN(BF$24:BF$43),18))","v":""},{"$f":"IF(BG29>入力シート①!$H$12,\"\",IF(MIN(BG$24:BG$43),19))","v":""},{"$f":"IF(BH29>入力シート①!$H$12,\"\",IF(MIN(BH$24:BH$43),20))","v":""}]
[null,null,null,null,23,22,null,null,null,null,null,null,null,null,null,null,null,null,null,null,null,null,null,null,null,null,null,null,null,null,null,8,{"$f":"IF(AJ51=\"\",\"\",IF(AJ51=\"-\",\"\",IF($AA$11=TRUE,AJ51-1,AJ51)))","v":""},{"$f":"AN$11","v":""},"",{"$f":"IF(AH51=\"\",\"\",IF(AI51=\"\",\"\",IF(入力シート①!$H$12>=AI51,AI51,\"-\")))","v":""},3,null,{"$f":"IFERROR(SMALL($AM$4:$AM$23,7),\"\")","v":""},"",{"$f":"IF(AO30>入力シート①!$H$12,\"\",IF(AO30=MIN(AO$24:AO$43),1))","v":""},{"$f":"IF(AP30>入力シート①!$H$12,\"\",IF(AP30=MIN(AP$24:AP$43),2))","v":""},{"$f":"IF(AQ30>入力シート①!$H$12,\"\",IF(AQ30=MIN(AQ$24:AQ$43),3))","v":""},{"$f":"IF(AR30>入力シート①!$H$12,\"\",IF(AR30=MIN(AR$24:AR$43),4))","v":""},{"$f":"IF(AS30>入力シート①!$H$12,\"\",IF(AS30=MIN(AS$24:AS$43),5))","v":""},{"$f":"IF(AT30>入力シート①!$H$12,\"\",IF(MIN(AT$24:AT$43),6))","v":""},{"$f":"IF(AU30>入力シート①!$H$12,\"\",IF(MIN(AU$24:AU$43),7))","v":""},{"$f":"IF(AV30>入力シート①!$H$12,\"\",IF(MIN(AV$24:AV$43),8))","v":""},{"$f":"IF(AW30>入力シート①!$H$12,\"\",IF(MIN(AW$24:AW$43),9))","v":""},{"$f":"IF(AX30>入力シート①!$H$12,\"\",IF(MIN(AX$24:AX$43),10))","v":""},{"$f":"IF(AY30>入力シート①!$H$12,\"\",IF(MIN(AY$24:AY$43),11))","v":""},{"$f":"IF(AZ30>入力シート①!$H$12,\"\",IF(MIN(AZ$24:AZ$43),12))","v":""},{"$f":"IF(BA30>入力シート①!$H$12,\"\",IF(MIN(BA$24:BA$43),13))","v":""},{"$f":"IF(BB30>入力シート①!$H$12,\"\",IF(MIN(BB$24:BB$43),14))","v":""},{"$f":"IF(BC30>入力シート①!$H$12,\"\",IF(MIN(BC$24:BC$43),15))","v":""},{"$f":"IF(BD30>入力シート①!$H$12,\"\",IF(MIN(BD$24:BD$43),16))","v":""},{"$f":"IF(BE30>入力シート①!$H$12,\"\",IF(MIN(BE$24:BE$43),17))","v":""},{"$f":"IF(BF30>入力シート①!$H$12,\"\",IF(MIN(BF$24:BF$43),18))","v":""},{"$f":"IF(BG30>入力シート①!$H$12,\"\",IF(MIN(BG$24:BG$43),19))","v":""},{"$f":"IF(BH30>入力シート①!$H$12,\"\",IF(MIN(BH$24:BH$43),20))","v":""}]
[null,null,null,null,24,23,null,null,null,null,null,null,null,null,null,null,null,null,null,null,null,null,null,null,null,null,null,null,null,null,null,9,{"$f":"IF(AJ52=\"\",\"\",IF(AJ52=\"-\",\"\",IF($AA$12=TRUE,AJ52-1,AJ52)))","v":""},{"$f":"AN$12","v":""},"",{"$f":"IF(AH52=\"\",\"\",IF(AI52=\"\",\"\",IF(入力シート①!$H$12>=AI52,AI52,\"-\")))","v":""},3,null,{"$f":"IFERROR(SMALL($AM$4:$AM$23,8),\"\")","v":""},"",{"$f":"IF(AO31>入力シート①!$H$12,\"\",IF(AO31=MIN(AO$24:AO$43),1))","v":""},{"$f":"IF(AP31>入力シート①!$H$12,\"\",IF(AP31=MIN(AP$24:AP$43),2))","v":""},{"$f":"IF(AQ31>入力シート①!$H$12,\"\",IF(AQ31=MIN(AQ$24:AQ$43),3))","v":""},{"$f":"IF(AR31>入力シート①!$H$12,\"\",IF(AR31=MIN(AR$24:AR$43),4))","v":""},{"$f":"IF(AS31>入力シート①!$H$12,\"\",IF(AS31=MIN(AS$24:AS$43),5))","v":""},{"$f":"IF(AT31>入力シート①!$H$12,\"\",IF(MIN(AT$24:AT$43),6))","v":""},{"$f":"IF(AU31>入力シート①!$H$12,\"\",IF(MIN(AU$24:AU$43),7))","v":""},{"$f":"IF(AV31>入力シート①!$H$12,\"\",IF(MIN(AV$24:AV$43),8))","v":""},{"$f":"IF(AW31>入力シート①!$H$12,\"\",IF(MIN(AW$24:AW$43),9))","v":""},{"$f":"IF(AX31>入力シート①!$H$12,\"\",IF(MIN(AX$24:AX$43),10))","v":""},{"$f":"IF(AY31>入力シート①!$H$12,\"\",IF(MIN(AY$24:AY$43),11))","v":""},{"$f":"IF(AZ31>入力シート①!$H$12,\"\",IF(MIN(AZ$24:AZ$43),12))","v":""},{"$f":"IF(BA31>入力シート①!$H$12,\"\",IF(MIN(BA$24:BA$43),13))","v":""},{"$f":"IF(BB31>入力シート①!$H$12,\"\",IF(MIN(BB$24:BB$43),14))","v":""},{"$f":"IF(BC31>入力シート①!$H$12,\"\",IF(MIN(BC$24:BC$43),15))","v":""},{"$f":"IF(BD31>入力シート①!$H$12,\"\",IF(MIN(BD$24:BD$43),16))","v":""},{"$f":"IF(BE31>入力シート①!$H$12,\"\",IF(MIN(BE$24:BE$43),17))","v":""},{"$f":"IF(BF31>入力シート①!$H$12,\"\",IF(MIN(BF$24:BF$43),18))","v":""},{"$f":"IF(BG31>入力シート①!$H$12,\"\",IF(MIN(BG$24:BG$43),19))","v":""},{"$f":"IF(BH31>入力シート①!$H$12,\"\",IF(MIN(BH$24:BH$43),20))","v":""}]
[null,null,null,null,25,24,null,null,null,null,null,null,null,null,null,null,null,null,null,null,null,null,null,null,null,null,null,null,null,null,null,10,{"$f":"IF(AJ53=\"\",\"\",IF(AJ53=\"-\",\"\",IF($AA$13=TRUE,AJ53-1,AJ53)))","v":""},{"$f":"AN$13","v":""},"",{"$f":"IF(AH53=\"\",\"\",IF(AI53=\"\",\"\",IF(入力シート①!$H$12>=AI53,AI53,\"-\")))","v":""},3,null,{"$f":"IFERROR(SMALL($AM$4:$AM$23,9),\"\")","v":""},"",{"$f":"IF(AO32>入力シート①!$H$12,\"\",IF(AO32=MIN(AO$24:AO$43),1))","v":""},{"$f":"IF(AP32>入力シート①!$H$12,\"\",IF(AP32=MIN(AP$24:AP$43),2))","v":""},{"$f":"IF(AQ32>入力シート①!$H$12,\"\",IF(AQ32=MIN(AQ$24:AQ$43),3))","v":""},{"$f":"IF(AR32>入力シート①!$H$12,\"\",IF(AR32=MIN(AR$24:AR$43),4))","v":""},{"$f":"IF(AS32>入力シート①!$H$12,\"\",IF(AS32=MIN(AS$24:AS$43),5))","v":""},{"$f":"IF(AT32>入力シート①!$H$12,\"\",IF(MIN(AT$24:AT$43),6))","v":""},{"$f":"IF(AU32>入力シート①!$H$12,\"\",IF(MIN(AU$24:AU$43),7))","v":""},{"$f":"IF(AV32>入力シート①!$H$12,\"\",IF(MIN(AV$24:AV$43),8))","v":""},{"$f":"IF(AW32>入力シート①!$H$12,\"\",IF(MIN(AW$24:AW$43),9))","v":""},{"$f":"IF(AX32>入力シート①!$H$12,\"\",IF(MIN(AX$24:AX$43),10))","v":""},{"$f":"IF(AY32>入力シート①!$H$12,\"\",IF(MIN(AY$24:AY$43),11))","v":""},{"$f":"IF(AZ32>入力シート①!$H$12,\"\",IF(MIN(AZ$24:AZ$43),12))","v":""},{"$f":"IF(BA32>入力シート①!$H$12,\"\",IF(MIN(BA$24:BA$43),13))","v":""},{"$f":"IF(BB32>入力シート①!$H$12,\"\",IF(MIN(BB$24:BB$43),14))","v":""},{"$f":"IF(BC32>入力シート①!$H$12,\"\",IF(MIN(BC$24:BC$43),15))","v":""},{"$f":"IF(BD32>入力シート①!$H$12,\"\",IF(MIN(BD$24:BD$43),16))","v":""},{"$f":"IF(BE32>入力シート①!$H$12,\"\",IF(MIN(BE$24:BE$43),17))","v":""},{"$f":"IF(BF32>入力シート①!$H$12,\"\",IF(MIN(BF$24:BF$43),18))","v":""},{"$f":"IF(BG32>入力シート①!$H$12,\"\",IF(MIN(BG$24:BG$43),19))","v":""},{"$f":"IF(BH32>入力シート①!$H$12,\"\",IF(MIN(BH$24:BH$43),20))","v":""}]
[null,null,null,null,26,25,null,null,null,null,null,null,null,null,null,null,null,null,null,null,null,null,null,null,null,null,null,null,null,null,null,11,{"$f":"IF(AJ54=\"\",\"\",IF(AJ54=\"-\",\"\",IF($AA$14=TRUE,AJ54-1,AJ54)))","v":""},{"$f":"AN$14","v":""},"",{"$f":"IF(AH54=\"\",\"\",IF(AI54=\"\",\"\",IF(入力シート①!$H$12>=AI54,AI54,\"-\")))","v":""},3,null,{"$f":"IFERROR(SMALL($AM$4:$AM$23,10),\"\")","v":""},"",{"$f":"IF(AO33>入力シート①!$H$12,\"\",IF(AO33=MIN(AO$24:AO$43),1))","v":""},{"$f":"IF(AP33>入力シート①!$H$12,\"\",IF(AP33=MIN(AP$24:AP$43),2))","v":""},{"$f":"IF(AQ33>入力シート①!$H$12,\"\",IF(AQ33=MIN(AQ$24:AQ$43),3))","v":""},{"$f":"IF(AR33>入力シート①!$H$12,\"\",IF(AR33=MIN(AR$24:AR$43),4))","v":""},{"$f":"IF(AS33>入力シート①!$H$12,\"\",IF(AS33=MIN(AS$24:AS$43),5))","v":""},{"$f":"IF(AT33>入力シート①!$H$12,\"\",IF(MIN(AT$24:AT$43),6))","v":""},{"$f":"IF(AU33>入力シート①!$H$12,\"\",IF(MIN(AU$24:AU$43),7))","v":""},{"$f":"IF(AV33>入力シート①!$H$12,\"\",IF(MIN(AV$24:AV$43),8))","v":""},{"$f":"IF(AW33>入力シート①!$H$12,\"\",IF(MIN(AW$24:AW$43),9))","v":""},{"$f":"IF(AX33>入力シート①!$H$12,\"\",IF(MIN(AX$24:AX$43),10))","v":""},{"$f":"IF(AY33>入力シート①!$H$12,\"\",IF(MIN(AY$24:AY$43),11))","v":""},{"$f":"IF(AZ33>入力シート①!$H$12,\"\",IF(MIN(AZ$24:AZ$43),12))","v":""},{"$f":"IF(BA33>入力シート①!$H$12,\"\",IF(MIN(BA$24:BA$43),13))","v":""},{"$f":"IF(BB33>入力シート①!$H$12,\"\",IF(MIN(BB$24:BB$43),14))","v":""},{"$f":"IF(BC33>入力シート①!$H$12,\"\",IF(MIN(BC$24:BC$43),15))","v":""},{"$f":"IF(BD33>入力シート①!$H$12,\"\",IF(MIN(BD$24:BD$43),16))","v":""},{"$f":"IF(BE33>入力シート①!$H$12,\"\",IF(MIN(BE$24:BE$43),17))","v":""},{"$f":"IF(BF33>入力シート①!$H$12,\"\",IF(MIN(BF$24:BF$43),18))","v":""},{"$f":"IF(BG33>入力シート①!$H$12,\"\",IF(MIN(BG$24:BG$43),19))","v":""},{"$f":"IF(BH33>入力シート①!$H$12,\"\",IF(MIN(BH$24:BH$43),20))","v":""}]
[null,null,null,null,27,26,null,null,null,null,null,null,null,null,null,null,null,null,null,null,null,null,null,null,null,null,null,null,null,null,null,12,{"$f":"IF(AJ55=\"\",\"\",IF(AJ55=\"-\",\"\",IF($AA$15=TRUE,AJ55-1,AJ55)))","v":""},{"$f":"AN$15","v":""},"",{"$f":"IF(AH55=\"\",\"\",IF(AI55=\"\",\"\",IF(入力シート①!$H$12>=AI55,AI55,\"-\")))","v":""},3,null,{"$f":"IFERROR(SMALL($AM$4:$AM$23,11),\"\")","v":""},"",{"$f":"IF(AO34>入力シート①!$H$12,\"\",IF(AO34=MIN(AO$24:AO$43),1))","v":""},{"$f":"IF(AP34>入力シート①!$H$12,\"\",IF(AP34=MIN(AP$24:AP$43),2))","v":""},{"$f":"IF(AQ34>入力シート①!$H$12,\"\",IF(AQ34=MIN(AQ$24:AQ$43),3))","v":""},{"$f":"IF(AR34>入力シート①!$H$12,\"\",IF(AR34=MIN(AR$24:AR$43),4))","v":""},{"$f":"IF(AS34>入力シート①!$H$12,\"\",IF(AS34=MIN(AS$24:AS$43),5))","v":""},{"$f":"IF(AT34>入力シート①!$H$12,\"\",IF(MIN(AT$24:AT$43),6))","v":""},{"$f":"IF(AU34>入力シート①!$H$12,\"\",IF(MIN(AU$24:AU$43),7))","v":""},{"$f":"IF(AV34>入力シート①!$H$12,\"\",IF(MIN(AV$24:AV$43),8))","v":""},{"$f":"IF(AW34>入力シート①!$H$12,\"\",IF(MIN(AW$24:AW$43),9))","v":""},{"$f":"IF(AX34>入力シート①!$H$12,\"\",IF(MIN(AX$24:AX$43),10))","v":""},{"$f":"IF(AY34>入力シート①!$H$12,\"\",IF(MIN(AY$24:AY$43),11))","v":""},{"$f":"IF(AZ34>入力シート①!$H$12,\"\",IF(MIN(AZ$24:AZ$43),12))","v":""},{"$f":"IF(BA34>入力シート①!$H$12,\"\",IF(MIN(BA$24:BA$43),13))","v":""},{"$f":"IF(BB34>入力シート①!$H$12,\"\",IF(MIN(BB$24:BB$43),14))","v":""},{"$f":"IF(BC34>入力シート①!$H$12,\"\",IF(MIN(BC$24:BC$43),15))","v":""},{"$f":"IF(BD34>入力シート①!$H$12,\"\",IF(MIN(BD$24:BD$43),16))","v":""},{"$f":"IF(BE34>入力シート①!$H$12,\"\",IF(MIN(BE$24:BE$43),17))","v":""},{"$f":"IF(BF34>入力シート①!$H$12,\"\",IF(MIN(BF$24:BF$43),18))","v":""},{"$f":"IF(BG34>入力シート①!$H$12,\"\",IF(MIN(BG$24:BG$43),19))","v":""},{"$f":"IF(BH34>入力シート①!$H$12,\"\",IF(MIN(BH$24:BH$43),20))","v":""}]
[null,null,null,null,28,27,null,null,null,null,null,null,null,null,null,null,null,null,null,null,null,null,null,null,null,null,null,null,null,null,null,13,{"$f":"IF(AJ56=\"\",\"\",IF(AJ56=\"-\",\"\",IF($AA$16=TRUE,AJ56-1,AJ56)))","v":""},{"$f":"AN$16","v":""},"",{"$f":"IF(AH56=\"\",\"\",IF(AI56=\"\",\"\",IF(入力シート①!$H$12>=AI56,AI56,\"-\")))","v":""},3,null,{"$f":"IFERROR(SMALL($AM$4:$AM$23,12),\"\")","v":""},"",{"$f":"IF(AO35>入力シート①!$H$12,\"\",IF(AO35=MIN(AO$24:AO$43),1))","v":""},{"$f":"IF(AP35>入力シート①!$H$12,\"\",IF(AP35=MIN(AP$24:AP$43),2))","v":""},{"$f":"IF(AQ35>入力シート①!$H$12,\"\",IF(AQ35=MIN(AQ$24:AQ$43),3))","v":""},{"$f":"IF(AR35>入力シート①!$H$12,\"\",IF(AR35=MIN(AR$24:AR$43),4))","v":""},{"$f":"IF(AS35>入力シート①!$H$12,\"\",IF(AS35=MIN(AS$24:AS$43),5))","v":""},{"$f":"IF(AT35>入力シート①!$H$12,\"\",IF(MIN(AT$24:AT$43),6))","v":""},{"$f":"IF(AU35>入力シート①!$H$12,\"\",IF(MIN(AU$24:AU$43),7))","v":""},{"$f":"IF(AV35>入力シート①!$H$12,\"\",IF(MIN(AV$24:AV$43),8))","v":""},{"$f":"IF(AW35>入力シート①!$H$12,\"\",IF(MIN(AW$24:AW$43),9))","v":""},{"$f":"IF(AX35>入力シート①!$H$12,\"\",IF(MIN(AX$24:AX$43),10))","v":""},{"$f":"IF(AY35>入力シート①!$H$12,\"\",IF(MIN(AY$24:AY$43),11))","v":""},{"$f":"IF(AZ35>入力シート①!$H$12,\"\",IF(MIN(AZ$24:AZ$43),12))","v":""},{"$f":"IF(BA35>入力シート①!$H$12,\"\",IF(MIN(BA$24:BA$43),13))","v":""},{"$f":"IF(BB35>入力シート①!$H$12,\"\",IF(MIN(BB$24:BB$43),14))","v":""},{"$f":"IF(BC35>入力シート①!$H$12,\"\",IF(MIN(BC$24:BC$43),15))","v":""},{"$f":"IF(BD35>入力シート①!$H$12,\"\",IF(MIN(BD$24:BD$43),16))","v":""},{"$f":"IF(BE35>入力シート①!$H$12,\"\",IF(MIN(BE$24:BE$43),17))","v":""},{"$f":"IF(BF35>入力シート①!$H$12,\"\",IF(MIN(BF$24:BF$43),18))","v":""},{"$f":"IF(BG35>入力シート①!$H$12,\"\",IF(MIN(BG$24:BG$43),19))","v":""},{"$f":"IF(BH35>入力シート①!$H$12,\"\",IF(MIN(BH$24:BH$43),20))","v":""}]
[null,null,null,null,29,28,null,null,null,null,null,null,null,null,null,null,null,null,null,null,null,null,null,null,null,null,null,null,null,null,null,14,{"$f":"IF(AJ57=\"\",\"\",IF(AJ57=\"-\",\"\",IF($AA$17=TRUE,AJ57-1,AJ57)))","v":""},{"$f":"AN$17","v":""},"",{"$f":"IF(AH57=\"\",\"\",IF(AI57=\"\",\"\",IF(入力シート①!$H$12>=AI57,AI57,\"-\")))","v":""},3,null,{"$f":"IFERROR(SMALL($AM$4:$AM$23,13),\"\")","v":""},"",{"$f":"IF(AO36>入力シート①!$H$12,\"\",IF(AO36=MIN(AO$24:AO$43),1))","v":""},{"$f":"IF(AP36>入力シート①!$H$12,\"\",IF(AP36=MIN(AP$24:AP$43),2))","v":""},{"$f":"IF(AQ36>入力シート①!$H$12,\"\",IF(AQ36=MIN(AQ$24:AQ$43),3))","v":""},{"$f":"IF(AR36>入力シート①!$H$12,\"\",IF(AR36=MIN(AR$24:AR$43),4))","v":""},{"$f":"IF(AS36>入力シート①!$H$12,\"\",IF(AS36=MIN(AS$24:AS$43),5))","v":""},{"$f":"IF(AT36>入力シート①!$H$12,\"\",IF(MIN(AT$24:AT$43),6))","v":""},{"$f":"IF(AU36>入力シート①!$H$12,\"\",IF(MIN(AU$24:AU$43),7))","v":""},{"$f":"IF(AV36>入力シート①!$H$12,\"\",IF(MIN(AV$24:AV$43),8))","v":""},{"$f":"IF(AW36>入力シート①!$H$12,\"\",IF(MIN(AW$24:AW$43),9))","v":""},{"$f":"IF(AX36>入力シート①!$H$12,\"\",IF(MIN(AX$24:AX$43),10))","v":""},{"$f":"IF(AY36>入力シート①!$H$12,\"\",IF(MIN(AY$24:AY$43),11))","v":""},{"$f":"IF(AZ36>入力シート①!$H$12,\"\",IF(MIN(AZ$24:AZ$43),12))","v":""},{"$f":"IF(BA36>入力シート①!$H$12,\"\",IF(MIN(BA$24:BA$43),13))","v":""},{"$f":"IF(BB36>入力シート①!$H$12,\"\",IF(MIN(BB$24:BB$43),14))","v":""},{"$f":"IF(BC36>入力シート①!$H$12,\"\",IF(MIN(BC$24:BC$43),15))","v":""},{"$f":"IF(BD36>入力シート①!$H$12,\"\",IF(MIN(BD$24:BD$43),16))","v":""},{"$f":"IF(BE36>入力シート①!$H$12,\"\",IF(MIN(BE$24:BE$43),17))","v":""},{"$f":"IF(BF36>入力シート①!$H$12,\"\",IF(MIN(BF$24:BF$43),18))","v":""},{"$f":"IF(BG36>入力シート①!$H$12,\"\",IF(MIN(BG$24:BG$43),19))","v":""},{"$f":"IF(BH36>入力シート①!$H$12,\"\",IF(MIN(BH$24:BH$43),20))","v":""}]
[null,null,null,null,30,29,null,null,null,null,null,null,null,null,null,null,null,null,null,null,null,null,null,null,null,null,null,null,null,null,null,15,{"$f":"IF(AJ58=\"\",\"\",IF(AJ58=\"-\",\"\",IF($AA$18=TRUE,AJ58-1,AJ58)))","v":""},{"$f":"AN$18","v":""},"",{"$f":"IF(AH58=\"\",\"\",IF(AI58=\"\",\"\",IF(入力シート①!$H$12>=AI58,AI58,\"-\")))","v":""},3,null,{"$f":"IFERROR(SMALL($AM$4:$AM$23,14),\"\")","v":""},"",{"$f":"IF(AO37>入力シート①!$H$12,\"\",IF(AO37=MIN(AO$24:AO$43),1))","v":""},{"$f":"IF(AP37>入力シート①!$H$12,\"\",IF(AP37=MIN(AP$24:AP$43),2))","v":""},{"$f":"IF(AQ37>入力シート①!$H$12,\"\",IF(AQ37=MIN(AQ$24:AQ$43),3))","v":""},{"$f":"IF(AR37>入力シート①!$H$12,\"\",IF(AR37=MIN(AR$24:AR$43),4))","v":""},{"$f":"IF(AS37>入力シート①!$H$12,\"\",IF(AS37=MIN(AS$24:AS$43),5))","v":""},{"$f":"IF(AT37>入力シート①!$H$12,\"\",IF(MIN(AT$24:AT$43),6))","v":""},{"$f":"IF(AU37>入力シート①!$H$12,\"\",IF(MIN(AU$24:AU$43),7))","v":""},{"$f":"IF(AV37>入力シート①!$H$12,\"\",IF(MIN(AV$24:AV$43),8))","v":""},{"$f":"IF(AW37>入力シート①!$H$12,\"\",IF(MIN(AW$24:AW$43),9))","v":""},{"$f":"IF(AX37>入力シート①!$H$12,\"\",IF(MIN(AX$24:AX$43),10))","v":""},{"$f":"IF(AY37>入力シート①!$H$12,\"\",IF(MIN(AY$24:AY$43),11))","v":""},{"$f":"IF(AZ37>入力シート①!$H$12,\"\",IF(MIN(AZ$24:AZ$43),12))","v":""},{"$f":"IF(BA37>入力シート①!$H$12,\"\",IF(MIN(BA$24:BA$43),13))","v":""},{"$f":"IF(BB37>入力シート①!$H$12,\"\",IF(MIN(BB$24:BB$43),14))","v":""},{"$f":"IF(BC37>入力シート①!$H$12,\"\",IF(MIN(BC$24:BC$43),15))","v":""},{"$f":"IF(BD37>入力シート①!$H$12,\"\",IF(MIN(BD$24:BD$43),16))","v":""},{"$f":"IF(BE37>入力シート①!$H$12,\"\",IF(MIN(BE$24:BE$43),17))","v":""},{"$f":"IF(BF37>入力シート①!$H$12,\"\",IF(MIN(BF$24:BF$43),18))","v":""},{"$f":"IF(BG37>入力シート①!$H$12,\"\",IF(MIN(BG$24:BG$43),19))","v":""},{"$f":"IF(BH37>入力シート①!$H$12,\"\",IF(MIN(BH$24:BH$43),20))","v":""}]
[null,null,null,null,31,30,null,null,null,null,null,null,null,null,null,null,null,null,null,null,null,null,null,null,null,null,null,null,null,null,null,16,{"$f":"IF(AJ59=\"\",\"\",IF(AJ59=\"-\",\"\",IF($AA$19=TRUE,AJ59-1,AJ59)))","v":""},{"$f":"AN$19","v":""},"",{"$f":"IF(AH59=\"\",\"\",IF(AI59=\"\",\"\",IF(入力シート①!$H$12>=AI59,AI59,\"-\")))","v":""},3,null,{"$f":"IFERROR(SMALL($AM$4:$AM$23,15),\"\")","v":""},"",{"$f":"IF(AO38>入力シート①!$H$12,\"\",IF(AO38=MIN(AO$24:AO$43),1))","v":""},{"$f":"IF(AP38>入力シート①!$H$12,\"\",IF(AP38=MIN(AP$24:AP$43),2))","v":""},{"$f":"IF(AQ38>入力シート①!$H$12,\"\",IF(AQ38=MIN(AQ$24:AQ$43),3))","v":""},{"$f":"IF(AR38>入力シート①!$H$12,\"\",IF(AR38=MIN(AR$24:AR$43),4))","v":""},{"$f":"IF(AS38>入力シート①!$H$12,\"\",IF(AS38=MIN(AS$24:AS$43),5))","v":""},{"$f":"IF(AT38>入力シート①!$H$12,\"\",IF(MIN(AT$24:AT$43),6))","v":""},{"$f":"IF(AU38>入力シート①!$H$12,\"\",IF(MIN(AU$24:AU$43),7))","v":""},{"$f":"IF(AV38>入力シート①!$H$12,\"\",IF(MIN(AV$24:AV$43),8))","v":""},{"$f":"IF(AW38>入力シート①!$H$12,\"\",IF(MIN(AW$24:AW$43),9))","v":""},{"$f":"IF(AX38>入力シート①!$H$12,\"\",IF(MIN(AX$24:AX$43),10))","v":""},{"$f":"IF(AY38>入力シート①!$H$12,\"\",IF(MIN(AY$24:AY$43),11))","v":""},{"$f":"IF(AZ38>入力シート①!$H$12,\"\",IF(MIN(AZ$24:AZ$43),12))","v":""},{"$f":"IF(BA38>入力シート①!$H$12,\"\",IF(MIN(BA$24:BA$43),13))","v":""},{"$f":"IF(BB38>入力シート①!$H$12,\"\",IF(MIN(BB$24:BB$43),14))","v":""},{"$f":"IF(BC38>入力シート①!$H$12,\"\",IF(MIN(BC$24:BC$43),15))","v":""},{"$f":"IF(BD38>入力シート①!$H$12,\"\",IF(MIN(BD$24:BD$43),16))","v":""},{"$f":"IF(BE38>入力シート①!$H$12,\"\",IF(MIN(BE$24:BE$43),17))","v":""},{"$f":"IF(BF38>入力シート①!$H$12,\"\",IF(MIN(BF$24:BF$43),18))","v":""},{"$f":"IF(BG38>入力シート①!$H$12,\"\",IF(MIN(BG$24:BG$43),19))","v":""},{"$f":"IF(BH38>入力シート①!$H$12,\"\",IF(MIN(BH$24:BH$43),20))","v":""}]
[null,null,null,null,32,31,null,null,null,null,null,null,null,null,null,null,null,null,null,null,null,null,null,null,null,null,null,null,null,null,null,17,{"$f":"IF(AJ60=\"\",\"\",IF(AJ60=\"-\",\"\",IF($AA$20=TRUE,AJ60-1,AJ60)))","v":""},{"$f":"AN$20","v":""},"",{"$f":"IF(AH60=\"\",\"\",IF(AI60=\"\",\"\",IF(入力シート①!$H$12>=AI60,AI60,\"-\")))","v":""},3,null,{"$f":"IFERROR(SMALL($AM$4:$AM$23,16),\"\")","v":""},"",{"$f":"IF(AO39>入力シート①!$H$12,\"\",IF(AO39=MIN(AO$24:AO$43),1))","v":""},{"$f":"IF(AP39>入力シート①!$H$12,\"\",IF(AP39=MIN(AP$24:AP$43),2))","v":""},{"$f":"IF(AQ39>入力シート①!$H$12,\"\",IF(AQ39=MIN(AQ$24:AQ$43),3))","v":""},{"$f":"IF(AR39>入力シート①!$H$12,\"\",IF(AR39=MIN(AR$24:AR$43),4))","v":""},{"$f":"IF(AS39>入力シート①!$H$12,\"\",IF(AS39=MIN(AS$24:AS$43),5))","v":""},{"$f":"IF(AT39>入力シート①!$H$12,\"\",IF(MIN(AT$24:AT$43),6))","v":""},{"$f":"IF(AU39>入力シート①!$H$12,\"\",IF(MIN(AU$24:AU$43),7))","v":""},{"$f":"IF(AV39>入力シート①!$H$12,\"\",IF(MIN(AV$24:AV$43),8))","v":""},{"$f":"IF(AW39>入力シート①!$H$12,\"\",IF(MIN(AW$24:AW$43),9))","v":""},{"$f":"IF(AX39>入力シート①!$H$12,\"\",IF(MIN(AX$24:AX$43),10))","v":""},{"$f":"IF(AY39>入力シート①!$H$12,\"\",IF(MIN(AY$24:AY$43),11))","v":""},{"$f":"IF(AZ39>入力シート①!$H$12,\"\",IF(MIN(AZ$24:AZ$43),12))","v":""},{"$f":"IF(BA39>入力シート①!$H$12,\"\",IF(MIN(BA$24:BA$43),13))","v":""},{"$f":"IF(BB39>入力シート①!$H$12,\"\",IF(MIN(BB$24:BB$43),14))","v":""},{"$f":"IF(BC39>入力シート①!$H$12,\"\",IF(MIN(BC$24:BC$43),15))","v":""},{"$f":"IF(BD39>入力シート①!$H$12,\"\",IF(MIN(BD$24:BD$43),16))","v":""},{"$f":"IF(BE39>入力シート①!$H$12,\"\",IF(MIN(BE$24:BE$43),17))","v":""},{"$f":"IF(BF39>入力シート①!$H$12,\"\",IF(MIN(BF$24:BF$43),18))","v":""},{"$f":"IF(BG39>入力シート①!$H$12,\"\",IF(MIN(BG$24:BG$43),19))","v":""},{"$f":"IF(BH39>入力シート①!$H$12,\"\",IF(MIN(BH$24:BH$43),20))","v":""}]
[null,null,null,null,null,null,null,null,null,null,null,null,null,null,null,null,null,null,null,null,null,null,null,null,null,null,null,null,null,null,null,18,{"$f":"IF(AJ61=\"\",\"\",IF(AJ61=\"-\",\"\",IF($AA$21=TRUE,AJ61-1,AJ61)))","v":""},{"$f":"AN$21","v":""},"",{"$f":"IF(AH61=\"\",\"\",IF(AI61=\"\",\"\",IF(入力シート①!$H$12>=AI61,AI61,\"-\")))","v":""},3,null,{"$f":"IFERROR(SMALL($AM$4:$AM$23,17),\"\")","v":""},"",{"$f":"IF(AO40>入力シート①!$H$12,\"\",IF(AO40=MIN(AO$24:AO$43),1))","v":""},{"$f":"IF(AP40>入力シート①!$H$12,\"\",IF(AP40=MIN(AP$24:AP$43),2))","v":""},{"$f":"IF(AQ40>入力シート①!$H$12,\"\",IF(AQ40=MIN(AQ$24:AQ$43),3))","v":""},{"$f":"IF(AR40>入力シート①!$H$12,\"\",IF(AR40=MIN(AR$24:AR$43),4))","v":""},{"$f":"IF(AS40>入力シート①!$H$12,\"\",IF(AS40=MIN(AS$24:AS$43),5))","v":""},{"$f":"IF(AT40>入力シート①!$H$12,\"\",IF(MIN(AT$24:AT$43),6))","v":""},{"$f":"IF(AU40>入力シート①!$H$12,\"\",IF(MIN(AU$24:AU$43),7))","v":""},{"$f":"IF(AV40>入力シート①!$H$12,\"\",IF(MIN(AV$24:AV$43),8))","v":""},{"$f":"IF(AW40>入力シート①!$H$12,\"\",IF(MIN(AW$24:AW$43),9))","v":""},{"$f":"IF(AX40>入力シート①!$H$12,\"\",IF(MIN(AX$24:AX$43),10))","v":""},{"$f":"IF(AY40>入力シート①!$H$12,\"\",IF(MIN(AY$24:AY$43),11))","v":""},{"$f":"IF(AZ40>入力シート①!$H$12,\"\",IF(MIN(AZ$24:AZ$43),12))","v":""},{"$f":"IF(BA40>入力シート①!$H$12,\"\",IF(MIN(BA$24:BA$43),13))","v":""},{"$f":"IF(BB40>入力シート①!$H$12,\"\",IF(MIN(BB$24:BB$43),14))","v":""},{"$f":"IF(BC40>入力シート①!$H$12,\"\",IF(MIN(BC$24:BC$43),15))","v":""},{"$f":"IF(BD40>入力シート①!$H$12,\"\",IF(MIN(BD$24:BD$43),16))","v":""},{"$f":"IF(BE40>入力シート①!$H$12,\"\",IF(MIN(BE$24:BE$43),17))","v":""},{"$f":"IF(BF40>入力シート①!$H$12,\"\",IF(MIN(BF$24:BF$43),18))","v":""},{"$f":"IF(BG40>入力シート①!$H$12,\"\",IF(MIN(BG$24:BG$43),19))","v":""},{"$f":"IF(BH40>入力シート①!$H$12,\"\",IF(MIN(BH$24:BH$43),20))","v":""}]
[null,null,null,null,null,null,null,null,null,null,null,null,null,null,null,null,null,null,null,null,null,null,null,null,null,null,null,null,null,null,null,19,{"$f":"IF(AJ62=\"\",\"\",IF(AJ62=\"-\",\"\",IF($AA$22=TRUE,AJ62-1,AJ62)))","v":""},{"$f":"AN$22","v":""},"",{"$f":"IF(AH62=\"\",\"\",IF(AI62=\"\",\"\",IF(入力シート①!$H$12>=AI62,AI62,\"-\")))","v":""},3,null,{"$f":"IFERROR(SMALL($AM$4:$AM$23,18),\"\")","v":""},"",{"$f":"IF(AO41>入力シート①!$H$12,\"\",IF(AO41=MIN(AO$24:AO$43),1))","v":""},{"$f":"IF(AP41>入力シート①!$H$12,\"\",IF(AP41=MIN(AP$24:AP$43),2))","v":""},{"$f":"IF(AQ41>入力シート①!$H$12,\"\",IF(AQ41=MIN(AQ$24:AQ$43),3))","v":""},{"$f":"IF(AR41>入力シート①!$H$12,\"\",IF(AR41=MIN(AR$24:AR$43),4))","v":""},{"$f":"IF(AS41>入力シート①!$H$12,\"\",IF(AS41=MIN(AS$24:AS$43),5))","v":""},{"$f":"IF(AT41>入力シート①!$H$12,\"\",IF(MIN(AT$24:AT$43),6))","v":""},{"$f":"IF(AU41>入力シート①!$H$12,\"\",IF(MIN(AU$24:AU$43),7))","v":""},{"$f":"IF(AV41>入力シート①!$H$12,\"\",IF(MIN(AV$24:AV$43),8))","v":""},{"$f":"IF(AW41>入力シート①!$H$12,\"\",IF(MIN(AW$24:AW$43),9))","v":""},{"$f":"IF(AX41>入力シート①!$H$12,\"\",IF(MIN(AX$24:AX$43),10))","v":""},{"$f":"IF(AY41>入力シート①!$H$12,\"\",IF(MIN(AY$24:AY$43),11))","v":""},{"$f":"IF(AZ41>入力シート①!$H$12,\"\",IF(MIN(AZ$24:AZ$43),12))","v":""},{"$f":"IF(BA41>入力シート①!$H$12,\"\",IF(MIN(BA$24:BA$43),13))","v":""},{"$f":"IF(BB41>入力シート①!$H$12,\"\",IF(MIN(BB$24:BB$43),14))","v":""},{"$f":"IF(BC41>入力シート①!$H$12,\"\",IF(MIN(BC$24:BC$43),15))","v":""},{"$f":"IF(BD41>入力シート①!$H$12,\"\",IF(MIN(BD$24:BD$43),16))","v":""},{"$f":"IF(BE41>入力シート①!$H$12,\"\",IF(MIN(BE$24:BE$43),17))","v":""},{"$f":"IF(BF41>入力シート①!$H$12,\"\",IF(MIN(BF$24:BF$43),18))","v":""},{"$f":"IF(BG41>入力シート①!$H$12,\"\",IF(MIN(BG$24:BG$43),19))","v":""},{"$f":"IF(BH41>入力シート①!$H$12,\"\",IF(MIN(BH$24:BH$43),20))","v":""}]
[null,null,null,null,null,null,null,null,null,null,null,null,null,null,null,null,null,null,null,null,null,null,null,null,null,null,null,null,null,null,null,20,{"$f":"IF(AJ63=\"\",\"\",IF(AJ63=\"-\",\"\",IF($AA$23=TRUE,AJ63-1,AJ63)))","v":""},{"$f":"AN$23","v":""},"",{"$f":"IF(AH63=\"\",\"\",IF(AI63=\"\",\"\",IF(入力シート①!$H$12>=AI63,AI63,\"-\")))","v":""},3,null,{"$f":"IFERROR(SMALL($AM$4:$AM$23,19),\"\")","v":""},"",{"$f":"IF(AO42>入力シート①!$H$12,\"\",IF(AO42=MIN(AO$24:AO$43),1))","v":""},{"$f":"IF(AP42>入力シート①!$H$12,\"\",IF(AP42=MIN(AP$24:AP$43),2))","v":""},{"$f":"IF(AQ42>入力シート①!$H$12,\"\",IF(AQ42=MIN(AQ$24:AQ$43),3))","v":""},{"$f":"IF(AR42>入力シート①!$H$12,\"\",IF(AR42=MIN(AR$24:AR$43),4))","v":""},{"$f":"IF(AS42>入力シート①!$H$12,\"\",IF(AS42=MIN(AS$24:AS$43),5))","v":""},{"$f":"IF(AT42>入力シート①!$H$12,\"\",IF(MIN(AT$24:AT$43),6))","v":""},{"$f":"IF(AU42>入力シート①!$H$12,\"\",IF(MIN(AU$24:AU$43),7))","v":""},{"$f":"IF(AV42>入力シート①!$H$12,\"\",IF(MIN(AV$24:AV$43),8))","v":""},{"$f":"IF(AW42>入力シート①!$H$12,\"\",IF(MIN(AW$24:AW$43),9))","v":""},{"$f":"IF(AX42>入力シート①!$H$12,\"\",IF(MIN(AX$24:AX$43),10))","v":""},{"$f":"IF(AY42>入力シート①!$H$12,\"\",IF(MIN(AY$24:AY$43),11))","v":""},{"$f":"IF(AZ42>入力シート①!$H$12,\"\",IF(MIN(AZ$24:AZ$43),12))","v":""},{"$f":"IF(BA42>入力シート①!$H$12,\"\",IF(MIN(BA$24:BA$43),13))","v":""},{"$f":"IF(BB42>入力シート①!$H$12,\"\",IF(MIN(BB$24:BB$43),14))","v":""},{"$f":"IF(BC42>入力シート①!$H$12,\"\",IF(MIN(BC$24:BC$43),15))","v":""},{"$f":"IF(BD42>入力シート①!$H$12,\"\",IF(MIN(BD$24:BD$43),16))","v":""},{"$f":"IF(BE42>入力シート①!$H$12,\"\",IF(MIN(BE$24:BE$43),17))","v":""},{"$f":"IF(BF42>入力シート①!$H$12,\"\",IF(MIN(BF$24:BF$43),18))","v":""},{"$f":"IF(BG42>入力シート①!$H$12,\"\",IF(MIN(BG$24:BG$43),19))","v":""},{"$f":"IF(BH42>入力シート①!$H$12,\"\",IF(MIN(BH$24:BH$43),20))","v":""}]
[null,null,null,null,null,null,null,null,null,null,null,null,null,null,null,null,null,null,null,null,null,null,null,null,null,null,null,null,null,null,null,1,{"$f":"IF(AJ64=\"\",\"\",IF(AJ64=\"-\",\"\",IF($AA$4=TRUE,AJ64-1,AJ64)))","v":""},{"$f":"AN$4","v":"一般財団法人航空医学研究センター"},{"$f":"AR4","v":""},{"$f":"IF(AH64=\"\",\"\",IF(AI64=\"\",\"\",IF(入力シート①!$H$12>=AI64,AI64,\"-\")))","v":""},4,null,{"$f":"IFERROR(SMALL($AM$4:$AM$23,20),\"\")","v":""},"",{"$f":"IF(AO43>入力シート①!$H$12,\"\",IF(AO43=MIN(AO$24:AO$43),1))","v":""},{"$f":"IF(AP43>入力シート①!$H$12,\"\",IF(AP43=MIN(AP$24:AP$43),2))","v":""},{"$f":"IF(AQ43>入力シート①!$H$12,\"\",IF(AQ43=MIN(AQ$24:AQ$43),3))","v":""},{"$f":"IF(AR43>入力シート①!$H$12,\"\",IF(AR43=MIN(AR$24:AR$43),4))","v":""},{"$f":"IF(AS43>入力シート①!$H$12,\"\",IF(AS43=MIN(AS$24:AS$43),5))","v":""},{"$f":"IF(AT43>入力シート①!$H$12,\"\",IF(MIN(AT$24:AT$43),6))","v":""},{"$f":"IF(AU43>入力シート①!$H$12,\"\",IF(MIN(AU$24:AU$43),7))","v":""},{"$f":"IF(AV43>入力シート①!$H$12,\"\",IF(MIN(AV$24:AV$43),8))","v":""},{"$f":"IF(AW43>入力シート①!$H$12,\"\",IF(MIN(AW$24:AW$43),9))","v":""},{"$f":"IF(AX43>入力シート①!$H$12,\"\",IF(MIN(AX$24:AX$43),10))","v":""},{"$f":"IF(AY43>入力シート①!$H$12,\"\",IF(MIN(AY$24:AY$43),11))","v":""},{"$f":"IF(AZ43>入力シート①!$H$12,\"\",IF(MIN(AZ$24:AZ$43),12))","v":""},{"$f":"IF(BA43>入力シート①!$H$12,\"\",IF(MIN(BA$24:BA$43),13))","v":""},{"$f":"IF(BB43>入力シート①!$H$12,\"\",IF(MIN(BB$24:BB$43),14))","v":""},{"$f":"IF(BC43>入力シート①!$H$12,\"\",IF(MIN(BC$24:BC$43),15))","v":""},{"$f":"IF(BD43>入力シート①!$H$12,\"\",IF(MIN(BD$24:BD$43),16))","v":""},{"$f":"IF(BE43>入力シート①!$H$12,\"\",IF(MIN(BE$24:BE$43),17))","v":""},{"$f":"IF(BF43>入力シート①!$H$12,\"\",IF(MIN(BF$24:BF$43),18))","v":""},{"$f":"IF(BG43>入力シート①!$H$12,\"\",IF(MIN(BG$24:BG$43),19))","v":""},{"$f":"IF(BH43>入力シート①!$H$12,\"\",IF(MIN(BH$24:BH$43),20))","v":""}]
[null,null,null,null,null,null,null,null,null,null,null,null,null,null,null,null,null,null,null,null,null,null,null,null,null,null,null,null,null,null,null,2,{"$f":"IF(AJ65=\"\",\"\",IF(AJ65=\"-\",\"\",IF($AA$5=TRUE,AJ65-1,AJ65)))","v":""},{"$f":"AN$5","v":""},{"$f":"AR5","v":""},{"$f":"IF(AH65=\"\",\"\",IF(AI65=\"\",\"\",IF(入力シート①!$H$12>=AI65,AI65,\"-\")))","v":""},4]
[null,null,null,null,null,null,null,null,null,null,null,null,null,null,null,null,null,null,null,null,null,null,null,null,null,null,null,null,null,null,null,3,{"$f":"IF(AJ66=\"\",\"\",IF(AJ66=\"-\",\"\",IF($AA$6=TRUE,AJ66-1,AJ66)))","v":""},{"$f":"AN$6","v":""},"",{"$f":"IF(AH66=\"\",\"\",IF(AI66=\"\",\"\",IF(入力シート①!$H$12>=AI66,AI66,\"-\")))","v":""},4,null,null,null,{"$f":"IF(SUM(AO45:AS45)=0,\"\",IF(MAX(AO45:AS45),\"第\"&MAX($AO45:$AS45)&\"回見積　成立\"))","v":""},{"$f":"IF(AA4=TRUE,AO66,\"\")","v":""},null,null,null,null,null,null,{"$f":"IF(SUM(AT45:AX45)=0,\"\",\"第\"&MAX($AT45:$AX45)&\"回見積　成立\")","v":""},{"$f":"IF(AA4=TRUE,AW66,\"\")","v":""}]
[null,null,null,null,null,null,null,null,null,null,null,null,null,null,null,null,null,null,null,null,null,null,null,null,null,null,null,null,null,null,null,4,{"$f":"IF(AJ67=\"\",\"\",IF(AJ67=\"-\",\"\",IF($AA$7=TRUE,AJ67-1,AJ67)))","v":""},{"$f":"AN$7","v":""},"",{"$f":"IF(AH67=\"\",\"\",IF(AI67=\"\",\"\",IF(入力シート①!$H$12>=AI67,AI67,\"-\")))","v":""},4,null,null,null,"","",null,null,null,null,null,null,"",""]
[null,null,null,null,null,null,null,null,null,null,null,null,null,null,null,null,null,null,null,null,null,null,null,null,null,null,null,null,null,null,null,5,{"$f":"IF(AJ68=\"\",\"\",IF(AJ68=\"-\",\"\",IF($AA$8=TRUE,AJ68-1,AJ68)))","v":""},{"$f":"AN$8","v":""},"",{"$f":"IF(AH68=\"\",\"\",IF(AI68=\"\",\"\",IF(入力シート①!$H$12>=AI68,AI68,\"-\")))","v":""},4,null,null,null,"","",null,null,null,null,null,null,"",""]
[null,null,null,null,null,null,null,null,null,null,null,null,null,null,null,null,null,null,null,null,null,null,null,null,null,null,null,null,null,null,null,6,{"$f":"IF(AJ69=\"\",\"\",IF(AJ69=\"-\",\"\",IF($AA$9=TRUE,AJ69-1,AJ69)))","v":""},{"$f":"AN$9","v":""},"",{"$f":"IF(AH69=\"\",\"\",IF(AI69=\"\",\"\",IF(入力シート①!$H$12>=AI69,AI69,\"-\")))","v":""},4,null,null,null,"","",null,null,null,null,null,null,"",""]
[null,null,null,null,null,null,null,null,null,null,null,null,null,null,null,null,null,null,null,null,null,null,null,null,null,null,null,null,null,null,null,7,{"$f":"IF(AJ70=\"\",\"\",IF(AJ70=\"-\",\"\",IF($AA$10=TRUE,AJ70-1,AJ70)))","v":""},{"$f":"AN$10","v":""},"",{"$f":"IF(AH70=\"\",\"\",IF(AI70=\"\",\"\",IF(入力シート①!$H$12>=AI70,AI70,\"-\")))","v":""},4,null,null,null,"","",null,null,null,null,null,null,"",""]
[null,null,null,null,null,null,null,null,null,null,null,null,null,null,null,null,null,null,null,null,null,null,null,null,null,null,null,null,null,null,null,8,{"$f":"IF(AJ71=\"\",\"\",IF(AJ71=\"-\",\"\",IF($AA$11=TRUE,AJ71-1,AJ71)))","v":""},{"$f":"AN$11","v":""},"",{"$f":"IF(AH71=\"\",\"\",IF(AI71=\"\",\"\",IF(入力シート①!$H$12>=AI71,AI71,\"-\")))","v":""},4,null,null,null,"","",null,null,null,null,null,null,"",""]
[null,null,null,null,null,null,null,null,null,null,null,null,null,null,null,null,null,null,null,null,null,null,null,null,null,null,null,null,null,null,null,9,{"$f":"IF(AJ72=\"\",\"\",IF(AJ72=\"-\",\"\",IF($AA$12=TRUE,AJ72-1,AJ72)))","v":""},{"$f":"AN$12","v":""},"",{"$f":"IF(AH72=\"\",\"\",IF(AI72=\"\",\"\",IF(入力シート①!$H$12>=AI72,AI72,\"-\")))","v":""},4,null,null,null,"","",null,null,null,null,null,null,"",""]
[null,null,null,null,null,null,null,null,null,null,null,null,null,null,null,null,null,null,null,null,null,null,null,null,null,null,null,null,null,null,null,10,{"$f":"IF(AJ73=\"\",\"\",IF(AJ73=\"-\",\"\",IF($AA$13=TRUE,AJ73-1,AJ73)))","v":""},{"$f":"AN$13","v":""},"",{"$f":"IF(AH73=\"\",\"\",IF(AI73=\"\",\"\",IF(入力シート①!$H$12>=AI73,AI73,\"-\")))","v":""},4,null,null,null,"","",null,null,null,null,null,null,"",""]
[null,null,null,null,null,null,null,null,null,null,null,null,null,null,null,null,null,null,null,null,null,null,null,null,null,null,null,null,null,null,null,11,{"$f":"IF(AJ74=\"\",\"\",IF(AJ74=\"-\",\"\",IF($AA$14=TRUE,AJ74-1,AJ74)))","v":""},{"$f":"AN$14","v":""},"",{"$f":"IF(AH74=\"\",\"\",IF(AI74=\"\",\"\",IF(入力シート①!$H$12>=AI74,AI74,\"-\")))","v":""},4,null,null,null,"","",null,null,null,null,null,null,"",""]
[null,null,null,null,null,null,null,null,null,null,null,null,null,null,null,null,null,null,null,null,null,null,null,null,null,null,null,null,null,null,null,12,{"$f":"IF(AJ75=\"\",\"\",IF(AJ75=\"-\",\"\",IF($AA$15=TRUE,AJ75-1,AJ75)))","v":""},{"$f":"AN$15","v":""},"",{"$f":"IF(AH75=\"\",\"\",IF(AI75=\"\",\"\",IF(入力シート①!$H$12>=AI75,AI75,\"-\")))","v":""},4,null,null,null,"","",null,null,null,null,null,null,"",""]
[null,null,null,null,null,null,null,null,null,null,null,null,null,null,null,null,null,null,null,null,null,null,null,null,null,null,null,null,null,null,null,13,{"$f":"IF(AJ76=\"\",\"\",IF(AJ76=\"-\",\"\",IF($AA$16=TRUE,AJ76-1,AJ76)))","v":""},{"$f":"AN$16","v":""},"",{"$f":"IF(AH76=\"\",\"\",IF(AI76=\"\",\"\",IF(入力シート①!$H$12>=AI76,AI76,\"-\")))","v":""},4,null,null,null,"","",null,null,null,null,null,null,"",""]
[null,null,null,null,null,null,null,null,null,null,null,null,null,null,null,null,null,null,null,null,null,null,null,null,null,null,null,null,null,null,null,14,{"$f":"IF(AJ77=\"\",\"\",IF(AJ77=\"-\",\"\",IF($AA$17=TRUE,AJ77-1,AJ77)))","v":""},{"$f":"AN$17","v":""},"",{"$f":"IF(AH77=\"\",\"\",IF(AI77=\"\",\"\",IF(入力シート①!$H$12>=AI77,AI77,\"-\")))","v":""},4,null,null,null,"","",null,null,null,null,null,null,"",""]
[null,null,null,null,null,null,null,null,null,null,null,null,null,null,null,null,null,null,null,null,null,null,null,null,null,null,null,null,null,null,null,15,{"$f":"IF(AJ78=\"\",\"\",IF(AJ78=\"-\",\"\",IF($AA$18=TRUE,AJ78-1,AJ78)))","v":""},{"$f":"AN$18","v":""},"",{"$f":"IF(AH78=\"\",\"\",IF(AI78=\"\",\"\",IF(入力シート①!$H$12>=AI78,AI78,\"-\")))","v":""},4,null,null,null,"","",null,null,null,null,null,null,"",""]
[null,null,null,null,null,null,null,null,null,null,null,null,null,null,null,null,null,null,null,null,null,null,null,null,null,null,null,null,null,null,null,16,{"$f":"IF(AJ79=\"\",\"\",IF(AJ79=\"-\",\"\",IF($AA$19=TRUE,AJ79-1,AJ79)))","v":""},{"$f":"AN$19","v":""},"",{"$f":"IF(AH79=\"\",\"\",IF(AI79=\"\",\"\",IF(入力シート①!$H$12>=AI79,AI79,\"-\")))","v":""},4,null,null,null,"","",null,null,null,null,null,null,"",""]
[null,null,null,null,null,null,null,null,null,null,null,null,null,null,null,null,null,null,null,null,null,null,null,null,null,null,null,null,null,null,null,17,{"$f":"IF(AJ80=\"\",\"\",IF(AJ80=\"-\",\"\",IF($AA$20=TRUE,AJ80-1,AJ80)))","v":""},{"$f":"AN$20","v":""},"",{"$f":"IF(AH80=\"\",\"\",IF(AI80=\"\",\"\",IF(入力シート①!$H$12>=AI80,AI80,\"-\")))","v":""},4,null,null,null,"","",null,null,null,null,null,null,"",""]
[null,null,null,null,null,null,null,null,null,null,null,null,null,null,null,null,null,null,null,null,null,null,null,null,null,null,null,null,null,null,null,18,{"$f":"IF(AJ81=\"\",\"\",IF(AJ81=\"-\",\"\",IF($AA$21=TRUE,AJ81-1,AJ81)))","v":""},{"$f":"AN$21","v":""},"",{"$f":"IF(AH81=\"\",\"\",IF(AI81=\"\",\"\",IF(入力シート①!$H$12>=AI81,AI81,\"-\")))","v":""},4,null,null,null,"","",null,null,null,null,null,null,"",""]
[null,null,null,null,null,null,null,null,null,null,null,null,null,null,null,null,null,null,null,null,null,null,null,null,null,null,null,null,null,null,null,19,{"$f":"IF(AJ82=\"\",\"\",IF(AJ82=\"-\",\"\",IF($AA$22=TRUE,AJ82-1,AJ82)))","v":""},{"$f":"AN$22","v":""},"",{"$f":"IF(AH82=\"\",\"\",IF(AI82=\"\",\"\",IF(入力シート①!$H$12>=AI82,AI82,\"-\")))","v":""},4,null,null,null,"","",null,null,null,null,null,null,"",""]
[null,null,null,null,null,null,null,null,null,null,null,null,null,null,null,null,null,null,null,null,null,null,null,null,null,null,null,null,null,null,null,20,{"$f":"IF(AJ83=\"\",\"\",IF(AJ83=\"-\",\"\",IF($AA$23=TRUE,AJ83-1,AJ83)))","v":""},{"$f":"AN$23","v":""},"",{"$f":"IF(AH83=\"\",\"\",IF(AI83=\"\",\"\",IF(入力シート①!$H$12>=AI83,AI83,\"-\")))","v":""},4,null,null,null,"","",null,null,null,null,null,null,"",""]
[null,null,null,null,null,null,null,null,null,null,null,null,null,null,null,null,null,null,null,null,null,null,null,null,null,null,null,null,null,null,null,1,{"$f":"IF(AJ84=\"\",\"\",IF(AJ84=\"-\",\"\",IF($AA$4=TRUE,AJ84-1,AJ84)))","v":""},{"$f":"AN$4","v":"一般財団法人航空医学研究センター"},{"$f":"AS4","v":""},{"$f":"IF(AH84=\"\",\"\",IF(AI84=\"\",\"\",IF(入力シート①!$H$12>=AI84,AI84,\"-\")))","v":""},5,null,null,null,"","",null,null,null,null,null,null,"",""]
[null,null,null,null,null,null,null,null,null,null,null,null,null,null,null,null,null,null,null,null,null,null,null,null,null,null,null,null,null,null,null,2,{"$f":"IF(AJ85=\"\",\"\",IF(AJ85=\"-\",\"\",IF($AA$5=TRUE,AJ85-1,AJ85)))","v":""},{"$f":"AN$5","v":""},{"$f":"AS5","v":""},{"$f":"IF(AH85=\"\",\"\",IF(AI85=\"\",\"\",IF(入力シート①!$H$12>=AI85,AI85,\"-\")))","v":""},5,null,null,null,"","",null,null,null,null,null,null,"",""]
[null,null,null,null,null,null,null,null,null,null,null,null,null,null,null,null,null,null,null,null,null,null,null,null,null,null,null,null,null,null,null,3,{"$f":"IF(AJ86=\"\",\"\",IF(AJ86=\"-\",\"\",IF($AA$6=TRUE,AJ86-1,AJ86)))","v":""},{"$f":"AN$6","v":""},"",{"$f":"IF(AH86=\"\",\"\",IF(AI86=\"\",\"\",IF(入力シート①!$H$12>=AI86,AI86,\"-\")))","v":""},5,null,null,null,null,null,null,null,null,{"$f":"IF(SUM(AO45:AS45,AT45:AX45)=0,\"\",\"第\"&MAX(AO45:AS45,AT45:AX45)&\"回見積　成立\")","v":""},{"$f":"IF(AA4=TRUE,AT86,\"\")","v":""},null,null,null,null,null,null,null,null,null,null,null,{"$f":"IF(SUM(AY45:BC45,BD45:BH45)=0,\"\",\"第\"&MAX(AO45:AS45,AT45:AX45,AY45:BC45,BD45:BH45)&\"回見積　成立\")","v":""},{"$f":"IF(AA4=TRUE,BG86,\"\")","v":""}]
[null,null,null,null,null,null,null,null,null,null,null,null,null,null,null,null,null,null,null,null,null,null,null,null,null,null,null,null,null,null,null,4,{"$f":"IF(AJ87=\"\",\"\",IF(AJ87=\"-\",\"\",IF($AA$7=TRUE,AJ87-1,AJ87)))","v":""},{"$f":"AN$7","v":""},"",{"$f":"IF(AH87=\"\",\"\",IF(AI87=\"\",\"\",IF(入力シート①!$H$12>=AI87,AI87,\"-\")))","v":""},5,null,null,null,null,null,null,null,null,"","",null,null,null,null,null,null,null,null,null,null,null,"",""]
[null,null,null,null,null,null,null,null,null,null,null,null,null,null,null,null,null,null,null,null,null,null,null,null,null,null,null,null,null,null,null,5,{"$f":"IF(AJ88=\"\",\"\",IF(AJ88=\"-\",\"\",IF($AA$8=TRUE,AJ88-1,AJ88)))","v":""},{"$f":"AN$8","v":""},"",{"$f":"IF(AH88=\"\",\"\",IF(AI88=\"\",\"\",IF(入力シート①!$H$12>=AI88,AI88,\"-\")))","v":""},5,null,null,null,null,null,null,null,null,"","",null,null,null,null,null,null,null,null,null,null,null,"",""]
[null,null,null,null,null,null,null,null,null,null,null,null,null,null,null,null,null,null,null,null,null,null,null,null,null,null,null,null,null,null,null,6,{"$f":"IF(AJ89=\"\",\"\",IF(AJ89=\"-\",\"\",IF($AA$9=TRUE,AJ89-1,AJ89)))","v":""},{"$f":"AN$9","v":""},"",{"$f":"IF(AH89=\"\",\"\",IF(AI89=\"\",\"\",IF(入力シート①!$H$12>=AI89,AI89,\"-\")))","v":""},5,null,null,null,null,null,null,null,null,"","",null,null,null,null,null,null,null,null,null,null,null,"",""]
[null,null,null,null,null,null,null,null,null,null,null,null,null,null,null,null,null,null,null,null,null,null,null,null,null,null,null,null,null,null,null,7,{"$f":"IF(AJ90=\"\",\"\",IF(AJ90=\"-\",\"\",IF($AA$10=TRUE,AJ90-1,AJ90)))","v":""},{"$f":"AN$10","v":""},"",{"$f":"IF(AH90=\"\",\"\",IF(AI90=\"\",\"\",IF(入力シート①!$H$12>=AI90,AI90,\"-\")))","v":""},5,null,null,null,null,null,null,null,null,"","",null,null,null,null,null,null,null,null,null,null,null,"",""]
[null,null,null,null,null,null,null,null,null,null,null,null,null,null,null,null,null,null,null,null,null,null,null,null,null,null,null,null,null,null,null,8,{"$f":"IF(AJ91=\"\",\"\",IF(AJ91=\"-\",\"\",IF($AA$11=TRUE,AJ91-1,AJ91)))","v":""},{"$f":"AN$11","v":""},"",{"$f":"IF(AH91=\"\",\"\",IF(AI91=\"\",\"\",IF(入力シート①!$H$12>=AI91,AI91,\"-\")))","v":""},5,null,null,null,null,null,null,null,null,"","",null,null,null,null,null,null,null,null,null,null,null,"",""]
[null,null,null,null,null,null,null,null,null,null,null,null,null,null,null,null,null,null,null,null,null,null,null,null,null,null,null,null,null,null,null,9,{"$f":"IF(AJ92=\"\",\"\",IF(AJ92=\"-\",\"\",IF($AA$12=TRUE,AJ92-1,AJ92)))","v":""},{"$f":"AN$12","v":""},"",{"$f":"IF(AH92=\"\",\"\",IF(AI92=\"\",\"\",IF(入力シート①!$H$12>=AI92,AI92,\"-\")))","v":""},5,null,null,null,null,null,null,null,null,"","",null,null,null,null,null,null,null,null,null,null,null,"",""]
[null,null,null,null,null,null,null,null,null,null,null,null,null,null,null,null,null,null,null,null,null,null,null,null,null,null,null,null,null,null,null,10,{"$f":"IF(AJ93=\"\",\"\",IF(AJ93=\"-\",\"\",IF($AA$13=TRUE,AJ93-1,AJ93)))","v":""},{"$f":"AN$13","v":""},"",{"$f":"IF(AH93=\"\",\"\",IF(AI93=\"\",\"\",IF(入力シート①!$H$12>=AI93,AI93,\"-\")))","v":""},5,null,null,null,null,null,null,null,null,"","",null,null,null,null,null,null,null,null,null,null,null,"",""]
[null,null,null,null,null,null,null,null,null,null,null,null,null,null,null,null,null,null,null,null,null,null,null,null,null,null,null,null,null,null,null,11,{"$f":"IF(AJ94=\"\",\"\",IF(AJ94=\"-\",\"\",IF($AA$14=TRUE,AJ94-1,AJ94)))","v":""},{"$f":"AN$14","v":""},"",{"$f":"IF(AH94=\"\",\"\",IF(AI94=\"\",\"\",IF(入力シート①!$H$12>=AI94,AI94,\"-\")))","v":""},5,null,null,null,null,null,null,null,null,"","",null,null,null,null,null,null,null,null,null,null,null,"",""]
[null,null,null,null,null,null,null,null,null,null,null,null,null,null,null,null,null,null,null,null,null,null,null,null,null,null,null,null,null,null,null,12,{"$f":"IF(AJ95=\"\",\"\",IF(AJ95=\"-\",\"\",IF($AA$15=TRUE,AJ95-1,AJ95)))","v":""},{"$f":"AN$15","v":""},"",{"$f":"IF(AH95=\"\",\"\",IF(AI95=\"\",\"\",IF(入力シート①!$H$12>=AI95,AI95,\"-\")))","v":""},5,null,null,null,null,null,null,null,null,"","",null,null,null,null,null,null,null,null,null,null,null,"",""]
[null,null,null,null,null,null,null,null,null,null,null,null,null,null,null,null,null,null,null,null,null,null,null,null,null,null,null,null,null,null,null,13,{"$f":"IF(AJ96=\"\",\"\",IF(AJ96=\"-\",\"\",IF($AA$16=TRUE,AJ96-1,AJ96)))","v":""},{"$f":"AN$16","v":""},"",{"$f":"IF(AH96=\"\",\"\",IF(AI96=\"\",\"\",IF(入力シート①!$H$12>=AI96,AI96,\"-\")))","v":""},5,null,null,null,null,null,null,null,null,"","",null,null,null,null,null,null,null,null,null,null,null,"",""]
[null,null,null,null,null,null,null,null,null,null,null,null,null,null,null,null,null,null,null,null,null,null,null,null,null,null,null,null,null,null,null,14,{"$f":"IF(AJ97=\"\",\"\",IF(AJ97=\"-\",\"\",IF($AA$17=TRUE,AJ97-1,AJ97)))","v":""},{"$f":"AN$17","v":""},"",{"$f":"IF(AH97=\"\",\"\",IF(AI97=\"\",\"\",IF(入力シート①!$H$12>=AI97,AI97,\"-\")))","v":""},5,null,null,null,null,null,null,null,null,"","",null,null,null,null,null,null,null,null,null,null,null,"",""]
[null,null,null,null,null,null,null,null,null,null,null,null,null,null,null,null,null,null,null,null,null,null,null,null,null,null,null,null,null,null,null,15,{"$f":"IF(AJ98=\"\",\"\",IF(AJ98=\"-\",\"\",IF($AA$18=TRUE,AJ98-1,AJ98)))","v":""},{"$f":"AN$18","v":""},"",{"$f":"IF(AH98=\"\",\"\",IF(AI98=\"\",\"\",IF(入力シート①!$H$12>=AI98,AI98,\"-\")))","v":""},5,null,null,null,null,null,null,null,null,"","",null,null,null,null,null,null,null,null,null,null,null,"",""]
[null,null,null,null,null,null,null,null,null,null,null,null,null,null,null,null,null,null,null,null,null,null,null,null,null,null,null,null,null,null,null,16,{"$f":"IF(AJ99=\"\",\"\",IF(AJ99=\"-\",\"\",IF($AA$19=TRUE,AJ99-1,AJ99)))","v":""},{"$f":"AN$19","v":""},"",{"$f":"IF(AH99=\"\",\"\",IF(AI99=\"\",\"\",IF(入力シート①!$H$12>=AI99,AI99,\"-\")))","v":""},5,null,null,null,null,null,null,null,null,"","",null,null,null,null,null,null,null,null,null,null,null,"",""]
[null,null,null,null,null,null,null,null,null,null,null,null,null,null,null,null,null,null,null,null,null,null,null,null,null,null,null,null,null,null,null,17,{"$f":"IF(AJ100=\"\",\"\",IF(AJ100=\"-\",\"\",IF($AA$20=TRUE,AJ100-1,AJ100)))","v":""},{"$f":"AN$20","v":""},"",{"$f":"IF(AH100=\"\",\"\",IF(AI100=\"\",\"\",IF(入力シート①!$H$12>=AI100,AI100,\"-\")))","v":""},5,null,null,null,null,null,null,null,null,"","",null,null,null,null,null,null,null,null,null,null,null,"",""]
[null,null,null,null,null,null,null,null,null,null,null,null,null,null,null,null,null,null,null,null,null,null,null,null,null,null,null,null,null,null,null,18,{"$f":"IF(AJ101=\"\",\"\",IF(AJ101=\"-\",\"\",IF($AA$21=TRUE,AJ101-1,AJ101)))","v":""},{"$f":"AN$21","v":""},"",{"$f":"IF(AH101=\"\",\"\",IF(AI101=\"\",\"\",IF(入力シート①!$H$12>=AI101,AI101,\"-\")))","v":""},5,null,null,null,null,null,null,null,null,"","",null,null,null,null,null,null,null,null,null,null,null,"",""]
[null,null,null,null,null,null,null,null,null,null,null,null,null,null,null,null,null,null,null,null,null,null,null,null,null,null,null,null,null,null,null,19,{"$f":"IF(AJ102=\"\",\"\",IF(AJ102=\"-\",\"\",IF($AA$22=TRUE,AJ102-1,AJ102)))","v":""},{"$f":"AN$22","v":""},"",{"$f":"IF(AH102=\"\",\"\",IF(AI102=\"\",\"\",IF(入力シート①!$H$12>=AI102,AI102,\"-\")))","v":""},5,null,null,null,null,null,null,null,null,"","",null,null,null,null,null,null,null,null,null,null,null,"",""]
[null,null,null,null,null,null,null,null,null,null,null,null,null,null,null,null,null,null,null,null,null,null,null,null,null,null,null,null,null,null,null,20,{"$f":"IF(AJ103=\"\",\"\",IF(AJ103=\"-\",\"\",IF($AA$23=TRUE,AJ103-1,AJ103)))","v":""},{"$f":"AN$23","v":""},"",{"$f":"IF(AH103=\"\",\"\",IF(AI103=\"\",\"\",IF(入力シート①!$H$12>=AI103,AI103,\"-\")))","v":""},5,null,null,null,null,null,null,null,null,"","",null,null,null,null,null,null,null,null,null,null,null,"",""]
[null,null,null,null,null,null,null,null,null,null,null,null,null,null,null,null,null,null,null,null,null,null,null,null,null,null,null,null,null,null,null,1,{"$f":"IF(AJ104=\"\",\"\",IF(AJ104=\"-\",\"\",IF($AA$4=TRUE,AJ104-1,AJ104)))","v":""},{"$f":"AN$4","v":"一般財団法人航空医学研究センター"},{"$f":"AT4","v":""},{"$f":"IF(AH104=\"\",\"\",IF(AI104=\"\",\"\",IF(入力シート①!$H$12>=AI104,AI104,\"-\")))","v":""},6,null,null,null,null,null,null,null,null,"","",null,null,null,null,null,null,null,null,null,null,null,"",""]
[null,null,null,null,null,null,null,null,null,null,null,null,null,null,null,null,null,null,null,null,null,null,null,null,null,null,null,null,null,null,null,2,{"$f":"IF(AJ105=\"\",\"\",IF(AJ105=\"-\",\"\",IF($AA$5=TRUE,AJ105-1,AJ105)))","v":""},{"$f":"AN$5","v":""},{"$f":"AT5","v":""},{"$f":"IF(AH105=\"\",\"\",IF(AI105=\"\",\"\",IF(入力シート①!$H$12>=AI105,AI105,\"-\")))","v":""},6,null,null,null,null,null,null,null,null,"","",null,null,null,null,null,null,null,null,null,null,null,"",""]
[null,null,null,null,null,null,null,null,null,null,null,null,null,null,null,null,null,null,null,null,null,null,null,null,null,null,null,null,null,null,null,3,{"$f":"IF(AJ106=\"\",\"\",IF(AJ106=\"-\",\"\",IF($AA$6=TRUE,AJ106-1,AJ106)))","v":""},{"$f":"AN$6","v":""},"",{"$f":"IF(AH106=\"\",\"\",IF(AI106=\"\",\"\",IF(入力シート①!$H$12>=AI106,AI106,\"-\")))","v":""},6]
[null,null,null,null,null,null,null,null,null,null,null,null,null,null,null,null,null,null,null,null,null,null,null,null,null,null,null,null,null,null,null,4,{"$f":"IF(AJ107=\"\",\"\",IF(AJ107=\"-\",\"\",IF($AA$7=TRUE,AJ107-1,AJ107)))","v":""},{"$f":"AN$7","v":""},"",{"$f":"IF(AH107=\"\",\"\",IF(AI107=\"\",\"\",IF(入力シート①!$H$12>=AI107,AI107,\"-\")))","v":""},6]
[null,null,null,null,null,null,null,null,null,null,null,null,null,null,null,null,null,null,null,null,null,null,null,null,null,null,null,null,null,null,null,5,{"$f":"IF(AJ108=\"\",\"\",IF(AJ108=\"-\",\"\",IF($AA$8=TRUE,AJ108-1,AJ108)))","v":""},{"$f":"AN$8","v":""},"",{"$f":"IF(AH108=\"\",\"\",IF(AI108=\"\",\"\",IF(入力シート①!$H$12>=AI108,AI108,\"-\")))","v":""},6]
[null,null,null,null,null,null,null,null,null,null,null,null,null,null,null,null,null,null,null,null,null,null,null,null,null,null,null,null,null,null,null,6,{"$f":"IF(AJ109=\"\",\"\",IF(AJ109=\"-\",\"\",IF($AA$9=TRUE,AJ109-1,AJ109)))","v":""},{"$f":"AN$9","v":""},"",{"$f":"IF(AH109=\"\",\"\",IF(AI109=\"\",\"\",IF(入力シート①!$H$12>=AI109,AI109,\"-\")))","v":""},6]
[null,null,null,null,null,null,null,null,null,null,null,null,null,null,null,null,null,null,null,null,null,null,null,null,null,null,null,null,null,null,null,7,{"$f":"IF(AJ110=\"\",\"\",IF(AJ110=\"-\",\"\",IF($AA$10=TRUE,AJ110-1,AJ110)))","v":""},{"$f":"AN$10","v":""},"",{"$f":"IF(AH110=\"\",\"\",IF(AI110=\"\",\"\",IF(入力シート①!$H$12>=AI110,AI110,\"-\")))","v":""},6]
[null,null,null,null,null,null,null,null,null,null,null,null,null,null,null,null,null,null,null,null,null,null,null,null,null,null,null,null,null,null,null,8,{"$f":"IF(AJ111=\"\",\"\",IF(AJ111=\"-\",\"\",IF($AA$11=TRUE,AJ111-1,AJ111)))","v":""},{"$f":"AN$11","v":""},"",{"$f":"IF(AH111=\"\",\"\",IF(AI111=\"\",\"\",IF(入力シート①!$H$12>=AI111,AI111,\"-\")))","v":""},6]
[null,null,null,null,null,null,null,null,null,null,null,null,null,null,null,null,null,null,null,null,null,null,null,null,null,null,null,null,null,null,null,9,{"$f":"IF(AJ112=\"\",\"\",IF(AJ112=\"-\",\"\",IF($AA$12=TRUE,AJ112-1,AJ112)))","v":""},{"$f":"AN$12","v":""},"",{"$f":"IF(AH112=\"\",\"\",IF(AI112=\"\",\"\",IF(入力シート①!$H$12>=AI112,AI112,\"-\")))","v":""},6]
[null,null,null,null,null,null,null,null,null,null,null,null,null,null,null,null,null,null,null,null,null,null,null,null,null,null,null,null,null,null,null,10,{"$f":"IF(AJ113=\"\",\"\",IF(AJ113=\"-\",\"\",IF($AA$13=TRUE,AJ113-1,AJ113)))","v":""},{"$f":"AN$13","v":""},"",{"$f":"IF(AH113=\"\",\"\",IF(AI113=\"\",\"\",IF(入力シート①!$H$12>=AI113,AI113,\"-\")))","v":""},6]
[null,null,null,null,null,null,null,null,null,null,null,null,null,null,null,null,null,null,null,null,null,null,null,null,null,null,null,null,null,null,null,11,{"$f":"IF(AJ114=\"\",\"\",IF(AJ114=\"-\",\"\",IF($AA$14=TRUE,AJ114-1,AJ114)))","v":""},{"$f":"AN$14","v":""},"",{"$f":"IF(AH114=\"\",\"\",IF(AI114=\"\",\"\",IF(入力シート①!$H$12>=AI114,AI114,\"-\")))","v":""},6]
[null,null,null,null,null,null,null,null,null,null,null,null,null,null,null,null,null,null,null,null,null,null,null,null,null,null,null,null,null,null,null,12,{"$f":"IF(AJ115=\"\",\"\",IF(AJ115=\"-\",\"\",IF($AA$15=TRUE,AJ115-1,AJ115)))","v":""},{"$f":"AN$15","v":""},"",{"$f":"IF(AH115=\"\",\"\",IF(AI115=\"\",\"\",IF(入力シート①!$H$12>=AI115,AI115,\"-\")))","v":""},6]
[null,null,null,null,null,null,null,null,null,null,null,null,null,null,null,null,null,null,null,null,null,null,null,null,null,null,null,null,null,null,null,13,{"$f":"IF(AJ116=\"\",\"\",IF(AJ116=\"-\",\"\",IF($AA$16=TRUE,AJ116-1,AJ116)))","v":""},{"$f":"AN$16","v":""},"",{"$f":"IF(AH116=\"\",\"\",IF(AI116=\"\",\"\",IF(入力シート①!$H$12>=AI116,AI116,\"-\")))","v":""},6]
[null,null,null,null,null,null,null,null,null,null,null,null,null,null,null,null,null,null,null,null,null,null,null,null,null,null,null,null,null,null,null,14,{"$f":"IF(AJ117=\"\",\"\",IF(AJ117=\"-\",\"\",IF($AA$17=TRUE,AJ117-1,AJ117)))","v":""},{"$f":"AN$17","v":""},"",{"$f":"IF(AH117=\"\",\"\",IF(AI117=\"\",\"\",IF(入力シート①!$H$12>=AI117,AI117,\"-\")))","v":""},6]
[null,null,null,null,null,null,null,null,null,null,null,null,null,null,null,null,null,null,null,null,null,null,null,null,null,null,null,null,null,null,null,15,{"$f":"IF(AJ118=\"\",\"\",IF(AJ118=\"-\",\"\",IF($AA$18=TRUE,AJ118-1,AJ118)))","v":""},{"$f":"AN$18","v":""},"",{"$f":"IF(AH118=\"\",\"\",IF(AI118=\"\",\"\",IF(入力シート①!$H$12>=AI118,AI118,\"-\")))","v":""},6]
[null,null,null,null,null,null,null,null,null,null,null,null,null,null,null,null,null,null,null,null,null,null,null,null,null,null,null,null,null,null,null,16,{"$f":"IF(AJ119=\"\",\"\",IF(AJ119=\"-\",\"\",IF($AA$19=TRUE,AJ119-1,AJ119)))","v":""},{"$f":"AN$19","v":""},"",{"$f":"IF(AH119=\"\",\"\",IF(AI119=\"\",\"\",IF(入力シート①!$H$12>=AI119,AI119,\"-\")))","v":""},6]
[null,null,null,null,null,null,null,null,null,null,null,null,null,null,null,null,null,null,null,null,null,null,null,null,null,null,null,null,null,null,null,17,{"$f":"IF(AJ120=\"\",\"\",IF(AJ120=\"-\",\"\",IF($AA$20=TRUE,AJ120-1,AJ120)))","v":""},{"$f":"AN$20","v":""},"",{"$f":"IF(AH120=\"\",\"\",IF(AI120=\"\",\"\",IF(入力シート①!$H$12>=AI120,AI120,\"-\")))","v":""},6]
[null,null,null,null,null,null,null,null,null,null,null,null,null,null,null,null,null,null,null,null,null,null,null,null,null,null,null,null,null,null,null,18,{"$f":"IF(AJ121=\"\",\"\",IF(AJ121=\"-\",\"\",IF($AA$21=TRUE,AJ121-1,AJ121)))","v":""},{"$f":"AN$21","v":""},"",{"$f":"IF(AH121=\"\",\"\",IF(AI121=\"\",\"\",IF(入力シート①!$H$12>=AI121,AI121,\"-\")))","v":""},6]
[null,null,null,null,null,null,null,null,null,null,null,null,null,null,null,null,null,null,null,null,null,null,null,null,null,null,null,null,null,null,null,19,{"$f":"IF(AJ122=\"\",\"\",IF(AJ122=\"-\",\"\",IF($AA$22=TRUE,AJ122-1,AJ122)))","v":""},{"$f":"AN$22","v":""},"",{"$f":"IF(AH122=\"\",\"\",IF(AI122=\"\",\"\",IF(入力シート①!$H$12>=AI122,AI122,\"-\")))","v":""},6]
[null,null,null,null,null,null,null,null,null,null,null,null,null,null,null,null,null,null,null,null,null,null,null,null,null,null,null,null,null,null,null,20,{"$f":"IF(AJ123=\"\",\"\",IF(AJ123=\"-\",\"\",IF($AA$23=TRUE,AJ123-1,AJ123)))","v":""},{"$f":"AN$23","v":""},"",{"$f":"IF(AH123=\"\",\"\",IF(AI123=\"\",\"\",IF(入力シート①!$H$12>=AI123,AI123,\"-\")))","v":""},6]
[null,null,null,null,null,null,null,null,null,null,null,null,null,null,null,null,null,null,null,null,null,null,null,null,null,null,null,null,null,null,null,1,{"$f":"IF(AJ124=\"\",\"\",IF(AJ124=\"-\",\"\",IF($AA$4=TRUE,AJ124-1,AJ124)))","v":""},{"$f":"AN$4","v":"一般財団法人航空医学研究センター"},{"$f":"AU4","v":""},{"$f":"IF(AH124=\"\",\"\",IF(AI124=\"\",\"\",IF(入力シート①!$H$12>=AI124,AI124,\"-\")))","v":""},7]
[null,null,null,null,null,null,null,null,null,null,null,null,null,null,null,null,null,null,null,null,null,null,null,null,null,null,null,null,null,null,null,2,{"$f":"IF(AJ125=\"\",\"\",IF(AJ125=\"-\",\"\",IF($AA$5=TRUE,AJ125-1,AJ125)))","v":""},{"$f":"AN$5","v":""},{"$f":"AU5","v":""},{"$f":"IF(AH125=\"\",\"\",IF(AI125=\"\",\"\",IF(入力シート①!$H$12>=AI125,AI125,\"-\")))","v":""},7]
[null,null,null,null,null,null,null,null,null,null,null,null,null,null,null,null,null,null,null,null,null,null,null,null,null,null,null,null,null,null,null,3,{"$f":"IF(AJ126=\"\",\"\",IF(AJ126=\"-\",\"\",IF($AA$6=TRUE,AJ126-1,AJ126)))","v":""},{"$f":"AN$6","v":""},"",{"$f":"IF(AH126=\"\",\"\",IF(AI126=\"\",\"\",IF(入力シート①!$H$12>=AI126,AI126,\"-\")))","v":""},7]
[null,null,null,null,null,null,null,null,null,null,null,null,null,null,null,null,null,null,null,null,null,null,null,null,null,null,null,null,null,null,null,4,{"$f":"IF(AJ127=\"\",\"\",IF(AJ127=\"-\",\"\",IF($AA$7=TRUE,AJ127-1,AJ127)))","v":""},{"$f":"AN$7","v":""},"",{"$f":"IF(AH127=\"\",\"\",IF(AI127=\"\",\"\",IF(入力シート①!$H$12>=AI127,AI127,\"-\")))","v":""},7]
[null,null,null,null,null,null,null,null,null,null,null,null,null,null,null,null,null,null,null,null,null,null,null,null,null,null,null,null,null,null,null,5,{"$f":"IF(AJ128=\"\",\"\",IF(AJ128=\"-\",\"\",IF($AA$8=TRUE,AJ128-1,AJ128)))","v":""},{"$f":"AN$8","v":""},"",{"$f":"IF(AH128=\"\",\"\",IF(AI128=\"\",\"\",IF(入力シート①!$H$12>=AI128,AI128,\"-\")))","v":""},7]
[null,null,null,null,null,null,null,null,null,null,null,null,null,null,null,null,null,null,null,null,null,null,null,null,null,null,null,null,null,null,null,6,{"$f":"IF(AJ129=\"\",\"\",IF(AJ129=\"-\",\"\",IF($AA$9=TRUE,AJ129-1,AJ129)))","v":""},{"$f":"AN$9","v":""},"",{"$f":"IF(AH129=\"\",\"\",IF(AI129=\"\",\"\",IF(入力シート①!$H$12>=AI129,AI129,\"-\")))","v":""},7]
[null,null,null,null,null,null,null,null,null,null,null,null,null,null,null,null,null,null,null,null,null,null,null,null,null,null,null,null,null,null,null,7,{"$f":"IF(AJ130=\"\",\"\",IF(AJ130=\"-\",\"\",IF($AA$10=TRUE,AJ130-1,AJ130)))","v":""},{"$f":"AN$10","v":""},"",{"$f":"IF(AH130=\"\",\"\",IF(AI130=\"\",\"\",IF(入力シート①!$H$12>=AI130,AI130,\"-\")))","v":""},7]
[null,null,null,null,null,null,null,null,null,null,null,null,null,null,null,null,null,null,null,null,null,null,null,null,null,null,null,null,null,null,null,8,{"$f":"IF(AJ131=\"\",\"\",IF(AJ131=\"-\",\"\",IF($AA$11=TRUE,AJ131-1,AJ131)))","v":""},{"$f":"AN$11","v":""},"",{"$f":"IF(AH131=\"\",\"\",IF(AI131=\"\",\"\",IF(入力シート①!$H$12>=AI131,AI131,\"-\")))","v":""},7]
[null,null,null,null,null,null,null,null,null,null,null,null,null,null,null,null,null,null,null,null,null,null,null,null,null,null,null,null,null,null,null,9,{"$f":"IF(AJ132=\"\",\"\",IF(AJ132=\"-\",\"\",IF($AA$12=TRUE,AJ132-1,AJ132)))","v":""},{"$f":"AN$12","v":""},"",{"$f":"IF(AH132=\"\",\"\",IF(AI132=\"\",\"\",IF(入力シート①!$H$12>=AI132,AI132,\"-\")))","v":""},7]
[null,null,null,null,null,null,null,null,null,null,null,null,null,null,null,null,null,null,null,null,null,null,null,null,null,null,null,null,null,null,null,10,{"$f":"IF(AJ133=\"\",\"\",IF(AJ133=\"-\",\"\",IF($AA$13=TRUE,AJ133-1,AJ133)))","v":""},{"$f":"AN$13","v":""},"",{"$f":"IF(AH133=\"\",\"\",IF(AI133=\"\",\"\",IF(入力シート①!$H$12>=AI133,AI133,\"-\")))","v":""},7]
[null,null,null,null,null,null,null,null,null,null,null,null,null,null,null,null,null,null,null,null,null,null,null,null,null,null,null,null,null,null,null,11,{"$f":"IF(AJ134=\"\",\"\",IF(AJ134=\"-\",\"\",IF($AA$14=TRUE,AJ134-1,AJ134)))","v":""},{"$f":"AN$14","v":""},"",{"$f":"IF(AH134=\"\",\"\",IF(AI134=\"\",\"\",IF(入力シート①!$H$12>=AI134,AI134,\"-\")))","v":""},7]
[null,null,null,null,null,null,null,null,null,null,null,null,null,null,null,null,null,null,null,null,null,null,null,null,null,null,null,null,null,null,null,12,{"$f":"IF(AJ135=\"\",\"\",IF(AJ135=\"-\",\"\",IF($AA$15=TRUE,AJ135-1,AJ135)))","v":""},{"$f":"AN$15","v":""},"",{"$f":"IF(AH135=\"\",\"\",IF(AI135=\"\",\"\",IF(入力シート①!$H$12>=AI135,AI135,\"-\")))","v":""},7]
[null,null,null,null,null,null,null,null,null,null,null,null,null,null,null,null,null,null,null,null,null,null,null,null,null,null,null,null,null,null,null,13,{"$f":"IF(AJ136=\"\",\"\",IF(AJ136=\"-\",\"\",IF($AA$16=TRUE,AJ136-1,AJ136)))","v":""},{"$f":"AN$16","v":""},"",{"$f":"IF(AH136=\"\",\"\",IF(AI136=\"\",\"\",IF(入力シート①!$H$12>=AI136,AI136,\"-\")))","v":""},7]
[null,null,null,null,null,null,null,null,null,null,null,null,null,null,null,null,null,null,null,null,null,null,null,null,null,null,null,null,null,null,null,14,{"$f":"IF(AJ137=\"\",\"\",IF(AJ137=\"-\",\"\",IF($AA$17=TRUE,AJ137-1,AJ137)))","v":""},{"$f":"AN$17","v":""},"",{"$f":"IF(AH137=\"\",\"\",IF(AI137=\"\",\"\",IF(入力シート①!$H$12>=AI137,AI137,\"-\")))","v":""},7]
[null,null,null,null,null,null,null,null,null,null,null,null,null,null,null,null,null,null,null,null,null,null,null,null,null,null,null,null,null,null,null,15,{"$f":"IF(AJ138=\"\",\"\",IF(AJ138=\"-\",\"\",IF($AA$18=TRUE,AJ138-1,AJ138)))","v":""},{"$f":"AN$18","v":""},"",{"$f":"IF(AH138=\"\",\"\",IF(AI138=\"\",\"\",IF(入力シート①!$H$12>=AI138,AI138,\"-\")))","v":""},7]
[null,null,null,null,null,null,null,null,null,null,null,null,null,null,null,null,null,null,null,null,null,null,null,null,null,null,null,null,null,null,null,16,{"$f":"IF(AJ139=\"\",\"\",IF(AJ139=\"-\",\"\",IF($AA$19=TRUE,AJ139-1,AJ139)))","v":""},{"$f":"AN$19","v":""},"",{"$f":"IF(AH139=\"\",\"\",IF(AI139=\"\",\"\",IF(入力シート①!$H$12>=AI139,AI139,\"-\")))","v":""},7]
[null,null,null,null,null,null,null,null,null,null,null,null,null,null,null,null,null,null,null,null,null,null,null,null,null,null,null,null,null,null,null,17,{"$f":"IF(AJ140=\"\",\"\",IF(AJ140=\"-\",\"\",IF($AA$20=TRUE,AJ140-1,AJ140)))","v":""},{"$f":"AN$20","v":""},"",{"$f":"IF(AH140=\"\",\"\",IF(AI140=\"\",\"\",IF(入力シート①!$H$12>=AI140,AI140,\"-\")))","v":""},7]
[null,null,null,null,null,null,null,null,null,null,null,null,null,null,null,null,null,null,null,null,null,null,null,null,null,null,null,null,null,null,null,18,{"$f":"IF(AJ141=\"\",\"\",IF(AJ141=\"-\",\"\",IF($AA$21=TRUE,AJ141-1,AJ141)))","v":""},{"$f":"AN$21","v":""},"",{"$f":"IF(AH141=\"\",\"\",IF(AI141=\"\",\"\",IF(入力シート①!$H$12>=AI141,AI141,\"-\")))","v":""},7]
[null,null,null,null,null,null,null,null,null,null,null,null,null,null,null,null,null,null,null,null,null,null,null,null,null,null,null,null,null,null,null,19,{"$f":"IF(AJ142=\"\",\"\",IF(AJ142=\"-\",\"\",IF($AA$22=TRUE,AJ142-1,AJ142)))","v":""},{"$f":"AN$22","v":""},"",{"$f":"IF(AH142=\"\",\"\",IF(AI142=\"\",\"\",IF(入力シート①!$H$12>=AI142,AI142,\"-\")))","v":""},7]
[null,null,null,null,null,null,null,null,null,null,null,null,null,null,null,null,null,null,null,null,null,null,null,null,null,null,null,null,null,null,null,20,{"$f":"IF(AJ143=\"\",\"\",IF(AJ143=\"-\",\"\",IF($AA$23=TRUE,AJ143-1,AJ143)))","v":""},{"$f":"AN$23","v":""},"",{"$f":"IF(AH143=\"\",\"\",IF(AI143=\"\",\"\",IF(入力シート①!$H$12>=AI143,AI143,\"-\")))","v":""},7]
[null,null,null,null,null,null,null,null,null,null,null,null,null,null,null,null,null,null,null,null,null,null,null,null,null,null,null,null,null,null,null,1,{"$f":"IF(AJ144=\"\",\"\",IF(AJ144=\"-\",\"\",IF($AA$4=TRUE,AJ144-1,AJ144)))","v":""},{"$f":"AN$4","v":"一般財団法人航空医学研究センター"},{"$f":"AV4","v":""},{"$f":"IF(AH144=\"\",\"\",IF(AI144=\"\",\"\",IF(入力シート①!$H$12>=AI144,AI144,\"-\")))","v":""},8]
[null,null,null,null,null,null,null,null,null,null,null,null,null,null,null,null,null,null,null,null,null,null,null,null,null,null,null,null,null,null,null,2,{"$f":"IF(AJ145=\"\",\"\",IF(AJ145=\"-\",\"\",IF($AA$5=TRUE,AJ145-1,AJ145)))","v":""},{"$f":"AN$5","v":""},{"$f":"AV5","v":""},{"$f":"IF(AH145=\"\",\"\",IF(AI145=\"\",\"\",IF(入力シート①!$H$12>=AI145,AI145,\"-\")))","v":""},8]
[null,null,null,null,null,null,null,null,null,null,null,null,null,null,null,null,null,null,null,null,null,null,null,null,null,null,null,null,null,null,null,3,{"$f":"IF(AJ146=\"\",\"\",IF(AJ146=\"-\",\"\",IF($AA$6=TRUE,AJ146-1,AJ146)))","v":""},{"$f":"AN$6","v":""},"",{"$f":"IF(AH146=\"\",\"\",IF(AI146=\"\",\"\",IF(入力シート①!$H$12>=AI146,AI146,\"-\")))","v":""},8]
[null,null,null,null,null,null,null,null,null,null,null,null,null,null,null,null,null,null,null,null,null,null,null,null,null,null,null,null,null,null,null,4,{"$f":"IF(AJ147=\"\",\"\",IF(AJ147=\"-\",\"\",IF($AA$7=TRUE,AJ147-1,AJ147)))","v":""},{"$f":"AN$7","v":""},"",{"$f":"IF(AH147=\"\",\"\",IF(AI147=\"\",\"\",IF(入力シート①!$H$12>=AI147,AI147,\"-\")))","v":""},8]
[null,null,null,null,null,null,null,null,null,null,null,null,null,null,null,null,null,null,null,null,null,null,null,null,null,null,null,null,null,null,null,5,{"$f":"IF(AJ148=\"\",\"\",IF(AJ148=\"-\",\"\",IF($AA$8=TRUE,AJ148-1,AJ148)))","v":""},{"$f":"AN$8","v":""},"",{"$f":"IF(AH148=\"\",\"\",IF(AI148=\"\",\"\",IF(入力シート①!$H$12>=AI148,AI148,\"-\")))","v":""},8]
[null,null,null,null,null,null,null,null,null,null,null,null,null,null,null,null,null,null,null,null,null,null,null,null,null,null,null,null,null,null,null,6,{"$f":"IF(AJ149=\"\",\"\",IF(AJ149=\"-\",\"\",IF($AA$9=TRUE,AJ149-1,AJ149)))","v":""},{"$f":"AN$9","v":""},"",{"$f":"IF(AH149=\"\",\"\",IF(AI149=\"\",\"\",IF(入力シート①!$H$12>=AI149,AI149,\"-\")))","v":""},8]
[null,null,null,null,null,null,null,null,null,null,null,null,null,null,null,null,null,null,null,null,null,null,null,null,null,null,null,null,null,null,null,7,{"$f":"IF(AJ150=\"\",\"\",IF(AJ150=\"-\",\"\",IF($AA$10=TRUE,AJ150-1,AJ150)))","v":""},{"$f":"AN$10","v":""},"",{"$f":"IF(AH150=\"\",\"\",IF(AI150=\"\",\"\",IF(入力シート①!$H$12>=AI150,AI150,\"-\")))","v":""},8]
[null,null,null,null,null,null,null,null,null,null,null,null,null,null,null,null,null,null,null,null,null,null,null,null,null,null,null,null,null,null,null,8,{"$f":"IF(AJ151=\"\",\"\",IF(AJ151=\"-\",\"\",IF($AA$11=TRUE,AJ151-1,AJ151)))","v":""},{"$f":"AN$11","v":""},"",{"$f":"IF(AH151=\"\",\"\",IF(AI151=\"\",\"\",IF(入力シート①!$H$12>=AI151,AI151,\"-\")))","v":""},8]
[null,null,null,null,null,null,null,null,null,null,null,null,null,null,null,null,null,null,null,null,null,null,null,null,null,null,null,null,null,null,null,9,{"$f":"IF(AJ152=\"\",\"\",IF(AJ152=\"-\",\"\",IF($AA$12=TRUE,AJ152-1,AJ152)))","v":""},{"$f":"AN$12","v":""},"",{"$f":"IF(AH152=\"\",\"\",IF(AI152=\"\",\"\",IF(入力シート①!$H$12>=AI152,AI152,\"-\")))","v":""},8]
[null,null,null,null,null,null,null,null,null,null,null,null,null,null,null,null,null,null,null,null,null,null,null,null,null,null,null,null,null,null,null,10,{"$f":"IF(AJ153=\"\",\"\",IF(AJ153=\"-\",\"\",IF($AA$13=TRUE,AJ153-1,AJ153)))","v":""},{"$f":"AN$13","v":""},"",{"$f":"IF(AH153=\"\",\"\",IF(AI153=\"\",\"\",IF(入力シート①!$H$12>=AI153,AI153,\"-\")))","v":""},8]
[null,null,null,null,null,null,null,null,null,null,null,null,null,null,null,null,null,null,null,null,null,null,null,null,null,null,null,null,null,null,null,11,{"$f":"IF(AJ154=\"\",\"\",IF(AJ154=\"-\",\"\",IF($AA$14=TRUE,AJ154-1,AJ154)))","v":""},{"$f":"AN$14","v":""},"",{"$f":"IF(AH154=\"\",\"\",IF(AI154=\"\",\"\",IF(入力シート①!$H$12>=AI154,AI154,\"-\")))","v":""},8]
[null,null,null,null,null,null,null,null,null,null,null,null,null,null,null,null,null,null,null,null,null,null,null,null,null,null,null,null,null,null,null,12,{"$f":"IF(AJ155=\"\",\"\",IF(AJ155=\"-\",\"\",IF($AA$15=TRUE,AJ155-1,AJ155)))","v":""},{"$f":"AN$15","v":""},"",{"$f":"IF(AH155=\"\",\"\",IF(AI155=\"\",\"\",IF(入力シート①!$H$12>=AI155,AI155,\"-\")))","v":""},8]
[null,null,null,null,null,null,null,null,null,null,null,null,null,null,null,null,null,null,null,null,null,null,null,null,null,null,null,null,null,null,null,13,{"$f":"IF(AJ156=\"\",\"\",IF(AJ156=\"-\",\"\",IF($AA$16=TRUE,AJ156-1,AJ156)))","v":""},{"$f":"AN$16","v":""},"",{"$f":"IF(AH156=\"\",\"\",IF(AI156=\"\",\"\",IF(入力シート①!$H$12>=AI156,AI156,\"-\")))","v":""},8]
[null,null,null,null,null,null,null,null,null,null,null,null,null,null,null,null,null,null,null,null,null,null,null,null,null,null,null,null,null,null,null,14,{"$f":"IF(AJ157=\"\",\"\",IF(AJ157=\"-\",\"\",IF($AA$17=TRUE,AJ157-1,AJ157)))","v":""},{"$f":"AN$17","v":""},"",{"$f":"IF(AH157=\"\",\"\",IF(AI157=\"\",\"\",IF(入力シート①!$H$12>=AI157,AI157,\"-\")))","v":""},8]
[null,null,null,null,null,null,null,null,null,null,null,null,null,null,null,null,null,null,null,null,null,null,null,null,null,null,null,null,null,null,null,15,{"$f":"IF(AJ158=\"\",\"\",IF(AJ158=\"-\",\"\",IF($AA$18=TRUE,AJ158-1,AJ158)))","v":""},{"$f":"AN$18","v":""},"",{"$f":"IF(AH158=\"\",\"\",IF(AI158=\"\",\"\",IF(入力シート①!$H$12>=AI158,AI158,\"-\")))","v":""},8]
[null,null,null,null,null,null,null,null,null,null,null,null,null,null,null,null,null,null,null,null,null,null,null,null,null,null,null,null,null,null,null,16,{"$f":"IF(AJ159=\"\",\"\",IF(AJ159=\"-\",\"\",IF($AA$19=TRUE,AJ159-1,AJ159)))","v":""},{"$f":"AN$19","v":""},"",{"$f":"IF(AH159=\"\",\"\",IF(AI159=\"\",\"\",IF(入力シート①!$H$12>=AI159,AI159,\"-\")))","v":""},8]
[null,null,null,null,null,null,null,null,null,null,null,null,null,null,null,null,null,null,null,null,null,null,null,null,null,null,null,null,null,null,null,17,{"$f":"IF(AJ160=\"\",\"\",IF(AJ160=\"-\",\"\",IF($AA$20=TRUE,AJ160-1,AJ160)))","v":""},{"$f":"AN$20","v":""},"",{"$f":"IF(AH160=\"\",\"\",IF(AI160=\"\",\"\",IF(入力シート①!$H$12>=AI160,AI160,\"-\")))","v":""},8]
[null,null,null,null,null,null,null,null,null,null,null,null,null,null,null,null,null,null,null,null,null,null,null,null,null,null,null,null,null,null,null,18,{"$f":"IF(AJ161=\"\",\"\",IF(AJ161=\"-\",\"\",IF($AA$21=TRUE,AJ161-1,AJ161)))","v":""},{"$f":"AN$21","v":""},"",{"$f":"IF(AH161=\"\",\"\",IF(AI161=\"\",\"\",IF(入力シート①!$H$12>=AI161,AI161,\"-\")))","v":""},8]
[null,null,null,null,null,null,null,null,null,null,null,null,null,null,null,null,null,null,null,null,null,null,null,null,null,null,null,null,null,null,null,19,{"$f":"IF(AJ162=\"\",\"\",IF(AJ162=\"-\",\"\",IF($AA$22=TRUE,AJ162-1,AJ162)))","v":""},{"$f":"AN$22","v":""},"",{"$f":"IF(AH162=\"\",\"\",IF(AI162=\"\",\"\",IF(入力シート①!$H$12>=AI162,AI162,\"-\")))","v":""},8]
[null,null,null,null,null,null,null,null,null,null,null,null,null,null,null,null,null,null,null,null,null,null,null,null,null,null,null,null,null,null,null,20,{"$f":"IF(AJ163=\"\",\"\",IF(AJ163=\"-\",\"\",IF($AA$23=TRUE,AJ163-1,AJ163)))","v":""},{"$f":"AN$23","v":""},"",{"$f":"IF(AH163=\"\",\"\",IF(AI163=\"\",\"\",IF(入力シート①!$H$12>=AI163,AI163,\"-\")))","v":""},8]
[null,null,null,null,null,null,null,null,null,null,null,null,null,null,null,null,null,null,null,null,null,null,null,null,null,null,null,null,null,null,null,1,{"$f":"IF(AJ164=\"\",\"\",IF(AJ164=\"-\",\"\",IF($AA$4=TRUE,AJ164-1,AJ164)))","v":""},{"$f":"AN$4","v":"一般財団法人航空医学研究センター"},{"$f":"AW4","v":""},{"$f":"IF(AH164=\"\",\"\",IF(AI164=\"\",\"\",IF(入力シート①!$H$12>=AI164,AI164,\"-\")))","v":""},9]
[null,null,null,null,null,null,null,null,null,null,null,null,null,null,null,null,null,null,null,null,null,null,null,null,null,null,null,null,null,null,null,2,{"$f":"IF(AJ165=\"\",\"\",IF(AJ165=\"-\",\"\",IF($AA$5=TRUE,AJ165-1,AJ165)))","v":""},{"$f":"AN$5","v":""},{"$f":"AW5","v":""},{"$f":"IF(AH165=\"\",\"\",IF(AI165=\"\",\"\",IF(入力シート①!$H$12>=AI165,AI165,\"-\")))","v":""},9]
[null,null,null,null,null,null,null,null,null,null,null,null,null,null,null,null,null,null,null,null,null,null,null,null,null,null,null,null,null,null,null,3,{"$f":"IF(AJ166=\"\",\"\",IF(AJ166=\"-\",\"\",IF($AA$6=TRUE,AJ166-1,AJ166)))","v":""},{"$f":"AN$6","v":""},"",{"$f":"IF(AH166=\"\",\"\",IF(AI166=\"\",\"\",IF(入力シート①!$H$12>=AI166,AI166,\"-\")))","v":""},9]
[null,null,null,null,null,null,null,null,null,null,null,null,null,null,null,null,null,null,null,null,null,null,null,null,null,null,null,null,null,null,null,4,{"$f":"IF(AJ167=\"\",\"\",IF(AJ167=\"-\",\"\",IF($AA$7=TRUE,AJ167-1,AJ167)))","v":""},{"$f":"AN$7","v":""},"",{"$f":"IF(AH167=\"\",\"\",IF(AI167=\"\",\"\",IF(入力シート①!$H$12>=AI167,AI167,\"-\")))","v":""},9]
[null,null,null,null,null,null,null,null,null,null,null,null,null,null,null,null,null,null,null,null,null,null,null,null,null,null,null,null,null,null,null,5,{"$f":"IF(AJ168=\"\",\"\",IF(AJ168=\"-\",\"\",IF($AA$8=TRUE,AJ168-1,AJ168)))","v":""},{"$f":"AN$8","v":""},"",{"$f":"IF(AH168=\"\",\"\",IF(AI168=\"\",\"\",IF(入力シート①!$H$12>=AI168,AI168,\"-\")))","v":""},9]
[null,null,null,null,null,null,null,null,null,null,null,null,null,null,null,null,null,null,null,null,null,null,null,null,null,null,null,null,null,null,null,6,{"$f":"IF(AJ169=\"\",\"\",IF(AJ169=\"-\",\"\",IF($AA$9=TRUE,AJ169-1,AJ169)))","v":""},{"$f":"AN$9","v":""},"",{"$f":"IF(AH169=\"\",\"\",IF(AI169=\"\",\"\",IF(入力シート①!$H$12>=AI169,AI169,\"-\")))","v":""},9]
[null,null,null,null,null,null,null,null,null,null,null,null,null,null,null,null,null,null,null,null,null,null,null,null,null,null,null,null,null,null,null,7,{"$f":"IF(AJ170=\"\",\"\",IF(AJ170=\"-\",\"\",IF($AA$10=TRUE,AJ170-1,AJ170)))","v":""},{"$f":"AN$10","v":""},"",{"$f":"IF(AH170=\"\",\"\",IF(AI170=\"\",\"\",IF(入力シート①!$H$12>=AI170,AI170,\"-\")))","v":""},9]
[null,null,null,null,null,null,null,null,null,null,null,null,null,null,null,null,null,null,null,null,null,null,null,null,null,null,null,null,null,null,null,8,{"$f":"IF(AJ171=\"\",\"\",IF(AJ171=\"-\",\"\",IF($AA$11=TRUE,AJ171-1,AJ171)))","v":""},{"$f":"AN$11","v":""},"",{"$f":"IF(AH171=\"\",\"\",IF(AI171=\"\",\"\",IF(入力シート①!$H$12>=AI171,AI171,\"-\")))","v":""},9]
[null,null,null,null,null,null,null,null,null,null,null,null,null,null,null,null,null,null,null,null,null,null,null,null,null,null,null,null,null,null,null,9,{"$f":"IF(AJ172=\"\",\"\",IF(AJ172=\"-\",\"\",IF($AA$12=TRUE,AJ172-1,AJ172)))","v":""},{"$f":"AN$12","v":""},"",{"$f":"IF(AH172=\"\",\"\",IF(AI172=\"\",\"\",IF(入力シート①!$H$12>=AI172,AI172,\"-\")))","v":""},9]
[null,null,null,null,null,null,null,null,null,null,null,null,null,null,null,null,null,null,null,null,null,null,null,null,null,null,null,null,null,null,null,10,{"$f":"IF(AJ173=\"\",\"\",IF(AJ173=\"-\",\"\",IF($AA$13=TRUE,AJ173-1,AJ173)))","v":""},{"$f":"AN$13","v":""},"",{"$f":"IF(AH173=\"\",\"\",IF(AI173=\"\",\"\",IF(入力シート①!$H$12>=AI173,AI173,\"-\")))","v":""},9]
[null,null,null,null,null,null,null,null,null,null,null,null,null,null,null,null,null,null,null,null,null,null,null,null,null,null,null,null,null,null,null,11,{"$f":"IF(AJ174=\"\",\"\",IF(AJ174=\"-\",\"\",IF($AA$14=TRUE,AJ174-1,AJ174)))","v":""},{"$f":"AN$14","v":""},"",{"$f":"IF(AH174=\"\",\"\",IF(AI174=\"\",\"\",IF(入力シート①!$H$12>=AI174,AI174,\"-\")))","v":""},9]
[null,null,null,null,null,null,null,null,null,null,null,null,null,null,null,null,null,null,null,null,null,null,null,null,null,null,null,null,null,null,null,12,{"$f":"IF(AJ175=\"\",\"\",IF(AJ175=\"-\",\"\",IF($AA$15=TRUE,AJ175-1,AJ175)))","v":""},{"$f":"AN$15","v":""},"",{"$f":"IF(AH175=\"\",\"\",IF(AI175=\"\",\"\",IF(入力シート①!$H$12>=AI175,AI175,\"-\")))","v":""},9]
[null,null,null,null,null,null,null,null,null,null,null,null,null,null,null,null,null,null,null,null,null,null,null,null,null,null,null,null,null,null,null,13,{"$f":"IF(AJ176=\"\",\"\",IF(AJ176=\"-\",\"\",IF($AA$16=TRUE,AJ176-1,AJ176)))","v":""},{"$f":"AN$16","v":""},"",{"$f":"IF(AH176=\"\",\"\",IF(AI176=\"\",\"\",IF(入力シート①!$H$12>=AI176,AI176,\"-\")))","v":""},9]
[null,null,null,null,null,null,null,null,null,null,null,null,null,null,null,null,null,null,null,null,null,null,null,null,null,null,null,null,null,null,null,14,{"$f":"IF(AJ177=\"\",\"\",IF(AJ177=\"-\",\"\",IF($AA$17=TRUE,AJ177-1,AJ177)))","v":""},{"$f":"AN$17","v":""},"",{"$f":"IF(AH177=\"\",\"\",IF(AI177=\"\",\"\",IF(入力シート①!$H$12>=AI177,AI177,\"-\")))","v":""},9]
[null,null,null,null,null,null,null,null,null,null,null,null,null,null,null,null,null,null,null,null,null,null,null,null,null,null,null,null,null,null,null,15,{"$f":"IF(AJ178=\"\",\"\",IF(AJ178=\"-\",\"\",IF($AA$18=TRUE,AJ178-1,AJ178)))","v":""},{"$f":"AN$18","v":""},"",{"$f":"IF(AH178=\"\",\"\",IF(AI178=\"\",\"\",IF(入力シート①!$H$12>=AI178,AI178,\"-\")))","v":""},9]
[null,null,null,null,null,null,null,null,null,null,null,null,null,null,null,null,null,null,null,null,null,null,null,null,null,null,null,null,null,null,null,16,{"$f":"IF(AJ179=\"\",\"\",IF(AJ179=\"-\",\"\",IF($AA$19=TRUE,AJ179-1,AJ179)))","v":""},{"$f":"AN$19","v":""},"",{"$f":"IF(AH179=\"\",\"\",IF(AI179=\"\",\"\",IF(入力シート①!$H$12>=AI179,AI179,\"-\")))","v":""},9]
[null,null,null,null,null,null,null,null,null,null,null,null,null,null,null,null,null,null,null,null,null,null,null,null,null,null,null,null,null,null,null,17,{"$f":"IF(AJ180=\"\",\"\",IF(AJ180=\"-\",\"\",IF($AA$20=TRUE,AJ180-1,AJ180)))","v":""},{"$f":"AN$20","v":""},"",{"$f":"IF(AH180=\"\",\"\",IF(AI180=\"\",\"\",IF(入力シート①!$H$12>=AI180,AI180,\"-\")))","v":""},9]
[null,null,null,null,null,null,null,null,null,null,null,null,null,null,null,null,null,null,null,null,null,null,null,null,null,null,null,null,null,null,null,18,{"$f":"IF(AJ181=\"\",\"\",IF(AJ181=\"-\",\"\",IF($AA$21=TRUE,AJ181-1,AJ181)))","v":""},{"$f":"AN$21","v":""},"",{"$f":"IF(AH181=\"\",\"\",IF(AI181=\"\",\"\",IF(入力シート①!$H$12>=AI181,AI181,\"-\")))","v":""},9]
[null,null,null,null,null,null,null,null,null,null,null,null,null,null,null,null,null,null,null,null,null,null,null,null,null,null,null,null,null,null,null,19,{"$f":"IF(AJ182=\"\",\"\",IF(AJ182=\"-\",\"\",IF($AA$22=TRUE,AJ182-1,AJ182)))","v":""},{"$f":"AN$22","v":""},"",{"$f":"IF(AH182=\"\",\"\",IF(AI182=\"\",\"\",IF(入力シート①!$H$12>=AI182,AI182,\"-\")))","v":""},9]
[null,null,null,null,null,null,null,null,null,null,null,null,null,null,null,null,null,null,null,null,null,null,null,null,null,null,null,null,null,null,null,20,{"$f":"IF(AJ183=\"\",\"\",IF(AJ183=\"-\",\"\",IF($AA$23=TRUE,AJ183-1,AJ183)))","v":""},{"$f":"AN$23","v":""},"",{"$f":"IF(AH183=\"\",\"\",IF(AI183=\"\",\"\",IF(入力シート①!$H$12>=AI183,AI183,\"-\")))","v":""},9]
[null,null,null,null,null,null,null,null,null,null,null,null,null,null,null,null,null,null,null,null,null,null,null,null,null,null,null,null,null,null,null,1,{"$f":"IF(AJ184=\"\",\"\",IF(AJ184=\"-\",\"\",IF($AA$4=TRUE,AJ184-1,AJ184)))","v":""},{"$f":"AN$4","v":"一般財団法人航空医学研究センター"},{"$f":"AX4","v":""},{"$f":"IF(AH184=\"\",\"\",IF(AI184=\"\",\"\",IF(入力シート①!$H$12>=AI184,AI184,\"-\")))","v":""},10]
[null,null,null,null,null,null,null,null,null,null,null,null,null,null,null,null,null,null,null,null,null,null,null,null,null,null,null,null,null,null,null,2,{"$f":"IF(AJ185=\"\",\"\",IF(AJ185=\"-\",\"\",IF($AA$5=TRUE,AJ185-1,AJ185)))","v":""},{"$f":"AN$5","v":""},{"$f":"AX5","v":""},{"$f":"IF(AH185=\"\",\"\",IF(AI185=\"\",\"\",IF(入力シート①!$H$12>=AI185,AI185,\"-\")))","v":""},10]
[null,null,null,null,null,null,null,null,null,null,null,null,null,null,null,null,null,null,null,null,null,null,null,null,null,null,null,null,null,null,null,3,{"$f":"IF(AJ186=\"\",\"\",IF(AJ186=\"-\",\"\",IF($AA$6=TRUE,AJ186-1,AJ186)))","v":""},{"$f":"AN$6","v":""},"",{"$f":"IF(AH186=\"\",\"\",IF(AI186=\"\",\"\",IF(入力シート①!$H$12>=AI186,AI186,\"-\")))","v":""},10]
[null,null,null,null,null,null,null,null,null,null,null,null,null,null,null,null,null,null,null,null,null,null,null,null,null,null,null,null,null,null,null,4,{"$f":"IF(AJ187=\"\",\"\",IF(AJ187=\"-\",\"\",IF($AA$7=TRUE,AJ187-1,AJ187)))","v":""},{"$f":"AN$7","v":""},"",{"$f":"IF(AH187=\"\",\"\",IF(AI187=\"\",\"\",IF(入力シート①!$H$12>=AI187,AI187,\"-\")))","v":""},10]
[null,null,null,null,null,null,null,null,null,null,null,null,null,null,null,null,null,null,null,null,null,null,null,null,null,null,null,null,null,null,null,5,{"$f":"IF(AJ188=\"\",\"\",IF(AJ188=\"-\",\"\",IF($AA$8=TRUE,AJ188-1,AJ188)))","v":""},{"$f":"AN$8","v":""},"",{"$f":"IF(AH188=\"\",\"\",IF(AI188=\"\",\"\",IF(入力シート①!$H$12>=AI188,AI188,\"-\")))","v":""},10]
[null,null,null,null,null,null,null,null,null,null,null,null,null,null,null,null,null,null,null,null,null,null,null,null,null,null,null,null,null,null,null,6,{"$f":"IF(AJ189=\"\",\"\",IF(AJ189=\"-\",\"\",IF($AA$9=TRUE,AJ189-1,AJ189)))","v":""},{"$f":"AN$9","v":""},"",{"$f":"IF(AH189=\"\",\"\",IF(AI189=\"\",\"\",IF(入力シート①!$H$12>=AI189,AI189,\"-\")))","v":""},10]
[null,null,null,null,null,null,null,null,null,null,null,null,null,null,null,null,null,null,null,null,null,null,null,null,null,null,null,null,null,null,null,7,{"$f":"IF(AJ190=\"\",\"\",IF(AJ190=\"-\",\"\",IF($AA$10=TRUE,AJ190-1,AJ190)))","v":""},{"$f":"AN$10","v":""},"",{"$f":"IF(AH190=\"\",\"\",IF(AI190=\"\",\"\",IF(入力シート①!$H$12>=AI190,AI190,\"-\")))","v":""},10]
[null,null,null,null,null,null,null,null,null,null,null,null,null,null,null,null,null,null,null,null,null,null,null,null,null,null,null,null,null,null,null,8,{"$f":"IF(AJ191=\"\",\"\",IF(AJ191=\"-\",\"\",IF($AA$11=TRUE,AJ191-1,AJ191)))","v":""},{"$f":"AN$11","v":""},"",{"$f":"IF(AH191=\"\",\"\",IF(AI191=\"\",\"\",IF(入力シート①!$H$12>=AI191,AI191,\"-\")))","v":""},10]
[null,null,null,null,null,null,null,null,null,null,null,null,null,null,null,null,null,null,null,null,null,null,null,null,null,null,null,null,null,null,null,9,{"$f":"IF(AJ192=\"\",\"\",IF(AJ192=\"-\",\"\",IF($AA$12=TRUE,AJ192-1,AJ192)))","v":""},{"$f":"AN$12","v":""},"",{"$f":"IF(AH192=\"\",\"\",IF(AI192=\"\",\"\",IF(入力シート①!$H$12>=AI192,AI192,\"-\")))","v":""},10]
[null,null,null,null,null,null,null,null,null,null,null,null,null,null,null,null,null,null,null,null,null,null,null,null,null,null,null,null,null,null,null,10,{"$f":"IF(AJ193=\"\",\"\",IF(AJ193=\"-\",\"\",IF($AA$13=TRUE,AJ193-1,AJ193)))","v":""},{"$f":"AN$13","v":""},"",{"$f":"IF(AH193=\"\",\"\",IF(AI193=\"\",\"\",IF(入力シート①!$H$12>=AI193,AI193,\"-\")))","v":""},10]
[null,null,null,null,null,null,null,null,null,null,null,null,null,null,null,null,null,null,null,null,null,null,null,null,null,null,null,null,null,null,null,11,{"$f":"IF(AJ194=\"\",\"\",IF(AJ194=\"-\",\"\",IF($AA$14=TRUE,AJ194-1,AJ194)))","v":""},{"$f":"AN$14","v":""},"",{"$f":"IF(AH194=\"\",\"\",IF(AI194=\"\",\"\",IF(入力シート①!$H$12>=AI194,AI194,\"-\")))","v":""},10]
[null,null,null,null,null,null,null,null,null,null,null,null,null,null,null,null,null,null,null,null,null,null,null,null,null,null,null,null,null,null,null,12,{"$f":"IF(AJ195=\"\",\"\",IF(AJ195=\"-\",\"\",IF($AA$15=TRUE,AJ195-1,AJ195)))","v":""},{"$f":"AN$15","v":""},"",{"$f":"IF(AH195=\"\",\"\",IF(AI195=\"\",\"\",IF(入力シート①!$H$12>=AI195,AI195,\"-\")))","v":""},10]
[null,null,null,null,null,null,null,null,null,null,null,null,null,null,null,null,null,null,null,null,null,null,null,null,null,null,null,null,null,null,null,13,{"$f":"IF(AJ196=\"\",\"\",IF(AJ196=\"-\",\"\",IF($AA$16=TRUE,AJ196-1,AJ196)))","v":""},{"$f":"AN$16","v":""},"",{"$f":"IF(AH196=\"\",\"\",IF(AI196=\"\",\"\",IF(入力シート①!$H$12>=AI196,AI196,\"-\")))","v":""},10]
[null,null,null,null,null,null,null,null,null,null,null,null,null,null,null,null,null,null,null,null,null,null,null,null,null,null,null,null,null,null,null,14,{"$f":"IF(AJ197=\"\",\"\",IF(AJ197=\"-\",\"\",IF($AA$17=TRUE,AJ197-1,AJ197)))","v":""},{"$f":"AN$17","v":""},"",{"$f":"IF(AH197=\"\",\"\",IF(AI197=\"\",\"\",IF(入力シート①!$H$12>=AI197,AI197,\"-\")))","v":""},10]
[null,null,null,null,null,null,null,null,null,null,null,null,null,null,null,null,null,null,null,null,null,null,null,null,null,null,null,null,null,null,null,15,{"$f":"IF(AJ198=\"\",\"\",IF(AJ198=\"-\",\"\",IF($AA$18=TRUE,AJ198-1,AJ198)))","v":""},{"$f":"AN$18","v":""},"",{"$f":"IF(AH198=\"\",\"\",IF(AI198=\"\",\"\",IF(入力シート①!$H$12>=AI198,AI198,\"-\")))","v":""},10]
[null,null,null,null,null,null,null,null,null,null,null,null,null,null,null,null,null,null,null,null,null,null,null,null,null,null,null,null,null,null,null,16,{"$f":"IF(AJ199=\"\",\"\",IF(AJ199=\"-\",\"\",IF($AA$19=TRUE,AJ199-1,AJ199)))","v":""},{"$f":"AN$19","v":""},"",{"$f":"IF(AH199=\"\",\"\",IF(AI199=\"\",\"\",IF(入力シート①!$H$12>=AI199,AI199,\"-\")))","v":""},10]
[null,null,null,null,null,null,null,null,null,null,null,null,null,null,null,null,null,null,null,null,null,null,null,null,null,null,null,null,null,null,null,17,{"$f":"IF(AJ200=\"\",\"\",IF(AJ200=\"-\",\"\",IF($AA$20=TRUE,AJ200-1,AJ200)))","v":""},{"$f":"AN$20","v":""},"",{"$f":"IF(AH200=\"\",\"\",IF(AI200=\"\",\"\",IF(入力シート①!$H$12>=AI200,AI200,\"-\")))","v":""},10]
[null,null,null,null,null,null,null,null,null,null,null,null,null,null,null,null,null,null,null,null,null,null,null,null,null,null,null,null,null,null,null,18,{"$f":"IF(AJ201=\"\",\"\",IF(AJ201=\"-\",\"\",IF($AA$21=TRUE,AJ201-1,AJ201)))","v":""},{"$f":"AN$21","v":""},"",{"$f":"IF(AH201=\"\",\"\",IF(AI201=\"\",\"\",IF(入力シート①!$H$12>=AI201,AI201,\"-\")))","v":""},10]
[null,null,null,null,null,null,null,null,null,null,null,null,null,null,null,null,null,null,null,null,null,null,null,null,null,null,null,null,null,null,null,19,{"$f":"IF(AJ202=\"\",\"\",IF(AJ202=\"-\",\"\",IF($AA$22=TRUE,AJ202-1,AJ202)))","v":""},{"$f":"AN$22","v":""},"",{"$f":"IF(AH202=\"\",\"\",IF(AI202=\"\",\"\",IF(入力シート①!$H$12>=AI202,AI202,\"-\")))","v":""},10]
[null,null,null,null,null,null,null,null,null,null,null,null,null,null,null,null,null,null,null,null,null,null,null,null,null,null,null,null,null,null,null,20,{"$f":"IF(AJ203=\"\",\"\",IF(AJ203=\"-\",\"\",IF($AA$23=TRUE,AJ203-1,AJ203)))","v":""},{"$f":"AN$23","v":""},"",{"$f":"IF(AH203=\"\",\"\",IF(AI203=\"\",\"\",IF(入力シート①!$H$12>=AI203,AI203,\"-\")))","v":""},10]
[null,null,null,null,null,null,null,null,null,null,null,null,null,null,null,null,null,null,null,null,null,null,null,null,null,null,null,null,null,null,null,1,{"$f":"IF(AJ204=\"\",\"\",IF(AJ204=\"-\",\"\",IF($AA$4=TRUE,AJ204-1,AJ204)))","v":""},{"$f":"AN$4","v":"一般財団法人航空医学研究センター"},{"$f":"AY4","v":""},{"$f":"IF(AH204=\"\",\"\",IF(AI204=\"\",\"\",IF(入力シート①!$H$12>=AI204,AI204,\"-\")))","v":""},11]
[null,null,null,null,null,null,null,null,null,null,null,null,null,null,null,null,null,null,null,null,null,null,null,null,null,null,null,null,null,null,null,2,{"$f":"IF(AJ205=\"\",\"\",IF(AJ205=\"-\",\"\",IF($AA$5=TRUE,AJ205-1,AJ205)))","v":""},{"$f":"AN$5","v":""},{"$f":"AY5","v":""},{"$f":"IF(AH205=\"\",\"\",IF(AI205=\"\",\"\",IF(入力シート①!$H$12>=AI205,AI205,\"-\")))","v":""},11]
[null,null,null,null,null,null,null,null,null,null,null,null,null,null,null,null,null,null,null,null,null,null,null,null,null,null,null,null,null,null,null,3,{"$f":"IF(AJ206=\"\",\"\",IF(AJ206=\"-\",\"\",IF($AA$6=TRUE,AJ206-1,AJ206)))","v":""},{"$f":"AN$6","v":""},"",{"$f":"IF(AH206=\"\",\"\",IF(AI206=\"\",\"\",IF(入力シート①!$H$12>=AI206,AI206,\"-\")))","v":""},11]
[null,null,null,null,null,null,null,null,null,null,null,null,null,null,null,null,null,null,null,null,null,null,null,null,null,null,null,null,null,null,null,4,{"$f":"IF(AJ207=\"\",\"\",IF(AJ207=\"-\",\"\",IF($AA$7=TRUE,AJ207-1,AJ207)))","v":""},{"$f":"AN$7","v":""},"",{"$f":"IF(AH207=\"\",\"\",IF(AI207=\"\",\"\",IF(入力シート①!$H$12>=AI207,AI207,\"-\")))","v":""},11]
[null,null,null,null,null,null,null,null,null,null,null,null,null,null,null,null,null,null,null,null,null,null,null,null,null,null,null,null,null,null,null,5,{"$f":"IF(AJ208=\"\",\"\",IF(AJ208=\"-\",\"\",IF($AA$8=TRUE,AJ208-1,AJ208)))","v":""},{"$f":"AN$8","v":""},"",{"$f":"IF(AH208=\"\",\"\",IF(AI208=\"\",\"\",IF(入力シート①!$H$12>=AI208,AI208,\"-\")))","v":""},11]
[null,null,null,null,null,null,null,null,null,null,null,null,null,null,null,null,null,null,null,null,null,null,null,null,null,null,null,null,null,null,null,6,{"$f":"IF(AJ209=\"\",\"\",IF(AJ209=\"-\",\"\",IF($AA$9=TRUE,AJ209-1,AJ209)))","v":""},{"$f":"AN$9","v":""},"",{"$f":"IF(AH209=\"\",\"\",IF(AI209=\"\",\"\",IF(入力シート①!$H$12>=AI209,AI209,\"-\")))","v":""},11]
[null,null,null,null,null,null,null,null,null,null,null,null,null,null,null,null,null,null,null,null,null,null,null,null,null,null,null,null,null,null,null,7,{"$f":"IF(AJ210=\"\",\"\",IF(AJ210=\"-\",\"\",IF($AA$10=TRUE,AJ210-1,AJ210)))","v":""},{"$f":"AN$10","v":""},"",{"$f":"IF(AH210=\"\",\"\",IF(AI210=\"\",\"\",IF(入力シート①!$H$12>=AI210,AI210,\"-\")))","v":""},11]
[null,null,null,null,null,null,null,null,null,null,null,null,null,null,null,null,null,null,null,null,null,null,null,null,null,null,null,null,null,null,null,8,{"$f":"IF(AJ211=\"\",\"\",IF(AJ211=\"-\",\"\",IF($AA$11=TRUE,AJ211-1,AJ211)))","v":""},{"$f":"AN$11","v":""},"",{"$f":"IF(AH211=\"\",\"\",IF(AI211=\"\",\"\",IF(入力シート①!$H$12>=AI211,AI211,\"-\")))","v":""},11]
[null,null,null,null,null,null,null,null,null,null,null,null,null,null,null,null,null,null,null,null,null,null,null,null,null,null,null,null,null,null,null,9,{"$f":"IF(AJ212=\"\",\"\",IF(AJ212=\"-\",\"\",IF($AA$12=TRUE,AJ212-1,AJ212)))","v":""},{"$f":"AN$12","v":""},"",{"$f":"IF(AH212=\"\",\"\",IF(AI212=\"\",\"\",IF(入力シート①!$H$12>=AI212,AI212,\"-\")))","v":""},11]
[null,null,null,null,null,null,null,null,null,null,null,null,null,null,null,null,null,null,null,null,null,null,null,null,null,null,null,null,null,null,null,10,{"$f":"IF(AJ213=\"\",\"\",IF(AJ213=\"-\",\"\",IF($AA$13=TRUE,AJ213-1,AJ213)))","v":""},{"$f":"AN$13","v":""},"",{"$f":"IF(AH213=\"\",\"\",IF(AI213=\"\",\"\",IF(入力シート①!$H$12>=AI213,AI213,\"-\")))","v":""},11]
[null,null,null,null,null,null,null,null,null,null,null,null,null,null,null,null,null,null,null,null,null,null,null,null,null,null,null,null,null,null,null,11,{"$f":"IF(AJ214=\"\",\"\",IF(AJ214=\"-\",\"\",IF($AA$14=TRUE,AJ214-1,AJ214)))","v":""},{"$f":"AN$14","v":""},"",{"$f":"IF(AH214=\"\",\"\",IF(AI214=\"\",\"\",IF(入力シート①!$H$12>=AI214,AI214,\"-\")))","v":""},11]
[null,null,null,null,null,null,null,null,null,null,null,null,null,null,null,null,null,null,null,null,null,null,null,null,null,null,null,null,null,null,null,12,{"$f":"IF(AJ215=\"\",\"\",IF(AJ215=\"-\",\"\",IF($AA$15=TRUE,AJ215-1,AJ215)))","v":""},{"$f":"AN$15","v":""},"",{"$f":"IF(AH215=\"\",\"\",IF(AI215=\"\",\"\",IF(入力シート①!$H$12>=AI215,AI215,\"-\")))","v":""},11]
[null,null,null,null,null,null,null,null,null,null,null,null,null,null,null,null,null,null,null,null,null,null,null,null,null,null,null,null,null,null,null,13,{"$f":"IF(AJ216=\"\",\"\",IF(AJ216=\"-\",\"\",IF($AA$16=TRUE,AJ216-1,AJ216)))","v":""},{"$f":"AN$16","v":""},"",{"$f":"IF(AH216=\"\",\"\",IF(AI216=\"\",\"\",IF(入力シート①!$H$12>=AI216,AI216,\"-\")))","v":""},11]
[null,null,null,null,null,null,null,null,null,null,null,null,null,null,null,null,null,null,null,null,null,null,null,null,null,null,null,null,null,null,null,14,{"$f":"IF(AJ217=\"\",\"\",IF(AJ217=\"-\",\"\",IF($AA$17=TRUE,AJ217-1,AJ217)))","v":""},{"$f":"AN$17","v":""},"",{"$f":"IF(AH217=\"\",\"\",IF(AI217=\"\",\"\",IF(入力シート①!$H$12>=AI217,AI217,\"-\")))","v":""},11]
[null,null,null,null,null,null,null,null,null,null,null,null,null,null,null,null,null,null,null,null,null,null,null,null,null,null,null,null,null,null,null,15,{"$f":"IF(AJ218=\"\",\"\",IF(AJ218=\"-\",\"\",IF($AA$18=TRUE,AJ218-1,AJ218)))","v":""},{"$f":"AN$18","v":""},"",{"$f":"IF(AH218=\"\",\"\",IF(AI218=\"\",\"\",IF(入力シート①!$H$12>=AI218,AI218,\"-\")))","v":""},11]
[null,null,null,null,null,null,null,null,null,null,null,null,null,null,null,null,null,null,null,null,null,null,null,null,null,null,null,null,null,null,null,16,{"$f":"IF(AJ219=\"\",\"\",IF(AJ219=\"-\",\"\",IF($AA$19=TRUE,AJ219-1,AJ219)))","v":""},{"$f":"AN$19","v":""},"",{"$f":"IF(AH219=\"\",\"\",IF(AI219=\"\",\"\",IF(入力シート①!$H$12>=AI219,AI219,\"-\")))","v":""},11]
[null,null,null,null,null,null,null,null,null,null,null,null,null,null,null,null,null,null,null,null,null,null,null,null,null,null,null,null,null,null,null,17,{"$f":"IF(AJ220=\"\",\"\",IF(AJ220=\"-\",\"\",IF($AA$20=TRUE,AJ220-1,AJ220)))","v":""},{"$f":"AN$20","v":""},"",{"$f":"IF(AH220=\"\",\"\",IF(AI220=\"\",\"\",IF(入力シート①!$H$12>=AI220,AI220,\"-\")))","v":""},11]
[null,null,null,null,null,null,null,null,null,null,null,null,null,null,null,null,null,null,null,null,null,null,null,null,null,null,null,null,null,null,null,18,{"$f":"IF(AJ221=\"\",\"\",IF(AJ221=\"-\",\"\",IF($AA$21=TRUE,AJ221-1,AJ221)))","v":""},{"$f":"AN$21","v":""},"",{"$f":"IF(AH221=\"\",\"\",IF(AI221=\"\",\"\",IF(入力シート①!$H$12>=AI221,AI221,\"-\")))","v":""},11]
[null,null,null,null,null,null,null,null,null,null,null,null,null,null,null,null,null,null,null,null,null,null,null,null,null,null,null,null,null,null,null,19,{"$f":"IF(AJ222=\"\",\"\",IF(AJ222=\"-\",\"\",IF($AA$22=TRUE,AJ222-1,AJ222)))","v":""},{"$f":"AN$22","v":""},"",{"$f":"IF(AH222=\"\",\"\",IF(AI222=\"\",\"\",IF(入力シート①!$H$12>=AI222,AI222,\"-\")))","v":""},11]
[null,null,null,null,null,null,null,null,null,null,null,null,null,null,null,null,null,null,null,null,null,null,null,null,null,null,null,null,null,null,null,20,{"$f":"IF(AJ223=\"\",\"\",IF(AJ223=\"-\",\"\",IF($AA$23=TRUE,AJ223-1,AJ223)))","v":""},{"$f":"AN$23","v":""},"",{"$f":"IF(AH223=\"\",\"\",IF(AI223=\"\",\"\",IF(入力シート①!$H$12>=AI223,AI223,\"-\")))","v":""},11]
[null,null,null,null,null,null,null,null,null,null,null,null,null,null,null,null,null,null,null,null,null,null,null,null,null,null,null,null,null,null,null,1,{"$f":"IF(AJ224=\"\",\"\",IF(AJ224=\"-\",\"\",IF($AA$4=TRUE,AJ224-1,AJ224)))","v":""},{"$f":"AN$4","v":"一般財団法人航空医学研究センター"},{"$f":"AZ4","v":""},{"$f":"IF(AH224=\"\",\"\",IF(AI224=\"\",\"\",IF(入力シート①!$H$12>=AI224,AI224,\"-\")))","v":""},12]
[null,null,null,null,null,null,null,null,null,null,null,null,null,null,null,null,null,null,null,null,null,null,null,null,null,null,null,null,null,null,null,2,{"$f":"IF(AJ225=\"\",\"\",IF(AJ225=\"-\",\"\",IF($AA$5=TRUE,AJ225-1,AJ225)))","v":""},{"$f":"AN$5","v":""},{"$f":"AZ5","v":""},{"$f":"IF(AH225=\"\",\"\",IF(AI225=\"\",\"\",IF(入力シート①!$H$12>=AI225,AI225,\"-\")))","v":""},12]
[null,null,null,null,null,null,null,null,null,null,null,null,null,null,null,null,null,null,null,null,null,null,null,null,null,null,null,null,null,null,null,3,{"$f":"IF(AJ226=\"\",\"\",IF(AJ226=\"-\",\"\",IF($AA$6=TRUE,AJ226-1,AJ226)))","v":""},{"$f":"AN$6","v":""},"",{"$f":"IF(AH226=\"\",\"\",IF(AI226=\"\",\"\",IF(入力シート①!$H$12>=AI226,AI226,\"-\")))","v":""},12]
[null,null,null,null,null,null,null,null,null,null,null,null,null,null,null,null,null,null,null,null,null,null,null,null,null,null,null,null,null,null,null,4,{"$f":"IF(AJ227=\"\",\"\",IF(AJ227=\"-\",\"\",IF($AA$7=TRUE,AJ227-1,AJ227)))","v":""},{"$f":"AN$7","v":""},"",{"$f":"IF(AH227=\"\",\"\",IF(AI227=\"\",\"\",IF(入力シート①!$H$12>=AI227,AI227,\"-\")))","v":""},12]
[null,null,null,null,null,null,null,null,null,null,null,null,null,null,null,null,null,null,null,null,null,null,null,null,null,null,null,null,null,null,null,5,{"$f":"IF(AJ228=\"\",\"\",IF(AJ228=\"-\",\"\",IF($AA$8=TRUE,AJ228-1,AJ228)))","v":""},{"$f":"AN$8","v":""},"",{"$f":"IF(AH228=\"\",\"\",IF(AI228=\"\",\"\",IF(入力シート①!$H$12>=AI228,AI228,\"-\")))","v":""},12]
[null,null,null,null,null,null,null,null,null,null,null,null,null,null,null,null,null,null,null,null,null,null,null,null,null,null,null,null,null,null,null,6,{"$f":"IF(AJ229=\"\",\"\",IF(AJ229=\"-\",\"\",IF($AA$9=TRUE,AJ229-1,AJ229)))","v":""},{"$f":"AN$9","v":""},"",{"$f":"IF(AH229=\"\",\"\",IF(AI229=\"\",\"\",IF(入力シート①!$H$12>=AI229,AI229,\"-\")))","v":""},12]
[null,null,null,null,null,null,null,null,null,null,null,null,null,null,null,null,null,null,null,null,null,null,null,null,null,null,null,null,null,null,null,7,{"$f":"IF(AJ230=\"\",\"\",IF(AJ230=\"-\",\"\",IF($AA$10=TRUE,AJ230-1,AJ230)))","v":""},{"$f":"AN$10","v":""},"",{"$f":"IF(AH230=\"\",\"\",IF(AI230=\"\",\"\",IF(入力シート①!$H$12>=AI230,AI230,\"-\")))","v":""},12]
[null,null,null,null,null,null,null,null,null,null,null,null,null,null,null,null,null,null,null,null,null,null,null,null,null,null,null,null,null,null,null,8,{"$f":"IF(AJ231=\"\",\"\",IF(AJ231=\"-\",\"\",IF($AA$11=TRUE,AJ231-1,AJ231)))","v":""},{"$f":"AN$11","v":""},"",{"$f":"IF(AH231=\"\",\"\",IF(AI231=\"\",\"\",IF(入力シート①!$H$12>=AI231,AI231,\"-\")))","v":""},12]
[null,null,null,null,null,null,null,null,null,null,null,null,null,null,null,null,null,null,null,null,null,null,null,null,null,null,null,null,null,null,null,9,{"$f":"IF(AJ232=\"\",\"\",IF(AJ232=\"-\",\"\",IF($AA$12=TRUE,AJ232-1,AJ232)))","v":""},{"$f":"AN$12","v":""},"",{"$f":"IF(AH232=\"\",\"\",IF(AI232=\"\",\"\",IF(入力シート①!$H$12>=AI232,AI232,\"-\")))","v":""},12]
[null,null,null,null,null,null,null,null,null,null,null,null,null,null,null,null,null,null,null,null,null,null,null,null,null,null,null,null,null,null,null,10,{"$f":"IF(AJ233=\"\",\"\",IF(AJ233=\"-\",\"\",IF($AA$13=TRUE,AJ233-1,AJ233)))","v":""},{"$f":"AN$13","v":""},"",{"$f":"IF(AH233=\"\",\"\",IF(AI233=\"\",\"\",IF(入力シート①!$H$12>=AI233,AI233,\"-\")))","v":""},12]
[null,null,null,null,null,null,null,null,null,null,null,null,null,null,null,null,null,null,null,null,null,null,null,null,null,null,null,null,null,null,null,11,{"$f":"IF(AJ234=\"\",\"\",IF(AJ234=\"-\",\"\",IF($AA$14=TRUE,AJ234-1,AJ234)))","v":""},{"$f":"AN$14","v":""},"",{"$f":"IF(AH234=\"\",\"\",IF(AI234=\"\",\"\",IF(入力シート①!$H$12>=AI234,AI234,\"-\")))","v":""},12]
[null,null,null,null,null,null,null,null,null,null,null,null,null,null,null,null,null,null,null,null,null,null,null,null,null,null,null,null,null,null,null,12,{"$f":"IF(AJ235=\"\",\"\",IF(AJ235=\"-\",\"\",IF($AA$15=TRUE,AJ235-1,AJ235)))","v":""},{"$f":"AN$15","v":""},"",{"$f":"IF(AH235=\"\",\"\",IF(AI235=\"\",\"\",IF(入力シート①!$H$12>=AI235,AI235,\"-\")))","v":""},12]
[null,null,null,null,null,null,null,null,null,null,null,null,null,null,null,null,null,null,null,null,null,null,null,null,null,null,null,null,null,null,null,13,{"$f":"IF(AJ236=\"\",\"\",IF(AJ236=\"-\",\"\",IF($AA$16=TRUE,AJ236-1,AJ236)))","v":""},{"$f":"AN$16","v":""},"",{"$f":"IF(AH236=\"\",\"\",IF(AI236=\"\",\"\",IF(入力シート①!$H$12>=AI236,AI236,\"-\")))","v":""},12]
[null,null,null,null,null,null,null,null,null,null,null,null,null,null,null,null,null,null,null,null,null,null,null,null,null,null,null,null,null,null,null,14,{"$f":"IF(AJ237=\"\",\"\",IF(AJ237=\"-\",\"\",IF($AA$17=TRUE,AJ237-1,AJ237)))","v":""},{"$f":"AN$17","v":""},"",{"$f":"IF(AH237=\"\",\"\",IF(AI237=\"\",\"\",IF(入力シート①!$H$12>=AI237,AI237,\"-\")))","v":""},12]
[null,null,null,null,null,null,null,null,null,null,null,null,null,null,null,null,null,null,null,null,null,null,null,null,null,null,null,null,null,null,null,15,{"$f":"IF(AJ238=\"\",\"\",IF(AJ238=\"-\",\"\",IF($AA$18=TRUE,AJ238-1,AJ238)))","v":""},{"$f":"AN$18","v":""},"",{"$f":"IF(AH238=\"\",\"\",IF(AI238=\"\",\"\",IF(入力シート①!$H$12>=AI238,AI238,\"-\")))","v":""},12]
[null,null,null,null,null,null,null,null,null,null,null,null,null,null,null,null,null,null,null,null,null,null,null,null,null,null,null,null,null,null,null,16,{"$f":"IF(AJ239=\"\",\"\",IF(AJ239=\"-\",\"\",IF($AA$19=TRUE,AJ239-1,AJ239)))","v":""},{"$f":"AN$19","v":""},"",{"$f":"IF(AH239=\"\",\"\",IF(AI239=\"\",\"\",IF(入力シート①!$H$12>=AI239,AI239,\"-\")))","v":""},12]
[null,null,null,null,null,null,null,null,null,null,null,null,null,null,null,null,null,null,null,null,null,null,null,null,null,null,null,null,null,null,null,17,{"$f":"IF(AJ240=\"\",\"\",IF(AJ240=\"-\",\"\",IF($AA$20=TRUE,AJ240-1,AJ240)))","v":""},{"$f":"AN$20","v":""},"",{"$f":"IF(AH240=\"\",\"\",IF(AI240=\"\",\"\",IF(入力シート①!$H$12>=AI240,AI240,\"-\")))","v":""},12]
[null,null,null,null,null,null,null,null,null,null,null,null,null,null,null,null,null,null,null,null,null,null,null,null,null,null,null,null,null,null,null,18,{"$f":"IF(AJ241=\"\",\"\",IF(AJ241=\"-\",\"\",IF($AA$21=TRUE,AJ241-1,AJ241)))","v":""},{"$f":"AN$21","v":""},"",{"$f":"IF(AH241=\"\",\"\",IF(AI241=\"\",\"\",IF(入力シート①!$H$12>=AI241,AI241,\"-\")))","v":""},12]
[null,null,null,null,null,null,null,null,null,null,null,null,null,null,null,null,null,null,null,null,null,null,null,null,null,null,null,null,null,null,null,19,{"$f":"IF(AJ242=\"\",\"\",IF(AJ242=\"-\",\"\",IF($AA$22=TRUE,AJ242-1,AJ242)))","v":""},{"$f":"AN$22","v":""},"",{"$f":"IF(AH242=\"\",\"\",IF(AI242=\"\",\"\",IF(入力シート①!$H$12>=AI242,AI242,\"-\")))","v":""},12]
[null,null,null,null,null,null,null,null,null,null,null,null,null,null,null,null,null,null,null,null,null,null,null,null,null,null,null,null,null,null,null,20,{"$f":"IF(AJ243=\"\",\"\",IF(AJ243=\"-\",\"\",IF($AA$23=TRUE,AJ243-1,AJ243)))","v":""},{"$f":"AN$23","v":""},"",{"$f":"IF(AH243=\"\",\"\",IF(AI243=\"\",\"\",IF(入力シート①!$H$12>=AI243,AI243,\"-\")))","v":""},12]
[null,null,null,null,null,null,null,null,null,null,null,null,null,null,null,null,null,null,null,null,null,null,null,null,null,null,null,null,null,null,null,1,{"$f":"IF(AJ244=\"\",\"\",IF(AJ244=\"-\",\"\",IF($AA$4=TRUE,AJ244-1,AJ244)))","v":""},{"$f":"AN$4","v":"一般財団法人航空医学研究センター"},{"$f":"BA4","v":""},{"$f":"IF(AH244=\"\",\"\",IF(AI244=\"\",\"\",IF(入力シート①!$H$12>=AI244,AI244,\"-\")))","v":""},13]
[null,null,null,null,null,null,null,null,null,null,null,null,null,null,null,null,null,null,null,null,null,null,null,null,null,null,null,null,null,null,null,2,{"$f":"IF(AJ245=\"\",\"\",IF(AJ245=\"-\",\"\",IF($AA$5=TRUE,AJ245-1,AJ245)))","v":""},{"$f":"AN$5","v":""},{"$f":"BA5","v":""},{"$f":"IF(AH245=\"\",\"\",IF(AI245=\"\",\"\",IF(入力シート①!$H$12>=AI245,AI245,\"-\")))","v":""},13]
[null,null,null,null,null,null,null,null,null,null,null,null,null,null,null,null,null,null,null,null,null,null,null,null,null,null,null,null,null,null,null,3,{"$f":"IF(AJ246=\"\",\"\",IF(AJ246=\"-\",\"\",IF($AA$6=TRUE,AJ246-1,AJ246)))","v":""},{"$f":"AN$6","v":""},"",{"$f":"IF(AH246=\"\",\"\",IF(AI246=\"\",\"\",IF(入力シート①!$H$12>=AI246,AI246,\"-\")))","v":""},13]
[null,null,null,null,null,null,null,null,null,null,null,null,null,null,null,null,null,null,null,null,null,null,null,null,null,null,null,null,null,null,null,4,{"$f":"IF(AJ247=\"\",\"\",IF(AJ247=\"-\",\"\",IF($AA$7=TRUE,AJ247-1,AJ247)))","v":""},{"$f":"AN$7","v":""},"",{"$f":"IF(AH247=\"\",\"\",IF(AI247=\"\",\"\",IF(入力シート①!$H$12>=AI247,AI247,\"-\")))","v":""},13]
[null,null,null,null,null,null,null,null,null,null,null,null,null,null,null,null,null,null,null,null,null,null,null,null,null,null,null,null,null,null,null,5,{"$f":"IF(AJ248=\"\",\"\",IF(AJ248=\"-\",\"\",IF($AA$8=TRUE,AJ248-1,AJ248)))","v":""},{"$f":"AN$8","v":""},"",{"$f":"IF(AH248=\"\",\"\",IF(AI248=\"\",\"\",IF(入力シート①!$H$12>=AI248,AI248,\"-\")))","v":""},13]
[null,null,null,null,null,null,null,null,null,null,null,null,null,null,null,null,null,null,null,null,null,null,null,null,null,null,null,null,null,null,null,6,{"$f":"IF(AJ249=\"\",\"\",IF(AJ249=\"-\",\"\",IF($AA$9=TRUE,AJ249-1,AJ249)))","v":""},{"$f":"AN$9","v":""},"",{"$f":"IF(AH249=\"\",\"\",IF(AI249=\"\",\"\",IF(入力シート①!$H$12>=AI249,AI249,\"-\")))","v":""},13]
[null,null,null,null,null,null,null,null,null,null,null,null,null,null,null,null,null,null,null,null,null,null,null,null,null,null,null,null,null,null,null,7,{"$f":"IF(AJ250=\"\",\"\",IF(AJ250=\"-\",\"\",IF($AA$10=TRUE,AJ250-1,AJ250)))","v":""},{"$f":"AN$10","v":""},"",{"$f":"IF(AH250=\"\",\"\",IF(AI250=\"\",\"\",IF(入力シート①!$H$12>=AI250,AI250,\"-\")))","v":""},13]
[null,null,null,null,null,null,null,null,null,null,null,null,null,null,null,null,null,null,null,null,null,null,null,null,null,null,null,null,null,null,null,8,{"$f":"IF(AJ251=\"\",\"\",IF(AJ251=\"-\",\"\",IF($AA$11=TRUE,AJ251-1,AJ251)))","v":""},{"$f":"AN$11","v":""},"",{"$f":"IF(AH251=\"\",\"\",IF(AI251=\"\",\"\",IF(入力シート①!$H$12>=AI251,AI251,\"-\")))","v":""},13]
[null,null,null,null,null,null,null,null,null,null,null,null,null,null,null,null,null,null,null,null,null,null,null,null,null,null,null,null,null,null,null,9,{"$f":"IF(AJ252=\"\",\"\",IF(AJ252=\"-\",\"\",IF($AA$12=TRUE,AJ252-1,AJ252)))","v":""},{"$f":"AN$12","v":""},"",{"$f":"IF(AH252=\"\",\"\",IF(AI252=\"\",\"\",IF(入力シート①!$H$12>=AI252,AI252,\"-\")))","v":""},13]
[null,null,null,null,null,null,null,null,null,null,null,null,null,null,null,null,null,null,null,null,null,null,null,null,null,null,null,null,null,null,null,10,{"$f":"IF(AJ253=\"\",\"\",IF(AJ253=\"-\",\"\",IF($AA$13=TRUE,AJ253-1,AJ253)))","v":""},{"$f":"AN$13","v":""},"",{"$f":"IF(AH253=\"\",\"\",IF(AI253=\"\",\"\",IF(入力シート①!$H$12>=AI253,AI253,\"-\")))","v":""},13]
[null,null,null,null,null,null,null,null,null,null,null,null,null,null,null,null,null,null,null,null,null,null,null,null,null,null,null,null,null,null,null,11,{"$f":"IF(AJ254=\"\",\"\",IF(AJ254=\"-\",\"\",IF($AA$14=TRUE,AJ254-1,AJ254)))","v":""},{"$f":"AN$14","v":""},"",{"$f":"IF(AH254=\"\",\"\",IF(AI254=\"\",\"\",IF(入力シート①!$H$12>=AI254,AI254,\"-\")))","v":""},13]
[null,null,null,null,null,null,null,null,null,null,null,null,null,null,null,null,null,null,null,null,null,null,null,null,null,null,null,null,null,null,null,12,{"$f":"IF(AJ255=\"\",\"\",IF(AJ255=\"-\",\"\",IF($AA$15=TRUE,AJ255-1,AJ255)))","v":""},{"$f":"AN$15","v":""},"",{"$f":"IF(AH255=\"\",\"\",IF(AI255=\"\",\"\",IF(入力シート①!$H$12>=AI255,AI255,\"-\")))","v":""},13]
[null,null,null,null,null,null,null,null,null,null,null,null,null,null,null,null,null,null,null,null,null,null,null,null,null,null,null,null,null,null,null,13,{"$f":"IF(AJ256=\"\",\"\",IF(AJ256=\"-\",\"\",IF($AA$16=TRUE,AJ256-1,AJ256)))","v":""},{"$f":"AN$16","v":""},"",{"$f":"IF(AH256=\"\",\"\",IF(AI256=\"\",\"\",IF(入力シート①!$H$12>=AI256,AI256,\"-\")))","v":""},13]
[null,null,null,null,null,null,null,null,null,null,null,null,null,null,null,null,null,null,null,null,null,null,null,null,null,null,null,null,null,null,null,14,{"$f":"IF(AJ257=\"\",\"\",IF(AJ257=\"-\",\"\",IF($AA$17=TRUE,AJ257-1,AJ257)))","v":""},{"$f":"AN$17","v":""},"",{"$f":"IF(AH257=\"\",\"\",IF(AI257=\"\",\"\",IF(入力シート①!$H$12>=AI257,AI257,\"-\")))","v":""},13]
[null,null,null,null,null,null,null,null,null,null,null,null,null,null,null,null,null,null,null,null,null,null,null,null,null,null,null,null,null,null,null,15,{"$f":"IF(AJ258=\"\",\"\",IF(AJ258=\"-\",\"\",IF($AA$18=TRUE,AJ258-1,AJ258)))","v":""},{"$f":"AN$18","v":""},"",{"$f":"IF(AH258=\"\",\"\",IF(AI258=\"\",\"\",IF(入力シート①!$H$12>=AI258,AI258,\"-\")))","v":""},13]
[null,null,null,null,null,null,null,null,null,null,null,null,null,null,null,null,null,null,null,null,null,null,null,null,null,null,null,null,null,null,null,16,{"$f":"IF(AJ259=\"\",\"\",IF(AJ259=\"-\",\"\",IF($AA$19=TRUE,AJ259-1,AJ259)))","v":""},{"$f":"AN$19","v":""},"",{"$f":"IF(AH259=\"\",\"\",IF(AI259=\"\",\"\",IF(入力シート①!$H$12>=AI259,AI259,\"-\")))","v":""},13]
[null,null,null,null,null,null,null,null,null,null,null,null,null,null,null,null,null,null,null,null,null,null,null,null,null,null,null,null,null,null,null,17,{"$f":"IF(AJ260=\"\",\"\",IF(AJ260=\"-\",\"\",IF($AA$20=TRUE,AJ260-1,AJ260)))","v":""},{"$f":"AN$20","v":""},"",{"$f":"IF(AH260=\"\",\"\",IF(AI260=\"\",\"\",IF(入力シート①!$H$12>=AI260,AI260,\"-\")))","v":""},13]
[null,null,null,null,null,null,null,null,null,null,null,null,null,null,null,null,null,null,null,null,null,null,null,null,null,null,null,null,null,null,null,18,{"$f":"IF(AJ261=\"\",\"\",IF(AJ261=\"-\",\"\",IF($AA$21=TRUE,AJ261-1,AJ261)))","v":""},{"$f":"AN$21","v":""},"",{"$f":"IF(AH261=\"\",\"\",IF(AI261=\"\",\"\",IF(入力シート①!$H$12>=AI261,AI261,\"-\")))","v":""},13]
[null,null,null,null,null,null,null,null,null,null,null,null,null,null,null,null,null,null,null,null,null,null,null,null,null,null,null,null,null,null,null,19,{"$f":"IF(AJ262=\"\",\"\",IF(AJ262=\"-\",\"\",IF($AA$22=TRUE,AJ262-1,AJ262)))","v":""},{"$f":"AN$22","v":""},"",{"$f":"IF(AH262=\"\",\"\",IF(AI262=\"\",\"\",IF(入力シート①!$H$12>=AI262,AI262,\"-\")))","v":""},13]
[null,null,null,null,null,null,null,null,null,null,null,null,null,null,null,null,null,null,null,null,null,null,null,null,null,null,null,null,null,null,null,20,{"$f":"IF(AJ263=\"\",\"\",IF(AJ263=\"-\",\"\",IF($AA$23=TRUE,AJ263-1,AJ263)))","v":""},{"$f":"AN$23","v":""},"",{"$f":"IF(AH263=\"\",\"\",IF(AI263=\"\",\"\",IF(入力シート①!$H$12>=AI263,AI263,\"-\")))","v":""},13]
[null,null,null,null,null,null,null,null,null,null,null,null,null,null,null,null,null,null,null,null,null,null,null,null,null,null,null,null,null,null,null,1,{"$f":"IF(AJ264=\"\",\"\",IF(AJ264=\"-\",\"\",IF($AA$4=TRUE,AJ264-1,AJ264)))","v":""},{"$f":"AN$4","v":"一般財団法人航空医学研究センター"},{"$f":"BB4","v":""},{"$f":"IF(AH264=\"\",\"\",IF(AI264=\"\",\"\",IF(入力シート①!$H$12>=AI264,AI264,\"-\")))","v":""},14]
[null,null,null,null,null,null,null,null,null,null,null,null,null,null,null,null,null,null,null,null,null,null,null,null,null,null,null,null,null,null,null,2,{"$f":"IF(AJ265=\"\",\"\",IF(AJ265=\"-\",\"\",IF($AA$5=TRUE,AJ265-1,AJ265)))","v":""},{"$f":"AN$5","v":""},{"$f":"BB5","v":""},{"$f":"IF(AH265=\"\",\"\",IF(AI265=\"\",\"\",IF(入力シート①!$H$12>=AI265,AI265,\"-\")))","v":""},14]
[null,null,null,null,null,null,null,null,null,null,null,null,null,null,null,null,null,null,null,null,null,null,null,null,null,null,null,null,null,null,null,3,{"$f":"IF(AJ266=\"\",\"\",IF(AJ266=\"-\",\"\",IF($AA$6=TRUE,AJ266-1,AJ266)))","v":""},{"$f":"AN$6","v":""},"",{"$f":"IF(AH266=\"\",\"\",IF(AI266=\"\",\"\",IF(入力シート①!$H$12>=AI266,AI266,\"-\")))","v":""},14]
[null,null,null,null,null,null,null,null,null,null,null,null,null,null,null,null,null,null,null,null,null,null,null,null,null,null,null,null,null,null,null,4,{"$f":"IF(AJ267=\"\",\"\",IF(AJ267=\"-\",\"\",IF($AA$7=TRUE,AJ267-1,AJ267)))","v":""},{"$f":"AN$7","v":""},"",{"$f":"IF(AH267=\"\",\"\",IF(AI267=\"\",\"\",IF(入力シート①!$H$12>=AI267,AI267,\"-\")))","v":""},14]
[null,null,null,null,null,null,null,null,null,null,null,null,null,null,null,null,null,null,null,null,null,null,null,null,null,null,null,null,null,null,null,5,{"$f":"IF(AJ268=\"\",\"\",IF(AJ268=\"-\",\"\",IF($AA$8=TRUE,AJ268-1,AJ268)))","v":""},{"$f":"AN$8","v":""},"",{"$f":"IF(AH268=\"\",\"\",IF(AI268=\"\",\"\",IF(入力シート①!$H$12>=AI268,AI268,\"-\")))","v":""},14]
[null,null,null,null,null,null,null,null,null,null,null,null,null,null,null,null,null,null,null,null,null,null,null,null,null,null,null,null,null,null,null,6,{"$f":"IF(AJ269=\"\",\"\",IF(AJ269=\"-\",\"\",IF($AA$9=TRUE,AJ269-1,AJ269)))","v":""},{"$f":"AN$9","v":""},"",{"$f":"IF(AH269=\"\",\"\",IF(AI269=\"\",\"\",IF(入力シート①!$H$12>=AI269,AI269,\"-\")))","v":""},14]
[null,null,null,null,null,null,null,null,null,null,null,null,null,null,null,null,null,null,null,null,null,null,null,null,null,null,null,null,null,null,null,7,{"$f":"IF(AJ270=\"\",\"\",IF(AJ270=\"-\",\"\",IF($AA$10=TRUE,AJ270-1,AJ270)))","v":""},{"$f":"AN$10","v":""},"",{"$f":"IF(AH270=\"\",\"\",IF(AI270=\"\",\"\",IF(入力シート①!$H$12>=AI270,AI270,\"-\")))","v":""},14]
[null,null,null,null,null,null,null,null,null,null,null,null,null,null,null,null,null,null,null,null,null,null,null,null,null,null,null,null,null,null,null,8,{"$f":"IF(AJ271=\"\",\"\",IF(AJ271=\"-\",\"\",IF($AA$11=TRUE,AJ271-1,AJ271)))","v":""},{"$f":"AN$11","v":""},"",{"$f":"IF(AH271=\"\",\"\",IF(AI271=\"\",\"\",IF(入力シート①!$H$12>=AI271,AI271,\"-\")))","v":""},14]
[null,null,null,null,null,null,null,null,null,null,null,null,null,null,null,null,null,null,null,null,null,null,null,null,null,null,null,null,null,null,null,9,{"$f":"IF(AJ272=\"\",\"\",IF(AJ272=\"-\",\"\",IF($AA$12=TRUE,AJ272-1,AJ272)))","v":""},{"$f":"AN$12","v":""},"",{"$f":"IF(AH272=\"\",\"\",IF(AI272=\"\",\"\",IF(入力シート①!$H$12>=AI272,AI272,\"-\")))","v":""},14]
[null,null,null,null,null,null,null,null,null,null,null,null,null,null,null,null,null,null,null,null,null,null,null,null,null,null,null,null,null,null,null,10,{"$f":"IF(AJ273=\"\",\"\",IF(AJ273=\"-\",\"\",IF($AA$13=TRUE,AJ273-1,AJ273)))","v":""},{"$f":"AN$13","v":""},"",{"$f":"IF(AH273=\"\",\"\",IF(AI273=\"\",\"\",IF(入力シート①!$H$12>=AI273,AI273,\"-\")))","v":""},14]
[null,null,null,null,null,null,null,null,null,null,null,null,null,null,null,null,null,null,null,null,null,null,null,null,null,null,null,null,null,null,null,11,{"$f":"IF(AJ274=\"\",\"\",IF(AJ274=\"-\",\"\",IF($AA$14=TRUE,AJ274-1,AJ274)))","v":""},{"$f":"AN$14","v":""},"",{"$f":"IF(AH274=\"\",\"\",IF(AI274=\"\",\"\",IF(入力シート①!$H$12>=AI274,AI274,\"-\")))","v":""},14]
[null,null,null,null,null,null,null,null,null,null,null,null,null,null,null,null,null,null,null,null,null,null,null,null,null,null,null,null,null,null,null,12,{"$f":"IF(AJ275=\"\",\"\",IF(AJ275=\"-\",\"\",IF($AA$15=TRUE,AJ275-1,AJ275)))","v":""},{"$f":"AN$15","v":""},"",{"$f":"IF(AH275=\"\",\"\",IF(AI275=\"\",\"\",IF(入力シート①!$H$12>=AI275,AI275,\"-\")))","v":""},14]
[null,null,null,null,null,null,null,null,null,null,null,null,null,null,null,null,null,null,null,null,null,null,null,null,null,null,null,null,null,null,null,13,{"$f":"IF(AJ276=\"\",\"\",IF(AJ276=\"-\",\"\",IF($AA$16=TRUE,AJ276-1,AJ276)))","v":""},{"$f":"AN$16","v":""},"",{"$f":"IF(AH276=\"\",\"\",IF(AI276=\"\",\"\",IF(入力シート①!$H$12>=AI276,AI276,\"-\")))","v":""},14]
[null,null,null,null,null,null,null,null,null,null,null,null,null,null,null,null,null,null,null,null,null,null,null,null,null,null,null,null,null,null,null,14,{"$f":"IF(AJ277=\"\",\"\",IF(AJ277=\"-\",\"\",IF($AA$17=TRUE,AJ277-1,AJ277)))","v":""},{"$f":"AN$17","v":""},"",{"$f":"IF(AH277=\"\",\"\",IF(AI277=\"\",\"\",IF(入力シート①!$H$12>=AI277,AI277,\"-\")))","v":""},14]
[null,null,null,null,null,null,null,null,null,null,null,null,null,null,null,null,null,null,null,null,null,null,null,null,null,null,null,null,null,null,null,15,{"$f":"IF(AJ278=\"\",\"\",IF(AJ278=\"-\",\"\",IF($AA$18=TRUE,AJ278-1,AJ278)))","v":""},{"$f":"AN$18","v":""},"",{"$f":"IF(AH278=\"\",\"\",IF(AI278=\"\",\"\",IF(入力シート①!$H$12>=AI278,AI278,\"-\")))","v":""},14]
[null,null,null,null,null,null,null,null,null,null,null,null,null,null,null,null,null,null,null,null,null,null,null,null,null,null,null,null,null,null,null,16,{"$f":"IF(AJ279=\"\",\"\",IF(AJ279=\"-\",\"\",IF($AA$19=TRUE,AJ279-1,AJ279)))","v":""},{"$f":"AN$19","v":""},"",{"$f":"IF(AH279=\"\",\"\",IF(AI279=\"\",\"\",IF(入力シート①!$H$12>=AI279,AI279,\"-\")))","v":""},14]
[null,null,null,null,null,null,null,null,null,null,null,null,null,null,null,null,null,null,null,null,null,null,null,null,null,null,null,null,null,null,null,17,{"$f":"IF(AJ280=\"\",\"\",IF(AJ280=\"-\",\"\",IF($AA$20=TRUE,AJ280-1,AJ280)))","v":""},{"$f":"AN$20","v":""},"",{"$f":"IF(AH280=\"\",\"\",IF(AI280=\"\",\"\",IF(入力シート①!$H$12>=AI280,AI280,\"-\")))","v":""},14]
[null,null,null,null,null,null,null,null,null,null,null,null,null,null,null,null,null,null,null,null,null,null,null,null,null,null,null,null,null,null,null,18,{"$f":"IF(AJ281=\"\",\"\",IF(AJ281=\"-\",\"\",IF($AA$21=TRUE,AJ281-1,AJ281)))","v":""},{"$f":"AN$21","v":""},"",{"$f":"IF(AH281=\"\",\"\",IF(AI281=\"\",\"\",IF(入力シート①!$H$12>=AI281,AI281,\"-\")))","v":""},14]
[null,null,null,null,null,null,null,null,null,null,null,null,null,null,null,null,null,null,null,null,null,null,null,null,null,null,null,null,null,null,null,19,{"$f":"IF(AJ282=\"\",\"\",IF(AJ282=\"-\",\"\",IF($AA$22=TRUE,AJ282-1,AJ282)))","v":""},{"$f":"AN$22","v":""},"",{"$f":"IF(AH282=\"\",\"\",IF(AI282=\"\",\"\",IF(入力シート①!$H$12>=AI282,AI282,\"-\")))","v":""},14]
[null,null,null,null,null,null,null,null,null,null,null,null,null,null,null,null,null,null,null,null,null,null,null,null,null,null,null,null,null,null,null,20,{"$f":"IF(AJ283=\"\",\"\",IF(AJ283=\"-\",\"\",IF($AA$23=TRUE,AJ283-1,AJ283)))","v":""},{"$f":"AN$23","v":""},"",{"$f":"IF(AH283=\"\",\"\",IF(AI283=\"\",\"\",IF(入力シート①!$H$12>=AI283,AI283,\"-\")))","v":""},14]
[null,null,null,null,null,null,null,null,null,null,null,null,null,null,null,null,null,null,null,null,null,null,null,null,null,null,null,null,null,null,null,1,{"$f":"IF(AJ284=\"\",\"\",IF(AJ284=\"-\",\"\",IF($AA$4=TRUE,AJ284-1,AJ284)))","v":""},{"$f":"AN$4","v":"一般財団法人航空医学研究センター"},{"$f":"BC4","v":""},{"$f":"IF(AH284=\"\",\"\",IF(AI284=\"\",\"\",IF(入力シート①!$H$12>=AI284,AI284,\"-\")))","v":""},15]
[null,null,null,null,null,null,null,null,null,null,null,null,null,null,null,null,null,null,null,null,null,null,null,null,null,null,null,null,null,null,null,2,{"$f":"IF(AJ285=\"\",\"\",IF(AJ285=\"-\",\"\",IF($AA$5=TRUE,AJ285-1,AJ285)))","v":""},{"$f":"AN$5","v":""},{"$f":"BC5","v":""},{"$f":"IF(AH285=\"\",\"\",IF(AI285=\"\",\"\",IF(入力シート①!$H$12>=AI285,AI285,\"-\")))","v":""},15]
[null,null,null,null,null,null,null,null,null,null,null,null,null,null,null,null,null,null,null,null,null,null,null,null,null,null,null,null,null,null,null,3,{"$f":"IF(AJ286=\"\",\"\",IF(AJ286=\"-\",\"\",IF($AA$6=TRUE,AJ286-1,AJ286)))","v":""},{"$f":"AN$6","v":""},"",{"$f":"IF(AH286=\"\",\"\",IF(AI286=\"\",\"\",IF(入力シート①!$H$12>=AI286,AI286,\"-\")))","v":""},15]
[null,null,null,null,null,null,null,null,null,null,null,null,null,null,null,null,null,null,null,null,null,null,null,null,null,null,null,null,null,null,null,4,{"$f":"IF(AJ287=\"\",\"\",IF(AJ287=\"-\",\"\",IF($AA$7=TRUE,AJ287-1,AJ287)))","v":""},{"$f":"AN$7","v":""},"",{"$f":"IF(AH287=\"\",\"\",IF(AI287=\"\",\"\",IF(入力シート①!$H$12>=AI287,AI287,\"-\")))","v":""},15]
[null,null,null,null,null,null,null,null,null,null,null,null,null,null,null,null,null,null,null,null,null,null,null,null,null,null,null,null,null,null,null,5,{"$f":"IF(AJ288=\"\",\"\",IF(AJ288=\"-\",\"\",IF($AA$8=TRUE,AJ288-1,AJ288)))","v":""},{"$f":"AN$8","v":""},"",{"$f":"IF(AH288=\"\",\"\",IF(AI288=\"\",\"\",IF(入力シート①!$H$12>=AI288,AI288,\"-\")))","v":""},15]
[null,null,null,null,null,null,null,null,null,null,null,null,null,null,null,null,null,null,null,null,null,null,null,null,null,null,null,null,null,null,null,6,{"$f":"IF(AJ289=\"\",\"\",IF(AJ289=\"-\",\"\",IF($AA$9=TRUE,AJ289-1,AJ289)))","v":""},{"$f":"AN$9","v":""},"",{"$f":"IF(AH289=\"\",\"\",IF(AI289=\"\",\"\",IF(入力シート①!$H$12>=AI289,AI289,\"-\")))","v":""},15]
[null,null,null,null,null,null,null,null,null,null,null,null,null,null,null,null,null,null,null,null,null,null,null,null,null,null,null,null,null,null,null,7,{"$f":"IF(AJ290=\"\",\"\",IF(AJ290=\"-\",\"\",IF($AA$10=TRUE,AJ290-1,AJ290)))","v":""},{"$f":"AN$10","v":""},"",{"$f":"IF(AH290=\"\",\"\",IF(AI290=\"\",\"\",IF(入力シート①!$H$12>=AI290,AI290,\"-\")))","v":""},15]
[null,null,null,null,null,null,null,null,null,null,null,null,null,null,null,null,null,null,null,null,null,null,null,null,null,null,null,null,null,null,null,8,{"$f":"IF(AJ291=\"\",\"\",IF(AJ291=\"-\",\"\",IF($AA$11=TRUE,AJ291-1,AJ291)))","v":""},{"$f":"AN$11","v":""},"",{"$f":"IF(AH291=\"\",\"\",IF(AI291=\"\",\"\",IF(入力シート①!$H$12>=AI291,AI291,\"-\")))","v":""},15]
[null,null,null,null,null,null,null,null,null,null,null,null,null,null,null,null,null,null,null,null,null,null,null,null,null,null,null,null,null,null,null,9,{"$f":"IF(AJ292=\"\",\"\",IF(AJ292=\"-\",\"\",IF($AA$12=TRUE,AJ292-1,AJ292)))","v":""},{"$f":"AN$12","v":""},"",{"$f":"IF(AH292=\"\",\"\",IF(AI292=\"\",\"\",IF(入力シート①!$H$12>=AI292,AI292,\"-\")))","v":""},15]
[null,null,null,null,null,null,null,null,null,null,null,null,null,null,null,null,null,null,null,null,null,null,null,null,null,null,null,null,null,null,null,10,{"$f":"IF(AJ293=\"\",\"\",IF(AJ293=\"-\",\"\",IF($AA$13=TRUE,AJ293-1,AJ293)))","v":""},{"$f":"AN$13","v":""},"",{"$f":"IF(AH293=\"\",\"\",IF(AI293=\"\",\"\",IF(入力シート①!$H$12>=AI293,AI293,\"-\")))","v":""},15]
[null,null,null,null,null,null,null,null,null,null,null,null,null,null,null,null,null,null,null,null,null,null,null,null,null,null,null,null,null,null,null,11,{"$f":"IF(AJ294=\"\",\"\",IF(AJ294=\"-\",\"\",IF($AA$14=TRUE,AJ294-1,AJ294)))","v":""},{"$f":"AN$14","v":""},"",{"$f":"IF(AH294=\"\",\"\",IF(AI294=\"\",\"\",IF(入力シート①!$H$12>=AI294,AI294,\"-\")))","v":""},15]
[null,null,null,null,null,null,null,null,null,null,null,null,null,null,null,null,null,null,null,null,null,null,null,null,null,null,null,null,null,null,null,12,{"$f":"IF(AJ295=\"\",\"\",IF(AJ295=\"-\",\"\",IF($AA$15=TRUE,AJ295-1,AJ295)))","v":""},{"$f":"AN$15","v":""},"",{"$f":"IF(AH295=\"\",\"\",IF(AI295=\"\",\"\",IF(入力シート①!$H$12>=AI295,AI295,\"-\")))","v":""},15]
[null,null,null,null,null,null,null,null,null,null,null,null,null,null,null,null,null,null,null,null,null,null,null,null,null,null,null,null,null,null,null,13,{"$f":"IF(AJ296=\"\",\"\",IF(AJ296=\"-\",\"\",IF($AA$16=TRUE,AJ296-1,AJ296)))","v":""},{"$f":"AN$16","v":""},"",{"$f":"IF(AH296=\"\",\"\",IF(AI296=\"\",\"\",IF(入力シート①!$H$12>=AI296,AI296,\"-\")))","v":""},15]
[null,null,null,null,null,null,null,null,null,null,null,null,null,null,null,null,null,null,null,null,null,null,null,null,null,null,null,null,null,null,null,14,{"$f":"IF(AJ297=\"\",\"\",IF(AJ297=\"-\",\"\",IF($AA$17=TRUE,AJ297-1,AJ297)))","v":""},{"$f":"AN$17","v":""},"",{"$f":"IF(AH297=\"\",\"\",IF(AI297=\"\",\"\",IF(入力シート①!$H$12>=AI297,AI297,\"-\")))","v":""},15]
[null,null,null,null,null,null,null,null,null,null,null,null,null,null,null,null,null,null,null,null,null,null,null,null,null,null,null,null,null,null,null,15,{"$f":"IF(AJ298=\"\",\"\",IF(AJ298=\"-\",\"\",IF($AA$18=TRUE,AJ298-1,AJ298)))","v":""},{"$f":"AN$18","v":""},"",{"$f":"IF(AH298=\"\",\"\",IF(AI298=\"\",\"\",IF(入力シート①!$H$12>=AI298,AI298,\"-\")))","v":""},15]
[null,null,null,null,null,null,null,null,null,null,null,null,null,null,null,null,null,null,null,null,null,null,null,null,null,null,null,null,null,null,null,16,{"$f":"IF(AJ299=\"\",\"\",IF(AJ299=\"-\",\"\",IF($AA$19=TRUE,AJ299-1,AJ299)))","v":""},{"$f":"AN$19","v":""},"",{"$f":"IF(AH299=\"\",\"\",IF(AI299=\"\",\"\",IF(入力シート①!$H$12>=AI299,AI299,\"-\")))","v":""},15]
[null,null,null,null,null,null,null,null,null,null,null,null,null,null,null,null,null,null,null,null,null,null,null,null,null,null,null,null,null,null,null,17,{"$f":"IF(AJ300=\"\",\"\",IF(AJ300=\"-\",\"\",IF($AA$20=TRUE,AJ300-1,AJ300)))","v":""},{"$f":"AN$20","v":""},"",{"$f":"IF(AH300=\"\",\"\",IF(AI300=\"\",\"\",IF(入力シート①!$H$12>=AI300,AI300,\"-\")))","v":""},15]
[null,null,null,null,null,null,null,null,null,null,null,null,null,null,null,null,null,null,null,null,null,null,null,null,null,null,null,null,null,null,null,18,{"$f":"IF(AJ301=\"\",\"\",IF(AJ301=\"-\",\"\",IF($AA$21=TRUE,AJ301-1,AJ301)))","v":""},{"$f":"AN$21","v":""},"",{"$f":"IF(AH301=\"\",\"\",IF(AI301=\"\",\"\",IF(入力シート①!$H$12>=AI301,AI301,\"-\")))","v":""},15]
[null,null,null,null,null,null,null,null,null,null,null,null,null,null,null,null,null,null,null,null,null,null,null,null,null,null,null,null,null,null,null,19,{"$f":"IF(AJ302=\"\",\"\",IF(AJ302=\"-\",\"\",IF($AA$22=TRUE,AJ302-1,AJ302)))","v":""},{"$f":"AN$22","v":""},"",{"$f":"IF(AH302=\"\",\"\",IF(AI302=\"\",\"\",IF(入力シート①!$H$12>=AI302,AI302,\"-\")))","v":""},15]
[null,null,null,null,null,null,null,null,null,null,null,null,null,null,null,null,null,null,null,null,null,null,null,null,null,null,null,null,null,null,null,20,{"$f":"IF(AJ303=\"\",\"\",IF(AJ303=\"-\",\"\",IF($AA$23=TRUE,AJ303-1,AJ303)))","v":""},{"$f":"AN$23","v":""},"",{"$f":"IF(AH303=\"\",\"\",IF(AI303=\"\",\"\",IF(入力シート①!$H$12>=AI303,AI303,\"-\")))","v":""},15]
[null,null,null,null,null,null,null,null,null,null,null,null,null,null,null,null,null,null,null,null,null,null,null,null,null,null,null,null,null,null,null,1,{"$f":"IF(AJ304=\"\",\"\",IF(AJ304=\"-\",\"\",IF($AA$4=TRUE,AJ304-1,AJ304)))","v":""},{"$f":"AN$4","v":"一般財団法人航空医学研究センター"},{"$f":"BD4","v":""},{"$f":"IF(AH304=\"\",\"\",IF(AI304=\"\",\"\",IF(入力シート①!$H$12>=AI304,AI304,\"-\")))","v":""},16]
[null,null,null,null,null,null,null,null,null,null,null,null,null,null,null,null,null,null,null,null,null,null,null,null,null,null,null,null,null,null,null,2,{"$f":"IF(AJ305=\"\",\"\",IF(AJ305=\"-\",\"\",IF($AA$5=TRUE,AJ305-1,AJ305)))","v":""},{"$f":"AN$5","v":""},{"$f":"BD5","v":""},{"$f":"IF(AH305=\"\",\"\",IF(AI305=\"\",\"\",IF(入力シート①!$H$12>=AI305,AI305,\"-\")))","v":""},16]
[null,null,null,null,null,null,null,null,null,null,null,null,null,null,null,null,null,null,null,null,null,null,null,null,null,null,null,null,null,null,null,3,{"$f":"IF(AJ306=\"\",\"\",IF(AJ306=\"-\",\"\",IF($AA$6=TRUE,AJ306-1,AJ306)))","v":""},{"$f":"AN$6","v":""},"",{"$f":"IF(AH306=\"\",\"\",IF(AI306=\"\",\"\",IF(入力シート①!$H$12>=AI306,AI306,\"-\")))","v":""},16]
[null,null,null,null,null,null,null,null,null,null,null,null,null,null,null,null,null,null,null,null,null,null,null,null,null,null,null,null,null,null,null,4,{"$f":"IF(AJ307=\"\",\"\",IF(AJ307=\"-\",\"\",IF($AA$7=TRUE,AJ307-1,AJ307)))","v":""},{"$f":"AN$7","v":""},"",{"$f":"IF(AH307=\"\",\"\",IF(AI307=\"\",\"\",IF(入力シート①!$H$12>=AI307,AI307,\"-\")))","v":""},16]
[null,null,null,null,null,null,null,null,null,null,null,null,null,null,null,null,null,null,null,null,null,null,null,null,null,null,null,null,null,null,null,5,{"$f":"IF(AJ308=\"\",\"\",IF(AJ308=\"-\",\"\",IF($AA$8=TRUE,AJ308-1,AJ308)))","v":""},{"$f":"AN$8","v":""},"",{"$f":"IF(AH308=\"\",\"\",IF(AI308=\"\",\"\",IF(入力シート①!$H$12>=AI308,AI308,\"-\")))","v":""},16]
[null,null,null,null,null,null,null,null,null,null,null,null,null,null,null,null,null,null,null,null,null,null,null,null,null,null,null,null,null,null,null,6,{"$f":"IF(AJ309=\"\",\"\",IF(AJ309=\"-\",\"\",IF($AA$9=TRUE,AJ309-1,AJ309)))","v":""},{"$f":"AN$9","v":""},"",{"$f":"IF(AH309=\"\",\"\",IF(AI309=\"\",\"\",IF(入力シート①!$H$12>=AI309,AI309,\"-\")))","v":""},16]
[null,null,null,null,null,null,null,null,null,null,null,null,null,null,null,null,null,null,null,null,null,null,null,null,null,null,null,null,null,null,null,7,{"$f":"IF(AJ310=\"\",\"\",IF(AJ310=\"-\",\"\",IF($AA$10=TRUE,AJ310-1,AJ310)))","v":""},{"$f":"AN$10","v":""},"",{"$f":"IF(AH310=\"\",\"\",IF(AI310=\"\",\"\",IF(入力シート①!$H$12>=AI310,AI310,\"-\")))","v":""},16]
[null,null,null,null,null,null,null,null,null,null,null,null,null,null,null,null,null,null,null,null,null,null,null,null,null,null,null,null,null,null,null,8,{"$f":"IF(AJ311=\"\",\"\",IF(AJ311=\"-\",\"\",IF($AA$11=TRUE,AJ311-1,AJ311)))","v":""},{"$f":"AN$11","v":""},"",{"$f":"IF(AH311=\"\",\"\",IF(AI311=\"\",\"\",IF(入力シート①!$H$12>=AI311,AI311,\"-\")))","v":""},16]
[null,null,null,null,null,null,null,null,null,null,null,null,null,null,null,null,null,null,null,null,null,null,null,null,null,null,null,null,null,null,null,9,{"$f":"IF(AJ312=\"\",\"\",IF(AJ312=\"-\",\"\",IF($AA$12=TRUE,AJ312-1,AJ312)))","v":""},{"$f":"AN$12","v":""},"",{"$f":"IF(AH312=\"\",\"\",IF(AI312=\"\",\"\",IF(入力シート①!$H$12>=AI312,AI312,\"-\")))","v":""},16]
[null,null,null,null,null,null,null,null,null,null,null,null,null,null,null,null,null,null,null,null,null,null,null,null,null,null,null,null,null,null,null,10,{"$f":"IF(AJ313=\"\",\"\",IF(AJ313=\"-\",\"\",IF($AA$13=TRUE,AJ313-1,AJ313)))","v":""},{"$f":"AN$13","v":""},"",{"$f":"IF(AH313=\"\",\"\",IF(AI313=\"\",\"\",IF(入力シート①!$H$12>=AI313,AI313,\"-\")))","v":""},16]
[null,null,null,null,null,null,null,null,null,null,null,null,null,null,null,null,null,null,null,null,null,null,null,null,null,null,null,null,null,null,null,11,{"$f":"IF(AJ314=\"\",\"\",IF(AJ314=\"-\",\"\",IF($AA$14=TRUE,AJ314-1,AJ314)))","v":""},{"$f":"AN$14","v":""},"",{"$f":"IF(AH314=\"\",\"\",IF(AI314=\"\",\"\",IF(入力シート①!$H$12>=AI314,AI314,\"-\")))","v":""},16]
[null,null,null,null,null,null,null,null,null,null,null,null,null,null,null,null,null,null,null,null,null,null,null,null,null,null,null,null,null,null,null,12,{"$f":"IF(AJ315=\"\",\"\",IF(AJ315=\"-\",\"\",IF($AA$15=TRUE,AJ315-1,AJ315)))","v":""},{"$f":"AN$15","v":""},"",{"$f":"IF(AH315=\"\",\"\",IF(AI315=\"\",\"\",IF(入力シート①!$H$12>=AI315,AI315,\"-\")))","v":""},16]
[null,null,null,null,null,null,null,null,null,null,null,null,null,null,null,null,null,null,null,null,null,null,null,null,null,null,null,null,null,null,null,13,{"$f":"IF(AJ316=\"\",\"\",IF(AJ316=\"-\",\"\",IF($AA$16=TRUE,AJ316-1,AJ316)))","v":""},{"$f":"AN$16","v":""},"",{"$f":"IF(AH316=\"\",\"\",IF(AI316=\"\",\"\",IF(入力シート①!$H$12>=AI316,AI316,\"-\")))","v":""},16]
[null,null,null,null,null,null,null,null,null,null,null,null,null,null,null,null,null,null,null,null,null,null,null,null,null,null,null,null,null,null,null,14,{"$f":"IF(AJ317=\"\",\"\",IF(AJ317=\"-\",\"\",IF($AA$17=TRUE,AJ317-1,AJ317)))","v":""},{"$f":"AN$17","v":""},"",{"$f":"IF(AH317=\"\",\"\",IF(AI317=\"\",\"\",IF(入力シート①!$H$12>=AI317,AI317,\"-\")))","v":""},16]
[null,null,null,null,null,null,null,null,null,null,null,null,null,null,null,null,null,null,null,null,null,null,null,null,null,null,null,null,null,null,null,15,{"$f":"IF(AJ318=\"\",\"\",IF(AJ318=\"-\",\"\",IF($AA$18=TRUE,AJ318-1,AJ318)))","v":""},{"$f":"AN$18","v":""},"",{"$f":"IF(AH318=\"\",\"\",IF(AI318=\"\",\"\",IF(入力シート①!$H$12>=AI318,AI318,\"-\")))","v":""},16]
[null,null,null,null,null,null,null,null,null,null,null,null,null,null,null,null,null,null,null,null,null,null,null,null,null,null,null,null,null,null,null,16,{"$f":"IF(AJ319=\"\",\"\",IF(AJ319=\"-\",\"\",IF($AA$19=TRUE,AJ319-1,AJ319)))","v":""},{"$f":"AN$19","v":""},"",{"$f":"IF(AH319=\"\",\"\",IF(AI319=\"\",\"\",IF(入力シート①!$H$12>=AI319,AI319,\"-\")))","v":""},16]
[null,null,null,null,null,null,null,null,null,null,null,null,null,null,null,null,null,null,null,null,null,null,null,null,null,null,null,null,null,null,null,17,{"$f":"IF(AJ320=\"\",\"\",IF(AJ320=\"-\",\"\",IF($AA$20=TRUE,AJ320-1,AJ320)))","v":""},{"$f":"AN$20","v":""},"",{"$f":"IF(AH320=\"\",\"\",IF(AI320=\"\",\"\",IF(入力シート①!$H$12>=AI320,AI320,\"-\")))","v":""},16]
[null,null,null,null,null,null,null,null,null,null,null,null,null,null,null,null,null,null,null,null,null,null,null,null,null,null,null,null,null,null,null,18,{"$f":"IF(AJ321=\"\",\"\",IF(AJ321=\"-\",\"\",IF($AA$21=TRUE,AJ321-1,AJ321)))","v":""},{"$f":"AN$21","v":""},"",{"$f":"IF(AH321=\"\",\"\",IF(AI321=\"\",\"\",IF(入力シート①!$H$12>=AI321,AI321,\"-\")))","v":""},16]
[null,null,null,null,null,null,null,null,null,null,null,null,null,null,null,null,null,null,null,null,null,null,null,null,null,null,null,null,null,null,null,19,{"$f":"IF(AJ322=\"\",\"\",IF(AJ322=\"-\",\"\",IF($AA$22=TRUE,AJ322-1,AJ322)))","v":""},{"$f":"AN$22","v":""},"",{"$f":"IF(AH322=\"\",\"\",IF(AI322=\"\",\"\",IF(入力シート①!$H$12>=AI322,AI322,\"-\")))","v":""},16]
[null,null,null,null,null,null,null,null,null,null,null,null,null,null,null,null,null,null,null,null,null,null,null,null,null,null,null,null,null,null,null,20,{"$f":"IF(AJ323=\"\",\"\",IF(AJ323=\"-\",\"\",IF($AA$23=TRUE,AJ323-1,AJ323)))","v":""},{"$f":"AN$23","v":""},"",{"$f":"IF(AH323=\"\",\"\",IF(AI323=\"\",\"\",IF(入力シート①!$H$12>=AI323,AI323,\"-\")))","v":""},16]
[null,null,null,null,null,null,null,null,null,null,null,null,null,null,null,null,null,null,null,null,null,null,null,null,null,null,null,null,null,null,null,1,{"$f":"IF(AJ324=\"\",\"\",IF(AJ324=\"-\",\"\",IF($AA$4=TRUE,AJ324-1,AJ324)))","v":""},{"$f":"AN$4","v":"一般財団法人航空医学研究センター"},{"$f":"BE4","v":""},{"$f":"IF(AH324=\"\",\"\",IF(AI324=\"\",\"\",IF(入力シート①!$H$12>=AI324,AI324,\"-\")))","v":""},17]
[null,null,null,null,null,null,null,null,null,null,null,null,null,null,null,null,null,null,null,null,null,null,null,null,null,null,null,null,null,null,null,2,{"$f":"IF(AJ325=\"\",\"\",IF(AJ325=\"-\",\"\",IF($AA$5=TRUE,AJ325-1,AJ325)))","v":""},{"$f":"AN$5","v":""},{"$f":"BE5","v":""},{"$f":"IF(AH325=\"\",\"\",IF(AI325=\"\",\"\",IF(入力シート①!$H$12>=AI325,AI325,\"-\")))","v":""},17]
[null,null,null,null,null,null,null,null,null,null,null,null,null,null,null,null,null,null,null,null,null,null,null,null,null,null,null,null,null,null,null,3,{"$f":"IF(AJ326=\"\",\"\",IF(AJ326=\"-\",\"\",IF($AA$6=TRUE,AJ326-1,AJ326)))","v":""},{"$f":"AN$6","v":""},"",{"$f":"IF(AH326=\"\",\"\",IF(AI326=\"\",\"\",IF(入力シート①!$H$12>=AI326,AI326,\"-\")))","v":""},17]
[null,null,null,null,null,null,null,null,null,null,null,null,null,null,null,null,null,null,null,null,null,null,null,null,null,null,null,null,null,null,null,4,{"$f":"IF(AJ327=\"\",\"\",IF(AJ327=\"-\",\"\",IF($AA$7=TRUE,AJ327-1,AJ327)))","v":""},{"$f":"AN$7","v":""},"",{"$f":"IF(AH327=\"\",\"\",IF(AI327=\"\",\"\",IF(入力シート①!$H$12>=AI327,AI327,\"-\")))","v":""},17]
[null,null,null,null,null,null,null,null,null,null,null,null,null,null,null,null,null,null,null,null,null,null,null,null,null,null,null,null,null,null,null,5,{"$f":"IF(AJ328=\"\",\"\",IF(AJ328=\"-\",\"\",IF($AA$8=TRUE,AJ328-1,AJ328)))","v":""},{"$f":"AN$8","v":""},"",{"$f":"IF(AH328=\"\",\"\",IF(AI328=\"\",\"\",IF(入力シート①!$H$12>=AI328,AI328,\"-\")))","v":""},17]
[null,null,null,null,null,null,null,null,null,null,null,null,null,null,null,null,null,null,null,null,null,null,null,null,null,null,null,null,null,null,null,6,{"$f":"IF(AJ329=\"\",\"\",IF(AJ329=\"-\",\"\",IF($AA$9=TRUE,AJ329-1,AJ329)))","v":""},{"$f":"AN$9","v":""},"",{"$f":"IF(AH329=\"\",\"\",IF(AI329=\"\",\"\",IF(入力シート①!$H$12>=AI329,AI329,\"-\")))","v":""},17]
[null,null,null,null,null,null,null,null,null,null,null,null,null,null,null,null,null,null,null,null,null,null,null,null,null,null,null,null,null,null,null,7,{"$f":"IF(AJ330=\"\",\"\",IF(AJ330=\"-\",\"\",IF($AA$10=TRUE,AJ330-1,AJ330)))","v":""},{"$f":"AN$10","v":""},"",{"$f":"IF(AH330=\"\",\"\",IF(AI330=\"\",\"\",IF(入力シート①!$H$12>=AI330,AI330,\"-\")))","v":""},17]
[null,null,null,null,null,null,null,null,null,null,null,null,null,null,null,null,null,null,null,null,null,null,null,null,null,null,null,null,null,null,null,8,{"$f":"IF(AJ331=\"\",\"\",IF(AJ331=\"-\",\"\",IF($AA$11=TRUE,AJ331-1,AJ331)))","v":""},{"$f":"AN$11","v":""},"",{"$f":"IF(AH331=\"\",\"\",IF(AI331=\"\",\"\",IF(入力シート①!$H$12>=AI331,AI331,\"-\")))","v":""},17]
[null,null,null,null,null,null,null,null,null,null,null,null,null,null,null,null,null,null,null,null,null,null,null,null,null,null,null,null,null,null,null,9,{"$f":"IF(AJ332=\"\",\"\",IF(AJ332=\"-\",\"\",IF($AA$12=TRUE,AJ332-1,AJ332)))","v":""},{"$f":"AN$12","v":""},"",{"$f":"IF(AH332=\"\",\"\",IF(AI332=\"\",\"\",IF(入力シート①!$H$12>=AI332,AI332,\"-\")))","v":""},17]
[null,null,null,null,null,null,null,null,null,null,null,null,null,null,null,null,null,null,null,null,null,null,null,null,null,null,null,null,null,null,null,10,{"$f":"IF(AJ333=\"\",\"\",IF(AJ333=\"-\",\"\",IF($AA$13=TRUE,AJ333-1,AJ333)))","v":""},{"$f":"AN$13","v":""},"",{"$f":"IF(AH333=\"\",\"\",IF(AI333=\"\",\"\",IF(入力シート①!$H$12>=AI333,AI333,\"-\")))","v":""},17]
[null,null,null,null,null,null,null,null,null,null,null,null,null,null,null,null,null,null,null,null,null,null,null,null,null,null,null,null,null,null,null,11,{"$f":"IF(AJ334=\"\",\"\",IF(AJ334=\"-\",\"\",IF($AA$14=TRUE,AJ334-1,AJ334)))","v":""},{"$f":"AN$14","v":""},"",{"$f":"IF(AH334=\"\",\"\",IF(AI334=\"\",\"\",IF(入力シート①!$H$12>=AI334,AI334,\"-\")))","v":""},17]
[null,null,null,null,null,null,null,null,null,null,null,null,null,null,null,null,null,null,null,null,null,null,null,null,null,null,null,null,null,null,null,12,{"$f":"IF(AJ335=\"\",\"\",IF(AJ335=\"-\",\"\",IF($AA$15=TRUE,AJ335-1,AJ335)))","v":""},{"$f":"AN$15","v":""},"",{"$f":"IF(AH335=\"\",\"\",IF(AI335=\"\",\"\",IF(入力シート①!$H$12>=AI335,AI335,\"-\")))","v":""},17]
[null,null,null,null,null,null,null,null,null,null,null,null,null,null,null,null,null,null,null,null,null,null,null,null,null,null,null,null,null,null,null,13,{"$f":"IF(AJ336=\"\",\"\",IF(AJ336=\"-\",\"\",IF($AA$16=TRUE,AJ336-1,AJ336)))","v":""},{"$f":"AN$16","v":""},"",{"$f":"IF(AH336=\"\",\"\",IF(AI336=\"\",\"\",IF(入力シート①!$H$12>=AI336,AI336,\"-\")))","v":""},17]
[null,null,null,null,null,null,null,null,null,null,null,null,null,null,null,null,null,null,null,null,null,null,null,null,null,null,null,null,null,null,null,14,{"$f":"IF(AJ337=\"\",\"\",IF(AJ337=\"-\",\"\",IF($AA$17=TRUE,AJ337-1,AJ337)))","v":""},{"$f":"AN$17","v":""},"",{"$f":"IF(AH337=\"\",\"\",IF(AI337=\"\",\"\",IF(入力シート①!$H$12>=AI337,AI337,\"-\")))","v":""},17]
[null,null,null,null,null,null,null,null,null,null,null,null,null,null,null,null,null,null,null,null,null,null,null,null,null,null,null,null,null,null,null,15,{"$f":"IF(AJ338=\"\",\"\",IF(AJ338=\"-\",\"\",IF($AA$18=TRUE,AJ338-1,AJ338)))","v":""},{"$f":"AN$18","v":""},"",{"$f":"IF(AH338=\"\",\"\",IF(AI338=\"\",\"\",IF(入力シート①!$H$12>=AI338,AI338,\"-\")))","v":""},17]
[null,null,null,null,null,null,null,null,null,null,null,null,null,null,null,null,null,null,null,null,null,null,null,null,null,null,null,null,null,null,null,16,{"$f":"IF(AJ339=\"\",\"\",IF(AJ339=\"-\",\"\",IF($AA$19=TRUE,AJ339-1,AJ339)))","v":""},{"$f":"AN$19","v":""},"",{"$f":"IF(AH339=\"\",\"\",IF(AI339=\"\",\"\",IF(入力シート①!$H$12>=AI339,AI339,\"-\")))","v":""},17]
[null,null,null,null,null,null,null,null,null,null,null,null,null,null,null,null,null,null,null,null,null,null,null,null,null,null,null,null,null,null,null,17,{"$f":"IF(AJ340=\"\",\"\",IF(AJ340=\"-\",\"\",IF($AA$20=TRUE,AJ340-1,AJ340)))","v":""},{"$f":"AN$20","v":""},"",{"$f":"IF(AH340=\"\",\"\",IF(AI340=\"\",\"\",IF(入力シート①!$H$12>=AI340,AI340,\"-\")))","v":""},17]
[null,null,null,null,null,null,null,null,null,null,null,null,null,null,null,null,null,null,null,null,null,null,null,null,null,null,null,null,null,null,null,18,{"$f":"IF(AJ341=\"\",\"\",IF(AJ341=\"-\",\"\",IF($AA$21=TRUE,AJ341-1,AJ341)))","v":""},{"$f":"AN$21","v":""},"",{"$f":"IF(AH341=\"\",\"\",IF(AI341=\"\",\"\",IF(入力シート①!$H$12>=AI341,AI341,\"-\")))","v":""},17]
[null,null,null,null,null,null,null,null,null,null,null,null,null,null,null,null,null,null,null,null,null,null,null,null,null,null,null,null,null,null,null,19,{"$f":"IF(AJ342=\"\",\"\",IF(AJ342=\"-\",\"\",IF($AA$22=TRUE,AJ342-1,AJ342)))","v":""},{"$f":"AN$22","v":""},"",{"$f":"IF(AH342=\"\",\"\",IF(AI342=\"\",\"\",IF(入力シート①!$H$12>=AI342,AI342,\"-\")))","v":""},17]
[null,null,null,null,null,null,null,null,null,null,null,null,null,null,null,null,null,null,null,null,null,null,null,null,null,null,null,null,null,null,null,20,{"$f":"IF(AJ343=\"\",\"\",IF(AJ343=\"-\",\"\",IF($AA$23=TRUE,AJ343-1,AJ343)))","v":""},{"$f":"AN$23","v":""},"",{"$f":"IF(AH343=\"\",\"\",IF(AI343=\"\",\"\",IF(入力シート①!$H$12>=AI343,AI343,\"-\")))","v":""},17]
[null,null,null,null,null,null,null,null,null,null,null,null,null,null,null,null,null,null,null,null,null,null,null,null,null,null,null,null,null,null,null,1,{"$f":"IF(AJ344=\"\",\"\",IF(AJ344=\"-\",\"\",IF($AA$4=TRUE,AJ344-1,AJ344)))","v":""},{"$f":"AN$4","v":"一般財団法人航空医学研究センター"},{"$f":"BF4","v":""},{"$f":"IF(AH344=\"\",\"\",IF(AI344=\"\",\"\",IF(入力シート①!$H$12>=AI344,AI344,\"-\")))","v":""},18]
[null,null,null,null,null,null,null,null,null,null,null,null,null,null,null,null,null,null,null,null,null,null,null,null,null,null,null,null,null,null,null,2,{"$f":"IF(AJ345=\"\",\"\",IF(AJ345=\"-\",\"\",IF($AA$5=TRUE,AJ345-1,AJ345)))","v":""},{"$f":"AN$5","v":""},{"$f":"BF5","v":""},{"$f":"IF(AH345=\"\",\"\",IF(AI345=\"\",\"\",IF(入力シート①!$H$12>=AI345,AI345,\"-\")))","v":""},18]
[null,null,null,null,null,null,null,null,null,null,null,null,null,null,null,null,null,null,null,null,null,null,null,null,null,null,null,null,null,null,null,3,{"$f":"IF(AJ346=\"\",\"\",IF(AJ346=\"-\",\"\",IF($AA$6=TRUE,AJ346-1,AJ346)))","v":""},{"$f":"AN$6","v":""},"",{"$f":"IF(AH346=\"\",\"\",IF(AI346=\"\",\"\",IF(入力シート①!$H$12>=AI346,AI346,\"-\")))","v":""},18]
[null,null,null,null,null,null,null,null,null,null,null,null,null,null,null,null,null,null,null,null,null,null,null,null,null,null,null,null,null,null,null,4,{"$f":"IF(AJ347=\"\",\"\",IF(AJ347=\"-\",\"\",IF($AA$7=TRUE,AJ347-1,AJ347)))","v":""},{"$f":"AN$7","v":""},"",{"$f":"IF(AH347=\"\",\"\",IF(AI347=\"\",\"\",IF(入力シート①!$H$12>=AI347,AI347,\"-\")))","v":""},18]
[null,null,null,null,null,null,null,null,null,null,null,null,null,null,null,null,null,null,null,null,null,null,null,null,null,null,null,null,null,null,null,5,{"$f":"IF(AJ348=\"\",\"\",IF(AJ348=\"-\",\"\",IF($AA$8=TRUE,AJ348-1,AJ348)))","v":""},{"$f":"AN$8","v":""},"",{"$f":"IF(AH348=\"\",\"\",IF(AI348=\"\",\"\",IF(入力シート①!$H$12>=AI348,AI348,\"-\")))","v":""},18]
[null,null,null,null,null,null,null,null,null,null,null,null,null,null,null,null,null,null,null,null,null,null,null,null,null,null,null,null,null,null,null,6,{"$f":"IF(AJ349=\"\",\"\",IF(AJ349=\"-\",\"\",IF($AA$9=TRUE,AJ349-1,AJ349)))","v":""},{"$f":"AN$9","v":""},"",{"$f":"IF(AH349=\"\",\"\",IF(AI349=\"\",\"\",IF(入力シート①!$H$12>=AI349,AI349,\"-\")))","v":""},18]
[null,null,null,null,null,null,null,null,null,null,null,null,null,null,null,null,null,null,null,null,null,null,null,null,null,null,null,null,null,null,null,7,{"$f":"IF(AJ350=\"\",\"\",IF(AJ350=\"-\",\"\",IF($AA$10=TRUE,AJ350-1,AJ350)))","v":""},{"$f":"AN$10","v":""},"",{"$f":"IF(AH350=\"\",\"\",IF(AI350=\"\",\"\",IF(入力シート①!$H$12>=AI350,AI350,\"-\")))","v":""},18]
[null,null,null,null,null,null,null,null,null,null,null,null,null,null,null,null,null,null,null,null,null,null,null,null,null,null,null,null,null,null,null,8,{"$f":"IF(AJ351=\"\",\"\",IF(AJ351=\"-\",\"\",IF($AA$11=TRUE,AJ351-1,AJ351)))","v":""},{"$f":"AN$11","v":""},"",{"$f":"IF(AH351=\"\",\"\",IF(AI351=\"\",\"\",IF(入力シート①!$H$12>=AI351,AI351,\"-\")))","v":""},18]
[null,null,null,null,null,null,null,null,null,null,null,null,null,null,null,null,null,null,null,null,null,null,null,null,null,null,null,null,null,null,null,9,{"$f":"IF(AJ352=\"\",\"\",IF(AJ352=\"-\",\"\",IF($AA$12=TRUE,AJ352-1,AJ352)))","v":""},{"$f":"AN$12","v":""},"",{"$f":"IF(AH352=\"\",\"\",IF(AI352=\"\",\"\",IF(入力シート①!$H$12>=AI352,AI352,\"-\")))","v":""},18]
[null,null,null,null,null,null,null,null,null,null,null,null,null,null,null,null,null,null,null,null,null,null,null,null,null,null,null,null,null,null,null,10,{"$f":"IF(AJ353=\"\",\"\",IF(AJ353=\"-\",\"\",IF($AA$13=TRUE,AJ353-1,AJ353)))","v":""},{"$f":"AN$13","v":""},"",{"$f":"IF(AH353=\"\",\"\",IF(AI353=\"\",\"\",IF(入力シート①!$H$12>=AI353,AI353,\"-\")))","v":""},18]
[null,null,null,null,null,null,null,null,null,null,null,null,null,null,null,null,null,null,null,null,null,null,null,null,null,null,null,null,null,null,null,11,{"$f":"IF(AJ354=\"\",\"\",IF(AJ354=\"-\",\"\",IF($AA$14=TRUE,AJ354-1,AJ354)))","v":""},{"$f":"AN$14","v":""},"",{"$f":"IF(AH354=\"\",\"\",IF(AI354=\"\",\"\",IF(入力シート①!$H$12>=AI354,AI354,\"-\")))","v":""},18]
[null,null,null,null,null,null,null,null,null,null,null,null,null,null,null,null,null,null,null,null,null,null,null,null,null,null,null,null,null,null,null,12,{"$f":"IF(AJ355=\"\",\"\",IF(AJ355=\"-\",\"\",IF($AA$15=TRUE,AJ355-1,AJ355)))","v":""},{"$f":"AN$15","v":""},"",{"$f":"IF(AH355=\"\",\"\",IF(AI355=\"\",\"\",IF(入力シート①!$H$12>=AI355,AI355,\"-\")))","v":""},18]
[null,null,null,null,null,null,null,null,null,null,null,null,null,null,null,null,null,null,null,null,null,null,null,null,null,null,null,null,null,null,null,13,{"$f":"IF(AJ356=\"\",\"\",IF(AJ356=\"-\",\"\",IF($AA$16=TRUE,AJ356-1,AJ356)))","v":""},{"$f":"AN$16","v":""},"",{"$f":"IF(AH356=\"\",\"\",IF(AI356=\"\",\"\",IF(入力シート①!$H$12>=AI356,AI356,\"-\")))","v":""},18]
[null,null,null,null,null,null,null,null,null,null,null,null,null,null,null,null,null,null,null,null,null,null,null,null,null,null,null,null,null,null,null,14,{"$f":"IF(AJ357=\"\",\"\",IF(AJ357=\"-\",\"\",IF($AA$17=TRUE,AJ357-1,AJ357)))","v":""},{"$f":"AN$17","v":""},"",{"$f":"IF(AH357=\"\",\"\",IF(AI357=\"\",\"\",IF(入力シート①!$H$12>=AI357,AI357,\"-\")))","v":""},18]
[null,null,null,null,null,null,null,null,null,null,null,null,null,null,null,null,null,null,null,null,null,null,null,null,null,null,null,null,null,null,null,15,{"$f":"IF(AJ358=\"\",\"\",IF(AJ358=\"-\",\"\",IF($AA$18=TRUE,AJ358-1,AJ358)))","v":""},{"$f":"AN$18","v":""},"",{"$f":"IF(AH358=\"\",\"\",IF(AI358=\"\",\"\",IF(入力シート①!$H$12>=AI358,AI358,\"-\")))","v":""},18]
[null,null,null,null,null,null,null,null,null,null,null,null,null,null,null,null,null,null,null,null,null,null,null,null,null,null,null,null,null,null,null,16,{"$f":"IF(AJ359=\"\",\"\",IF(AJ359=\"-\",\"\",IF($AA$19=TRUE,AJ359-1,AJ359)))","v":""},{"$f":"AN$19","v":""},"",{"$f":"IF(AH359=\"\",\"\",IF(AI359=\"\",\"\",IF(入力シート①!$H$12>=AI359,AI359,\"-\")))","v":""},18]
[null,null,null,null,null,null,null,null,null,null,null,null,null,null,null,null,null,null,null,null,null,null,null,null,null,null,null,null,null,null,null,17,{"$f":"IF(AJ360=\"\",\"\",IF(AJ360=\"-\",\"\",IF($AA$20=TRUE,AJ360-1,AJ360)))","v":""},{"$f":"AN$20","v":""},"",{"$f":"IF(AH360=\"\",\"\",IF(AI360=\"\",\"\",IF(入力シート①!$H$12>=AI360,AI360,\"-\")))","v":""},18]
[null,null,null,null,null,null,null,null,null,null,null,null,null,null,null,null,null,null,null,null,null,null,null,null,null,null,null,null,null,null,null,18,{"$f":"IF(AJ361=\"\",\"\",IF(AJ361=\"-\",\"\",IF($AA$21=TRUE,AJ361-1,AJ361)))","v":""},{"$f":"AN$21","v":""},"",{"$f":"IF(AH361=\"\",\"\",IF(AI361=\"\",\"\",IF(入力シート①!$H$12>=AI361,AI361,\"-\")))","v":""},18]
[null,null,null,null,null,null,null,null,null,null,null,null,null,null,null,null,null,null,null,null,null,null,null,null,null,null,null,null,null,null,null,19,{"$f":"IF(AJ362=\"\",\"\",IF(AJ362=\"-\",\"\",IF($AA$22=TRUE,AJ362-1,AJ362)))","v":""},{"$f":"AN$22","v":""},"",{"$f":"IF(AH362=\"\",\"\",IF(AI362=\"\",\"\",IF(入力シート①!$H$12>=AI362,AI362,\"-\")))","v":""},18]
[null,null,null,null,null,null,null,null,null,null,null,null,null,null,null,null,null,null,null,null,null,null,null,null,null,null,null,null,null,null,null,20,{"$f":"IF(AJ363=\"\",\"\",IF(AJ363=\"-\",\"\",IF($AA$23=TRUE,AJ363-1,AJ363)))","v":""},{"$f":"AN$23","v":""},"",{"$f":"IF(AH363=\"\",\"\",IF(AI363=\"\",\"\",IF(入力シート①!$H$12>=AI363,AI363,\"-\")))","v":""},18]
[null,null,null,null,null,null,null,null,null,null,null,null,null,null,null,null,null,null,null,null,null,null,null,null,null,null,null,null,null,null,null,1,{"$f":"IF(AJ364=\"\",\"\",IF(AJ364=\"-\",\"\",IF($AA$4=TRUE,AJ364-1,AJ364)))","v":""},{"$f":"AN$4","v":"一般財団法人航空医学研究センター"},{"$f":"BG4","v":""},{"$f":"IF(AH364=\"\",\"\",IF(AI364=\"\",\"\",IF(入力シート①!$H$12>=AI364,AI364,\"-\")))","v":""},19]
[null,null,null,null,null,null,null,null,null,null,null,null,null,null,null,null,null,null,null,null,null,null,null,null,null,null,null,null,null,null,null,2,{"$f":"IF(AJ365=\"\",\"\",IF(AJ365=\"-\",\"\",IF($AA$5=TRUE,AJ365-1,AJ365)))","v":""},{"$f":"AN$5","v":""},{"$f":"BG5","v":""},{"$f":"IF(AH365=\"\",\"\",IF(AI365=\"\",\"\",IF(入力シート①!$H$12>=AI365,AI365,\"-\")))","v":""},19]
[null,null,null,null,null,null,null,null,null,null,null,null,null,null,null,null,null,null,null,null,null,null,null,null,null,null,null,null,null,null,null,3,{"$f":"IF(AJ366=\"\",\"\",IF(AJ366=\"-\",\"\",IF($AA$6=TRUE,AJ366-1,AJ366)))","v":""},{"$f":"AN$6","v":""},"",{"$f":"IF(AH366=\"\",\"\",IF(AI366=\"\",\"\",IF(入力シート①!$H$12>=AI366,AI366,\"-\")))","v":""},19]
[null,null,null,null,null,null,null,null,null,null,null,null,null,null,null,null,null,null,null,null,null,null,null,null,null,null,null,null,null,null,null,4,{"$f":"IF(AJ367=\"\",\"\",IF(AJ367=\"-\",\"\",IF($AA$7=TRUE,AJ367-1,AJ367)))","v":""},{"$f":"AN$7","v":""},"",{"$f":"IF(AH367=\"\",\"\",IF(AI367=\"\",\"\",IF(入力シート①!$H$12>=AI367,AI367,\"-\")))","v":""},19]
[null,null,null,null,null,null,null,null,null,null,null,null,null,null,null,null,null,null,null,null,null,null,null,null,null,null,null,null,null,null,null,5,{"$f":"IF(AJ368=\"\",\"\",IF(AJ368=\"-\",\"\",IF($AA$8=TRUE,AJ368-1,AJ368)))","v":""},{"$f":"AN$8","v":""},"",{"$f":"IF(AH368=\"\",\"\",IF(AI368=\"\",\"\",IF(入力シート①!$H$12>=AI368,AI368,\"-\")))","v":""},19]
[null,null,null,null,null,null,null,null,null,null,null,null,null,null,null,null,null,null,null,null,null,null,null,null,null,null,null,null,null,null,null,6,{"$f":"IF(AJ369=\"\",\"\",IF(AJ369=\"-\",\"\",IF($AA$9=TRUE,AJ369-1,AJ369)))","v":""},{"$f":"AN$9","v":""},"",{"$f":"IF(AH369=\"\",\"\",IF(AI369=\"\",\"\",IF(入力シート①!$H$12>=AI369,AI369,\"-\")))","v":""},19]
[null,null,null,null,null,null,null,null,null,null,null,null,null,null,null,null,null,null,null,null,null,null,null,null,null,null,null,null,null,null,null,7,{"$f":"IF(AJ370=\"\",\"\",IF(AJ370=\"-\",\"\",IF($AA$10=TRUE,AJ370-1,AJ370)))","v":""},{"$f":"AN$10","v":""},"",{"$f":"IF(AH370=\"\",\"\",IF(AI370=\"\",\"\",IF(入力シート①!$H$12>=AI370,AI370,\"-\")))","v":""},19]
[null,null,null,null,null,null,null,null,null,null,null,null,null,null,null,null,null,null,null,null,null,null,null,null,null,null,null,null,null,null,null,8,{"$f":"IF(AJ371=\"\",\"\",IF(AJ371=\"-\",\"\",IF($AA$11=TRUE,AJ371-1,AJ371)))","v":""},{"$f":"AN$11","v":""},"",{"$f":"IF(AH371=\"\",\"\",IF(AI371=\"\",\"\",IF(入力シート①!$H$12>=AI371,AI371,\"-\")))","v":""},19]
[null,null,null,null,null,null,null,null,null,null,null,null,null,null,null,null,null,null,null,null,null,null,null,null,null,null,null,null,null,null,null,9,{"$f":"IF(AJ372=\"\",\"\",IF(AJ372=\"-\",\"\",IF($AA$12=TRUE,AJ372-1,AJ372)))","v":""},{"$f":"AN$12","v":""},"",{"$f":"IF(AH372=\"\",\"\",IF(AI372=\"\",\"\",IF(入力シート①!$H$12>=AI372,AI372,\"-\")))","v":""},19]
[null,null,null,null,null,null,null,null,null,null,null,null,null,null,null,null,null,null,null,null,null,null,null,null,null,null,null,null,null,null,null,10,{"$f":"IF(AJ373=\"\",\"\",IF(AJ373=\"-\",\"\",IF($AA$13=TRUE,AJ373-1,AJ373)))","v":""},{"$f":"AN$13","v":""},"",{"$f":"IF(AH373=\"\",\"\",IF(AI373=\"\",\"\",IF(入力シート①!$H$12>=AI373,AI373,\"-\")))","v":""},19]
[null,null,null,null,null,null,null,null,null,null,null,null,null,null,null,null,null,null,null,null,null,null,null,null,null,null,null,null,null,null,null,11,{"$f":"IF(AJ374=\"\",\"\",IF(AJ374=\"-\",\"\",IF($AA$14=TRUE,AJ374-1,AJ374)))","v":""},{"$f":"AN$14","v":""},"",{"$f":"IF(AH374=\"\",\"\",IF(AI374=\"\",\"\",IF(入力シート①!$H$12>=AI374,AI374,\"-\")))","v":""},19]
[null,null,null,null,null,null,null,null,null,null,null,null,null,null,null,null,null,null,null,null,null,null,null,null,null,null,null,null,null,null,null,12,{"$f":"IF(AJ375=\"\",\"\",IF(AJ375=\"-\",\"\",IF($AA$15=TRUE,AJ375-1,AJ375)))","v":""},{"$f":"AN$15","v":""},"",{"$f":"IF(AH375=\"\",\"\",IF(AI375=\"\",\"\",IF(入力シート①!$H$12>=AI375,AI375,\"-\")))","v":""},19]
[null,null,null,null,null,null,null,null,null,null,null,null,null,null,null,null,null,null,null,null,null,null,null,null,null,null,null,null,null,null,null,13,{"$f":"IF(AJ376=\"\",\"\",IF(AJ376=\"-\",\"\",IF($AA$16=TRUE,AJ376-1,AJ376)))","v":""},{"$f":"AN$16","v":""},"",{"$f":"IF(AH376=\"\",\"\",IF(AI376=\"\",\"\",IF(入力シート①!$H$12>=AI376,AI376,\"-\")))","v":""},19]
[null,null,null,null,null,null,null,null,null,null,null,null,null,null,null,null,null,null,null,null,null,null,null,null,null,null,null,null,null,null,null,14,{"$f":"IF(AJ377=\"\",\"\",IF(AJ377=\"-\",\"\",IF($AA$17=TRUE,AJ377-1,AJ377)))","v":""},{"$f":"AN$17","v":""},"",{"$f":"IF(AH377=\"\",\"\",IF(AI377=\"\",\"\",IF(入力シート①!$H$12>=AI377,AI377,\"-\")))","v":""},19]
[null,null,null,null,null,null,null,null,null,null,null,null,null,null,null,null,null,null,null,null,null,null,null,null,null,null,null,null,null,null,null,15,{"$f":"IF(AJ378=\"\",\"\",IF(AJ378=\"-\",\"\",IF($AA$18=TRUE,AJ378-1,AJ378)))","v":""},{"$f":"AN$18","v":""},"",{"$f":"IF(AH378=\"\",\"\",IF(AI378=\"\",\"\",IF(入力シート①!$H$12>=AI378,AI378,\"-\")))","v":""},19]
[null,null,null,null,null,null,null,null,null,null,null,null,null,null,null,null,null,null,null,null,null,null,null,null,null,null,null,null,null,null,null,16,{"$f":"IF(AJ379=\"\",\"\",IF(AJ379=\"-\",\"\",IF($AA$19=TRUE,AJ379-1,AJ379)))","v":""},{"$f":"AN$19","v":""},"",{"$f":"IF(AH379=\"\",\"\",IF(AI379=\"\",\"\",IF(入力シート①!$H$12>=AI379,AI379,\"-\")))","v":""},19]
[null,null,null,null,null,null,null,null,null,null,null,null,null,null,null,null,null,null,null,null,null,null,null,null,null,null,null,null,null,null,null,17,{"$f":"IF(AJ380=\"\",\"\",IF(AJ380=\"-\",\"\",IF($AA$20=TRUE,AJ380-1,AJ380)))","v":""},{"$f":"AN$20","v":""},"",{"$f":"IF(AH380=\"\",\"\",IF(AI380=\"\",\"\",IF(入力シート①!$H$12>=AI380,AI380,\"-\")))","v":""},19]
[null,null,null,null,null,null,null,null,null,null,null,null,null,null,null,null,null,null,null,null,null,null,null,null,null,null,null,null,null,null,null,18,{"$f":"IF(AJ381=\"\",\"\",IF(AJ381=\"-\",\"\",IF($AA$21=TRUE,AJ381-1,AJ381)))","v":""},{"$f":"AN$21","v":""},"",{"$f":"IF(AH381=\"\",\"\",IF(AI381=\"\",\"\",IF(入力シート①!$H$12>=AI381,AI381,\"-\")))","v":""},19]
[null,null,null,null,null,null,null,null,null,null,null,null,null,null,null,null,null,null,null,null,null,null,null,null,null,null,null,null,null,null,null,19,{"$f":"IF(AJ382=\"\",\"\",IF(AJ382=\"-\",\"\",IF($AA$22=TRUE,AJ382-1,AJ382)))","v":""},{"$f":"AN$22","v":""},"",{"$f":"IF(AH382=\"\",\"\",IF(AI382=\"\",\"\",IF(入力シート①!$H$12>=AI382,AI382,\"-\")))","v":""},19]
[null,null,null,null,null,null,null,null,null,null,null,null,null,null,null,null,null,null,null,null,null,null,null,null,null,null,null,null,null,null,null,20,{"$f":"IF(AJ383=\"\",\"\",IF(AJ383=\"-\",\"\",IF($AA$23=TRUE,AJ383-1,AJ383)))","v":""},{"$f":"AN$23","v":""},"",{"$f":"IF(AH383=\"\",\"\",IF(AI383=\"\",\"\",IF(入力シート①!$H$12>=AI383,AI383,\"-\")))","v":""},19]
[null,null,null,null,null,null,null,null,null,null,null,null,null,null,null,null,null,null,null,null,null,null,null,null,null,null,null,null,null,null,null,1,{"$f":"IF(AJ384=\"\",\"\",IF(AJ384=\"-\",\"\",IF($AA$4=TRUE,AJ384-1,AJ384)))","v":""},{"$f":"AN$4","v":"一般財団法人航空医学研究センター"},{"$f":"BH4","v":""},{"$f":"IF(AH384=\"\",\"\",IF(AI384=\"\",\"\",IF(入力シート①!$H$12>=AI384,AI384,\"-\")))","v":""},20]
[null,null,null,null,null,null,null,null,null,null,null,null,null,null,null,null,null,null,null,null,null,null,null,null,null,null,null,null,null,null,null,2,{"$f":"IF(AJ385=\"\",\"\",IF(AJ385=\"-\",\"\",IF($AA$5=TRUE,AJ385-1,AJ385)))","v":""},{"$f":"AN$5","v":""},{"$f":"BH5","v":""},{"$f":"IF(AH385=\"\",\"\",IF(AI385=\"\",\"\",IF(入力シート①!$H$12>=AI385,AI385,\"-\")))","v":""},20]
[null,null,null,null,null,null,null,null,null,null,null,null,null,null,null,null,null,null,null,null,null,null,null,null,null,null,null,null,null,null,null,3,{"$f":"IF(AJ386=\"\",\"\",IF(AJ386=\"-\",\"\",IF($AA$6=TRUE,AJ386-1,AJ386)))","v":""},{"$f":"AN$6","v":""},"",{"$f":"IF(AH386=\"\",\"\",IF(AI386=\"\",\"\",IF(入力シート①!$H$12>=AI386,AI386,\"-\")))","v":""},20]
[null,null,null,null,null,null,null,null,null,null,null,null,null,null,null,null,null,null,null,null,null,null,null,null,null,null,null,null,null,null,null,4,{"$f":"IF(AJ387=\"\",\"\",IF(AJ387=\"-\",\"\",IF($AA$7=TRUE,AJ387-1,AJ387)))","v":""},{"$f":"AN$7","v":""},"",{"$f":"IF(AH387=\"\",\"\",IF(AI387=\"\",\"\",IF(入力シート①!$H$12>=AI387,AI387,\"-\")))","v":""},20]
[null,null,null,null,null,null,null,null,null,null,null,null,null,null,null,null,null,null,null,null,null,null,null,null,null,null,null,null,null,null,null,5,{"$f":"IF(AJ388=\"\",\"\",IF(AJ388=\"-\",\"\",IF($AA$8=TRUE,AJ388-1,AJ388)))","v":""},{"$f":"AN$8","v":""},"",{"$f":"IF(AH388=\"\",\"\",IF(AI388=\"\",\"\",IF(入力シート①!$H$12>=AI388,AI388,\"-\")))","v":""},20]
[null,null,null,null,null,null,null,null,null,null,null,null,null,null,null,null,null,null,null,null,null,null,null,null,null,null,null,null,null,null,null,6,{"$f":"IF(AJ389=\"\",\"\",IF(AJ389=\"-\",\"\",IF($AA$9=TRUE,AJ389-1,AJ389)))","v":""},{"$f":"AN$9","v":""},"",{"$f":"IF(AH389=\"\",\"\",IF(AI389=\"\",\"\",IF(入力シート①!$H$12>=AI389,AI389,\"-\")))","v":""},20]
[null,null,null,null,null,null,null,null,null,null,null,null,null,null,null,null,null,null,null,null,null,null,null,null,null,null,null,null,null,null,null,7,{"$f":"IF(AJ390=\"\",\"\",IF(AJ390=\"-\",\"\",IF($AA$10=TRUE,AJ390-1,AJ390)))","v":""},{"$f":"AN$10","v":""},"",{"$f":"IF(AH390=\"\",\"\",IF(AI390=\"\",\"\",IF(入力シート①!$H$12>=AI390,AI390,\"-\")))","v":""},20]
[null,null,null,null,null,null,null,null,null,null,null,null,null,null,null,null,null,null,null,null,null,null,null,null,null,null,null,null,null,null,null,8,{"$f":"IF(AJ391=\"\",\"\",IF(AJ391=\"-\",\"\",IF($AA$11=TRUE,AJ391-1,AJ391)))","v":""},{"$f":"AN$11","v":""},"",{"$f":"IF(AH391=\"\",\"\",IF(AI391=\"\",\"\",IF(入力シート①!$H$12>=AI391,AI391,\"-\")))","v":""},20]
[null,null,null,null,null,null,null,null,null,null,null,null,null,null,null,null,null,null,null,null,null,null,null,null,null,null,null,null,null,null,null,9,{"$f":"IF(AJ392=\"\",\"\",IF(AJ392=\"-\",\"\",IF($AA$12=TRUE,AJ392-1,AJ392)))","v":""},{"$f":"AN$12","v":""},"",{"$f":"IF(AH392=\"\",\"\",IF(AI392=\"\",\"\",IF(入力シート①!$H$12>=AI392,AI392,\"-\")))","v":""},20]
[null,null,null,null,null,null,null,null,null,null,null,null,null,null,null,null,null,null,null,null,null,null,null,null,null,null,null,null,null,null,null,10,{"$f":"IF(AJ393=\"\",\"\",IF(AJ393=\"-\",\"\",IF($AA$13=TRUE,AJ393-1,AJ393)))","v":""},{"$f":"AN$13","v":""},"",{"$f":"IF(AH393=\"\",\"\",IF(AI393=\"\",\"\",IF(入力シート①!$H$12>=AI393,AI393,\"-\")))","v":""},20]
[null,null,null,null,null,null,null,null,null,null,null,null,null,null,null,null,null,null,null,null,null,null,null,null,null,null,null,null,null,null,null,11,{"$f":"IF(AJ394=\"\",\"\",IF(AJ394=\"-\",\"\",IF($AA$14=TRUE,AJ394-1,AJ394)))","v":""},{"$f":"AN$14","v":""},"",{"$f":"IF(AH394=\"\",\"\",IF(AI394=\"\",\"\",IF(入力シート①!$H$12>=AI394,AI394,\"-\")))","v":""},20]
[null,null,null,null,null,null,null,null,null,null,null,null,null,null,null,null,null,null,null,null,null,null,null,null,null,null,null,null,null,null,null,12,{"$f":"IF(AJ395=\"\",\"\",IF(AJ395=\"-\",\"\",IF($AA$15=TRUE,AJ395-1,AJ395)))","v":""},{"$f":"AN$15","v":""},"",{"$f":"IF(AH395=\"\",\"\",IF(AI395=\"\",\"\",IF(入力シート①!$H$12>=AI395,AI395,\"-\")))","v":""},20]
[null,null,null,null,null,null,null,null,null,null,null,null,null,null,null,null,null,null,null,null,null,null,null,null,null,null,null,null,null,null,null,13,{"$f":"IF(AJ396=\"\",\"\",IF(AJ396=\"-\",\"\",IF($AA$16=TRUE,AJ396-1,AJ396)))","v":""},{"$f":"AN$16","v":""},"",{"$f":"IF(AH396=\"\",\"\",IF(AI396=\"\",\"\",IF(入力シート①!$H$12>=AI396,AI396,\"-\")))","v":""},20]
[null,null,null,null,null,null,null,null,null,null,null,null,null,null,null,null,null,null,null,null,null,null,null,null,null,null,null,null,null,null,null,14,{"$f":"IF(AJ397=\"\",\"\",IF(AJ397=\"-\",\"\",IF($AA$17=TRUE,AJ397-1,AJ397)))","v":""},{"$f":"AN$17","v":""},"",{"$f":"IF(AH397=\"\",\"\",IF(AI397=\"\",\"\",IF(入力シート①!$H$12>=AI397,AI397,\"-\")))","v":""},20]
[null,null,null,null,null,null,null,null,null,null,null,null,null,null,null,null,null,null,null,null,null,null,null,null,null,null,null,null,null,null,null,15,{"$f":"IF(AJ398=\"\",\"\",IF(AJ398=\"-\",\"\",IF($AA$18=TRUE,AJ398-1,AJ398)))","v":""},{"$f":"AN$18","v":""},"",{"$f":"IF(AH398=\"\",\"\",IF(AI398=\"\",\"\",IF(入力シート①!$H$12>=AI398,AI398,\"-\")))","v":""},20]
[null,null,null,null,null,null,null,null,null,null,null,null,null,null,null,null,null,null,null,null,null,null,null,null,null,null,null,null,null,null,null,16,{"$f":"IF(AJ399=\"\",\"\",IF(AJ399=\"-\",\"\",IF($AA$19=TRUE,AJ399-1,AJ399)))","v":""},{"$f":"AN$19","v":""},"",{"$f":"IF(AH399=\"\",\"\",IF(AI399=\"\",\"\",IF(入力シート①!$H$12>=AI399,AI399,\"-\")))","v":""},20]
[null,null,null,null,null,null,null,null,null,null,null,null,null,null,null,null,null,null,null,null,null,null,null,null,null,null,null,null,null,null,null,17,{"$f":"IF(AJ400=\"\",\"\",IF(AJ400=\"-\",\"\",IF($AA$20=TRUE,AJ400-1,AJ400)))","v":""},{"$f":"AN$20","v":""},"",{"$f":"IF(AH400=\"\",\"\",IF(AI400=\"\",\"\",IF(入力シート①!$H$12>=AI400,AI400,\"-\")))","v":""},20]
[null,null,null,null,null,null,null,null,null,null,null,null,null,null,null,null,null,null,null,null,null,null,null,null,null,null,null,null,null,null,null,18,{"$f":"IF(AJ401=\"\",\"\",IF(AJ401=\"-\",\"\",IF($AA$21=TRUE,AJ401-1,AJ401)))","v":""},{"$f":"AN$21","v":""},"",{"$f":"IF(AH401=\"\",\"\",IF(AI401=\"\",\"\",IF(入力シート①!$H$12>=AI401,AI401,\"-\")))","v":""},20]
[null,null,null,null,null,null,null,null,null,null,null,null,null,null,null,null,null,null,null,null,null,null,null,null,null,null,null,null,null,null,null,19,{"$f":"IF(AJ402=\"\",\"\",IF(AJ402=\"-\",\"\",IF($AA$22=TRUE,AJ402-1,AJ402)))","v":""},{"$f":"AN$22","v":""},"",{"$f":"IF(AH402=\"\",\"\",IF(AI402=\"\",\"\",IF(入力シート①!$H$12>=AI402,AI402,\"-\")))","v":""},20]
[null,null,null,null,null,null,null,null,null,null,null,null,null,null,null,null,null,null,null,null,null,null,null,null,null,null,null,null,null,null,null,20,{"$f":"IF(AJ403=\"\",\"\",IF(AJ403=\"-\",\"\",IF($AA$23=TRUE,AJ403-1,AJ403)))","v":""},{"$f":"AN$23","v":""},"",{"$f":"IF(AH403=\"\",\"\",IF(AI403=\"\",\"\",IF(入力シート①!$H$12>=AI403,AI403,\"-\")))","v":""},20]

{"sheet":"①入札正式1-5","index":4,"n_rows":34,"n_cols":47,"rows_kept":34,"cut":false,"hidden":false,"merged":[[8,2,8,7],[4,32,4,37],[19,33,19,56],[6,39,6,44],[6,46,6,51],[8,39,8,44],[12,9,12,17],[14,2,14,9],[14,10,14,11],[14,12,14,20],[16,42,16,50],[8,46,8,51],[10,39,10,44],[16,40,16,41],[6,2,6,7],[6,9,6,30],[0,0,0,56],[2,1,2,5],[2,7,2,52],[4,39,4,44],[4,46,4,51],[4,2,4,7],[27,31,27,42],[27,43,27,56],[27,0,27,18],[16,2,16,9],[16,10,16,11],[16,12,16,20],[16,22,16,38],[24,0,24,18],[25,0,25,18],[26,0,26,18],[27,19,27,30],[20,43,22,56],[24,31,24,42],[25,31,25,42],[26,43,26,56],[26,19,26,30],[33,35,34,56],[28,26,29,42],[30,0,31,25],[30,26,31,33],[31,34,32,45],[32,0,33,25],[6,32,6,37],[8,32,8,37],[10,32,10,37],[4,9,4,30],[8,8,8,9],[8,10,8,23],[10,9,10,30],[10,2,10,7],[20,31,20,42],[21,31,22,42],[23,31,23,42],[20,19,20,30],[21,19,22,30],[23,19,23,30],[20,0,22,18],[23,0,23,18],[12,1,12,6],[12,7,12,8],[14,42,14,50],[10,46,10,51],[14,22,14,39],[14,40,14,41],[23,43,23,56],[24,43,24,56],[25,43,25,56],[26,31,26,42],[24,19,24,30],[25,19,25,30]]}
["競争入札経過調書（最低価格落札方式）"]
[]
[null,"件名",null,null,null,null,null,{"$f":"IF(入力シート①!H3=\"\",\"\",入力シート①!H3)","v":"航空機乗組員の身体検査基準及び航空身体検査マニュアル並びに加齢乗員の現状に関する調査"}]
[]
[null,null,"開札年月日",null,null,null,null,null,null,{"$f":"入力シート①!$H$5&TEMP!$C$2&\"年\"&TEMP!$F$2&\"月\"&TEMP!$F$23&\"日\"&\"　\"&IF(TEMP!$AK$3=\"\",\"( 落札決定日 \"&入力シート①!$H$6&TEMP!$C$4&\"年\"&TEMP!$F$4&\"月\"&TEMP!$F$25&\"日 )\",\"( 見積成立日 平成\"&TEMP!$C$4&\"年\"&TEMP!$F$4&\"月\"&TEMP!$F$25&\"日 )\")","v":"平成29年6月16日　( 落札決定日 平成29年6月16日 )"},null,null,null,null,null,null,null,null,null,null,null,null,null,null,null,null,null,null,null,null,null,null,"入札執行職員",null,null,null,null,null,null,{"$f":"TEMP!$I$2","v":"国土交通事務官"},null,null,null,null,null,null,{"$f":"IF(入力シート①!$N$16=\"\",\"\",入力シート①!$N$16)","v":"尾野　辰平"}]
[]
[null,null,"入札執行官署",null,null,null,null,null,null,{"$f":"IF(入力シート①!H8=\"\",\"\",入力シート①!H8)","v":"国土交通省航空局"},null,null,null,null,null,null,null,null,null,null,null,null,null,null,null,null,null,null,null,null,null,null,{"$f":"IF($AU$7=\"\",\"\",\"補助職員\")","v":"補助職員"},null,null,null,null,null,null,{"$f":"TEMP!$I$4","v":"国土交通事務官"},null,null,null,null,null,null,{"$f":"IF(入力シート①!$N$17=\"\",\"\",入力シート①!$N$17)","v":"田中　智基"}]
[]
[null,null,{"$f":"IF(TEMP!AK3=\"\",\"落札金額\",\"見積成立金額\")","v":"落札金額"},null,null,null,null,null,"￥",null,{"$f":"IF(TEMP!V2=\"-\",TEMP!AI3,TEMP!V2)","v":5184000},null,null,null,null,null,null,null,null,null,null,null,null,null,null,null,null,null,null,null,null,null,{"$f":"IF($AU$9=\"\",\"\",\"立会職員\")","v":"立会職員"},null,null,null,null,null,null,{"$f":"TEMP!$I$6","v":"国土交通技官"},null,null,null,null,null,null,{"$f":"IF(入力シート①!$N$18=\"\",\"\",入力シート①!$N$18)","v":"松尾　幸治"}]
[]
[null,null,{"$f":"IF(TEMP!AK3=\"\",\"落札者\",\"見積成立者\")","v":"落札者"},null,null,null,null,null,null,{"$f":"IF(TEMP!Q2=\"-\",TEMP!AH3,TEMP!Q2)","v":"一般財団法人航空医学研究センター"},null,null,null,null,null,null,null,null,null,null,null,null,null,null,null,null,null,null,null,null,null,null,{"$f":"IF($AU$11=\"\",\"\",\"立会職員\")","v":""},null,null,null,null,null,null,{"$f":"TEMP!$I$8","v":"　"},null,null,null,null,null,null,{"$f":"IF(入力シート①!$N$19=\"\",\"\",入力シート①!$N$19)","v":""}]
[]
[null,"予定価格",null,null,null,null,null,"￥",null,{"$f":"M15","v":5916226}]
[]
[null,null,"積算額",null,null,null,null,null,null,null,"￥",null,{"$f":"IF(入力シート①!H12=\"\",\"-\",IF(入力シート①!H12=0,\"-\",入力シート①!H12))","v":5916226},null,null,null,null,null,null,null,null,null,{"$f":"\"入札書比較価格（予定価格の100/\"&100+入力シート①!$R$9&\"）\"","v":"入札書比較価格（予定価格の100/108）"},null,null,null,null,null,null,null,null,null,null,null,null,null,null,null,null,null,"￥",null,{"$f":"IF(入力シート①!O12=\"\",\"-\",IF(入力シート①!O12=0,\"-\",入力シート①!O12))","v":5477988}]
[]
[null,null,"調査基準価格",null,null,null,null,null,null,null,"￥",null,{"$f":"IF(入力シート①!H13=\"\",\"-\",IF(入力シート①!H13=0,\"-\",入力シート①!H13))","v":"-"},null,null,null,null,null,null,null,null,null,{"$f":"\"調査基準価格の100/\"&100+入力シート①!$R$9","v":"調査基準価格の100/108"},null,null,null,null,null,null,null,null,null,null,null,null,null,null,null,null,null,"￥",null,{"$f":"IF(入力シート①!O13=\"\",\"-\",IF(入力シート①!O13=0,\"-\",入力シート①!O13))","v":"-"}]
[]
[]
[null,null,null,null,null,null,null,null,null,null,null,null,null,null,null,null,null,null,null,null,null,null,null,null,null,null,null,null,null,null,null,null,null,{"$f":"IF(入力シート①!$H$13=\"\",\"\",IF(OR(TEMP!$R$2<入力シート①!$O$13,TEMP!$AI$3<入力シート①!$H$13),\"低入札価格調査実施済\",\"\"))&\"　\"&IF(COUNTIF(TEMP!$T$4:$T$23,\"○\")>0,\"第１回　落札\",IF(COUNTIF(TEMP!$T$24:$T$43,\"○\")>0,\"第２回　落札\",IF(TEMP!$AK$3<>\"\",\"第\"&TEMP!$AK$3&\"回見積　成立\",\"\")))&\"　\"&IF(TEMP!$L$3+TEMP!$AB$3>0,\"(くじの結果)\",\"\")","v":"　第１回　落札　"}]
["入札参加者",null,null,null,null,null,null,null,null,null,null,null,null,null,null,null,null,null,null,"第１回入札",null,null,null,null,null,null,null,null,null,null,null,"第２回入札",null,null,null,null,null,null,null,null,null,null,null,"摘　要"]
[null,null,null,null,null,null,null,null,null,null,null,null,null,null,null,null,null,null,null,"入札金額",null,null,null,null,null,null,null,null,null,null,null,"入札金額"]
[]
[{"$f":"TEMP!Q4","v":"一般財団法人航空医学研究センター"},null,null,null,null,null,null,null,null,null,null,null,null,null,null,null,null,null,null,{"$f":"TEMP!R4","v":4800000},null,null,null,null,null,null,null,null,null,null,null,{"$f":"TEMP!R24","v":""},null,null,null,null,null,null,null,null,null,null,null,{"$f":"TEMP!V4","v":"第１回　落札"}]
[{"$f":"TEMP!Q5","v":""},null,null,null,null,null,null,null,null,null,null,null,null,null,null,null,null,null,null,{"$f":"TEMP!R5","v":""},null,null,null,null,null,null,null,null,null,null,null,{"$f":"TEMP!R25","v":""},null,null,null,null,null,null,null,null,null,null,null,{"$f":"TEMP!V5","v":""}]
[{"$f":"TEMP!Q6","v":""},null,null,null,null,null,null,null,null,null,null,null,null,null,null,null,null,null,null,{"$f":"TEMP!R6","v":""},null,null,null,null,null,null,null,null,null,null,null,{"$f":"TEMP!R26","v":""},null,null,null,null,null,null,null,null,null,null,null,{"$f":"TEMP!V6","v":""}]
[{"$f":"TEMP!Q7","v":""},null,null,null,null,null,null,null,null,null,null,null,null,null,null,null,null,null,null,{"$f":"TEMP!R7","v":""},null,null,null,null,null,null,null,null,null,null,null,{"$f":"TEMP!R27","v":""},null,null,null,null,null,null,null,null,null,null,null,{"$f":"TEMP!V7","v":""}]
[{"$f":"TEMP!Q8","v":""},null,null,null,null,null,null,null,null,null,null,null,null,null,null,null,null,null,null,{"$f":"TEMP!R8","v":""},null,null,null,null,null,null,null,null,null,null,null,{"$f":"TEMP!R28","v":""},null,null,null,null,null,null,null,null,null,null,null,{"$f":"TEMP!V8","v":""}]
[null,null,null,null,null,null,null,null,null,null,null,null,null,null,null,null,null,null,null,null,null,null,null,null,null,null,"上記内容について相違ないことを証明する。"]
[{"$f":"\"※ 入札金額は入札者が見積もった契約希望金額の\"&100+入力シート①!$R$9&\"分の100に相当する金額である。\"","v":"※ 入札金額は入札者が見積もった契約希望金額の108分の100に相当する金額である。"}]
["※ 予定価格（入札書比較価格）の制限の範囲内で最低価格をもって有効な入札を行った入札者を落札者とする。",null,null,null,null,null,null,null,null,null,null,null,null,null,null,null,null,null,null,null,null,null,null,null,null,null,{"$f":"入力シート①!$H$7&TEMP!$C$6&\"年\"&TEMP!$F$6&\"月\"&TEMP!$F$27&\"日\"","v":"平成29年6月16日"}]
[null,null,null,null,null,null,null,null,null,null,null,null,null,null,null,null,null,null,null,null,null,null,null,null,null,null,null,null,null,null,null,null,null,null,{"$f":"IF(TEMP!$H$15=1,\"支出負担行為担当官\",IF(TEMP!$H$15=2,\"支出負担行為担当官代理\",IF(TEMP!$H$15=3,\"分任支出負担行為担当官\",IF(TEMP!$H$15=4,\"分任支出負担行為担当官代理\"))))","v":"支出負担行為担当官"}]
[{"$f":"\"※ 落札決定に当たっては、入札書に記載された金額に当該金額の\"&入力シート①!$R$9&\"％に相当する額を加算した金額（１円未満の端数は切り捨て。）をもって落札金額とする。\"","v":"※ 落札決定に当たっては、入札書に記載された金額に当該金額の8％に相当する額を加算した金額（１円未満の端数は切り捨て。）をもって落札金額とする。"}]
[null,null,null,null,null,null,null,null,null,null,null,null,null,null,null,null,null,null,null,null,null,null,null,null,null,null,null,null,null,null,null,null,null,null,null,{"$f":"IF(TEMP!$H$15=1,入力シート①!$B$22,IF(TEMP!$H$15=2,入力シート①!$B$24,IF(TEMP!$H$15=3,入力シート①!$B$22,IF(TEMP!$H$15=4,入力シート①!$B$24))))&\"　\"&IF(TEMP!$H$15=1,入力シート①!$N$22,IF(TEMP!$H$15=2,入力シート①!$N$24,IF(TEMP!$H$15=3,入力シート①!$N$22,IF(TEMP!$H$15=4,入力シート①!$N$24))))","v":"国土交通省航空局長　佐藤　善信"}]

{"sheet":"②入札正式6-10","index":5,"n_rows":39,"n_cols":47,"rows_kept":39,"cut":false,"hidden":false,"merged":[[4,46,4,51],[6,39,6,44],[4,39,4,44],[10,2,10,7],[10,9,10,30],[10,32,10,37],[10,39,10,44],[10,46,10,51],[8,8,8,9],[8,10,8,23],[8,39,8,44],[6,2,6,7],[8,2,8,7],[6,9,6,30],[16,40,16,41],[14,22,14,39],[14,40,14,41],[14,42,14,50],[0,0,0,56],[2,1,2,5],[2,7,2,52],[4,2,4,7],[14,2,14,9],[14,10,14,11],[14,12,14,20],[12,1,12,6],[12,7,12,8],[12,9,12,17],[6,46,6,51],[8,46,8,51],[26,43,26,56],[26,19,26,30],[26,31,26,42],[25,0,25,18],[25,43,25,56],[25,19,25,30],[25,31,25,42],[27,43,27,56],[27,19,27,30],[27,31,27,42],[28,31,28,42],[28,0,28,18],[28,43,28,56],[29,43,29,56],[28,19,28,30],[29,19,29,30],[29,31,29,42],[31,43,31,56],[31,19,31,30],[31,31,31,42],[30,43,30,56],[30,19,30,30],[30,31,30,42],[32,43,32,56],[32,19,32,30],[32,31,32,42],[37,0,38,25],[38,35,39,56],[33,26,34,42],[35,0,36,25],[35,26,36,33],[36,34,37,45],[32,0,32,18],[21,19,22,30],[20,31,20,42],[21,31,22,42],[4,32,4,37],[6,32,6,37],[8,32,8,37],[4,9,4,30],[18,33,18,56],[16,2,16,9],[16,10,16,11],[16,12,16,20],[16,22,16,38],[20,0,22,18],[20,43,22,56],[20,19,20,30],[16,42,16,50],[31,0,31,18],[29,0,29,18],[27,0,27,18],[26,0,26,18],[30,0,30,18],[24,0,24,18],[24,43,24,56],[24,19,24,30],[24,31,24,42],[23,0,23,18],[23,43,23,56],[23,19,23,30],[23,31,23,42]]}
["競争入札経過調書（最低価格落札方式）"]
[]
[null,"件名",null,null,null,null,null,{"$f":"IF(入力シート①!H3=\"\",\"\",入力シート①!H3)","v":"航空機乗組員の身体検査基準及び航空身体検査マニュアル並びに加齢乗員の現状に関する調査"}]
[]
[null,null,"開札年月日",null,null,null,null,null,null,{"$f":"入力シート①!$H$5&TEMP!$C$2&\"年\"&TEMP!$F$2&\"月\"&TEMP!$F$23&\"日\"&\"　\"&IF(TEMP!$AK$3=\"\",\"( 落札決定日 \"&入力シート①!$H$6&TEMP!$C$4&\"年\"&TEMP!$F$4&\"月\"&TEMP!$F$25&\"日 )\",\"( 見積成立日 平成\"&TEMP!$C$4&\"年\"&TEMP!$F$4&\"月\"&TEMP!$F$25&\"日 )\")","v":"平成29年6月16日　( 落札決定日 平成29年6月16日 )"},null,null,null,null,null,null,null,null,null,null,null,null,null,null,null,null,null,null,null,null,null,null,"入札執行職員",null,null,null,null,null,null,{"$f":"TEMP!$I$2","v":"国土交通事務官"},null,null,null,null,null,null,{"$f":"IF(入力シート①!$N$16=\"\",\"\",入力シート①!$N$16)","v":"尾野　辰平"}]
[]
[null,null,"入札執行官署",null,null,null,null,null,null,{"$f":"IF(入力シート①!H8=\"\",\"\",入力シート①!H8)","v":"国土交通省航空局"},null,null,null,null,null,null,null,null,null,null,null,null,null,null,null,null,null,null,null,null,null,null,{"$f":"IF($AU$7=\"\",\"\",\"補助職員\")","v":"補助職員"},null,null,null,null,null,null,{"$f":"TEMP!$I$4","v":"国土交通事務官"},null,null,null,null,null,null,{"$f":"IF(入力シート①!$N$17=\"\",\"\",入力シート①!$N$17)","v":"田中　智基"}]
[]
[null,null,{"$f":"IF(TEMP!AK3=\"\",\"落札金額\",\"見積成立金額\")","v":"落札金額"},null,null,null,null,null,"￥",null,{"$f":"IF(TEMP!V2=\"-\",TEMP!AI3,TEMP!V2)","v":5184000},null,null,null,null,null,null,null,null,null,null,null,null,null,null,null,null,null,null,null,null,null,{"$f":"IF($AU$9=\"\",\"\",\"立会職員\")","v":"立会職員"},null,null,null,null,null,null,{"$f":"TEMP!$I$6","v":"国土交通技官"},null,null,null,null,null,null,{"$f":"IF(入力シート①!$N$18=\"\",\"\",入力シート①!$N$18)","v":"松尾　幸治"}]
[]
[null,null,{"$f":"IF(TEMP!AK3=\"\",\"落札者\",\"見積成立者\")","v":"落札者"},null,null,null,null,null,null,{"$f":"IF(TEMP!Q2=\"-\",TEMP!AH3,TEMP!Q2)","v":"一般財団法人航空医学研究センター"},null,null,null,null,null,null,null,null,null,null,null,null,null,null,null,null,null,null,null,null,null,null,{"$f":"IF($AU$11=\"\",\"\",\"立会職員\")","v":""},null,null,null,null,null,null,{"$f":"TEMP!$I$8","v":"　"},null,null,null,null,null,null,{"$f":"IF(入力シート①!$N$19=\"\",\"\",入力シート①!$N$19)","v":""}]
[]
[null,"予定価格",null,null,null,null,null,"￥",null,{"$f":"M15","v":5916226}]
[]
[null,null,"積算額",null,null,null,null,null,null,null,"￥",null,{"$f":"IF(入力シート①!H12=\"\",\"-\",IF(入力シート①!H12=0,\"-\",入力シート①!H12))","v":5916226},null,null,null,null,null,null,null,null,null,{"$f":"\"入札書比較価格（予定価格の100/\"&100+入力シート①!$R$9&\"）\"","v":"入札書比較価格（予定価格の100/108）"},null,null,null,null,null,null,null,null,null,null,null,null,null,null,null,null,null,"￥",null,{"$f":"IF(入力シート①!O12=\"\",\"-\",IF(入力シート①!O12=0,\"-\",入力シート①!O12))","v":5477988}]
[]
[null,null,"調査基準価格",null,null,null,null,null,null,null,"￥",null,{"$f":"IF(入力シート①!H13=\"\",\"-\",IF(入力シート①!H13=0,\"-\",入力シート①!H13))","v":"-"},null,null,null,null,null,null,null,null,null,{"$f":"\"調査基準価格の100/\"&100+入力シート①!$R$9","v":"調査基準価格の100/108"},null,null,null,null,null,null,null,null,null,null,null,null,null,null,null,null,null,"￥",null,{"$f":"IF(入力シート①!O13=\"\",\"-\",IF(入力シート①!O13=0,\"-\",入力シート①!O13))","v":"-"}]
[]
[null,null,null,null,null,null,null,null,null,null,null,null,null,null,null,null,null,null,null,null,null,null,null,null,null,null,null,null,null,null,null,null,null,{"$f":"IF(入力シート①!$H$13=\"\",\"\",IF(OR(TEMP!$R$2<入力シート①!$O$13,TEMP!$AI$3<入力シート①!$H$13),\"低入札価格調査実施済\",\"\"))&\"　\"&IF(COUNTIF(TEMP!$T$4:$T$23,\"○\")>0,\"第１回　落札\",IF(COUNTIF(TEMP!$T$24:$T$43,\"○\")>0,\"第２回　落札\",IF(TEMP!$AK$3<>\"\",\"第\"&TEMP!$AK$3&\"回見積　成立\",\"\")))&\"　\"&IF(TEMP!$L$3+TEMP!$AB$3>0,\"(くじの結果)\",\"\")","v":"　第１回　落札　"}]
[]
["入札参加者",null,null,null,null,null,null,null,null,null,null,null,null,null,null,null,null,null,null,"第１回入札",null,null,null,null,null,null,null,null,null,null,null,"第２回入札",null,null,null,null,null,null,null,null,null,null,null,"摘　要"]
[null,null,null,null,null,null,null,null,null,null,null,null,null,null,null,null,null,null,null,"入札金額",null,null,null,null,null,null,null,null,null,null,null,"入札金額"]
[]
[{"$f":"TEMP!Q4","v":"一般財団法人航空医学研究センター"},null,null,null,null,null,null,null,null,null,null,null,null,null,null,null,null,null,null,{"$f":"TEMP!R4","v":4800000},null,null,null,null,null,null,null,null,null,null,null,{"$f":"TEMP!R24","v":""},null,null,null,null,null,null,null,null,null,null,null,{"$f":"TEMP!V4","v":"第１回　落札"}]
[{"$f":"TEMP!Q5","v":""},null,null,null,null,null,null,null,null,null,null,null,null,null,null,null,null,null,null,{"$f":"TEMP!R5","v":""},null,null,null,null,null,null,null,null,null,null,null,{"$f":"TEMP!R25","v":""},null,null,null,null,null,null,null,null,null,null,null,{"$f":"TEMP!V5","v":""}]
[{"$f":"TEMP!Q6","v":""},null,null,null,null,null,null,null,null,null,null,null,null,null,null,null,null,null,null,{"$f":"TEMP!R6","v":""},null,null,null,null,null,null,null,null,null,null,null,{"$f":"TEMP!R26","v":""},null,null,null,null,null,null,null,null,null,null,null,{"$f":"TEMP!V6","v":""}]
[{"$f":"TEMP!Q7","v":""},null,null,null,null,null,null,null,null,null,null,null,null,null,null,null,null,null,null,{"$f":"TEMP!R7","v":""},null,null,null,null,null,null,null,null,null,null,null,{"$f":"TEMP!R27","v":""},null,null,null,null,null,null,null,null,null,null,null,{"$f":"TEMP!V7","v":""}]
[{"$f":"TEMP!Q8","v":""},null,null,null,null,null,null,null,null,null,null,null,null,null,null,null,null,null,null,{"$f":"TEMP!R8","v":""},null,null,null,null,null,null,null,null,null,null,null,{"$f":"TEMP!R28","v":""},null,null,null,null,null,null,null,null,null,null,null,{"$f":"TEMP!V8","v":""}]
[{"$f":"TEMP!Q9","v":""},null,null,null,null,null,null,null,null,null,null,null,null,null,null,null,null,null,null,{"$f":"TEMP!R9","v":""},null,null,null,null,null,null,null,null,null,null,null,{"$f":"TEMP!R29","v":""},null,null,null,null,null,null,null,null,null,null,null,{"$f":"TEMP!V9","v":""}]
[{"$f":"TEMP!Q10","v":""},null,null,null,null,null,null,null,null,null,null,null,null,null,null,null,null,null,null,{"$f":"TEMP!R10","v":""},null,null,null,null,null,null,null,null,null,null,null,{"$f":"TEMP!R30","v":""},null,null,null,null,null,null,null,null,null,null,null,{"$f":"TEMP!V10","v":""}]
[{"$f":"TEMP!Q11","v":""},null,null,null,null,null,null,null,null,null,null,null,null,null,null,null,null,null,null,{"$f":"TEMP!R11","v":""},null,null,null,null,null,null,null,null,null,null,null,{"$f":"TEMP!R31","v":""},null,null,null,null,null,null,null,null,null,null,null,{"$f":"TEMP!V11","v":""}]
[{"$f":"TEMP!Q12","v":""},null,null,null,null,null,null,null,null,null,null,null,null,null,null,null,null,null,null,{"$f":"TEMP!R12","v":""},null,null,null,null,null,null,null,null,null,null,null,{"$f":"TEMP!R32","v":""},null,null,null,null,null,null,null,null,null,null,null,{"$f":"TEMP!V12","v":""}]
[{"$f":"TEMP!Q13","v":""},null,null,null,null,null,null,null,null,null,null,null,null,null,null,null,null,null,null,{"$f":"TEMP!R13","v":""},null,null,null,null,null,null,null,null,null,null,null,{"$f":"TEMP!R33","v":""},null,null,null,null,null,null,null,null,null,null,null,{"$f":"TEMP!V13","v":""}]
[null,null,null,null,null,null,null,null,null,null,null,null,null,null,null,null,null,null,null,null,null,null,null,null,null,null,"上記内容について相違ないことを証明する。"]
[{"$f":"\"※ 入札金額は入札者が見積もった契約希望金額の\"&100+入力シート①!$R$9&\"分の100に相当する金額である。\"","v":"※ 入札金額は入札者が見積もった契約希望金額の108分の100に相当する金額である。"}]
["※ 予定価格（入札書比較価格）の制限の範囲内で最低価格をもって有効な入札を行った入札者を落札者とする。",null,null,null,null,null,null,null,null,null,null,null,null,null,null,null,null,null,null,null,null,null,null,null,null,null,{"$f":"入力シート①!$H$7&TEMP!$C$6&\"年\"&TEMP!$F$6&\"月\"&TEMP!$F$27&\"日\"","v":"平成29年6月16日"}]
[null,null,null,null,null,null,null,null,null,null,null,null,null,null,null,null,null,null,null,null,null,null,null,null,null,null,null,null,null,null,null,null,null,null,{"$f":"IF(TEMP!$H$15=1,\"支出負担行為担当官\",IF(TEMP!$H$15=2,\"支出負担行為担当官代理\",IF(TEMP!$H$15=3,\"分任支出負担行為担当官\",IF(TEMP!$H$15=4,\"分任支出負担行為担当官代理\"))))","v":"支出負担行為担当官"}]
[{"$f":"\"※ 落札決定に当たっては、入札書に記載された金額に当該金額の\"&入力シート①!$R$9&\"％に相当する額を加算した金額（１円未満の端数は切り捨て。）をもって落札金額とする。\"","v":"※ 落札決定に当たっては、入札書に記載された金額に当該金額の8％に相当する額を加算した金額（１円未満の端数は切り捨て。）をもって落札金額とする。"}]
[null,null,null,null,null,null,null,null,null,null,null,null,null,null,null,null,null,null,null,null,null,null,null,null,null,null,null,null,null,null,null,null,null,null,null,{"$f":"IF(TEMP!$H$15=1,入力シート①!$B$22,IF(TEMP!$H$15=2,入力シート①!$B$24,IF(TEMP!$H$15=3,入力シート①!$B$22,IF(TEMP!$H$15=4,入力シート①!$B$24))))&\"　\"&IF(TEMP!$H$15=1,入力シート①!$N$22,IF(TEMP!$H$15=2,入力シート①!$N$24,IF(TEMP!$H$15=3,入力シート①!$N$22,IF(TEMP!$H$15=4,入力シート①!$N$24))))","v":"国土交通省航空局長　佐藤　善信"}]

{"sheet":"③入札正式11-15","index":6,"n_rows":44,"n_cols":47,"rows_kept":44,"cut":false,"hidden":false,"merged":[[10,46,10,51],[6,9,6,30],[14,10,14,11],[14,40,14,41],[14,42,14,50],[6,39,6,44],[25,31,25,42],[24,0,24,18],[24,43,24,56],[24,19,24,30],[24,31,24,42],[20,43,22,56],[20,19,20,30],[23,0,23,18],[23,43,23,56],[23,19,23,30],[23,31,23,42],[20,0,22,18],[20,31,20,42],[18,33,18,56],[26,43,26,56],[26,19,26,30],[26,31,26,42],[25,0,25,18],[25,43,25,56],[25,19,25,30],[21,19,22,30],[21,31,22,42],[0,0,0,56],[2,1,2,5],[2,7,2,52],[4,39,4,44],[4,46,4,51],[16,2,16,9],[16,10,16,11],[16,12,16,20],[16,22,16,38],[16,40,16,41],[16,42,16,50],[6,46,6,51],[8,39,8,44],[8,46,8,51],[14,22,14,39],[14,12,14,20],[28,43,28,56],[29,43,29,56],[28,19,28,30],[29,19,29,30],[27,0,27,18],[27,43,27,56],[27,19,27,30],[27,31,27,42],[28,31,28,42],[29,31,29,42],[28,0,28,18],[31,43,31,56],[31,19,31,30],[31,31,31,42],[32,31,32,42],[33,31,33,42],[30,0,30,18],[30,43,30,56],[30,19,30,30],[30,31,30,42],[34,43,34,56],[34,19,34,30],[34,31,34,42],[32,0,32,18],[33,0,33,18],[32,43,32,56],[33,43,33,56],[32,19,32,30],[33,19,33,30],[43,35,44,56],[35,0,35,18],[36,0,36,18],[37,0,37,18],[35,43,35,56],[36,43,36,56],[37,43,37,56],[35,19,35,30],[36,19,36,30],[37,19,37,30],[35,31,35,42],[36,31,36,42],[37,31,37,42],[42,0,43,25],[41,34,42,45],[4,32,4,37],[6,32,6,37],[8,32,8,37],[4,9,4,30],[8,8,8,9],[8,10,8,23],[10,9,10,30],[38,26,39,42],[40,0,41,25],[40,26,41,33],[34,0,34,18],[31,0,31,18],[29,0,29,18],[26,0,26,18],[12,1,12,6],[12,7,12,8],[12,9,12,17],[4,2,4,7],[14,2,14,9],[6,2,6,7],[8,2,8,7],[10,2,10,7],[10,32,10,37],[10,39,10,44]]}
["競争入札経過調書（最低価格落札方式）"]
[]
[null,"件名",null,null,null,null,null,{"$f":"IF(入力シート①!H3=\"\",\"\",入力シート①!H3)","v":"航空機乗組員の身体検査基準及び航空身体検査マニュアル並びに加齢乗員の現状に関する調査"}]
[]
[null,null,"開札年月日",null,null,null,null,null,null,{"$f":"入力シート①!$H$5&TEMP!$C$2&\"年\"&TEMP!$F$2&\"月\"&TEMP!$F$23&\"日\"&\"　\"&IF(TEMP!$AK$3=\"\",\"( 落札決定日 \"&入力シート①!$H$6&TEMP!$C$4&\"年\"&TEMP!$F$4&\"月\"&TEMP!$F$25&\"日 )\",\"( 見積成立日 平成\"&TEMP!$C$4&\"年\"&TEMP!$F$4&\"月\"&TEMP!$F$25&\"日 )\")","v":"平成29年6月16日　( 落札決定日 平成29年6月16日 )"},null,null,null,null,null,null,null,null,null,null,null,null,null,null,null,null,null,null,null,null,null,null,"入札執行職員",null,null,null,null,null,null,{"$f":"TEMP!$I$2","v":"国土交通事務官"},null,null,null,null,null,null,{"$f":"IF(入力シート①!$N$16=\"\",\"\",入力シート①!$N$16)","v":"尾野　辰平"}]
[]
[null,null,"入札執行官署",null,null,null,null,null,null,{"$f":"IF(入力シート①!H8=\"\",\"\",入力シート①!H8)","v":"国土交通省航空局"},null,null,null,null,null,null,null,null,null,null,null,null,null,null,null,null,null,null,null,null,null,null,{"$f":"IF($AU$7=\"\",\"\",\"補助職員\")","v":"補助職員"},null,null,null,null,null,null,{"$f":"TEMP!$I$4","v":"国土交通事務官"},null,null,null,null,null,null,{"$f":"IF(入力シート①!$N$17=\"\",\"\",入力シート①!$N$17)","v":"田中　智基"}]
[]
[null,null,{"$f":"IF(TEMP!AK3=\"\",\"落札金額\",\"見積成立金額\")","v":"落札金額"},null,null,null,null,null,"￥",null,{"$f":"IF(TEMP!V2=\"-\",TEMP!AI3,TEMP!V2)","v":5184000},null,null,null,null,null,null,null,null,null,null,null,null,null,null,null,null,null,null,null,null,null,{"$f":"IF($AU$9=\"\",\"\",\"立会職員\")","v":"立会職員"},null,null,null,null,null,null,{"$f":"TEMP!$I$6","v":"国土交通技官"},null,null,null,null,null,null,{"$f":"IF(入力シート①!$N$18=\"\",\"\",入力シート①!$N$18)","v":"松尾　幸治"}]
[]
[null,null,{"$f":"IF(TEMP!AK3=\"\",\"落札者\",\"見積成立者\")","v":"落札者"},null,null,null,null,null,null,{"$f":"IF(TEMP!Q2=\"-\",TEMP!AH3,TEMP!Q2)","v":"一般財団法人航空医学研究センター"},null,null,null,null,null,null,null,null,null,null,null,null,null,null,null,null,null,null,null,null,null,null,{"$f":"IF($AU$11=\"\",\"\",\"立会職員\")","v":""},null,null,null,null,null,null,{"$f":"TEMP!$I$8","v":"　"},null,null,null,null,null,null,{"$f":"IF(入力シート①!$N$19=\"\",\"\",入力シート①!$N$19)","v":""}]
[]
[null,"予定価格",null,null,null,null,null,"￥",null,{"$f":"M15","v":5916226}]
[]
[null,null,"積算額",null,null,null,null,null,null,null,"￥",null,{"$f":"IF(入力シート①!H12=\"\",\"-\",IF(入力シート①!H12=0,\"-\",入力シート①!H12))","v":5916226},null,null,null,null,null,null,null,null,null,{"$f":"\"入札書比較価格（予定価格の100/\"&100+入力シート①!$R$9&\"）\"","v":"入札書比較価格（予定価格の100/108）"},null,null,null,null,null,null,null,null,null,null,null,null,null,null,null,null,null,"￥",null,{"$f":"IF(入力シート①!O12=\"\",\"-\",IF(入力シート①!O12=0,\"-\",入力シート①!O12))","v":5477988}]
[]
[null,null,"調査基準価格",null,null,null,null,null,null,null,"￥",null,{"$f":"IF(入力シート①!H13=\"\",\"-\",IF(入力シート①!H13=0,\"-\",入力シート①!H13))","v":"-"},null,null,null,null,null,null,null,null,null,{"$f":"\"調査基準価格の100/\"&100+入力シート①!$R$9","v":"調査基準価格の100/108"},null,null,null,null,null,null,null,null,null,null,null,null,null,null,null,null,null,"￥",null,{"$f":"IF(入力シート①!O13=\"\",\"-\",IF(入力シート①!O13=0,\"-\",入力シート①!O13))","v":"-"}]
[]
[null,null,null,null,null,null,null,null,null,null,null,null,null,null,null,null,null,null,null,null,null,null,null,null,null,null,null,null,null,null,null,null,null,{"$f":"IF(入力シート①!$H$13=\"\",\"\",IF(OR(TEMP!$R$2<入力シート①!$O$13,TEMP!$AI$3<入力シート①!$H$13),\"低入札価格調査実施済\",\"\"))&\"　\"&IF(COUNTIF(TEMP!$T$4:$T$23,\"○\")>0,\"第１回　落札\",IF(COUNTIF(TEMP!$T$24:$T$43,\"○\")>0,\"第２回　落札\",IF(TEMP!$AK$3<>\"\",\"第\"&TEMP!$AK$3&\"回見積　成立\",\"\")))&\"　\"&IF(TEMP!$L$3+TEMP!$AB$3>0,\"(くじの結果)\",\"\")","v":"　第１回　落札　"}]
[]
["入札参加者",null,null,null,null,null,null,null,null,null,null,null,null,null,null,null,null,null,null,"第１回入札",null,null,null,null,null,null,null,null,null,null,null,"第２回入札",null,null,null,null,null,null,null,null,null,null,null,"摘　要"]
[null,null,null,null,null,null,null,null,null,null,null,null,null,null,null,null,null,null,null,"入札金額",null,null,null,null,null,null,null,null,null,null,null,"入札金額"]
[]
[{"$f":"TEMP!Q4","v":"一般財団法人航空医学研究センター"},null,null,null,null,null,null,null,null,null,null,null,null,null,null,null,null,null,null,{"$f":"TEMP!R4","v":4800000},null,null,null,null,null,null,null,null,null,null,null,{"$f":"TEMP!R24","v":""},null,null,null,null,null,null,null,null,null,null,null,{"$f":"TEMP!V4","v":"第１回　落札"}]
[{"$f":"TEMP!Q5","v":""},null,null,null,null,null,null,null,null,null,null,null,null,null,null,null,null,null,null,{"$f":"TEMP!R5","v":""},null,null,null,null,null,null,null,null,null,null,null,{"$f":"TEMP!R25","v":""},null,null,null,null,null,null,null,null,null,null,null,{"$f":"TEMP!V5","v":""}]
[{"$f":"TEMP!Q6","v":""},null,null,null,null,null,null,null,null,null,null,null,null,null,null,null,null,null,null,{"$f":"TEMP!R6","v":""},null,null,null,null,null,null,null,null,null,null,null,{"$f":"TEMP!R26","v":""},null,null,null,null,null,null,null,null,null,null,null,{"$f":"TEMP!V6","v":""}]
[{"$f":"TEMP!Q7","v":""},null,null,null,null,null,null,null,null,null,null,null,null,null,null,null,null,null,null,{"$f":"TEMP!R7","v":""},null,null,null,null,null,null,null,null,null,null,null,{"$f":"TEMP!R27","v":""},null,null,null,null,null,null,null,null,null,null,null,{"$f":"TEMP!V7","v":""}]
[{"$f":"TEMP!Q8","v":""},null,null,null,null,null,null,null,null,null,null,null,null,null,null,null,null,null,null,{"$f":"TEMP!R8","v":""},null,null,null,null,null,null,null,null,null,null,null,{"$f":"TEMP!R28","v":""},null,null,null,null,null,null,null,null,null,null,null,{"$f":"TEMP!V8","v":""}]
[{"$f":"TEMP!Q9","v":""},null,null,null,null,null,null,null,null,null,null,null,null,null,null,null,null,null,null,{"$f":"TEMP!R9","v":""},null,null,null,null,null,null,null,null,null,null,null,{"$f":"TEMP!R29","v":""},null,null,null,null,null,null,null,null,null,null,null,{"$f":"TEMP!V9","v":""}]
[{"$f":"TEMP!Q10","v":""},null,null,null,null,null,null,null,null,null,null,null,null,null,null,null,null,null,null,{"$f":"TEMP!R10","v":""},null,null,null,null,null,null,null,null,null,null,null,{"$f":"TEMP!R30","v":""},null,null,null,null,null,null,null,null,null,null,null,{"$f":"TEMP!V10","v":""}]
[{"$f":"TEMP!Q11","v":""},null,null,null,null,null,null,null,null,null,null,null,null,null,null,null,null,null,null,{"$f":"TEMP!R11","v":""},null,null,null,null,null,null,null,null,null,null,null,{"$f":"TEMP!R31","v":""},null,null,null,null,null,null,null,null,null,null,null,{"$f":"TEMP!V11","v":""}]
[{"$f":"TEMP!Q12","v":""},null,null,null,null,null,null,null,null,null,null,null,null,null,null,null,null,null,null,{"$f":"TEMP!R12","v":""},null,null,null,null,null,null,null,null,null,null,null,{"$f":"TEMP!R32","v":""},null,null,null,null,null,null,null,null,null,null,null,{"$f":"TEMP!V12","v":""}]
[{"$f":"TEMP!Q13","v":""},null,null,null,null,null,null,null,null,null,null,null,null,null,null,null,null,null,null,{"$f":"TEMP!R13","v":""},null,null,null,null,null,null,null,null,null,null,null,{"$f":"TEMP!R33","v":""},null,null,null,null,null,null,null,null,null,null,null,{"$f":"TEMP!V13","v":""}]
[{"$f":"TEMP!Q14","v":""},null,null,null,null,null,null,null,null,null,null,null,null,null,null,null,null,null,null,{"$f":"TEMP!R14","v":""},null,null,null,null,null,null,null,null,null,null,null,{"$f":"TEMP!R34","v":""},null,null,null,null,null,null,null,null,null,null,null,{"$f":"TEMP!V14","v":""}]
[{"$f":"TEMP!Q15","v":""},null,null,null,null,null,null,null,null,null,null,null,null,null,null,null,null,null,null,{"$f":"TEMP!R15","v":""},null,null,null,null,null,null,null,null,null,null,null,{"$f":"TEMP!R35","v":""},null,null,null,null,null,null,null,null,null,null,null,{"$f":"TEMP!V15","v":""}]
[{"$f":"TEMP!Q16","v":""},null,null,null,null,null,null,null,null,null,null,null,null,null,null,null,null,null,null,{"$f":"TEMP!R16","v":""},null,null,null,null,null,null,null,null,null,null,null,{"$f":"TEMP!R36","v":""},null,null,null,null,null,null,null,null,null,null,null,{"$f":"TEMP!V16","v":""}]
[{"$f":"TEMP!Q17","v":""},null,null,null,null,null,null,null,null,null,null,null,null,null,null,null,null,null,null,{"$f":"TEMP!R17","v":""},null,null,null,null,null,null,null,null,null,null,null,{"$f":"TEMP!R37","v":""},null,null,null,null,null,null,null,null,null,null,null,{"$f":"TEMP!V17","v":""}]
[{"$f":"TEMP!Q18","v":""},null,null,null,null,null,null,null,null,null,null,null,null,null,null,null,null,null,null,{"$f":"TEMP!R18","v":""},null,null,null,null,null,null,null,null,null,null,null,{"$f":"TEMP!R38","v":""},null,null,null,null,null,null,null,null,null,null,null,{"$f":"TEMP!V18","v":""}]
[null,null,null,null,null,null,null,null,null,null,null,null,null,null,null,null,null,null,null,null,null,null,null,null,null,null,"上記内容について相違ないことを証明する。"]
[{"$f":"\"※ 入札金額は入札者が見積もった契約希望金額の\"&100+入力シート①!$R$9&\"分の100に相当する金額である。\"","v":"※ 入札金額は入札者が見積もった契約希望金額の108分の100に相当する金額である。"}]
["※ 予定価格（入札書比較価格）の制限の範囲内で最低価格をもって有効な入札を行った入札者を落札者とする。",null,null,null,null,null,null,null,null,null,null,null,null,null,null,null,null,null,null,null,null,null,null,null,null,null,{"$f":"入力シート①!$H$7&TEMP!$C$6&\"年\"&TEMP!$F$6&\"月\"&TEMP!$F$27&\"日\"","v":"平成29年6月16日"}]
[null,null,null,null,null,null,null,null,null,null,null,null,null,null,null,null,null,null,null,null,null,null,null,null,null,null,null,null,null,null,null,null,null,null,{"$f":"IF(TEMP!$H$15=1,\"支出負担行為担当官\",IF(TEMP!$H$15=2,\"支出負担行為担当官代理\",IF(TEMP!$H$15=3,\"分任支出負担行為担当官\",IF(TEMP!$H$15=4,\"分任支出負担行為担当官代理\"))))","v":"支出負担行為担当官"}]
[{"$f":"\"※ 落札決定に当たっては、入札書に記載された金額に当該金額の\"&入力シート①!$R$9&\"％に相当する額を加算した金額（１円未満の端数は切り捨て。）をもって落札金額とする。\"","v":"※ 落札決定に当たっては、入札書に記載された金額に当該金額の8％に相当する額を加算した金額（１円未満の端数は切り捨て。）をもって落札金額とする。"}]
[null,null,null,null,null,null,null,null,null,null,null,null,null,null,null,null,null,null,null,null,null,null,null,null,null,null,null,null,null,null,null,null,null,null,null,{"$f":"IF(TEMP!$H$15=1,入力シート①!$B$22,IF(TEMP!$H$15=2,入力シート①!$B$24,IF(TEMP!$H$15=3,入力シート①!$B$22,IF(TEMP!$H$15=4,入力シート①!$B$24))))&\"　\"&IF(TEMP!$H$15=1,入力シート①!$N$22,IF(TEMP!$H$15=2,入力シート①!$N$24,IF(TEMP!$H$15=3,入力シート①!$N$22,IF(TEMP!$H$15=4,入力シート①!$N$24))))","v":"国土交通省航空局長　佐藤　善信"}]

{"sheet":"④入札正式16-20","index":7,"n_rows":49,"n_cols":47,"rows_kept":49,"cut":false,"hidden":false,"merged":[[6,9,6,30],[42,0,42,18],[38,43,38,56],[47,0,48,25],[0,0,0,56],[38,19,38,30],[39,19,39,30],[40,19,40,30],[41,19,41,30],[42,19,42,30],[30,31,30,42],[31,31,31,42],[32,31,32,42],[33,31,33,42],[34,31,34,42],[35,31,35,42],[36,31,36,42],[37,31,37,42],[38,31,38,42],[39,31,39,42],[40,31,40,42],[41,31,41,42],[42,31,42,42],[39,0,39,18],[39,43,39,56],[40,43,40,56],[41,43,41,56],[18,33,18,56],[14,22,14,39],[16,22,16,38],[8,39,8,44],[8,46,8,51],[23,0,23,18],[24,0,24,18],[25,0,25,18],[26,0,26,18],[27,0,27,18],[28,0,28,18],[29,0,29,18],[30,0,30,18],[20,43,22,56],[29,31,29,42],[20,19,20,30],[37,0,37,18],[38,0,38,18],[20,0,22,18],[25,19,25,30],[20,31,20,42],[42,43,42,56],[31,19,31,30],[32,19,32,30],[33,19,33,30],[2,1,2,5],[4,46,4,51],[6,46,6,51],[4,39,4,44],[6,39,6,44],[2,7,2,52],[8,8,8,9],[8,10,8,23],[4,2,4,7],[6,2,6,7],[8,2,8,7],[41,0,41,18],[12,9,12,17],[12,7,12,8],[10,2,10,7],[4,32,4,37],[6,32,6,37],[8,32,8,37],[4,9,4,30],[40,0,40,18],[48,35,49,56],[45,26,46,33],[43,26,44,42],[34,19,34,30],[35,19,35,30],[36,19,36,30],[37,19,37,30],[30,19,30,30],[31,43,31,56],[32,43,32,56],[33,43,33,56],[34,43,34,56],[35,43,35,56],[36,43,36,56],[37,43,37,56],[30,43,30,56],[46,34,47,45],[45,0,46,25],[31,0,31,18],[32,0,32,18],[33,0,33,18],[34,0,34,18],[35,0,35,18],[36,0,36,18],[21,31,22,42],[23,31,23,42],[21,19,22,30],[23,19,23,30],[14,42,14,50],[16,42,16,50],[14,10,14,11],[16,10,16,11],[14,40,14,41],[16,40,16,41],[14,2,14,9],[16,2,16,9],[14,12,14,20],[16,12,16,20],[12,1,12,6],[10,9,10,30],[10,32,10,37],[10,39,10,44],[10,46,10,51],[27,19,27,30],[28,19,28,30],[29,19,29,30],[23,43,23,56],[24,43,24,56],[25,43,25,56],[26,43,26,56],[27,43,27,56],[28,43,28,56],[29,43,29,56],[24,31,24,42],[25,31,25,42],[26,31,26,42],[27,31,27,42],[28,31,28,42],[24,19,24,30],[26,19,26,30]]}
["競争入札経過調書（最低価格落札方式）"]
[]
[null,"件名",null,null,null,null,null,{"$f":"IF(入力シート①!H3=\"\",\"\",入力シート①!H3)","v":"航空機乗組員の身体検査基準及び航空身体検査マニュアル並びに加齢乗員の現状に関する調査"}]
[]
[null,null,"開札年月日",null,null,null,null,null,null,{"$f":"入力シート①!$H$5&TEMP!$C$2&\"年\"&TEMP!$F$2&\"月\"&TEMP!$F$23&\"日\"&\"　\"&IF(TEMP!$AK$3=\"\",\"( 落札決定日 \"&入力シート①!$H$6&TEMP!$C$4&\"年\"&TEMP!$F$4&\"月\"&TEMP!$F$25&\"日 )\",\"( 見積成立日 平成\"&TEMP!$C$4&\"年\"&TEMP!$F$4&\"月\"&TEMP!$F$25&\"日 )\")","v":"平成29年6月16日　( 落札決定日 平成29年6月16日 )"},null,null,null,null,null,null,null,null,null,null,null,null,null,null,null,null,null,null,null,null,null,null,"入札執行職員",null,null,null,null,null,null,{"$f":"TEMP!$I$2","v":"国土交通事務官"},null,null,null,null,null,null,{"$f":"IF(入力シート①!$N$16=\"\",\"\",入力シート①!$N$16)","v":"尾野　辰平"}]
[]
[null,null,"入札執行官署",null,null,null,null,null,null,{"$f":"IF(入力シート①!H8=\"\",\"\",入力シート①!H8)","v":"国土交通省航空局"},null,null,null,null,null,null,null,null,null,null,null,null,null,null,null,null,null,null,null,null,null,null,{"$f":"IF($AU$7=\"\",\"\",\"補助職員\")","v":"補助職員"},null,null,null,null,null,null,{"$f":"TEMP!$I$4","v":"国土交通事務官"},null,null,null,null,null,null,{"$f":"IF(入力シート①!$N$17=\"\",\"\",入力シート①!$N$17)","v":"田中　智基"}]
[]
[null,null,{"$f":"IF(TEMP!AK3=\"\",\"落札金額\",\"見積成立金額\")","v":"落札金額"},null,null,null,null,null,"￥",null,{"$f":"IF(TEMP!V2=\"-\",TEMP!AI3,TEMP!V2)","v":5184000},null,null,null,null,null,null,null,null,null,null,null,null,null,null,null,null,null,null,null,null,null,{"$f":"IF($AU$9=\"\",\"\",\"立会職員\")","v":"立会職員"},null,null,null,null,null,null,{"$f":"TEMP!$I$6","v":"国土交通技官"},null,null,null,null,null,null,{"$f":"IF(入力シート①!$N$18=\"\",\"\",入力シート①!$N$18)","v":"松尾　幸治"}]
[]
[null,null,{"$f":"IF(TEMP!AK3=\"\",\"落札者\",\"見積成立者\")","v":"落札者"},null,null,null,null,null,null,{"$f":"IF(TEMP!Q2=\"-\",TEMP!AH3,TEMP!Q2)","v":"一般財団法人航空医学研究センター"},null,null,null,null,null,null,null,null,null,null,null,null,null,null,null,null,null,null,null,null,null,null,{"$f":"IF($AU$11=\"\",\"\",\"立会職員\")","v":""},null,null,null,null,null,null,{"$f":"TEMP!$I$8","v":"　"},null,null,null,null,null,null,{"$f":"IF(入力シート①!$N$19=\"\",\"\",入力シート①!$N$19)","v":""}]
[]
[null,"予定価格",null,null,null,null,null,"￥",null,{"$f":"M15","v":5916226}]
[]
[null,null,"積算額",null,null,null,null,null,null,null,"￥",null,{"$f":"IF(入力シート①!H12=\"\",\"-\",IF(入力シート①!H12=0,\"-\",入力シート①!H12))","v":5916226},null,null,null,null,null,null,null,null,null,{"$f":"\"入札書比較価格（予定価格の100/\"&100+入力シート①!$R$9&\"）\"","v":"入札書比較価格（予定価格の100/108）"},null,null,null,null,null,null,null,null,null,null,null,null,null,null,null,null,null,"￥",null,{"$f":"IF(入力シート①!O12=\"\",\"-\",IF(入力シート①!O12=0,\"-\",入力シート①!O12))","v":5477988}]
[]
[null,null,"調査基準価格",null,null,null,null,null,null,null,"￥",null,{"$f":"IF(入力シート①!H13=\"\",\"-\",IF(入力シート①!H13=0,\"-\",入力シート①!H13))","v":"-"},null,null,null,null,null,null,null,null,null,{"$f":"\"調査基準価格の100/\"&100+入力シート①!$R$9","v":"調査基準価格の100/108"},null,null,null,null,null,null,null,null,null,null,null,null,null,null,null,null,null,"￥",null,{"$f":"IF(入力シート①!O13=\"\",\"-\",IF(入力シート①!O13=0,\"-\",入力シート①!O13))","v":"-"}]
[]
[null,null,null,null,null,null,null,null,null,null,null,null,null,null,null,null,null,null,null,null,null,null,null,null,null,null,null,null,null,null,null,null,null,{"$f":"IF(入力シート①!$H$13=\"\",\"\",IF(OR(TEMP!$R$2<入力シート①!$O$13,TEMP!$AI$3<入力シート①!$H$13),\"低入札価格調査実施済\",\"\"))&\"　\"&IF(COUNTIF(TEMP!$T$4:$T$23,\"○\")>0,\"第１回　落札\",IF(COUNTIF(TEMP!$T$24:$T$43,\"○\")>0,\"第２回　落札\",IF(TEMP!$AK$3<>\"\",\"第\"&TEMP!$AK$3&\"回見積　成立\",\"\")))&\"　\"&IF(TEMP!$L$3+TEMP!$AB$3>0,\"(くじの結果)\",\"\")","v":"　第１回　落札　"}]
[]
["入札参加者",null,null,null,null,null,null,null,null,null,null,null,null,null,null,null,null,null,null,"第１回入札",null,null,null,null,null,null,null,null,null,null,null,"第２回入札",null,null,null,null,null,null,null,null,null,null,null,"摘　要"]
[null,null,null,null,null,null,null,null,null,null,null,null,null,null,null,null,null,null,null,"入札金額",null,null,null,null,null,null,null,null,null,null,null,"入札金額"]
[]
[{"$f":"TEMP!Q4","v":"一般財団法人航空医学研究センター"},null,null,null,null,null,null,null,null,null,null,null,null,null,null,null,null,null,null,{"$f":"TEMP!R4","v":4800000},null,null,null,null,null,null,null,null,null,null,null,{"$f":"TEMP!R24","v":""},null,null,null,null,null,null,null,null,null,null,null,{"$f":"TEMP!V4","v":"第１回　落札"}]
[{"$f":"TEMP!Q5","v":""},null,null,null,null,null,null,null,null,null,null,null,null,null,null,null,null,null,null,{"$f":"TEMP!R5","v":""},null,null,null,null,null,null,null,null,null,null,null,{"$f":"TEMP!R25","v":""},null,null,null,null,null,null,null,null,null,null,null,{"$f":"TEMP!V5","v":""}]
[{"$f":"TEMP!Q6","v":""},null,null,null,null,null,null,null,null,null,null,null,null,null,null,null,null,null,null,{"$f":"TEMP!R6","v":""},null,null,null,null,null,null,null,null,null,null,null,{"$f":"TEMP!R26","v":""},null,null,null,null,null,null,null,null,null,null,null,{"$f":"TEMP!V6","v":""}]
[{"$f":"TEMP!Q7","v":""},null,null,null,null,null,null,null,null,null,null,null,null,null,null,null,null,null,null,{"$f":"TEMP!R7","v":""},null,null,null,null,null,null,null,null,null,null,null,{"$f":"TEMP!R27","v":""},null,null,null,null,null,null,null,null,null,null,null,{"$f":"TEMP!V7","v":""}]
[{"$f":"TEMP!Q8","v":""},null,null,null,null,null,null,null,null,null,null,null,null,null,null,null,null,null,null,{"$f":"TEMP!R8","v":""},null,null,null,null,null,null,null,null,null,null,null,{"$f":"TEMP!R28","v":""},null,null,null,null,null,null,null,null,null,null,null,{"$f":"TEMP!V8","v":""}]
[{"$f":"TEMP!Q9","v":""},null,null,null,null,null,null,null,null,null,null,null,null,null,null,null,null,null,null,{"$f":"TEMP!R9","v":""},null,null,null,null,null,null,null,null,null,null,null,{"$f":"TEMP!R29","v":""},null,null,null,null,null,null,null,null,null,null,null,{"$f":"TEMP!V9","v":""}]
[{"$f":"TEMP!Q10","v":""},null,null,null,null,null,null,null,null,null,null,null,null,null,null,null,null,null,null,{"$f":"TEMP!R10","v":""},null,null,null,null,null,null,null,null,null,null,null,{"$f":"TEMP!R30","v":""},null,null,null,null,null,null,null,null,null,null,null,{"$f":"TEMP!V10","v":""}]
[{"$f":"TEMP!Q11","v":""},null,null,null,null,null,null,null,null,null,null,null,null,null,null,null,null,null,null,{"$f":"TEMP!R11","v":""},null,null,null,null,null,null,null,null,null,null,null,{"$f":"TEMP!R31","v":""},null,null,null,null,null,null,null,null,null,null,null,{"$f":"TEMP!V11","v":""}]
[{"$f":"TEMP!Q12","v":""},null,null,null,null,null,null,null,null,null,null,null,null,null,null,null,null,null,null,{"$f":"TEMP!R12","v":""},null,null,null,null,null,null,null,null,null,null,null,{"$f":"TEMP!R32","v":""},null,null,null,null,null,null,null,null,null,null,null,{"$f":"TEMP!V12","v":""}]
[{"$f":"TEMP!Q13","v":""},null,null,null,null,null,null,null,null,null,null,null,null,null,null,null,null,null,null,{"$f":"TEMP!R13","v":""},null,null,null,null,null,null,null,null,null,null,null,{"$f":"TEMP!R33","v":""},null,null,null,null,null,null,null,null,null,null,null,{"$f":"TEMP!V13","v":""}]
[{"$f":"TEMP!Q14","v":""},null,null,null,null,null,null,null,null,null,null,null,null,null,null,null,null,null,null,{"$f":"TEMP!R14","v":""},null,null,null,null,null,null,null,null,null,null,null,{"$f":"TEMP!R34","v":""},null,null,null,null,null,null,null,null,null,null,null,{"$f":"TEMP!V14","v":""}]
[{"$f":"TEMP!Q15","v":""},null,null,null,null,null,null,null,null,null,null,null,null,null,null,null,null,null,null,{"$f":"TEMP!R15","v":""},null,null,null,null,null,null,null,null,null,null,null,{"$f":"TEMP!R35","v":""},null,null,null,null,null,null,null,null,null,null,null,{"$f":"TEMP!V15","v":""}]
[{"$f":"TEMP!Q16","v":""},null,null,null,null,null,null,null,null,null,null,null,null,null,null,null,null,null,null,{"$f":"TEMP!R16","v":""},null,null,null,null,null,null,null,null,null,null,null,{"$f":"TEMP!R36","v":""},null,null,null,null,null,null,null,null,null,null,null,{"$f":"TEMP!V16","v":""}]
[{"$f":"TEMP!Q17","v":""},null,null,null,null,null,null,null,null,null,null,null,null,null,null,null,null,null,null,{"$f":"TEMP!R17","v":""},null,null,null,null,null,null,null,null,null,null,null,{"$f":"TEMP!R37","v":""},null,null,null,null,null,null,null,null,null,null,null,{"$f":"TEMP!V17","v":""}]
[{"$f":"TEMP!Q18","v":""},null,null,null,null,null,null,null,null,null,null,null,null,null,null,null,null,null,null,{"$f":"TEMP!R18","v":""},null,null,null,null,null,null,null,null,null,null,null,{"$f":"TEMP!R38","v":""},null,null,null,null,null,null,null,null,null,null,null,{"$f":"TEMP!V18","v":""}]
[{"$f":"TEMP!Q19","v":""},null,null,null,null,null,null,null,null,null,null,null,null,null,null,null,null,null,null,{"$f":"TEMP!R19","v":""},null,null,null,null,null,null,null,null,null,null,null,{"$f":"TEMP!R39","v":""},null,null,null,null,null,null,null,null,null,null,null,{"$f":"TEMP!V19","v":""}]
[{"$f":"TEMP!Q20","v":""},null,null,null,null,null,null,null,null,null,null,null,null,null,null,null,null,null,null,{"$f":"TEMP!R20","v":""},null,null,null,null,null,null,null,null,null,null,null,{"$f":"TEMP!R40","v":""},null,null,null,null,null,null,null,null,null,null,null,{"$f":"TEMP!V20","v":""}]
[{"$f":"TEMP!Q21","v":""},null,null,null,null,null,null,null,null,null,null,null,null,null,null,null,null,null,null,{"$f":"TEMP!R21","v":""},null,null,null,null,null,null,null,null,null,null,null,{"$f":"TEMP!R41","v":""},null,null,null,null,null,null,null,null,null,null,null,{"$f":"TEMP!V21","v":""}]
[{"$f":"TEMP!Q22","v":""},null,null,null,null,null,null,null,null,null,null,null,null,null,null,null,null,null,null,{"$f":"TEMP!R22","v":""},null,null,null,null,null,null,null,null,null,null,null,{"$f":"TEMP!R42","v":""},null,null,null,null,null,null,null,null,null,null,null,{"$f":"TEMP!V22","v":""}]
[{"$f":"TEMP!Q23","v":""},null,null,null,null,null,null,null,null,null,null,null,null,null,null,null,null,null,null,{"$f":"TEMP!R23","v":""},null,null,null,null,null,null,null,null,null,null,null,{"$f":"TEMP!R43","v":""},null,null,null,null,null,null,null,null,null,null,null,{"$f":"TEMP!V23","v":""}]
[null,null,null,null,null,null,null,null,null,null,null,null,null,null,null,null,null,null,null,null,null,null,null,null,null,null,"上記内容について相違ないことを証明する。"]
[{"$f":"\"※ 入札金額は入札者が見積もった契約希望金額の\"&100+入力シート①!$R$9&\"分の100に相当する金額である。\"","v":"※ 入札金額は入札者が見積もった契約希望金額の108分の100に相当する金額である。"}]
["※ 予定価格（入札書比較価格）の制限の範囲内で最低価格をもって有効な入札を行った入札者を落札者とする。",null,null,null,null,null,null,null,null,null,null,null,null,null,null,null,null,null,null,null,null,null,null,null,null,null,{"$f":"入力シート①!$H$7&TEMP!$C$6&\"年\"&TEMP!$F$6&\"月\"&TEMP!$F$27&\"日\"","v":"平成29年6月16日"}]
[null,null,null,null,null,null,null,null,null,null,null,null,null,null,null,null,null,null,null,null,null,null,null,null,null,null,null,null,null,null,null,null,null,null,{"$f":"IF(TEMP!$H$15=1,\"支出負担行為担当官\",IF(TEMP!$H$15=2,\"支出負担行為担当官代理\",IF(TEMP!$H$15=3,\"分任支出負担行為担当官\",IF(TEMP!$H$15=4,\"分任支出負担行為担当官代理\"))))","v":"支出負担行為担当官"}]
[{"$f":"\"※ 落札決定に当たっては、入札書に記載された金額に当該金額の\"&入力シート①!$R$9&\"％に相当する額を加算した金額（１円未満の端数は切り捨て。）をもって落札金額とする。\"","v":"※ 落札決定に当たっては、入札書に記載された金額に当該金額の8％に相当する額を加算した金額（１円未満の端数は切り捨て。）をもって落札金額とする。"}]
[null,null,null,null,null,null,null,null,null,null,null,null,null,null,null,null,null,null,null,null,null,null,null,null,null,null,null,null,null,null,null,null,null,null,null,{"$f":"IF(TEMP!$H$15=1,入力シート①!$B$22,IF(TEMP!$H$15=2,入力シート①!$B$24,IF(TEMP!$H$15=3,入力シート①!$B$22,IF(TEMP!$H$15=4,入力シート①!$B$24))))&\"　\"&IF(TEMP!$H$15=1,入力シート①!$N$22,IF(TEMP!$H$15=2,入力シート①!$N$24,IF(TEMP!$H$15=3,入力シート①!$N$22,IF(TEMP!$H$15=4,入力シート①!$N$24))))","v":"国土交通省航空局長　佐藤　善信"}]

{"sheet":"①入札公表1-5","index":8,"n_rows":32,"n_cols":44,"rows_kept":32,"cut":false,"hidden":false,"merged":[[10,2,10,7],[10,9,10,30],[0,0,0,56],[2,1,2,5],[2,7,2,52],[4,2,4,7],[4,9,4,30],[8,8,8,9],[8,10,8,23],[6,2,6,7],[8,2,8,7],[6,9,6,30],[12,1,12,6],[12,7,12,8],[12,9,12,17],[14,2,14,9],[14,10,14,11],[14,12,14,20],[16,2,16,9],[16,10,16,11],[16,12,16,20],[16,22,16,38],[16,40,16,41],[14,22,14,39],[14,40,14,41],[14,42,14,50],[16,42,16,50],[19,33,19,56],[20,43,22,56],[20,0,22,18],[20,31,20,42],[21,31,22,42],[23,31,23,42],[23,43,23,56],[24,43,24,56],[25,43,25,56],[26,43,26,56],[27,43,27,56],[27,31,27,42],[24,31,24,42],[25,31,25,42],[26,31,26,42],[27,0,27,18],[20,19,20,30],[21,19,22,30],[23,19,23,30],[24,19,24,30],[25,19,25,30],[26,19,26,30],[27,19,27,30],[23,0,23,18],[24,0,24,18],[25,0,25,18],[26,0,26,18]]}
["競争入札経過調書（最低価格落札方式）"]
[]
[null,"件名",null,null,null,null,null,{"$f":"IF(入力シート①!H3=\"\",\"\",入力シート①!H3)","v":"航空機乗組員の身体検査基準及び航空身体検査マニュアル並びに加齢乗員の現状に関する調査"}]
[]
[null,null,"開札年月日",null,null,null,null,null,null,{"$f":"入力シート①!$H$5&TEMP!$C$2&\"年\"&TEMP!$F$2&\"月\"&TEMP!$F$23&\"日\"&\"　\"&IF(TEMP!$AK$3=\"\",\"( 落札決定日 \"&入力シート①!$H$6&TEMP!$C$4&\"年\"&TEMP!$F$4&\"月\"&TEMP!$F$25&\"日 )\",\"( 見積成立日 平成\"&TEMP!$C$4&\"年\"&TEMP!$F$4&\"月\"&TEMP!$F$25&\"日 )\")","v":"平成29年6月16日　( 落札決定日 平成29年6月16日 )"}]
[]
[null,null,"入札執行官署",null,null,null,null,null,null,{"$f":"IF(入力シート①!H8=\"\",\"\",入力シート①!H8)","v":"国土交通省航空局"}]
[]
[null,null,{"$f":"IF(TEMP!AK3=\"\",\"落札金額\",\"見積成立金額\")","v":"落札金額"},null,null,null,null,null,"￥",null,{"$f":"IF(TEMP!V2=\"-\",TEMP!AI3,TEMP!V2)","v":5184000}]
[]
[null,null,{"$f":"IF(TEMP!AK3=\"\",\"落札者\",\"見積成立者\")","v":"落札者"},null,null,null,null,null,null,{"$f":"IF(TEMP!Q2=\"-\",TEMP!AH3,TEMP!Q2)","v":"一般財団法人航空医学研究センター"}]
[]
[null,"予定価格",null,null,null,null,null,"￥",null,{"$f":"M15","v":5916226}]
[]
[null,null,"積算額",null,null,null,null,null,null,null,"￥",null,{"$f":"IF(入力シート①!H12=\"\",\"-\",IF(入力シート①!H12=0,\"-\",入力シート①!H12))","v":5916226},null,null,null,null,null,null,null,null,null,{"$f":"\"入札書比較価格（予定価格の100/\"&100+入力シート①!$R$9&\"）\"","v":"入札書比較価格（予定価格の100/108）"},null,null,null,null,null,null,null,null,null,null,null,null,null,null,null,null,null,"￥",null,{"$f":"IF(入力シート①!O12=\"\",\"-\",IF(入力シート①!O12=0,\"-\",入力シート①!O12))","v":5477988}]
[]
[null,null,"調査基準価格",null,null,null,null,null,null,null,"￥",null,{"$f":"IF(入力シート①!H13=\"\",\"-\",IF(入力シート①!H13=0,\"-\",入力シート①!H13))","v":"-"},null,null,null,null,null,null,null,null,null,{"$f":"\"調査基準価格の100/\"&100+入力シート①!$R$9","v":"調査基準価格の100/108"},null,null,null,null,null,null,null,null,null,null,null,null,null,null,null,null,null,"￥",null,{"$f":"IF(入力シート①!O13=\"\",\"-\",IF(入力シート①!O13=0,\"-\",入力シート①!O13))","v":"-"}]
[]
[]
[null,null,null,null,null,null,null,null,null,null,null,null,null,null,null,null,null,null,null,null,null,null,null,null,null,null,null,null,null,null,null,null,null,{"$f":"IF(入力シート①!$H$13=\"\",\"\",IF(OR(TEMP!$R$2<入力シート①!$O$13,TEMP!$AI$3<入力シート①!$H$13),\"低入札価格調査実施済\",\"\"))&\"　\"&IF(COUNTIF(TEMP!$T$4:$T$23,\"○\")>0,\"第１回　落札\",IF(COUNTIF(TEMP!$T$24:$T$43,\"○\")>0,\"第２回　落札\",IF(TEMP!$AK$3<>\"\",\"第\"&TEMP!$AK$3&\"回見積　成立\",\"\")))&\"　\"&IF(TEMP!$L$3+TEMP!$AB$3>0,\"(くじの結果)\",\"\")","v":"　第１回　落札　"}]
["入札参加者",null,null,null,null,null,null,null,null,null,null,null,null,null,null,null,null,null,null,"第１回入札",null,null,null,null,null,null,null,null,null,null,null,"第２回入札",null,null,null,null,null,null,null,null,null,null,null,"摘　要"]
[null,null,null,null,null,null,null,null,null,null,null,null,null,null,null,null,null,null,null,"入札金額",null,null,null,null,null,null,null,null,null,null,null,"入札金額"]
[]
[{"$f":"TEMP!Q4","v":"一般財団法人航空医学研究センター"},null,null,null,null,null,null,null,null,null,null,null,null,null,null,null,null,null,null,{"$f":"TEMP!R4","v":4800000},null,null,null,null,null,null,null,null,null,null,null,{"$f":"TEMP!R24","v":""},null,null,null,null,null,null,null,null,null,null,null,{"$f":"TEMP!V4","v":"第１回　落札"}]
[{"$f":"TEMP!Q5","v":""},null,null,null,null,null,null,null,null,null,null,null,null,null,null,null,null,null,null,{"$f":"TEMP!R5","v":""},null,null,null,null,null,null,null,null,null,null,null,{"$f":"TEMP!R25","v":""},null,null,null,null,null,null,null,null,null,null,null,{"$f":"TEMP!V5","v":""}]
[{"$f":"TEMP!Q6","v":""},null,null,null,null,null,null,null,null,null,null,null,null,null,null,null,null,null,null,{"$f":"TEMP!R6","v":""},null,null,null,null,null,null,null,null,null,null,null,{"$f":"TEMP!R26","v":""},null,null,null,null,null,null,null,null,null,null,null,{"$f":"TEMP!V6","v":""}]
[{"$f":"TEMP!Q7","v":""},null,null,null,null,null,null,null,null,null,null,null,null,null,null,null,null,null,null,{"$f":"TEMP!R7","v":""},null,null,null,null,null,null,null,null,null,null,null,{"$f":"TEMP!R27","v":""},null,null,null,null,null,null,null,null,null,null,null,{"$f":"TEMP!V7","v":""}]
[{"$f":"TEMP!Q8","v":""},null,null,null,null,null,null,null,null,null,null,null,null,null,null,null,null,null,null,{"$f":"TEMP!R8","v":""},null,null,null,null,null,null,null,null,null,null,null,{"$f":"TEMP!R28","v":""},null,null,null,null,null,null,null,null,null,null,null,{"$f":"TEMP!V8","v":""}]
[]
[{"$f":"\"※ 入札金額は入札者が見積もった契約希望金額の\"&100+入力シート①!$R$9&\"分の100に相当する金額である。\"","v":"※ 入札金額は入札者が見積もった契約希望金額の108分の100に相当する金額である。"}]
["※ 予定価格（入札書比較価格）の制限の範囲内で最低価格をもって有効な入札を行った入札者を落札者とする。"]
[{"$f":"\"※ 落札決定に当たっては、入札書に記載された金額に当該金額の\"&入力シート①!$R$9&\"％に相当する額を加算した金額（１円未満の端数は切り捨て。）をもって落札金額とする。\"","v":"※ 落札決定に当たっては、入札書に記載された金額に当該金額の8％に相当する額を加算した金額（１円未満の端数は切り捨て。）をもって落札金額とする。"}]

{"sheet":"②入札公表6-10","index":9,"n_rows":37,"n_cols":44,"rows_kept":37,"cut":false,"hidden":false,"merged":[[6,9,6,30],[0,0,0,56],[2,1,2,5],[2,7,2,52],[4,2,4,7],[4,9,4,30],[6,2,6,7],[14,40,14,41],[14,42,14,50],[8,8,8,9],[8,10,8,23],[14,2,14,9],[14,10,14,11],[14,12,14,20],[14,22,14,39],[12,1,12,6],[12,7,12,8],[12,9,12,17],[8,2,8,7],[10,2,10,7],[10,9,10,30],[16,40,16,41],[20,0,22,18],[20,43,22,56],[20,19,20,30],[21,19,22,30],[20,31,20,42],[21,31,22,42],[18,33,18,56],[16,42,16,50],[16,2,16,9],[16,10,16,11],[16,12,16,20],[16,22,16,38],[24,0,24,18],[24,43,24,56],[24,19,24,30],[24,31,24,42],[23,0,23,18],[23,43,23,56],[23,19,23,30],[23,31,23,42],[26,0,26,18],[26,43,26,56],[26,19,26,30],[26,31,26,42],[25,0,25,18],[25,43,25,56],[25,19,25,30],[25,31,25,42],[27,0,27,18],[27,43,27,56],[27,19,27,30],[27,31,27,42],[28,31,28,42],[32,0,32,18],[32,43,32,56],[32,19,32,30],[32,31,32,42],[31,0,31,18],[31,43,31,56],[31,19,31,30],[31,31,31,42],[30,0,30,18],[30,43,30,56],[30,19,30,30],[30,31,30,42],[28,0,28,18],[29,0,29,18],[28,43,28,56],[29,43,29,56],[28,19,28,30],[29,19,29,30],[29,31,29,42]]}
["競争入札経過調書（最低価格落札方式）"]
[]
[null,"件名",null,null,null,null,null,{"$f":"IF(入力シート①!H3=\"\",\"\",入力シート①!H3)","v":"航空機乗組員の身体検査基準及び航空身体検査マニュアル並びに加齢乗員の現状に関する調査"}]
[]
[null,null,"開札年月日",null,null,null,null,null,null,{"$f":"入力シート①!$H$5&TEMP!$C$2&\"年\"&TEMP!$F$2&\"月\"&TEMP!$F$23&\"日\"&\"　\"&IF(TEMP!$AK$3=\"\",\"( 落札決定日 \"&入力シート①!$H$6&TEMP!$C$4&\"年\"&TEMP!$F$4&\"月\"&TEMP!$F$25&\"日 )\",\"( 見積成立日 平成\"&TEMP!$C$4&\"年\"&TEMP!$F$4&\"月\"&TEMP!$F$25&\"日 )\")","v":"平成29年6月16日　( 落札決定日 平成29年6月16日 )"}]
[]
[null,null,"入札執行官署",null,null,null,null,null,null,{"$f":"IF(入力シート①!H8=\"\",\"\",入力シート①!H8)","v":"国土交通省航空局"}]
[]
[null,null,{"$f":"IF(TEMP!AK3=\"\",\"落札金額\",\"見積成立金額\")","v":"落札金額"},null,null,null,null,null,"￥",null,{"$f":"IF(TEMP!V2=\"-\",TEMP!AI3,TEMP!V2)","v":5184000}]
[]
[null,null,{"$f":"IF(TEMP!AK3=\"\",\"落札者\",\"見積成立者\")","v":"落札者"},null,null,null,null,null,null,{"$f":"IF(TEMP!Q2=\"-\",TEMP!AH3,TEMP!Q2)","v":"一般財団法人航空医学研究センター"}]
[]
[null,"予定価格",null,null,null,null,null,"￥",null,{"$f":"M15","v":5916226}]
[]
[null,null,"積算額",null,null,null,null,null,null,null,"￥",null,{"$f":"IF(入力シート①!H12=\"\",\"-\",IF(入力シート①!H12=0,\"-\",入力シート①!H12))","v":5916226},null,null,null,null,null,null,null,null,null,{"$f":"\"入札書比較価格（予定価格の100/\"&100+入力シート①!$R$9&\"）\"","v":"入札書比較価格（予定価格の100/108）"},null,null,null,null,null,null,null,null,null,null,null,null,null,null,null,null,null,"￥",null,{"$f":"IF(入力シート①!O12=\"\",\"-\",IF(入力シート①!O12=0,\"-\",入力シート①!O12))","v":5477988}]
[]
[null,null,"調査基準価格",null,null,null,null,null,null,null,"￥",null,{"$f":"IF(入力シート①!H13=\"\",\"-\",IF(入力シート①!H13=0,\"-\",入力シート①!H13))","v":"-"},null,null,null,null,null,null,null,null,null,{"$f":"\"調査基準価格の100/\"&100+入力シート①!$R$9","v":"調査基準価格の100/108"},null,null,null,null,null,null,null,null,null,null,null,null,null,null,null,null,null,"￥",null,{"$f":"IF(入力シート①!O13=\"\",\"-\",IF(入力シート①!O13=0,\"-\",入力シート①!O13))","v":"-"}]
[]
[null,null,null,null,null,null,null,null,null,null,null,null,null,null,null,null,null,null,null,null,null,null,null,null,null,null,null,null,null,null,null,null,null,{"$f":"IF(入力シート①!$H$13=\"\",\"\",IF(OR(TEMP!$R$2<入力シート①!$O$13,TEMP!$AI$3<入力シート①!$H$13),\"低入札価格調査実施済\",\"\"))&\"　\"&IF(COUNTIF(TEMP!$T$4:$T$23,\"○\")>0,\"第１回　落札\",IF(COUNTIF(TEMP!$T$24:$T$43,\"○\")>0,\"第２回　落札\",IF(TEMP!$AK$3<>\"\",\"第\"&TEMP!$AK$3&\"回見積　成立\",\"\")))&\"　\"&IF(TEMP!$L$3+TEMP!$AB$3>0,\"(くじの結果)\",\"\")","v":"　第１回　落札　"}]
[]
["入札参加者",null,null,null,null,null,null,null,null,null,null,null,null,null,null,null,null,null,null,"第１回入札",null,null,null,null,null,null,null,null,null,null,null,"第２回入札",null,null,null,null,null,null,null,null,null,null,null,"摘　要"]
[null,null,null,null,null,null,null,null,null,null,null,null,null,null,null,null,null,null,null,"入札金額",null,null,null,null,null,null,null,null,null,null,null,"入札金額"]
[]
[{"$f":"TEMP!Q4","v":"一般財団法人航空医学研究センター"},null,null,null,null,null,null,null,null,null,null,null,null,null,null,null,null,null,null,{"$f":"TEMP!R4","v":4800000},null,null,null,null,null,null,null,null,null,null,null,{"$f":"TEMP!R24","v":""},null,null,null,null,null,null,null,null,null,null,null,{"$f":"TEMP!V4","v":"第１回　落札"}]
[{"$f":"TEMP!Q5","v":""},null,null,null,null,null,null,null,null,null,null,null,null,null,null,null,null,null,null,{"$f":"TEMP!R5","v":""},null,null,null,null,null,null,null,null,null,null,null,{"$f":"TEMP!R25","v":""},null,null,null,null,null,null,null,null,null,null,null,{"$f":"TEMP!V5","v":""}]
[{"$f":"TEMP!Q6","v":""},null,null,null,null,null,null,null,null,null,null,null,null,null,null,null,null,null,null,{"$f":"TEMP!R6","v":""},null,null,null,null,null,null,null,null,null,null,null,{"$f":"TEMP!R26","v":""},null,null,null,null,null,null,null,null,null,null,null,{"$f":"TEMP!V6","v":""}]
[{"$f":"TEMP!Q7","v":""},null,null,null,null,null,null,null,null,null,null,null,null,null,null,null,null,null,null,{"$f":"TEMP!R7","v":""},null,null,null,null,null,null,null,null,null,null,null,{"$f":"TEMP!R27","v":""},null,null,null,null,null,null,null,null,null,null,null,{"$f":"TEMP!V7","v":""}]
[{"$f":"TEMP!Q8","v":""},null,null,null,null,null,null,null,null,null,null,null,null,null,null,null,null,null,null,{"$f":"TEMP!R8","v":""},null,null,null,null,null,null,null,null,null,null,null,{"$f":"TEMP!R28","v":""},null,null,null,null,null,null,null,null,null,null,null,{"$f":"TEMP!V8","v":""}]
[{"$f":"TEMP!Q9","v":""},null,null,null,null,null,null,null,null,null,null,null,null,null,null,null,null,null,null,{"$f":"TEMP!R9","v":""},null,null,null,null,null,null,null,null,null,null,null,{"$f":"TEMP!R29","v":""},null,null,null,null,null,null,null,null,null,null,null,{"$f":"TEMP!V9","v":""}]
[{"$f":"TEMP!Q10","v":""},null,null,null,null,null,null,null,null,null,null,null,null,null,null,null,null,null,null,{"$f":"TEMP!R10","v":""},null,null,null,null,null,null,null,null,null,null,null,{"$f":"TEMP!R30","v":""},null,null,null,null,null,null,null,null,null,null,null,{"$f":"TEMP!V10","v":""}]
[{"$f":"TEMP!Q11","v":""},null,null,null,null,null,null,null,null,null,null,null,null,null,null,null,null,null,null,{"$f":"TEMP!R11","v":""},null,null,null,null,null,null,null,null,null,null,null,{"$f":"TEMP!R31","v":""},null,null,null,null,null,null,null,null,null,null,null,{"$f":"TEMP!V11","v":""}]
[{"$f":"TEMP!Q12","v":""},null,null,null,null,null,null,null,null,null,null,null,null,null,null,null,null,null,null,{"$f":"TEMP!R12","v":""},null,null,null,null,null,null,null,null,null,null,null,{"$f":"TEMP!R32","v":""},null,null,null,null,null,null,null,null,null,null,null,{"$f":"TEMP!V12","v":""}]
[{"$f":"TEMP!Q13","v":""},null,null,null,null,null,null,null,null,null,null,null,null,null,null,null,null,null,null,{"$f":"TEMP!R13","v":""},null,null,null,null,null,null,null,null,null,null,null,{"$f":"TEMP!R33","v":""},null,null,null,null,null,null,null,null,null,null,null,{"$f":"TEMP!V13","v":""}]
[]
[{"$f":"\"※ 入札金額は入札者が見積もった契約希望金額の\"&100+入力シート①!$R$9&\"分の100に相当する金額である。\"","v":"※ 入札金額は入札者が見積もった契約希望金額の108分の100に相当する金額である。"}]
["※ 予定価格（入札書比較価格）の制限の範囲内で最低価格をもって有効な入札を行った入札者を落札者とする。"]
[{"$f":"\"※ 落札決定に当たっては、入札書に記載された金額に当該金額の\"&入力シート①!$R$9&\"％に相当する額を加算した金額（１円未満の端数は切り捨て。）をもって落札金額とする。\"","v":"※ 落札決定に当たっては、入札書に記載された金額に当該金額の8％に相当する額を加算した金額（１円未満の端数は切り捨て。）をもって落札金額とする。"}]

{"sheet":"③入札公表11-15","index":10,"n_rows":42,"n_cols":44,"rows_kept":42,"cut":false,"hidden":false,"merged":[[6,9,6,30],[0,0,0,56],[2,1,2,5],[2,7,2,52],[4,2,4,7],[4,9,4,30],[6,2,6,7],[14,40,14,41],[14,42,14,50],[8,8,8,9],[8,10,8,23],[14,2,14,9],[14,10,14,11],[14,12,14,20],[14,22,14,39],[12,1,12,6],[12,7,12,8],[12,9,12,17],[8,2,8,7],[10,2,10,7],[10,9,10,30],[16,40,16,41],[20,0,22,18],[20,43,22,56],[20,19,20,30],[21,19,22,30],[20,31,20,42],[21,31,22,42],[18,33,18,56],[16,42,16,50],[16,2,16,9],[16,10,16,11],[16,12,16,20],[16,22,16,38],[24,0,24,18],[24,43,24,56],[24,19,24,30],[24,31,24,42],[23,0,23,18],[23,43,23,56],[23,19,23,30],[23,31,23,42],[26,0,26,18],[26,43,26,56],[26,19,26,30],[26,31,26,42],[25,0,25,18],[25,43,25,56],[25,19,25,30],[25,31,25,42],[27,0,27,18],[27,43,27,56],[27,19,27,30],[27,31,27,42],[28,31,28,42],[30,0,30,18],[30,43,30,56],[30,19,30,30],[30,31,30,42],[28,0,28,18],[29,0,29,18],[28,43,28,56],[29,43,29,56],[28,19,28,30],[29,19,29,30],[29,31,29,42],[31,0,31,18],[31,43,31,56],[31,19,31,30],[31,31,31,42],[32,31,32,42],[34,31,34,42],[32,0,32,18],[33,0,33,18],[32,43,32,56],[33,43,33,56],[32,19,32,30],[33,19,33,30],[33,31,33,42],[34,0,34,18],[34,43,34,56],[34,19,34,30],[37,0,37,18],[36,43,36,56],[37,43,37,56],[36,19,36,30],[37,19,37,30],[37,31,37,42],[35,0,35,18],[35,43,35,56],[35,19,35,30],[35,31,35,42],[36,31,36,42],[36,0,36,18]]}
["競争入札経過調書（最低価格落札方式）"]
[]
[null,"件名",null,null,null,null,null,{"$f":"IF(入力シート①!H3=\"\",\"\",入力シート①!H3)","v":"航空機乗組員の身体検査基準及び航空身体検査マニュアル並びに加齢乗員の現状に関する調査"}]
[]
[null,null,"開札年月日",null,null,null,null,null,null,{"$f":"入力シート①!$H$5&TEMP!$C$2&\"年\"&TEMP!$F$2&\"月\"&TEMP!$F$23&\"日\"&\"　\"&IF(TEMP!$AK$3=\"\",\"( 落札決定日 \"&入力シート①!$H$6&TEMP!$C$4&\"年\"&TEMP!$F$4&\"月\"&TEMP!$F$25&\"日 )\",\"( 見積成立日 平成\"&TEMP!$C$4&\"年\"&TEMP!$F$4&\"月\"&TEMP!$F$25&\"日 )\")","v":"平成29年6月16日　( 落札決定日 平成29年6月16日 )"}]
[]
[null,null,"入札執行官署",null,null,null,null,null,null,{"$f":"IF(入力シート①!H8=\"\",\"\",入力シート①!H8)","v":"国土交通省航空局"}]
[]
[null,null,{"$f":"IF(TEMP!AK3=\"\",\"落札金額\",\"見積成立金額\")","v":"落札金額"},null,null,null,null,null,"￥",null,{"$f":"IF(TEMP!V2=\"-\",TEMP!AI3,TEMP!V2)","v":5184000}]
[]
[null,null,{"$f":"IF(TEMP!AK3=\"\",\"落札者\",\"見積成立者\")","v":"落札者"},null,null,null,null,null,null,{"$f":"IF(TEMP!Q2=\"-\",TEMP!AH3,TEMP!Q2)","v":"一般財団法人航空医学研究センター"}]
[]
[null,"予定価格",null,null,null,null,null,"￥",null,{"$f":"M15","v":5916226}]
[]
[null,null,"積算額",null,null,null,null,null,null,null,"￥",null,{"$f":"IF(入力シート①!H12=\"\",\"-\",IF(入力シート①!H12=0,\"-\",入力シート①!H12))","v":5916226},null,null,null,null,null,null,null,null,null,{"$f":"\"入札書比較価格（予定価格の100/\"&100+入力シート①!$R$9&\"）\"","v":"入札書比較価格（予定価格の100/108）"},null,null,null,null,null,null,null,null,null,null,null,null,null,null,null,null,null,"￥",null,{"$f":"IF(入力シート①!O12=\"\",\"-\",IF(入力シート①!O12=0,\"-\",入力シート①!O12))","v":5477988}]
[]
[null,null,"調査基準価格",null,null,null,null,null,null,null,"￥",null,{"$f":"IF(入力シート①!H13=\"\",\"-\",IF(入力シート①!H13=0,\"-\",入力シート①!H13))","v":"-"},null,null,null,null,null,null,null,null,null,{"$f":"\"調査基準価格の100/\"&100+入力シート①!$R$9","v":"調査基準価格の100/108"},null,null,null,null,null,null,null,null,null,null,null,null,null,null,null,null,null,"￥",null,{"$f":"IF(入力シート①!O13=\"\",\"-\",IF(入力シート①!O13=0,\"-\",入力シート①!O13))","v":"-"}]
[]
[null,null,null,null,null,null,null,null,null,null,null,null,null,null,null,null,null,null,null,null,null,null,null,null,null,null,null,null,null,null,null,null,null,{"$f":"IF(入力シート①!$H$13=\"\",\"\",IF(OR(TEMP!$R$2<入力シート①!$O$13,TEMP!$AI$3<入力シート①!$H$13),\"低入札価格調査実施済\",\"\"))&\"　\"&IF(COUNTIF(TEMP!$T$4:$T$23,\"○\")>0,\"第１回　落札\",IF(COUNTIF(TEMP!$T$24:$T$43,\"○\")>0,\"第２回　落札\",IF(TEMP!$AK$3<>\"\",\"第\"&TEMP!$AK$3&\"回見積　成立\",\"\")))&\"　\"&IF(TEMP!$L$3+TEMP!$AB$3>0,\"(くじの結果)\",\"\")","v":"　第１回　落札　"}]
[]
["入札参加者",null,null,null,null,null,null,null,null,null,null,null,null,null,null,null,null,null,null,"第１回入札",null,null,null,null,null,null,null,null,null,null,null,"第２回入札",null,null,null,null,null,null,null,null,null,null,null,"摘　要"]
[null,null,null,null,null,null,null,null,null,null,null,null,null,null,null,null,null,null,null,"入札金額",null,null,null,null,null,null,null,null,null,null,null,"入札金額"]
[]
[{"$f":"TEMP!Q4","v":"一般財団法人航空医学研究センター"},null,null,null,null,null,null,null,null,null,null,null,null,null,null,null,null,null,null,{"$f":"TEMP!R4","v":4800000},null,null,null,null,null,null,null,null,null,null,null,{"$f":"TEMP!R24","v":""},null,null,null,null,null,null,null,null,null,null,null,{"$f":"TEMP!V4","v":"第１回　落札"}]
[{"$f":"TEMP!Q5","v":""},null,null,null,null,null,null,null,null,null,null,null,null,null,null,null,null,null,null,{"$f":"TEMP!R5","v":""},null,null,null,null,null,null,null,null,null,null,null,{"$f":"TEMP!R25","v":""},null,null,null,null,null,null,null,null,null,null,null,{"$f":"TEMP!V5","v":""}]
[{"$f":"TEMP!Q6","v":""},null,null,null,null,null,null,null,null,null,null,null,null,null,null,null,null,null,null,{"$f":"TEMP!R6","v":""},null,null,null,null,null,null,null,null,null,null,null,{"$f":"TEMP!R26","v":""},null,null,null,null,null,null,null,null,null,null,null,{"$f":"TEMP!V6","v":""}]
[{"$f":"TEMP!Q7","v":""},null,null,null,null,null,null,null,null,null,null,null,null,null,null,null,null,null,null,{"$f":"TEMP!R7","v":""},null,null,null,null,null,null,null,null,null,null,null,{"$f":"TEMP!R27","v":""},null,null,null,null,null,null,null,null,null,null,null,{"$f":"TEMP!V7","v":""}]
[{"$f":"TEMP!Q8","v":""},null,null,null,null,null,null,null,null,null,null,null,null,null,null,null,null,null,null,{"$f":"TEMP!R8","v":""},null,null,null,null,null,null,null,null,null,null,null,{"$f":"TEMP!R28","v":""},null,null,null,null,null,null,null,null,null,null,null,{"$f":"TEMP!V8","v":""}]
[{"$f":"TEMP!Q9","v":""},null,null,null,null,null,null,null,null,null,null,null,null,null,null,null,null,null,null,{"$f":"TEMP!R9","v":""},null,null,null,null,null,null,null,null,null,null,null,{"$f":"TEMP!R29","v":""},null,null,null,null,null,null,null,null,null,null,null,{"$f":"TEMP!V9","v":""}]
[{"$f":"TEMP!Q10","v":""},null,null,null,null,null,null,null,null,null,null,null,null,null,null,null,null,null,null,{"$f":"TEMP!R10","v":""},null,null,null,null,null,null,null,null,null,null,null,{"$f":"TEMP!R30","v":""},null,null,null,null,null,null,null,null,null,null,null,{"$f":"TEMP!V10","v":""}]
[{"$f":"TEMP!Q11","v":""},null,null,null,null,null,null,null,null,null,null,null,null,null,null,null,null,null,null,{"$f":"TEMP!R11","v":""},null,null,null,null,null,null,null,null,null,null,null,{"$f":"TEMP!R31","v":""},null,null,null,null,null,null,null,null,null,null,null,{"$f":"TEMP!V11","v":""}]
[{"$f":"TEMP!Q12","v":""},null,null,null,null,null,null,null,null,null,null,null,null,null,null,null,null,null,null,{"$f":"TEMP!R12","v":""},null,null,null,null,null,null,null,null,null,null,null,{"$f":"TEMP!R32","v":""},null,null,null,null,null,null,null,null,null,null,null,{"$f":"TEMP!V12","v":""}]
[{"$f":"TEMP!Q13","v":""},null,null,null,null,null,null,null,null,null,null,null,null,null,null,null,null,null,null,{"$f":"TEMP!R13","v":""},null,null,null,null,null,null,null,null,null,null,null,{"$f":"TEMP!R33","v":""},null,null,null,null,null,null,null,null,null,null,null,{"$f":"TEMP!V13","v":""}]
[{"$f":"TEMP!Q14","v":""},null,null,null,null,null,null,null,null,null,null,null,null,null,null,null,null,null,null,{"$f":"TEMP!R14","v":""},null,null,null,null,null,null,null,null,null,null,null,{"$f":"TEMP!R34","v":""},null,null,null,null,null,null,null,null,null,null,null,{"$f":"TEMP!V14","v":""}]
[{"$f":"TEMP!Q15","v":""},null,null,null,null,null,null,null,null,null,null,null,null,null,null,null,null,null,null,{"$f":"TEMP!R15","v":""},null,null,null,null,null,null,null,null,null,null,null,{"$f":"TEMP!R35","v":""},null,null,null,null,null,null,null,null,null,null,null,{"$f":"TEMP!V15","v":""}]
[{"$f":"TEMP!Q16","v":""},null,null,null,null,null,null,null,null,null,null,null,null,null,null,null,null,null,null,{"$f":"TEMP!R16","v":""},null,null,null,null,null,null,null,null,null,null,null,{"$f":"TEMP!R36","v":""},null,null,null,null,null,null,null,null,null,null,null,{"$f":"TEMP!V16","v":""}]
[{"$f":"TEMP!Q17","v":""},null,null,null,null,null,null,null,null,null,null,null,null,null,null,null,null,null,null,{"$f":"TEMP!R17","v":""},null,null,null,null,null,null,null,null,null,null,null,{"$f":"TEMP!R37","v":""},null,null,null,null,null,null,null,null,null,null,null,{"$f":"TEMP!V17","v":""}]
[{"$f":"TEMP!Q18","v":""},null,null,null,null,null,null,null,null,null,null,null,null,null,null,null,null,null,null,{"$f":"TEMP!R18","v":""},null,null,null,null,null,null,null,null,null,null,null,{"$f":"TEMP!R38","v":""},null,null,null,null,null,null,null,null,null,null,null,{"$f":"TEMP!V18","v":""}]
[]
[{"$f":"\"※ 入札金額は入札者が見積もった契約希望金額の\"&100+入力シート①!$R$9&\"分の100に相当する金額である。\"","v":"※ 入札金額は入札者が見積もった契約希望金額の108分の100に相当する金額である。"}]
["※ 予定価格（入札書比較価格）の制限の範囲内で最低価格をもって有効な入札を行った入札者を落札者とする。"]
[{"$f":"\"※ 落札決定に当たっては、入札書に記載された金額に当該金額の\"&入力シート①!$R$9&\"％に相当する額を加算した金額（１円未満の端数は切り捨て。）をもって落札金額とする。\"","v":"※ 落札決定に当たっては、入札書に記載された金額に当該金額の8％に相当する額を加算した金額（１円未満の端数は切り捨て。）をもって落札金額とする。"}]

{"sheet":"④入札公表16-20","index":11,"n_rows":47,"n_cols":44,"rows_kept":47,"cut":false,"hidden":false,"merged":[[6,2,6,7],[8,2,8,7],[16,2,16,9],[16,10,16,11],[16,12,16,20],[16,22,16,38],[16,40,16,41],[16,42,16,50],[10,9,10,30],[6,9,6,30],[20,0,22,18],[20,43,22,56],[20,19,20,30],[21,19,22,30],[20,31,20,42],[21,31,22,42],[0,0,0,56],[2,1,2,5],[2,7,2,52],[12,1,12,6],[12,7,12,8],[12,9,12,17],[14,2,14,9],[14,10,14,11],[14,12,14,20],[8,8,8,9],[8,10,8,23],[14,22,14,39],[14,40,14,41],[14,42,14,50],[4,2,4,7],[10,2,10,7],[18,33,18,56],[4,9,4,30],[25,0,25,18],[25,43,25,56],[25,19,25,30],[25,31,25,42],[24,0,24,18],[24,43,24,56],[24,19,24,30],[24,31,24,42],[23,0,23,18],[23,43,23,56],[23,19,23,30],[23,31,23,42],[27,0,27,18],[27,43,27,56],[27,19,27,30],[27,31,27,42],[28,31,28,42],[29,31,29,42],[26,0,26,18],[26,43,26,56],[26,19,26,30],[26,31,26,42],[30,0,30,18],[30,43,30,56],[30,19,30,30],[30,31,30,42],[28,0,28,18],[29,0,29,18],[28,43,28,56],[29,43,29,56],[28,19,28,30],[29,19,29,30],[32,0,32,18],[33,0,33,18],[32,43,32,56],[33,43,33,56],[32,19,32,30],[33,19,33,30],[31,0,31,18],[31,43,31,56],[31,19,31,30],[31,31,31,42],[32,31,32,42],[33,31,33,42],[35,0,35,18],[35,43,35,56],[35,19,35,30],[35,31,35,42],[36,31,36,42],[37,31,37,42],[34,0,34,18],[34,43,34,56],[34,19,34,30],[34,31,34,42],[41,0,41,18],[42,0,42,18],[41,43,41,56],[42,43,42,56],[41,19,41,30],[42,19,42,30],[41,31,41,42],[42,31,42,42],[40,0,40,18],[40,43,40,56],[40,19,40,30],[40,31,40,42],[39,0,39,18],[39,43,39,56],[39,19,39,30],[39,31,39,42],[38,0,38,18],[38,43,38,56],[38,19,38,30],[38,31,38,42],[36,0,36,18],[37,0,37,18],[36,43,36,56],[37,43,37,56],[36,19,36,30],[37,19,37,30]]}
["競争入札経過調書（最低価格落札方式）"]
[]
[null,"件名",null,null,null,null,null,{"$f":"IF(入力シート①!H3=\"\",\"\",入力シート①!H3)","v":"航空機乗組員の身体検査基準及び航空身体検査マニュアル並びに加齢乗員の現状に関する調査"}]
[]
[null,null,"開札年月日",null,null,null,null,null,null,{"$f":"入力シート①!$H$5&TEMP!$C$2&\"年\"&TEMP!$F$2&\"月\"&TEMP!$F$23&\"日\"&\"　\"&IF(TEMP!$AK$3=\"\",\"( 落札決定日 \"&入力シート①!$H$6&TEMP!$C$4&\"年\"&TEMP!$F$4&\"月\"&TEMP!$F$25&\"日 )\",\"( 見積成立日 平成\"&TEMP!$C$4&\"年\"&TEMP!$F$4&\"月\"&TEMP!$F$25&\"日 )\")","v":"平成29年6月16日　( 落札決定日 平成29年6月16日 )"}]
[]
[null,null,"入札執行官署",null,null,null,null,null,null,{"$f":"IF(入力シート①!H8=\"\",\"\",入力シート①!H8)","v":"国土交通省航空局"}]
[]
[null,null,{"$f":"IF(TEMP!AK3=\"\",\"落札金額\",\"見積成立金額\")","v":"落札金額"},null,null,null,null,null,"￥",null,{"$f":"IF(TEMP!V2=\"-\",TEMP!AI3,TEMP!V2)","v":5184000}]
[]
[null,null,{"$f":"IF(TEMP!AK3=\"\",\"落札者\",\"見積成立者\")","v":"落札者"},null,null,null,null,null,null,{"$f":"IF(TEMP!Q2=\"-\",TEMP!AH3,TEMP!Q2)","v":"一般財団法人航空医学研究センター"}]
[]
[null,"予定価格",null,null,null,null,null,"￥",null,{"$f":"M15","v":5916226}]
[]
[null,null,"積算額",null,null,null,null,null,null,null,"￥",null,{"$f":"IF(入力シート①!H12=\"\",\"-\",IF(入力シート①!H12=0,\"-\",入力シート①!H12))","v":5916226},null,null,null,null,null,null,null,null,null,{"$f":"\"入札書比較価格（予定価格の100/\"&100+入力シート①!$R$9&\"）\"","v":"入札書比較価格（予定価格の100/108）"},null,null,null,null,null,null,null,null,null,null,null,null,null,null,null,null,null,"￥",null,{"$f":"IF(入力シート①!O12=\"\",\"-\",IF(入力シート①!O12=0,\"-\",入力シート①!O12))","v":5477988}]
[]
[null,null,"調査基準価格",null,null,null,null,null,null,null,"￥",null,{"$f":"IF(入力シート①!H13=\"\",\"-\",IF(入力シート①!H13=0,\"-\",入力シート①!H13))","v":"-"},null,null,null,null,null,null,null,null,null,{"$f":"\"調査基準価格の100/\"&100+入力シート①!$R$9","v":"調査基準価格の100/108"},null,null,null,null,null,null,null,null,null,null,null,null,null,null,null,null,null,"￥",null,{"$f":"IF(入力シート①!O13=\"\",\"-\",IF(入力シート①!O13=0,\"-\",入力シート①!O13))","v":"-"}]
[]
[null,null,null,null,null,null,null,null,null,null,null,null,null,null,null,null,null,null,null,null,null,null,null,null,null,null,null,null,null,null,null,null,null,{"$f":"IF(入力シート①!$H$13=\"\",\"\",IF(OR(TEMP!$R$2<入力シート①!$O$13,TEMP!$AI$3<入力シート①!$H$13),\"低入札価格調査実施済\",\"\"))&\"　\"&IF(COUNTIF(TEMP!$T$4:$T$23,\"○\")>0,\"第１回　落札\",IF(COUNTIF(TEMP!$T$24:$T$43,\"○\")>0,\"第２回　落札\",IF(TEMP!$AK$3<>\"\",\"第\"&TEMP!$AK$3&\"回見積　成立\",\"\")))&\"　\"&IF(TEMP!$L$3+TEMP!$AB$3>0,\"(くじの結果)\",\"\")","v":"　第１回　落札　"}]
[]
["入札参加者",null,null,null,null,null,null,null,null,null,null,null,null,null,null,null,null,null,null,"第１回入札",null,null,null,null,null,null,null,null,null,null,null,"第２回入札",null,null,null,null,null,null,null,null,null,null,null,"摘　要"]
[null,null,null,null,null,null,null,null,null,null,null,null,null,null,null,null,null,null,null,"入札金額",null,null,null,null,null,null,null,null,null,null,null,"入札金額"]
[]
[{"$f":"TEMP!Q4","v":"一般財団法人航空医学研究センター"},null,null,null,null,null,null,null,null,null,null,null,null,null,null,null,null,null,null,{"$f":"TEMP!R4","v":4800000},null,null,null,null,null,null,null,null,null,null,null,{"$f":"TEMP!R24","v":""},null,null,null,null,null,null,null,null,null,null,null,{"$f":"TEMP!V4","v":"第１回　落札"}]
[{"$f":"TEMP!Q5","v":""},null,null,null,null,null,null,null,null,null,null,null,null,null,null,null,null,null,null,{"$f":"TEMP!R5","v":""},null,null,null,null,null,null,null,null,null,null,null,{"$f":"TEMP!R25","v":""},null,null,null,null,null,null,null,null,null,null,null,{"$f":"TEMP!V5","v":""}]
[{"$f":"TEMP!Q6","v":""},null,null,null,null,null,null,null,null,null,null,null,null,null,null,null,null,null,null,{"$f":"TEMP!R6","v":""},null,null,null,null,null,null,null,null,null,null,null,{"$f":"TEMP!R26","v":""},null,null,null,null,null,null,null,null,null,null,null,{"$f":"TEMP!V6","v":""}]
[{"$f":"TEMP!Q7","v":""},null,null,null,null,null,null,null,null,null,null,null,null,null,null,null,null,null,null,{"$f":"TEMP!R7","v":""},null,null,null,null,null,null,null,null,null,null,null,{"$f":"TEMP!R27","v":""},null,null,null,null,null,null,null,null,null,null,null,{"$f":"TEMP!V7","v":""}]
[{"$f":"TEMP!Q8","v":""},null,null,null,null,null,null,null,null,null,null,null,null,null,null,null,null,null,null,{"$f":"TEMP!R8","v":""},null,null,null,null,null,null,null,null,null,null,null,{"$f":"TEMP!R28","v":""},null,null,null,null,null,null,null,null,null,null,null,{"$f":"TEMP!V8","v":""}]
[{"$f":"TEMP!Q9","v":""},null,null,null,null,null,null,null,null,null,null,null,null,null,null,null,null,null,null,{"$f":"TEMP!R9","v":""},null,null,null,null,null,null,null,null,null,null,null,{"$f":"TEMP!R29","v":""},null,null,null,null,null,null,null,null,null,null,null,{"$f":"TEMP!V9","v":""}]
[{"$f":"TEMP!Q10","v":""},null,null,null,null,null,null,null,null,null,null,null,null,null,null,null,null,null,null,{"$f":"TEMP!R10","v":""},null,null,null,null,null,null,null,null,null,null,null,{"$f":"TEMP!R30","v":""},null,null,null,null,null,null,null,null,null,null,null,{"$f":"TEMP!V10","v":""}]
[{"$f":"TEMP!Q11","v":""},null,null,null,null,null,null,null,null,null,null,null,null,null,null,null,null,null,null,{"$f":"TEMP!R11","v":""},null,null,null,null,null,null,null,null,null,null,null,{"$f":"TEMP!R31","v":""},null,null,null,null,null,null,null,null,null,null,null,{"$f":"TEMP!V11","v":""}]
[{"$f":"TEMP!Q12","v":""},null,null,null,null,null,null,null,null,null,null,null,null,null,null,null,null,null,null,{"$f":"TEMP!R12","v":""},null,null,null,null,null,null,null,null,null,null,null,{"$f":"TEMP!R32","v":""},null,null,null,null,null,null,null,null,null,null,null,{"$f":"TEMP!V12","v":""}]
[{"$f":"TEMP!Q13","v":""},null,null,null,null,null,null,null,null,null,null,null,null,null,null,null,null,null,null,{"$f":"TEMP!R13","v":""},null,null,null,null,null,null,null,null,null,null,null,{"$f":"TEMP!R33","v":""},null,null,null,null,null,null,null,null,null,null,null,{"$f":"TEMP!V13","v":""}]
[{"$f":"TEMP!Q14","v":""},null,null,null,null,null,null,null,null,null,null,null,null,null,null,null,null,null,null,{"$f":"TEMP!R14","v":""},null,null,null,null,null,null,null,null,null,null,null,{"$f":"TEMP!R34","v":""},null,null,null,null,null,null,null,null,null,null,null,{"$f":"TEMP!V14","v":""}]
[{"$f":"TEMP!Q15","v":""},null,null,null,null,null,null,null,null,null,null,null,null,null,null,null,null,null,null,{"$f":"TEMP!R15","v":""},null,null,null,null,null,null,null,null,null,null,null,{"$f":"TEMP!R35","v":""},null,null,null,null,null,null,null,null,null,null,null,{"$f":"TEMP!V15","v":""}]
[{"$f":"TEMP!Q16","v":""},null,null,null,null,null,null,null,null,null,null,null,null,null,null,null,null,null,null,{"$f":"TEMP!R16","v":""},null,null,null,null,null,null,null,null,null,null,null,{"$f":"TEMP!R36","v":""},null,null,null,null,null,null,null,null,null,null,null,{"$f":"TEMP!V16","v":""}]
[{"$f":"TEMP!Q17","v":""},null,null,null,null,null,null,null,null,null,null,null,null,null,null,null,null,null,null,{"$f":"TEMP!R17","v":""},null,null,null,null,null,null,null,null,null,null,null,{"$f":"TEMP!R37","v":""},null,null,null,null,null,null,null,null,null,null,null,{"$f":"TEMP!V17","v":""}]
[{"$f":"TEMP!Q18","v":""},null,null,null,null,null,null,null,null,null,null,null,null,null,null,null,null,null,null,{"$f":"TEMP!R18","v":""},null,null,null,null,null,null,null,null,null,null,null,{"$f":"TEMP!R38","v":""},null,null,null,null,null,null,null,null,null,null,null,{"$f":"TEMP!V18","v":""}]
[{"$f":"TEMP!Q19","v":""},null,null,null,null,null,null,null,null,null,null,null,null,null,null,null,null,null,null,{"$f":"TEMP!R19","v":""},null,null,null,null,null,null,null,null,null,null,null,{"$f":"TEMP!R39","v":""},null,null,null,null,null,null,null,null,null,null,null,{"$f":"TEMP!V19","v":""}]
[{"$f":"TEMP!Q20","v":""},null,null,null,null,null,null,null,null,null,null,null,null,null,null,null,null,null,null,{"$f":"TEMP!R20","v":""},null,null,null,null,null,null,null,null,null,null,null,{"$f":"TEMP!R40","v":""},null,null,null,null,null,null,null,null,null,null,null,{"$f":"TEMP!V20","v":""}]
[{"$f":"TEMP!Q21","v":""},null,null,null,null,null,null,null,null,null,null,null,null,null,null,null,null,null,null,{"$f":"TEMP!R21","v":""},null,null,null,null,null,null,null,null,null,null,null,{"$f":"TEMP!R41","v":""},null,null,null,null,null,null,null,null,null,null,null,{"$f":"TEMP!V21","v":""}]
[{"$f":"TEMP!Q22","v":""},null,null,null,null,null,null,null,null,null,null,null,null,null,null,null,null,null,null,{"$f":"TEMP!R22","v":""},null,null,null,null,null,null,null,null,null,null,null,{"$f":"TEMP!R42","v":""},null,null,null,null,null,null,null,null,null,null,null,{"$f":"TEMP!V22","v":""}]
[{"$f":"TEMP!Q23","v":""},null,null,null,null,null,null,null,null,null,null,null,null,null,null,null,null,null,null,{"$f":"TEMP!R23","v":""},null,null,null,null,null,null,null,null,null,null,null,{"$f":"TEMP!R43","v":""},null,null,null,null,null,null,null,null,null,null,null,{"$f":"TEMP!V23","v":""}]
[]
[{"$f":"\"※ 入札金額は入札者が見積もった契約希望金額の\"&100+入力シート①!$R$9&\"分の100に相当する金額である。\"","v":"※ 入札金額は入札者が見積もった契約希望金額の108分の100に相当する金額である。"}]
["※ 予定価格（入札書比較価格）の制限の範囲内で最低価格をもって有効な入札を行った入札者を落札者とする。"]
[{"$f":"\"※ 落札決定に当たっては、入札書に記載された金額に当該金額の\"&入力シート①!$R$9&\"％に相当する額を加算した金額（１円未満の端数は切り捨て。）をもって落札金額とする。\"","v":"※ 落札決定に当たっては、入札書に記載された金額に当該金額の8％に相当する額を加算した金額（１円未満の端数は切り捨て。）をもって落札金額とする。"}]

{"sheet":"①入札不調1-5","index":12,"n_rows":32,"n_cols":54,"rows_kept":32,"cut":false,"hidden":false,"merged":[[5,45,9,48],[5,49,9,52],[5,53,9,56],[6,2,6,6],[6,8,6,27],[0,0,0,56],[2,1,2,5],[2,7,2,52],[4,2,4,6],[4,8,4,22],[4,41,4,44],[4,45,4,48],[4,49,4,52],[4,53,4,56],[4,29,4,32],[4,33,4,36],[4,37,4,40],[14,2,14,9],[14,10,14,11],[14,22,14,39],[14,40,14,41],[8,2,8,6],[8,7,8,8],[10,2,10,6],[12,1,12,6],[12,7,12,8],[5,41,9,44],[5,29,9,32],[5,33,9,36],[5,37,9,40],[25,0,25,18],[26,0,26,18],[19,49,19,56],[16,2,16,9],[16,10,16,11],[16,22,16,38],[16,40,16,41],[20,43,22,56],[20,0,22,18],[20,19,20,30],[21,19,22,30],[23,19,23,30],[23,0,23,18],[20,31,20,42],[21,31,22,42],[27,0,27,18],[23,43,23,56],[24,43,24,56],[25,43,25,56],[26,43,26,56],[27,43,27,56],[27,19,27,30],[23,31,23,42],[24,31,24,42],[25,31,25,42],[26,31,26,42],[27,31,27,42],[24,19,24,30],[25,19,25,30],[26,19,26,30],[24,0,24,18]]}
["競争入札経過調書（最低価格落札方式）"]
[]
[null,"件名",null,null,null,null,null,{"$f":"IF(入力シート①!H3=\"\",\"\",入力シート①!H3)","v":"航空機乗組員の身体検査基準及び航空身体検査マニュアル並びに加齢乗員の現状に関する調査"}]
[]
[null,null,"開札年月日",null,null,null,null,null,{"$f":"入力シート①!$H$5&TEMP!$C$2&\"年\"&TEMP!$F$2&\"月\"&TEMP!$F$23&\"日\"","v":"平成29年6月16日"},null,null,null,null,null,null,null,null,null,null,null,null,null,null,null,null,null,null,null,null,{"$f":"IF(TEMP!$I$18=\"\",\"\",TEMP!$I$18)","v":"参事官"},null,null,null,{"$f":"IF(TEMP!$I$19=\"\",\"\",TEMP!$I$19)","v":"課長補佐（総括）"},null,null,null,{"$f":"IF(TEMP!$I$20=\"\",\"\",TEMP!$I$20)","v":"室長"},null,null,null,{"$f":"IF(TEMP!$I$21=\"\",\"\",TEMP!$I$21)","v":"課長補佐"},null,null,null,{"$f":"IF(TEMP!$I$22=\"\",\"\",TEMP!$I$22)","v":"専門官"},null,null,null,{"$f":"IF(TEMP!$I$23=\"\",\"\",TEMP!$I$23)","v":"係長(契約)"},null,null,null,{"$f":"IF(TEMP!$I$24=\"\",\"\",TEMP!$I$24)","v":"担当"}]
[]
[null,null,"入札執行官署",null,null,null,null,null,{"$f":"IF(入力シート①!H8=\"\",\"\",入力シート①!H8)","v":"国土交通省航空局"}]
[]
[null,null,"落札金額",null,null,null,null,"￥"]
[]
[null,null,"落札者",null,null,null,null,null,null,null,null,null,null,null,null,null,null,null,null,null,null,null,null,null,null,null,null,null,null,{"$f":"IF(TEMP!$H$25=0,\"\",\"※当該件名の入札が不調となったことについて確認する。\")","v":"※当該件名の入札が不調となったことについて確認する。"}]
[]
[null,"予定価格",null,null,null,null,null,"￥"]
[]
[null,null,"積算額",null,null,null,null,null,null,null,"￥",null,null,null,null,null,null,null,null,null,null,null,{"$f":"\"入札書比較価格（予定価格の100/\"&100+入力シート①!$R$9&\"）\"","v":"入札書比較価格（予定価格の100/108）"},null,null,null,null,null,null,null,null,null,null,null,null,null,null,null,null,null,"￥"]
[]
[null,null,"調査基準価格",null,null,null,null,null,null,null,"￥",null,null,null,null,null,null,null,null,null,null,null,{"$f":"\"調査基準価格の100/\"&100+入力シート①!$R$9","v":"調査基準価格の100/108"},null,null,null,null,null,null,null,null,null,null,null,null,null,null,null,null,null,"￥"]
[]
[]
[null,null,null,null,null,null,null,null,null,null,null,null,null,null,null,null,null,null,null,null,null,null,null,null,null,null,null,null,null,null,null,null,null,null,null,null,null,null,null,null,null,null,null,null,null,null,null,null,null,"入札不調"]
["入札参加者",null,null,null,null,null,null,null,null,null,null,null,null,null,null,null,null,null,null,"第１回入札",null,null,null,null,null,null,null,null,null,null,null,"第２回入札",null,null,null,null,null,null,null,null,null,null,null,"摘　要"]
[null,null,null,null,null,null,null,null,null,null,null,null,null,null,null,null,null,null,null,"入札金額",null,null,null,null,null,null,null,null,null,null,null,"入札金額"]
[]
[{"$f":"TEMP!Q4","v":"一般財団法人航空医学研究センター"},null,null,null,null,null,null,null,null,null,null,null,null,null,null,null,null,null,null,{"$f":"TEMP!R4","v":4800000},null,null,null,null,null,null,null,null,null,null,null,{"$f":"TEMP!R24","v":""},null,null,null,null,null,null,null,null,null,null,null,{"$f":"TEMP!V4","v":"第１回　落札"}]
[{"$f":"TEMP!Q5","v":""},null,null,null,null,null,null,null,null,null,null,null,null,null,null,null,null,null,null,{"$f":"TEMP!R5","v":""},null,null,null,null,null,null,null,null,null,null,null,{"$f":"TEMP!R25","v":""},null,null,null,null,null,null,null,null,null,null,null,{"$f":"TEMP!V5","v":""}]
[{"$f":"TEMP!Q6","v":""},null,null,null,null,null,null,null,null,null,null,null,null,null,null,null,null,null,null,{"$f":"TEMP!R6","v":""},null,null,null,null,null,null,null,null,null,null,null,{"$f":"TEMP!R26","v":""},null,null,null,null,null,null,null,null,null,null,null,{"$f":"TEMP!V6","v":""}]
[{"$f":"TEMP!Q7","v":""},null,null,null,null,null,null,null,null,null,null,null,null,null,null,null,null,null,null,{"$f":"TEMP!R7","v":""},null,null,null,null,null,null,null,null,null,null,null,{"$f":"TEMP!R27","v":""},null,null,null,null,null,null,null,null,null,null,null,{"$f":"TEMP!V7","v":""}]
[{"$f":"TEMP!Q8","v":""},null,null,null,null,null,null,null,null,null,null,null,null,null,null,null,null,null,null,{"$f":"TEMP!R8","v":""},null,null,null,null,null,null,null,null,null,null,null,{"$f":"TEMP!R28","v":""},null,null,null,null,null,null,null,null,null,null,null,{"$f":"TEMP!V8","v":""}]
[]
[{"$f":"\"※ 入札金額は入札者が見積もった契約希望金額の\"&100+入力シート①!$R$9&\"分の100に相当する金額である。\"","v":"※ 入札金額は入札者が見積もった契約希望金額の108分の100に相当する金額である。"}]
["※ 予定価格（入札書比較価格）の制限の範囲内で最低価格をもって有効な入札を行った入札者を落札者とする。"]
[{"$f":"\"※ 落札決定に当たっては、入札書に記載された金額に当該金額の\"&入力シート①!$R$9&\"％に相当する額を加算した金額（１円未満の端数は切り捨て。）をもって落札金額とする。\"","v":"※ 落札決定に当たっては、入札書に記載された金額に当該金額の8％に相当する額を加算した金額（１円未満の端数は切り捨て。）をもって落札金額とする。"}]

{"sheet":"②入札不調6-10","index":13,"n_rows":37,"n_cols":54,"rows_kept":37,"cut":false,"hidden":false,"merged":[[5,45,10,48],[8,7,8,8],[0,0,0,56],[2,1,2,5],[2,7,2,52],[4,2,4,6],[4,8,4,22],[4,29,4,32],[4,33,4,36],[4,37,4,40],[4,41,4,44],[4,45,4,48],[4,49,4,52],[4,53,4,56],[10,2,10,6],[12,1,12,6],[12,7,12,8],[11,29,12,56],[14,40,14,41],[5,29,10,32],[14,2,14,9],[14,10,14,11],[14,22,14,39],[5,49,10,52],[5,53,10,56],[6,2,6,6],[8,2,8,6],[6,8,6,27],[5,33,10,36],[5,37,10,40],[5,41,10,44],[23,0,23,18],[23,19,23,30],[18,49,18,56],[16,2,16,9],[16,10,16,11],[16,22,16,38],[16,40,16,41],[23,43,23,56],[20,19,20,30],[21,19,22,30],[20,31,20,42],[21,31,22,42],[23,31,23,42],[20,0,22,18],[20,43,22,56],[32,43,32,56],[27,19,27,30],[30,0,30,18],[31,0,31,18],[32,0,32,18],[28,19,28,30],[29,19,29,30],[30,19,30,30],[31,19,31,30],[27,43,27,56],[28,43,28,56],[29,43,29,56],[30,43,30,56],[31,43,31,56],[28,0,28,18],[29,0,29,18],[24,0,24,18],[25,0,25,18],[26,0,26,18],[24,43,24,56],[25,43,25,56],[26,43,26,56],[24,19,24,30],[25,19,25,30],[27,0,27,18],[28,31,28,42],[29,31,29,42],[30,31,30,42],[31,31,31,42],[32,19,32,30],[32,31,32,42],[24,31,24,42],[25,31,25,42],[26,31,26,42],[27,31,27,42],[26,19,26,30]]}
["競争入札経過調書（最低価格落札方式）"]
[]
[null,"件名",null,null,null,null,null,{"$f":"IF(入力シート①!H3=\"\",\"\",入力シート①!H3)","v":"航空機乗組員の身体検査基準及び航空身体検査マニュアル並びに加齢乗員の現状に関する調査"}]
[]
[null,null,"開札年月日",null,null,null,null,null,{"$f":"入力シート①!$H$5&TEMP!$C$2&\"年\"&TEMP!$F$2&\"月\"&TEMP!$F$23&\"日\"","v":"平成29年6月16日"},null,null,null,null,null,null,null,null,null,null,null,null,null,null,null,null,null,null,null,null,{"$f":"IF(TEMP!$I$18=\"\",\"\",TEMP!$I$18)","v":"参事官"},null,null,null,{"$f":"IF(TEMP!$I$19=\"\",\"\",TEMP!$I$19)","v":"課長補佐（総括）"},null,null,null,{"$f":"IF(TEMP!$I$20=\"\",\"\",TEMP!$I$20)","v":"室長"},null,null,null,{"$f":"IF(TEMP!$I$21=\"\",\"\",TEMP!$I$21)","v":"課長補佐"},null,null,null,{"$f":"IF(TEMP!$I$22=\"\",\"\",TEMP!$I$22)","v":"専門官"},null,null,null,{"$f":"IF(TEMP!$I$23=\"\",\"\",TEMP!$I$23)","v":"係長(契約)"},null,null,null,{"$f":"IF(TEMP!$I$24=\"\",\"\",TEMP!$I$24)","v":"担当"}]
[]
[null,null,"入札執行官署",null,null,null,null,null,{"$f":"IF(入力シート①!H8=\"\",\"\",入力シート①!H8)","v":"国土交通省航空局"}]
[]
[null,null,"落札金額",null,null,null,null,"￥"]
[]
[null,null,"落札者"]
[null,null,null,null,null,null,null,null,null,null,null,null,null,null,null,null,null,null,null,null,null,null,null,null,null,null,null,null,null,{"$f":"IF(TEMP!$H$25=0,\"\",\"※当該件名の入札が不調となったことについて確認する。\")","v":"※当該件名の入札が不調となったことについて確認する。"}]
[null,"予定価格",null,null,null,null,null,"￥"]
[]
[null,null,"積算額",null,null,null,null,null,null,null,"￥",null,null,null,null,null,null,null,null,null,null,null,{"$f":"\"入札書比較価格（予定価格の100/\"&100+入力シート①!$R$9&\"）\"","v":"入札書比較価格（予定価格の100/108）"},null,null,null,null,null,null,null,null,null,null,null,null,null,null,null,null,null,"￥"]
[]
[null,null,"調査基準価格",null,null,null,null,null,null,null,"￥",null,null,null,null,null,null,null,null,null,null,null,{"$f":"\"調査基準価格の100/\"&100+入力シート①!$R$9","v":"調査基準価格の100/108"},null,null,null,null,null,null,null,null,null,null,null,null,null,null,null,null,null,"￥"]
[]
[null,null,null,null,null,null,null,null,null,null,null,null,null,null,null,null,null,null,null,null,null,null,null,null,null,null,null,null,null,null,null,null,null,null,null,null,null,null,null,null,null,null,null,null,null,null,null,null,null,"入札不調"]
[]
["入札参加者",null,null,null,null,null,null,null,null,null,null,null,null,null,null,null,null,null,null,"第１回入札",null,null,null,null,null,null,null,null,null,null,null,"第２回入札",null,null,null,null,null,null,null,null,null,null,null,"摘　要"]
[null,null,null,null,null,null,null,null,null,null,null,null,null,null,null,null,null,null,null,"入札金額",null,null,null,null,null,null,null,null,null,null,null,"入札金額"]
[]
[{"$f":"TEMP!Q4","v":"一般財団法人航空医学研究センター"},null,null,null,null,null,null,null,null,null,null,null,null,null,null,null,null,null,null,{"$f":"TEMP!R4","v":4800000},null,null,null,null,null,null,null,null,null,null,null,{"$f":"TEMP!R24","v":""},null,null,null,null,null,null,null,null,null,null,null,{"$f":"TEMP!V4","v":"第１回　落札"}]
[{"$f":"TEMP!Q5","v":""},null,null,null,null,null,null,null,null,null,null,null,null,null,null,null,null,null,null,{"$f":"TEMP!R5","v":""},null,null,null,null,null,null,null,null,null,null,null,{"$f":"TEMP!R25","v":""},null,null,null,null,null,null,null,null,null,null,null,{"$f":"TEMP!V5","v":""}]
[{"$f":"TEMP!Q6","v":""},null,null,null,null,null,null,null,null,null,null,null,null,null,null,null,null,null,null,{"$f":"TEMP!R6","v":""},null,null,null,null,null,null,null,null,null,null,null,{"$f":"TEMP!R26","v":""},null,null,null,null,null,null,null,null,null,null,null,{"$f":"TEMP!V6","v":""}]
[{"$f":"TEMP!Q7","v":""},null,null,null,null,null,null,null,null,null,null,null,null,null,null,null,null,null,null,{"$f":"TEMP!R7","v":""},null,null,null,null,null,null,null,null,null,null,null,{"$f":"TEMP!R27","v":""},null,null,null,null,null,null,null,null,null,null,null,{"$f":"TEMP!V7","v":""}]
[{"$f":"TEMP!Q8","v":""},null,null,null,null,null,null,null,null,null,null,null,null,null,null,null,null,null,null,{"$f":"TEMP!R8","v":""},null,null,null,null,null,null,null,null,null,null,null,{"$f":"TEMP!R28","v":""},null,null,null,null,null,null,null,null,null,null,null,{"$f":"TEMP!V8","v":""}]
[{"$f":"TEMP!Q9","v":""},null,null,null,null,null,null,null,null,null,null,null,null,null,null,null,null,null,null,{"$f":"TEMP!R9","v":""},null,null,null,null,null,null,null,null,null,null,null,{"$f":"TEMP!R29","v":""},null,null,null,null,null,null,null,null,null,null,null,{"$f":"TEMP!V9","v":""}]
[{"$f":"TEMP!Q10","v":""},null,null,null,null,null,null,null,null,null,null,null,null,null,null,null,null,null,null,{"$f":"TEMP!R10","v":""},null,null,null,null,null,null,null,null,null,null,null,{"$f":"TEMP!R30","v":""},null,null,null,null,null,null,null,null,null,null,null,{"$f":"TEMP!V10","v":""}]
[{"$f":"TEMP!Q11","v":""},null,null,null,null,null,null,null,null,null,null,null,null,null,null,null,null,null,null,{"$f":"TEMP!R11","v":""},null,null,null,null,null,null,null,null,null,null,null,{"$f":"TEMP!R31","v":""},null,null,null,null,null,null,null,null,null,null,null,{"$f":"TEMP!V11","v":""}]
[{"$f":"TEMP!Q12","v":""},null,null,null,null,null,null,null,null,null,null,null,null,null,null,null,null,null,null,{"$f":"TEMP!R12","v":""},null,null,null,null,null,null,null,null,null,null,null,{"$f":"TEMP!R32","v":""},null,null,null,null,null,null,null,null,null,null,null,{"$f":"TEMP!V12","v":""}]
[{"$f":"TEMP!Q13","v":""},null,null,null,null,null,null,null,null,null,null,null,null,null,null,null,null,null,null,{"$f":"TEMP!R13","v":""},null,null,null,null,null,null,null,null,null,null,null,{"$f":"TEMP!R33","v":""},null,null,null,null,null,null,null,null,null,null,null,{"$f":"TEMP!V13","v":""}]
[]
[{"$f":"\"※ 入札金額は入札者が見積もった契約希望金額の\"&100+入力シート①!$R$9&\"分の100に相当する金額である。\"","v":"※ 入札金額は入札者が見積もった契約希望金額の108分の100に相当する金額である。"}]
["※ 予定価格（入札書比較価格）の制限の範囲内で最低価格をもって有効な入札を行った入札者を落札者とする。"]
[{"$f":"\"※ 落札決定に当たっては、入札書に記載された金額に当該金額の\"&入力シート①!$R$9&\"％に相当する額を加算した金額（１円未満の端数は切り捨て。）をもって落札金額とする。\"","v":"※ 落札決定に当たっては、入札書に記載された金額に当該金額の8％に相当する額を加算した金額（１円未満の端数は切り捨て。）をもって落札金額とする。"}]

{"sheet":"③入札不調11-15","index":14,"n_rows":42,"n_cols":54,"rows_kept":42,"cut":false,"hidden":false,"merged":[[14,40,14,41],[8,2,8,6],[8,7,8,8],[10,2,10,6],[12,1,12,6],[12,7,12,8],[11,29,12,56],[5,29,10,32],[5,33,10,36],[5,37,10,40],[5,41,10,44],[5,45,10,48],[5,49,10,52],[5,53,10,56],[6,2,6,6],[14,2,14,9],[14,10,14,11],[14,22,14,39],[6,8,6,27],[0,0,0,56],[2,1,2,5],[2,7,2,52],[4,2,4,6],[4,8,4,22],[4,49,4,52],[4,53,4,56],[4,29,4,32],[4,33,4,36],[4,37,4,40],[4,41,4,44],[4,45,4,48],[26,0,26,18],[23,0,23,18],[18,49,18,56],[16,2,16,9],[16,10,16,11],[16,22,16,38],[16,40,16,41],[20,0,22,18],[24,0,24,18],[25,0,25,18],[23,43,23,56],[24,43,24,56],[25,43,25,56],[26,43,26,56],[20,43,22,56],[26,31,26,42],[26,19,26,30],[20,31,20,42],[21,31,22,42],[23,31,23,42],[24,31,24,42],[25,31,25,42],[20,19,20,30],[21,19,22,30],[27,43,27,56],[28,43,28,56],[29,43,29,56],[30,43,30,56],[30,19,30,30],[30,31,30,42],[27,31,27,42],[28,31,28,42],[29,31,29,42],[27,19,27,30],[28,19,28,30],[29,19,29,30],[33,19,33,30],[34,19,34,30],[31,31,31,42],[32,31,32,42],[33,31,33,42],[34,31,34,42],[32,0,32,18],[28,0,28,18],[27,0,27,18],[29,0,29,18],[30,0,30,18],[23,19,23,30],[24,19,24,30],[25,19,25,30],[35,0,35,18],[35,43,35,56],[36,43,36,56],[37,43,37,56],[35,19,35,30],[35,31,35,42],[36,0,36,18],[37,0,37,18],[36,19,36,30],[37,19,37,30],[36,31,36,42],[37,31,37,42],[31,0,31,18],[33,0,33,18],[34,0,34,18],[31,43,31,56],[32,43,32,56],[33,43,33,56],[34,43,34,56],[31,19,31,30],[32,19,32,30]]}
["競争入札経過調書（最低価格落札方式）"]
[]
[null,"件名",null,null,null,null,null,{"$f":"IF(入力シート①!H3=\"\",\"\",入力シート①!H3)","v":"航空機乗組員の身体検査基準及び航空身体検査マニュアル並びに加齢乗員の現状に関する調査"}]
[]
[null,null,"開札年月日",null,null,null,null,null,{"$f":"入力シート①!$H$5&TEMP!$C$2&\"年\"&TEMP!$F$2&\"月\"&TEMP!$F$23&\"日\"","v":"平成29年6月16日"},null,null,null,null,null,null,null,null,null,null,null,null,null,null,null,null,null,null,null,null,{"$f":"IF(TEMP!$I$18=\"\",\"\",TEMP!$I$18)","v":"参事官"},null,null,null,{"$f":"IF(TEMP!$I$19=\"\",\"\",TEMP!$I$19)","v":"課長補佐（総括）"},null,null,null,{"$f":"IF(TEMP!$I$20=\"\",\"\",TEMP!$I$20)","v":"室長"},null,null,null,{"$f":"IF(TEMP!$I$21=\"\",\"\",TEMP!$I$21)","v":"課長補佐"},null,null,null,{"$f":"IF(TEMP!$I$22=\"\",\"\",TEMP!$I$22)","v":"専門官"},null,null,null,{"$f":"IF(TEMP!$I$23=\"\",\"\",TEMP!$I$23)","v":"係長(契約)"},null,null,null,{"$f":"IF(TEMP!$I$24=\"\",\"\",TEMP!$I$24)","v":"担当"}]
[]
[null,null,"入札執行官署",null,null,null,null,null,{"$f":"IF(入力シート①!H8=\"\",\"\",入力シート①!H8)","v":"国土交通省航空局"}]
[]
[null,null,"落札金額",null,null,null,null,"￥"]
[]
[null,null,"落札者"]
[null,null,null,null,null,null,null,null,null,null,null,null,null,null,null,null,null,null,null,null,null,null,null,null,null,null,null,null,null,{"$f":"IF(TEMP!$H$25=0,\"\",\"※当該件名の入札が不調となったことについて確認する。\")","v":"※当該件名の入札が不調となったことについて確認する。"}]
[null,"予定価格",null,null,null,null,null,"￥"]
[]
[null,null,"積算額",null,null,null,null,null,null,null,"￥",null,null,null,null,null,null,null,null,null,null,null,{"$f":"\"入札書比較価格（予定価格の100/\"&100+入力シート①!$R$9&\"）\"","v":"入札書比較価格（予定価格の100/108）"},null,null,null,null,null,null,null,null,null,null,null,null,null,null,null,null,null,"￥"]
[]
[null,null,"調査基準価格",null,null,null,null,null,null,null,"￥",null,null,null,null,null,null,null,null,null,null,null,{"$f":"\"調査基準価格の100/\"&100+入力シート①!$R$9","v":"調査基準価格の100/108"},null,null,null,null,null,null,null,null,null,null,null,null,null,null,null,null,null,"￥"]
[]
[null,null,null,null,null,null,null,null,null,null,null,null,null,null,null,null,null,null,null,null,null,null,null,null,null,null,null,null,null,null,null,null,null,null,null,null,null,null,null,null,null,null,null,null,null,null,null,null,null,"入札不調"]
[]
["入札参加者",null,null,null,null,null,null,null,null,null,null,null,null,null,null,null,null,null,null,"第１回入札",null,null,null,null,null,null,null,null,null,null,null,"第２回入札",null,null,null,null,null,null,null,null,null,null,null,"摘　要"]
[null,null,null,null,null,null,null,null,null,null,null,null,null,null,null,null,null,null,null,"入札金額",null,null,null,null,null,null,null,null,null,null,null,"入札金額"]
[]
[{"$f":"TEMP!Q4","v":"一般財団法人航空医学研究センター"},null,null,null,null,null,null,null,null,null,null,null,null,null,null,null,null,null,null,{"$f":"TEMP!R4","v":4800000},null,null,null,null,null,null,null,null,null,null,null,{"$f":"TEMP!R24","v":""},null,null,null,null,null,null,null,null,null,null,null,{"$f":"TEMP!V4","v":"第１回　落札"}]
[{"$f":"TEMP!Q5","v":""},null,null,null,null,null,null,null,null,null,null,null,null,null,null,null,null,null,null,{"$f":"TEMP!R5","v":""},null,null,null,null,null,null,null,null,null,null,null,{"$f":"TEMP!R25","v":""},null,null,null,null,null,null,null,null,null,null,null,{"$f":"TEMP!V5","v":""}]
[{"$f":"TEMP!Q6","v":""},null,null,null,null,null,null,null,null,null,null,null,null,null,null,null,null,null,null,{"$f":"TEMP!R6","v":""},null,null,null,null,null,null,null,null,null,null,null,{"$f":"TEMP!R26","v":""},null,null,null,null,null,null,null,null,null,null,null,{"$f":"TEMP!V6","v":""}]
[{"$f":"TEMP!Q7","v":""},null,null,null,null,null,null,null,null,null,null,null,null,null,null,null,null,null,null,{"$f":"TEMP!R7","v":""},null,null,null,null,null,null,null,null,null,null,null,{"$f":"TEMP!R27","v":""},null,null,null,null,null,null,null,null,null,null,null,{"$f":"TEMP!V7","v":""}]
[{"$f":"TEMP!Q8","v":""},null,null,null,null,null,null,null,null,null,null,null,null,null,null,null,null,null,null,{"$f":"TEMP!R8","v":""},null,null,null,null,null,null,null,null,null,null,null,{"$f":"TEMP!R28","v":""},null,null,null,null,null,null,null,null,null,null,null,{"$f":"TEMP!V8","v":""}]
[{"$f":"TEMP!Q9","v":""},null,null,null,null,null,null,null,null,null,null,null,null,null,null,null,null,null,null,{"$f":"TEMP!R9","v":""},null,null,null,null,null,null,null,null,null,null,null,{"$f":"TEMP!R29","v":""},null,null,null,null,null,null,null,null,null,null,null,{"$f":"TEMP!V9","v":""}]
[{"$f":"TEMP!Q10","v":""},null,null,null,null,null,null,null,null,null,null,null,null,null,null,null,null,null,null,{"$f":"TEMP!R10","v":""},null,null,null,null,null,null,null,null,null,null,null,{"$f":"TEMP!R30","v":""},null,null,null,null,null,null,null,null,null,null,null,{"$f":"TEMP!V10","v":""}]
[{"$f":"TEMP!Q11","v":""},null,null,null,null,null,null,null,null,null,null,null,null,null,null,null,null,null,null,{"$f":"TEMP!R11","v":""},null,null,null,null,null,null,null,null,null,null,null,{"$f":"TEMP!R31","v":""},null,null,null,null,null,null,null,null,null,null,null,{"$f":"TEMP!V11","v":""}]
[{"$f":"TEMP!Q12","v":""},null,null,null,null,null,null,null,null,null,null,null,null,null,null,null,null,null,null,{"$f":"TEMP!R12","v":""},null,null,null,null,null,null,null,null,null,null,null,{"$f":"TEMP!R32","v":""},null,null,null,null,null,null,null,null,null,null,null,{"$f":"TEMP!V12","v":""}]
[{"$f":"TEMP!Q13","v":""},null,null,null,null,null,null,null,null,null,null,null,null,null,null,null,null,null,null,{"$f":"TEMP!R13","v":""},null,null,null,null,null,null,null,null,null,null,null,{"$f":"TEMP!R33","v":""},null,null,null,null,null,null,null,null,null,null,null,{"$f":"TEMP!V13","v":""}]
[{"$f":"TEMP!Q14","v":""},null,null,null,null,null,null,null,null,null,null,null,null,null,null,null,null,null,null,{"$f":"TEMP!R14","v":""},null,null,null,null,null,null,null,null,null,null,null,{"$f":"TEMP!R34","v":""},null,null,null,null,null,null,null,null,null,null,null,{"$f":"TEMP!V14","v":""}]
[{"$f":"TEMP!Q15","v":""},null,null,null,null,null,null,null,null,null,null,null,null,null,null,null,null,null,null,{"$f":"TEMP!R15","v":""},null,null,null,null,null,null,null,null,null,null,null,{"$f":"TEMP!R35","v":""},null,null,null,null,null,null,null,null,null,null,null,{"$f":"TEMP!V15","v":""}]
[{"$f":"TEMP!Q16","v":""},null,null,null,null,null,null,null,null,null,null,null,null,null,null,null,null,null,null,{"$f":"TEMP!R16","v":""},null,null,null,null,null,null,null,null,null,null,null,{"$f":"TEMP!R36","v":""},null,null,null,null,null,null,null,null,null,null,null,{"$f":"TEMP!V16","v":""}]
[{"$f":"TEMP!Q17","v":""},null,null,null,null,null,null,null,null,null,null,null,null,null,null,null,null,null,null,{"$f":"TEMP!R17","v":""},null,null,null,null,null,null,null,null,null,null,null,{"$f":"TEMP!R37","v":""},null,null,null,null,null,null,null,null,null,null,null,{"$f":"TEMP!V17","v":""}]
[{"$f":"TEMP!Q18","v":""},null,null,null,null,null,null,null,null,null,null,null,null,null,null,null,null,null,null,{"$f":"TEMP!R18","v":""},null,null,null,null,null,null,null,null,null,null,null,{"$f":"TEMP!R38","v":""},null,null,null,null,null,null,null,null,null,null,null,{"$f":"TEMP!V18","v":""}]
[]
[{"$f":"\"※ 入札金額は入札者が見積もった契約希望金額の\"&100+入力シート①!$R$9&\"分の100に相当する金額である。\"","v":"※ 入札金額は入札者が見積もった契約希望金額の108分の100に相当する金額である。"}]
["※ 予定価格（入札書比較価格）の制限の範囲内で最低価格をもって有効な入札を行った入札者を落札者とする。"]
[{"$f":"\"※ 落札決定に当たっては、入札書に記載された金額に当該金額の\"&入力シート①!$R$9&\"％に相当する額を加算した金額（１円未満の端数は切り捨て。）をもって落札金額とする。\"","v":"※ 落札決定に当たっては、入札書に記載された金額に当該金額の8％に相当する額を加算した金額（１円未満の端数は切り捨て。）をもって落札金額とする。"}]

{"sheet":"④入札不調16-20","index":15,"n_rows":47,"n_cols":54,"rows_kept":47,"cut":false,"hidden":false,"merged":[[0,0,0,56],[2,1,2,5],[2,7,2,52],[4,2,4,6],[4,8,4,22],[6,2,6,6],[4,29,4,32],[4,33,4,36],[4,37,4,40],[4,41,4,44],[4,45,4,48],[4,49,4,52],[4,53,4,56],[6,8,6,27],[14,2,14,9],[14,10,14,11],[14,22,14,39],[14,40,14,41],[8,2,8,6],[8,7,8,8],[10,2,10,6],[12,1,12,6],[12,7,12,8],[11,29,12,56],[5,29,10,32],[5,33,10,36],[5,37,10,40],[5,41,10,44],[5,45,10,48],[5,49,10,52],[5,53,10,56],[23,0,23,18],[23,43,23,56],[23,19,23,30],[23,31,23,42],[18,49,18,56],[16,2,16,9],[16,10,16,11],[16,22,16,38],[16,40,16,41],[20,0,22,18],[20,43,22,56],[20,19,20,30],[21,19,22,30],[20,31,20,42],[21,31,22,42],[26,0,26,18],[26,43,26,56],[26,19,26,30],[26,31,26,42],[25,0,25,18],[25,43,25,56],[25,19,25,30],[25,31,25,42],[24,0,24,18],[24,43,24,56],[24,19,24,30],[24,31,24,42],[28,0,28,18],[27,0,27,18],[29,0,29,18],[30,0,30,18],[27,43,27,56],[28,43,28,56],[29,43,29,56],[30,43,30,56],[27,19,27,30],[28,19,28,30],[29,19,29,30],[30,19,30,30],[27,31,27,42],[28,31,28,42],[29,31,29,42],[30,31,30,42],[32,0,32,18],[31,0,31,18],[33,0,33,18],[34,0,34,18],[31,43,31,56],[32,43,32,56],[33,43,33,56],[34,43,34,56],[31,19,31,30],[32,19,32,30],[33,19,33,30],[34,19,34,30],[31,31,31,42],[32,31,32,42],[33,31,33,42],[34,31,34,42],[42,0,42,18],[39,43,39,56],[40,43,40,56],[41,43,41,56],[42,43,42,56],[39,19,39,30],[40,19,40,30],[41,19,41,30],[42,19,42,30],[39,31,39,42],[40,31,40,42],[41,31,41,42],[42,31,42,42],[40,0,40,18],[39,0,39,18],[37,43,37,56],[38,43,38,56],[35,19,35,30],[36,19,36,30],[37,19,37,30],[38,19,38,30],[35,31,35,42],[36,31,36,42],[41,0,41,18],[37,31,37,42],[38,31,38,42],[36,0,36,18],[35,0,35,18],[37,0,37,18],[38,0,38,18],[35,43,35,56],[36,43,36,56]]}
["競争入札経過調書（最低価格落札方式）"]
[]
[null,"件名",null,null,null,null,null,{"$f":"IF(入力シート①!H3=\"\",\"\",入力シート①!H3)","v":"航空機乗組員の身体検査基準及び航空身体検査マニュアル並びに加齢乗員の現状に関する調査"}]
[]
[null,null,"開札年月日",null,null,null,null,null,{"$f":"入力シート①!$H$5&TEMP!$C$2&\"年\"&TEMP!$F$2&\"月\"&TEMP!$F$23&\"日\"","v":"平成29年6月16日"},null,null,null,null,null,null,null,null,null,null,null,null,null,null,null,null,null,null,null,null,{"$f":"IF(TEMP!$I$18=\"\",\"\",TEMP!$I$18)","v":"参事官"},null,null,null,{"$f":"IF(TEMP!$I$19=\"\",\"\",TEMP!$I$19)","v":"課長補佐（総括）"},null,null,null,{"$f":"IF(TEMP!$I$20=\"\",\"\",TEMP!$I$20)","v":"室長"},null,null,null,{"$f":"IF(TEMP!$I$21=\"\",\"\",TEMP!$I$21)","v":"課長補佐"},null,null,null,{"$f":"IF(TEMP!$I$22=\"\",\"\",TEMP!$I$22)","v":"専門官"},null,null,null,{"$f":"IF(TEMP!$I$23=\"\",\"\",TEMP!$I$23)","v":"係長(契約)"},null,null,null,{"$f":"IF(TEMP!$I$24=\"\",\"\",TEMP!$I$24)","v":"担当"}]
[]
[null,null,"入札執行官署",null,null,null,null,null,{"$f":"IF(入力シート①!H8=\"\",\"\",入力シート①!H8)","v":"国土交通省航空局"}]
[]
[null,null,"落札金額",null,null,null,null,"￥"]
[]
[null,null,"落札者"]
[null,null,null,null,null,null,null,null,null,null,null,null,null,null,null,null,null,null,null,null,null,null,null,null,null,null,null,null,null,{"$f":"IF(TEMP!$H$25=0,\"\",\"※当該件名の入札が不調となったことについて確認する。\")","v":"※当該件名の入札が不調となったことについて確認する。"}]
[null,"予定価格",null,null,null,null,null,"￥"]
[]
[null,null,"積算額",null,null,null,null,null,null,null,"￥",null,null,null,null,null,null,null,null,null,null,null,{"$f":"\"入札書比較価格（予定価格の100/\"&100+入力シート①!$R$9&\"）\"","v":"入札書比較価格（予定価格の100/108）"},null,null,null,null,null,null,null,null,null,null,null,null,null,null,null,null,null,"￥"]
[]
[null,null,"調査基準価格",null,null,null,null,null,null,null,"￥",null,null,null,null,null,null,null,null,null,null,null,{"$f":"\"調査基準価格の100/\"&100+入力シート①!$R$9","v":"調査基準価格の100/108"},null,null,null,null,null,null,null,null,null,null,null,null,null,null,null,null,null,"￥"]
[]
[null,null,null,null,null,null,null,null,null,null,null,null,null,null,null,null,null,null,null,null,null,null,null,null,null,null,null,null,null,null,null,null,null,null,null,null,null,null,null,null,null,null,null,null,null,null,null,null,null,"入札不調"]
[]
["入札参加者",null,null,null,null,null,null,null,null,null,null,null,null,null,null,null,null,null,null,"第１回入札",null,null,null,null,null,null,null,null,null,null,null,"第２回入札",null,null,null,null,null,null,null,null,null,null,null,"摘　要"]
[null,null,null,null,null,null,null,null,null,null,null,null,null,null,null,null,null,null,null,"入札金額",null,null,null,null,null,null,null,null,null,null,null,"入札金額"]
[]
[{"$f":"TEMP!Q4","v":"一般財団法人航空医学研究センター"},null,null,null,null,null,null,null,null,null,null,null,null,null,null,null,null,null,null,{"$f":"TEMP!R4","v":4800000},null,null,null,null,null,null,null,null,null,null,null,{"$f":"TEMP!R24","v":""},null,null,null,null,null,null,null,null,null,null,null,{"$f":"TEMP!V4","v":"第１回　落札"}]
[{"$f":"TEMP!Q5","v":""},null,null,null,null,null,null,null,null,null,null,null,null,null,null,null,null,null,null,{"$f":"TEMP!R5","v":""},null,null,null,null,null,null,null,null,null,null,null,{"$f":"TEMP!R25","v":""},null,null,null,null,null,null,null,null,null,null,null,{"$f":"TEMP!V5","v":""}]
[{"$f":"TEMP!Q6","v":""},null,null,null,null,null,null,null,null,null,null,null,null,null,null,null,null,null,null,{"$f":"TEMP!R6","v":""},null,null,null,null,null,null,null,null,null,null,null,{"$f":"TEMP!R26","v":""},null,null,null,null,null,null,null,null,null,null,null,{"$f":"TEMP!V6","v":""}]
[{"$f":"TEMP!Q7","v":""},null,null,null,null,null,null,null,null,null,null,null,null,null,null,null,null,null,null,{"$f":"TEMP!R7","v":""},null,null,null,null,null,null,null,null,null,null,null,{"$f":"TEMP!R27","v":""},null,null,null,null,null,null,null,null,null,null,null,{"$f":"TEMP!V7","v":""}]
[{"$f":"TEMP!Q8","v":""},null,null,null,null,null,null,null,null,null,null,null,null,null,null,null,null,null,null,{"$f":"TEMP!R8","v":""},null,null,null,null,null,null,null,null,null,null,null,{"$f":"TEMP!R28","v":""},null,null,null,null,null,null,null,null,null,null,null,{"$f":"TEMP!V8","v":""}]
[{"$f":"TEMP!Q9","v":""},null,null,null,null,null,null,null,null,null,null,null,null,null,null,null,null,null,null,{"$f":"TEMP!R9","v":""},null,null,null,null,null,null,null,null,null,null,null,{"$f":"TEMP!R29","v":""},null,null,null,null,null,null,null,null,null,null,null,{"$f":"TEMP!V9","v":""}]
[{"$f":"TEMP!Q10","v":""},null,null,null,null,null,null,null,null,null,null,null,null,null,null,null,null,null,null,{"$f":"TEMP!R10","v":""},null,null,null,null,null,null,null,null,null,null,null,{"$f":"TEMP!R30","v":""},null,null,null,null,null,null,null,null,null,null,null,{"$f":"TEMP!V10","v":""}]
[{"$f":"TEMP!Q11","v":""},null,null,null,null,null,null,null,null,null,null,null,null,null,null,null,null,null,null,{"$f":"TEMP!R11","v":""},null,null,null,null,null,null,null,null,null,null,null,{"$f":"TEMP!R31","v":""},null,null,null,null,null,null,null,null,null,null,null,{"$f":"TEMP!V11","v":""}]
[{"$f":"TEMP!Q12","v":""},null,null,null,null,null,null,null,null,null,null,null,null,null,null,null,null,null,null,{"$f":"TEMP!R12","v":""},null,null,null,null,null,null,null,null,null,null,null,{"$f":"TEMP!R32","v":""},null,null,null,null,null,null,null,null,null,null,null,{"$f":"TEMP!V12","v":""}]
[{"$f":"TEMP!Q13","v":""},null,null,null,null,null,null,null,null,null,null,null,null,null,null,null,null,null,null,{"$f":"TEMP!R13","v":""},null,null,null,null,null,null,null,null,null,null,null,{"$f":"TEMP!R33","v":""},null,null,null,null,null,null,null,null,null,null,null,{"$f":"TEMP!V13","v":""}]
[{"$f":"TEMP!Q14","v":""},null,null,null,null,null,null,null,null,null,null,null,null,null,null,null,null,null,null,{"$f":"TEMP!R14","v":""},null,null,null,null,null,null,null,null,null,null,null,{"$f":"TEMP!R34","v":""},null,null,null,null,null,null,null,null,null,null,null,{"$f":"TEMP!V14","v":""}]
[{"$f":"TEMP!Q15","v":""},null,null,null,null,null,null,null,null,null,null,null,null,null,null,null,null,null,null,{"$f":"TEMP!R15","v":""},null,null,null,null,null,null,null,null,null,null,null,{"$f":"TEMP!R35","v":""},null,null,null,null,null,null,null,null,null,null,null,{"$f":"TEMP!V15","v":""}]
[{"$f":"TEMP!Q16","v":""},null,null,null,null,null,null,null,null,null,null,null,null,null,null,null,null,null,null,{"$f":"TEMP!R16","v":""},null,null,null,null,null,null,null,null,null,null,null,{"$f":"TEMP!R36","v":""},null,null,null,null,null,null,null,null,null,null,null,{"$f":"TEMP!V16","v":""}]
[{"$f":"TEMP!Q17","v":""},null,null,null,null,null,null,null,null,null,null,null,null,null,null,null,null,null,null,{"$f":"TEMP!R17","v":""},null,null,null,null,null,null,null,null,null,null,null,{"$f":"TEMP!R37","v":""},null,null,null,null,null,null,null,null,null,null,null,{"$f":"TEMP!V17","v":""}]
[{"$f":"TEMP!Q18","v":""},null,null,null,null,null,null,null,null,null,null,null,null,null,null,null,null,null,null,{"$f":"TEMP!R18","v":""},null,null,null,null,null,null,null,null,null,null,null,{"$f":"TEMP!R38","v":""},null,null,null,null,null,null,null,null,null,null,null,{"$f":"TEMP!V18","v":""}]
[{"$f":"TEMP!Q19","v":""},null,null,null,null,null,null,null,null,null,null,null,null,null,null,null,null,null,null,{"$f":"TEMP!R19","v":""},null,null,null,null,null,null,null,null,null,null,null,{"$f":"TEMP!R39","v":""},null,null,null,null,null,null,null,null,null,null,null,{"$f":"TEMP!V19","v":""}]
[{"$f":"TEMP!Q20","v":""},null,null,null,null,null,null,null,null,null,null,null,null,null,null,null,null,null,null,{"$f":"TEMP!R20","v":""},null,null,null,null,null,null,null,null,null,null,null,{"$f":"TEMP!R40","v":""},null,null,null,null,null,null,null,null,null,null,null,{"$f":"TEMP!V20","v":""}]
[{"$f":"TEMP!Q21","v":""},null,null,null,null,null,null,null,null,null,null,null,null,null,null,null,null,null,null,{"$f":"TEMP!R21","v":""},null,null,null,null,null,null,null,null,null,null,null,{"$f":"TEMP!R41","v":""},null,null,null,null,null,null,null,null,null,null,null,{"$f":"TEMP!V21","v":""}]
[{"$f":"TEMP!Q22","v":""},null,null,null,null,null,null,null,null,null,null,null,null,null,null,null,null,null,null,{"$f":"TEMP!R22","v":""},null,null,null,null,null,null,null,null,null,null,null,{"$f":"TEMP!R42","v":""},null,null,null,null,null,null,null,null,null,null,null,{"$f":"TEMP!V22","v":""}]
[{"$f":"TEMP!Q23","v":""},null,null,null,null,null,null,null,null,null,null,null,null,null,null,null,null,null,null,{"$f":"TEMP!R23","v":""},null,null,null,null,null,null,null,null,null,null,null,{"$f":"TEMP!R43","v":""},null,null,null,null,null,null,null,null,null,null,null,{"$f":"TEMP!V23","v":""}]
[]
[{"$f":"\"※ 入札金額は入札者が見積もった契約希望金額の\"&100+入力シート①!$R$9&\"分の100に相当する金額である。\"","v":"※ 入札金額は入札者が見積もった契約希望金額の108分の100に相当する金額である。"}]
["※ 予定価格（入札書比較価格）の制限の範囲内で最低価格をもって有効な入札を行った入札者を落札者とする。"]
[{"$f":"\"※ 落札決定に当たっては、入札書に記載された金額に当該金額の\"&入力シート①!$R$9&\"％に相当する額を加算した金額（１円未満の端数は切り捨て。）をもって落札金額とする。\"","v":"※ 落札決定に当たっては、入札書に記載された金額に当該金額の8％に相当する額を加算した金額（１円未満の端数は切り捨て。）をもって落札金額とする。"}]

{"sheet":"①見積5者-5回","index":16,"n_rows":16,"n_cols":64,"rows_kept":16,"cut":false,"hidden":false,"merged":[[0,0,0,67],[2,1,2,5],[2,7,2,67],[4,0,6,12],[4,13,4,22],[4,23,4,32],[4,33,4,42],[4,43,4,52],[4,53,4,62],[4,63,6,67],[5,13,6,22],[5,23,6,32],[5,33,6,42],[5,43,6,52],[5,53,6,62],[7,53,7,62],[7,63,7,67],[8,0,8,12],[8,13,8,22],[8,23,8,32],[8,33,8,42],[8,43,8,52],[8,53,8,62],[8,63,8,67],[7,0,7,12],[7,13,7,22],[7,23,7,32],[7,33,7,42],[7,43,7,52],[9,63,9,67],[10,0,10,12],[10,13,10,22],[10,23,10,32],[10,33,10,42],[10,43,10,52],[10,53,10,62],[10,63,10,67],[9,0,9,12],[9,13,9,22],[9,23,9,32],[9,33,9,42],[9,43,9,52],[9,53,9,62],[11,63,11,67],[11,0,11,12],[11,13,11,22],[11,23,11,32],[11,33,11,42],[11,43,11,52],[11,53,11,62]]}
["競争入札経過調書（最低価格落札方式）「見積徴取の経過」"]
[]
[null,"件名",null,null,null,null,null,{"$f":"IF(入力シート①!H3=\"\",\"\",入力シート①!H3)","v":"航空機乗組員の身体検査基準及び航空身体検査マニュアル並びに加齢乗員の現状に関する調査"}]
[]
["入札参加者のうち随意契約における\n見積徴取への参加意志のあった者",null,null,null,null,null,null,null,null,null,null,null,null,{"$f":"IF(COUNTBLANK(N8:W12)=50,\"\",\"第１回見積徴取\")","v":""},null,null,null,null,null,null,null,null,null,{"$f":"IF(COUNTBLANK(X8:AG12)=50,\"\",\"第２回見積徴取\")","v":""},null,null,null,null,null,null,null,null,null,{"$f":"IF(COUNTBLANK(AH8:AQ12)=50,\"\",\"第３回見積徴取\")","v":""},null,null,null,null,null,null,null,null,null,{"$f":"IF(COUNTBLANK(AR8:BA12)=50,\"\",\"第４回見積徴取\")","v":""},null,null,null,null,null,null,null,null,null,{"$f":"IF(COUNTBLANK(BB8:BK12)=50,\"\",\"第５回見積徴取\")","v":""},null,null,null,null,null,null,null,null,null,"摘　要"]
[null,null,null,null,null,null,null,null,null,null,null,null,null,{"$f":"IF(COUNTBLANK(N8:W12)=50,\"\",\"見積金額\")","v":""},null,null,null,null,null,null,null,null,null,{"$f":"IF(COUNTBLANK(X8:AG12)=50,\"\",\"見積金額\")","v":""},null,null,null,null,null,null,null,null,null,{"$f":"IF(COUNTBLANK(AH8:AQ12)=50,\"\",\"見積金額\")","v":""},null,null,null,null,null,null,null,null,null,{"$f":"IF(COUNTBLANK(AR8:BA12)=50,\"\",\"見積金額\")","v":""},null,null,null,null,null,null,null,null,null,{"$f":"IF(COUNTBLANK(BB8:BK12)=50,\"\",\"見積金額\")","v":""}]
[]
[{"$f":"TEMP!AN24","v":""},null,null,null,null,null,null,null,null,null,null,null,null,{"$f":"TEMP!AO24","v":""},null,null,null,null,null,null,null,null,null,{"$f":"TEMP!AP24","v":""},null,null,null,null,null,null,null,null,null,{"$f":"TEMP!AQ24","v":""},null,null,null,null,null,null,null,null,null,{"$f":"TEMP!AR24","v":""},null,null,null,null,null,null,null,null,null,{"$f":"TEMP!AS24","v":""},null,null,null,null,null,null,null,null,null,{"$f":"TEMP!AP66","v":""}]
[{"$f":"TEMP!AN25","v":""},null,null,null,null,null,null,null,null,null,null,null,null,{"$f":"TEMP!AO25","v":""},null,null,null,null,null,null,null,null,null,{"$f":"TEMP!AP25","v":""},null,null,null,null,null,null,null,null,null,{"$f":"TEMP!AQ25","v":""},null,null,null,null,null,null,null,null,null,{"$f":"TEMP!AR25","v":""},null,null,null,null,null,null,null,null,null,{"$f":"TEMP!AS25","v":""},null,null,null,null,null,null,null,null,null,{"$f":"TEMP!AP67","v":""}]
[{"$f":"TEMP!AN26","v":""},null,null,null,null,null,null,null,null,null,null,null,null,{"$f":"TEMP!AO26","v":""},null,null,null,null,null,null,null,null,null,{"$f":"TEMP!AP26","v":""},null,null,null,null,null,null,null,null,null,{"$f":"TEMP!AQ26","v":""},null,null,null,null,null,null,null,null,null,{"$f":"TEMP!AR26","v":""},null,null,null,null,null,null,null,null,null,{"$f":"TEMP!AS26","v":""},null,null,null,null,null,null,null,null,null,{"$f":"TEMP!AP68","v":""}]
[{"$f":"TEMP!AN27","v":""},null,null,null,null,null,null,null,null,null,null,null,null,{"$f":"TEMP!AO27","v":""},null,null,null,null,null,null,null,null,null,{"$f":"TEMP!AP27","v":""},null,null,null,null,null,null,null,null,null,{"$f":"TEMP!AQ27","v":""},null,null,null,null,null,null,null,null,null,{"$f":"TEMP!AR27","v":""},null,null,null,null,null,null,null,null,null,{"$f":"TEMP!AS27","v":""},null,null,null,null,null,null,null,null,null,{"$f":"TEMP!AP69","v":""}]
[{"$f":"TEMP!AN28","v":""},null,null,null,null,null,null,null,null,null,null,null,null,{"$f":"TEMP!AO28","v":""},null,null,null,null,null,null,null,null,null,{"$f":"TEMP!AP28","v":""},null,null,null,null,null,null,null,null,null,{"$f":"TEMP!AQ28","v":""},null,null,null,null,null,null,null,null,null,{"$f":"TEMP!AR28","v":""},null,null,null,null,null,null,null,null,null,{"$f":"TEMP!AS28","v":""},null,null,null,null,null,null,null,null,null,{"$f":"TEMP!AP70","v":""}]
[]
["※ 第二回入札で不調となったため、予決令第９９条の２に規定する随意契約手続きに移行することし、入札に参加した者（辞退した者等を除く。）のうち、上記の参加意志のあった者により見積徴取することとした。"]
["※ 見積金額は見積提出者が見積もった契約希望金額の総額である。"]
["※ 予定価格の範囲内の見積金額であり、最低価格をもって有効な見積を提出した者により成立するものとする。"]

{"sheet":"①見積5者-10回","index":17,"n_rows":25,"n_cols":64,"rows_kept":25,"cut":false,"hidden":false,"merged":[[0,0,0,67],[2,1,2,5],[2,7,2,67],[4,0,6,12],[4,13,4,22],[4,23,4,32],[4,33,4,42],[4,43,4,52],[4,53,4,62],[4,63,6,67],[5,13,6,22],[5,23,6,32],[5,33,6,42],[5,43,6,52],[5,53,6,62],[7,53,7,62],[7,63,7,67],[8,0,8,12],[8,13,8,22],[8,23,8,32],[8,33,8,42],[8,43,8,52],[8,53,8,62],[8,63,8,67],[7,0,7,12],[7,13,7,22],[7,23,7,32],[7,33,7,42],[7,43,7,52],[9,63,9,67],[10,0,10,12],[10,13,10,22],[10,23,10,32],[10,33,10,42],[10,43,10,52],[10,53,10,62],[10,63,10,67],[9,0,9,12],[9,13,9,22],[9,23,9,32],[9,33,9,42],[9,43,9,52],[9,53,9,62],[11,63,11,67],[11,0,11,12],[11,13,11,22],[11,23,11,32],[11,33,11,42],[11,43,11,52],[11,53,11,62],[13,0,15,12],[13,13,13,22],[13,23,13,32],[13,33,13,42],[13,43,13,52],[13,63,15,67],[14,13,15,22],[14,23,15,32],[14,33,15,42],[14,43,15,52],[14,53,15,62],[13,53,13,62],[16,63,16,67],[17,0,17,12],[17,13,17,22],[17,23,17,32],[17,33,17,42],[17,43,17,52],[17,53,17,62],[17,63,17,67],[16,0,16,12],[16,13,16,22],[16,23,16,32],[16,33,16,42],[16,43,16,52],[16,53,16,62],[18,63,18,67],[19,0,19,12],[19,13,19,22],[19,23,19,32],[19,33,19,42],[19,43,19,52],[19,53,19,62],[19,63,19,67],[18,0,18,12],[18,13,18,22],[18,23,18,32],[18,33,18,42],[18,43,18,52],[18,53,18,62],[20,63,20,67],[20,0,20,12],[20,13,20,22],[20,23,20,32],[20,33,20,42],[20,43,20,52],[20,53,20,62]]}
["競争入札経過調書（最低価格落札方式）「見積徴取の経過」"]
[]
[null,"件名",null,null,null,null,null,{"$f":"IF(入力シート①!H3=\"\",\"\",入力シート①!H3)","v":"航空機乗組員の身体検査基準及び航空身体検査マニュアル並びに加齢乗員の現状に関する調査"}]
[]
["入札参加者のうち随意契約における\n見積徴取への参加意志のあった者",null,null,null,null,null,null,null,null,null,null,null,null,{"$f":"IF(COUNTBLANK(N8:W12)=50,\"\",\"第１回見積徴取\")","v":""},null,null,null,null,null,null,null,null,null,{"$f":"IF(COUNTBLANK(X8:AG12)=50,\"\",\"第２回見積徴取\")","v":""},null,null,null,null,null,null,null,null,null,{"$f":"IF(COUNTBLANK(AH8:AQ12)=50,\"\",\"第３回見積徴取\")","v":""},null,null,null,null,null,null,null,null,null,{"$f":"IF(COUNTBLANK(AR8:BA12)=50,\"\",\"第４回見積徴取\")","v":""},null,null,null,null,null,null,null,null,null,{"$f":"IF(COUNTBLANK(BB8:BK12)=50,\"\",\"第５回見積徴取\")","v":""},null,null,null,null,null,null,null,null,null,"摘　要"]
[null,null,null,null,null,null,null,null,null,null,null,null,null,{"$f":"IF(COUNTBLANK(N8:W12)=50,\"\",\"見積金額\")","v":""},null,null,null,null,null,null,null,null,null,{"$f":"IF(COUNTBLANK(X8:AG12)=50,\"\",\"見積金額\")","v":""},null,null,null,null,null,null,null,null,null,{"$f":"IF(COUNTBLANK(AH8:AQ12)=50,\"\",\"見積金額\")","v":""},null,null,null,null,null,null,null,null,null,{"$f":"IF(COUNTBLANK(AR8:BA12)=50,\"\",\"見積金額\")","v":""},null,null,null,null,null,null,null,null,null,{"$f":"IF(COUNTBLANK(BB8:BK12)=50,\"\",\"見積金額\")","v":""}]
[]
[{"$f":"TEMP!AN24","v":""},null,null,null,null,null,null,null,null,null,null,null,null,{"$f":"TEMP!AO24","v":""},null,null,null,null,null,null,null,null,null,{"$f":"TEMP!AP24","v":""},null,null,null,null,null,null,null,null,null,{"$f":"TEMP!AQ24","v":""},null,null,null,null,null,null,null,null,null,{"$f":"TEMP!AR24","v":""},null,null,null,null,null,null,null,null,null,{"$f":"TEMP!AS24","v":""},null,null,null,null,null,null,null,null,null,{"$f":"TEMP!AP66","v":""}]
[{"$f":"TEMP!AN25","v":""},null,null,null,null,null,null,null,null,null,null,null,null,{"$f":"TEMP!AO25","v":""},null,null,null,null,null,null,null,null,null,{"$f":"TEMP!AP25","v":""},null,null,null,null,null,null,null,null,null,{"$f":"TEMP!AQ25","v":""},null,null,null,null,null,null,null,null,null,{"$f":"TEMP!AR25","v":""},null,null,null,null,null,null,null,null,null,{"$f":"TEMP!AS25","v":""},null,null,null,null,null,null,null,null,null,{"$f":"TEMP!AP67","v":""}]
[{"$f":"TEMP!AN26","v":""},null,null,null,null,null,null,null,null,null,null,null,null,{"$f":"TEMP!AO26","v":""},null,null,null,null,null,null,null,null,null,{"$f":"TEMP!AP26","v":""},null,null,null,null,null,null,null,null,null,{"$f":"TEMP!AQ26","v":""},null,null,null,null,null,null,null,null,null,{"$f":"TEMP!AR26","v":""},null,null,null,null,null,null,null,null,null,{"$f":"TEMP!AS26","v":""},null,null,null,null,null,null,null,null,null,{"$f":"TEMP!AP68","v":""}]
[{"$f":"TEMP!AN27","v":""},null,null,null,null,null,null,null,null,null,null,null,null,{"$f":"TEMP!AO27","v":""},null,null,null,null,null,null,null,null,null,{"$f":"TEMP!AP27","v":""},null,null,null,null,null,null,null,null,null,{"$f":"TEMP!AQ27","v":""},null,null,null,null,null,null,null,null,null,{"$f":"TEMP!AR27","v":""},null,null,null,null,null,null,null,null,null,{"$f":"TEMP!AS27","v":""},null,null,null,null,null,null,null,null,null,{"$f":"TEMP!AP69","v":""}]
[{"$f":"TEMP!AN28","v":""},null,null,null,null,null,null,null,null,null,null,null,null,{"$f":"TEMP!AO28","v":""},null,null,null,null,null,null,null,null,null,{"$f":"TEMP!AP28","v":""},null,null,null,null,null,null,null,null,null,{"$f":"TEMP!AQ28","v":""},null,null,null,null,null,null,null,null,null,{"$f":"TEMP!AR28","v":""},null,null,null,null,null,null,null,null,null,{"$f":"TEMP!AS28","v":""},null,null,null,null,null,null,null,null,null,{"$f":"TEMP!AP70","v":""}]
[]
["入札参加者のうち随意契約における\n見積徴取への参加意志のあった者",null,null,null,null,null,null,null,null,null,null,null,null,{"$f":"IF(COUNTBLANK(N17:W21)=50,\"\",\"第６回見積徴取\")","v":""},null,null,null,null,null,null,null,null,null,{"$f":"IF(COUNTBLANK(X17:AG21)=50,\"\",\"第７回見積徴取\")","v":""},null,null,null,null,null,null,null,null,null,{"$f":"IF(COUNTBLANK(AH17:AQ21)=50,\"\",\"第８回見積徴取\")","v":""},null,null,null,null,null,null,null,null,null,{"$f":"IF(COUNTBLANK(AR17:BA21)=50,\"\",\"第９回見積徴取\")","v":""},null,null,null,null,null,null,null,null,null,{"$f":"IF(COUNTBLANK(BB17:BK21)=50,\"\",\"第１０回見積徴取\")","v":""},null,null,null,null,null,null,null,null,null,"摘　要"]
[null,null,null,null,null,null,null,null,null,null,null,null,null,{"$f":"IF(COUNTBLANK(N17:W21)=50,\"\",\"見積金額\")","v":""},null,null,null,null,null,null,null,null,null,{"$f":"IF(COUNTBLANK(X17:AG21)=50,\"\",\"見積金額\")","v":""},null,null,null,null,null,null,null,null,null,{"$f":"IF(COUNTBLANK(AH17:AQ21)=50,\"\",\"見積金額\")","v":""},null,null,null,null,null,null,null,null,null,{"$f":"IF(COUNTBLANK(AR17:BA21)=50,\"\",\"見積金額\")","v":""},null,null,null,null,null,null,null,null,null,{"$f":"IF(COUNTBLANK(BB17:BK21)=50,\"\",\"見積金額\")","v":""}]
[]
[{"$f":"IF(COUNTBLANK($BL$8:$BP$12)=25,TEMP!AN24,\"\")","v":""},null,null,null,null,null,null,null,null,null,null,null,null,{"$f":"TEMP!AT24","v":""},null,null,null,null,null,null,null,null,null,{"$f":"TEMP!AU24","v":""},null,null,null,null,null,null,null,null,null,{"$f":"TEMP!AV24","v":""},null,null,null,null,null,null,null,null,null,{"$f":"TEMP!AW24","v":""},null,null,null,null,null,null,null,null,null,{"$f":"TEMP!AX24","v":""},null,null,null,null,null,null,null,null,null,{"$f":"TEMP!AX66","v":""}]
[{"$f":"IF(COUNTBLANK($BL$8:$BP$12)=25,TEMP!AN25,\"\")","v":""},null,null,null,null,null,null,null,null,null,null,null,null,{"$f":"TEMP!AT25","v":""},null,null,null,null,null,null,null,null,null,{"$f":"TEMP!AU25","v":""},null,null,null,null,null,null,null,null,null,{"$f":"TEMP!AV25","v":""},null,null,null,null,null,null,null,null,null,{"$f":"TEMP!AW25","v":""},null,null,null,null,null,null,null,null,null,{"$f":"TEMP!AX25","v":""},null,null,null,null,null,null,null,null,null,{"$f":"TEMP!AX67","v":""}]
[{"$f":"IF(COUNTBLANK($BL$8:$BP$12)=25,TEMP!AN26,\"\")","v":""},null,null,null,null,null,null,null,null,null,null,null,null,{"$f":"TEMP!AT26","v":""},null,null,null,null,null,null,null,null,null,{"$f":"TEMP!AU26","v":""},null,null,null,null,null,null,null,null,null,{"$f":"TEMP!AV26","v":""},null,null,null,null,null,null,null,null,null,{"$f":"TEMP!AW26","v":""},null,null,null,null,null,null,null,null,null,{"$f":"TEMP!AX26","v":""},null,null,null,null,null,null,null,null,null,{"$f":"TEMP!AX68","v":""}]
[{"$f":"IF(COUNTBLANK($BL$8:$BP$12)=25,TEMP!AN27,\"\")","v":""},null,null,null,null,null,null,null,null,null,null,null,null,{"$f":"TEMP!AT27","v":""},null,null,null,null,null,null,null,null,null,{"$f":"TEMP!AU27","v":""},null,null,null,null,null,null,null,null,null,{"$f":"TEMP!AV27","v":""},null,null,null,null,null,null,null,null,null,{"$f":"TEMP!AW27","v":""},null,null,null,null,null,null,null,null,null,{"$f":"TEMP!AX27","v":""},null,null,null,null,null,null,null,null,null,{"$f":"TEMP!AX69","v":""}]
[{"$f":"IF(COUNTBLANK($BL$8:$BP$12)=25,TEMP!AN28,\"\")","v":""},null,null,null,null,null,null,null,null,null,null,null,null,{"$f":"TEMP!AT28","v":""},null,null,null,null,null,null,null,null,null,{"$f":"TEMP!AU28","v":""},null,null,null,null,null,null,null,null,null,{"$f":"TEMP!AV28","v":""},null,null,null,null,null,null,null,null,null,{"$f":"TEMP!AW28","v":""},null,null,null,null,null,null,null,null,null,{"$f":"TEMP!AX28","v":""},null,null,null,null,null,null,null,null,null,{"$f":"TEMP!AX70","v":""}]
[]
["※ 第二回入札で不調となったため、予決令第９９条の２に規定する随意契約手続きに移行することし、入札に参加した者（辞退した者等を除く。）のうち、上記の参加意志のあった者により見積徴取することとした。"]
["※ 見積金額は見積提出者が見積もった契約希望金額の総額である。"]
["※ 予定価格の範囲内の見積金額であり、最低価格をもって有効な見積を提出した者により成立するものとする。"]

{"sheet":"①見積5者-20回","index":18,"n_rows":25,"n_cols":64,"rows_kept":25,"cut":false,"hidden":false,"merged":[[0,0,0,67],[2,1,2,5],[2,7,2,67],[4,0,6,12],[4,13,4,17],[4,18,4,22],[4,23,4,27],[4,28,4,32],[4,33,4,37],[4,38,4,42],[4,43,4,47],[4,48,4,52],[4,53,4,57],[4,58,4,62],[4,63,6,67],[5,13,6,17],[5,18,6,22],[5,23,6,27],[5,28,6,32],[5,33,6,37],[5,38,6,42],[5,43,6,47],[5,48,6,52],[5,53,6,57],[5,58,6,62],[7,0,7,12],[7,13,7,17],[7,18,7,22],[7,23,7,27],[7,28,7,32],[7,63,7,67],[8,0,8,12],[8,13,8,17],[8,18,8,22],[8,23,8,27],[8,28,8,32],[8,33,8,37],[8,38,8,42],[8,43,8,47],[8,48,8,52],[7,33,7,37],[7,38,7,42],[7,43,7,47],[7,48,7,52],[7,53,7,57],[7,58,7,62],[8,53,8,57],[8,58,8,62],[8,63,8,67],[9,0,9,12],[9,13,9,17],[9,18,9,22],[9,23,9,27],[9,28,9,32],[9,33,9,37],[9,38,9,42],[9,43,9,47],[9,48,9,52],[9,53,9,57],[9,58,9,62],[9,63,9,67],[10,0,10,12],[10,13,10,17],[10,18,10,22],[10,23,10,27],[10,28,10,32],[11,53,11,57],[11,58,11,62],[11,63,11,67],[10,63,10,67],[11,0,11,12],[11,13,11,17],[11,18,11,22],[11,23,11,27],[11,28,11,32],[11,33,11,37],[11,38,11,42],[11,43,11,47],[11,48,11,52],[10,33,10,37],[10,38,10,42],[10,43,10,47],[10,48,10,52],[10,53,10,57],[10,58,10,62],[13,0,15,12],[16,43,16,47],[13,53,13,57],[13,58,13,62],[13,63,15,67],[14,13,15,17],[14,18,15,22],[14,23,15,27],[14,28,15,32],[14,33,15,37],[14,38,15,42],[14,43,15,47],[13,13,13,17],[13,18,13,22],[13,23,13,27],[13,28,13,32],[13,33,13,37],[13,38,13,42],[13,43,13,47],[13,48,13,52],[14,48,15,52],[14,53,15,57],[14,58,15,62],[16,48,16,52],[19,53,19,57],[19,58,19,62],[16,53,16,57],[16,58,16,62],[16,63,16,67],[17,0,17,12],[17,13,17,17],[17,18,17,22],[17,23,17,27],[17,28,17,32],[17,63,17,67],[17,33,17,37],[17,38,17,42],[17,43,17,47],[17,48,17,52],[17,53,17,57],[17,58,17,62],[16,0,16,12],[16,13,16,17],[16,18,16,22],[16,23,16,27],[16,28,16,32],[16,33,16,37],[16,38,16,42],[19,48,19,52],[18,0,18,12],[18,13,18,17],[18,18,18,22],[18,23,18,27],[18,28,18,32],[18,33,18,37],[18,38,18,42],[18,43,18,47],[18,48,18,52],[19,63,19,67],[20,0,20,12],[20,13,20,17],[20,18,20,22],[20,23,20,27],[20,28,20,32],[18,53,18,57],[18,58,18,62],[18,63,18,67],[19,0,19,12],[19,13,19,17],[19,18,19,22],[19,23,19,27],[19,28,19,32],[19,33,19,37],[19,38,19,42],[20,63,20,67],[20,33,20,37],[20,38,20,42],[20,43,20,47],[20,48,20,52],[20,53,20,57],[20,58,20,62],[19,43,19,47]]}
["競争入札経過調書（最低価格落札方式）「見積徴取の経過」"]
[]
[null,"件名",null,null,null,null,null,{"$f":"IF(入力シート①!H3=\"\",\"\",入力シート①!H3)","v":"航空機乗組員の身体検査基準及び航空身体検査マニュアル並びに加齢乗員の現状に関する調査"}]
[]
["入札参加者のうち随意契約における\n見積徴取への参加意志のあった者",null,null,null,null,null,null,null,null,null,null,null,null,{"$f":"IF(COUNTBLANK(N8:R12)=25,\"\",\"第１回見積徴取\")","v":""},null,null,null,null,{"$f":"IF(COUNTBLANK(S8:W12)=25,\"\",\"第２回見積徴取\")","v":""},null,null,null,null,{"$f":"IF(COUNTBLANK(X8:AB12)=25,\"\",\"第３回見積徴取\")","v":""},null,null,null,null,{"$f":"IF(COUNTBLANK(AC8:AG12)=25,\"\",\"第４回見積徴取\")","v":""},null,null,null,null,{"$f":"IF(COUNTBLANK(AH8:AL12)=25,\"\",\"第５回見積徴取\")","v":""},null,null,null,null,{"$f":"IF(COUNTBLANK(AM8:AQ12)=25,\"\",\"第６回見積徴取\")","v":""},null,null,null,null,{"$f":"IF(COUNTBLANK(AR8:AV12)=25,\"\",\"第７回見積徴取\")","v":""},null,null,null,null,{"$f":"IF(COUNTBLANK(AW8:BA12)=25,\"\",\"第８回見積徴取\")","v":""},null,null,null,null,{"$f":"IF(COUNTBLANK(BB8:BF12)=25,\"\",\"第９回見積徴取\")","v":""},null,null,null,null,{"$f":"IF(COUNTBLANK(BG8:BK12)=25,\"\",\"第10回見積徴取\")","v":""},null,null,null,null,"摘　要"]
[null,null,null,null,null,null,null,null,null,null,null,null,null,{"$f":"IF(COUNTBLANK(N8:R12)=25,\"\",\"見積金額\")","v":""},null,null,null,null,{"$f":"IF(COUNTBLANK(S8:W12)=25,\"\",\"見積金額\")","v":""},null,null,null,null,{"$f":"IF(COUNTBLANK(X8:AB12)=25,\"\",\"見積金額\")","v":""},null,null,null,null,{"$f":"IF(COUNTBLANK(AC8:AG12)=25,\"\",\"見積金額\")","v":""},null,null,null,null,{"$f":"IF(COUNTBLANK(AH8:AL12)=25,\"\",\"見積金額\")","v":""},null,null,null,null,{"$f":"IF(COUNTBLANK(AM8:AQ12)=25,\"\",\"見積金額\")","v":""},null,null,null,null,{"$f":"IF(COUNTBLANK(AR8:AV12)=25,\"\",\"見積金額\")","v":""},null,null,null,null,{"$f":"IF(COUNTBLANK(AW8:BA12)=25,\"\",\"見積金額\")","v":""},null,null,null,null,{"$f":"IF(COUNTBLANK(BB8:BF12)=25,\"\",\"見積金額\")","v":""},null,null,null,null,{"$f":"IF(COUNTBLANK(BG8:BK12)=25,\"\",\"見積金額\")","v":""}]
[]
[{"$f":"TEMP!AN24","v":""},null,null,null,null,null,null,null,null,null,null,null,null,{"$f":"TEMP!AO24","v":""},null,null,null,null,{"$f":"TEMP!AP24","v":""},null,null,null,null,{"$f":"TEMP!AQ24","v":""},null,null,null,null,{"$f":"TEMP!AR24","v":""},null,null,null,null,{"$f":"TEMP!AS24","v":""},null,null,null,null,{"$f":"TEMP!AT24","v":""},null,null,null,null,{"$f":"TEMP!AU24","v":""},null,null,null,null,{"$f":"TEMP!AV24","v":""},null,null,null,null,{"$f":"TEMP!AW24","v":""},null,null,null,null,{"$f":"TEMP!AX24","v":""},null,null,null,null,{"$f":"TEMP!AU86","v":""}]
[{"$f":"TEMP!AN25","v":""},null,null,null,null,null,null,null,null,null,null,null,null,{"$f":"TEMP!AO25","v":""},null,null,null,null,{"$f":"TEMP!AP25","v":""},null,null,null,null,{"$f":"TEMP!AQ25","v":""},null,null,null,null,{"$f":"TEMP!AR25","v":""},null,null,null,null,{"$f":"TEMP!AS25","v":""},null,null,null,null,{"$f":"TEMP!AT25","v":""},null,null,null,null,{"$f":"TEMP!AU25","v":""},null,null,null,null,{"$f":"TEMP!AV25","v":""},null,null,null,null,{"$f":"TEMP!AW25","v":""},null,null,null,null,{"$f":"TEMP!AX25","v":""},null,null,null,null,{"$f":"TEMP!AU87","v":""}]
[{"$f":"TEMP!AN26","v":""},null,null,null,null,null,null,null,null,null,null,null,null,{"$f":"TEMP!AO26","v":""},null,null,null,null,{"$f":"TEMP!AP26","v":""},null,null,null,null,{"$f":"TEMP!AQ26","v":""},null,null,null,null,{"$f":"TEMP!AR26","v":""},null,null,null,null,{"$f":"TEMP!AS26","v":""},null,null,null,null,{"$f":"TEMP!AT26","v":""},null,null,null,null,{"$f":"TEMP!AU26","v":""},null,null,null,null,{"$f":"TEMP!AV26","v":""},null,null,null,null,{"$f":"TEMP!AW26","v":""},null,null,null,null,{"$f":"TEMP!AX26","v":""},null,null,null,null,{"$f":"TEMP!AU88","v":""}]
[{"$f":"TEMP!AN27","v":""},null,null,null,null,null,null,null,null,null,null,null,null,{"$f":"TEMP!AO27","v":""},null,null,null,null,{"$f":"TEMP!AP27","v":""},null,null,null,null,{"$f":"TEMP!AQ27","v":""},null,null,null,null,{"$f":"TEMP!AR27","v":""},null,null,null,null,{"$f":"TEMP!AS27","v":""},null,null,null,null,{"$f":"TEMP!AT27","v":""},null,null,null,null,{"$f":"TEMP!AU27","v":""},null,null,null,null,{"$f":"TEMP!AV27","v":""},null,null,null,null,{"$f":"TEMP!AW27","v":""},null,null,null,null,{"$f":"TEMP!AX27","v":""},null,null,null,null,{"$f":"TEMP!AU89","v":""}]
[{"$f":"TEMP!AN28","v":""},null,null,null,null,null,null,null,null,null,null,null,null,{"$f":"TEMP!AO28","v":""},null,null,null,null,{"$f":"TEMP!AP28","v":""},null,null,null,null,{"$f":"TEMP!AQ28","v":""},null,null,null,null,{"$f":"TEMP!AR28","v":""},null,null,null,null,{"$f":"TEMP!AS28","v":""},null,null,null,null,{"$f":"TEMP!AT28","v":""},null,null,null,null,{"$f":"TEMP!AU28","v":""},null,null,null,null,{"$f":"TEMP!AV28","v":""},null,null,null,null,{"$f":"TEMP!AW28","v":""},null,null,null,null,{"$f":"TEMP!AX28","v":""},null,null,null,null,{"$f":"TEMP!AU90","v":""}]
[]
["入札参加者のうち随意契約における\n見積徴取への参加意志のあった者",null,null,null,null,null,null,null,null,null,null,null,null,{"$f":"IF(COUNTBLANK(N17:R21)=25,\"\",\"第11回見積徴取\")","v":""},null,null,null,null,{"$f":"IF(COUNTBLANK(S17:W21)=25,\"\",\"第12回見積徴取\")","v":""},null,null,null,null,{"$f":"IF(COUNTBLANK(X17:AB21)=25,\"\",\"第13回見積徴取\")","v":""},null,null,null,null,{"$f":"IF(COUNTBLANK(AC17:AG21)=25,\"\",\"第14回見積徴取\")","v":""},null,null,null,null,{"$f":"IF(COUNTBLANK(AH17:AL21)=25,\"\",\"第15回見積徴取\")","v":""},null,null,null,null,{"$f":"IF(COUNTBLANK(AM17:AQ21)=25,\"\",\"第16回見積徴取\")","v":""},null,null,null,null,{"$f":"IF(COUNTBLANK(AR17:AV21)=25,\"\",\"第17回見積徴取\")","v":""},null,null,null,null,{"$f":"IF(COUNTBLANK(AW17:BA21)=25,\"\",\"第18回見積徴取\")","v":""},null,null,null,null,{"$f":"IF(COUNTBLANK(BB17:BF21)=25,\"\",\"第19回見積徴取\")","v":""},null,null,null,null,{"$f":"IF(COUNTBLANK(BG17:BK21)=25,\"\",\"第20回見積徴取\")","v":""},null,null,null,null,"摘　要"]
[null,null,null,null,null,null,null,null,null,null,null,null,null,{"$f":"IF(COUNTBLANK(N17:R21)=25,\"\",\"見積金額\")","v":""},null,null,null,null,{"$f":"IF(COUNTBLANK(S17:W21)=25,\"\",\"見積金額\")","v":""},null,null,null,null,{"$f":"IF(COUNTBLANK(X17:AB21)=25,\"\",\"見積金額\")","v":""},null,null,null,null,{"$f":"IF(COUNTBLANK(AC17:AG21)=25,\"\",\"見積金額\")","v":""},null,null,null,null,{"$f":"IF(COUNTBLANK(AH17:AL21)=25,\"\",\"見積金額\")","v":""},null,null,null,null,{"$f":"IF(COUNTBLANK(AM17:AQ21)=25,\"\",\"見積金額\")","v":""},null,null,null,null,{"$f":"IF(COUNTBLANK(AR17:AV21)=25,\"\",\"見積金額\")","v":""},null,null,null,null,{"$f":"IF(COUNTBLANK(AW17:BA21)=25,\"\",\"見積金額\")","v":""},null,null,null,null,{"$f":"IF(COUNTBLANK(BB17:BF21)=25,\"\",\"見積金額\")","v":""},null,null,null,null,{"$f":"IF(COUNTBLANK(BG17:BK21)=25,\"\",\"見積金額\")","v":""}]
[]
[{"$f":"IF(COUNTBLANK($BL$8:$BP$12)=25,TEMP!AN24,\"\")","v":""},null,null,null,null,null,null,null,null,null,null,null,null,{"$f":"TEMP!AY24","v":""},null,null,null,null,{"$f":"TEMP!AZ24","v":""},null,null,null,null,{"$f":"TEMP!BA24","v":""},null,null,null,null,{"$f":"TEMP!BB24","v":""},null,null,null,null,{"$f":"TEMP!BC24","v":""},null,null,null,null,{"$f":"TEMP!BD24","v":""},null,null,null,null,{"$f":"TEMP!BE24","v":""},null,null,null,null,{"$f":"TEMP!BF24","v":""},null,null,null,null,{"$f":"TEMP!BG24","v":""},null,null,null,null,{"$f":"TEMP!BH24","v":""},null,null,null,null,{"$f":"TEMP!BH86","v":""}]
[{"$f":"IF(COUNTBLANK($BL$8:$BP$12)=25,TEMP!AN25,\"\")","v":""},null,null,null,null,null,null,null,null,null,null,null,null,{"$f":"TEMP!AY25","v":""},null,null,null,null,{"$f":"TEMP!AZ25","v":""},null,null,null,null,{"$f":"TEMP!BA25","v":""},null,null,null,null,{"$f":"TEMP!BB25","v":""},null,null,null,null,{"$f":"TEMP!BC25","v":""},null,null,null,null,{"$f":"TEMP!BD25","v":""},null,null,null,null,{"$f":"TEMP!BE25","v":""},null,null,null,null,{"$f":"TEMP!BF25","v":""},null,null,null,null,{"$f":"TEMP!BG25","v":""},null,null,null,null,{"$f":"TEMP!BH25","v":""},null,null,null,null,{"$f":"TEMP!BH87","v":""}]
[{"$f":"IF(COUNTBLANK($BL$8:$BP$12)=25,TEMP!AN26,\"\")","v":""},null,null,null,null,null,null,null,null,null,null,null,null,{"$f":"TEMP!AY26","v":""},null,null,null,null,{"$f":"TEMP!AZ26","v":""},null,null,null,null,{"$f":"TEMP!BA26","v":""},null,null,null,null,{"$f":"TEMP!BB26","v":""},null,null,null,null,{"$f":"TEMP!BC26","v":""},null,null,null,null,{"$f":"TEMP!BD26","v":""},null,null,null,null,{"$f":"TEMP!BE26","v":""},null,null,null,null,{"$f":"TEMP!BF26","v":""},null,null,null,null,{"$f":"TEMP!BG26","v":""},null,null,null,null,{"$f":"TEMP!BH26","v":""},null,null,null,null,{"$f":"TEMP!BH88","v":""}]
[{"$f":"IF(COUNTBLANK($BL$8:$BP$12)=25,TEMP!AN27,\"\")","v":""},null,null,null,null,null,null,null,null,null,null,null,null,{"$f":"TEMP!AY27","v":""},null,null,null,null,{"$f":"TEMP!AZ27","v":""},null,null,null,null,{"$f":"TEMP!BA27","v":""},null,null,null,null,{"$f":"TEMP!BB27","v":""},null,null,null,null,{"$f":"TEMP!BC27","v":""},null,null,null,null,{"$f":"TEMP!BD27","v":""},null,null,null,null,{"$f":"TEMP!BE27","v":""},null,null,null,null,{"$f":"TEMP!BF27","v":""},null,null,null,null,{"$f":"TEMP!BG27","v":""},null,null,null,null,{"$f":"TEMP!BH27","v":""},null,null,null,null,{"$f":"TEMP!BH89","v":""}]
[{"$f":"IF(COUNTBLANK($BL$8:$BP$12)=25,TEMP!AN28,\"\")","v":""},null,null,null,null,null,null,null,null,null,null,null,null,{"$f":"TEMP!AY28","v":""},null,null,null,null,{"$f":"TEMP!AZ28","v":""},null,null,null,null,{"$f":"TEMP!BA28","v":""},null,null,null,null,{"$f":"TEMP!BB28","v":""},null,null,null,null,{"$f":"TEMP!BC28","v":""},null,null,null,null,{"$f":"TEMP!BD28","v":""},null,null,null,null,{"$f":"TEMP!BE28","v":""},null,null,null,null,{"$f":"TEMP!BF28","v":""},null,null,null,null,{"$f":"TEMP!BG28","v":""},null,null,null,null,{"$f":"TEMP!BH28","v":""},null,null,null,null,{"$f":"TEMP!BH90","v":""}]
[]
["※ 第二回入札で不調となったため、予決令第９９条の２に規定する随意契約手続きに移行することし、入札に参加した者（辞退した者等を除く。）のうち、上記の参加意志のあった者により見積徴取することとした。"]
["※ 見積金額は見積提出者が見積もった契約希望金額の総額である。"]
["※ 予定価格の範囲内の見積金額であり、最低価格をもって有効な見積を提出した者により成立するものとする。"]

{"sheet":"②見積10者-5回","index":19,"n_rows":21,"n_cols":64,"rows_kept":21,"cut":false,"hidden":false,"merged":[[0,0,0,67],[2,1,2,5],[2,7,2,67],[4,0,6,12],[4,13,4,22],[4,23,4,32],[4,33,4,42],[4,43,4,52],[4,53,4,62],[4,63,6,67],[5,13,6,22],[5,23,6,32],[5,33,6,42],[5,43,6,52],[5,53,6,62],[7,53,7,62],[7,63,7,67],[8,0,8,12],[8,13,8,22],[8,23,8,32],[8,33,8,42],[8,43,8,52],[8,53,8,62],[8,63,8,67],[7,0,7,12],[7,13,7,22],[7,23,7,32],[7,33,7,42],[7,43,7,52],[9,63,9,67],[10,0,10,12],[10,13,10,22],[10,23,10,32],[10,33,10,42],[10,43,10,52],[10,53,10,62],[10,63,10,67],[9,0,9,12],[9,13,9,22],[9,23,9,32],[9,33,9,42],[9,43,9,52],[9,53,9,62],[11,63,11,67],[12,0,12,12],[12,13,12,22],[12,23,12,32],[12,33,12,42],[12,43,12,52],[12,53,12,62],[12,63,12,67],[11,0,11,12],[11,13,11,22],[11,23,11,32],[11,33,11,42],[11,43,11,52],[11,53,11,62],[13,63,13,67],[14,0,14,12],[14,13,14,22],[14,23,14,32],[14,33,14,42],[14,43,14,52],[14,53,14,62],[14,63,14,67],[13,0,13,12],[13,13,13,22],[13,23,13,32],[13,33,13,42],[13,43,13,52],[13,53,13,62],[15,63,15,67],[16,0,16,12],[16,13,16,22],[16,23,16,32],[16,33,16,42],[16,43,16,52],[16,53,16,62],[16,63,16,67],[15,0,15,12],[15,13,15,22],[15,23,15,32],[15,33,15,42],[15,43,15,52],[15,53,15,62]]}
["競争入札経過調書（最低価格落札方式）「見積徴取の経過」"]
[]
[null,"件名",null,null,null,null,null,{"$f":"IF(入力シート①!H3=\"\",\"\",入力シート①!H3)","v":"航空機乗組員の身体検査基準及び航空身体検査マニュアル並びに加齢乗員の現状に関する調査"}]
[]
["入札参加者のうち随意契約における\n見積徴取への参加意志のあった者",null,null,null,null,null,null,null,null,null,null,null,null,{"$f":"IF(COUNTBLANK(N8:W17)=100,\"\",\"第１回見積徴取\")","v":""},null,null,null,null,null,null,null,null,null,{"$f":"IF(COUNTBLANK(X8:AG17)=100,\"\",\"第２回見積徴取\")","v":""},null,null,null,null,null,null,null,null,null,{"$f":"IF(COUNTBLANK(AH8:AQ17)=100,\"\",\"第３回見積徴取\")","v":""},null,null,null,null,null,null,null,null,null,{"$f":"IF(COUNTBLANK(AR8:BA17)=100,\"\",\"第４回見積徴取\")","v":""},null,null,null,null,null,null,null,null,null,{"$f":"IF(COUNTBLANK(BB8:BK17)=100,\"\",\"第５回見積徴取\")","v":""},null,null,null,null,null,null,null,null,null,"摘　要"]
[null,null,null,null,null,null,null,null,null,null,null,null,null,{"$f":"IF(COUNTBLANK(N8:W17)=100,\"\",\"見積金額\")","v":""},null,null,null,null,null,null,null,null,null,{"$f":"IF(COUNTBLANK(X8:AG17)=100,\"\",\"見積金額\")","v":""},null,null,null,null,null,null,null,null,null,{"$f":"IF(COUNTBLANK(AH8:AQ17)=100,\"\",\"見積金額\")","v":""},null,null,null,null,null,null,null,null,null,{"$f":"IF(COUNTBLANK(AR8:BA17)=100,\"\",\"見積金額\")","v":""},null,null,null,null,null,null,null,null,null,{"$f":"IF(COUNTBLANK(BB8:BK17)=100,\"\",\"見積金額\")","v":""}]
[]
[{"$f":"TEMP!AN24","v":""},null,null,null,null,null,null,null,null,null,null,null,null,{"$f":"TEMP!AO24","v":""},null,null,null,null,null,null,null,null,null,{"$f":"TEMP!AP24","v":""},null,null,null,null,null,null,null,null,null,{"$f":"TEMP!AQ24","v":""},null,null,null,null,null,null,null,null,null,{"$f":"TEMP!AR24","v":""},null,null,null,null,null,null,null,null,null,{"$f":"TEMP!AS24","v":""},null,null,null,null,null,null,null,null,null,{"$f":"TEMP!AP66","v":""}]
[{"$f":"TEMP!AN25","v":""},null,null,null,null,null,null,null,null,null,null,null,null,{"$f":"TEMP!AO25","v":""},null,null,null,null,null,null,null,null,null,{"$f":"TEMP!AP25","v":""},null,null,null,null,null,null,null,null,null,{"$f":"TEMP!AQ25","v":""},null,null,null,null,null,null,null,null,null,{"$f":"TEMP!AR25","v":""},null,null,null,null,null,null,null,null,null,{"$f":"TEMP!AS25","v":""},null,null,null,null,null,null,null,null,null,{"$f":"TEMP!AP67","v":""}]
[{"$f":"TEMP!AN26","v":""},null,null,null,null,null,null,null,null,null,null,null,null,{"$f":"TEMP!AO26","v":""},null,null,null,null,null,null,null,null,null,{"$f":"TEMP!AP26","v":""},null,null,null,null,null,null,null,null,null,{"$f":"TEMP!AQ26","v":""},null,null,null,null,null,null,null,null,null,{"$f":"TEMP!AR26","v":""},null,null,null,null,null,null,null,null,null,{"$f":"TEMP!AS26","v":""},null,null,null,null,null,null,null,null,null,{"$f":"TEMP!AP68","v":""}]
[{"$f":"TEMP!AN27","v":""},null,null,null,null,null,null,null,null,null,null,null,null,{"$f":"TEMP!AO27","v":""},null,null,null,null,null,null,null,null,null,{"$f":"TEMP!AP27","v":""},null,null,null,null,null,null,null,null,null,{"$f":"TEMP!AQ27","v":""},null,null,null,null,null,null,null,null,null,{"$f":"TEMP!AR27","v":""},null,null,null,null,null,null,null,null,null,{"$f":"TEMP!AS27","v":""},null,null,null,null,null,null,null,null,null,{"$f":"TEMP!AP69","v":""}]
[{"$f":"TEMP!AN28","v":""},null,null,null,null,null,null,null,null,null,null,null,null,{"$f":"TEMP!AO28","v":""},null,null,null,null,null,null,null,null,null,{"$f":"TEMP!AP28","v":""},null,null,null,null,null,null,null,null,null,{"$f":"TEMP!AQ28","v":""},null,null,null,null,null,null,null,null,null,{"$f":"TEMP!AR28","v":""},null,null,null,null,null,null,null,null,null,{"$f":"TEMP!AS28","v":""},null,null,null,null,null,null,null,null,null,{"$f":"TEMP!AP70","v":""}]
[{"$f":"TEMP!AN29","v":""},null,null,null,null,null,null,null,null,null,null,null,null,{"$f":"TEMP!AO29","v":""},null,null,null,null,null,null,null,null,null,{"$f":"TEMP!AP29","v":""},null,null,null,null,null,null,null,null,null,{"$f":"TEMP!AQ29","v":""},null,null,null,null,null,null,null,null,null,{"$f":"TEMP!AR29","v":""},null,null,null,null,null,null,null,null,null,{"$f":"TEMP!AS29","v":""},null,null,null,null,null,null,null,null,null,{"$f":"TEMP!AP71","v":""}]
[{"$f":"TEMP!AN30","v":""},null,null,null,null,null,null,null,null,null,null,null,null,{"$f":"TEMP!AO30","v":""},null,null,null,null,null,null,null,null,null,{"$f":"TEMP!AP30","v":""},null,null,null,null,null,null,null,null,null,{"$f":"TEMP!AQ30","v":""},null,null,null,null,null,null,null,null,null,{"$f":"TEMP!AR30","v":""},null,null,null,null,null,null,null,null,null,{"$f":"TEMP!AS30","v":""},null,null,null,null,null,null,null,null,null,{"$f":"TEMP!AP72","v":""}]
[{"$f":"TEMP!AN31","v":""},null,null,null,null,null,null,null,null,null,null,null,null,{"$f":"TEMP!AO31","v":""},null,null,null,null,null,null,null,null,null,{"$f":"TEMP!AP31","v":""},null,null,null,null,null,null,null,null,null,{"$f":"TEMP!AQ31","v":""},null,null,null,null,null,null,null,null,null,{"$f":"TEMP!AR31","v":""},null,null,null,null,null,null,null,null,null,{"$f":"TEMP!AS31","v":""},null,null,null,null,null,null,null,null,null,{"$f":"TEMP!AP73","v":""}]
[{"$f":"TEMP!AN32","v":""},null,null,null,null,null,null,null,null,null,null,null,null,{"$f":"TEMP!AO32","v":""},null,null,null,null,null,null,null,null,null,{"$f":"TEMP!AP32","v":""},null,null,null,null,null,null,null,null,null,{"$f":"TEMP!AQ32","v":""},null,null,null,null,null,null,null,null,null,{"$f":"TEMP!AR32","v":""},null,null,null,null,null,null,null,null,null,{"$f":"TEMP!AS32","v":""},null,null,null,null,null,null,null,null,null,{"$f":"TEMP!AP74","v":""}]
[{"$f":"TEMP!AN33","v":""},null,null,null,null,null,null,null,null,null,null,null,null,{"$f":"TEMP!AO33","v":""},null,null,null,null,null,null,null,null,null,{"$f":"TEMP!AP33","v":""},null,null,null,null,null,null,null,null,null,{"$f":"TEMP!AQ33","v":""},null,null,null,null,null,null,null,null,null,{"$f":"TEMP!AR33","v":""},null,null,null,null,null,null,null,null,null,{"$f":"TEMP!AS33","v":""},null,null,null,null,null,null,null,null,null,{"$f":"TEMP!AP75","v":""}]
[]
["※ 第二回入札で不調となったため、予決令第９９条の２に規定する随意契約手続きに移行することし、入札に参加した者（辞退した者等を除く。）のうち、上記の参加意志のあった者により見積徴取することとした。"]
["※ 見積金額は見積提出者が見積もった契約希望金額の総額である。"]
["※ 予定価格の範囲内の見積金額であり、最低価格をもって有効な見積を提出した者により成立するものとする。"]

{"sheet":"②見積10者-10回","index":20,"n_rows":35,"n_cols":64,"rows_kept":35,"cut":false,"hidden":false,"merged":[[18,53,18,62],[19,53,20,62],[21,53,21,62],[22,53,22,62],[23,53,23,62],[24,53,24,62],[29,33,29,42],[30,33,30,42],[18,43,18,52],[19,43,20,52],[21,43,21,52],[22,43,22,52],[23,43,23,52],[24,43,24,52],[25,43,25,52],[26,43,26,52],[26,53,26,62],[27,53,27,62],[28,53,28,62],[29,53,29,62],[30,53,30,62],[27,43,27,52],[28,43,28,52],[29,43,29,52],[22,13,22,22],[23,13,23,22],[24,13,24,22],[25,13,25,22],[30,23,30,32],[18,33,18,42],[19,33,20,42],[21,33,21,42],[22,33,22,42],[23,33,23,42],[24,33,24,42],[25,33,25,42],[26,33,26,42],[27,33,27,42],[24,23,24,32],[25,23,25,32],[26,23,26,32],[27,23,27,32],[28,23,28,32],[29,23,29,32],[14,53,14,62],[15,53,15,62],[16,53,16,62],[4,53,4,62],[5,53,6,62],[7,53,7,62],[8,53,8,62],[9,53,9,62],[10,53,10,62],[30,0,30,12],[28,63,28,67],[29,0,29,12],[28,33,28,42],[27,63,27,67],[28,0,28,12],[26,63,26,67],[27,0,27,12],[25,63,25,67],[26,0,26,12],[25,53,25,62],[25,0,25,12],[30,63,30,67],[29,63,29,67],[26,13,26,22],[27,13,27,22],[28,13,28,22],[29,13,29,22],[30,13,30,22],[30,43,30,52],[24,0,24,12],[22,63,22,67],[23,0,23,12],[21,63,21,67],[22,0,22,12],[21,0,21,12],[18,63,20,67],[16,63,16,67],[18,0,20,12],[16,13,16,22],[16,23,16,32],[16,43,16,52],[18,13,18,22],[16,0,16,12],[24,63,24,67],[23,63,23,67],[16,33,16,42],[18,23,18,32],[19,23,20,32],[21,23,21,32],[22,23,22,32],[23,23,23,32],[19,13,20,22],[21,13,21,22],[15,0,15,12],[13,63,13,67],[14,0,14,12],[13,13,13,22],[14,13,14,22],[15,13,15,22],[13,23,13,32],[12,63,12,67],[13,0,13,12],[12,0,12,12],[14,23,14,32],[15,23,15,32],[15,63,15,67],[14,63,14,67],[12,43,12,52],[13,43,13,52],[14,43,14,52],[15,43,15,52],[12,33,12,42],[13,33,13,42],[14,33,14,42],[15,33,15,42],[12,53,12,62],[13,53,13,62],[12,13,12,22],[11,23,11,32],[9,63,9,67],[10,0,10,12],[8,63,8,67],[9,0,9,12],[8,0,8,12],[12,23,12,32],[11,33,11,42],[8,23,8,32],[9,23,9,32],[10,23,10,32],[8,13,8,22],[9,13,9,22],[11,63,11,67],[10,63,10,67],[8,43,8,52],[9,43,9,52],[8,33,8,42],[9,33,9,42],[10,33,10,42],[10,43,10,52],[11,43,11,52],[11,53,11,62],[7,0,7,12],[4,63,6,67],[0,0,0,67],[2,1,2,5],[2,7,2,67],[4,0,6,12],[11,0,11,12],[10,13,10,22],[11,13,11,22],[4,23,4,32],[5,23,6,32],[7,23,7,32],[4,13,4,22],[5,13,6,22],[7,13,7,22],[7,63,7,67],[4,43,4,52],[5,43,6,52],[7,43,7,52],[4,33,4,42],[5,33,6,42],[7,33,7,42]]}
["競争入札経過調書（最低価格落札方式）「見積徴取の経過」"]
[]
[null,"件名",null,null,null,null,null,{"$f":"IF(入力シート①!H3=\"\",\"\",入力シート①!H3)","v":"航空機乗組員の身体検査基準及び航空身体検査マニュアル並びに加齢乗員の現状に関する調査"}]
[]
["入札参加者のうち随意契約における\n見積徴取への参加意志のあった者",null,null,null,null,null,null,null,null,null,null,null,null,{"$f":"IF(COUNTBLANK(N8:W17)=100,\"\",\"第１回見積徴取\")","v":""},null,null,null,null,null,null,null,null,null,{"$f":"IF(COUNTBLANK(X8:AG17)=100,\"\",\"第２回見積徴取\")","v":""},null,null,null,null,null,null,null,null,null,{"$f":"IF(COUNTBLANK(AH8:AQ17)=100,\"\",\"第３回見積徴取\")","v":""},null,null,null,null,null,null,null,null,null,{"$f":"IF(COUNTBLANK(AR8:BA17)=100,\"\",\"第４回見積徴取\")","v":""},null,null,null,null,null,null,null,null,null,{"$f":"IF(COUNTBLANK(BB8:BK17)=100,\"\",\"第５回見積徴取\")","v":""},null,null,null,null,null,null,null,null,null,"摘　要"]
[null,null,null,null,null,null,null,null,null,null,null,null,null,{"$f":"IF(COUNTBLANK(N8:W17)=100,\"\",\"見積金額\")","v":""},null,null,null,null,null,null,null,null,null,{"$f":"IF(COUNTBLANK(X8:AG17)=100,\"\",\"見積金額\")","v":""},null,null,null,null,null,null,null,null,null,{"$f":"IF(COUNTBLANK(AH8:AQ17)=100,\"\",\"見積金額\")","v":""},null,null,null,null,null,null,null,null,null,{"$f":"IF(COUNTBLANK(AR8:BA17)=100,\"\",\"見積金額\")","v":""},null,null,null,null,null,null,null,null,null,{"$f":"IF(COUNTBLANK(BB8:BK17)=100,\"\",\"見積金額\")","v":""}]
[]
[{"$f":"TEMP!AN24","v":""},null,null,null,null,null,null,null,null,null,null,null,null,{"$f":"TEMP!AO24","v":""},null,null,null,null,null,null,null,null,null,{"$f":"TEMP!AP24","v":""},null,null,null,null,null,null,null,null,null,{"$f":"TEMP!AQ24","v":""},null,null,null,null,null,null,null,null,null,{"$f":"TEMP!AR24","v":""},null,null,null,null,null,null,null,null,null,{"$f":"TEMP!AS24","v":""},null,null,null,null,null,null,null,null,null,{"$f":"TEMP!AP66","v":""}]
[{"$f":"TEMP!AN25","v":""},null,null,null,null,null,null,null,null,null,null,null,null,{"$f":"TEMP!AO25","v":""},null,null,null,null,null,null,null,null,null,{"$f":"TEMP!AP25","v":""},null,null,null,null,null,null,null,null,null,{"$f":"TEMP!AQ25","v":""},null,null,null,null,null,null,null,null,null,{"$f":"TEMP!AR25","v":""},null,null,null,null,null,null,null,null,null,{"$f":"TEMP!AS25","v":""},null,null,null,null,null,null,null,null,null,{"$f":"TEMP!AP67","v":""}]
[{"$f":"TEMP!AN26","v":""},null,null,null,null,null,null,null,null,null,null,null,null,{"$f":"TEMP!AO26","v":""},null,null,null,null,null,null,null,null,null,{"$f":"TEMP!AP26","v":""},null,null,null,null,null,null,null,null,null,{"$f":"TEMP!AQ26","v":""},null,null,null,null,null,null,null,null,null,{"$f":"TEMP!AR26","v":""},null,null,null,null,null,null,null,null,null,{"$f":"TEMP!AS26","v":""},null,null,null,null,null,null,null,null,null,{"$f":"TEMP!AP68","v":""}]
[{"$f":"TEMP!AN27","v":""},null,null,null,null,null,null,null,null,null,null,null,null,{"$f":"TEMP!AO27","v":""},null,null,null,null,null,null,null,null,null,{"$f":"TEMP!AP27","v":""},null,null,null,null,null,null,null,null,null,{"$f":"TEMP!AQ27","v":""},null,null,null,null,null,null,null,null,null,{"$f":"TEMP!AR27","v":""},null,null,null,null,null,null,null,null,null,{"$f":"TEMP!AS27","v":""},null,null,null,null,null,null,null,null,null,{"$f":"TEMP!AP69","v":""}]
[{"$f":"TEMP!AN28","v":""},null,null,null,null,null,null,null,null,null,null,null,null,{"$f":"TEMP!AO28","v":""},null,null,null,null,null,null,null,null,null,{"$f":"TEMP!AP28","v":""},null,null,null,null,null,null,null,null,null,{"$f":"TEMP!AQ28","v":""},null,null,null,null,null,null,null,null,null,{"$f":"TEMP!AR28","v":""},null,null,null,null,null,null,null,null,null,{"$f":"TEMP!AS28","v":""},null,null,null,null,null,null,null,null,null,{"$f":"TEMP!AP70","v":""}]
[{"$f":"TEMP!AN29","v":""},null,null,null,null,null,null,null,null,null,null,null,null,{"$f":"TEMP!AO29","v":""},null,null,null,null,null,null,null,null,null,{"$f":"TEMP!AP29","v":""},null,null,null,null,null,null,null,null,null,{"$f":"TEMP!AQ29","v":""},null,null,null,null,null,null,null,null,null,{"$f":"TEMP!AR29","v":""},null,null,null,null,null,null,null,null,null,{"$f":"TEMP!AS29","v":""},null,null,null,null,null,null,null,null,null,{"$f":"TEMP!AP71","v":""}]
[{"$f":"TEMP!AN30","v":""},null,null,null,null,null,null,null,null,null,null,null,null,{"$f":"TEMP!AO30","v":""},null,null,null,null,null,null,null,null,null,{"$f":"TEMP!AP30","v":""},null,null,null,null,null,null,null,null,null,{"$f":"TEMP!AQ30","v":""},null,null,null,null,null,null,null,null,null,{"$f":"TEMP!AR30","v":""},null,null,null,null,null,null,null,null,null,{"$f":"TEMP!AS30","v":""},null,null,null,null,null,null,null,null,null,{"$f":"TEMP!AP72","v":""}]
[{"$f":"TEMP!AN31","v":""},null,null,null,null,null,null,null,null,null,null,null,null,{"$f":"TEMP!AO31","v":""},null,null,null,null,null,null,null,null,null,{"$f":"TEMP!AP31","v":""},null,null,null,null,null,null,null,null,null,{"$f":"TEMP!AQ31","v":""},null,null,null,null,null,null,null,null,null,{"$f":"TEMP!AR31","v":""},null,null,null,null,null,null,null,null,null,{"$f":"TEMP!AS31","v":""},null,null,null,null,null,null,null,null,null,{"$f":"TEMP!AP73","v":""}]
[{"$f":"TEMP!AN32","v":""},null,null,null,null,null,null,null,null,null,null,null,null,{"$f":"TEMP!AO32","v":""},null,null,null,null,null,null,null,null,null,{"$f":"TEMP!AP32","v":""},null,null,null,null,null,null,null,null,null,{"$f":"TEMP!AQ32","v":""},null,null,null,null,null,null,null,null,null,{"$f":"TEMP!AR32","v":""},null,null,null,null,null,null,null,null,null,{"$f":"TEMP!AS32","v":""},null,null,null,null,null,null,null,null,null,{"$f":"TEMP!AP74","v":""}]
[{"$f":"TEMP!AN33","v":""},null,null,null,null,null,null,null,null,null,null,null,null,{"$f":"TEMP!AO33","v":""},null,null,null,null,null,null,null,null,null,{"$f":"TEMP!AP33","v":""},null,null,null,null,null,null,null,null,null,{"$f":"TEMP!AQ33","v":""},null,null,null,null,null,null,null,null,null,{"$f":"TEMP!AR33","v":""},null,null,null,null,null,null,null,null,null,{"$f":"TEMP!AS33","v":""},null,null,null,null,null,null,null,null,null,{"$f":"TEMP!AP75","v":""}]
[]
["入札参加者のうち随意契約における\n見積徴取への参加意志のあった者",null,null,null,null,null,null,null,null,null,null,null,null,{"$f":"IF(COUNTBLANK(N22:W31)=100,\"\",\"第６回見積徴取\")","v":""},null,null,null,null,null,null,null,null,null,{"$f":"IF(COUNTBLANK(X22:AG31)=100,\"\",\"第７回見積徴取\")","v":""},null,null,null,null,null,null,null,null,null,{"$f":"IF(COUNTBLANK(AH22:AQ31)=100,\"\",\"第８回見積徴取\")","v":""},null,null,null,null,null,null,null,null,null,{"$f":"IF(COUNTBLANK(AR22:BA31)=100,\"\",\"第９回見積徴取\")","v":""},null,null,null,null,null,null,null,null,null,{"$f":"IF(COUNTBLANK(BB22:BK31)=100,\"\",\"第１０回見積徴取\")","v":""},null,null,null,null,null,null,null,null,null,"摘　要"]
[null,null,null,null,null,null,null,null,null,null,null,null,null,{"$f":"IF(COUNTBLANK(N22:W31)=100,\"\",\"見積金額\")","v":""},null,null,null,null,null,null,null,null,null,{"$f":"IF(COUNTBLANK(X22:AG31)=100,\"\",\"見積金額\")","v":""},null,null,null,null,null,null,null,null,null,{"$f":"IF(COUNTBLANK(AH22:AQ31)=100,\"\",\"見積金額\")","v":""},null,null,null,null,null,null,null,null,null,{"$f":"IF(COUNTBLANK(AR22:BA31)=100,\"\",\"見積金額\")","v":""},null,null,null,null,null,null,null,null,null,{"$f":"IF(COUNTBLANK(BB22:BK31)=100,\"\",\"見積金額\")","v":""}]
[]
[{"$f":"IF(COUNTBLANK($BL$8:$BP$17)=50,TEMP!AN24,\"\")","v":""},null,null,null,null,null,null,null,null,null,null,null,null,{"$f":"TEMP!AT24","v":""},null,null,null,null,null,null,null,null,null,{"$f":"TEMP!AU24","v":""},null,null,null,null,null,null,null,null,null,{"$f":"TEMP!AV24","v":""},null,null,null,null,null,null,null,null,null,{"$f":"TEMP!AW24","v":""},null,null,null,null,null,null,null,null,null,{"$f":"TEMP!AX24","v":""},null,null,null,null,null,null,null,null,null,{"$f":"TEMP!AX66","v":""}]
[{"$f":"IF(COUNTBLANK($BL$8:$BP$17)=50,TEMP!AN25,\"\")","v":""},null,null,null,null,null,null,null,null,null,null,null,null,{"$f":"TEMP!AT25","v":""},null,null,null,null,null,null,null,null,null,{"$f":"TEMP!AU25","v":""},null,null,null,null,null,null,null,null,null,{"$f":"TEMP!AV25","v":""},null,null,null,null,null,null,null,null,null,{"$f":"TEMP!AW25","v":""},null,null,null,null,null,null,null,null,null,{"$f":"TEMP!AX25","v":""},null,null,null,null,null,null,null,null,null,{"$f":"TEMP!AX67","v":""}]
[{"$f":"IF(COUNTBLANK($BL$8:$BP$17)=50,TEMP!AN26,\"\")","v":""},null,null,null,null,null,null,null,null,null,null,null,null,{"$f":"TEMP!AT26","v":""},null,null,null,null,null,null,null,null,null,{"$f":"TEMP!AU26","v":""},null,null,null,null,null,null,null,null,null,{"$f":"TEMP!AV26","v":""},null,null,null,null,null,null,null,null,null,{"$f":"TEMP!AW26","v":""},null,null,null,null,null,null,null,null,null,{"$f":"TEMP!AX26","v":""},null,null,null,null,null,null,null,null,null,{"$f":"TEMP!AX68","v":""}]
[{"$f":"IF(COUNTBLANK($BL$8:$BP$17)=50,TEMP!AN27,\"\")","v":""},null,null,null,null,null,null,null,null,null,null,null,null,{"$f":"TEMP!AT27","v":""},null,null,null,null,null,null,null,null,null,{"$f":"TEMP!AU27","v":""},null,null,null,null,null,null,null,null,null,{"$f":"TEMP!AV27","v":""},null,null,null,null,null,null,null,null,null,{"$f":"TEMP!AW27","v":""},null,null,null,null,null,null,null,null,null,{"$f":"TEMP!AX27","v":""},null,null,null,null,null,null,null,null,null,{"$f":"TEMP!AX69","v":""}]
[{"$f":"IF(COUNTBLANK($BL$8:$BP$17)=50,TEMP!AN28,\"\")","v":""},null,null,null,null,null,null,null,null,null,null,null,null,{"$f":"TEMP!AT28","v":""},null,null,null,null,null,null,null,null,null,{"$f":"TEMP!AU28","v":""},null,null,null,null,null,null,null,null,null,{"$f":"TEMP!AV28","v":""},null,null,null,null,null,null,null,null,null,{"$f":"TEMP!AW28","v":""},null,null,null,null,null,null,null,null,null,{"$f":"TEMP!AX28","v":""},null,null,null,null,null,null,null,null,null,{"$f":"TEMP!AX70","v":""}]
[{"$f":"IF(COUNTBLANK($BL$8:$BP$17)=50,TEMP!AN29,\"\")","v":""},null,null,null,null,null,null,null,null,null,null,null,null,{"$f":"TEMP!AT29","v":""},null,null,null,null,null,null,null,null,null,{"$f":"TEMP!AU29","v":""},null,null,null,null,null,null,null,null,null,{"$f":"TEMP!AV29","v":""},null,null,null,null,null,null,null,null,null,{"$f":"TEMP!AW29","v":""},null,null,null,null,null,null,null,null,null,{"$f":"TEMP!AX29","v":""},null,null,null,null,null,null,null,null,null,{"$f":"TEMP!AX71","v":""}]
[{"$f":"IF(COUNTBLANK($BL$8:$BP$17)=50,TEMP!AN30,\"\")","v":""},null,null,null,null,null,null,null,null,null,null,null,null,{"$f":"TEMP!AT30","v":""},null,null,null,null,null,null,null,null,null,{"$f":"TEMP!AU30","v":""},null,null,null,null,null,null,null,null,null,{"$f":"TEMP!AV30","v":""},null,null,null,null,null,null,null,null,null,{"$f":"TEMP!AW30","v":""},null,null,null,null,null,null,null,null,null,{"$f":"TEMP!AX30","v":""},null,null,null,null,null,null,null,null,null,{"$f":"TEMP!AX72","v":""}]
[{"$f":"IF(COUNTBLANK($BL$8:$BP$17)=50,TEMP!AN31,\"\")","v":""},null,null,null,null,null,null,null,null,null,null,null,null,{"$f":"TEMP!AT31","v":""},null,null,null,null,null,null,null,null,null,{"$f":"TEMP!AU31","v":""},null,null,null,null,null,null,null,null,null,{"$f":"TEMP!AV31","v":""},null,null,null,null,null,null,null,null,null,{"$f":"TEMP!AW31","v":""},null,null,null,null,null,null,null,null,null,{"$f":"TEMP!AX31","v":""},null,null,null,null,null,null,null,null,null,{"$f":"TEMP!AX73","v":""}]
[{"$f":"IF(COUNTBLANK($BL$8:$BP$17)=50,TEMP!AN32,\"\")","v":""},null,null,null,null,null,null,null,null,null,null,null,null,{"$f":"TEMP!AT32","v":""},null,null,null,null,null,null,null,null,null,{"$f":"TEMP!AU32","v":""},null,null,null,null,null,null,null,null,null,{"$f":"TEMP!AV32","v":""},null,null,null,null,null,null,null,null,null,{"$f":"TEMP!AW32","v":""},null,null,null,null,null,null,null,null,null,{"$f":"TEMP!AX32","v":""},null,null,null,null,null,null,null,null,null,{"$f":"TEMP!AX74","v":""}]
[{"$f":"IF(COUNTBLANK($BL$8:$BP$17)=50,TEMP!AN33,\"\")","v":""},null,null,null,null,null,null,null,null,null,null,null,null,{"$f":"TEMP!AT33","v":""},null,null,null,null,null,null,null,null,null,{"$f":"TEMP!AU33","v":""},null,null,null,null,null,null,null,null,null,{"$f":"TEMP!AV33","v":""},null,null,null,null,null,null,null,null,null,{"$f":"TEMP!AW33","v":""},null,null,null,null,null,null,null,null,null,{"$f":"TEMP!AX33","v":""},null,null,null,null,null,null,null,null,null,{"$f":"TEMP!AX75","v":""}]
[]
["※ 第二回入札で不調となったため、予決令第９９条の２に規定する随意契約手続きに移行することし、入札に参加した者（辞退した者等を除く。）のうち、上記の参加意志のあった者により見積徴取することとした。"]
["※ 見積金額は見積提出者が見積もった契約希望金額の総額である。"]
["※ 予定価格の範囲内の見積金額であり、最低価格をもって有効な見積を提出した者により成立するものとする。"]

{"sheet":"②見積10者-20回","index":21,"n_rows":35,"n_cols":64,"rows_kept":35,"cut":false,"hidden":false,"merged":[[22,48,22,52],[21,58,21,62],[22,38,22,42],[21,48,21,52],[21,53,21,57],[19,58,20,62],[21,38,21,42],[21,43,21,47],[24,58,24,62],[24,48,24,52],[24,53,24,57],[24,38,24,42],[24,43,24,47],[23,53,23,57],[23,58,23,62],[23,38,23,42],[23,43,23,47],[23,48,23,52],[30,33,30,37],[30,63,30,67],[30,23,30,27],[30,28,30,32],[30,0,30,12],[30,13,30,17],[30,18,30,22],[29,33,29,37],[29,63,29,67],[29,23,29,27],[29,28,29,32],[29,0,29,12],[29,13,29,17],[29,18,29,22],[30,58,30,62],[30,48,30,52],[30,53,30,57],[30,38,30,42],[30,43,30,47],[29,53,29,57],[29,58,29,62],[29,38,29,42],[29,43,29,47],[29,48,29,52],[28,33,28,37],[28,63,28,67],[28,23,28,27],[28,28,28,32],[28,0,28,12],[28,13,28,17],[28,18,28,22],[27,33,27,37],[27,63,27,67],[27,23,27,27],[27,28,27,32],[27,0,27,12],[27,13,27,17],[27,18,27,22],[28,53,28,57],[28,58,28,62],[28,43,28,47],[28,48,28,52],[27,58,27,62],[28,38,28,42],[27,48,27,52],[27,53,27,57],[27,38,27,42],[27,43,27,47],[26,33,26,37],[26,63,26,67],[26,23,26,27],[26,28,26,32],[26,0,26,12],[26,13,26,17],[26,18,26,22],[25,33,25,37],[25,63,25,67],[25,23,25,27],[25,28,25,32],[25,0,25,12],[25,13,25,17],[25,18,25,22],[25,38,25,42],[26,53,26,57],[26,58,26,62],[26,38,26,42],[26,43,26,47],[26,48,26,52],[25,53,25,57],[25,58,25,62],[25,43,25,47],[25,48,25,52],[24,63,24,67],[24,23,24,27],[24,28,24,32],[24,0,24,12],[24,13,24,17],[24,18,24,22],[23,33,23,37],[23,63,23,67],[23,23,23,27],[23,28,23,32],[23,0,23,12],[23,13,23,17],[23,18,23,22],[22,0,22,12],[22,13,22,17],[22,18,22,22],[21,23,21,27],[21,28,21,32],[21,0,21,12],[21,13,21,17],[21,18,21,22],[24,33,24,37],[18,63,20,67],[19,13,20,17],[19,18,20,22],[19,23,20,27],[16,58,16,62],[16,63,16,67],[22,33,22,37],[22,63,22,67],[22,23,22,27],[22,28,22,32],[21,33,21,37],[21,63,21,67],[18,58,18,62],[19,38,20,42],[19,43,20,47],[19,48,20,52],[18,38,18,42],[18,43,18,47],[18,48,18,52],[18,53,18,57],[19,53,20,57],[22,53,22,57],[22,58,22,62],[22,43,22,47],[18,0,20,12],[18,13,18,17],[18,18,18,22],[18,23,18,27],[16,48,16,52],[16,53,16,57],[16,38,16,42],[16,43,16,47],[15,53,15,57],[16,33,16,37],[16,23,16,27],[16,28,16,32],[16,0,16,12],[16,13,16,17],[16,18,16,22],[15,33,15,37],[19,28,20,32],[19,33,20,37],[18,28,18,32],[18,33,18,37],[7,53,7,57],[5,58,6,62],[7,38,7,42],[7,43,7,47],[10,58,10,62],[11,38,11,42],[10,48,10,52],[10,53,10,57],[10,38,10,42],[10,43,10,47],[9,53,9,57],[9,58,9,62],[9,38,9,42],[9,43,9,47],[9,48,9,52],[11,53,11,57],[11,58,11,62],[11,43,11,47],[11,48,11,52],[15,63,15,67],[15,23,15,27],[15,28,15,32],[15,0,15,12],[15,13,15,17],[15,18,15,22],[14,33,14,37],[14,63,14,67],[14,23,14,27],[14,28,14,32],[14,0,14,12],[14,13,14,17],[14,18,14,22],[15,58,15,62],[15,38,15,42],[15,43,15,47],[15,48,15,52],[14,53,14,57],[14,58,14,62],[14,43,14,47],[14,48,14,52],[14,38,14,42],[13,33,13,37],[13,63,13,67],[13,23,13,27],[13,28,13,32],[13,0,13,12],[13,13,13,17],[13,18,13,22],[12,33,12,37],[12,63,12,67],[12,23,12,27],[12,28,12,32],[12,0,12,12],[12,13,12,17],[12,18,12,22],[12,53,12,57],[12,58,12,62],[12,38,12,42],[12,43,12,47],[12,48,12,52],[13,58,13,62],[13,48,13,52],[13,53,13,57],[13,38,13,42],[13,43,13,47],[11,33,11,37],[11,63,11,67],[11,23,11,27],[11,28,11,32],[11,0,11,12],[11,13,11,17],[11,18,11,22],[10,33,10,37],[10,63,10,67],[10,23,10,27],[10,28,10,32],[10,0,10,12],[10,13,10,17],[10,18,10,22],[9,33,9,37],[9,63,9,67],[9,23,9,27],[9,28,9,32],[9,0,9,12],[9,13,9,17],[9,18,9,22],[8,33,8,37],[8,63,8,67],[8,23,8,27],[8,28,8,32],[8,0,8,12],[8,13,8,17],[8,18,8,22],[8,53,8,57],[8,58,8,62],[8,43,8,47],[8,48,8,52],[8,38,8,42],[7,33,7,37],[7,63,7,67],[7,23,7,27],[7,28,7,32],[7,0,7,12],[7,13,7,17],[7,18,7,22],[5,28,6,32],[5,33,6,37],[4,63,6,67],[5,13,6,17],[5,18,6,22],[5,23,6,27],[4,58,4,62],[5,38,6,42],[5,43,6,47],[5,48,6,52],[4,38,4,42],[4,43,4,47],[4,48,4,52],[4,53,4,57],[5,53,6,57],[7,58,7,62],[7,48,7,52],[0,0,0,67],[2,1,2,5],[2,7,2,67],[4,0,6,12],[4,13,4,17],[4,18,4,22],[4,23,4,27],[4,28,4,32],[4,33,4,37]]}
["競争入札経過調書（最低価格落札方式）「見積徴取の経過」"]
[]
[null,"件名",null,null,null,null,null,{"$f":"IF(入力シート①!H3=\"\",\"\",入力シート①!H3)","v":"航空機乗組員の身体検査基準及び航空身体検査マニュアル並びに加齢乗員の現状に関する調査"}]
[]
["入札参加者のうち随意契約における\n見積徴取への参加意志のあった者",null,null,null,null,null,null,null,null,null,null,null,null,{"$f":"IF(COUNTBLANK(N8:R17)=50,\"\",\"第１回見積徴取\")","v":""},null,null,null,null,{"$f":"IF(COUNTBLANK(S8:W17)=50,\"\",\"第２回見積徴取\")","v":""},null,null,null,null,{"$f":"IF(COUNTBLANK(X8:AB17)=50,\"\",\"第３回見積徴取\")","v":""},null,null,null,null,{"$f":"IF(COUNTBLANK(AC8:AG17)=50,\"\",\"第４回見積徴取\")","v":""},null,null,null,null,{"$f":"IF(COUNTBLANK(AH8:AL17)=50,\"\",\"第５回見積徴取\")","v":""},null,null,null,null,{"$f":"IF(COUNTBLANK(AM8:AQ17)=50,\"\",\"第６回見積徴取\")","v":""},null,null,null,null,{"$f":"IF(COUNTBLANK(AR8:AV17)=50,\"\",\"第７回見積徴取\")","v":""},null,null,null,null,{"$f":"IF(COUNTBLANK(AW8:BA17)=50,\"\",\"第８回見積徴取\")","v":""},null,null,null,null,{"$f":"IF(COUNTBLANK(BB8:BF17)=50,\"\",\"第９回見積徴取\")","v":""},null,null,null,null,{"$f":"IF(COUNTBLANK(BG8:BK17)=50,\"\",\"第10回見積徴取\")","v":""},null,null,null,null,"摘　要"]
[null,null,null,null,null,null,null,null,null,null,null,null,null,{"$f":"IF(COUNTBLANK(N8:R17)=50,\"\",\"見積金額\")","v":""},null,null,null,null,{"$f":"IF(COUNTBLANK(S8:W17)=50,\"\",\"見積金額\")","v":""},null,null,null,null,{"$f":"IF(COUNTBLANK(X8:AB17)=50,\"\",\"見積金額\")","v":""},null,null,null,null,{"$f":"IF(COUNTBLANK(AC8:AG17)=50,\"\",\"見積金額\")","v":""},null,null,null,null,{"$f":"IF(COUNTBLANK(AH8:AL17)=50,\"\",\"見積金額\")","v":""},null,null,null,null,{"$f":"IF(COUNTBLANK(AM8:AQ17)=50,\"\",\"見積金額\")","v":""},null,null,null,null,{"$f":"IF(COUNTBLANK(AR8:AV17)=50,\"\",\"見積金額\")","v":""},null,null,null,null,{"$f":"IF(COUNTBLANK(AW8:BA17)=50,\"\",\"見積金額\")","v":""},null,null,null,null,{"$f":"IF(COUNTBLANK(BB8:BF17)=50,\"\",\"見積金額\")","v":""},null,null,null,null,{"$f":"IF(COUNTBLANK(BG8:BK17)=50,\"\",\"見積金額\")","v":""}]
[]
[{"$f":"TEMP!AN24","v":""},null,null,null,null,null,null,null,null,null,null,null,null,{"$f":"TEMP!AO24","v":""},null,null,null,null,{"$f":"TEMP!AP24","v":""},null,null,null,null,{"$f":"TEMP!AQ24","v":""},null,null,null,null,{"$f":"TEMP!AR24","v":""},null,null,null,null,{"$f":"TEMP!AS24","v":""},null,null,null,null,{"$f":"TEMP!AT24","v":""},null,null,null,null,{"$f":"TEMP!AU24","v":""},null,null,null,null,{"$f":"TEMP!AV24","v":""},null,null,null,null,{"$f":"TEMP!AW24","v":""},null,null,null,null,{"$f":"TEMP!AX24","v":""},null,null,null,null,{"$f":"TEMP!AU86","v":""}]
[{"$f":"TEMP!AN25","v":""},null,null,null,null,null,null,null,null,null,null,null,null,{"$f":"TEMP!AO25","v":""},null,null,null,null,{"$f":"TEMP!AP25","v":""},null,null,null,null,{"$f":"TEMP!AQ25","v":""},null,null,null,null,{"$f":"TEMP!AR25","v":""},null,null,null,null,{"$f":"TEMP!AS25","v":""},null,null,null,null,{"$f":"TEMP!AT25","v":""},null,null,null,null,{"$f":"TEMP!AU25","v":""},null,null,null,null,{"$f":"TEMP!AV25","v":""},null,null,null,null,{"$f":"TEMP!AW25","v":""},null,null,null,null,{"$f":"TEMP!AX25","v":""},null,null,null,null,{"$f":"TEMP!AU87","v":""}]
[{"$f":"TEMP!AN26","v":""},null,null,null,null,null,null,null,null,null,null,null,null,{"$f":"TEMP!AO26","v":""},null,null,null,null,{"$f":"TEMP!AP26","v":""},null,null,null,null,{"$f":"TEMP!AQ26","v":""},null,null,null,null,{"$f":"TEMP!AR26","v":""},null,null,null,null,{"$f":"TEMP!AS26","v":""},null,null,null,null,{"$f":"TEMP!AT26","v":""},null,null,null,null,{"$f":"TEMP!AU26","v":""},null,null,null,null,{"$f":"TEMP!AV26","v":""},null,null,null,null,{"$f":"TEMP!AW26","v":""},null,null,null,null,{"$f":"TEMP!AX26","v":""},null,null,null,null,{"$f":"TEMP!AU88","v":""}]
[{"$f":"TEMP!AN27","v":""},null,null,null,null,null,null,null,null,null,null,null,null,{"$f":"TEMP!AO27","v":""},null,null,null,null,{"$f":"TEMP!AP27","v":""},null,null,null,null,{"$f":"TEMP!AQ27","v":""},null,null,null,null,{"$f":"TEMP!AR27","v":""},null,null,null,null,{"$f":"TEMP!AS27","v":""},null,null,null,null,{"$f":"TEMP!AT27","v":""},null,null,null,null,{"$f":"TEMP!AU27","v":""},null,null,null,null,{"$f":"TEMP!AV27","v":""},null,null,null,null,{"$f":"TEMP!AW27","v":""},null,null,null,null,{"$f":"TEMP!AX27","v":""},null,null,null,null,{"$f":"TEMP!AU89","v":""}]
[{"$f":"TEMP!AN28","v":""},null,null,null,null,null,null,null,null,null,null,null,null,{"$f":"TEMP!AO28","v":""},null,null,null,null,{"$f":"TEMP!AP28","v":""},null,null,null,null,{"$f":"TEMP!AQ28","v":""},null,null,null,null,{"$f":"TEMP!AR28","v":""},null,null,null,null,{"$f":"TEMP!AS28","v":""},null,null,null,null,{"$f":"TEMP!AT28","v":""},null,null,null,null,{"$f":"TEMP!AU28","v":""},null,null,null,null,{"$f":"TEMP!AV28","v":""},null,null,null,null,{"$f":"TEMP!AW28","v":""},null,null,null,null,{"$f":"TEMP!AX28","v":""},null,null,null,null,{"$f":"TEMP!AU90","v":""}]
[{"$f":"TEMP!AN29","v":""},null,null,null,null,null,null,null,null,null,null,null,null,{"$f":"TEMP!AO29","v":""},null,null,null,null,{"$f":"TEMP!AP29","v":""},null,null,null,null,{"$f":"TEMP!AQ29","v":""},null,null,null,null,{"$f":"TEMP!AR29","v":""},null,null,null,null,{"$f":"TEMP!AS29","v":""},null,null,null,null,{"$f":"TEMP!AT29","v":""},null,null,null,null,{"$f":"TEMP!AU29","v":""},null,null,null,null,{"$f":"TEMP!AV29","v":""},null,null,null,null,{"$f":"TEMP!AW29","v":""},null,null,null,null,{"$f":"TEMP!AX29","v":""},null,null,null,null,{"$f":"TEMP!AU91","v":""}]
[{"$f":"TEMP!AN30","v":""},null,null,null,null,null,null,null,null,null,null,null,null,{"$f":"TEMP!AO30","v":""},null,null,null,null,{"$f":"TEMP!AP30","v":""},null,null,null,null,{"$f":"TEMP!AQ30","v":""},null,null,null,null,{"$f":"TEMP!AR30","v":""},null,null,null,null,{"$f":"TEMP!AS30","v":""},null,null,null,null,{"$f":"TEMP!AT30","v":""},null,null,null,null,{"$f":"TEMP!AU30","v":""},null,null,null,null,{"$f":"TEMP!AV30","v":""},null,null,null,null,{"$f":"TEMP!AW30","v":""},null,null,null,null,{"$f":"TEMP!AX30","v":""},null,null,null,null,{"$f":"TEMP!AU92","v":""}]
[{"$f":"TEMP!AN31","v":""},null,null,null,null,null,null,null,null,null,null,null,null,{"$f":"TEMP!AO31","v":""},null,null,null,null,{"$f":"TEMP!AP31","v":""},null,null,null,null,{"$f":"TEMP!AQ31","v":""},null,null,null,null,{"$f":"TEMP!AR31","v":""},null,null,null,null,{"$f":"TEMP!AS31","v":""},null,null,null,null,{"$f":"TEMP!AT31","v":""},null,null,null,null,{"$f":"TEMP!AU31","v":""},null,null,null,null,{"$f":"TEMP!AV31","v":""},null,null,null,null,{"$f":"TEMP!AW31","v":""},null,null,null,null,{"$f":"TEMP!AX31","v":""},null,null,null,null,{"$f":"TEMP!AU93","v":""}]
[{"$f":"TEMP!AN32","v":""},null,null,null,null,null,null,null,null,null,null,null,null,{"$f":"TEMP!AO32","v":""},null,null,null,null,{"$f":"TEMP!AP32","v":""},null,null,null,null,{"$f":"TEMP!AQ32","v":""},null,null,null,null,{"$f":"TEMP!AR32","v":""},null,null,null,null,{"$f":"TEMP!AS32","v":""},null,null,null,null,{"$f":"TEMP!AT32","v":""},null,null,null,null,{"$f":"TEMP!AU32","v":""},null,null,null,null,{"$f":"TEMP!AV32","v":""},null,null,null,null,{"$f":"TEMP!AW32","v":""},null,null,null,null,{"$f":"TEMP!AX32","v":""},null,null,null,null,{"$f":"TEMP!AU94","v":""}]
[{"$f":"TEMP!AN33","v":""},null,null,null,null,null,null,null,null,null,null,null,null,{"$f":"TEMP!AO33","v":""},null,null,null,null,{"$f":"TEMP!AP33","v":""},null,null,null,null,{"$f":"TEMP!AQ33","v":""},null,null,null,null,{"$f":"TEMP!AR33","v":""},null,null,null,null,{"$f":"TEMP!AS33","v":""},null,null,null,null,{"$f":"TEMP!AT33","v":""},null,null,null,null,{"$f":"TEMP!AU33","v":""},null,null,null,null,{"$f":"TEMP!AV33","v":""},null,null,null,null,{"$f":"TEMP!AW33","v":""},null,null,null,null,{"$f":"TEMP!AX33","v":""},null,null,null,null,{"$f":"TEMP!AU95","v":""}]
[]
["入札参加者のうち随意契約における\n見積徴取への参加意志のあった者",null,null,null,null,null,null,null,null,null,null,null,null,{"$f":"IF(COUNTBLANK(N22:R31)=50,\"\",\"第11回見積徴取\")","v":""},null,null,null,null,{"$f":"IF(COUNTBLANK(S22:W31)=50,\"\",\"第12回見積徴取\")","v":""},null,null,null,null,{"$f":"IF(COUNTBLANK(X22:AB31)=50,\"\",\"第13回見積徴取\")","v":""},null,null,null,null,{"$f":"IF(COUNTBLANK(AC22:AG31)=50,\"\",\"第14回見積徴取\")","v":""},null,null,null,null,{"$f":"IF(COUNTBLANK(AH22:AL31)=50,\"\",\"第15回見積徴取\")","v":""},null,null,null,null,{"$f":"IF(COUNTBLANK(AM22:AQ31)=50,\"\",\"第16回見積徴取\")","v":""},null,null,null,null,{"$f":"IF(COUNTBLANK(AR22:AV31)=50,\"\",\"第17回見積徴取\")","v":""},null,null,null,null,{"$f":"IF(COUNTBLANK(AW22:BA31)=50,\"\",\"第18回見積徴取\")","v":""},null,null,null,null,{"$f":"IF(COUNTBLANK(BB22:BF31)=50,\"\",\"第19回見積徴取\")","v":""},null,null,null,null,{"$f":"IF(COUNTBLANK(BG22:BK31)=50,\"\",\"第20回見積徴取\")","v":""},null,null,null,null,"摘　要"]
[null,null,null,null,null,null,null,null,null,null,null,null,null,{"$f":"IF(COUNTBLANK(N22:R31)=50,\"\",\"見積金額\")","v":""},null,null,null,null,{"$f":"IF(COUNTBLANK(S22:W31)=50,\"\",\"見積金額\")","v":""},null,null,null,null,{"$f":"IF(COUNTBLANK(X22:AB31)=50,\"\",\"見積金額\")","v":""},null,null,null,null,{"$f":"IF(COUNTBLANK(AC22:AG31)=50,\"\",\"見積金額\")","v":""},null,null,null,null,{"$f":"IF(COUNTBLANK(AH22:AL31)=50,\"\",\"見積金額\")","v":""},null,null,null,null,{"$f":"IF(COUNTBLANK(AM22:AQ31)=50,\"\",\"見積金額\")","v":""},null,null,null,null,{"$f":"IF(COUNTBLANK(AR22:AV31)=50,\"\",\"見積金額\")","v":""},null,null,null,null,{"$f":"IF(COUNTBLANK(AW22:BA31)=50,\"\",\"見積金額\")","v":""},null,null,null,null,{"$f":"IF(COUNTBLANK(BB22:BF31)=50,\"\",\"見積金額\")","v":""},null,null,null,null,{"$f":"IF(COUNTBLANK(BG22:BK31)=50,\"\",\"見積金額\")","v":""}]
[]
[{"$f":"IF(COUNTBLANK($BL$8:$BP$17)=50,TEMP!AN24,\"\")","v":""},null,null,null,null,null,null,null,null,null,null,null,null,{"$f":"TEMP!AY24","v":""},null,null,null,null,{"$f":"TEMP!AZ24","v":""},null,null,null,null,{"$f":"TEMP!BA24","v":""},null,null,null,null,{"$f":"TEMP!BB24","v":""},null,null,null,null,{"$f":"TEMP!BC24","v":""},null,null,null,null,{"$f":"TEMP!BD24","v":""},null,null,null,null,{"$f":"TEMP!BE24","v":""},null,null,null,null,{"$f":"TEMP!BF24","v":""},null,null,null,null,{"$f":"TEMP!BG24","v":""},null,null,null,null,{"$f":"TEMP!BH24","v":""},null,null,null,null,{"$f":"TEMP!BH86","v":""}]
[{"$f":"IF(COUNTBLANK($BL$8:$BP$17)=50,TEMP!AN25,\"\")","v":""},null,null,null,null,null,null,null,null,null,null,null,null,{"$f":"TEMP!AY25","v":""},null,null,null,null,{"$f":"TEMP!AZ25","v":""},null,null,null,null,{"$f":"TEMP!BA25","v":""},null,null,null,null,{"$f":"TEMP!BB25","v":""},null,null,null,null,{"$f":"TEMP!BC25","v":""},null,null,null,null,{"$f":"TEMP!BD25","v":""},null,null,null,null,{"$f":"TEMP!BE25","v":""},null,null,null,null,{"$f":"TEMP!BF25","v":""},null,null,null,null,{"$f":"TEMP!BG25","v":""},null,null,null,null,{"$f":"TEMP!BH25","v":""},null,null,null,null,{"$f":"TEMP!BH87","v":""}]
[{"$f":"IF(COUNTBLANK($BL$8:$BP$17)=50,TEMP!AN26,\"\")","v":""},null,null,null,null,null,null,null,null,null,null,null,null,{"$f":"TEMP!AY26","v":""},null,null,null,null,{"$f":"TEMP!AZ26","v":""},null,null,null,null,{"$f":"TEMP!BA26","v":""},null,null,null,null,{"$f":"TEMP!BB26","v":""},null,null,null,null,{"$f":"TEMP!BC26","v":""},null,null,null,null,{"$f":"TEMP!BD26","v":""},null,null,null,null,{"$f":"TEMP!BE26","v":""},null,null,null,null,{"$f":"TEMP!BF26","v":""},null,null,null,null,{"$f":"TEMP!BG26","v":""},null,null,null,null,{"$f":"TEMP!BH26","v":""},null,null,null,null,{"$f":"TEMP!BH88","v":""}]
[{"$f":"IF(COUNTBLANK($BL$8:$BP$17)=50,TEMP!AN27,\"\")","v":""},null,null,null,null,null,null,null,null,null,null,null,null,{"$f":"TEMP!AY27","v":""},null,null,null,null,{"$f":"TEMP!AZ27","v":""},null,null,null,null,{"$f":"TEMP!BA27","v":""},null,null,null,null,{"$f":"TEMP!BB27","v":""},null,null,null,null,{"$f":"TEMP!BC27","v":""},null,null,null,null,{"$f":"TEMP!BD27","v":""},null,null,null,null,{"$f":"TEMP!BE27","v":""},null,null,null,null,{"$f":"TEMP!BF27","v":""},null,null,null,null,{"$f":"TEMP!BG27","v":""},null,null,null,null,{"$f":"TEMP!BH27","v":""},null,null,null,null,{"$f":"TEMP!BH89","v":""}]
[{"$f":"IF(COUNTBLANK($BL$8:$BP$17)=50,TEMP!AN28,\"\")","v":""},null,null,null,null,null,null,null,null,null,null,null,null,{"$f":"TEMP!AY28","v":""},null,null,null,null,{"$f":"TEMP!AZ28","v":""},null,null,null,null,{"$f":"TEMP!BA28","v":""},null,null,null,null,{"$f":"TEMP!BB28","v":""},null,null,null,null,{"$f":"TEMP!BC28","v":""},null,null,null,null,{"$f":"TEMP!BD28","v":""},null,null,null,null,{"$f":"TEMP!BE28","v":""},null,null,null,null,{"$f":"TEMP!BF28","v":""},null,null,null,null,{"$f":"TEMP!BG28","v":""},null,null,null,null,{"$f":"TEMP!BH28","v":""},null,null,null,null,{"$f":"TEMP!BH90","v":""}]
[{"$f":"IF(COUNTBLANK($BL$8:$BP$17)=50,TEMP!AN29,\"\")","v":""},null,null,null,null,null,null,null,null,null,null,null,null,{"$f":"TEMP!AY29","v":""},null,null,null,null,{"$f":"TEMP!AZ29","v":""},null,null,null,null,{"$f":"TEMP!BA29","v":""},null,null,null,null,{"$f":"TEMP!BB29","v":""},null,null,null,null,{"$f":"TEMP!BC29","v":""},null,null,null,null,{"$f":"TEMP!BD29","v":""},null,null,null,null,{"$f":"TEMP!BE29","v":""},null,null,null,null,{"$f":"TEMP!BF29","v":""},null,null,null,null,{"$f":"TEMP!BG29","v":""},null,null,null,null,{"$f":"TEMP!BH29","v":""},null,null,null,null,{"$f":"TEMP!BH91","v":""}]
[{"$f":"IF(COUNTBLANK($BL$8:$BP$17)=50,TEMP!AN30,\"\")","v":""},null,null,null,null,null,null,null,null,null,null,null,null,{"$f":"TEMP!AY30","v":""},null,null,null,null,{"$f":"TEMP!AZ30","v":""},null,null,null,null,{"$f":"TEMP!BA30","v":""},null,null,null,null,{"$f":"TEMP!BB30","v":""},null,null,null,null,{"$f":"TEMP!BC30","v":""},null,null,null,null,{"$f":"TEMP!BD30","v":""},null,null,null,null,{"$f":"TEMP!BE30","v":""},null,null,null,null,{"$f":"TEMP!BF30","v":""},null,null,null,null,{"$f":"TEMP!BG30","v":""},null,null,null,null,{"$f":"TEMP!BH30","v":""},null,null,null,null,{"$f":"TEMP!BH92","v":""}]
[{"$f":"IF(COUNTBLANK($BL$8:$BP$17)=50,TEMP!AN31,\"\")","v":""},null,null,null,null,null,null,null,null,null,null,null,null,{"$f":"TEMP!AY31","v":""},null,null,null,null,{"$f":"TEMP!AZ31","v":""},null,null,null,null,{"$f":"TEMP!BA31","v":""},null,null,null,null,{"$f":"TEMP!BB31","v":""},null,null,null,null,{"$f":"TEMP!BC31","v":""},null,null,null,null,{"$f":"TEMP!BD31","v":""},null,null,null,null,{"$f":"TEMP!BE31","v":""},null,null,null,null,{"$f":"TEMP!BF31","v":""},null,null,null,null,{"$f":"TEMP!BG31","v":""},null,null,null,null,{"$f":"TEMP!BH31","v":""},null,null,null,null,{"$f":"TEMP!BH93","v":""}]
[{"$f":"IF(COUNTBLANK($BL$8:$BP$17)=50,TEMP!AN32,\"\")","v":""},null,null,null,null,null,null,null,null,null,null,null,null,{"$f":"TEMP!AY32","v":""},null,null,null,null,{"$f":"TEMP!AZ32","v":""},null,null,null,null,{"$f":"TEMP!BA32","v":""},null,null,null,null,{"$f":"TEMP!BB32","v":""},null,null,null,null,{"$f":"TEMP!BC32","v":""},null,null,null,null,{"$f":"TEMP!BD32","v":""},null,null,null,null,{"$f":"TEMP!BE32","v":""},null,null,null,null,{"$f":"TEMP!BF32","v":""},null,null,null,null,{"$f":"TEMP!BG32","v":""},null,null,null,null,{"$f":"TEMP!BH32","v":""},null,null,null,null,{"$f":"TEMP!BH94","v":""}]
[{"$f":"IF(COUNTBLANK($BL$8:$BP$17)=50,TEMP!AN33,\"\")","v":""},null,null,null,null,null,null,null,null,null,null,null,null,{"$f":"TEMP!AY33","v":""},null,null,null,null,{"$f":"TEMP!AZ33","v":""},null,null,null,null,{"$f":"TEMP!BA33","v":""},null,null,null,null,{"$f":"TEMP!BB33","v":""},null,null,null,null,{"$f":"TEMP!BC33","v":""},null,null,null,null,{"$f":"TEMP!BD33","v":""},null,null,null,null,{"$f":"TEMP!BE33","v":""},null,null,null,null,{"$f":"TEMP!BF33","v":""},null,null,null,null,{"$f":"TEMP!BG33","v":""},null,null,null,null,{"$f":"TEMP!BH33","v":""},null,null,null,null,{"$f":"TEMP!BH95","v":""}]
[]
["※ 第二回入札で不調となったため、予決令第９９条の２に規定する随意契約手続きに移行することし、入札に参加した者（辞退した者等を除く。）のうち、上記の参加意志のあった者により見積徴取することとした。"]
["※ 見積金額は見積提出者が見積もった契約希望金額の総額である。"]
["※ 予定価格の範囲内の見積金額であり、最低価格をもって有効な見積を提出した者により成立するものとする。"]