{"text_format":"1","workbook":"xlsx","n_sheets":11,"sheets":["賃貸住宅経営のセルチェックシート【入力シート】","長期修繕計画書【入力シート】","キャッシュフロー表","Sheet1","固都税経年率","借入金","算出基礎係数","Sheet3","W1 修繕なし","W1修繕あり-積立なし-短期融資","W1修繕あり-積立あり"],"not_rendered":{"charts":3,"images":0,"macros":1,"external_links":1,"defined_names":27,"comments":3,"pivot_tables":0},"unopened":[],"bounds":{"document_bytes":16777216,"sheet_cells":100000,"rows_first":2000,"rows_last":500,"rows_between":2000,"halvings":0,"cell_chars":16384,"cell_head_chars":4096},"cells_cut":0,"cells_raw":0,"read":"whole","date_system":"1900"}

{"sheet":"賃貸住宅経営のセルチェックシート【入力シート】","index":0,"n_rows":116,"n_cols":31,"rows_kept":116,"cut":false,"hidden":false,"merged":[[17,15,17,20],[17,21,17,23],[17,24,17,26],[17,28,17,29],[17,0,17,5],[51,11,51,13],[19,21,19,24],[19,25,19,27],[114,28,114,29],[114,0,114,9],[114,10,114,11],[114,12,114,13],[114,14,114,15],[114,16,114,17],[114,18,114,19],[114,20,114,21],[114,22,114,23],[114,24,114,25],[87,28,87,29],[87,20,87,21],[87,18,87,19],[89,28,89,29],[37,26,37,27],[38,26,38,27],[37,16,37,17],[108,28,108,29],[109,28,109,29],[99,26,99,27],[100,26,100,27],[88,14,88,15],[45,20,45,21],[46,20,46,21],[45,18,45,19],[104,26,104,27],[105,26,105,27],[88,16,88,17],[88,18,88,19],[88,20,88,21],[88,22,88,23],[88,26,88,27],[80,20,80,21],[90,24,90,25],[92,24,92,25],[94,24,94,25],[95,24,95,25],[96,24,96,25],[97,24,97,25],[99,24,99,25],[106,26,106,27],[107,26,107,27],[91,28,91,29],[90,28,90,29],[92,28,92,29],[94,28,94,29],[95,28,95,29],[105,28,105,29],[106,28,106,29],[107,28,107,29],[98,26,98,27],[102,28,102,29],[103,28,103,29],[115,28,115,29],[115,10,115,11],[115,12,115,13],[115,14,115,15],[115,16,115,17],[115,18,115,19],[115,20,115,21],[115,22,115,23],[115,24,115,25],[115,26,115,27],[10,0,10,5],[10,6,10,7],[10,8,10,9],[10,11,10,14],[10,15,10,20],[10,21,10,23],[10,24,10,29],[20,0,20,5],[20,6,20,9],[20,15,20,20],[20,21,20,24],[20,25,20,27],[20,28,20,29],[12,27,12,29],[12,15,12,20],[19,0,19,5],[19,6,19,9],[19,10,19,12],[19,13,19,14],[19,15,19,20],[13,9,13,11],[14,12,14,14],[14,15,14,20],[15,15,15,20],[21,0,21,5],[21,6,21,9],[21,10,21,12],[21,13,21,14],[21,15,21,20],[21,25,21,27],[21,28,21,29],[86,18,86,19],[80,18,80,19],[81,18,81,19],[80,12,80,13],[79,10,79,11],[80,10,80,11],[79,12,79,13],[79,0,79,9],[82,12,82,13],[83,12,83,13],[84,12,84,13],[79,28,79,29],[80,28,80,29],[81,28,81,29],[82,28,82,29],[83,28,83,29],[24,15,24,20],[114,26,114,27],[81,20,81,21],[82,20,82,21],[83,20,83,21],[84,20,84,21],[86,20,86,21],[82,18,82,19],[83,18,83,19],[84,18,84,19],[108,26,108,27],[104,24,104,25],[105,24,105,25],[106,24,106,25],[107,24,107,25],[108,24,108,25],[103,24,103,25],[110,26,110,27],[111,26,111,27],[111,24,111,25],[89,20,89,21],[87,24,87,25],[89,24,89,25],[91,24,91,25],[100,24,100,25],[0,0,0,29],[16,21,16,23],[16,24,16,25],[9,27,9,29],[15,6,15,8],[15,9,15,11],[14,21,14,23],[3,0,3,29],[12,0,12,5],[14,24,14,26],[8,0,8,5],[8,6,8,29],[9,6,9,9],[4,1,4,29],[5,1,5,29],[2,0,2,29],[12,24,12,26],[13,15,13,20],[13,21,13,23],[13,28,13,29],[13,0,13,5],[13,6,13,8],[13,13,13,14],[9,0,9,5],[15,27,15,28],[25,21,25,22],[25,28,25,29],[79,20,79,21],[40,26,40,27],[41,26,41,27],[42,26,42,27],[43,26,43,27],[44,26,44,27],[45,26,45,27],[54,26,54,27],[37,24,37,25],[38,24,38,25],[39,24,39,25],[40,24,40,25],[41,24,41,25],[42,24,42,25],[43,24,43,25],[44,24,44,25],[21,21,21,24],[19,28,19,29],[63,18,64,21],[62,18,62,21],[48,24,48,25],[14,27,14,29],[13,24,13,26],[79,18,79,19],[79,24,79,25],[79,22,79,23],[84,28,84,29],[9,15,9,20],[88,24,88,25],[85,24,85,25],[47,16,47,17],[28,16,28,17],[29,16,29,17],[30,16,30,17],[31,16,31,17],[32,16,32,17],[33,16,33,17],[34,16,34,17],[45,24,45,25],[45,22,45,23],[12,22,12,23],[28,26,28,27],[39,26,39,27],[84,24,84,25],[86,24,86,25],[15,12,15,14],[24,0,24,5],[16,15,16,20],[15,0,15,5],[14,0,14,5],[25,25,25,27],[9,21,9,23],[9,24,9,26],[11,0,11,5],[11,6,11,8],[11,15,11,20],[11,21,11,26],[12,6,12,12],[24,13,24,14],[24,10,24,12],[24,6,24,9],[25,6,25,9],[25,13,25,14],[16,0,16,5],[16,8,16,9],[16,13,16,14],[14,6,14,8],[14,9,14,11],[25,15,25,20],[57,10,57,12],[57,7,57,9],[57,16,57,19],[57,20,57,22],[57,23,57,25],[25,0,25,5],[25,23,25,24],[110,28,110,29],[96,28,96,29],[97,28,97,29],[99,28,99,29],[100,28,100,29],[98,28,98,29],[101,28,101,29],[109,24,109,25],[110,24,110,25],[101,24,101,25],[102,24,102,25],[98,24,98,25],[80,24,80,25],[81,24,81,25],[82,24,82,25],[83,24,83,25],[92,22,92,23],[111,28,111,29],[79,26,79,27],[80,26,80,27],[81,26,81,27],[82,26,82,27],[83,26,83,27],[84,26,84,27],[86,26,86,27],[87,26,87,27],[89,26,89,27],[91,26,91,27],[90,26,90,27],[92,26,92,27],[94,26,94,27],[95,26,95,27],[96,26,96,27],[97,26,97,27],[104,28,104,29],[101,26,101,27],[88,28,88,29],[86,28,86,29],[109,26,109,27],[102,26,102,27],[103,26,103,27],[80,22,80,23],[81,22,81,23],[82,22,82,23],[83,22,83,23],[84,22,84,23],[86,22,86,23],[87,22,87,23],[89,22,89,23],[107,20,107,21],[102,20,102,21],[103,20,103,21],[101,20,101,21],[91,22,91,23],[98,22,98,23],[101,22,101,23],[102,22,102,23],[103,22,103,23],[100,22,100,23],[90,22,90,23],[94,22,94,23],[95,22,95,23],[96,22,96,23],[97,22,97,23],[99,22,99,23],[108,20,108,21],[109,20,109,21],[110,20,110,21],[111,20,111,21],[104,20,104,21],[105,20,105,21],[106,20,106,21],[108,22,108,23],[109,22,109,23],[110,22,110,23],[111,22,111,23],[104,22,104,23],[105,22,105,23],[106,22,106,23],[107,22,107,23],[90,18,90,19],[92,18,92,19],[94,18,94,19],[95,18,95,19],[96,18,96,19],[99,20,99,21],[100,20,100,21],[94,20,94,21],[95,20,95,21],[96,20,96,21],[97,20,97,21],[98,20,98,21],[90,20,90,21],[92,20,92,21],[91,20,91,21],[111,18,111,19],[79,16,79,17],[80,16,80,17],[81,16,81,17],[82,16,82,17],[83,16,83,17],[84,16,84,17],[86,16,86,17],[87,16,87,17],[89,16,89,17],[91,16,91,17],[90,16,90,17],[92,16,92,17],[94,16,94,17],[95,16,95,17],[97,18,97,19],[99,18,99,19],[100,18,100,19],[98,18,98,19],[101,18,101,19],[102,18,102,19],[103,18,103,19],[89,18,89,19],[91,18,91,19],[109,18,109,19],[110,18,110,19],[109,16,109,17],[98,16,98,17],[101,16,101,17],[102,16,102,17],[103,16,103,17],[104,16,104,17],[110,16,110,17],[100,16,100,17],[106,18,106,19],[107,18,107,19],[108,18,108,19],[104,18,104,19],[105,18,105,19],[105,16,105,17],[106,16,106,17],[107,16,107,17],[108,16,108,17],[111,16,111,17],[79,14,79,15],[80,14,80,15],[81,14,81,15],[82,14,82,15],[83,14,83,15],[84,14,84,15],[86,14,86,15],[87,14,87,15],[89,14,89,15],[91,14,91,15],[90,14,90,15],[92,14,92,15],[94,14,94,15],[95,14,95,15],[96,16,96,17],[97,16,97,17],[111,14,111,15],[98,14,98,15],[99,16,99,17],[107,14,107,15],[108,14,108,15],[109,14,109,15],[110,14,110,15],[101,14,101,15],[102,14,102,15],[103,14,103,15],[111,12,111,13],[96,14,96,15],[97,14,97,15],[99,14,99,15],[100,14,100,15],[99,12,99,13],[100,12,100,13],[104,14,104,15],[105,14,105,15],[106,14,106,15],[104,12,104,13],[105,12,105,13],[106,12,106,13],[110,12,110,13],[87,12,87,13],[89,12,89,13],[91,12,91,13],[88,12,88,13],[81,10,81,11],[82,10,82,11],[83,10,83,11],[84,10,84,11],[86,10,86,11],[87,10,87,11],[89,10,89,11],[88,10,88,11],[86,12,86,13],[90,10,90,11],[81,12,81,13],[90,12,90,13],[92,10,92,11],[96,12,96,13],[97,12,97,13],[111,10,111,11],[96,10,96,11],[97,10,97,11],[102,12,102,13],[103,12,103,13],[94,12,94,13],[95,12,95,13],[108,10,108,11],[109,10,109,11],[110,10,110,11],[107,12,107,13],[108,12,108,13],[109,12,109,13],[98,12,98,13],[101,12,101,13],[92,12,92,13],[97,1,102,1],[104,1,106,1],[62,0,62,3],[63,0,64,3],[62,8,62,11],[63,8,64,11],[104,10,104,11],[105,10,105,11],[106,10,106,11],[99,10,99,11],[100,10,100,11],[98,10,98,11],[101,10,101,11],[102,10,102,11],[103,10,103,11],[96,0,110,0],[80,1,83,1],[94,1,95,1],[80,0,95,0],[107,10,107,11],[91,10,91,11],[84,1,93,1],[94,10,94,11],[95,10,95,11],[63,30,64,33],[24,21,24,24],[24,25,24,27],[24,28,24,29],[63,22,64,25],[85,28,85,29],[93,10,93,11],[93,12,93,13],[93,14,93,15],[93,16,93,17],[93,18,93,19],[93,20,93,21],[93,22,93,23],[93,24,93,25],[93,26,93,27],[93,28,93,29],[85,10,85,11],[85,12,85,13],[85,14,85,15],[85,16,85,17],[85,18,85,19],[85,20,85,21],[85,22,85,23],[85,26,85,27],[62,30,62,33],[62,22,62,25],[47,24,47,25],[47,22,47,23],[46,22,46,23],[62,4,62,7],[63,4,64,7],[61,0,61,11],[57,0,57,2],[57,13,57,15],[63,12,64,14],[62,12,62,14],[62,15,62,17],[63,15,64,17],[47,20,47,21],[46,24,46,25],[46,26,46,27],[47,26,47,27],[48,26,48,27],[49,26,49,27],[50,26,50,27],[51,26,51,27],[52,26,52,27],[53,26,53,27],[25,10,25,12],[29,26,29,27],[30,26,30,27],[31,26,31,27],[32,26,32,27],[33,26,33,27],[34,26,34,27],[35,26,35,27],[36,26,36,27],[28,24,28,25],[29,24,29,25],[30,24,30,25],[31,24,31,25],[32,24,32,25],[33,24,33,25],[34,24,34,25],[35,24,35,25],[36,24,36,25],[28,7,28,10],[29,7,29,10],[30,7,30,10],[31,7,31,10],[32,7,32,10],[33,7,33,10],[49,24,49,25],[50,24,50,25],[51,24,51,25],[52,24,52,25],[53,24,53,25],[54,24,54,25],[28,22,28,23],[29,22,29,23],[30,22,30,23],[31,22,31,23],[32,22,32,23],[33,22,33,23],[34,22,34,23],[35,22,35,23],[36,22,36,23],[37,22,37,23],[38,22,38,23],[39,22,39,23],[40,22,40,23],[41,22,41,23],[42,22,42,23],[43,22,43,23],[44,22,44,23],[48,22,48,23],[49,22,49,23],[50,22,50,23],[51,22,51,23],[52,22,52,23],[53,22,53,23],[54,22,54,23],[28,20,28,21],[29,20,29,21],[30,20,30,21],[31,20,31,21],[32,20,32,21],[33,20,33,21],[34,20,34,21],[35,20,35,21],[36,20,36,21],[37,20,37,21],[38,20,38,21],[39,20,39,21],[40,20,40,21],[41,20,41,21],[42,20,42,21],[43,20,43,21],[44,20,44,21],[48,20,48,21],[28,18,28,19],[29,18,29,19],[30,18,30,19],[31,18,31,19],[32,18,32,19],[33,18,33,19],[34,18,34,19],[35,18,35,19],[36,18,36,19],[53,18,53,19],[54,18,54,19],[50,16,50,17],[51,16,51,17],[52,16,52,17],[53,16,53,17],[54,16,54,17],[49,20,49,21],[50,20,50,21],[51,20,51,21],[52,20,52,21],[53,20,53,21],[54,20,54,21],[43,14,43,15],[44,14,44,15],[38,16,38,17],[39,16,39,17],[40,16,40,17],[35,16,35,17],[36,16,36,17],[51,18,51,19],[52,18,52,19],[37,18,37,19],[38,18,38,19],[39,18,39,19],[40,18,40,19],[41,18,41,19],[42,18,42,19],[43,18,43,19],[44,18,44,19],[46,18,46,19],[41,16,41,17],[42,16,42,17],[43,16,43,17],[44,16,44,17],[45,16,45,17],[46,16,46,17],[36,7,36,10],[28,11,28,13],[29,11,29,13],[30,11,30,13],[31,11,31,13],[32,11,32,13],[33,11,33,13],[34,11,34,13],[35,11,35,13],[36,11,36,13],[36,0,42,0],[29,0,35,0],[44,0,44,13],[52,0,52,13],[39,7,39,10],[40,7,40,10],[41,7,41,10],[42,7,42,10],[43,7,43,10],[45,7,45,10],[46,7,46,10],[47,7,47,10],[37,11,37,13],[38,11,38,13],[39,11,39,13],[40,11,40,13],[41,11,41,13],[42,11,42,13],[43,11,43,13],[45,11,45,13],[38,7,38,10],[37,7,37,10],[34,7,34,10],[35,7,35,10],[62,26,62,29],[63,26,64,29],[61,18,61,33],[48,16,48,17],[49,16,49,17],[28,14,28,15],[29,14,29,15],[30,14,30,15],[31,14,31,15],[32,14,32,15],[33,14,33,15],[34,14,34,15],[35,14,35,15],[36,14,36,15],[47,18,47,19],[48,18,48,19],[49,18,49,19],[50,18,50,19],[37,14,37,15],[38,14,38,15],[39,14,39,15],[40,14,40,15],[41,14,41,15],[42,14,42,15],[61,12,61,17],[48,7,48,10],[49,7,49,10],[50,7,50,10],[51,7,51,10],[45,0,51,0],[54,14,54,15],[50,11,50,13],[45,14,45,15],[46,14,46,15],[47,14,47,15],[48,14,48,15],[49,14,49,15],[50,14,50,15],[51,14,51,15],[52,14,52,15],[53,14,53,15],[46,11,46,13],[47,11,47,13],[48,11,48,13],[49,11,49,13],[53,0,53,13],[54,0,54,13],[57,3,57,6]]}
["長期修繕計画作成時の賃貸住宅経営のセルフチェックシート【新築から40年間】"]
[]
["保有する賃貸アパートや賃貸マンションを、より長期的かつ良好な状態で維持・管理するために、建物や設備を定期的に修繕することが大切です。このため、運用期間を通じた収入と支出の見通しを試算・把握し、将来的に必要となる修繕費用の確保に努めましょう。"]
["〈注意事項〉"]
["◯","このシートの黄色のセルに、それぞれの物件に係る情報を入力して下さい。"]
["◯\n","このセルフチェックシートは、あくまでも想定であり、実際の金額とは異なります。また、全ての初期費用や必要経費等を網羅したものではなく、その内容の正確性を保証するものではありません。このため、このチェックシートに基づき行った賃貸経営で損失が生じた場合でも、一切の責任を負いません。"]
[]
["１.基本情報"]
["物件名"]
["物件所在地（都道府県）",null,null,null,null,null,null,null,null,null,null,null,null,null,null,"構造",null,null,null,null,null,null,null,null,"（法定耐用年数）",null,null,{"$f":"IFERROR(VLOOKUP(V10,算出基礎係数!A2:B4,2,FALSE),\"\")","v":""}]
["建築年",null,null,null,null,null,null,null,null,null,"年",{"$f":"DATEVALUE(G11&I11&K11&\"１月１日\")","v":{"$error":"#VALUE!"}},null,null,null,"築年数",null,null,null,null,null,{"$f":"DATEDIF(L11,TODAY(),\"ｙ\")","v":{"$error":"#VALUE!"}}]
["屋根の形状",null,null,null,null,null,null,null,null,null,null,null,null,null,null,"屋根・防水仕上"]
["外壁の仕上",null,null,null,null,null,null,null,null,null,null,null,null,null,null,"階建、EVの有無",null,null,null,null,null,null,"階建",null,"（EVの有無）"]
["敷地面積",null,null,null,null,null,null,null,null,{"$f":"ROUND(G14*0.3025,2)","v":0},null,null,null,null,null,"延床面積",null,null,null,null,null,null,null,null,{"$f":"ROUND(V14*0.3025,2)","v":0}]
["総戸数",null,null,null,null,null,null,null,null,"（1戸あたり）",null,null,null,null,null,"新築時平均賃料",null,null,null,null,null,null,null,null,"（坪単価）",null,null,{"$f":"IFERROR(ROUND(V15/M15/0.3025,-1),\"\")","v":""}]
["平均入居期間",null,null,null,null,null,null,null,null,"（入替率）",null,null,{"$f":"IFERROR(VLOOKUP(G16,算出基礎係数!$E$2:$F$6,2,FALSE),\"\")","v":""},null,null,"賃料の変動率",null,null,null,null,null,"左記入居期間経過の都度"]
["平均稼働率（空室日数）",null,null,null,null,null,"新築時",null,null,null,"空室変動率",null,null,null,null,"建物管理費",null,null,null,null,null,"賃料月額の"]
[null,null,null,null,null,null,"※稼働率９０％を下限とする。",null,null,null,null,null,null,null,null,"原状回復費用（1戸当たり）"]
["●.固定資産税/都市計画税"]
["路線価（1㎡あたり）",null,null,null,null,null,null,null,null,null,"（坪単価）",null,null,{"$f":"IFERROR(ROUND(G20/0.3025,0),\"\")","v":0},null,"土地固定資産税評価額",null,null,null,null,null,{"$f":"ROUNDDOWN(G20*1000*G14/0.8*0.7,-3)","v":0}]
["土地固定資産税（年額）",null,null,null,null,null,{"$f":"ROUNDDOWN(V20*1/6*1.4%,-3)","v":0},null,null,null,null,null,null,null,null,"土地都市計画税（年額）",null,null,null,null,null,{"$f":"ROUNDDOWN(V20*1/3*0.3%,-3)","v":0}]
["新築建物課税標準価格",null,null,null,null,null,{"$f":"INDEX(固都税経年率!C10:E56,MATCH(G10,固都税経年率!B10:B56,0),MATCH(V10,固都税経年率!C9:E9,0))","v":{"$error":"#N/A"}},null,null,null,"（坪単価）",null,null,{"$f":"IFERROR(ROUND(G22/0.3025,0),\"\")","v":""},null,"新築建物固定資産税評価額",null,null,null,null,null,{"$f":"ROUNDDOWN(G22*V14*1000,-3)","v":{"$error":"#N/A"}}]
[]
["２.借入条件"]
["建物建設費(税込)",null,null,null,null,null,null,null,null,null,"（坪単価）",null,null,{"$f":"IFERROR(ROUND(G25/Y14,-1)/1000,\"\")","v":""},null,"土地評価額",null,null,null,null,null,{"$f":"G20*1000*G14/0.8","v":0},null,null,null,"（坪単価）",null,null,{"$f":"IFERROR(ROUND(V25/J14,-1)/1000,\"\")","v":""}]
["借入額",null,null,null,null,null,null,null,null,null,"（自己資金比率）",null,null,{"$f":"IFERROR(1-(G26/G25),\"\")","v":""},null,"金利・返済期間",null,null,null,null,null,"金利",null,null,null,"返済期間"]
[]
["３.計画修繕（建物全体）（単位：万円）"]
[null,null,null,null,null,null,null,"主な工事内容",null,null,null,"修繕周期（目安）",null,null,"1-10年目",null,"11-15年目",null,"16-20年目",null,"21-25年目",null,"26-30年目",null,"31-35年目",null,"36-40年目"]
["建物本体","屋根・屋上",null,null,null,null,null,"防水・塗装・葺き替え",null,null,null,{"$f":"長期修繕計画書【入力シート】!E9","v":0},null,null,{"$f":"SUM(長期修繕計画書【入力シート】!H19:Q19)/10","v":0},null,{"$f":"SUM(長期修繕計画書【入力シート】!R19:V19)/10","v":0},null,{"$f":"SUM(長期修繕計画書【入力シート】!W19:AA19)/10","v":0},null,{"$f":"SUM(長期修繕計画書【入力シート】!AB19:AF19)/10","v":0},null,{"$f":"SUM(長期修繕計画書【入力シート】!AG19:AK19)/10","v":0},null,{"$f":"SUM(長期修繕計画書【入力シート】!AL19:AP19)/10","v":0},null,{"$f":"SUM(長期修繕計画書【入力シート】!AQ19:AU19)/10","v":0}]
[null,"廊下・階段・バルコニー",null,null,null,null,null,"防水・塗装",null,null,null,{"$f":"長期修繕計画書【入力シート】!E20","v":0},null,null,{"$f":"SUM(長期修繕計画書【入力シート】!H26:Q26)/10","v":0},null,{"$f":"SUM(長期修繕計画書【入力シート】!R26:V26)/10","v":0},null,{"$f":"SUM(長期修繕計画書【入力シート】!W26:AA26)/10","v":0},null,{"$f":"SUM(長期修繕計画書【入力シート】!AB26:AF26)/10","v":0},null,{"$f":"SUM(長期修繕計画書【入力シート】!AG26:AK26)/10","v":0},null,{"$f":"SUM(長期修繕計画書【入力シート】!AL26:AP26)/10","v":0},null,{"$f":"SUM(長期修繕計画書【入力シート】!AQ26:AU26)/10","v":0}]
[null,"外壁",null,null,null,null,null,"タイル張替・塗装",null,null,null,{"$f":"長期修繕計画書【入力シート】!E27","v":0},null,null,{"$f":"SUM(長期修繕計画書【入力シート】!H43:Q43)/10","v":0},null,{"$f":"SUM(長期修繕計画書【入力シート】!R43:V43)/10","v":0},null,{"$f":"SUM(長期修繕計画書【入力シート】!W43:AA43)/10","v":0},null,{"$f":"SUM(長期修繕計画書【入力シート】!AB43:AF43)/10","v":0},null,{"$f":"SUM(長期修繕計画書【入力シート】!AG43:AK43)/10","v":0},null,{"$f":"SUM(長期修繕計画書【入力シート】!AL43:AP43)/10","v":0},null,{"$f":"SUM(長期修繕計画書【入力シート】!AQ43:AU43)/10","v":0}]
[null,"鉄部・非鉄部塗装",null,null,null,null,null,"塗装",null,null,null,{"$f":"長期修繕計画書【入力シート】!E44","v":0},null,null,{"$f":"SUM(長期修繕計画書【入力シート】!H50:Q50,長期修繕計画書【入力シート】!H57:Q57)/10","v":0},null,{"$f":"SUM(長期修繕計画書【入力シート】!R50:V50,長期修繕計画書【入力シート】!R57:V57)/10","v":0},null,{"$f":"SUM(長期修繕計画書【入力シート】!W50:AA50,長期修繕計画書【入力シート】!W57:AA57)/10","v":0},null,{"$f":"SUM(長期修繕計画書【入力シート】!AB50:AF50,長期修繕計画書【入力シート】!AB57:AF57)/10","v":0},null,{"$f":"SUM(長期修繕計画書【入力シート】!AG50:AK50,長期修繕計画書【入力シート】!AG57:AK57)/10","v":0},null,{"$f":"SUM(長期修繕計画書【入力シート】!AL50:AP50,長期修繕計画書【入力シート】!AL57:AP57)/10","v":0},null,{"$f":"SUM(長期修繕計画書【入力シート】!AQ50:AU50,長期修繕計画書【入力シート】!AQ57:AU57)/10","v":0}]
[null,"白蟻対策",null,null,null,null,null,"白蟻対策",null,null,null,{"$f":"長期修繕計画書【入力シート】!E58","v":0},null,null,{"$f":"SUM(長期修繕計画書【入力シート】!H64:Q64)/10","v":0},null,{"$f":"SUM(長期修繕計画書【入力シート】!R64:V64)/10","v":0},null,{"$f":"SUM(長期修繕計画書【入力シート】!W64:AA64)/10","v":0},null,{"$f":"SUM(長期修繕計画書【入力シート】!AB64:AF64)/10","v":0},null,{"$f":"SUM(長期修繕計画書【入力シート】!AG64:AK64)/10","v":0},null,{"$f":"SUM(長期修繕計画書【入力シート】!AL64:AP64)/10","v":0},null,{"$f":"SUM(長期修繕計画書【入力シート】!AQ64:AU64)/10","v":0}]
[null,"足場仮設",null,null,null,null,null,"-",null,null,null,"-",null,null,{"$f":"SUM(長期修繕計画書【入力シート】!H71:Q71)/10","v":0},null,{"$f":"SUM(長期修繕計画書【入力シート】!R71:V71)/10","v":0},null,{"$f":"SUM(長期修繕計画書【入力シート】!W71:AA71)/10","v":0},null,{"$f":"SUM(長期修繕計画書【入力シート】!AB71:AF71)/10","v":0},null,{"$f":"SUM(長期修繕計画書【入力シート】!AG71:AK71)/10","v":0},null,{"$f":"SUM(長期修繕計画書【入力シート】!AL71:AP71)/10","v":0},null,{"$f":"SUM(長期修繕計画書【入力シート】!AQ71:AU71)/10","v":0}]
[null,"その他",null,null,null,null,null,"-",null,null,null,"-",null,null,{"$f":"SUM(長期修繕計画書【入力シート】!H78:Q78)/10","v":0},null,{"$f":"SUM(長期修繕計画書【入力シート】!R78:V78)/10","v":0},null,{"$f":"SUM(長期修繕計画書【入力シート】!W78:AA78)/10","v":0},null,{"$f":"SUM(長期修繕計画書【入力シート】!AB78:AF78)/10","v":0},null,{"$f":"SUM(長期修繕計画書【入力シート】!AG78:AK78)/10","v":0},null,{"$f":"SUM(長期修繕計画書【入力シート】!AL78:AP78)/10","v":0},null,{"$f":"SUM(長期修繕計画書【入力シート】!AQ78:AU78)/10","v":0}]
["共用設備","電気設備",null,null,null,null,null,"修理・交換",null,null,null,{"$f":"長期修繕計画書【入力シート】!E88","v":0},null,null,{"$f":"SUM(長期修繕計画書【入力シート】!H94:Q94)/10","v":0},null,{"$f":"SUM(長期修繕計画書【入力シート】!R94:V94)/10","v":0},null,{"$f":"SUM(長期修繕計画書【入力シート】!W94:AA94)/10","v":0},null,{"$f":"SUM(長期修繕計画書【入力シート】!AB94:AF94)/10","v":0},null,{"$f":"SUM(長期修繕計画書【入力シート】!AG94:AK94)/10","v":0},null,{"$f":"SUM(長期修繕計画書【入力シート】!AL94:AP94)/10","v":0},null,{"$f":"SUM(長期修繕計画書【入力シート】!AQ94:AU94)/10","v":0}]
[null,"給排水管",null,null,null,null,null,"修理・交換",null,null,null,{"$f":"長期修繕計画書【入力シート】!E79","v":0},null,null,{"$f":"SUM(長期修繕計画書【入力シート】!H87:Q87)/10","v":0},null,{"$f":"SUM(長期修繕計画書【入力シート】!R87:V87)/10","v":0},null,{"$f":"SUM(長期修繕計画書【入力シート】!W87:AA87)/10","v":0},null,{"$f":"SUM(長期修繕計画書【入力シート】!AB87:AF87)/10","v":0},null,{"$f":"SUM(長期修繕計画書【入力シート】!AG87:AK87)/10","v":0},null,{"$f":"SUM(長期修繕計画書【入力シート】!AL87:AP87)/10","v":0},null,{"$f":"SUM(長期修繕計画書【入力シート】!AQ87:AU87)/10","v":0}]
[null,"給水・消防設備",null,null,null,null,null,"修理・交換",null,null,null,{"$f":"長期修繕計画書【入力シート】!E95","v":0},null,null,{"$f":"SUM(長期修繕計画書【入力シート】!H101:Q101)/10","v":0},null,{"$f":"SUM(長期修繕計画書【入力シート】!R101:V101)/10","v":0},null,{"$f":"SUM(長期修繕計画書【入力シート】!W101:AA101)/10","v":0},null,{"$f":"SUM(長期修繕計画書【入力シート】!AB101:AF101)/10","v":0},null,{"$f":"SUM(長期修繕計画書【入力シート】!AG101:AK101)/10","v":0},null,{"$f":"SUM(長期修繕計画書【入力シート】!AL101:AP101)/10","v":0},null,{"$f":"SUM(長期修繕計画書【入力シート】!AQ101:AU101)/10","v":0}]
[null,"排水・浄化槽設備",null,null,null,null,null,"修理・交換",null,null,null,{"$f":"長期修繕計画書【入力シート】!E102","v":0},null,null,{"$f":"SUM(長期修繕計画書【入力シート】!H106:Q106)/10","v":0},null,{"$f":"SUM(長期修繕計画書【入力シート】!R106:V106)/10","v":0},null,{"$f":"SUM(長期修繕計画書【入力シート】!W106:AA106)/10","v":0},null,{"$f":"SUM(長期修繕計画書【入力シート】!AB106:AF106)/10","v":0},null,{"$f":"SUM(長期修繕計画書【入力シート】!AG106:AK106)/10","v":0},null,{"$f":"SUM(長期修繕計画書【入力シート】!AL106:AP106)/10","v":0},null,{"$f":"SUM(長期修繕計画書【入力シート】!AQ106:AU106)/10","v":0}]
[null,"エレベーター",null,null,null,null,null,"修理・交換",null,null,null,{"$f":"長期修繕計画書【入力シート】!E107","v":0},null,null,{"$f":"SUM(長期修繕計画書【入力シート】!H111:Q111)/10","v":0},null,{"$f":"SUM(長期修繕計画書【入力シート】!R111:V111)/10","v":0},null,{"$f":"SUM(長期修繕計画書【入力シート】!W111:AA111)/10","v":0},null,{"$f":"SUM(長期修繕計画書【入力シート】!AB111:AF111)/10","v":0},null,{"$f":"SUM(長期修繕計画書【入力シート】!AG111:AK111)/10","v":0},null,{"$f":"SUM(長期修繕計画書【入力シート】!AL111:AP111)/10","v":0},null,{"$f":"SUM(長期修繕計画書【入力シート】!AQ111:AU111)/10","v":0}]
[null,"外構(フェンス、駐輪場等)・その他",null,null,null,null,null,"修理・交換",null,null,null,{"$f":"長期修繕計画書【入力シート】!E112","v":0},null,null,{"$f":"SUM(長期修繕計画書【入力シート】!H118:Q118)/10","v":0},null,{"$f":"SUM(長期修繕計画書【入力シート】!R118:V118)/10","v":0},null,{"$f":"SUM(長期修繕計画書【入力シート】!W118:AA118)/10","v":0},null,{"$f":"SUM(長期修繕計画書【入力シート】!AB118:AF118)/10","v":0},null,{"$f":"SUM(長期修繕計画書【入力シート】!AG118:AK118)/10","v":0},null,{"$f":"SUM(長期修繕計画書【入力シート】!AL118:AP118)/10","v":0},null,{"$f":"SUM(長期修繕計画書【入力シート】!AQ118:AU118)/10","v":0}]
[null,"日常修繕・点検",null,null,null,null,null,"日常修繕・点検・清掃",null,null,null,"毎年",null,null,{"$f":"SUM(長期修繕計画書【入力シート】!H135:Q135)/10","v":0},null,{"$f":"SUM(長期修繕計画書【入力シート】!R135:V135)/10","v":0},null,{"$f":"SUM(長期修繕計画書【入力シート】!W135:AA135)/10","v":0},null,{"$f":"SUM(長期修繕計画書【入力シート】!AB135:AF135)/10","v":0},null,{"$f":"SUM(長期修繕計画書【入力シート】!AG135:AK135)/10","v":0},null,{"$f":"SUM(長期修繕計画書【入力シート】!AL135:AP135)/10","v":0},null,{"$f":"SUM(長期修繕計画書【入力シート】!AQ135:AU135)/10","v":0}]
[null,"経費・消費税",null,null,null,null,null,"-",null,null,null,"-",null,null,{"$f":"SUM(長期修繕計画書【入力シート】!H142:Q142)/10","v":0},null,{"$f":"SUM(長期修繕計画書【入力シート】!R142:V142)/10","v":0},null,{"$f":"SUM(長期修繕計画書【入力シート】!W142:AA142)/10","v":0},null,{"$f":"SUM(長期修繕計画書【入力シート】!AB142:AF142)/10","v":0},null,{"$f":"SUM(長期修繕計画書【入力シート】!AG142:AK142)/10","v":0},null,{"$f":"SUM(長期修繕計画書【入力シート】!AL142:AP142)/10","v":0},null,{"$f":"SUM(長期修繕計画書【入力シート】!AQ142:AU142)/10","v":0}]
["小　　　計（建物全体）",null,null,null,null,null,null,null,null,null,null,null,null,null,{"$f":"SUM(O30:P44)","v":0},null,{"$f":"SUM(Q30:R44)","v":0},null,{"$f":"SUM(S30:T44)","v":0},null,{"$f":"SUM(U30:V44)","v":0},null,{"$f":"SUM(W30:X44)","v":0},null,{"$f":"SUM(Y30:Z44)","v":0},null,{"$f":"SUM(AA30:AB44)","v":0}]
["室内設備",{"$f":"長期修繕計画書【入力シート】!B146","v":"給湯、風呂釜"},null,null,null,null,null,"修理・交換",null,null,null,{"$f":"長期修繕計画書【入力シート】!C146","v":0},null,null,{"$f":"SUM(長期修繕計画書【入力シート】!H146:Q146)/10","v":0},null,{"$f":"SUM(長期修繕計画書【入力シート】!R146:V146)/10","v":0},null,{"$f":"SUM(長期修繕計画書【入力シート】!W146:AA146)/10","v":0},null,{"$f":"SUM(長期修繕計画書【入力シート】!AB146:AF146)/10","v":0},null,{"$f":"SUM(長期修繕計画書【入力シート】!AG146:AK146)/10","v":0},null,{"$f":"SUM(長期修繕計画書【入力シート】!AL146:AP146)/10","v":0},null,{"$f":"SUM(長期修繕計画書【入力シート】!AQ146:AU146)/10","v":0}]
[null,{"$f":"長期修繕計画書【入力シート】!B147","v":"エアコン"},null,null,null,null,null,"修理・交換",null,null,null,{"$f":"長期修繕計画書【入力シート】!C147","v":0},null,null,{"$f":"SUM(長期修繕計画書【入力シート】!H147:Q147)/10","v":0},null,{"$f":"SUM(長期修繕計画書【入力シート】!R147:V147)/10","v":0},null,{"$f":"SUM(長期修繕計画書【入力シート】!W147:AA147)/10","v":0},null,{"$f":"SUM(長期修繕計画書【入力シート】!AB147:AF147)/10","v":0},null,{"$f":"SUM(長期修繕計画書【入力シート】!AG147:AK147)/10","v":0},null,{"$f":"SUM(長期修繕計画書【入力シート】!AL147:AP147)/10","v":0},null,{"$f":"SUM(長期修繕計画書【入力シート】!AQ147:AU147)/10","v":0}]
[null,{"$f":"長期修繕計画書【入力シート】!B148","v":"浴室設備"},null,null,null,null,null,"修理・交換",null,null,null,{"$f":"長期修繕計画書【入力シート】!C148","v":0},null,null,{"$f":"SUM(長期修繕計画書【入力シート】!H148:Q148)/10","v":0},null,{"$f":"SUM(長期修繕計画書【入力シート】!R148:V148)/10","v":0},null,{"$f":"SUM(長期修繕計画書【入力シート】!W148:AA148)/10","v":0},null,{"$f":"SUM(長期修繕計画書【入力シート】!AB148:AF148)/10","v":0},null,{"$f":"SUM(長期修繕計画書【入力シート】!AG148:AK148)/10","v":0},null,{"$f":"SUM(長期修繕計画書【入力シート】!AL148:AP148)/10","v":0},null,{"$f":"SUM(長期修繕計画書【入力シート】!AQ148:AU148)/10","v":0}]
[null,{"$f":"長期修繕計画書【入力シート】!B149","v":"厨房設備"},null,null,null,null,null,"修理・交換",null,null,null,{"$f":"長期修繕計画書【入力シート】!C149","v":0},null,null,{"$f":"SUM(長期修繕計画書【入力シート】!H149:Q149)/10","v":0},null,{"$f":"SUM(長期修繕計画書【入力シート】!R149:V149)/10","v":0},null,{"$f":"SUM(長期修繕計画書【入力シート】!W149:AA149)/10","v":0},null,{"$f":"SUM(長期修繕計画書【入力シート】!AB149:AF149)/10","v":0},null,{"$f":"SUM(長期修繕計画書【入力シート】!AG149:AK149)/10","v":0},null,{"$f":"SUM(長期修繕計画書【入力シート】!AL149:AP149)/10","v":0},null,{"$f":"SUM(長期修繕計画書【入力シート】!AQ149:AU149)/10","v":0}]
[null,{"$f":"長期修繕計画書【入力シート】!B150","v":"洗面化粧台"},null,null,null,null,null,"修理・交換",null,null,null,{"$f":"長期修繕計画書【入力シート】!C150","v":0},null,null,{"$f":"SUM(長期修繕計画書【入力シート】!H150:Q150)/10","v":0},null,{"$f":"SUM(長期修繕計画書【入力シート】!R150:V150)/10","v":0},null,{"$f":"SUM(長期修繕計画書【入力シート】!W150:AA150)/10","v":0},null,{"$f":"SUM(長期修繕計画書【入力シート】!AB150:AF150)/10","v":0},null,{"$f":"SUM(長期修繕計画書【入力シート】!AG150:AK150)/10","v":0},null,{"$f":"SUM(長期修繕計画書【入力シート】!AL150:AP150)/10","v":0},null,{"$f":"SUM(長期修繕計画書【入力シート】!AQ150:AU150)/10","v":0}]
[null,{"$f":"長期修繕計画書【入力シート】!B151","v":"トイレ"},null,null,null,null,null,"修理・交換",null,null,null,{"$f":"長期修繕計画書【入力シート】!C151","v":0},null,null,{"$f":"SUM(長期修繕計画書【入力シート】!H151:Q151)/10","v":0},null,{"$f":"SUM(長期修繕計画書【入力シート】!R151:V151)/10","v":0},null,{"$f":"SUM(長期修繕計画書【入力シート】!W151:AA151)/10","v":0},null,{"$f":"SUM(長期修繕計画書【入力シート】!AB151:AF151)/10","v":0},null,{"$f":"SUM(長期修繕計画書【入力シート】!AG151:AK151)/10","v":0},null,{"$f":"SUM(長期修繕計画書【入力シート】!AL151:AP151)/10","v":0},null,{"$f":"SUM(長期修繕計画書【入力シート】!AQ151:AU151)/10","v":0}]
[null,{"$f":"長期修繕計画書【入力シート】!B152","v":"日常修繕"},null,null,null,null,null,"日常修理",null,null,null,{"$f":"長期修繕計画書【入力シート】!C152","v":"毎年"},null,null,{"$f":"SUM(長期修繕計画書【入力シート】!H152:Q152)/10","v":0},null,{"$f":"SUM(長期修繕計画書【入力シート】!R152:V152)/10","v":0},null,{"$f":"SUM(長期修繕計画書【入力シート】!W152:AA152)/10","v":0},null,{"$f":"SUM(長期修繕計画書【入力シート】!AB152:AF152)/10","v":0},null,{"$f":"SUM(長期修繕計画書【入力シート】!AG152:AK152)/10","v":0},null,{"$f":"SUM(長期修繕計画書【入力シート】!AL152:AP152)/10","v":0},null,{"$f":"SUM(長期修繕計画書【入力シート】!AQ152:AU152)/10","v":0}]
["小　　　計（建物全体）",null,null,null,null,null,null,null,null,null,null,null,null,null,{"$f":"SUM(O46:P51)","v":0},null,{"$f":"SUM(Q46:R51)","v":0},null,{"$f":"SUM(S46:T51)","v":0},null,{"$f":"SUM(U46:V51)","v":0},null,{"$f":"SUM(W46:X51)","v":0},null,{"$f":"SUM(Y46:Z51)","v":0},null,{"$f":"SUM(AA46:AB51)","v":0}]
["　　　　　（戸あたり）",null,null,null,null,null,null,null,null,null,null,null,null,null,{"$f":"O53/$G$15","v":{"$error":"#DIV/0!"}},null,{"$f":"Q53/$G$15","v":{"$error":"#DIV/0!"}},null,{"$f":"S53/$G$15","v":{"$error":"#DIV/0!"}},null,{"$f":"U53/$G$15","v":{"$error":"#DIV/0!"}},null,{"$f":"W53/$G$15","v":{"$error":"#DIV/0!"}},null,{"$f":"Y53/$G$15","v":{"$error":"#DIV/0!"}},null,{"$f":"AA53/$G$15","v":{"$error":"#DIV/0!"}}]
["合　　　計（建物全体）",null,null,null,null,null,null,null,null,null,null,null,null,null,{"$f":"SUM(O45,O53)","v":0},null,{"$f":"SUM(Q45,Q53)","v":0},null,{"$f":"SUM(S45,S53)","v":0},null,{"$f":"SUM(U45,U53)","v":0},null,{"$f":"SUM(W45,W53)","v":0},null,{"$f":"SUM(Y45,Y53)","v":0},null,{"$f":"SUM(AA45,AA53)","v":0}]
["(注)これらは随時対応が必要な費用のため、計画的に修繕する費用をまとめた本表には含まないが、「キャッシュフロー表」では「修繕費(小修繕(故障対応))」として平準化して計上）"]
["４.想定建物売却価格（IRR算出用）"]
["10年目",null,null,{"$f":"ROUNDUP(G25*82.2%,-5)","v":0},null,null,null,"（増減率）",null,null,{"$f":"IFERROR((D58-G25)/G25,\"\")","v":""},null,null,"30年目",null,null,{"$f":"ROUNDUP(G25*40.3%,-5)","v":0},null,null,null,"（増減率）",null,null,{"$f":"IFERROR((Q58-G25)/G25,\"\")","v":""}]
["（参考）中古マンションの売却価格指数は、新築価格を100とした場合、築10年で82.2、築30年で40.3（「築年数からみた首都圏の不動産流通市場(2016年)」（東日本レインズ）参照）\n"]
["■試算結果"]
[]
["利回り(40年通算)",null,null,null,null,null,null,null,null,null,null,null,"IRR（内部収益率）",null,null,null,null,null,"収支（40年通算）"]
["表面利回り",null,null,null,"NOI",null,null,null,"実質利回り",null,null,null,"10年目",null,null,"30年目",null,null,"総家賃収入",null,null,null,"総支出",null,null,null,"手元資金残高",null,null,null,"損益分岐点"]
[{"$f":"IFERROR((S64*10000)/$G$25/40,\"\")","v":""},null,null,null,{"$f":"IFERROR(((S64-キャッシュフロー表!AS69)*10000)/$G$25/40,\"\")","v":""},null,null,null,{"$f":"IFERROR((キャッシュフロー表!$AS$34*10000)/G25/40,\"\")","v":""},null,null,null,{"$f":"IFERROR(IF(D58=\"\",\"\",IRR(キャッシュフロー表!E49:P49)),\"\")","v":""},null,null,{"$f":"IFERROR(IF(Q58=\"\",\"\",IRR(キャッシュフロー表!E48:AJ48)),\"\")","v":""},null,null,{"$f":"IFERROR(キャッシュフロー表!$AS$58,\"\")","v":""},null,null,null,{"$f":"IFERROR(キャッシュフロー表!$AS$61,\"\")","v":""},null,null,null,{"$f":"IFERROR(キャッシュフロー表!$AS$62,\"\")","v":""},null,null,null,{"$f":"COUNTIF(キャッシュフロー表!F35:BM35,\"<0\")","v":0}]
[]
[]
[]
[]
[]
[]
[]
[]
[]
[]
[]
[]
[]
[]
["■キャッシュフロー表　（単位:万円）"]
[null,null,null,null,null,null,null,null,null,null,"初期投資",null,1,null,"2-5年目",null,"6-10年目",null,"11-15年目",null,"16-20年目",null,"21-25年目",null,"26-30年目",null,"31-35年目",null,"36-40年目"]
["収支計算","収入","家賃収入",null,null,null,null,null,null,null,null,null,{"$f":"キャッシュフロー表!F3","v":0},null,{"$f":"SUM(キャッシュフロー表!G3:J3)","v":{"$error":"#N/A"}},null,{"$f":"SUM(キャッシュフロー表!K3:O3)","v":{"$error":"#N/A"}},null,{"$f":"SUM(キャッシュフロー表!P3:T3)","v":{"$error":"#N/A"}},null,{"$f":"SUM(キャッシュフロー表!U3:Y3)","v":{"$error":"#N/A"}},null,{"$f":"SUM(キャッシュフロー表!Z3:AD3)","v":{"$error":"#N/A"}},null,{"$f":"SUM(キャッシュフロー表!AE3:AI3)","v":{"$error":"#N/A"}},null,{"$f":"SUM(キャッシュフロー表!AJ3:AN3)","v":{"$error":"#N/A"}},null,{"$f":"SUM(キャッシュフロー表!AO3:AS3)","v":{"$error":"#N/A"}}]
[null,null,"銀行借入",null,null,null,null,null,null,null,{"$f":"キャッシュフロー表!E4","v":0},null,{"$f":"キャッシュフロー表!F4","v":0},null,{"$f":"SUM(キャッシュフロー表!G4:J4)","v":0},null,{"$f":"SUM(キャッシュフロー表!K4:O4)","v":0},null,{"$f":"SUM(キャッシュフロー表!P4:T4)","v":0},null,{"$f":"SUM(キャッシュフロー表!U4:Y4)","v":0},null,{"$f":"SUM(キャッシュフロー表!Z4:AD4)","v":0},null,{"$f":"SUM(キャッシュフロー表!AE4:AI4)","v":0},null,{"$f":"SUM(キャッシュフロー表!AJ4:AN4)","v":0},null,{"$f":"SUM(キャッシュフロー表!AO4:AS4)","v":0}]
[null,null,"自己資金",null,null,null,null,null,null,null,{"$f":"キャッシュフロー表!E5","v":0},null,{"$f":"キャッシュフロー表!F5","v":0},null,{"$f":"SUM(キャッシュフロー表!G5:J5)","v":0},null,{"$f":"SUM(キャッシュフロー表!K5:O5)","v":0},null,{"$f":"SUM(キャッシュフロー表!P5:T5)","v":0},null,{"$f":"SUM(キャッシュフロー表!U5:Y5)","v":0},null,{"$f":"SUM(キャッシュフロー表!Z5:AD5)","v":0},null,{"$f":"SUM(キャッシュフロー表!AE5:AI5)","v":0},null,{"$f":"SUM(キャッシュフロー表!AJ5:AN5)","v":0},null,{"$f":"SUM(キャッシュフロー表!AO5:AS5)","v":0}]
[null,null,"収入計",null,null,null,null,null,null,null,{"$f":"キャッシュフロー表!E6","v":0},null,{"$f":"キャッシュフロー表!F6","v":0},null,{"$f":"SUM(キャッシュフロー表!G6:J6)","v":{"$error":"#N/A"}},null,{"$f":"SUM(キャッシュフロー表!K6:O6)","v":{"$error":"#N/A"}},null,{"$f":"SUM(キャッシュフロー表!P6:T6)","v":{"$error":"#N/A"}},null,{"$f":"SUM(キャッシュフロー表!U6:Y6)","v":{"$error":"#N/A"}},null,{"$f":"SUM(キャッシュフロー表!Z6:AD6)","v":{"$error":"#N/A"}},null,{"$f":"SUM(キャッシュフロー表!AE6:AI6)","v":{"$error":"#N/A"}},null,{"$f":"SUM(キャッシュフロー表!AJ6:AN6)","v":{"$error":"#N/A"}},null,{"$f":"SUM(キャッシュフロー表!AO6:AS6)","v":{"$error":"#N/A"}}]
[null,"支出","建物建設費（初期投資）",null,null,null,null,null,null,null,{"$f":"キャッシュフロー表!E7","v":0},null,{"$f":"キャッシュフロー表!F7","v":0},null,{"$f":"SUM(キャッシュフロー表!G7:J7)","v":0},null,{"$f":"SUM(キャッシュフロー表!K7:O7)","v":0},null,{"$f":"SUM(キャッシュフロー表!P7:T7)","v":0},null,{"$f":"SUM(キャッシュフロー表!U7:Y7)","v":0},null,{"$f":"SUM(キャッシュフロー表!Z7:AD7)","v":0},null,{"$f":"SUM(キャッシュフロー表!AE7:AI7)","v":0},null,{"$f":"SUM(キャッシュフロー表!AJ7:AN7)","v":0},null,{"$f":"SUM(キャッシュフロー表!AO7:AS7)","v":0}]
[null,null,"建物管理費（募集・管理委託等）",null,null,null,null,null,null,null,null,null,{"$f":"キャッシュフロー表!F8","v":0},null,{"$f":"SUM(キャッシュフロー表!G8:J8)","v":{"$error":"#N/A"}},null,{"$f":"SUM(キャッシュフロー表!K8:O8)","v":{"$error":"#N/A"}},null,{"$f":"SUM(キャッシュフロー表!P8:T8)","v":{"$error":"#N/A"}},null,{"$f":"SUM(キャッシュフロー表!U8:Y8)","v":{"$error":"#N/A"}},null,{"$f":"SUM(キャッシュフロー表!Z8:AD8)","v":{"$error":"#N/A"}},null,{"$f":"SUM(キャッシュフロー表!AE8:AI8)","v":{"$error":"#N/A"}},null,{"$f":"SUM(キャッシュフロー表!AJ8:AN8)","v":{"$error":"#N/A"}},null,{"$f":"SUM(キャッシュフロー表!AO8:AS8)","v":{"$error":"#N/A"}}]
[null,null,"保険料",null,null,null,null,null,null,null,null,null,{"$f":"キャッシュフロー表!F9","v":{"$error":"#N/A"}},null,{"$f":"SUM(キャッシュフロー表!G9:J9)","v":{"$error":"#N/A"}},null,{"$f":"SUM(キャッシュフロー表!K9:O9)","v":{"$error":"#N/A"}},null,{"$f":"SUM(キャッシュフロー表!P9:T9)","v":{"$error":"#N/A"}},null,{"$f":"SUM(キャッシュフロー表!U9:Y9)","v":{"$error":"#N/A"}},null,{"$f":"SUM(キャッシュフロー表!Z9:AD9)","v":{"$error":"#N/A"}},null,{"$f":"SUM(キャッシュフロー表!AE9:AI9)","v":{"$error":"#N/A"}},null,{"$f":"SUM(キャッシュフロー表!AJ9:AN9)","v":{"$error":"#N/A"}},null,{"$f":"SUM(キャッシュフロー表!AO9:AS9)","v":{"$error":"#N/A"}}]
[null,null,"原状回復費",null,null,null,null,null,null,null,null,null,{"$f":"キャッシュフロー表!F10","v":{"$error":"#VALUE!"}},null,{"$f":"SUM(キャッシュフロー表!G10:J10)","v":{"$error":"#VALUE!"}},null,{"$f":"SUM(キャッシュフロー表!K10:O10)","v":{"$error":"#VALUE!"}},null,{"$f":"SUM(キャッシュフロー表!P10:T10)","v":{"$error":"#VALUE!"}},null,{"$f":"SUM(キャッシュフロー表!U10:Y10)","v":{"$error":"#VALUE!"}},null,{"$f":"SUM(キャッシュフロー表!Z10:AD10)","v":{"$error":"#VALUE!"}},null,{"$f":"SUM(キャッシュフロー表!AE10:AI10)","v":{"$error":"#VALUE!"}},null,{"$f":"SUM(キャッシュフロー表!AJ10:AN10)","v":{"$error":"#VALUE!"}},null,{"$f":"SUM(キャッシュフロー表!AO10:AS10)","v":{"$error":"#VALUE!"}}]
[null,null,"修繕費(小修繕(故障対応))",null,null,null,null,null,null,null,null,null,{"$f":"キャッシュフロー表!F11","v":0},null,{"$f":"SUM(キャッシュフロー表!G11:J11)","v":0},null,{"$f":"SUM(キャッシュフロー表!K11:O11)","v":0},null,{"$f":"SUM(キャッシュフロー表!P11:T11)","v":0},null,{"$f":"SUM(キャッシュフロー表!U11:Y11)","v":0},null,{"$f":"SUM(キャッシュフロー表!Z11:AD11)","v":0},null,{"$f":"SUM(キャッシュフロー表!AE11:AI11)","v":0},null,{"$f":"SUM(キャッシュフロー表!AJ11:AN11)","v":0},null,{"$f":"SUM(キャッシュフロー表!AO11:AS11)","v":0}]
[null,null,"修繕費(計画修繕)",null,null,null,null,null,null,null,null,null,{"$f":"キャッシュフロー表!F12","v":0},null,{"$f":"SUM(キャッシュフロー表!G12:J12)","v":0},null,{"$f":"SUM(キャッシュフロー表!K12:O12)","v":0},null,{"$f":"SUM(キャッシュフロー表!P12:T12)","v":0},null,{"$f":"SUM(キャッシュフロー表!U12:Y12)","v":0},null,{"$f":"SUM(キャッシュフロー表!Z12:AD12)","v":0},null,{"$f":"SUM(キャッシュフロー表!AE12:AI12)","v":0},null,{"$f":"SUM(キャッシュフロー表!AJ12:AN12)","v":0},null,{"$f":"SUM(キャッシュフロー表!AO12:AS12)","v":0}]
[null,null,"固定資産税・都市計画税",null,null,null,null,null,null,null,null,null,{"$f":"キャッシュフロー表!F13+キャッシュフロー表!F14","v":{"$error":"#N/A"}},null,{"$f":"SUM(キャッシュフロー表!G13:J13,キャッシュフロー表!G14:J14)","v":{"$error":"#N/A"}},null,{"$f":"SUM(キャッシュフロー表!K13:O13,キャッシュフロー表!K14:O14)","v":{"$error":"#N/A"}},null,{"$f":"SUM(キャッシュフロー表!P13:T13,キャッシュフロー表!P14:T14)","v":{"$error":"#N/A"}},null,{"$f":"SUM(キャッシュフロー表!U13:Y13,キャッシュフロー表!U14:Y14)","v":{"$error":"#N/A"}},null,{"$f":"SUM(キャッシュフロー表!Z13:AD13,キャッシュフロー表!Z14:AD14)","v":{"$error":"#N/A"}},null,{"$f":"SUM(キャッシュフロー表!AE13:AI13,キャッシュフロー表!AE14:AI14)","v":{"$error":"#N/A"}},null,{"$f":"SUM(キャッシュフロー表!AJ13:AN13,キャッシュフロー表!AJ14:AN14)","v":{"$error":"#N/A"}},null,{"$f":"SUM(キャッシュフロー表!AO13:AS13,キャッシュフロー表!AO14:AS14)","v":{"$error":"#N/A"}}]
[null,null,"借入金返済",null,null,null,null,null,null,null,null,null,{"$f":"キャッシュフロー表!F15","v":0},null,{"$f":"SUM(キャッシュフロー表!G15:J15)","v":0},null,{"$f":"SUM(キャッシュフロー表!K15:O15)","v":0},null,{"$f":"SUM(キャッシュフロー表!P15:T15)","v":0},null,{"$f":"SUM(キャッシュフロー表!U15:Y15)","v":0},null,{"$f":"SUM(キャッシュフロー表!Z15:AD15)","v":0},null,{"$f":"SUM(キャッシュフロー表!AE15:AI15)","v":0},null,{"$f":"SUM(キャッシュフロー表!AJ15:AN15)","v":0},null,{"$f":"SUM(キャッシュフロー表!AO15:AS15)","v":0}]
[null,null,"所得税等",null,null,null,null,null,null,null,null,null,{"$f":"キャッシュフロー表!F16","v":{"$error":"#N/A"}},null,{"$f":"SUM(キャッシュフロー表!G16:J16)","v":{"$error":"#N/A"}},null,{"$f":"SUM(キャッシュフロー表!K16:O16)","v":{"$error":"#N/A"}},null,{"$f":"SUM(キャッシュフロー表!P16:T16)","v":{"$error":"#N/A"}},null,{"$f":"SUM(キャッシュフロー表!U16:Y16)","v":{"$error":"#N/A"}},null,{"$f":"SUM(キャッシュフロー表!Z16:AD16)","v":{"$error":"#N/A"}},null,{"$f":"SUM(キャッシュフロー表!AE16:AI16)","v":{"$error":"#N/A"}},null,{"$f":"SUM(キャッシュフロー表!AJ16:AN16)","v":{"$error":"#N/A"}},null,{"$f":"SUM(キャッシュフロー表!AO16:AS16)","v":{"$error":"#N/A"}}]
[null,null,"支出計",null,null,null,null,null,null,null,{"$f":"キャッシュフロー表!E17","v":0},null,{"$f":"キャッシュフロー表!F17","v":{"$error":"#N/A"}},null,{"$f":"SUM(キャッシュフロー表!G17:J17)","v":{"$error":"#N/A"}},null,{"$f":"SUM(キャッシュフロー表!K17:O17)","v":{"$error":"#N/A"}},null,{"$f":"SUM(キャッシュフロー表!P17:T17)","v":{"$error":"#N/A"}},null,{"$f":"SUM(キャッシュフロー表!U17:Y17)","v":{"$error":"#N/A"}},null,{"$f":"SUM(キャッシュフロー表!Z17:AD17)","v":{"$error":"#N/A"}},null,{"$f":"SUM(キャッシュフロー表!AE17:AI17)","v":{"$error":"#N/A"}},null,{"$f":"SUM(キャッシュフロー表!AJ17:AN17)","v":{"$error":"#N/A"}},null,{"$f":"SUM(キャッシュフロー表!AO17:AS17)","v":{"$error":"#N/A"}}]
[null,"収支","手元資金残金（年）",null,null,null,null,null,null,null,{"$f":"キャッシュフロー表!E18","v":0},null,{"$f":"キャッシュフロー表!F18","v":{"$error":"#N/A"}},null,{"$f":"SUM(キャッシュフロー表!G18:J18)","v":{"$error":"#N/A"}},null,{"$f":"SUM(キャッシュフロー表!K18:O18)","v":{"$error":"#N/A"}},null,{"$f":"SUM(キャッシュフロー表!P18:T18)","v":{"$error":"#N/A"}},null,{"$f":"SUM(キャッシュフロー表!U18:Y18)","v":{"$error":"#N/A"}},null,{"$f":"SUM(キャッシュフロー表!Z18:AD18)","v":{"$error":"#N/A"}},null,{"$f":"SUM(キャッシュフロー表!AE18:AI18)","v":{"$error":"#N/A"}},null,{"$f":"SUM(キャッシュフロー表!AJ18:AN18)","v":{"$error":"#N/A"}},null,{"$f":"SUM(キャッシュフロー表!AO18:AS18)","v":{"$error":"#N/A"}}]
[null,null,"手元資金残金（累計）",null,null,null,null,null,null,null,{"$f":"キャッシュフロー表!E19","v":0},null,{"$f":"K96+M95","v":{"$error":"#N/A"}},null,{"$f":"M96+O95","v":{"$error":"#N/A"}},null,{"$f":"O96+Q95","v":{"$error":"#N/A"}},null,{"$f":"Q96+S95","v":{"$error":"#N/A"}},null,{"$f":"S96+U95","v":{"$error":"#N/A"}},null,{"$f":"U96+W95","v":{"$error":"#N/A"}},null,{"$f":"W96+Y95","v":{"$error":"#N/A"}},null,{"$f":"Y96+AA95","v":{"$error":"#N/A"}},null,{"$f":"AA96+AC95","v":{"$error":"#N/A"}}]
["P/L（損益計算）","収益（収入）",null,null,null,null,null,null,null,null,null,null,{"$f":"キャッシュフロー表!F20","v":0},null,{"$f":"SUM(キャッシュフロー表!G20:J20)","v":{"$error":"#N/A"}},null,{"$f":"SUM(キャッシュフロー表!K20:O20)","v":{"$error":"#N/A"}},null,{"$f":"SUM(キャッシュフロー表!P20:T20)","v":{"$error":"#N/A"}},null,{"$f":"SUM(キャッシュフロー表!U20:Y20)","v":{"$error":"#N/A"}},null,{"$f":"SUM(キャッシュフロー表!Z20:AD20)","v":{"$error":"#N/A"}},null,{"$f":"SUM(キャッシュフロー表!AE20:AI20)","v":{"$error":"#N/A"}},null,{"$f":"SUM(キャッシュフロー表!AJ20:AN20)","v":{"$error":"#N/A"}},null,{"$f":"SUM(キャッシュフロー表!AO20:AS20)","v":{"$error":"#N/A"}}]
[null,"営業費用","建物管理費（募集・管理委託等）",null,null,null,null,null,null,null,null,null,{"$f":"キャッシュフロー表!F21","v":0},null,{"$f":"SUM(キャッシュフロー表!G21:J21)","v":{"$error":"#N/A"}},null,{"$f":"SUM(キャッシュフロー表!K21:O21)","v":{"$error":"#N/A"}},null,{"$f":"SUM(キャッシュフロー表!P21:T21)","v":{"$error":"#N/A"}},null,{"$f":"SUM(キャッシュフロー表!U21:Y21)","v":{"$error":"#N/A"}},null,{"$f":"SUM(キャッシュフロー表!Z21:AD21)","v":{"$error":"#N/A"}},null,{"$f":"SUM(キャッシュフロー表!AE21:AI21)","v":{"$error":"#N/A"}},null,{"$f":"SUM(キャッシュフロー表!AJ21:AN21)","v":{"$error":"#N/A"}},null,{"$f":"SUM(キャッシュフロー表!AO21:AS21)","v":{"$error":"#N/A"}}]
[null,null,"保険料",null,null,null,null,null,null,null,null,null,{"$f":"キャッシュフロー表!F22","v":{"$error":"#N/A"}},null,{"$f":"SUM(キャッシュフロー表!G22:J22)","v":{"$error":"#N/A"}},null,{"$f":"SUM(キャッシュフロー表!K22:O22)","v":{"$error":"#N/A"}},null,{"$f":"SUM(キャッシュフロー表!P22:T22)","v":{"$error":"#N/A"}},null,{"$f":"SUM(キャッシュフロー表!U22:Y22)","v":{"$error":"#N/A"}},null,{"$f":"SUM(キャッシュフロー表!Z22:AD22)","v":{"$error":"#N/A"}},null,{"$f":"SUM(キャッシュフロー表!AE22:AI22)","v":{"$error":"#N/A"}},null,{"$f":"SUM(キャッシュフロー表!AJ22:AN22)","v":{"$error":"#N/A"}},null,{"$f":"SUM(キャッシュフロー表!AO22:AS22)","v":{"$error":"#N/A"}}]
[null,null,"原状回復費",null,null,null,null,null,null,null,null,null,{"$f":"キャッシュフロー表!F23","v":{"$error":"#VALUE!"}},null,{"$f":"SUM(キャッシュフロー表!G23:J23)","v":{"$error":"#VALUE!"}},null,{"$f":"SUM(キャッシュフロー表!K23:O23)","v":{"$error":"#VALUE!"}},null,{"$f":"SUM(キャッシュフロー表!P23:T23)","v":{"$error":"#VALUE!"}},null,{"$f":"SUM(キャッシュフロー表!U23:Y23)","v":{"$error":"#VALUE!"}},null,{"$f":"SUM(キャッシュフロー表!Z23:AD23)","v":{"$error":"#VALUE!"}},null,{"$f":"SUM(キャッシュフロー表!AE23:AI23)","v":{"$error":"#VALUE!"}},null,{"$f":"SUM(キャッシュフロー表!AJ23:AN23)","v":{"$error":"#VALUE!"}},null,{"$f":"SUM(キャッシュフロー表!AO23:AS23)","v":{"$error":"#VALUE!"}}]
[null,null,"修繕費",null,null,null,null,null,null,null,null,null,{"$f":"キャッシュフロー表!F24","v":0},null,{"$f":"SUM(キャッシュフロー表!G24:J24)","v":0},null,{"$f":"SUM(キャッシュフロー表!K24:O24)","v":0},null,{"$f":"SUM(キャッシュフロー表!P24:T24)","v":0},null,{"$f":"SUM(キャッシュフロー表!U24:Y24)","v":0},null,{"$f":"SUM(キャッシュフロー表!Z24:AD24)","v":0},null,{"$f":"SUM(キャッシュフロー表!AE24:AI24)","v":0},null,{"$f":"SUM(キャッシュフロー表!AJ24:AN24)","v":0},null,{"$f":"SUM(キャッシュフロー表!AO24:AS24)","v":0}]
[null,null,"固定資産税・都市計画税",null,null,null,null,null,null,null,null,null,{"$f":"キャッシュフロー表!F25","v":{"$error":"#N/A"}},null,{"$f":"SUM(キャッシュフロー表!G25:J25)","v":{"$error":"#N/A"}},null,{"$f":"SUM(キャッシュフロー表!K25:O25)","v":{"$error":"#N/A"}},null,{"$f":"SUM(キャッシュフロー表!P25:T25)","v":{"$error":"#N/A"}},null,{"$f":"SUM(キャッシュフロー表!U25:Y25)","v":{"$error":"#N/A"}},null,{"$f":"SUM(キャッシュフロー表!Z25:AD25)","v":{"$error":"#N/A"}},null,{"$f":"SUM(キャッシュフロー表!AE25:AI25)","v":{"$error":"#N/A"}},null,{"$f":"SUM(キャッシュフロー表!AJ25:AN25)","v":{"$error":"#N/A"}},null,{"$f":"SUM(キャッシュフロー表!AO25:AS25)","v":{"$error":"#N/A"}}]
[null,null,"営業費用計",null,null,null,null,null,null,null,null,null,{"$f":"キャッシュフロー表!F26","v":{"$error":"#N/A"}},null,{"$f":"SUM(キャッシュフロー表!G26:J26)","v":{"$error":"#N/A"}},null,{"$f":"SUM(キャッシュフロー表!K26:O26)","v":{"$error":"#N/A"}},null,{"$f":"SUM(キャッシュフロー表!P26:T26)","v":{"$error":"#N/A"}},null,{"$f":"SUM(キャッシュフロー表!U26:Y26)","v":{"$error":"#N/A"}},null,{"$f":"SUM(キャッシュフロー表!Z26:AD26)","v":{"$error":"#N/A"}},null,{"$f":"SUM(キャッシュフロー表!AE26:AI26)","v":{"$error":"#N/A"}},null,{"$f":"SUM(キャッシュフロー表!AJ26:AN26)","v":{"$error":"#N/A"}},null,{"$f":"SUM(キャッシュフロー表!AO26:AS26)","v":{"$error":"#N/A"}}]
[null,"償却前利益",null,null,null,null,null,null,null,null,null,null,{"$f":"キャッシュフロー表!F27","v":{"$error":"#N/A"}},null,{"$f":"SUM(キャッシュフロー表!G27:J27)","v":{"$error":"#N/A"}},null,{"$f":"SUM(キャッシュフロー表!K27:O27)","v":{"$error":"#N/A"}},null,{"$f":"SUM(キャッシュフロー表!P27:T27)","v":{"$error":"#N/A"}},null,{"$f":"SUM(キャッシュフロー表!U27:Y27)","v":{"$error":"#N/A"}},null,{"$f":"SUM(キャッシュフロー表!Z27:AD27)","v":{"$error":"#N/A"}},null,{"$f":"SUM(キャッシュフロー表!AE27:AI27)","v":{"$error":"#N/A"}},null,{"$f":"SUM(キャッシュフロー表!AJ27:AN27)","v":{"$error":"#N/A"}},null,{"$f":"SUM(キャッシュフロー表!AO27:AS27)","v":{"$error":"#N/A"}}]
[null,"営業外","減価償却費（定額法）",null,null,null,null,null,null,null,null,null,{"$f":"キャッシュフロー表!F28","v":{"$error":"#N/A"}},null,{"$f":"SUM(キャッシュフロー表!G28:J28)","v":{"$error":"#N/A"}},null,{"$f":"SUM(キャッシュフロー表!K28:O28)","v":{"$error":"#N/A"}},null,{"$f":"SUM(キャッシュフロー表!P28:T28)","v":{"$error":"#N/A"}},null,{"$f":"SUM(キャッシュフロー表!U28:Y28)","v":{"$error":"#N/A"}},null,{"$f":"SUM(キャッシュフロー表!Z28:AD28)","v":{"$error":"#N/A"}},null,{"$f":"SUM(キャッシュフロー表!AE28:AI28)","v":{"$error":"#N/A"}},null,{"$f":"SUM(キャッシュフロー表!AJ28:AN28)","v":{"$error":"#N/A"}},null,{"$f":"SUM(キャッシュフロー表!AO28:AS28)","v":{"$error":"#N/A"}}]
[null,null,"支払利息",null,null,null,null,null,null,null,null,null,{"$f":"キャッシュフロー表!F29","v":0},null,{"$f":"SUM(キャッシュフロー表!G29:J29)","v":0},null,{"$f":"SUM(キャッシュフロー表!K29:O29)","v":0},null,{"$f":"SUM(キャッシュフロー表!P29:T29)","v":0},null,{"$f":"SUM(キャッシュフロー表!U29:Y29)","v":0},null,{"$f":"SUM(キャッシュフロー表!Z29:AD29)","v":0},null,{"$f":"SUM(キャッシュフロー表!AE29:AI29)","v":0},null,{"$f":"SUM(キャッシュフロー表!AJ29:AN29)","v":0},null,{"$f":"SUM(キャッシュフロー表!AO29:AS29)","v":0}]
[null,null,"営業外費用計",null,null,null,null,null,null,null,null,null,{"$f":"キャッシュフロー表!F30","v":{"$error":"#N/A"}},null,{"$f":"SUM(キャッシュフロー表!G30:J30)","v":{"$error":"#N/A"}},null,{"$f":"SUM(キャッシュフロー表!K30:O30)","v":{"$error":"#N/A"}},null,{"$f":"SUM(キャッシュフロー表!P30:T30)","v":{"$error":"#N/A"}},null,{"$f":"SUM(キャッシュフロー表!U30:Y30)","v":{"$error":"#N/A"}},null,{"$f":"SUM(キャッシュフロー表!Z30:AD30)","v":{"$error":"#N/A"}},null,{"$f":"SUM(キャッシュフロー表!AE30:AI30)","v":{"$error":"#N/A"}},null,{"$f":"SUM(キャッシュフロー表!AJ30:AN30)","v":{"$error":"#N/A"}},null,{"$f":"SUM(キャッシュフロー表!AO30:AS30)","v":{"$error":"#N/A"}}]
[null,"税引前利益（償却後利益）",null,null,null,null,null,null,null,null,null,null,{"$f":"キャッシュフロー表!F31","v":{"$error":"#N/A"}},null,{"$f":"SUM(キャッシュフロー表!G31:J31)","v":{"$error":"#N/A"}},null,{"$f":"SUM(キャッシュフロー表!K31:O31)","v":{"$error":"#N/A"}},null,{"$f":"SUM(キャッシュフロー表!P31:T31)","v":{"$error":"#N/A"}},null,{"$f":"SUM(キャッシュフロー表!U31:Y31)","v":{"$error":"#N/A"}},null,{"$f":"SUM(キャッシュフロー表!Z31:AD31)","v":{"$error":"#N/A"}},null,{"$f":"SUM(キャッシュフロー表!AE31:AI31)","v":{"$error":"#N/A"}},null,{"$f":"SUM(キャッシュフロー表!AJ31:AN31)","v":{"$error":"#N/A"}},null,{"$f":"SUM(キャッシュフロー表!AO31:AS31)","v":{"$error":"#N/A"}}]
[null,"所得税",null,null,null,null,null,null,null,null,null,null,{"$f":"キャッシュフロー表!F32","v":{"$error":"#N/A"}},null,{"$f":"SUM(キャッシュフロー表!G32:J32)","v":{"$error":"#N/A"}},null,{"$f":"SUM(キャッシュフロー表!K32:O32)","v":{"$error":"#N/A"}},null,{"$f":"SUM(キャッシュフロー表!P32:T32)","v":{"$error":"#N/A"}},null,{"$f":"SUM(キャッシュフロー表!U32:Y32)","v":{"$error":"#N/A"}},null,{"$f":"SUM(キャッシュフロー表!Z32:AD32)","v":{"$error":"#N/A"}},null,{"$f":"SUM(キャッシュフロー表!AE32:AI32)","v":{"$error":"#N/A"}},null,{"$f":"SUM(キャッシュフロー表!AJ32:AN32)","v":{"$error":"#N/A"}},null,{"$f":"SUM(キャッシュフロー表!AO32:AS32)","v":{"$error":"#N/A"}}]
[null,"当期利益",null,null,null,null,null,null,null,null,null,null,{"$f":"キャッシュフロー表!F33","v":{"$error":"#N/A"}},null,{"$f":"SUM(キャッシュフロー表!G33:J33)","v":{"$error":"#N/A"}},null,{"$f":"SUM(キャッシュフロー表!K33:O33)","v":{"$error":"#N/A"}},null,{"$f":"SUM(キャッシュフロー表!P33:T33)","v":{"$error":"#N/A"}},null,{"$f":"SUM(キャッシュフロー表!U33:Y33)","v":{"$error":"#N/A"}},null,{"$f":"SUM(キャッシュフロー表!Z33:AD33)","v":{"$error":"#N/A"}},null,{"$f":"SUM(キャッシュフロー表!AE33:AI33)","v":{"$error":"#N/A"}},null,{"$f":"SUM(キャッシュフロー表!AJ33:AN33)","v":{"$error":"#N/A"}},null,{"$f":"SUM(キャッシュフロー表!AO33:AS33)","v":{"$error":"#N/A"}}]
[null,"当期利益累計",null,null,null,null,null,null,null,null,null,null,{"$f":"M110","v":{"$error":"#N/A"}},null,{"$f":"M111+O110","v":{"$error":"#N/A"}},null,{"$f":"O111+Q110","v":{"$error":"#N/A"}},null,{"$f":"Q111+S110","v":{"$error":"#N/A"}},null,{"$f":"S111+U110","v":{"$error":"#N/A"}},null,{"$f":"U111+W110","v":{"$error":"#N/A"}},null,{"$f":"W111+Y110","v":{"$error":"#N/A"}},null,{"$f":"Y111+AA110","v":{"$error":"#N/A"}},null,{"$f":"AA111+AC110","v":{"$error":"#N/A"}}]
["総収入ー総支出（運用期間通算）",null,null,null,null,null,null,null,null,null,{"$f":"キャッシュフロー表!E35","v":{"$error":"#N/A"}},null,{"$f":"キャッシュフロー表!F35","v":{"$error":"#N/A"}},null,{"$f":"キャッシュフロー表!J35","v":{"$error":"#N/A"}},null,{"$f":"キャッシュフロー表!O35","v":{"$error":"#N/A"}},null,{"$f":"キャッシュフロー表!T35","v":{"$error":"#N/A"}},null,{"$f":"キャッシュフロー表!Y35","v":{"$error":"#N/A"}},null,{"$f":"キャッシュフロー表!AD35","v":{"$error":"#N/A"}},null,{"$f":"キャッシュフロー表!AI35","v":{"$error":"#N/A"}},null,{"$f":"キャッシュフロー表!AN35","v":{"$error":"#N/A"}},null,{"$f":"キャッシュフロー表!AS35","v":{"$error":"#N/A"}}]
[]
[]
[null,null,null,null,null,null,null,null,null,null,null,null,1,null,5,null,10,null,15,null,20,null,25,null,30,null,35,null,40]
["賃料収入水準（新築時の満室時賃料を100）",null,null,null,null,null,null,null,null,null,null,null,{"$f":"IFERROR(キャッシュフロー表!$F$45,\"\")","v":""},null,{"$f":"IFERROR(キャッシュフロー表!$J$45,\"\")","v":""},null,{"$f":"IFERROR(キャッシュフロー表!$O$45,\"\")","v":""},null,{"$f":"IFERROR(キャッシュフロー表!$T$45,\"\")","v":""},null,{"$f":"IFERROR(キャッシュフロー表!$Y$45,\"\")","v":""},null,{"$f":"IFERROR(キャッシュフロー表!$AD$45,\"\")","v":""},null,{"$f":"IFERROR(キャッシュフロー表!$AI$45,\"\")","v":""},null,{"$f":"IFERROR(キャッシュフロー表!$AN$45,\"\")","v":""},null,{"$f":"IFERROR(キャッシュフロー表!$AS$45,\"\")","v":""}]

{"sheet":"長期修繕計画書【入力シート】","index":1,"n_rows":153,"n_cols":49,"rows_kept":153,"cut":false,"hidden":false,"merged":[[135,4,140,4],[34,2,35,2],[34,3,35,3],[126,1,127,1],[126,2,127,2],[126,3,127,3],[87,0,117,0],[118,0,134,0],[8,4,17,4],[19,4,24,4],[26,4,41,4],[43,4,48,4],[50,4,55,4],[57,4,62,4],[64,4,69,4],[71,4,76,4],[78,4,85,4],[87,4,92,4],[94,4,99,4],[101,4,104,4],[106,4,109,4],[111,4,116,4],[118,4,133,4],[96,2,97,2],[108,3,109,3],[38,2,39,2],[38,3,39,3],[82,1,83,1],[82,2,83,2],[82,3,83,3],[89,1,90,1],[89,2,90,2],[89,3,90,3],[106,3,107,3],[73,3,74,3],[75,3,76,3],[78,3,79,3],[80,3,81,3],[84,3,85,3],[61,3,62,3],[64,3,65,3],[66,3,67,3],[135,0,140,0],[135,1,136,1],[135,2,136,2],[135,3,136,3],[137,1,138,1],[137,2,138,2],[137,3,138,3],[139,1,140,1],[139,2,140,2],[139,3,140,3],[118,3,119,3],[130,3,131,3],[132,3,133,3],[106,1,107,1],[87,3,88,3],[91,3,92,3],[94,3,95,3],[98,3,99,3],[101,3,102,3],[87,1,88,1],[87,2,88,2],[91,1,92,1],[91,2,92,2],[106,2,107,2],[118,1,119,1],[118,2,119,2],[132,1,133,1],[132,2,133,2],[101,1,102,1],[130,2,131,2],[96,3,97,3],[103,1,104,1],[103,2,104,2],[103,3,104,3],[68,3,69,3],[71,3,72,3],[50,3,51,3],[52,3,53,3],[54,3,55,3],[57,3,58,3],[59,3,60,3],[28,3,29,3],[30,3,31,3],[32,3,33,3],[36,3,37,3],[40,3,41,3],[71,1,76,1],[71,2,72,2],[73,2,74,2],[75,2,76,2],[64,1,69,1],[64,2,65,2],[66,2,67,2],[68,2,69,2],[50,1,55,1],[50,2,51,2],[52,2,53,2],[57,1,62,1],[57,2,58,2],[59,2,60,2],[61,2,62,2],[8,3,9,3],[10,3,11,3],[12,3,13,3],[14,3,15,3],[16,3,17,3],[19,3,20,3],[21,3,22,3],[23,3,24,3],[26,3,27,3],[144,3,144,5],[145,0,152,0],[145,3,145,5],[146,3,146,5],[147,3,147,5],[148,3,148,5],[149,3,149,5],[150,3,150,5],[152,3,152,5],[78,0,85,0],[78,1,79,1],[78,2,79,2],[80,1,81,1],[80,2,81,2],[84,1,85,1],[84,2,85,2],[101,2,102,2],[130,1,131,1],[94,1,95,1],[94,2,95,2],[98,1,99,1],[98,2,99,2],[111,1,112,1],[111,2,112,2],[128,1,129,1],[128,2,129,2],[96,1,97,1],[108,1,109,1],[108,2,109,2],[6,0,7,0],[6,1,7,1],[6,2,7,2],[6,3,7,3],[6,4,7,4],[8,0,76,0],[8,1,17,1],[8,2,9,2],[10,2,11,2],[12,2,13,2],[14,2,15,2],[16,2,17,2],[19,1,24,1],[19,2,20,2],[21,2,22,2],[23,2,24,2],[26,1,41,1],[26,2,27,2],[28,2,29,2],[30,2,31,2],[32,2,33,2],[36,2,37,2],[40,2,41,2],[43,1,48,1],[2,0,2,47],[4,0,5,0],[4,1,5,1],[4,2,5,2],[4,3,5,3],[4,4,5,4],[4,47,5,47],[1,1,1,2],[1,4,1,5],[1,7,1,8],[1,9,1,10],[1,11,1,47],[43,2,44,2],[45,2,46,2],[47,2,48,2],[43,3,44,3],[45,3,46,3],[47,3,48,3],[128,3,129,3],[111,3,112,3],[113,1,114,1],[113,2,114,2],[113,3,114,3],[115,1,116,1],[115,2,116,2],[115,3,116,3],[120,1,121,1],[120,2,121,2],[120,3,121,3],[122,1,123,1],[122,2,123,2],[122,3,123,3],[124,1,125,1],[124,2,125,2],[124,3,125,3],[54,2,55,2]]}
["No.",null,null,null,null,null,null,null,null,null,null,null,null,null,null,null,null,null,null,null,null,null,null,null,null,null,null,null,null,null,null,null,null,null,null,null,null,null,null,null,null,null,null,null,null,null,null,"（様式３）"]
["建物名",null,null,"建築年",null,null,"戸数",null,null,"物件住所"]
["長期修繕計画作成（改訂）結果入力表"]
["[共用部分]（千円）",null,{"$f":"TODAY()","v":"2020-03-31"},{"$f":"YEAR(C4)","v":2020}]
["区分","部位","修繕項目","工事区分","周期\n（年）","暦年",{"$f":"TEXT(賃貸住宅経営のセルチェックシート【入力シート】!L11,\"yyyy\")","v":{"$error":"#VALUE!"}},{"$f":"G5+1","v":{"$error":"#VALUE!"}},{"$f":"H5+1","v":{"$error":"#VALUE!"}},{"$error":"#VALUE!"},{"$error":"#VALUE!"},{"$error":"#VALUE!"},{"$error":"#VALUE!"},{"$error":"#VALUE!"},{"$error":"#VALUE!"},{"$error":"#VALUE!"},{"$error":"#VALUE!"},{"$error":"#VALUE!"},{"$error":"#VALUE!"},{"$error":"#VALUE!"},{"$error":"#VALUE!"},{"$error":"#VALUE!"},{"$error":"#VALUE!"},{"$error":"#VALUE!"},{"$error":"#VALUE!"},{"$error":"#VALUE!"},{"$error":"#VALUE!"},{"$error":"#VALUE!"},{"$error":"#VALUE!"},{"$error":"#VALUE!"},{"$error":"#VALUE!"},{"$error":"#VALUE!"},{"$error":"#VALUE!"},{"$error":"#VALUE!"},{"$error":"#VALUE!"},{"$error":"#VALUE!"},{"$error":"#VALUE!"},{"$error":"#VALUE!"},{"$error":"#VALUE!"},{"$error":"#VALUE!"},{"$error":"#VALUE!"},{"$error":"#VALUE!"},{"$error":"#VALUE!"},{"$error":"#VALUE!"},{"$error":"#VALUE!"},{"$error":"#VALUE!"},{"$error":"#VALUE!"},"合計"]
[null,null,null,null,null,"経年",0,1,2,3,4,5,6,7,8,9,10,11,12,13,14,15,16,17,18,19,20,21,22,23,24,25,26,27,28,29,30,31,32,33,34,35,36,37,38,39,40]
["（記入例）","屋上・屋根","傾斜屋根","塗装","10年",null,null,null,null,null,null,null,null,null,null,null,null,null,null,null,1500,null,null,null,null,null,null,null,null,null,null,null,null,null,1500]
[]
["建物本体","屋上・屋根","屋上防水（保護防水）","防水",null,null,null,null,null,null,null,null,null,null,null,null,null,null,null,null,null,null,null,null,null,null,null,null,null,null,null,null,null,null,null,null,null,null,null,null,null,null,null,null,null,null,null,{"$f":"SUM(G9:AU9)","v":0}]
[null,null,null,null,null,null,null,null,null,null,null,null,null,null,null,null,null,null,null,null,null,null,null,null,null,null,null,null,null,null,null,null,null,null,null,null,null,null,null,null,null,null,null,null,null,null,null,0]
[null,null,"屋上防水（露出防水）","防水",null,null,null,null,null,null,null,null,null,null,null,null,null,null,null,null,null,null,null,null,null,null,null,null,null,null,null,null,null,null,null,null,null,null,null,null,null,null,null,null,null,null,null,0]
[null,null,null,null,null,null,null,null,null,null,null,null,null,null,null,null,null,null,null,null,null,null,null,null,null,null,null,null,null,null,null,null,null,null,null,null,null,null,null,null,null,null,null,null,null,null,null,0]
[null,null,"シート防水・塗膜防水","防水",null,null,null,null,null,null,null,null,null,null,null,null,null,null,null,null,null,null,null,null,null,null,null,null,null,null,null,null,null,null,null,null,null,null,null,null,null,null,null,null,null,null,null,0]
[null,null,null,null,null,null,null,null,null,null,null,null,null,null,null,null,null,null,null,null,null,null,null,null,null,null,null,null,null,null,null,null,null,null,null,null,null,null,null,null,null,null,null,null,null,null,null,0]
[null,null,"傾斜屋根　葺き替え",null,null,null,null,null,null,null,null,null,null,null,null,null,null,null,null,null,null,null,null,null,null,null,null,null,null,null,null,null,null,null,null,null,null,null,null,null,null,null,null,null,null,null,null,0]
[null,null,null,null,null,null,null,null,null,null,null,null,null,null,null,null,null,null,null,null,null,null,null,null,null,null,null,null,null,null,null,null,null,null,null,null,null,null,null,null,null,null,null,null,null,null,null,0]
[null,null,null,null,null,null,null,null,null,null,null,null,null,null,null,null,null,null,null,null,null,null,null,null,null,null,null,null,null,null,null,null,null,null,null,null,null,null,null,null,null,null,null,null,null,null,null,0]
[null,null,null,null,null,null,null,null,null,null,null,null,null,null,null,null,null,null,null,null,null,null,null,null,null,null,null,null,null,null,null,null,null,null,null,null,null,null,null,null,null,null,null,null,null,null,null,0]
[null,"小計",null,null,null,null,{"$f":"SUM(G9:G18)","v":0},0,0,0,0,0,0,0,0,0,0,0,0,0,0,0,0,0,0,0,0,0,0,0,0,0,0,0,0,0,0,0,0,0,0,0,0,0,0,0,0,0]
[null,"廊下・階段・\nバルコニー等","バルコニー、ベランダ床","防水",null,null,null,null,null,null,null,null,null,null,null,null,null,null,null,null,null,null,null,null,null,null,null,null,null,null,null,null,null,null,null,null,null,null,null,null,null,null,null,null,null,null,null,0]
[null,null,null,null,null,null,null,null,null,null,null,null,null,null,null,null,null,null,null,null,null,null,null,null,null,null,null,null,null,null,null,null,null,null,null,null,null,null,null,null,null,null,null,null,null,null,null,0]
[null,null,"開放廊下、階段等床","防水",null,null,null,null,null,null,null,null,null,null,null,null,null,null,null,null,null,null,null,null,null,null,null,null,null,null,null,null,null,null,null,null,null,null,null,null,null,null,null,null,null,null,null,0]
[null,null,null,null,null,null,null,null,null,null,null,null,null,null,null,null,null,null,null,null,null,null,null,null,null,null,null,null,null,null,null,null,null,null,null,null,null,null,null,null,null,null,null,null,null,null,null,0]
[null,null,null,null,null,null,null,null,null,null,null,null,null,null,null,null,null,null,null,null,null,null,null,null,null,null,null,null,null,null,null,null,null,null,null,null,null,null,null,null,null,null,null,null,null,null,null,0]
[null,null,null,null,null,null,null,null,null,null,null,null,null,null,null,null,null,null,null,null,null,null,null,null,null,null,null,null,null,null,null,null,null,null,null,null,null,null,null,null,null,null,null,null,null,null,null,0]
[null,"小計",null,null,null,null,{"$f":"SUM(G20:G25)","v":0},0,0,0,0,0,0,0,0,0,0,0,0,0,0,0,0,0,0,0,0,0,0,0,0,0,0,0,0,0,0,0,0,0,0,0,0,0,0,0,0,0]
[null,"外壁","コンクリート補修","補修",null,null,null,null,null,null,null,null,null,null,null,null,null,null,null,null,null,null,null,null,null,null,null,null,null,null,null,null,null,null,null,null,null,null,null,null,null,null,null,null,null,null,null,0]
[null,null,null,null,null,null,null,null,null,null,null,null,null,null,null,null,null,null,null,null,null,null,null,null,null,null,null,null,null,null,null,null,null,null,null,null,null,null,null,null,null,null,null,null,null,null,null,0]
[null,null,"外壁塗装","塗装",null,null,null,null,null,null,null,null,null,null,null,null,null,null,null,null,null,null,null,null,null,null,null,null,null,null,null,null,null,null,null,null,null,null,null,null,null,null,null,null,null,null,null,0]
[null,null,null,null,null,null,null,null,null,null,null,null,null,null,null,null,null,null,null,null,null,null,null,null,null,null,null,null,null,null,null,null,null,null,null,null,null,null,null,null,null,null,null,null,null,null,null,0]
[null,null,"タイル張","張替",null,null,null,null,null,null,null,null,null,null,null,null,null,null,null,null,null,null,null,null,null,null,null,null,null,null,null,null,null,null,null,null,null,null,null,null,null,null,null,null,null,null,null,0]
[null,null,null,null,null,null,null,null,null,null,null,null,null,null,null,null,null,null,null,null,null,null,null,null,null,null,null,null,null,null,null,null,null,null,null,null,null,null,null,null,null,null,null,null,null,null,null,0]
[null,null,"パネル張\n（ALCパネル等）",null,null,null,null,null,null,null,null,null,null,null,null,null,null,null,null,null,null,null,null,null,null,null,null,null,null,null,null,null,null,null,null,null,null,null,null,null,null,null,null,null,null,null,null,0]
[null,null,null,null,null,null,null,null,null,null,null,null,null,null,null,null,null,null,null,null,null,null,null,null,null,null,null,null,null,null,null,null,null,null,null,null,null,null,null,null,null,null,null,null,null,null,null,0]
[null,null,"シーリング","補修",null,null,null,null,null,null,null,null,null,null,null,null,null,null,null,null,null,null,null,null,null,null,null,null,null,null,null,null,null,null,null,null,null,null,null,null,null,null,null,null,null,null,null,{"$f":"SUM(G35:AU35)","v":0}]
[null,null,null,null,null,null,null,null,null,null,null,null,null,null,null,null,null,null,null,null,null,null,null,null,null,null,null,null,null,null,null,null,null,null,null,null,null,null,null,null,null,null,null,null,null,null,null,0]
[null,null,"シーリング\n下地補修工事","補修",null,null,null,null,null,null,null,null,null,null,null,null,null,null,null,null,null,null,null,null,null,null,null,null,null,null,null,null,null,null,null,null,null,null,null,null,null,null,null,null,null,null,null,0]
[null,null,null,null,null,null,null,null,null,null,null,null,null,null,null,null,null,null,null,null,null,null,null,null,null,null,null,null,null,null,null,null,null,null,null,null,null,null,null,null,null,null,null,null,null,null,null,0]
[null,null,"下地調整工事","補修",null,null,null,null,null,null,null,null,null,null,null,null,null,null,null,null,null,null,null,null,null,null,null,null,null,null,null,null,null,null,null,null,null,null,null,null,null,null,null,null,null,null,null,{"$f":"SUM(G39:AU39)","v":0}]
[null,null,null,null,null,null,null,null,null,null,null,null,null,null,null,null,null,null,null,null,null,null,null,null,null,null,null,null,null,null,null,null,null,null,null,null,null,null,null,null,null,null,null,null,null,null,null,0]
[null,null,null,null,null,null,null,null,null,null,null,null,null,null,null,null,null,null,null,null,null,null,null,null,null,null,null,null,null,null,null,null,null,null,null,null,null,null,null,null,null,null,null,null,null,null,null,0]
[null,null,null,null,null,null,null,null,null,null,null,null,null,null,null,null,null,null,null,null,null,null,null,null,null,null,null,null,null,null,null,null,null,null,null,null,null,null,null,null,null,null,null,null,null,null,null,0]
[null,"小計",null,null,null,null,{"$f":"SUM(G27:G42)","v":0},0,0,0,0,0,0,0,0,0,0,0,0,0,0,0,0,0,0,0,0,0,0,0,0,0,0,0,0,0,0,0,0,0,0,0,0,0,0,0,0,0]
[null,"鉄部","鉄扉塗装","塗装",null,null,null,null,null,null,null,null,null,null,null,null,null,null,null,null,null,null,null,null,null,null,null,null,null,null,null,null,null,null,null,null,null,null,null,null,null,null,null,null,null,null,null,0]
[null,null,null,null,null,null,null,null,null,null,null,null,null,null,null,null,null,null,null,null,null,null,null,null,null,null,null,null,null,null,null,null,null,null,null,null,null,null,null,null,null,null,null,null,null,null,null,{"$f":"SUM(G45:AU45)","v":0}]
[null,null,"手摺塗装","塗装",null,null,null,null,null,null,null,null,null,null,null,null,null,null,null,null,null,null,null,null,null,null,null,null,null,null,null,null,null,null,null,null,null,null,null,null,null,null,null,null,null,null,null,0]
[null,null,null,null,null,null,null,null,null,null,null,null,null,null,null,null,null,null,null,null,null,null,null,null,null,null,null,null,null,null,null,null,null,null,null,null,null,null,null,null,null,null,null,null,null,null,null,0]
[null,null,null,null,null,null,null,null,null,null,null,null,null,null,null,null,null,null,null,null,null,null,null,null,null,null,null,null,null,null,null,null,null,null,null,null,null,null,null,null,null,null,null,null,null,null,null,0]
[null,null,null,null,null,null,null,null,null,null,null,null,null,null,null,null,null,null,null,null,null,null,null,null,null,null,null,null,null,null,null,null,null,null,null,null,null,null,null,null,null,null,null,null,null,null,null,0]
[null,"小計",null,null,null,null,{"$f":"SUM(G44:G49)","v":0},0,0,0,0,0,0,0,0,0,0,0,0,0,0,0,0,0,0,0,0,0,0,0,0,0,0,0,0,0,0,0,0,0,0,0,0,0,0,0,0,0]
[null,"非鉄部","非鉄部塗装工事","塗装",{"$f":"E44","v":0},null,null,null,null,null,null,null,null,null,null,null,null,null,null,null,null,null,null,null,null,null,null,null,null,null,null,null,null,null,null,null,null,null,null,null,null,null,null,null,null,null,null,0]
[null,null,null,null,null,null,null,null,null,null,null,null,null,null,null,null,null,null,null,null,null,null,null,null,null,null,null,null,null,null,null,null,null,null,null,null,null,null,null,null,null,null,null,null,null,null,null,0]
[null,null,null,null,null,null,null,null,null,null,null,null,null,null,null,null,null,null,null,null,null,null,null,null,null,null,null,null,null,null,null,null,null,null,null,null,null,null,null,null,null,null,null,null,null,null,null,0]
[null,null,null,null,null,null,null,null,null,null,null,null,null,null,null,null,null,null,null,null,null,null,null,null,null,null,null,null,null,null,null,null,null,null,null,null,null,null,null,null,null,null,null,null,null,null,null,0]
[null,null,null,null,null,null,null,null,null,null,null,null,null,null,null,null,null,null,null,null,null,null,null,null,null,null,null,null,null,null,null,null,null,null,null,null,null,null,null,null,null,null,null,null,null,null,null,0]
[null,null,null,null,null,null,null,null,null,null,null,null,null,null,null,null,null,null,null,null,null,null,null,null,null,null,null,null,null,null,null,null,null,null,null,null,null,null,null,null,null,null,null,null,null,null,null,0]
[null,"小計",null,null,null,null,{"$f":"SUM(G51:G56)","v":0},0,0,0,0,0,0,0,0,0,0,0,0,0,0,0,0,0,0,0,0,0,0,0,0,0,0,0,0,0,0,0,0,0,0,0,0,0,0,0,0,0]
[null,"白蟻対策","白蟻対策","薬品\n塗布",null,null,null,null,null,null,null,null,null,null,null,null,null,null,null,null,null,null,null,null,null,null,null,null,null,null,null,null,null,null,null,null,null,null,null,null,null,null,null,null,null,null,null,0]
[null,null,null,null,null,null,null,null,null,null,null,null,null,null,null,null,null,null,null,null,null,null,null,null,null,null,null,null,null,null,null,null,null,null,null,null,null,null,null,null,null,null,null,null,null,null,null,0]
[null,null,null,null,null,null,null,null,null,null,null,null,null,null,null,null,null,null,null,null,null,null,null,null,null,null,null,null,null,null,null,null,null,null,null,null,null,null,null,null,null,null,null,null,null,null,null,0]
[null,null,null,null,null,null,null,null,null,null,null,null,null,null,null,null,null,null,null,null,null,null,null,null,null,null,null,null,null,null,null,null,null,null,null,null,null,null,null,null,null,null,null,null,null,null,null,0]
[null,null,null,null,null,null,null,null,null,null,null,null,null,null,null,null,null,null,null,null,null,null,null,null,null,null,null,null,null,null,null,null,null,null,null,null,null,null,null,null,null,null,null,null,null,null,null,0]
[null,null,null,null,null,null,null,null,null,null,null,null,null,null,null,null,null,null,null,null,null,null,null,null,null,null,null,null,null,null,null,null,null,null,null,null,null,null,null,null,null,null,null,null,null,null,null,0]
[null,"小計",null,null,null,null,{"$f":"SUM(G58:G63)","v":0},0,0,0,0,0,0,0,0,0,0,0,0,0,0,0,0,0,0,0,0,0,0,0,0,0,0,0,0,0,0,0,0,0,0,0,0,0,0,0,0,0]
[null,"足場・仮設","仮設工事","足場","-",null,null,null,null,null,null,null,null,null,null,null,null,null,null,null,null,null,null,null,null,null,null,null,null,null,null,null,null,null,null,null,null,null,null,null,null,null,null,null,null,null,null,0]
[null,null,null,null,null,null,null,null,null,null,null,null,null,null,null,null,null,null,null,null,null,null,null,null,null,null,null,null,null,null,null,null,null,null,null,null,null,null,null,null,null,null,null,null,null,null,null,0]
[null,null,null,null,null,null,null,null,null,null,null,null,null,null,null,null,null,null,null,null,null,null,null,null,null,null,null,null,null,null,null,null,null,null,null,null,null,null,null,null,null,null,null,null,null,null,null,0]
[null,null,null,null,null,null,null,null,null,null,null,null,null,null,null,null,null,null,null,null,null,null,null,null,null,null,null,null,null,null,null,null,null,null,null,null,null,null,null,null,null,null,null,null,null,null,null,0]
[null,null,null,null,null,null,null,null,null,null,null,null,null,null,null,null,null,null,null,null,null,null,null,null,null,null,null,null,null,null,null,null,null,null,null,null,null,null,null,null,null,null,null,null,null,null,null,0]
[null,null,null,null,null,null,null,null,null,null,null,null,null,null,null,null,null,null,null,null,null,null,null,null,null,null,null,null,null,null,null,null,null,null,null,null,null,null,null,null,null,null,null,null,null,null,null,0]
[null,"小計",null,null,null,null,{"$f":"SUM(G65:G70)","v":0},0,0,0,0,0,0,0,0,0,0,0,0,0,0,0,0,0,0,0,0,0,0,0,0,0,0,0,0,0,0,0,0,0,0,0,0,0,0,0,0,0]
[null,"その他",null,null,"-",null,null,null,null,null,null,null,null,null,null,null,null,null,null,null,null,null,null,null,null,null,null,null,null,null,null,null,null,null,null,null,null,null,null,null,null,null,null,null,null,null,null,0]
[null,null,null,null,null,null,null,null,null,null,null,null,null,null,null,null,null,null,null,null,null,null,null,null,null,null,null,null,null,null,null,null,null,null,null,null,null,null,null,null,null,null,null,null,null,null,null,0]
[null,null,null,null,null,null,null,null,null,null,null,null,null,null,null,null,null,null,null,null,null,null,null,null,null,null,null,null,null,null,null,null,null,null,null,null,null,null,null,null,null,null,null,null,null,null,null,0]
[null,null,null,null,null,null,null,null,null,null,null,null,null,null,null,null,null,null,null,null,null,null,null,null,null,null,null,null,null,null,null,null,null,null,null,null,null,null,null,null,null,null,null,null,null,null,null,0]
[null,null,null,null,null,null,null,null,null,null,null,null,null,null,null,null,null,null,null,null,null,null,null,null,null,null,null,null,null,null,null,null,null,null,null,null,null,null,null,null,null,null,null,null,null,null,null,0]
[null,null,null,null,null,null,null,null,null,null,null,null,null,null,null,null,null,null,null,null,null,null,null,null,null,null,null,null,null,null,null,null,null,null,null,null,null,null,null,null,null,null,null,null,null,null,null,{"$f":"SUM(G77:AU77)","v":0}]
[null,"小計",null,null,null,null,{"$f":"SUM(G72:G77)","v":0},0,0,0,0,0,0,0,0,0,0,0,0,0,0,0,0,0,0,0,0,0,0,0,0,0,0,0,0,0,0,0,0,0,0,0,0,0,0,0,0,0]
["共用配管","給水管",null,"交換",null,null,null,null,null,null,null,null,null,null,null,null,null,null,null,null,null,null,null,null,null,null,null,null,null,null,null,null,null,null,null,null,null,null,null,null,null,null,null,null,null,null,null,0]
[null,null,null,null,null,null,null,null,null,null,null,null,null,null,null,null,null,null,null,null,null,null,null,null,null,null,null,null,null,null,null,null,null,null,null,null,null,null,null,null,null,null,null,null,null,null,null,0]
[null,"排水管",null,"交換",null,null,null,null,null,null,null,null,null,null,null,null,null,null,null,null,null,null,null,null,null,null,null,null,null,null,null,null,null,null,null,null,null,null,null,null,null,null,null,null,null,null,null,0]
[null,null,null,null,null,null,null,null,null,null,null,null,null,null,null,null,null,null,null,null,null,null,null,null,null,null,null,null,null,null,null,null,null,null,null,null,null,null,null,null,null,null,null,null,null,null,null,0]
[null,"ガス管",null,"交換",null,null,null,null,null,null,null,null,null,null,null,null,null,null,null,null,null,null,null,null,null,null,null,null,null,null,null,null,null,null,null,null,null,null,null,null,null,null,null,null,null,null,null,{"$f":"SUM(G83:AU83)","v":0}]
[null,null,null,null,null,null,null,null,null,null,null,null,null,null,null,null,null,null,null,null,null,null,null,null,null,null,null,null,null,null,null,null,null,null,null,null,null,null,null,null,null,null,null,null,null,null,null,0]
[null,"施設内埋設管",null,"交換",null,null,null,null,null,null,null,null,null,null,null,null,null,null,null,null,null,null,null,null,null,null,null,null,null,null,null,null,null,null,null,null,null,null,null,null,null,null,null,null,null,null,null,0]
[null,null,null,null,null,null,null,null,null,null,null,null,null,null,null,null,null,null,null,null,null,null,null,null,null,null,null,null,null,null,null,null,null,null,null,null,null,null,null,null,null,null,null,null,null,null,null,0]
[null,"小計",null,null,null,null,{"$f":"SUM(G79:G86)","v":0},0,0,0,0,0,0,0,0,0,0,0,0,0,0,0,0,0,0,0,0,0,0,0,0,0,0,0,0,0,0,0,0,0,0,0,0,0,0,0,0,0]
["共用設備","電灯：照明",null,"修理\n交換",null,null,null,null,null,null,null,null,null,null,null,null,null,null,null,null,null,null,null,null,null,null,null,null,null,null,null,null,null,null,null,null,null,null,null,null,null,null,null,null,null,null,null,0]
[null,null,null,null,null,null,null,null,null,null,null,null,null,null,null,null,null,null,null,null,null,null,null,null,null,null,null,null,null,null,null,null,null,null,null,null,null,null,null,null,null,null,null,null,null,null,null,0]
[null,"電気：\n幹線・ネット・\nＴＶ共視聴",null,"修理\n交換",null,null,null,null,null,null,null,null,null,null,null,null,null,null,null,null,null,null,null,null,null,null,null,null,null,null,null,null,null,null,null,null,null,null,null,null,null,null,null,null,null,null,null,{"$f":"SUM(G90:AU90)","v":0}]
[null,null,null,null,null,null,null,null,null,null,null,null,null,null,null,null,null,null,null,null,null,null,null,null,null,null,null,null,null,null,null,null,null,null,null,null,null,null,null,null,null,null,null,null,null,null,null,0]
[null,null,null,null,null,null,null,null,null,null,null,null,null,null,null,null,null,null,null,null,null,null,null,null,null,null,null,null,null,null,null,null,null,null,null,null,null,null,null,null,null,null,null,null,null,null,null,0]
[null,null,null,null,null,null,null,null,null,null,null,null,null,null,null,null,null,null,null,null,null,null,null,null,null,null,null,null,null,null,null,null,null,null,null,null,null,null,null,null,null,null,null,null,null,null,null,0]
[null,"小計",null,null,null,null,{"$f":"SUM(G88:G93)","v":0},0,0,0,0,0,0,0,0,0,0,0,0,0,0,0,0,0,0,0,0,0,0,0,0,0,0,0,0,0,0,0,0,0,0,0,0,0,0,0,0,0]
[null,"消防設備",null,"修理\n交換",null,null,null,null,null,null,null,null,null,null,null,null,null,null,null,null,null,null,null,null,null,null,null,null,null,null,null,null,null,null,null,null,null,null,null,null,null,null,null,null,null,null,null,0]
[null,null,null,null,null,null,null,null,null,null,null,null,null,null,null,null,null,null,null,null,null,null,null,null,null,null,null,null,null,null,null,null,null,null,null,null,null,null,null,null,null,null,null,null,null,null,null,0]
[null,"給水設備\n（貯水槽\n・ポンプ）",null,"修理\n交換",null,null,null,null,null,null,null,null,null,null,null,null,null,null,null,null,null,null,null,null,null,null,null,null,null,null,null,null,null,null,null,null,null,null,null,null,null,null,null,null,null,null,null,{"$f":"SUM(G97:AU97)","v":0}]
[null,null,null,null,null,null,null,null,null,null,null,null,null,null,null,null,null,null,null,null,null,null,null,null,null,null,null,null,null,null,null,null,null,null,null,null,null,null,null,null,null,null,null,null,null,null,null,0]
[null,null,null,null,null,null,null,null,null,null,null,null,null,null,null,null,null,null,null,null,null,null,null,null,null,null,null,null,null,null,null,null,null,null,null,null,null,null,null,null,null,null,null,null,null,null,null,0]
[null,null,null,null,null,null,null,null,null,null,null,null,null,null,null,null,null,null,null,null,null,null,null,null,null,null,null,null,null,null,null,null,null,null,null,null,null,null,null,null,null,null,null,null,null,null,null,0]
[null,"小計",null,null,null,null,{"$f":"SUM(G95:G100)","v":0},0,0,0,0,0,0,0,0,0,0,0,0,0,0,0,0,0,0,0,0,0,0,0,0,0,0,0,0,0,0,0,0,0,0,0,0,0,0,0,0,0]
[null,"排水設備・浄化槽",null,"修理\n交換",null,null,null,null,null,null,null,null,null,null,null,null,null,null,null,null,null,null,null,null,null,null,null,null,null,null,null,null,null,null,null,null,null,null,null,null,null,null,null,null,null,null,null,0]
[null,null,null,null,null,null,null,null,null,null,null,null,null,null,null,null,null,null,null,null,null,null,null,null,null,null,null,null,null,null,null,null,null,null,null,null,null,null,null,null,null,null,null,null,null,null,null,0]
[null,null,null,null,null,null,null,null,null,null,null,null,null,null,null,null,null,null,null,null,null,null,null,null,null,null,null,null,null,null,null,null,null,null,null,null,null,null,null,null,null,null,null,null,null,null,null,{"$f":"SUM(G104:AU104)","v":0}]
[null,null,null,null,null,null,null,null,null,null,null,null,null,null,null,null,null,null,null,null,null,null,null,null,null,null,null,null,null,null,null,null,null,null,null,null,null,null,null,null,null,null,null,null,null,null,null,0]
[null,"小計",null,null,null,null,{"$f":"SUM(G102:G105)","v":0},{"$f":"SUM(H102:H105)","v":0},0,0,0,0,0,0,0,0,0,0,0,0,0,0,0,0,0,0,0,0,0,0,0,0,0,0,0,0,0,0,0,0,0,0,0,0,0,0,0,0]
[null,"エレベーター本体",null,"修理\n交換",null,null,null,null,null,null,null,null,null,null,null,null,null,null,null,null,null,null,null,null,null,null,null,null,null,null,null,null,null,null,null,null,null,null,null,null,null,null,null,null,null,null,null,0]
[null,null,null,null,null,null,null,null,null,null,null,null,null,null,null,null,null,null,null,null,null,null,null,null,null,null,null,null,null,null,null,null,null,null,null,null,null,null,null,null,null,null,null,null,null,null,null,0]
[null,"エレベーター部品",null,"修理\n交換",null,null,null,null,null,null,null,null,null,null,null,null,null,null,null,null,null,null,null,null,null,null,null,null,null,null,null,null,null,null,null,null,null,null,null,null,null,null,null,null,null,null,null,{"$f":"SUM(G109:AU109)","v":0}]
[null,null,null,null,null,null,null,null,null,null,null,null,null,null,null,null,null,null,null,null,null,null,null,null,null,null,null,null,null,null,null,null,null,null,null,null,null,null,null,null,null,null,null,null,null,null,null,0]
[null,"小計",null,null,null,null,{"$f":"SUM(G107:G110)","v":0},{"$f":"SUM(H107:H110)","v":0},0,0,0,0,0,0,0,0,0,0,0,0,0,0,0,0,0,0,0,0,0,0,0,0,0,0,0,0,0,0,0,0,0,0,0,0,0,0,0,0]
[null,"外構","塀、駐輪場、駐車場","修理\n交換",null,null,null,null,null,null,null,null,null,null,null,null,null,null,null,null,null,null,null,null,null,null,null,null,null,null,null,null,null,null,null,null,null,null,null,null,null,null,null,null,null,null,null,{"$f":"SUM(G112:AU112)","v":0}]
[null,null,null,null,null,null,null,null,null,null,null,null,null,null,null,null,null,null,null,null,null,null,null,null,null,null,null,null,null,null,null,null,null,null,null,null,null,null,null,null,null,null,null,null,null,null,null,0]
[null,"その他",null,null,null,null,null,null,null,null,null,null,null,null,null,null,null,null,null,null,null,null,null,null,null,null,null,null,null,null,null,null,null,null,null,null,null,null,null,null,null,null,null,null,null,null,null,0]
[null,null,null,null,null,null,null,null,null,null,null,null,null,null,null,null,null,null,null,null,null,null,null,null,null,null,null,null,null,null,null,null,null,null,null,null,null,null,null,null,null,null,null,null,null,null,null,0]
[null,null,null,null,null,null,null,null,null,null,null,null,null,null,null,null,null,null,null,null,null,null,null,null,null,null,null,null,null,null,null,null,null,null,null,null,null,null,null,null,null,null,null,null,null,null,null,0]
[null,null,null,null,null,null,null,null,null,null,null,null,null,null,null,null,null,null,null,null,null,null,null,null,null,null,null,null,null,null,null,null,null,null,null,null,null,null,null,null,null,null,null,null,null,null,null,0]
[null,"小計",null,null,null,null,{"$f":"SUM(G112:G117)","v":0},0,0,0,0,0,0,0,0,0,0,0,0,0,0,0,0,0,0,0,0,0,0,0,0,0,0,0,0,0,0,0,0,0,0,0,0,0,0,0,0,0]
["共用設備\n日常点検","消防設備",null,"点検","毎年",null,null,null,null,null,null,null,null,null,null,null,null,null,null,null,null,null,null,null,null,null,null,null,null,null,null,null,null,null,null,null,null,null,null,null,null,null,null,null,null,null,null,0]
[null,null,null,null,null,null,null,null,null,null,null,null,null,null,null,null,null,null,null,null,null,null,null,null,null,null,null,null,null,null,null,null,null,null,null,null,null,null,null,null,null,null,null,null,null,null,null,0]
[null,"増圧給水設備",null,"点検",null,null,null,null,null,null,null,null,null,null,null,null,null,null,null,null,null,null,null,null,null,null,null,null,null,null,null,null,null,null,null,null,null,null,null,null,null,null,null,null,null,null,null,0]
[null,null,null,null,null,null,null,null,null,null,null,null,null,null,null,null,null,null,null,null,null,null,null,null,null,null,null,null,null,null,null,null,null,null,null,null,null,null,null,null,null,null,null,null,null,null,null,0]
[null,"排水・浄化槽設備",null,"点検",null,null,null,null,null,null,null,null,null,null,null,null,null,null,null,null,null,null,null,null,null,null,null,null,null,null,null,null,null,null,null,null,null,null,null,null,null,null,null,null,null,null,null,{"$f":"SUM(G123:AU123)","v":0}]
[null,null,null,null,null,null,null,null,null,null,null,null,null,null,null,null,null,null,null,null,null,null,null,null,null,null,null,null,null,null,null,null,null,null,null,null,null,null,null,null,null,null,null,null,null,null,null,0]
[null,"排水管",null,"点検",null,null,null,null,null,null,null,null,null,null,null,null,null,null,null,null,null,null,null,null,null,null,null,null,null,null,null,null,null,null,null,null,null,null,null,null,null,null,null,null,null,null,null,0]
[null,null,null,null,null,null,null,null,null,null,null,null,null,null,null,null,null,null,null,null,null,null,null,null,null,null,null,null,null,null,null,null,null,null,null,null,null,null,null,null,null,null,null,null,null,null,null,0]
[null,"エレベーター",null,"点検",null,null,null,null,null,null,null,null,null,null,null,null,null,null,null,null,null,null,null,null,null,null,null,null,null,null,null,null,null,null,null,null,null,null,null,null,null,null,null,null,null,null,null,{"$f":"SUM(G127:AU127)","v":0}]
[null,null,null,null,null,null,null,null,null,null,null,null,null,null,null,null,null,null,null,null,null,null,null,null,null,null,null,null,null,null,null,null,null,null,null,null,null,null,null,null,null,null,null,null,null,null,null,0]
[null,"機械警備",null,"点検",null,null,null,null,null,null,null,null,null,null,null,null,null,null,null,null,null,null,null,null,null,null,null,null,null,null,null,null,null,null,null,null,null,null,null,null,null,null,null,null,null,null,null,{"$f":"SUM(G129:AU129)","v":0}]
[null,null,null,null,null,null,null,null,null,null,null,null,null,null,null,null,null,null,null,null,null,null,null,null,null,null,null,null,null,null,null,null,null,null,null,null,null,null,null,null,null,null,null,null,null,null,null,0]
[null,"日常清掃・点検",null,"点検",null,null,null,null,null,null,null,null,null,null,null,null,null,null,null,null,null,null,null,null,null,null,null,null,null,null,null,null,null,null,null,null,null,null,null,null,null,null,null,null,null,null,null,0]
[null,null,null,null,null,null,null,null,null,null,null,null,null,null,null,null,null,null,null,null,null,null,null,null,null,null,null,null,null,null,null,null,null,null,null,null,null,null,null,null,null,null,null,null,null,null,null,0]
[null,"その他",null,"点検",null,null,null,null,null,null,null,null,null,null,null,null,null,null,null,null,null,null,null,null,null,null,null,null,null,null,null,null,null,null,null,null,null,null,null,null,null,null,null,null,null,null,null,0]
[null,null,null,null,null,null,null,null,null,null,null,null,null,null,null,null,null,null,null,null,null,null,null,null,null,null,null,null,null,null,null,null,null,null,null,null,null,null,null,null,null,null,null,null,null,null,null,0]
[null,"小計",null,null,null,null,{"$f":"SUM(G119:G134)","v":0},0,0,0,0,0,0,0,0,0,0,0,0,0,0,0,0,0,0,0,0,0,0,0,0,0,0,0,0,0,0,0,0,0,0,0,0,0,0,0,0,0]
["経費・\n消費税","現場経費",null,null,"-",null,null,null,null,null,null,null,null,null,null,null,null,null,null,null,null,null,null,null,null,null,null,null,null,null,null,null,null,null,null,null,null,null,null,null,null,null,null,null,null,null,null,{"$f":"SUM(G136:AU136)","v":0}]
[null,null,null,null,null,null,null,null,null,null,null,null,null,null,null,null,null,null,null,null,null,null,null,null,null,null,null,null,null,null,null,null,null,null,null,null,null,null,null,null,null,null,null,null,null,null,null,0]
[null,"一般管理費\n（値引き込）",null,null,null,null,null,null,null,null,null,null,null,null,null,null,null,null,null,null,null,null,null,null,null,null,null,null,null,null,null,null,null,null,null,null,null,null,null,null,null,null,null,null,null,null,null,0]
[null,null,null,null,null,null,null,null,null,null,null,null,null,null,null,null,null,null,null,null,null,null,null,null,null,null,null,null,null,null,null,null,null,null,null,null,null,null,null,null,null,null,null,null,null,null,null,0]
[null,"消費税",null,null,null,null,null,null,null,null,null,null,null,null,null,null,null,null,null,null,null,null,null,null,null,null,null,null,null,null,null,null,null,null,null,null,null,null,null,null,null,null,null,null,null,null,null,0]
[null,null,null,null,null,null,null,null,null,null,null,null,null,null,null,null,null,null,null,null,null,null,null,null,null,null,null,null,null,null,null,null,null,null,null,null,null,null,null,null,null,null,null,null,null,null,null,0]
[null,"小計",null,null,null,null,{"$f":"SUM(G136:G141)","v":0},0,0,0,0,0,0,0,0,0,0,0,0,0,0,0,0,0,0,0,0,0,0,0,0,0,0,0,0,0,0,0,0,0,0,0,0,0,0,0,0,0]
["合計",null,null,null,null,null,{"$f":"SUM(G142,G135,G111,G106,G101,G94,G87,G78,G71,G64,G57,G50,G43,G26,G19,G118)","v":0},0,0,0,0,0,0,0,0,0,0,0,0,0,0,0,0,0,0,0,0,0,0,0,0,0,0,0,0,0,0,0,0,0,0,0,0,0,0,0,0,0,{"$f":"SUM(AV142,AV135,AV111,AV106,AV101,AV94,AV87,AV78,AV71,AV64,AV57,AV50,AV43,AV26,AV19,AV118)","v":0}]
["[専用部分]（千円）"]
[null,"部位","交換周期（年）","交換費（ﾘﾌｫｰﾑ費）\n（円／戸）",null,null,{"$f":"G6","v":0},1,2,3,4,5,6,7,8,9,10,11,12,13,14,15,16,17,18,19,20,21,22,23,24,25,26,27,28,29,30,31,32,33,34,35,36,37,38,39,40,"合計"]
["室内設備","給湯、風呂釜",null,null,null,null,null,null,null,null,null,null,null,null,null,null,null,null,null,null,null,null,null,null,null,null,null,null,null,null,null,null,null,null,null,null,null,null,null,null,null,null,null,null,null,null,null,{"$f":"SUM(G146:AU146)","v":0}]
[null,"エアコン",null,null,null,null,null,null,null,null,null,null,null,null,null,null,null,null,null,null,null,null,null,null,null,null,null,null,null,null,null,null,null,null,null,null,null,null,null,null,null,null,null,null,null,null,null,{"$f":"SUM(G147:AU147)","v":0}]
[null,"浴室設備",null,null,null,null,null,null,null,null,null,null,null,null,null,null,null,null,null,null,null,null,null,null,null,null,null,null,null,null,null,null,null,null,null,null,null,null,null,null,null,null,null,null,null,null,null,0]
[null,"厨房設備",null,null,null,null,null,null,null,null,null,null,null,null,null,null,null,null,null,null,null,null,null,null,null,null,null,null,null,null,null,null,null,null,null,null,null,null,null,null,null,null,null,null,null,null,null,0]
[null,"洗面化粧台",null,null,null,null,null,null,null,null,null,null,null,null,null,null,null,null,null,null,null,null,null,null,null,null,null,null,null,null,null,null,null,null,null,null,null,null,null,null,null,null,null,null,null,null,null,0]
[null,"トイレ",null,null,null,null,null,null,null,null,null,null,null,null,null,null,null,null,null,null,null,null,null,null,null,null,null,null,null,null,null,null,null,null,null,null,null,null,null,null,null,null,null,null,null,null,null,0]
[null,"日常修繕","毎年",0,"円/戸/月あたり",null,null,{"$f":"$D$152/1000*賃貸住宅経営のセルチェックシート【入力シート】!$G$15*12","v":0},{"$f":"$D$152/1000*賃貸住宅経営のセルチェックシート【入力シート】!$G$15*12","v":0},{"$f":"$D$152/1000*賃貸住宅経営のセルチェックシート【入力シート】!$G$15*12","v":0},{"$f":"$D$152/1000*賃貸住宅経営のセルチェックシート【入力シート】!$G$15*12","v":0},{"$f":"$D$152/1000*賃貸住宅経営のセルチェックシート【入力シート】!$G$15*12","v":0},{"$f":"$D$152/1000*賃貸住宅経営のセルチェックシート【入力シート】!$G$15*12","v":0},{"$f":"$D$152/1000*賃貸住宅経営のセルチェックシート【入力シート】!$G$15*12","v":0},{"$f":"$D$152/1000*賃貸住宅経営のセルチェックシート【入力シート】!$G$15*12","v":0},{"$f":"$D$152/1000*賃貸住宅経営のセルチェックシート【入力シート】!$G$15*12","v":0},{"$f":"$D$152/1000*賃貸住宅経営のセルチェックシート【入力シート】!$G$15*12","v":0},{"$f":"$D$152/1000*賃貸住宅経営のセルチェックシート【入力シート】!$G$15*12","v":0},{"$f":"$D$152/1000*賃貸住宅経営のセルチェックシート【入力シート】!$G$15*12","v":0},{"$f":"$D$152/1000*賃貸住宅経営のセルチェックシート【入力シート】!$G$15*12","v":0},{"$f":"$D$152/1000*賃貸住宅経営のセルチェックシート【入力シート】!$G$15*12","v":0},{"$f":"$D$152/1000*賃貸住宅経営のセルチェックシート【入力シート】!$G$15*12","v":0},{"$f":"$D$152/1000*賃貸住宅経営のセルチェックシート【入力シート】!$G$15*12","v":0},{"$f":"$D$152/1000*賃貸住宅経営のセルチェックシート【入力シート】!$G$15*12","v":0},{"$f":"$D$152/1000*賃貸住宅経営のセルチェックシート【入力シート】!$G$15*12","v":0},{"$f":"$D$152/1000*賃貸住宅経営のセルチェックシート【入力シート】!$G$15*12","v":0},{"$f":"$D$152/1000*賃貸住宅経営のセルチェックシート【入力シート】!$G$15*12","v":0},{"$f":"$D$152/1000*賃貸住宅経営のセルチェックシート【入力シート】!$G$15*12","v":0},{"$f":"$D$152/1000*賃貸住宅経営のセルチェックシート【入力シート】!$G$15*12","v":0},{"$f":"$D$152/1000*賃貸住宅経営のセルチェックシート【入力シート】!$G$15*12","v":0},{"$f":"$D$152/1000*賃貸住宅経営のセルチェックシート【入力シート】!$G$15*12","v":0},{"$f":"$D$152/1000*賃貸住宅経営のセルチェックシート【入力シート】!$G$15*12","v":0},{"$f":"$D$152/1000*賃貸住宅経営のセルチェックシート【入力シート】!$G$15*12","v":0},{"$f":"$D$152/1000*賃貸住宅経営のセルチェックシート【入力シート】!$G$15*12","v":0},{"$f":"$D$152/1000*賃貸住宅経営のセルチェックシート【入力シート】!$G$15*12","v":0},{"$f":"$D$152/1000*賃貸住宅経営のセルチェックシート【入力シート】!$G$15*12","v":0},{"$f":"$D$152/1000*賃貸住宅経営のセルチェックシート【入力シート】!$G$15*12","v":0},{"$f":"$D$152/1000*賃貸住宅経営のセルチェックシート【入力シート】!$G$15*12","v":0},{"$f":"$D$152/1000*賃貸住宅経営のセルチェックシート【入力シート】!$G$15*12","v":0},{"$f":"$D$152/1000*賃貸住宅経営のセルチェックシート【入力シート】!$G$15*12","v":0},{"$f":"$D$152/1000*賃貸住宅経営のセルチェックシート【入力シート】!$G$15*12","v":0},{"$f":"$D$152/1000*賃貸住宅経営のセルチェックシート【入力シート】!$G$15*12","v":0},{"$f":"$D$152/1000*賃貸住宅経営のセルチェックシート【入力シート】!$G$15*12","v":0},{"$f":"$D$152/1000*賃貸住宅経営のセルチェックシート【入力シート】!$G$15*12","v":0},{"$f":"$D$152/1000*賃貸住宅経営のセルチェックシート【入力シート】!$G$15*12","v":0},{"$f":"$D$152/1000*賃貸住宅経営のセルチェックシート【入力シート】!$G$15*12","v":0},{"$f":"$D$152/1000*賃貸住宅経営のセルチェックシート【入力シート】!$G$15*12","v":0},{"$f":"SUM(G152:AU152)","v":0}]
[null,"合計",null,null,null,null,{"$f":"SUM(G146:G152)","v":0},{"$f":"SUM(H146:H152)","v":0},0,0,0,0,0,0,0,0,0,0,0,0,0,0,0,0,0,0,0,0,0,0,0,0,0,0,0,0,0,0,0,0,0,0,0,0,0,0,{"$f":"SUM(AU146:AU152)","v":0},0,{"$f":"SUM(AV146:AV152)","v":0}]

{"sheet":"キャッシュフロー表","index":2,"n_rows":72,"n_cols":65,"rows_kept":72,"cut":false,"hidden":false,"merged":[[33,1,33,2],[26,1,26,2],[30,1,30,2],[31,1,31,2],[32,1,32,2]]}
["■キャッシュフロー表",null,null,null,{"$f":"長期修繕計画書【入力シート】!G5","v":{"$error":"#VALUE!"}},{"$f":"長期修繕計画書【入力シート】!H5","v":{"$error":"#VALUE!"}},{"$f":"長期修繕計画書【入力シート】!I5","v":{"$error":"#VALUE!"}},{"$f":"長期修繕計画書【入力シート】!J5","v":{"$error":"#VALUE!"}},{"$f":"長期修繕計画書【入力シート】!K5","v":{"$error":"#VALUE!"}},{"$f":"長期修繕計画書【入力シート】!L5","v":{"$error":"#VALUE!"}},{"$f":"長期修繕計画書【入力シート】!M5","v":{"$error":"#VALUE!"}},{"$f":"長期修繕計画書【入力シート】!N5","v":{"$error":"#VALUE!"}},{"$f":"長期修繕計画書【入力シート】!O5","v":{"$error":"#VALUE!"}},{"$f":"長期修繕計画書【入力シート】!P5","v":{"$error":"#VALUE!"}},{"$f":"長期修繕計画書【入力シート】!Q5","v":{"$error":"#VALUE!"}},{"$f":"長期修繕計画書【入力シート】!R5","v":{"$error":"#VALUE!"}},{"$f":"長期修繕計画書【入力シート】!S5","v":{"$error":"#VALUE!"}},{"$f":"長期修繕計画書【入力シート】!T5","v":{"$error":"#VALUE!"}},{"$f":"長期修繕計画書【入力シート】!U5","v":{"$error":"#VALUE!"}},{"$f":"長期修繕計画書【入力シート】!V5","v":{"$error":"#VALUE!"}},{"$f":"長期修繕計画書【入力シート】!W5","v":{"$error":"#VALUE!"}},{"$f":"長期修繕計画書【入力シート】!X5","v":{"$error":"#VALUE!"}},{"$f":"長期修繕計画書【入力シート】!Y5","v":{"$error":"#VALUE!"}},{"$f":"長期修繕計画書【入力シート】!Z5","v":{"$error":"#VALUE!"}},{"$f":"長期修繕計画書【入力シート】!AA5","v":{"$error":"#VALUE!"}},{"$f":"長期修繕計画書【入力シート】!AB5","v":{"$error":"#VALUE!"}},{"$f":"長期修繕計画書【入力シート】!AC5","v":{"$error":"#VALUE!"}},{"$f":"長期修繕計画書【入力シート】!AD5","v":{"$error":"#VALUE!"}},{"$f":"長期修繕計画書【入力シート】!AE5","v":{"$error":"#VALUE!"}},{"$f":"長期修繕計画書【入力シート】!AF5","v":{"$error":"#VALUE!"}},{"$f":"長期修繕計画書【入力シート】!AG5","v":{"$error":"#VALUE!"}},{"$f":"長期修繕計画書【入力シート】!AH5","v":{"$error":"#VALUE!"}},{"$f":"長期修繕計画書【入力シート】!AI5","v":{"$error":"#VALUE!"}},{"$f":"長期修繕計画書【入力シート】!AJ5","v":{"$error":"#VALUE!"}},{"$f":"長期修繕計画書【入力シート】!AK5","v":{"$error":"#VALUE!"}},{"$f":"長期修繕計画書【入力シート】!AL5","v":{"$error":"#VALUE!"}},{"$f":"長期修繕計画書【入力シート】!AM5","v":{"$error":"#VALUE!"}},{"$f":"長期修繕計画書【入力シート】!AN5","v":{"$error":"#VALUE!"}},{"$f":"長期修繕計画書【入力シート】!AO5","v":{"$error":"#VALUE!"}},{"$f":"長期修繕計画書【入力シート】!AP5","v":{"$error":"#VALUE!"}},{"$f":"長期修繕計画書【入力シート】!AQ5","v":{"$error":"#VALUE!"}},{"$f":"長期修繕計画書【入力シート】!AR5","v":{"$error":"#VALUE!"}},{"$f":"長期修繕計画書【入力シート】!AS5","v":{"$error":"#VALUE!"}},{"$f":"長期修繕計画書【入力シート】!AT5","v":{"$error":"#VALUE!"}},{"$f":"長期修繕計画書【入力シート】!AU5","v":{"$error":"#VALUE!"}},{"$f":"AS1+1","v":{"$error":"#VALUE!"}},{"$f":"AT1+1","v":{"$error":"#VALUE!"}},{"$error":"#VALUE!"},{"$error":"#VALUE!"},{"$error":"#VALUE!"},{"$error":"#VALUE!"},{"$error":"#VALUE!"},{"$error":"#VALUE!"},{"$error":"#VALUE!"},{"$error":"#VALUE!"},{"$error":"#VALUE!"},{"$error":"#VALUE!"},{"$error":"#VALUE!"},{"$error":"#VALUE!"},{"$error":"#VALUE!"},{"$error":"#VALUE!"},{"$error":"#VALUE!"},{"$error":"#VALUE!"},{"$error":"#VALUE!"},{"$error":"#VALUE!"}]
[null,null,"（単位：万円）",null,0,1,{"$f":"F2+1","v":2},3,4,5,6,7,8,9,10,11,12,13,{"$f":"R2+1","v":14},15,16,17,{"$f":"V2+1","v":18},{"$f":"W2+1","v":19},{"$f":"X2+1","v":20},{"$f":"Y2+1","v":21},22,23,24,25,26,27,28,29,30,{"$f":"AI2+1","v":31},{"$f":"AJ2+1","v":32},{"$f":"AK2+1","v":33},{"$f":"AL2+1","v":34},{"$f":"AM2+1","v":35},{"$f":"AN2+1","v":36},{"$f":"AO2+1","v":37},{"$f":"AP2+1","v":38},{"$f":"AQ2+1","v":39},{"$f":"AR2+1","v":40},{"$f":"AS2+1","v":41},{"$f":"AT2+1","v":42},{"$f":"AU2+1","v":43},{"$f":"AV2+1","v":44},{"$f":"AW2+1","v":45},{"$f":"AX2+1","v":46},{"$f":"AY2+1","v":47},{"$f":"AZ2+1","v":48},{"$f":"BA2+1","v":49},{"$f":"BB2+1","v":50},{"$f":"BC2+1","v":51},{"$f":"BD2+1","v":52},{"$f":"BE2+1","v":53},{"$f":"BF2+1","v":54},{"$f":"BG2+1","v":55},{"$f":"BH2+1","v":56},{"$f":"BI2+1","v":57},{"$f":"BJ2+1","v":58},{"$f":"BK2+1","v":59},{"$f":"BL2+1","v":60}]
[null,"収入","家賃収入",null,null,{"$f":"F44","v":0},{"$error":"#N/A"},{"$error":"#N/A"},{"$error":"#N/A"},{"$error":"#N/A"},{"$error":"#N/A"},{"$error":"#N/A"},{"$error":"#N/A"},{"$error":"#N/A"},{"$error":"#N/A"},{"$error":"#N/A"},{"$error":"#N/A"},{"$error":"#N/A"},{"$error":"#N/A"},{"$error":"#N/A"},{"$error":"#N/A"},{"$error":"#N/A"},{"$error":"#N/A"},{"$error":"#N/A"},{"$error":"#N/A"},{"$error":"#N/A"},{"$error":"#N/A"},{"$error":"#N/A"},{"$error":"#N/A"},{"$error":"#N/A"},{"$error":"#N/A"},{"$error":"#N/A"},{"$error":"#N/A"},{"$error":"#N/A"},{"$error":"#N/A"},{"$error":"#N/A"},{"$error":"#N/A"},{"$error":"#N/A"},{"$error":"#N/A"},{"$error":"#N/A"},{"$error":"#N/A"},{"$error":"#N/A"},{"$error":"#N/A"},{"$error":"#N/A"},{"$error":"#N/A"},{"$f":"AT44","v":{"$error":"#N/A"}},{"$error":"#N/A"},{"$error":"#N/A"},{"$error":"#N/A"},{"$error":"#N/A"},{"$error":"#N/A"},{"$error":"#N/A"},{"$error":"#N/A"},{"$error":"#N/A"},{"$error":"#N/A"},{"$error":"#N/A"},{"$error":"#N/A"},{"$error":"#N/A"},{"$error":"#N/A"},{"$error":"#N/A"},{"$error":"#N/A"},{"$error":"#N/A"},{"$error":"#N/A"},{"$error":"#N/A"},{"$error":"#N/A"}]
[null,null,"銀行借入",null,{"$f":"賃貸住宅経営のセルチェックシート【入力シート】!$G$26/10000","v":0}]
[null,null,"自己資金",null,{"$f":"(賃貸住宅経営のセルチェックシート【入力シート】!G25-賃貸住宅経営のセルチェックシート【入力シート】!G26)/10000","v":0}]
[null,null,"収入計",null,{"$f":"SUM(E3:E5)","v":0},0,{"$error":"#N/A"},{"$error":"#N/A"},{"$error":"#N/A"},{"$error":"#N/A"},{"$error":"#N/A"},{"$error":"#N/A"},{"$error":"#N/A"},{"$error":"#N/A"},{"$error":"#N/A"},{"$error":"#N/A"},{"$error":"#N/A"},{"$f":"SUM(R3:R5)","v":{"$error":"#N/A"}},{"$error":"#N/A"},{"$error":"#N/A"},{"$error":"#N/A"},{"$error":"#N/A"},{"$error":"#N/A"},{"$error":"#N/A"},{"$error":"#N/A"},{"$error":"#N/A"},{"$error":"#N/A"},{"$error":"#N/A"},{"$error":"#N/A"},{"$error":"#N/A"},{"$error":"#N/A"},{"$error":"#N/A"},{"$error":"#N/A"},{"$error":"#N/A"},{"$error":"#N/A"},{"$f":"SUM(AJ3:AJ5)","v":{"$error":"#N/A"}},{"$error":"#N/A"},{"$error":"#N/A"},{"$error":"#N/A"},{"$error":"#N/A"},{"$error":"#N/A"},{"$error":"#N/A"},{"$error":"#N/A"},{"$error":"#N/A"},{"$error":"#N/A"},{"$f":"SUM(AT3:AT5)","v":{"$error":"#N/A"}},{"$error":"#N/A"},{"$error":"#N/A"},{"$error":"#N/A"},{"$error":"#N/A"},{"$error":"#N/A"},{"$error":"#N/A"},{"$error":"#N/A"},{"$error":"#N/A"},{"$error":"#N/A"},{"$error":"#N/A"},{"$error":"#N/A"},{"$error":"#N/A"},{"$error":"#N/A"},{"$error":"#N/A"},{"$error":"#N/A"},{"$error":"#N/A"},{"$error":"#N/A"},{"$error":"#N/A"},{"$error":"#N/A"}]
[null,null,"建物建設費（初期建設費）",null,{"$f":"賃貸住宅経営のセルチェックシート【入力シート】!$G$25/10000","v":0}]
["収支計算",null,"建物管理費(募集・管理委託等)",null,null,{"$f":"F39*賃貸住宅経営のセルチェックシート【入力シート】!$Y$17","v":0},{"$f":"G39*賃貸住宅経営のセルチェックシート【入力シート】!$Y$17","v":{"$error":"#N/A"}},{"$f":"H39*賃貸住宅経営のセルチェックシート【入力シート】!$Y$17","v":{"$error":"#N/A"}},{"$f":"I39*賃貸住宅経営のセルチェックシート【入力シート】!$Y$17","v":{"$error":"#N/A"}},{"$f":"J39*賃貸住宅経営のセルチェックシート【入力シート】!$Y$17","v":{"$error":"#N/A"}},{"$f":"K39*賃貸住宅経営のセルチェックシート【入力シート】!$Y$17","v":{"$error":"#N/A"}},{"$f":"L39*賃貸住宅経営のセルチェックシート【入力シート】!$Y$17","v":{"$error":"#N/A"}},{"$f":"M39*賃貸住宅経営のセルチェックシート【入力シート】!$Y$17","v":{"$error":"#N/A"}},{"$f":"N39*賃貸住宅経営のセルチェックシート【入力シート】!$Y$17","v":{"$error":"#N/A"}},{"$f":"O39*賃貸住宅経営のセルチェックシート【入力シート】!$Y$17","v":{"$error":"#N/A"}},{"$f":"P39*賃貸住宅経営のセルチェックシート【入力シート】!$Y$17","v":{"$error":"#N/A"}},{"$f":"Q39*賃貸住宅経営のセルチェックシート【入力シート】!$Y$17","v":{"$error":"#N/A"}},{"$f":"R39*賃貸住宅経営のセルチェックシート【入力シート】!$Y$17","v":{"$error":"#N/A"}},{"$f":"S39*賃貸住宅経営のセルチェックシート【入力シート】!$Y$17","v":{"$error":"#N/A"}},{"$f":"T39*賃貸住宅経営のセルチェックシート【入力シート】!$Y$17","v":{"$error":"#N/A"}},{"$f":"U39*賃貸住宅経営のセルチェックシート【入力シート】!$Y$17","v":{"$error":"#N/A"}},{"$f":"V39*賃貸住宅経営のセルチェックシート【入力シート】!$Y$17","v":{"$error":"#N/A"}},{"$f":"W39*賃貸住宅経営のセルチェックシート【入力シート】!$Y$17","v":{"$error":"#N/A"}},{"$f":"X39*賃貸住宅経営のセルチェックシート【入力シート】!$Y$17","v":{"$error":"#N/A"}},{"$f":"Y39*賃貸住宅経営のセルチェックシート【入力シート】!$Y$17","v":{"$error":"#N/A"}},{"$f":"Z39*賃貸住宅経営のセルチェックシート【入力シート】!$Y$17","v":{"$error":"#N/A"}},{"$f":"AA39*賃貸住宅経営のセルチェックシート【入力シート】!$Y$17","v":{"$error":"#N/A"}},{"$f":"AB39*賃貸住宅経営のセルチェックシート【入力シート】!$Y$17","v":{"$error":"#N/A"}},{"$f":"AC39*賃貸住宅経営のセルチェックシート【入力シート】!$Y$17","v":{"$error":"#N/A"}},{"$f":"AD39*賃貸住宅経営のセルチェックシート【入力シート】!$Y$17","v":{"$error":"#N/A"}},{"$f":"AE39*賃貸住宅経営のセルチェックシート【入力シート】!$Y$17","v":{"$error":"#N/A"}},{"$f":"AF39*賃貸住宅経営のセルチェックシート【入力シート】!$Y$17","v":{"$error":"#N/A"}},{"$f":"AG39*賃貸住宅経営のセルチェックシート【入力シート】!$Y$17","v":{"$error":"#N/A"}},{"$f":"AH39*賃貸住宅経営のセルチェックシート【入力シート】!$Y$17","v":{"$error":"#N/A"}},{"$f":"AI39*賃貸住宅経営のセルチェックシート【入力シート】!$Y$17","v":{"$error":"#N/A"}},{"$f":"AJ39*賃貸住宅経営のセルチェックシート【入力シート】!$Y$17","v":{"$error":"#N/A"}},{"$f":"AK39*賃貸住宅経営のセルチェックシート【入力シート】!$Y$17","v":{"$error":"#N/A"}},{"$f":"AL39*賃貸住宅経営のセルチェックシート【入力シート】!$Y$17","v":{"$error":"#N/A"}},{"$f":"AM39*賃貸住宅経営のセルチェックシート【入力シート】!$Y$17","v":{"$error":"#N/A"}},{"$f":"AN39*賃貸住宅経営のセルチェックシート【入力シート】!$Y$17","v":{"$error":"#N/A"}},{"$f":"AO39*賃貸住宅経営のセルチェックシート【入力シート】!$Y$17","v":{"$error":"#N/A"}},{"$f":"AP39*賃貸住宅経営のセルチェックシート【入力シート】!$Y$17","v":{"$error":"#N/A"}},{"$f":"AQ39*賃貸住宅経営のセルチェックシート【入力シート】!$Y$17","v":{"$error":"#N/A"}},{"$f":"AR39*賃貸住宅経営のセルチェックシート【入力シート】!$Y$17","v":{"$error":"#N/A"}},{"$f":"AS39*賃貸住宅経営のセルチェックシート【入力シート】!$Y$17","v":{"$error":"#N/A"}},{"$f":"AT39*賃貸住宅経営のセルチェックシート【入力シート】!$Y$17","v":{"$error":"#N/A"}},{"$f":"AU39*賃貸住宅経営のセルチェックシート【入力シート】!$Y$17","v":{"$error":"#N/A"}},{"$f":"AV39*賃貸住宅経営のセルチェックシート【入力シート】!$Y$17","v":{"$error":"#N/A"}},{"$f":"AW39*賃貸住宅経営のセルチェックシート【入力シート】!$Y$17","v":{"$error":"#N/A"}},{"$f":"AX39*賃貸住宅経営のセルチェックシート【入力シート】!$Y$17","v":{"$error":"#N/A"}},{"$f":"AY39*賃貸住宅経営のセルチェックシート【入力シート】!$Y$17","v":{"$error":"#N/A"}},{"$f":"AZ39*賃貸住宅経営のセルチェックシート【入力シート】!$Y$17","v":{"$error":"#N/A"}},{"$f":"BA39*賃貸住宅経営のセルチェックシート【入力シート】!$Y$17","v":{"$error":"#N/A"}},{"$f":"BB39*賃貸住宅経営のセルチェックシート【入力シート】!$Y$17","v":{"$error":"#N/A"}},{"$f":"BC39*賃貸住宅経営のセルチェックシート【入力シート】!$Y$17","v":{"$error":"#N/A"}},{"$f":"BD39*賃貸住宅経営のセルチェックシート【入力シート】!$Y$17","v":{"$error":"#N/A"}},{"$f":"BE39*賃貸住宅経営のセルチェックシート【入力シート】!$Y$17","v":{"$error":"#N/A"}},{"$f":"BF39*賃貸住宅経営のセルチェックシート【入力シート】!$Y$17","v":{"$error":"#N/A"}},{"$f":"BG39*賃貸住宅経営のセルチェックシート【入力シート】!$Y$17","v":{"$error":"#N/A"}},{"$f":"BH39*賃貸住宅経営のセルチェックシート【入力シート】!$Y$17","v":{"$error":"#N/A"}},{"$f":"BI39*賃貸住宅経営のセルチェックシート【入力シート】!$Y$17","v":{"$error":"#N/A"}},{"$f":"BJ39*賃貸住宅経営のセルチェックシート【入力シート】!$Y$17","v":{"$error":"#N/A"}},{"$f":"BK39*賃貸住宅経営のセルチェックシート【入力シート】!$Y$17","v":{"$error":"#N/A"}},{"$f":"BL39*賃貸住宅経営のセルチェックシート【入力シート】!$Y$17","v":{"$error":"#N/A"}},{"$f":"BM39*賃貸住宅経営のセルチェックシート【入力シート】!$Y$17","v":{"$error":"#N/A"}}]
[null,null,"保険料",{"$f":"VLOOKUP(賃貸住宅経営のセルチェックシート【入力シート】!$V$10,算出基礎係数!$A$2:$D$4,4,FALSE)","v":{"$error":"#N/A"}},null,{"$f":"賃貸住宅経営のセルチェックシート【入力シート】!$G$25*D9/10000","v":{"$error":"#N/A"}},{"$f":"$F$9","v":{"$error":"#N/A"}},{"$error":"#N/A"},{"$error":"#N/A"},{"$error":"#N/A"},{"$error":"#N/A"},{"$error":"#N/A"},{"$error":"#N/A"},{"$error":"#N/A"},{"$error":"#N/A"},{"$error":"#N/A"},{"$error":"#N/A"},{"$error":"#N/A"},{"$error":"#N/A"},{"$error":"#N/A"},{"$error":"#N/A"},{"$error":"#N/A"},{"$error":"#N/A"},{"$error":"#N/A"},{"$error":"#N/A"},{"$error":"#N/A"},{"$error":"#N/A"},{"$error":"#N/A"},{"$error":"#N/A"},{"$error":"#N/A"},{"$error":"#N/A"},{"$error":"#N/A"},{"$error":"#N/A"},{"$error":"#N/A"},{"$error":"#N/A"},{"$error":"#N/A"},{"$error":"#N/A"},{"$error":"#N/A"},{"$error":"#N/A"},{"$error":"#N/A"},{"$error":"#N/A"},{"$error":"#N/A"},{"$error":"#N/A"},{"$error":"#N/A"},{"$error":"#N/A"},{"$error":"#N/A"},{"$error":"#N/A"},{"$error":"#N/A"},{"$error":"#N/A"},{"$error":"#N/A"},{"$error":"#N/A"},{"$error":"#N/A"},{"$error":"#N/A"},{"$error":"#N/A"},{"$error":"#N/A"},{"$error":"#N/A"},{"$error":"#N/A"},{"$error":"#N/A"},{"$error":"#N/A"},{"$error":"#N/A"},{"$error":"#N/A"},{"$error":"#N/A"},{"$error":"#N/A"},{"$error":"#N/A"},{"$error":"#N/A"}]
[null,null,"原状回復費",null,null,{"$f":"ROUND(賃貸住宅経営のセルチェックシート【入力シート】!V18*賃貸住宅経営のセルチェックシート【入力シート】!G15*賃貸住宅経営のセルチェックシート【入力シート】!M16/10000,0)","v":{"$error":"#VALUE!"}},{"$f":"$F$10","v":{"$error":"#VALUE!"}},{"$error":"#VALUE!"},{"$error":"#VALUE!"},{"$error":"#VALUE!"},{"$error":"#VALUE!"},{"$error":"#VALUE!"},{"$error":"#VALUE!"},{"$error":"#VALUE!"},{"$error":"#VALUE!"},{"$error":"#VALUE!"},{"$error":"#VALUE!"},{"$error":"#VALUE!"},{"$error":"#VALUE!"},{"$error":"#VALUE!"},{"$error":"#VALUE!"},{"$error":"#VALUE!"},{"$error":"#VALUE!"},{"$error":"#VALUE!"},{"$error":"#VALUE!"},{"$error":"#VALUE!"},{"$error":"#VALUE!"},{"$error":"#VALUE!"},{"$error":"#VALUE!"},{"$error":"#VALUE!"},{"$error":"#VALUE!"},{"$error":"#VALUE!"},{"$error":"#VALUE!"},{"$error":"#VALUE!"},{"$error":"#VALUE!"},{"$error":"#VALUE!"},{"$error":"#VALUE!"},{"$error":"#VALUE!"},{"$error":"#VALUE!"},{"$error":"#VALUE!"},{"$error":"#VALUE!"},{"$error":"#VALUE!"},{"$error":"#VALUE!"},{"$error":"#VALUE!"},{"$error":"#VALUE!"},{"$error":"#VALUE!"},{"$error":"#VALUE!"},{"$error":"#VALUE!"},{"$error":"#VALUE!"},{"$error":"#VALUE!"},{"$error":"#VALUE!"},{"$error":"#VALUE!"},{"$error":"#VALUE!"},{"$error":"#VALUE!"},{"$error":"#VALUE!"},{"$error":"#VALUE!"},{"$error":"#VALUE!"},{"$error":"#VALUE!"},{"$error":"#VALUE!"},{"$error":"#VALUE!"},{"$error":"#VALUE!"},{"$error":"#VALUE!"},{"$error":"#VALUE!"},{"$error":"#VALUE!"},{"$error":"#VALUE!"}]
[null,null,"修繕費（専用部分設備修繕（故障対応含む））",null,{"$f":"長期修繕計画書【入力シート】!G153/10","v":0},{"$f":"長期修繕計画書【入力シート】!H153/10","v":0},{"$f":"長期修繕計画書【入力シート】!I153/10","v":0},{"$f":"長期修繕計画書【入力シート】!J153/10","v":0},{"$f":"長期修繕計画書【入力シート】!K153/10","v":0},{"$f":"長期修繕計画書【入力シート】!L153/10","v":0},{"$f":"長期修繕計画書【入力シート】!M153/10","v":0},{"$f":"長期修繕計画書【入力シート】!N153/10","v":0},{"$f":"長期修繕計画書【入力シート】!O153/10","v":0},{"$f":"長期修繕計画書【入力シート】!P153/10","v":0},{"$f":"長期修繕計画書【入力シート】!Q153/10","v":0},{"$f":"長期修繕計画書【入力シート】!R153/10","v":0},{"$f":"長期修繕計画書【入力シート】!S153/10","v":0},{"$f":"長期修繕計画書【入力シート】!T153/10","v":0},{"$f":"長期修繕計画書【入力シート】!U153/10","v":0},{"$f":"長期修繕計画書【入力シート】!V153/10","v":0},{"$f":"長期修繕計画書【入力シート】!W153/10","v":0},{"$f":"長期修繕計画書【入力シート】!X153/10","v":0},{"$f":"長期修繕計画書【入力シート】!Y153/10","v":0},{"$f":"長期修繕計画書【入力シート】!Z153/10","v":0},{"$f":"長期修繕計画書【入力シート】!AA153/10","v":0},{"$f":"長期修繕計画書【入力シート】!AB153/10","v":0},{"$f":"長期修繕計画書【入力シート】!AC153/10","v":0},{"$f":"長期修繕計画書【入力シート】!AD153/10","v":0},{"$f":"長期修繕計画書【入力シート】!AE153/10","v":0},{"$f":"長期修繕計画書【入力シート】!AF153/10","v":0},{"$f":"長期修繕計画書【入力シート】!AG153/10","v":0},{"$f":"長期修繕計画書【入力シート】!AH153/10","v":0},{"$f":"長期修繕計画書【入力シート】!AI153/10","v":0},{"$f":"長期修繕計画書【入力シート】!AJ153/10","v":0},{"$f":"長期修繕計画書【入力シート】!AK153/10","v":0},{"$f":"長期修繕計画書【入力シート】!AL153/10","v":0},{"$f":"長期修繕計画書【入力シート】!AM153/10","v":0},{"$f":"長期修繕計画書【入力シート】!AN153/10","v":0},{"$f":"長期修繕計画書【入力シート】!AO153/10","v":0},{"$f":"長期修繕計画書【入力シート】!AP153/10","v":0},{"$f":"長期修繕計画書【入力シート】!AQ153/10","v":0},{"$f":"長期修繕計画書【入力シート】!AR153/10","v":0},{"$f":"長期修繕計画書【入力シート】!AS153/10","v":0},{"$f":"長期修繕計画書【入力シート】!AT153/10","v":0},{"$f":"長期修繕計画書【入力シート】!AU153/10","v":0}]
[null,"支出","修繕費（計画修繕）",null,{"$f":"長期修繕計画書【入力シート】!G143/10","v":0},{"$f":"長期修繕計画書【入力シート】!H143/10","v":0},{"$f":"長期修繕計画書【入力シート】!I143/10","v":0},{"$f":"長期修繕計画書【入力シート】!J143/10","v":0},{"$f":"長期修繕計画書【入力シート】!K143/10","v":0},{"$f":"長期修繕計画書【入力シート】!L143/10","v":0},{"$f":"長期修繕計画書【入力シート】!M143/10","v":0},{"$f":"長期修繕計画書【入力シート】!N143/10","v":0},{"$f":"長期修繕計画書【入力シート】!O143/10","v":0},{"$f":"長期修繕計画書【入力シート】!P143/10","v":0},{"$f":"長期修繕計画書【入力シート】!Q143/10","v":0},{"$f":"長期修繕計画書【入力シート】!R143/10","v":0},{"$f":"長期修繕計画書【入力シート】!S143/10","v":0},{"$f":"長期修繕計画書【入力シート】!T143/10","v":0},{"$f":"長期修繕計画書【入力シート】!U143/10","v":0},{"$f":"長期修繕計画書【入力シート】!V143/10","v":0},{"$f":"長期修繕計画書【入力シート】!W143/10","v":0},{"$f":"長期修繕計画書【入力シート】!X143/10","v":0},{"$f":"長期修繕計画書【入力シート】!Y143/10","v":0},{"$f":"長期修繕計画書【入力シート】!Z143/10","v":0},{"$f":"長期修繕計画書【入力シート】!AA143/10","v":0},{"$f":"長期修繕計画書【入力シート】!AB143/10","v":0},{"$f":"長期修繕計画書【入力シート】!AC143/10","v":0},{"$f":"長期修繕計画書【入力シート】!AD143/10","v":0},{"$f":"長期修繕計画書【入力シート】!AE143/10","v":0},{"$f":"長期修繕計画書【入力シート】!AF143/10","v":0},{"$f":"長期修繕計画書【入力シート】!AG143/10","v":0},{"$f":"長期修繕計画書【入力シート】!AH143/10","v":0},{"$f":"長期修繕計画書【入力シート】!AI143/10","v":0},{"$f":"長期修繕計画書【入力シート】!AJ143/10","v":0},{"$f":"長期修繕計画書【入力シート】!AK143/10","v":0},{"$f":"長期修繕計画書【入力シート】!AL143/10","v":0},{"$f":"長期修繕計画書【入力シート】!AM143/10","v":0},{"$f":"長期修繕計画書【入力シート】!AN143/10","v":0},{"$f":"長期修繕計画書【入力シート】!AO143/10","v":0},{"$f":"長期修繕計画書【入力シート】!AP143/10","v":0},{"$f":"長期修繕計画書【入力シート】!AQ143/10","v":0},{"$f":"長期修繕計画書【入力シート】!AR143/10","v":0},{"$f":"長期修繕計画書【入力シート】!AS143/10","v":0},{"$f":"長期修繕計画書【入力シート】!AT143/10","v":0},{"$f":"長期修繕計画書【入力シート】!AU143/10","v":0}]
[null,null,"土地固定資産税・都市計画税",null,null,{"$f":"(賃貸住宅経営のセルチェックシート【入力シート】!$G$21+賃貸住宅経営のセルチェックシート【入力シート】!$V$21)/10000","v":0},{"$f":"(賃貸住宅経営のセルチェックシート【入力シート】!$G$21+賃貸住宅経営のセルチェックシート【入力シート】!$V$21)/10000","v":0},{"$f":"(賃貸住宅経営のセルチェックシート【入力シート】!$G$21+賃貸住宅経営のセルチェックシート【入力シート】!$V$21)/10000","v":0},{"$f":"(賃貸住宅経営のセルチェックシート【入力シート】!$G$21+賃貸住宅経営のセルチェックシート【入力シート】!$V$21)/10000","v":0},{"$f":"(賃貸住宅経営のセルチェックシート【入力シート】!$G$21+賃貸住宅経営のセルチェックシート【入力シート】!$V$21)/10000","v":0},{"$f":"(賃貸住宅経営のセルチェックシート【入力シート】!$G$21+賃貸住宅経営のセルチェックシート【入力シート】!$V$21)/10000","v":0},{"$f":"(賃貸住宅経営のセルチェックシート【入力シート】!$G$21+賃貸住宅経営のセルチェックシート【入力シート】!$V$21)/10000","v":0},{"$f":"(賃貸住宅経営のセルチェックシート【入力シート】!$G$21+賃貸住宅経営のセルチェックシート【入力シート】!$V$21)/10000","v":0},{"$f":"(賃貸住宅経営のセルチェックシート【入力シート】!$G$21+賃貸住宅経営のセルチェックシート【入力シート】!$V$21)/10000","v":0},{"$f":"(賃貸住宅経営のセルチェックシート【入力シート】!$G$21+賃貸住宅経営のセルチェックシート【入力シート】!$V$21)/10000","v":0},{"$f":"(賃貸住宅経営のセルチェックシート【入力シート】!$G$21+賃貸住宅経営のセルチェックシート【入力シート】!$V$21)/10000","v":0},{"$f":"(賃貸住宅経営のセルチェックシート【入力シート】!$G$21+賃貸住宅経営のセルチェックシート【入力シート】!$V$21)/10000","v":0},{"$f":"(賃貸住宅経営のセルチェックシート【入力シート】!$G$21+賃貸住宅経営のセルチェックシート【入力シート】!$V$21)/10000","v":0},{"$f":"(賃貸住宅経営のセルチェックシート【入力シート】!$G$21+賃貸住宅経営のセルチェックシート【入力シート】!$V$21)/10000","v":0},{"$f":"(賃貸住宅経営のセルチェックシート【入力シート】!$G$21+賃貸住宅経営のセルチェックシート【入力シート】!$V$21)/10000","v":0},{"$f":"(賃貸住宅経営のセルチェックシート【入力シート】!$G$21+賃貸住宅経営のセルチェックシート【入力シート】!$V$21)/10000","v":0},{"$f":"(賃貸住宅経営のセルチェックシート【入力シート】!$G$21+賃貸住宅経営のセルチェックシート【入力シート】!$V$21)/10000","v":0},{"$f":"(賃貸住宅経営のセルチェックシート【入力シート】!$G$21+賃貸住宅経営のセルチェックシート【入力シート】!$V$21)/10000","v":0},{"$f":"(賃貸住宅経営のセルチェックシート【入力シート】!$G$21+賃貸住宅経営のセルチェックシート【入力シート】!$V$21)/10000","v":0},{"$f":"(賃貸住宅経営のセルチェックシート【入力シート】!$G$21+賃貸住宅経営のセルチェックシート【入力シート】!$V$21)/10000","v":0},{"$f":"(賃貸住宅経営のセルチェックシート【入力シート】!$G$21+賃貸住宅経営のセルチェックシート【入力シート】!$V$21)/10000","v":0},{"$f":"(賃貸住宅経営のセルチェックシート【入力シート】!$G$21+賃貸住宅経営のセルチェックシート【入力シート】!$V$21)/10000","v":0},{"$f":"(賃貸住宅経営のセルチェックシート【入力シート】!$G$21+賃貸住宅経営のセルチェックシート【入力シート】!$V$21)/10000","v":0},{"$f":"(賃貸住宅経営のセルチェックシート【入力シート】!$G$21+賃貸住宅経営のセルチェックシート【入力シート】!$V$21)/10000","v":0},{"$f":"(賃貸住宅経営のセルチェックシート【入力シート】!$G$21+賃貸住宅経営のセルチェックシート【入力シート】!$V$21)/10000","v":0},{"$f":"(賃貸住宅経営のセルチェックシート【入力シート】!$G$21+賃貸住宅経営のセルチェックシート【入力シート】!$V$21)/10000","v":0},{"$f":"(賃貸住宅経営のセルチェックシート【入力シート】!$G$21+賃貸住宅経営のセルチェックシート【入力シート】!$V$21)/10000","v":0},{"$f":"(賃貸住宅経営のセルチェックシート【入力シート】!$G$21+賃貸住宅経営のセルチェックシート【入力シート】!$V$21)/10000","v":0},{"$f":"(賃貸住宅経営のセルチェックシート【入力シート】!$G$21+賃貸住宅経営のセルチェックシート【入力シート】!$V$21)/10000","v":0},{"$f":"(賃貸住宅経営のセルチェックシート【入力シート】!$G$21+賃貸住宅経営のセルチェックシート【入力シート】!$V$21)/10000","v":0},{"$f":"(賃貸住宅経営のセルチェックシート【入力シート】!$G$21+賃貸住宅経営のセルチェックシート【入力シート】!$V$21)/10000","v":0},{"$f":"(賃貸住宅経営のセルチェックシート【入力シート】!$G$21+賃貸住宅経営のセルチェックシート【入力シート】!$V$21)/10000","v":0},{"$f":"(賃貸住宅経営のセルチェックシート【入力シート】!$G$21+賃貸住宅経営のセルチェックシート【入力シート】!$V$21)/10000","v":0},{"$f":"(賃貸住宅経営のセルチェックシート【入力シート】!$G$21+賃貸住宅経営のセルチェックシート【入力シート】!$V$21)/10000","v":0},{"$f":"(賃貸住宅経営のセルチェックシート【入力シート】!$G$21+賃貸住宅経営のセルチェックシート【入力シート】!$V$21)/10000","v":0},{"$f":"(賃貸住宅経営のセルチェックシート【入力シート】!$G$21+賃貸住宅経営のセルチェックシート【入力シート】!$V$21)/10000","v":0},{"$f":"(賃貸住宅経営のセルチェックシート【入力シート】!$G$21+賃貸住宅経営のセルチェックシート【入力シート】!$V$21)/10000","v":0},{"$f":"(賃貸住宅経営のセルチェックシート【入力シート】!$G$21+賃貸住宅経営のセルチェックシート【入力シート】!$V$21)/10000","v":0},{"$f":"(賃貸住宅経営のセルチェックシート【入力シート】!$G$21+賃貸住宅経営のセルチェックシート【入力シート】!$V$21)/10000","v":0},{"$f":"(賃貸住宅経営のセルチェックシート【入力シート】!$G$21+賃貸住宅経営のセルチェックシート【入力シート】!$V$21)/10000","v":0},{"$f":"(賃貸住宅経営のセルチェックシート【入力シート】!$G$21+賃貸住宅経営のセルチェックシート【入力シート】!$V$21)/10000","v":0},{"$f":"(賃貸住宅経営のセルチェックシート【入力シート】!$G$21+賃貸住宅経営のセルチェックシート【入力シート】!$V$21)/10000","v":0},{"$f":"(賃貸住宅経営のセルチェックシート【入力シート】!$G$21+賃貸住宅経営のセルチェックシート【入力シート】!$V$21)/10000","v":0},{"$f":"(賃貸住宅経営のセルチェックシート【入力シート】!$G$21+賃貸住宅経営のセルチェックシート【入力シート】!$V$21)/10000","v":0},{"$f":"(賃貸住宅経営のセルチェックシート【入力シート】!$G$21+賃貸住宅経営のセルチェックシート【入力シート】!$V$21)/10000","v":0},{"$f":"(賃貸住宅経営のセルチェックシート【入力シート】!$G$21+賃貸住宅経営のセルチェックシート【入力シート】!$V$21)/10000","v":0},{"$f":"(賃貸住宅経営のセルチェックシート【入力シート】!$G$21+賃貸住宅経営のセルチェックシート【入力シート】!$V$21)/10000","v":0},{"$f":"(賃貸住宅経営のセルチェックシート【入力シート】!$G$21+賃貸住宅経営のセルチェックシート【入力シート】!$V$21)/10000","v":0},{"$f":"(賃貸住宅経営のセルチェックシート【入力シート】!$G$21+賃貸住宅経営のセルチェックシート【入力シート】!$V$21)/10000","v":0},{"$f":"(賃貸住宅経営のセルチェックシート【入力シート】!$G$21+賃貸住宅経営のセルチェックシート【入力シート】!$V$21)/10000","v":0},{"$f":"(賃貸住宅経営のセルチェックシート【入力シート】!$G$21+賃貸住宅経営のセルチェックシート【入力シート】!$V$21)/10000","v":0},{"$f":"(賃貸住宅経営のセルチェックシート【入力シート】!$G$21+賃貸住宅経営のセルチェックシート【入力シート】!$V$21)/10000","v":0},{"$f":"(賃貸住宅経営のセルチェックシート【入力シート】!$G$21+賃貸住宅経営のセルチェックシート【入力シート】!$V$21)/10000","v":0},{"$f":"(賃貸住宅経営のセルチェックシート【入力シート】!$G$21+賃貸住宅経営のセルチェックシート【入力シート】!$V$21)/10000","v":0},{"$f":"(賃貸住宅経営のセルチェックシート【入力シート】!$G$21+賃貸住宅経営のセルチェックシート【入力シート】!$V$21)/10000","v":0},{"$f":"(賃貸住宅経営のセルチェックシート【入力シート】!$G$21+賃貸住宅経営のセルチェックシート【入力シート】!$V$21)/10000","v":0},{"$f":"(賃貸住宅経営のセルチェックシート【入力シート】!$G$21+賃貸住宅経営のセルチェックシート【入力シート】!$V$21)/10000","v":0},{"$f":"(賃貸住宅経営のセルチェックシート【入力シート】!$G$21+賃貸住宅経営のセルチェックシート【入力シート】!$V$21)/10000","v":0},{"$f":"(賃貸住宅経営のセルチェックシート【入力シート】!$G$21+賃貸住宅経営のセルチェックシート【入力シート】!$V$21)/10000","v":0},{"$f":"(賃貸住宅経営のセルチェックシート【入力シート】!$G$21+賃貸住宅経営のセルチェックシート【入力シート】!$V$21)/10000","v":0}]
[null,null,"建物固定資産税・都市計画税",null,null,{"$f":"INT(賃貸住宅経営のセルチェックシート【入力シート】!$V$22/10000*VLOOKUP(賃貸住宅経営のセルチェックシート【入力シート】!$V$10,固都税経年率!$B$3:$BJ$5,2)*1.7%)","v":{"$error":"#N/A"}},{"$f":"INT(賃貸住宅経営のセルチェックシート【入力シート】!$V$22/10000*VLOOKUP(賃貸住宅経営のセルチェックシート【入力シート】!$V$10,固都税経年率!$B$3:$BJ$5,3)*1.7%)","v":{"$error":"#N/A"}},{"$f":"INT(賃貸住宅経営のセルチェックシート【入力シート】!$V$22/10000*VLOOKUP(賃貸住宅経営のセルチェックシート【入力シート】!$V$10,固都税経年率!$B$3:$BJ$5,4)*1.7%)","v":{"$error":"#N/A"}},{"$f":"INT(賃貸住宅経営のセルチェックシート【入力シート】!$V$22/10000*VLOOKUP(賃貸住宅経営のセルチェックシート【入力シート】!$V$10,固都税経年率!$B$3:$BJ$5,5)*1.7%)","v":{"$error":"#N/A"}},{"$f":"INT(賃貸住宅経営のセルチェックシート【入力シート】!$V$22/10000*VLOOKUP(賃貸住宅経営のセルチェックシート【入力シート】!$V$10,固都税経年率!$B$3:$BJ$5,6)*1.7%)","v":{"$error":"#N/A"}},{"$f":"INT(賃貸住宅経営のセルチェックシート【入力シート】!$V$22/10000*VLOOKUP(賃貸住宅経営のセルチェックシート【入力シート】!$V$10,固都税経年率!$B$3:$BJ$5,7)*1.7%)","v":{"$error":"#N/A"}},{"$f":"INT(賃貸住宅経営のセルチェックシート【入力シート】!$V$22/10000*VLOOKUP(賃貸住宅経営のセルチェックシート【入力シート】!$V$10,固都税経年率!$B$3:$BJ$5,8)*1.7%)","v":{"$error":"#N/A"}},{"$f":"INT(賃貸住宅経営のセルチェックシート【入力シート】!$V$22/10000*VLOOKUP(賃貸住宅経営のセルチェックシート【入力シート】!$V$10,固都税経年率!$B$3:$BJ$5,9)*1.7%)","v":{"$error":"#N/A"}},{"$f":"INT(賃貸住宅経営のセルチェックシート【入力シート】!$V$22/10000*VLOOKUP(賃貸住宅経営のセルチェックシート【入力シート】!$V$10,固都税経年率!$B$3:$BJ$5,10)*1.7%)","v":{"$error":"#N/A"}},{"$f":"INT(賃貸住宅経営のセルチェックシート【入力シート】!$V$22/10000*VLOOKUP(賃貸住宅経営のセルチェックシート【入力シート】!$V$10,固都税経年率!$B$3:$BJ$5,11)*1.7%)","v":{"$error":"#N/A"}},{"$f":"INT(賃貸住宅経営のセルチェックシート【入力シート】!$V$22/10000*VLOOKUP(賃貸住宅経営のセルチェックシート【入力シート】!$V$10,固都税経年率!$B$3:$BJ$5,12)*1.7%)","v":{"$error":"#N/A"}},{"$f":"INT(賃貸住宅経営のセルチェックシート【入力シート】!$V$22/10000*VLOOKUP(賃貸住宅経営のセルチェックシート【入力シート】!$V$10,固都税経年率!$B$3:$BJ$5,13)*1.7%)","v":{"$error":"#N/A"}},{"$f":"INT(賃貸住宅経営のセルチェックシート【入力シート】!$V$22/10000*VLOOKUP(賃貸住宅経営のセルチェックシート【入力シート】!$V$10,固都税経年率!$B$3:$BJ$5,14)*1.7%)","v":{"$error":"#N/A"}},{"$f":"INT(賃貸住宅経営のセルチェックシート【入力シート】!$V$22/10000*VLOOKUP(賃貸住宅経営のセルチェックシート【入力シート】!$V$10,固都税経年率!$B$3:$BJ$5,15)*1.7%)","v":{"$error":"#N/A"}},{"$f":"INT(賃貸住宅経営のセルチェックシート【入力シート】!$V$22/10000*VLOOKUP(賃貸住宅経営のセルチェックシート【入力シート】!$V$10,固都税経年率!$B$3:$BJ$5,16)*1.7%)","v":{"$error":"#N/A"}},{"$f":"INT(賃貸住宅経営のセルチェックシート【入力シート】!$V$22/10000*VLOOKUP(賃貸住宅経営のセルチェックシート【入力シート】!$V$10,固都税経年率!$B$3:$BJ$5,17)*1.7%)","v":{"$error":"#N/A"}},{"$f":"INT(賃貸住宅経営のセルチェックシート【入力シート】!$V$22/10000*VLOOKUP(賃貸住宅経営のセルチェックシート【入力シート】!$V$10,固都税経年率!$B$3:$BJ$5,18)*1.7%)","v":{"$error":"#N/A"}},{"$f":"INT(賃貸住宅経営のセルチェックシート【入力シート】!$V$22/10000*VLOOKUP(賃貸住宅経営のセルチェックシート【入力シート】!$V$10,固都税経年率!$B$3:$BJ$5,19)*1.7%)","v":{"$error":"#N/A"}},{"$f":"INT(賃貸住宅経営のセルチェックシート【入力シート】!$V$22/10000*VLOOKUP(賃貸住宅経営のセルチェックシート【入力シート】!$V$10,固都税経年率!$B$3:$BJ$5,20)*1.7%)","v":{"$error":"#N/A"}},{"$f":"INT(賃貸住宅経営のセルチェックシート【入力シート】!$V$22/10000*VLOOKUP(賃貸住宅経営のセルチェックシート【入力シート】!$V$10,固都税経年率!$B$3:$BJ$5,21)*1.7%)","v":{"$error":"#N/A"}},{"$f":"INT(賃貸住宅経営のセルチェックシート【入力シート】!$V$22/10000*VLOOKUP(賃貸住宅経営のセルチェックシート【入力シート】!$V$10,固都税経年率!$B$3:$BJ$5,22)*1.7%)","v":{"$error":"#N/A"}},{"$f":"INT(賃貸住宅経営のセルチェックシート【入力シート】!$V$22/10000*VLOOKUP(賃貸住宅経営のセルチェックシート【入力シート】!$V$10,固都税経年率!$B$3:$BJ$5,23)*1.7%)","v":{"$error":"#N/A"}},{"$f":"INT(賃貸住宅経営のセルチェックシート【入力シート】!$V$22/10000*VLOOKUP(賃貸住宅経営のセルチェックシート【入力シート】!$V$10,固都税経年率!$B$3:$BJ$5,24)*1.7%)","v":{"$error":"#N/A"}},{"$f":"INT(賃貸住宅経営のセルチェックシート【入力シート】!$V$22/10000*VLOOKUP(賃貸住宅経営のセルチェックシート【入力シート】!$V$10,固都税経年率!$B$3:$BJ$5,25)*1.7%)","v":{"$error":"#N/A"}},{"$f":"INT(賃貸住宅経営のセルチェックシート【入力シート】!$V$22/10000*VLOOKUP(賃貸住宅経営のセルチェックシート【入力シート】!$V$10,固都税経年率!$B$3:$BJ$5,26)*1.7%)","v":{"$error":"#N/A"}},{"$f":"INT(賃貸住宅経営のセルチェックシート【入力シート】!$V$22/10000*VLOOKUP(賃貸住宅経営のセルチェックシート【入力シート】!$V$10,固都税経年率!$B$3:$BJ$5,27)*1.7%)","v":{"$error":"#N/A"}},{"$f":"INT(賃貸住宅経営のセルチェックシート【入力シート】!$V$22/10000*VLOOKUP(賃貸住宅経営のセルチェックシート【入力シート】!$V$10,固都税経年率!$B$3:$BJ$5,28)*1.7%)","v":{"$error":"#N/A"}},{"$f":"INT(賃貸住宅経営のセルチェックシート【入力シート】!$V$22/10000*VLOOKUP(賃貸住宅経営のセルチェックシート【入力シート】!$V$10,固都税経年率!$B$3:$BJ$5,29)*1.7%)","v":{"$error":"#N/A"}},{"$f":"INT(賃貸住宅経営のセルチェックシート【入力シート】!$V$22/10000*VLOOKUP(賃貸住宅経営のセルチェックシート【入力シート】!$V$10,固都税経年率!$B$3:$BJ$5,30)*1.7%)","v":{"$error":"#N/A"}},{"$f":"INT(賃貸住宅経営のセルチェックシート【入力シート】!$V$22/10000*VLOOKUP(賃貸住宅経営のセルチェックシート【入力シート】!$V$10,固都税経年率!$B$3:$BJ$5,31)*1.7%)","v":{"$error":"#N/A"}},{"$f":"INT(賃貸住宅経営のセルチェックシート【入力シート】!$V$22/10000*VLOOKUP(賃貸住宅経営のセルチェックシート【入力シート】!$V$10,固都税経年率!$B$3:$BJ$5,32)*1.7%)","v":{"$error":"#N/A"}},{"$f":"INT(賃貸住宅経営のセルチェックシート【入力シート】!$V$22/10000*VLOOKUP(賃貸住宅経営のセルチェックシート【入力シート】!$V$10,固都税経年率!$B$3:$BJ$5,33)*1.7%)","v":{"$error":"#N/A"}},{"$f":"INT(賃貸住宅経営のセルチェックシート【入力シート】!$V$22/10000*VLOOKUP(賃貸住宅経営のセルチェックシート【入力シート】!$V$10,固都税経年率!$B$3:$BJ$5,34)*1.7%)","v":{"$error":"#N/A"}},{"$f":"INT(賃貸住宅経営のセルチェックシート【入力シート】!$V$22/10000*VLOOKUP(賃貸住宅経営のセルチェックシート【入力シート】!$V$10,固都税経年率!$B$3:$BJ$5,35)*1.7%)","v":{"$error":"#N/A"}},{"$f":"INT(賃貸住宅経営のセルチェックシート【入力シート】!$V$22/10000*VLOOKUP(賃貸住宅経営のセルチェックシート【入力シート】!$V$10,固都税経年率!$B$3:$BJ$5,36)*1.7%)","v":{"$error":"#N/A"}},{"$f":"INT(賃貸住宅経営のセルチェックシート【入力シート】!$V$22/10000*VLOOKUP(賃貸住宅経営のセルチェックシート【入力シート】!$V$10,固都税経年率!$B$3:$BJ$5,37)*1.7%)","v":{"$error":"#N/A"}},{"$f":"INT(賃貸住宅経営のセルチェックシート【入力シート】!$V$22/10000*VLOOKUP(賃貸住宅経営のセルチェックシート【入力シート】!$V$10,固都税経年率!$B$3:$BJ$5,38)*1.7%)","v":{"$error":"#N/A"}},{"$f":"INT(賃貸住宅経営のセルチェックシート【入力シート】!$V$22/10000*VLOOKUP(賃貸住宅経営のセルチェックシート【入力シート】!$V$10,固都税経年率!$B$3:$BJ$5,39)*1.7%)","v":{"$error":"#N/A"}},{"$f":"INT(賃貸住宅経営のセルチェックシート【入力シート】!$V$22/10000*VLOOKUP(賃貸住宅経営のセルチェックシート【入力シート】!$V$10,固都税経年率!$B$3:$BJ$5,40)*1.7%)","v":{"$error":"#N/A"}},{"$f":"INT(賃貸住宅経営のセルチェックシート【入力シート】!$V$22/10000*VLOOKUP(賃貸住宅経営のセルチェックシート【入力シート】!$V$10,固都税経年率!$B$3:$BJ$5,41)*1.7%)","v":{"$error":"#N/A"}},{"$f":"INT(賃貸住宅経営のセルチェックシート【入力シート】!$V$22/10000*VLOOKUP(賃貸住宅経営のセルチェックシート【入力シート】!$V$10,固都税経年率!$B$3:$BJ$5,42)*1.7%)","v":{"$error":"#N/A"}},{"$f":"INT(賃貸住宅経営のセルチェックシート【入力シート】!$V$22/10000*VLOOKUP(賃貸住宅経営のセルチェックシート【入力シート】!$V$10,固都税経年率!$B$3:$BJ$5,43)*1.7%)","v":{"$error":"#N/A"}},{"$f":"INT(賃貸住宅経営のセルチェックシート【入力シート】!$V$22/10000*VLOOKUP(賃貸住宅経営のセルチェックシート【入力シート】!$V$10,固都税経年率!$B$3:$BJ$5,44)*1.7%)","v":{"$error":"#N/A"}},{"$f":"INT(賃貸住宅経営のセルチェックシート【入力シート】!$V$22/10000*VLOOKUP(賃貸住宅経営のセルチェックシート【入力シート】!$V$10,固都税経年率!$B$3:$BJ$5,45)*1.7%)","v":{"$error":"#N/A"}},{"$f":"INT(賃貸住宅経営のセルチェックシート【入力シート】!$V$22/10000*VLOOKUP(賃貸住宅経営のセルチェックシート【入力シート】!$V$10,固都税経年率!$B$3:$BJ$5,46)*1.7%)","v":{"$error":"#N/A"}},{"$f":"INT(賃貸住宅経営のセルチェックシート【入力シート】!$V$22/10000*VLOOKUP(賃貸住宅経営のセルチェックシート【入力シート】!$V$10,固都税経年率!$B$3:$BJ$5,47)*1.7%)","v":{"$error":"#N/A"}},{"$f":"INT(賃貸住宅経営のセルチェックシート【入力シート】!$V$22/10000*VLOOKUP(賃貸住宅経営のセルチェックシート【入力シート】!$V$10,固都税経年率!$B$3:$BJ$5,48)*1.7%)","v":{"$error":"#N/A"}},{"$f":"INT(賃貸住宅経営のセルチェックシート【入力シート】!$V$22/10000*VLOOKUP(賃貸住宅経営のセルチェックシート【入力シート】!$V$10,固都税経年率!$B$3:$BJ$5,49)*1.7%)","v":{"$error":"#N/A"}},{"$f":"INT(賃貸住宅経営のセルチェックシート【入力シート】!$V$22/10000*VLOOKUP(賃貸住宅経営のセルチェックシート【入力シート】!$V$10,固都税経年率!$B$3:$BJ$5,50)*1.7%)","v":{"$error":"#N/A"}},{"$f":"INT(賃貸住宅経営のセルチェックシート【入力シート】!$V$22/10000*VLOOKUP(賃貸住宅経営のセルチェックシート【入力シート】!$V$10,固都税経年率!$B$3:$BJ$5,51)*1.7%)","v":{"$error":"#N/A"}},{"$f":"INT(賃貸住宅経営のセルチェックシート【入力シート】!$V$22/10000*VLOOKUP(賃貸住宅経営のセルチェックシート【入力シート】!$V$10,固都税経年率!$B$3:$BJ$5,52)*1.7%)","v":{"$error":"#N/A"}},{"$f":"INT(賃貸住宅経営のセルチェックシート【入力シート】!$V$22/10000*VLOOKUP(賃貸住宅経営のセルチェックシート【入力シート】!$V$10,固都税経年率!$B$3:$BJ$5,53)*1.7%)","v":{"$error":"#N/A"}},{"$f":"INT(賃貸住宅経営のセルチェックシート【入力シート】!$V$22/10000*VLOOKUP(賃貸住宅経営のセルチェックシート【入力シート】!$V$10,固都税経年率!$B$3:$BJ$5,54)*1.7%)","v":{"$error":"#N/A"}},{"$f":"INT(賃貸住宅経営のセルチェックシート【入力シート】!$V$22/10000*VLOOKUP(賃貸住宅経営のセルチェックシート【入力シート】!$V$10,固都税経年率!$B$3:$BJ$5,55)*1.7%)","v":{"$error":"#N/A"}},{"$f":"INT(賃貸住宅経営のセルチェックシート【入力シート】!$V$22/10000*VLOOKUP(賃貸住宅経営のセルチェックシート【入力シート】!$V$10,固都税経年率!$B$3:$BJ$5,56)*1.7%)","v":{"$error":"#N/A"}},{"$f":"INT(賃貸住宅経営のセルチェックシート【入力シート】!$V$22/10000*VLOOKUP(賃貸住宅経営のセルチェックシート【入力シート】!$V$10,固都税経年率!$B$3:$BJ$5,57)*1.7%)","v":{"$error":"#N/A"}},{"$f":"INT(賃貸住宅経営のセルチェックシート【入力シート】!$V$22/10000*VLOOKUP(賃貸住宅経営のセルチェックシート【入力シート】!$V$10,固都税経年率!$B$3:$BJ$5,58)*1.7%)","v":{"$error":"#N/A"}},{"$f":"INT(賃貸住宅経営のセルチェックシート【入力シート】!$V$22/10000*VLOOKUP(賃貸住宅経営のセルチェックシート【入力シート】!$V$10,固都税経年率!$B$3:$BJ$5,59)*1.7%)","v":{"$error":"#N/A"}},{"$f":"INT(賃貸住宅経営のセルチェックシート【入力シート】!$V$22/10000*VLOOKUP(賃貸住宅経営のセルチェックシート【入力シート】!$V$10,固都税経年率!$B$3:$BJ$5,60)*1.7%)","v":{"$error":"#N/A"}},{"$f":"INT(賃貸住宅経営のセルチェックシート【入力シート】!$V$22/10000*VLOOKUP(賃貸住宅経営のセルチェックシート【入力シート】!$V$10,固都税経年率!$B$3:$BJ$5,61)*1.7%)","v":{"$error":"#N/A"}}]
[null,null,"借入金返済",null,null,{"$f":"借入金!C12","v":0},{"$f":"借入金!D12","v":0},{"$f":"借入金!E12","v":0},{"$f":"借入金!F12","v":0},{"$f":"借入金!G12","v":0},{"$f":"借入金!H12","v":0},{"$f":"借入金!I12","v":0},{"$f":"借入金!J12","v":0},{"$f":"借入金!K12","v":0},{"$f":"借入金!L12","v":0},{"$f":"借入金!M12","v":0},{"$f":"借入金!N12","v":0},{"$f":"借入金!O12","v":0},{"$f":"借入金!P12","v":0},{"$f":"借入金!Q12","v":0},{"$f":"借入金!R12","v":0},{"$f":"借入金!S12","v":0},{"$f":"借入金!T12","v":0},{"$f":"借入金!U12","v":0},{"$f":"借入金!V12","v":0},{"$f":"借入金!W12","v":0},{"$f":"借入金!X12","v":0},{"$f":"借入金!Y12","v":0},{"$f":"借入金!Z12","v":0},{"$f":"借入金!AA12","v":0},{"$f":"借入金!AB12","v":0},{"$f":"借入金!AC12","v":0},{"$f":"借入金!AD12","v":0},{"$f":"借入金!AE12","v":0},{"$f":"借入金!AF12","v":0},{"$f":"借入金!AG12","v":0},{"$f":"借入金!AH12","v":0},{"$f":"借入金!AI12","v":0},{"$f":"借入金!AJ12","v":0},{"$f":"借入金!AK12","v":0},{"$f":"借入金!AL12","v":0},{"$f":"借入金!AM12","v":0},{"$f":"借入金!AN12","v":0},{"$f":"借入金!AO12","v":0},{"$f":"借入金!AP12","v":0},{"$f":"借入金!AQ12","v":0},{"$f":"借入金!AR12","v":0},{"$f":"借入金!AS12","v":0},{"$f":"借入金!AT12","v":0},{"$f":"借入金!AU12","v":0},{"$f":"借入金!AV12","v":0},{"$f":"借入金!AW12","v":0},{"$f":"借入金!AX12","v":0},{"$f":"借入金!AY12","v":0},{"$f":"借入金!AZ12","v":0},{"$f":"借入金!BA12","v":0},{"$f":"借入金!BB12","v":0},{"$f":"借入金!BC12","v":0},{"$f":"借入金!BD12","v":0},{"$f":"借入金!BE12","v":0},{"$f":"借入金!BF12","v":0},{"$f":"借入金!BG12","v":0},{"$f":"借入金!BH12","v":0},{"$f":"借入金!BI12","v":0},{"$f":"借入金!BJ12","v":0}]
[null,null,"所得税等",null,null,{"$f":"MAX(F31*0.33,0)","v":{"$error":"#N/A"}},{"$f":"MAX(G31*0.33,0)","v":{"$error":"#N/A"}},{"$error":"#N/A"},{"$error":"#N/A"},{"$error":"#N/A"},{"$error":"#N/A"},{"$error":"#N/A"},{"$error":"#N/A"},{"$error":"#N/A"},{"$error":"#N/A"},{"$error":"#N/A"},{"$error":"#N/A"},{"$error":"#N/A"},{"$error":"#N/A"},{"$error":"#N/A"},{"$error":"#N/A"},{"$error":"#N/A"},{"$f":"MAX(W31*0.33,0)","v":{"$error":"#N/A"}},{"$f":"MAX(X31*0.33,0)","v":{"$error":"#N/A"}},{"$f":"MAX(Y31*0.33,0)","v":{"$error":"#N/A"}},{"$error":"#N/A"},{"$error":"#N/A"},{"$error":"#N/A"},{"$error":"#N/A"},{"$error":"#N/A"},{"$error":"#N/A"},{"$error":"#N/A"},{"$error":"#N/A"},{"$error":"#N/A"},{"$error":"#N/A"},{"$f":"MAX(AJ31*0.33,0)","v":{"$error":"#N/A"}},{"$error":"#N/A"},{"$error":"#N/A"},{"$error":"#N/A"},{"$error":"#N/A"},{"$error":"#N/A"},{"$error":"#N/A"},{"$error":"#N/A"},{"$error":"#N/A"},{"$error":"#N/A"},{"$f":"MAX(AT31*0.33,0)","v":{"$error":"#N/A"}},{"$error":"#N/A"},{"$error":"#N/A"},{"$error":"#N/A"},{"$error":"#N/A"},{"$error":"#N/A"},{"$error":"#N/A"},{"$error":"#N/A"},{"$error":"#N/A"},{"$error":"#N/A"},{"$error":"#N/A"},{"$error":"#N/A"},{"$error":"#N/A"},{"$error":"#N/A"},{"$error":"#N/A"},{"$error":"#N/A"},{"$error":"#N/A"},{"$error":"#N/A"},{"$error":"#N/A"},{"$error":"#N/A"}]
[null,null,"支出計",null,{"$f":"SUM(E7:E16)","v":0},{"$error":"#N/A"},{"$error":"#N/A"},{"$error":"#N/A"},{"$error":"#N/A"},{"$error":"#N/A"},{"$error":"#N/A"},{"$error":"#N/A"},{"$error":"#N/A"},{"$error":"#N/A"},{"$error":"#N/A"},{"$error":"#N/A"},{"$error":"#N/A"},{"$error":"#N/A"},{"$error":"#N/A"},{"$error":"#N/A"},{"$error":"#N/A"},{"$error":"#N/A"},{"$error":"#N/A"},{"$error":"#N/A"},{"$error":"#N/A"},{"$error":"#N/A"},{"$error":"#N/A"},{"$error":"#N/A"},{"$error":"#N/A"},{"$error":"#N/A"},{"$error":"#N/A"},{"$error":"#N/A"},{"$error":"#N/A"},{"$error":"#N/A"},{"$error":"#N/A"},{"$error":"#N/A"},{"$f":"SUM(AK7:AK16)","v":{"$error":"#N/A"}},{"$error":"#N/A"},{"$error":"#N/A"},{"$error":"#N/A"},{"$error":"#N/A"},{"$error":"#N/A"},{"$error":"#N/A"},{"$error":"#N/A"},{"$error":"#N/A"},{"$error":"#N/A"},{"$error":"#N/A"},{"$error":"#N/A"},{"$error":"#N/A"},{"$error":"#N/A"},{"$error":"#N/A"},{"$error":"#N/A"},{"$error":"#N/A"},{"$error":"#N/A"},{"$error":"#N/A"},{"$error":"#N/A"},{"$error":"#N/A"},{"$error":"#N/A"},{"$error":"#N/A"},{"$error":"#N/A"},{"$error":"#N/A"},{"$error":"#N/A"},{"$error":"#N/A"},{"$error":"#N/A"},{"$error":"#N/A"}]
[null,"収支","手元資金残金（年）",null,{"$f":"E6-E17","v":0},{"$error":"#N/A"},{"$error":"#N/A"},{"$error":"#N/A"},{"$error":"#N/A"},{"$error":"#N/A"},{"$error":"#N/A"},{"$error":"#N/A"},{"$error":"#N/A"},{"$error":"#N/A"},{"$error":"#N/A"},{"$error":"#N/A"},{"$error":"#N/A"},{"$error":"#N/A"},{"$error":"#N/A"},{"$error":"#N/A"},{"$error":"#N/A"},{"$error":"#N/A"},{"$error":"#N/A"},{"$error":"#N/A"},{"$error":"#N/A"},{"$error":"#N/A"},{"$error":"#N/A"},{"$error":"#N/A"},{"$error":"#N/A"},{"$error":"#N/A"},{"$error":"#N/A"},{"$error":"#N/A"},{"$error":"#N/A"},{"$error":"#N/A"},{"$error":"#N/A"},{"$error":"#N/A"},{"$f":"AK6-AK17","v":{"$error":"#N/A"}},{"$error":"#N/A"},{"$error":"#N/A"},{"$error":"#N/A"},{"$error":"#N/A"},{"$error":"#N/A"},{"$error":"#N/A"},{"$error":"#N/A"},{"$error":"#N/A"},{"$error":"#N/A"},{"$error":"#N/A"},{"$error":"#N/A"},{"$error":"#N/A"},{"$error":"#N/A"},{"$error":"#N/A"},{"$error":"#N/A"},{"$error":"#N/A"},{"$error":"#N/A"},{"$error":"#N/A"},{"$error":"#N/A"},{"$error":"#N/A"},{"$error":"#N/A"},{"$error":"#N/A"},{"$error":"#N/A"},{"$error":"#N/A"},{"$error":"#N/A"},{"$error":"#N/A"},{"$error":"#N/A"},{"$error":"#N/A"}]
[null,null,"手元資金残金（累計）",null,{"$f":"E18","v":0},{"$f":"E19+F18","v":{"$error":"#N/A"}},{"$f":"F19+G18","v":{"$error":"#N/A"}},{"$error":"#N/A"},{"$error":"#N/A"},{"$error":"#N/A"},{"$error":"#N/A"},{"$error":"#N/A"},{"$error":"#N/A"},{"$error":"#N/A"},{"$error":"#N/A"},{"$error":"#N/A"},{"$error":"#N/A"},{"$error":"#N/A"},{"$f":"R19+S18","v":{"$error":"#N/A"}},{"$error":"#N/A"},{"$error":"#N/A"},{"$error":"#N/A"},{"$f":"V19+W18","v":{"$error":"#N/A"}},{"$f":"W19+X18","v":{"$error":"#N/A"}},{"$f":"X19+Y18","v":{"$error":"#N/A"}},{"$f":"Y19+Z18","v":{"$error":"#N/A"}},{"$f":"Z19+AA18","v":{"$error":"#N/A"}},{"$error":"#N/A"},{"$error":"#N/A"},{"$error":"#N/A"},{"$error":"#N/A"},{"$error":"#N/A"},{"$error":"#N/A"},{"$error":"#N/A"},{"$error":"#N/A"},{"$f":"AI19+AJ18","v":{"$error":"#N/A"}},{"$f":"AJ19+AK18","v":{"$error":"#N/A"}},{"$f":"AK19+AL18","v":{"$error":"#N/A"}},{"$f":"AL19+AM18","v":{"$error":"#N/A"}},{"$f":"AM19+AN18","v":{"$error":"#N/A"}},{"$f":"AN19+AO18","v":{"$error":"#N/A"}},{"$f":"AO19+AP18","v":{"$error":"#N/A"}},{"$f":"AP19+AQ18","v":{"$error":"#N/A"}},{"$f":"AQ19+AR18","v":{"$error":"#N/A"}},{"$f":"AR19+AS18","v":{"$error":"#N/A"}},{"$f":"AS19+AT18","v":{"$error":"#N/A"}},{"$f":"AT19+AU18","v":{"$error":"#N/A"}},{"$f":"AU19+AV18","v":{"$error":"#N/A"}},{"$f":"AV19+AW18","v":{"$error":"#N/A"}},{"$f":"AW19+AX18","v":{"$error":"#N/A"}},{"$f":"AX19+AY18","v":{"$error":"#N/A"}},{"$f":"AY19+AZ18","v":{"$error":"#N/A"}},{"$f":"AZ19+BA18","v":{"$error":"#N/A"}},{"$f":"BA19+BB18","v":{"$error":"#N/A"}},{"$f":"BB19+BC18","v":{"$error":"#N/A"}},{"$f":"BC19+BD18","v":{"$error":"#N/A"}},{"$f":"BD19+BE18","v":{"$error":"#N/A"}},{"$f":"BE19+BF18","v":{"$error":"#N/A"}},{"$f":"BF19+BG18","v":{"$error":"#N/A"}},{"$f":"BG19+BH18","v":{"$error":"#N/A"}},{"$f":"BH19+BI18","v":{"$error":"#N/A"}},{"$f":"BI19+BJ18","v":{"$error":"#N/A"}},{"$f":"BJ19+BK18","v":{"$error":"#N/A"}},{"$f":"BK19+BL18","v":{"$error":"#N/A"}},{"$f":"BL19+BM18","v":{"$error":"#N/A"}}]
[null,"収益","収入",null,null,{"$f":"F3","v":0},{"$error":"#N/A"},{"$error":"#N/A"},{"$error":"#N/A"},{"$error":"#N/A"},{"$error":"#N/A"},{"$error":"#N/A"},{"$error":"#N/A"},{"$error":"#N/A"},{"$error":"#N/A"},{"$error":"#N/A"},{"$error":"#N/A"},{"$error":"#N/A"},{"$error":"#N/A"},{"$error":"#N/A"},{"$error":"#N/A"},{"$error":"#N/A"},{"$error":"#N/A"},{"$error":"#N/A"},{"$error":"#N/A"},{"$error":"#N/A"},{"$error":"#N/A"},{"$error":"#N/A"},{"$error":"#N/A"},{"$error":"#N/A"},{"$error":"#N/A"},{"$error":"#N/A"},{"$error":"#N/A"},{"$error":"#N/A"},{"$error":"#N/A"},{"$error":"#N/A"},{"$error":"#N/A"},{"$f":"AL3","v":{"$error":"#N/A"}},{"$error":"#N/A"},{"$error":"#N/A"},{"$error":"#N/A"},{"$error":"#N/A"},{"$error":"#N/A"},{"$error":"#N/A"},{"$error":"#N/A"},{"$error":"#N/A"},{"$error":"#N/A"},{"$error":"#N/A"},{"$error":"#N/A"},{"$error":"#N/A"},{"$error":"#N/A"},{"$error":"#N/A"},{"$error":"#N/A"},{"$error":"#N/A"},{"$error":"#N/A"},{"$error":"#N/A"},{"$error":"#N/A"},{"$error":"#N/A"},{"$error":"#N/A"},{"$error":"#N/A"},{"$error":"#N/A"},{"$error":"#N/A"},{"$error":"#N/A"},{"$error":"#N/A"},{"$error":"#N/A"}]
[null,null,"建物管理費(募集・管理委託等)",null,null,{"$f":"F8","v":0},{"$error":"#N/A"},{"$error":"#N/A"},{"$error":"#N/A"},{"$error":"#N/A"},{"$error":"#N/A"},{"$error":"#N/A"},{"$error":"#N/A"},{"$error":"#N/A"},{"$error":"#N/A"},{"$error":"#N/A"},{"$error":"#N/A"},{"$error":"#N/A"},{"$error":"#N/A"},{"$error":"#N/A"},{"$error":"#N/A"},{"$error":"#N/A"},{"$error":"#N/A"},{"$error":"#N/A"},{"$error":"#N/A"},{"$error":"#N/A"},{"$error":"#N/A"},{"$error":"#N/A"},{"$error":"#N/A"},{"$error":"#N/A"},{"$error":"#N/A"},{"$error":"#N/A"},{"$error":"#N/A"},{"$error":"#N/A"},{"$error":"#N/A"},{"$error":"#N/A"},{"$error":"#N/A"},{"$f":"AL8","v":{"$error":"#N/A"}},{"$error":"#N/A"},{"$error":"#N/A"},{"$error":"#N/A"},{"$error":"#N/A"},{"$error":"#N/A"},{"$error":"#N/A"},{"$error":"#N/A"},{"$error":"#N/A"},{"$error":"#N/A"},{"$error":"#N/A"},{"$error":"#N/A"},{"$error":"#N/A"},{"$error":"#N/A"},{"$error":"#N/A"},{"$error":"#N/A"},{"$error":"#N/A"},{"$error":"#N/A"},{"$error":"#N/A"},{"$error":"#N/A"},{"$error":"#N/A"},{"$error":"#N/A"},{"$error":"#N/A"},{"$error":"#N/A"},{"$error":"#N/A"},{"$error":"#N/A"},{"$error":"#N/A"},{"$error":"#N/A"}]
[null,null,"保険料",null,null,{"$f":"F9","v":{"$error":"#N/A"}},{"$error":"#N/A"},{"$error":"#N/A"},{"$error":"#N/A"},{"$error":"#N/A"},{"$error":"#N/A"},{"$error":"#N/A"},{"$error":"#N/A"},{"$error":"#N/A"},{"$error":"#N/A"},{"$error":"#N/A"},{"$error":"#N/A"},{"$error":"#N/A"},{"$error":"#N/A"},{"$error":"#N/A"},{"$error":"#N/A"},{"$error":"#N/A"},{"$error":"#N/A"},{"$error":"#N/A"},{"$error":"#N/A"},{"$error":"#N/A"},{"$error":"#N/A"},{"$error":"#N/A"},{"$error":"#N/A"},{"$error":"#N/A"},{"$error":"#N/A"},{"$error":"#N/A"},{"$error":"#N/A"},{"$error":"#N/A"},{"$error":"#N/A"},{"$error":"#N/A"},{"$error":"#N/A"},{"$f":"AL9","v":{"$error":"#N/A"}},{"$error":"#N/A"},{"$error":"#N/A"},{"$error":"#N/A"},{"$error":"#N/A"},{"$error":"#N/A"},{"$error":"#N/A"},{"$error":"#N/A"},{"$error":"#N/A"},{"$error":"#N/A"},{"$error":"#N/A"},{"$error":"#N/A"},{"$error":"#N/A"},{"$error":"#N/A"},{"$error":"#N/A"},{"$error":"#N/A"},{"$error":"#N/A"},{"$error":"#N/A"},{"$error":"#N/A"},{"$error":"#N/A"},{"$error":"#N/A"},{"$error":"#N/A"},{"$error":"#N/A"},{"$error":"#N/A"},{"$error":"#N/A"},{"$error":"#N/A"},{"$error":"#N/A"},{"$error":"#N/A"}]
[null,null,"原状回復費",null,null,{"$f":"F10","v":{"$error":"#VALUE!"}},{"$error":"#VALUE!"},{"$error":"#VALUE!"},{"$error":"#VALUE!"},{"$error":"#VALUE!"},{"$error":"#VALUE!"},{"$error":"#VALUE!"},{"$error":"#VALUE!"},{"$error":"#VALUE!"},{"$error":"#VALUE!"},{"$error":"#VALUE!"},{"$error":"#VALUE!"},{"$error":"#VALUE!"},{"$error":"#VALUE!"},{"$error":"#VALUE!"},{"$error":"#VALUE!"},{"$error":"#VALUE!"},{"$error":"#VALUE!"},{"$error":"#VALUE!"},{"$error":"#VALUE!"},{"$error":"#VALUE!"},{"$error":"#VALUE!"},{"$error":"#VALUE!"},{"$error":"#VALUE!"},{"$error":"#VALUE!"},{"$error":"#VALUE!"},{"$error":"#VALUE!"},{"$error":"#VALUE!"},{"$error":"#VALUE!"},{"$error":"#VALUE!"},{"$error":"#VALUE!"},{"$error":"#VALUE!"},{"$f":"AL10","v":{"$error":"#VALUE!"}},{"$error":"#VALUE!"},{"$error":"#VALUE!"},{"$error":"#VALUE!"},{"$error":"#VALUE!"},{"$error":"#VALUE!"},{"$error":"#VALUE!"},{"$error":"#VALUE!"},{"$error":"#VALUE!"},{"$error":"#VALUE!"},{"$error":"#VALUE!"},{"$error":"#VALUE!"},{"$error":"#VALUE!"},{"$error":"#VALUE!"},{"$error":"#VALUE!"},{"$error":"#VALUE!"},{"$error":"#VALUE!"},{"$error":"#VALUE!"},{"$error":"#VALUE!"},{"$error":"#VALUE!"},{"$error":"#VALUE!"},{"$error":"#VALUE!"},{"$error":"#VALUE!"},{"$error":"#VALUE!"},{"$error":"#VALUE!"},{"$error":"#VALUE!"},{"$error":"#VALUE!"},{"$error":"#VALUE!"}]
["P/L","営業費用","修繕費",null,null,{"$f":"SUM(F11,F12)","v":0},0,0,0,0,0,0,0,0,0,0,0,0,0,0,0,0,0,0,0,0,0,0,0,0,0,0,0,0,0,0,0,{"$f":"SUM(AL11,AL12)","v":0},0,0,0,0,0,0,0,0,0,0,0,0,0,0,0,0,0,0,0,0,0,0,0,0,0,0,0]
["損益計算",null,"固定資産税・都市計画税",null,null,{"$f":"F13+F14","v":{"$error":"#N/A"}},{"$error":"#N/A"},{"$error":"#N/A"},{"$error":"#N/A"},{"$error":"#N/A"},{"$error":"#N/A"},{"$error":"#N/A"},{"$error":"#N/A"},{"$error":"#N/A"},{"$error":"#N/A"},{"$error":"#N/A"},{"$error":"#N/A"},{"$error":"#N/A"},{"$error":"#N/A"},{"$error":"#N/A"},{"$error":"#N/A"},{"$error":"#N/A"},{"$error":"#N/A"},{"$error":"#N/A"},{"$error":"#N/A"},{"$error":"#N/A"},{"$error":"#N/A"},{"$error":"#N/A"},{"$error":"#N/A"},{"$error":"#N/A"},{"$error":"#N/A"},{"$error":"#N/A"},{"$error":"#N/A"},{"$error":"#N/A"},{"$error":"#N/A"},{"$error":"#N/A"},{"$error":"#N/A"},{"$f":"AL13+AL14","v":{"$error":"#N/A"}},{"$error":"#N/A"},{"$error":"#N/A"},{"$error":"#N/A"},{"$error":"#N/A"},{"$error":"#N/A"},{"$error":"#N/A"},{"$error":"#N/A"},{"$error":"#N/A"},{"$error":"#N/A"},{"$error":"#N/A"},{"$error":"#N/A"},{"$error":"#N/A"},{"$error":"#N/A"},{"$error":"#N/A"},{"$error":"#N/A"},{"$error":"#N/A"},{"$error":"#N/A"},{"$error":"#N/A"},{"$error":"#N/A"},{"$error":"#N/A"},{"$error":"#N/A"},{"$error":"#N/A"},{"$error":"#N/A"},{"$error":"#N/A"},{"$error":"#N/A"},{"$error":"#N/A"},{"$error":"#N/A"}]
[null,null,"営業費用計",null,null,{"$f":"SUM(F21:F25)","v":{"$error":"#N/A"}},{"$error":"#N/A"},{"$error":"#N/A"},{"$error":"#N/A"},{"$error":"#N/A"},{"$error":"#N/A"},{"$error":"#N/A"},{"$error":"#N/A"},{"$error":"#N/A"},{"$error":"#N/A"},{"$error":"#N/A"},{"$error":"#N/A"},{"$error":"#N/A"},{"$error":"#N/A"},{"$error":"#N/A"},{"$error":"#N/A"},{"$error":"#N/A"},{"$error":"#N/A"},{"$error":"#N/A"},{"$error":"#N/A"},{"$error":"#N/A"},{"$error":"#N/A"},{"$error":"#N/A"},{"$error":"#N/A"},{"$error":"#N/A"},{"$error":"#N/A"},{"$error":"#N/A"},{"$error":"#N/A"},{"$error":"#N/A"},{"$error":"#N/A"},{"$error":"#N/A"},{"$error":"#N/A"},{"$f":"SUM(AL21:AL25)","v":{"$error":"#N/A"}},{"$error":"#N/A"},{"$error":"#N/A"},{"$error":"#N/A"},{"$error":"#N/A"},{"$error":"#N/A"},{"$error":"#N/A"},{"$error":"#N/A"},{"$error":"#N/A"},{"$error":"#N/A"},{"$error":"#N/A"},{"$error":"#N/A"},{"$error":"#N/A"},{"$error":"#N/A"},{"$error":"#N/A"},{"$error":"#N/A"},{"$error":"#N/A"},{"$error":"#N/A"},{"$error":"#N/A"},{"$error":"#N/A"},{"$error":"#N/A"},{"$error":"#N/A"},{"$error":"#N/A"},{"$error":"#N/A"},{"$error":"#N/A"},{"$error":"#N/A"},{"$error":"#N/A"},{"$error":"#N/A"}]
[null,"償却前利益","（営業収入と同値）",null,null,{"$f":"F20-F26","v":{"$error":"#N/A"}},{"$error":"#N/A"},{"$error":"#N/A"},{"$error":"#N/A"},{"$error":"#N/A"},{"$error":"#N/A"},{"$error":"#N/A"},{"$error":"#N/A"},{"$error":"#N/A"},{"$error":"#N/A"},{"$error":"#N/A"},{"$error":"#N/A"},{"$error":"#N/A"},{"$error":"#N/A"},{"$error":"#N/A"},{"$error":"#N/A"},{"$error":"#N/A"},{"$error":"#N/A"},{"$error":"#N/A"},{"$error":"#N/A"},{"$error":"#N/A"},{"$error":"#N/A"},{"$error":"#N/A"},{"$error":"#N/A"},{"$error":"#N/A"},{"$error":"#N/A"},{"$error":"#N/A"},{"$error":"#N/A"},{"$error":"#N/A"},{"$error":"#N/A"},{"$error":"#N/A"},{"$error":"#N/A"},{"$f":"AL20-AL26","v":{"$error":"#N/A"}},{"$error":"#N/A"},{"$error":"#N/A"},{"$error":"#N/A"},{"$error":"#N/A"},{"$error":"#N/A"},{"$error":"#N/A"},{"$error":"#N/A"},{"$error":"#N/A"},{"$error":"#N/A"},{"$error":"#N/A"},{"$error":"#N/A"},{"$error":"#N/A"},{"$error":"#N/A"},{"$error":"#N/A"},{"$error":"#N/A"},{"$error":"#N/A"},{"$error":"#N/A"},{"$error":"#N/A"},{"$error":"#N/A"},{"$error":"#N/A"},{"$error":"#N/A"},{"$error":"#N/A"},{"$error":"#N/A"},{"$error":"#N/A"},{"$error":"#N/A"},{"$error":"#N/A"},{"$error":"#N/A"}]
[null,null,"減価償却費(定額法)",{"$f":"VLOOKUP(賃貸住宅経営のセルチェックシート【入力シート】!$V$10,算出基礎係数!$A$2:$E$4,3,FALSE)","v":{"$error":"#N/A"}},null,{"$f":"IF(F2<賃貸住宅経営のセルチェックシート【入力シート】!$AB$10,賃貸住宅経営のセルチェックシート【入力シート】!$G$25*キャッシュフロー表!$D$28,IF(F2=賃貸住宅経営のセルチェックシート【入力シート】!$AB$10, 賃貸住宅経営のセルチェックシート【入力シート】!$G$25-賃貸住宅経営のセルチェックシート【入力シート】!$G$25*キャッシュフロー表!$D$28*(賃貸住宅経営のセルチェックシート【入力シート】!$AB$10-1),0))/10000","v":{"$error":"#N/A"}},{"$f":"IF(G2<賃貸住宅経営のセルチェックシート【入力シート】!$AB$10,賃貸住宅経営のセルチェックシート【入力シート】!$G$25*キャッシュフロー表!$D$28,IF(G2=賃貸住宅経営のセルチェックシート【入力シート】!$AB$10, 賃貸住宅経営のセルチェックシート【入力シート】!$G$25-賃貸住宅経営のセルチェックシート【入力シート】!$G$25*キャッシュフロー表!$D$28*(賃貸住宅経営のセルチェックシート【入力シート】!$AB$10-1),0))/10000","v":{"$error":"#N/A"}},{"$f":"IF(H2<賃貸住宅経営のセルチェックシート【入力シート】!$AB$10,賃貸住宅経営のセルチェックシート【入力シート】!$G$25*キャッシュフロー表!$D$28,IF(H2=賃貸住宅経営のセルチェックシート【入力シート】!$AB$10, 賃貸住宅経営のセルチェックシート【入力シート】!$G$25-賃貸住宅経営のセルチェックシート【入力シート】!$G$25*キャッシュフロー表!$D$28*(賃貸住宅経営のセルチェックシート【入力シート】!$AB$10-1),0))/10000","v":{"$error":"#N/A"}},{"$f":"IF(I2<賃貸住宅経営のセルチェックシート【入力シート】!$AB$10,賃貸住宅経営のセルチェックシート【入力シート】!$G$25*キャッシュフロー表!$D$28,IF(I2=賃貸住宅経営のセルチェックシート【入力シート】!$AB$10, 賃貸住宅経営のセルチェックシート【入力シート】!$G$25-賃貸住宅経営のセルチェックシート【入力シート】!$G$25*キャッシュフロー表!$D$28*(賃貸住宅経営のセルチェックシート【入力シート】!$AB$10-1),0))/10000","v":{"$error":"#N/A"}},{"$f":"IF(J2<賃貸住宅経営のセルチェックシート【入力シート】!$AB$10,賃貸住宅経営のセルチェックシート【入力シート】!$G$25*キャッシュフロー表!$D$28,IF(J2=賃貸住宅経営のセルチェックシート【入力シート】!$AB$10, 賃貸住宅経営のセルチェックシート【入力シート】!$G$25-賃貸住宅経営のセルチェックシート【入力シート】!$G$25*キャッシュフロー表!$D$28*(賃貸住宅経営のセルチェックシート【入力シート】!$AB$10-1),0))/10000","v":{"$error":"#N/A"}},{"$f":"IF(K2<賃貸住宅経営のセルチェックシート【入力シート】!$AB$10,賃貸住宅経営のセルチェックシート【入力シート】!$G$25*キャッシュフロー表!$D$28,IF(K2=賃貸住宅経営のセルチェックシート【入力シート】!$AB$10, 賃貸住宅経営のセルチェックシート【入力シート】!$G$25-賃貸住宅経営のセルチェックシート【入力シート】!$G$25*キャッシュフロー表!$D$28*(賃貸住宅経営のセルチェックシート【入力シート】!$AB$10-1),0))/10000","v":{"$error":"#N/A"}},{"$f":"IF(L2<賃貸住宅経営のセルチェックシート【入力シート】!$AB$10,賃貸住宅経営のセルチェックシート【入力シート】!$G$25*キャッシュフロー表!$D$28,IF(L2=賃貸住宅経営のセルチェックシート【入力シート】!$AB$10, 賃貸住宅経営のセルチェックシート【入力シート】!$G$25-賃貸住宅経営のセルチェックシート【入力シート】!$G$25*キャッシュフロー表!$D$28*(賃貸住宅経営のセルチェックシート【入力シート】!$AB$10-1),0))/10000","v":{"$error":"#N/A"}},{"$f":"IF(M2<賃貸住宅経営のセルチェックシート【入力シート】!$AB$10,賃貸住宅経営のセルチェックシート【入力シート】!$G$25*キャッシュフロー表!$D$28,IF(M2=賃貸住宅経営のセルチェックシート【入力シート】!$AB$10, 賃貸住宅経営のセルチェックシート【入力シート】!$G$25-賃貸住宅経営のセルチェックシート【入力シート】!$G$25*キャッシュフロー表!$D$28*(賃貸住宅経営のセルチェックシート【入力シート】!$AB$10-1),0))/10000","v":{"$error":"#N/A"}},{"$f":"IF(N2<賃貸住宅経営のセルチェックシート【入力シート】!$AB$10,賃貸住宅経営のセルチェックシート【入力シート】!$G$25*キャッシュフロー表!$D$28,IF(N2=賃貸住宅経営のセルチェックシート【入力シート】!$AB$10, 賃貸住宅経営のセルチェックシート【入力シート】!$G$25-賃貸住宅経営のセルチェックシート【入力シート】!$G$25*キャッシュフロー表!$D$28*(賃貸住宅経営のセルチェックシート【入力シート】!$AB$10-1),0))/10000","v":{"$error":"#N/A"}},{"$f":"IF(O2<賃貸住宅経営のセルチェックシート【入力シート】!$AB$10,賃貸住宅経営のセルチェックシート【入力シート】!$G$25*キャッシュフロー表!$D$28,IF(O2=賃貸住宅経営のセルチェックシート【入力シート】!$AB$10, 賃貸住宅経営のセルチェックシート【入力シート】!$G$25-賃貸住宅経営のセルチェックシート【入力シート】!$G$25*キャッシュフロー表!$D$28*(賃貸住宅経営のセルチェックシート【入力シート】!$AB$10-1),0))/10000","v":{"$error":"#N/A"}},{"$f":"IF(P2<賃貸住宅経営のセルチェックシート【入力シート】!$AB$10,賃貸住宅経営のセルチェックシート【入力シート】!$G$25*キャッシュフロー表!$D$28,IF(P2=賃貸住宅経営のセルチェックシート【入力シート】!$AB$10, 賃貸住宅経営のセルチェックシート【入力シート】!$G$25-賃貸住宅経営のセルチェックシート【入力シート】!$G$25*キャッシュフロー表!$D$28*(賃貸住宅経営のセルチェックシート【入力シート】!$AB$10-1),0))/10000","v":{"$error":"#N/A"}},{"$f":"IF(Q2<賃貸住宅経営のセルチェックシート【入力シート】!$AB$10,賃貸住宅経営のセルチェックシート【入力シート】!$G$25*キャッシュフロー表!$D$28,IF(Q2=賃貸住宅経営のセルチェックシート【入力シート】!$AB$10, 賃貸住宅経営のセルチェックシート【入力シート】!$G$25-賃貸住宅経営のセルチェックシート【入力シート】!$G$25*キャッシュフロー表!$D$28*(賃貸住宅経営のセルチェックシート【入力シート】!$AB$10-1),0))/10000","v":{"$error":"#N/A"}},{"$f":"IF(R2<賃貸住宅経営のセルチェックシート【入力シート】!$AB$10,賃貸住宅経営のセルチェックシート【入力シート】!$G$25*キャッシュフロー表!$D$28,IF(R2=賃貸住宅経営のセルチェックシート【入力シート】!$AB$10, 賃貸住宅経営のセルチェックシート【入力シート】!$G$25-賃貸住宅経営のセルチェックシート【入力シート】!$G$25*キャッシュフロー表!$D$28*(賃貸住宅経営のセルチェックシート【入力シート】!$AB$10-1),0))/10000","v":{"$error":"#N/A"}},{"$f":"IF(S2<賃貸住宅経営のセルチェックシート【入力シート】!$AB$10,賃貸住宅経営のセルチェックシート【入力シート】!$G$25*キャッシュフロー表!$D$28,IF(S2=賃貸住宅経営のセルチェックシート【入力シート】!$AB$10, 賃貸住宅経営のセルチェックシート【入力シート】!$G$25-賃貸住宅経営のセルチェックシート【入力シート】!$G$25*キャッシュフロー表!$D$28*(賃貸住宅経営のセルチェックシート【入力シート】!$AB$10-1),0))/10000","v":{"$error":"#N/A"}},{"$f":"IF(T2<賃貸住宅経営のセルチェックシート【入力シート】!$AB$10,賃貸住宅経営のセルチェックシート【入力シート】!$G$25*キャッシュフロー表!$D$28,IF(T2=賃貸住宅経営のセルチェックシート【入力シート】!$AB$10, 賃貸住宅経営のセルチェックシート【入力シート】!$G$25-賃貸住宅経営のセルチェックシート【入力シート】!$G$25*キャッシュフロー表!$D$28*(賃貸住宅経営のセルチェックシート【入力シート】!$AB$10-1),0))/10000","v":{"$error":"#N/A"}},{"$f":"IF(U2<賃貸住宅経営のセルチェックシート【入力シート】!$AB$10,賃貸住宅経営のセルチェックシート【入力シート】!$G$25*キャッシュフロー表!$D$28,IF(U2=賃貸住宅経営のセルチェックシート【入力シート】!$AB$10, 賃貸住宅経営のセルチェックシート【入力シート】!$G$25-賃貸住宅経営のセルチェックシート【入力シート】!$G$25*キャッシュフロー表!$D$28*(賃貸住宅経営のセルチェックシート【入力シート】!$AB$10-1),0))/10000","v":{"$error":"#N/A"}},{"$f":"IF(V2<賃貸住宅経営のセルチェックシート【入力シート】!$AB$10,賃貸住宅経営のセルチェックシート【入力シート】!$G$25*キャッシュフロー表!$D$28,IF(V2=賃貸住宅経営のセルチェックシート【入力シート】!$AB$10, 賃貸住宅経営のセルチェックシート【入力シート】!$G$25-賃貸住宅経営のセルチェックシート【入力シート】!$G$25*キャッシュフロー表!$D$28*(賃貸住宅経営のセルチェックシート【入力シート】!$AB$10-1),0))/10000","v":{"$error":"#N/A"}},{"$f":"IF(W2<賃貸住宅経営のセルチェックシート【入力シート】!$AB$10,賃貸住宅経営のセルチェックシート【入力シート】!$G$25*キャッシュフロー表!$D$28,IF(W2=賃貸住宅経営のセルチェックシート【入力シート】!$AB$10, 賃貸住宅経営のセルチェックシート【入力シート】!$G$25-賃貸住宅経営のセルチェックシート【入力シート】!$G$25*キャッシュフロー表!$D$28*(賃貸住宅経営のセルチェックシート【入力シート】!$AB$10-1),0))/10000","v":{"$error":"#N/A"}},{"$f":"IF(X2<賃貸住宅経営のセルチェックシート【入力シート】!$AB$10,賃貸住宅経営のセルチェックシート【入力シート】!$G$25*キャッシュフロー表!$D$28,IF(X2=賃貸住宅経営のセルチェックシート【入力シート】!$AB$10, 賃貸住宅経営のセルチェックシート【入力シート】!$G$25-賃貸住宅経営のセルチェックシート【入力シート】!$G$25*キャッシュフロー表!$D$28*(賃貸住宅経営のセルチェックシート【入力シート】!$AB$10-1),0))/10000","v":{"$error":"#N/A"}},{"$f":"IF(Y2<賃貸住宅経営のセルチェックシート【入力シート】!$AB$10,賃貸住宅経営のセルチェックシート【入力シート】!$G$25*キャッシュフロー表!$D$28,IF(Y2=賃貸住宅経営のセルチェックシート【入力シート】!$AB$10, 賃貸住宅経営のセルチェックシート【入力シート】!$G$25-賃貸住宅経営のセルチェックシート【入力シート】!$G$25*キャッシュフロー表!$D$28*(賃貸住宅経営のセルチェックシート【入力シート】!$AB$10-1),0))/10000","v":{"$error":"#N/A"}},{"$f":"IF(Z2<賃貸住宅経営のセルチェックシート【入力シート】!$AB$10,賃貸住宅経営のセルチェックシート【入力シート】!$G$25*キャッシュフロー表!$D$28,IF(Z2=賃貸住宅経営のセルチェックシート【入力シート】!$AB$10, 賃貸住宅経営のセルチェックシート【入力シート】!$G$25-賃貸住宅経営のセルチェックシート【入力シート】!$G$25*キャッシュフロー表!$D$28*(賃貸住宅経営のセルチェックシート【入力シート】!$AB$10-1),0))/10000","v":{"$error":"#N/A"}},{"$f":"IF(AA2<賃貸住宅経営のセルチェックシート【入力シート】!$AB$10,賃貸住宅経営のセルチェックシート【入力シート】!$G$25*キャッシュフロー表!$D$28,IF(AA2=賃貸住宅経営のセルチェックシート【入力シート】!$AB$10, 賃貸住宅経営のセルチェックシート【入力シート】!$G$25-賃貸住宅経営のセルチェックシート【入力シート】!$G$25*キャッシュフロー表!$D$28*(賃貸住宅経営のセルチェックシート【入力シート】!$AB$10-1),0))/10000","v":{"$error":"#N/A"}},{"$f":"IF(AB2<賃貸住宅経営のセルチェックシート【入力シート】!$AB$10,賃貸住宅経営のセルチェックシート【入力シート】!$G$25*キャッシュフロー表!$D$28,IF(AB2=賃貸住宅経営のセルチェックシート【入力シート】!$AB$10, 賃貸住宅経営のセルチェックシート【入力シート】!$G$25-賃貸住宅経営のセルチェックシート【入力シート】!$G$25*キャッシュフロー表!$D$28*(賃貸住宅経営のセルチェックシート【入力シート】!$AB$10-1),0))/10000","v":{"$error":"#N/A"}},{"$f":"IF(AC2<賃貸住宅経営のセルチェックシート【入力シート】!$AB$10,賃貸住宅経営のセルチェックシート【入力シート】!$G$25*キャッシュフロー表!$D$28,IF(AC2=賃貸住宅経営のセルチェックシート【入力シート】!$AB$10, 賃貸住宅経営のセルチェックシート【入力シート】!$G$25-賃貸住宅経営のセルチェックシート【入力シート】!$G$25*キャッシュフロー表!$D$28*(賃貸住宅経営のセルチェックシート【入力シート】!$AB$10-1),0))/10000","v":{"$error":"#N/A"}},{"$f":"IF(AD2<賃貸住宅経営のセルチェックシート【入力シート】!$AB$10,賃貸住宅経営のセルチェックシート【入力シート】!$G$25*キャッシュフロー表!$D$28,IF(AD2=賃貸住宅経営のセルチェックシート【入力シート】!$AB$10, 賃貸住宅経営のセルチェックシート【入力シート】!$G$25-賃貸住宅経営のセルチェックシート【入力シート】!$G$25*キャッシュフロー表!$D$28*(賃貸住宅経営のセルチェックシート【入力シート】!$AB$10-1),0))/10000","v":{"$error":"#N/A"}},{"$f":"IF(AE2<賃貸住宅経営のセルチェックシート【入力シート】!$AB$10,賃貸住宅経営のセルチェックシート【入力シート】!$G$25*キャッシュフロー表!$D$28,IF(AE2=賃貸住宅経営のセルチェックシート【入力シート】!$AB$10, 賃貸住宅経営のセルチェックシート【入力シート】!$G$25-賃貸住宅経営のセルチェックシート【入力シート】!$G$25*キャッシュフロー表!$D$28*(賃貸住宅経営のセルチェックシート【入力シート】!$AB$10-1),0))/10000","v":{"$error":"#N/A"}},{"$f":"IF(AF2<賃貸住宅経営のセルチェックシート【入力シート】!$AB$10,賃貸住宅経営のセルチェックシート【入力シート】!$G$25*キャッシュフロー表!$D$28,IF(AF2=賃貸住宅経営のセルチェックシート【入力シート】!$AB$10, 賃貸住宅経営のセルチェックシート【入力シート】!$G$25-賃貸住宅経営のセルチェックシート【入力シート】!$G$25*キャッシュフロー表!$D$28*(賃貸住宅経営のセルチェックシート【入力シート】!$AB$10-1),0))/10000","v":{"$error":"#N/A"}},{"$f":"IF(AG2<賃貸住宅経営のセルチェックシート【入力シート】!$AB$10,賃貸住宅経営のセルチェックシート【入力シート】!$G$25*キャッシュフロー表!$D$28,IF(AG2=賃貸住宅経営のセルチェックシート【入力シート】!$AB$10, 賃貸住宅経営のセルチェックシート【入力シート】!$G$25-賃貸住宅経営のセルチェックシート【入力シート】!$G$25*キャッシュフロー表!$D$28*(賃貸住宅経営のセルチェックシート【入力シート】!$AB$10-1),0))/10000","v":{"$error":"#N/A"}},{"$f":"IF(AH2<賃貸住宅経営のセルチェックシート【入力シート】!$AB$10,賃貸住宅経営のセルチェックシート【入力シート】!$G$25*キャッシュフロー表!$D$28,IF(AH2=賃貸住宅経営のセルチェックシート【入力シート】!$AB$10, 賃貸住宅経営のセルチェックシート【入力シート】!$G$25-賃貸住宅経営のセルチェックシート【入力シート】!$G$25*キャッシュフロー表!$D$28*(賃貸住宅経営のセルチェックシート【入力シート】!$AB$10-1),0))/10000","v":{"$error":"#N/A"}},{"$f":"IF(AI2<賃貸住宅経営のセルチェックシート【入力シート】!$AB$10,賃貸住宅経営のセルチェックシート【入力シート】!$G$25*キャッシュフロー表!$D$28,IF(AI2=賃貸住宅経営のセルチェックシート【入力シート】!$AB$10, 賃貸住宅経営のセルチェックシート【入力シート】!$G$25-賃貸住宅経営のセルチェックシート【入力シート】!$G$25*キャッシュフロー表!$D$28*(賃貸住宅経営のセルチェックシート【入力シート】!$AB$10-1),0))/10000","v":{"$error":"#N/A"}},{"$f":"IF(AJ2<賃貸住宅経営のセルチェックシート【入力シート】!$AB$10,賃貸住宅経営のセルチェックシート【入力シート】!$G$25*キャッシュフロー表!$D$28,IF(AJ2=賃貸住宅経営のセルチェックシート【入力シート】!$AB$10, 賃貸住宅経営のセルチェックシート【入力シート】!$G$25-賃貸住宅経営のセルチェックシート【入力シート】!$G$25*キャッシュフロー表!$D$28*(賃貸住宅経営のセルチェックシート【入力シート】!$AB$10-1),0))/10000","v":{"$error":"#N/A"}},{"$f":"IF(AK2<賃貸住宅経営のセルチェックシート【入力シート】!$AB$10,賃貸住宅経営のセルチェックシート【入力シート】!$G$25*キャッシュフロー表!$D$28,IF(AK2=賃貸住宅経営のセルチェックシート【入力シート】!$AB$10, 賃貸住宅経営のセルチェックシート【入力シート】!$G$25-賃貸住宅経営のセルチェックシート【入力シート】!$G$25*キャッシュフロー表!$D$28*(賃貸住宅経営のセルチェックシート【入力シート】!$AB$10-1),0))/10000","v":{"$error":"#N/A"}},{"$f":"IF(AL2<賃貸住宅経営のセルチェックシート【入力シート】!$AB$10,賃貸住宅経営のセルチェックシート【入力シート】!$G$25*キャッシュフロー表!$D$28,IF(AL2=賃貸住宅経営のセルチェックシート【入力シート】!$AB$10, 賃貸住宅経営のセルチェックシート【入力シート】!$G$25-賃貸住宅経営のセルチェックシート【入力シート】!$G$25*キャッシュフロー表!$D$28*(賃貸住宅経営のセルチェックシート【入力シート】!$AB$10-1),0))/10000","v":{"$error":"#N/A"}},{"$f":"IF(AM2<賃貸住宅経営のセルチェックシート【入力シート】!$AB$10,賃貸住宅経営のセルチェックシート【入力シート】!$G$25*キャッシュフロー表!$D$28,IF(AM2=賃貸住宅経営のセルチェックシート【入力シート】!$AB$10, 賃貸住宅経営のセルチェックシート【入力シート】!$G$25-賃貸住宅経営のセルチェックシート【入力シート】!$G$25*キャッシュフロー表!$D$28*(賃貸住宅経営のセルチェックシート【入力シート】!$AB$10-1),0))/10000","v":{"$error":"#N/A"}},{"$f":"IF(AN2<賃貸住宅経営のセルチェックシート【入力シート】!$AB$10,賃貸住宅経営のセルチェックシート【入力シート】!$G$25*キャッシュフロー表!$D$28,IF(AN2=賃貸住宅経営のセルチェックシート【入力シート】!$AB$10, 賃貸住宅経営のセルチェックシート【入力シート】!$G$25-賃貸住宅経営のセルチェックシート【入力シート】!$G$25*キャッシュフロー表!$D$28*(賃貸住宅経営のセルチェックシート【入力シート】!$AB$10-1),0))/10000","v":{"$error":"#N/A"}},{"$f":"IF(AO2<賃貸住宅経営のセルチェックシート【入力シート】!$AB$10,賃貸住宅経営のセルチェックシート【入力シート】!$G$25*キャッシュフロー表!$D$28,IF(AO2=賃貸住宅経営のセルチェックシート【入力シート】!$AB$10, 賃貸住宅経営のセルチェックシート【入力シート】!$G$25-賃貸住宅経営のセルチェックシート【入力シート】!$G$25*キャッシュフロー表!$D$28*(賃貸住宅経営のセルチェックシート【入力シート】!$AB$10-1),0))/10000","v":{"$error":"#N/A"}},{"$f":"IF(AP2<賃貸住宅経営のセルチェックシート【入力シート】!$AB$10,賃貸住宅経営のセルチェックシート【入力シート】!$G$25*キャッシュフロー表!$D$28,IF(AP2=賃貸住宅経営のセルチェックシート【入力シート】!$AB$10, 賃貸住宅経営のセルチェックシート【入力シート】!$G$25-賃貸住宅経営のセルチェックシート【入力シート】!$G$25*キャッシュフロー表!$D$28*(賃貸住宅経営のセルチェックシート【入力シート】!$AB$10-1),0))/10000","v":{"$error":"#N/A"}},{"$f":"IF(AQ2<賃貸住宅経営のセルチェックシート【入力シート】!$AB$10,賃貸住宅経営のセルチェックシート【入力シート】!$G$25*キャッシュフロー表!$D$28,IF(AQ2=賃貸住宅経営のセルチェックシート【入力シート】!$AB$10, 賃貸住宅経営のセルチェックシート【入力シート】!$G$25-賃貸住宅経営のセルチェックシート【入力シート】!$G$25*キャッシュフロー表!$D$28*(賃貸住宅経営のセルチェックシート【入力シート】!$AB$10-1),0))/10000","v":{"$error":"#N/A"}},{"$f":"IF(AR2<賃貸住宅経営のセルチェックシート【入力シート】!$AB$10,賃貸住宅経営のセルチェックシート【入力シート】!$G$25*キャッシュフロー表!$D$28,IF(AR2=賃貸住宅経営のセルチェックシート【入力シート】!$AB$10, 賃貸住宅経営のセルチェックシート【入力シート】!$G$25-賃貸住宅経営のセルチェックシート【入力シート】!$G$25*キャッシュフロー表!$D$28*(賃貸住宅経営のセルチェックシート【入力シート】!$AB$10-1),0))/10000","v":{"$error":"#N/A"}},{"$f":"IF(AS2<賃貸住宅経営のセルチェックシート【入力シート】!$AB$10,賃貸住宅経営のセルチェックシート【入力シート】!$G$25*キャッシュフロー表!$D$28,IF(AS2=賃貸住宅経営のセルチェックシート【入力シート】!$AB$10, 賃貸住宅経営のセルチェックシート【入力シート】!$G$25-賃貸住宅経営のセルチェックシート【入力シート】!$G$25*キャッシュフロー表!$D$28*(賃貸住宅経営のセルチェックシート【入力シート】!$AB$10-1),0))/10000","v":{"$error":"#N/A"}},{"$f":"IF(AT2<賃貸住宅経営のセルチェックシート【入力シート】!$AB$10,賃貸住宅経営のセルチェックシート【入力シート】!$G$25*キャッシュフロー表!$D$28,IF(AT2=賃貸住宅経営のセルチェックシート【入力シート】!$AB$10, 賃貸住宅経営のセルチェックシート【入力シート】!$G$25-賃貸住宅経営のセルチェックシート【入力シート】!$G$25*キャッシュフロー表!$D$28*(賃貸住宅経営のセルチェックシート【入力シート】!$AB$10-1),0))/10000","v":{"$error":"#N/A"}},{"$f":"IF(AU2<賃貸住宅経営のセルチェックシート【入力シート】!$AB$10,賃貸住宅経営のセルチェックシート【入力シート】!$G$25*キャッシュフロー表!$D$28,IF(AU2=賃貸住宅経営のセルチェックシート【入力シート】!$AB$10, 賃貸住宅経営のセルチェックシート【入力シート】!$G$25-賃貸住宅経営のセルチェックシート【入力シート】!$G$25*キャッシュフロー表!$D$28*(賃貸住宅経営のセルチェックシート【入力シート】!$AB$10-1),0))/10000","v":{"$error":"#N/A"}},{"$f":"IF(AV2<賃貸住宅経営のセルチェックシート【入力シート】!$AB$10,賃貸住宅経営のセルチェックシート【入力シート】!$G$25*キャッシュフロー表!$D$28,IF(AV2=賃貸住宅経営のセルチェックシート【入力シート】!$AB$10, 賃貸住宅経営のセルチェックシート【入力シート】!$G$25-賃貸住宅経営のセルチェックシート【入力シート】!$G$25*キャッシュフロー表!$D$28*(賃貸住宅経営のセルチェックシート【入力シート】!$AB$10-1),0))/10000","v":{"$error":"#N/A"}},{"$f":"IF(AW2<賃貸住宅経営のセルチェックシート【入力シート】!$AB$10,賃貸住宅経営のセルチェックシート【入力シート】!$G$25*キャッシュフロー表!$D$28,IF(AW2=賃貸住宅経営のセルチェックシート【入力シート】!$AB$10, 賃貸住宅経営のセルチェックシート【入力シート】!$G$25-賃貸住宅経営のセルチェックシート【入力シート】!$G$25*キャッシュフロー表!$D$28*(賃貸住宅経営のセルチェックシート【入力シート】!$AB$10-1),0))/10000","v":{"$error":"#N/A"}},{"$f":"IF(AX2<賃貸住宅経営のセルチェックシート【入力シート】!$AB$10,賃貸住宅経営のセルチェックシート【入力シート】!$G$25*キャッシュフロー表!$D$28,IF(AX2=賃貸住宅経営のセルチェックシート【入力シート】!$AB$10, 賃貸住宅経営のセルチェックシート【入力シート】!$G$25-賃貸住宅経営のセルチェックシート【入力シート】!$G$25*キャッシュフロー表!$D$28*(賃貸住宅経営のセルチェックシート【入力シート】!$AB$10-1),0))/10000","v":{"$error":"#N/A"}},{"$f":"IF(AY2<賃貸住宅経営のセルチェックシート【入力シート】!$AB$10,賃貸住宅経営のセルチェックシート【入力シート】!$G$25*キャッシュフロー表!$D$28,IF(AY2=賃貸住宅経営のセルチェックシート【入力シート】!$AB$10, 賃貸住宅経営のセルチェックシート【入力シート】!$G$25-賃貸住宅経営のセルチェックシート【入力シート】!$G$25*キャッシュフロー表!$D$28*(賃貸住宅経営のセルチェックシート【入力シート】!$AB$10-1),0))/10000","v":{"$error":"#N/A"}},{"$f":"IF(AZ2<賃貸住宅経営のセルチェックシート【入力シート】!$AB$10,賃貸住宅経営のセルチェックシート【入力シート】!$G$25*キャッシュフロー表!$D$28,IF(AZ2=賃貸住宅経営のセルチェックシート【入力シート】!$AB$10, 賃貸住宅経営のセルチェックシート【入力シート】!$G$25-賃貸住宅経営のセルチェックシート【入力シート】!$G$25*キャッシュフロー表!$D$28*(賃貸住宅経営のセルチェックシート【入力シート】!$AB$10-1),0))/10000","v":{"$error":"#N/A"}},{"$f":"IF(BA2<賃貸住宅経営のセルチェックシート【入力シート】!$AB$10,賃貸住宅経営のセルチェックシート【入力シート】!$G$25*キャッシュフロー表!$D$28,IF(BA2=賃貸住宅経営のセルチェックシート【入力シート】!$AB$10, 賃貸住宅経営のセルチェックシート【入力シート】!$G$25-賃貸住宅経営のセルチェックシート【入力シート】!$G$25*キャッシュフロー表!$D$28*(賃貸住宅経営のセルチェックシート【入力シート】!$AB$10-1),0))/10000","v":{"$error":"#N/A"}},{"$f":"IF(BB2<賃貸住宅経営のセルチェックシート【入力シート】!$AB$10,賃貸住宅経営のセルチェックシート【入力シート】!$G$25*キャッシュフロー表!$D$28,IF(BB2=賃貸住宅経営のセルチェックシート【入力シート】!$AB$10, 賃貸住宅経営のセルチェックシート【入力シート】!$G$25-賃貸住宅経営のセルチェックシート【入力シート】!$G$25*キャッシュフロー表!$D$28*(賃貸住宅経営のセルチェックシート【入力シート】!$AB$10-1),0))/10000","v":{"$error":"#N/A"}},{"$f":"IF(BC2<賃貸住宅経営のセルチェックシート【入力シート】!$AB$10,賃貸住宅経営のセルチェックシート【入力シート】!$G$25*キャッシュフロー表!$D$28,IF(BC2=賃貸住宅経営のセルチェックシート【入力シート】!$AB$10, 賃貸住宅経営のセルチェックシート【入力シート】!$G$25-賃貸住宅経営のセルチェックシート【入力シート】!$G$25*キャッシュフロー表!$D$28*(賃貸住宅経営のセルチェックシート【入力シート】!$AB$10-1),0))/10000","v":{"$error":"#N/A"}},{"$f":"IF(BD2<賃貸住宅経営のセルチェックシート【入力シート】!$AB$10,賃貸住宅経営のセルチェックシート【入力シート】!$G$25*キャッシュフロー表!$D$28,IF(BD2=賃貸住宅経営のセルチェックシート【入力シート】!$AB$10, 賃貸住宅経営のセルチェックシート【入力シート】!$G$25-賃貸住宅経営のセルチェックシート【入力シート】!$G$25*キャッシュフロー表!$D$28*(賃貸住宅経営のセルチェックシート【入力シート】!$AB$10-1),0))/10000","v":{"$error":"#N/A"}},{"$f":"IF(BE2<賃貸住宅経営のセルチェックシート【入力シート】!$AB$10,賃貸住宅経営のセルチェックシート【入力シート】!$G$25*キャッシュフロー表!$D$28,IF(BE2=賃貸住宅経営のセルチェックシート【入力シート】!$AB$10, 賃貸住宅経営のセルチェックシート【入力シート】!$G$25-賃貸住宅経営のセルチェックシート【入力シート】!$G$25*キャッシュフロー表!$D$28*(賃貸住宅経営のセルチェックシート【入力シート】!$AB$10-1),0))/10000","v":{"$error":"#N/A"}},{"$f":"IF(BF2<賃貸住宅経営のセルチェックシート【入力シート】!$AB$10,賃貸住宅経営のセルチェックシート【入力シート】!$G$25*キャッシュフロー表!$D$28,IF(BF2=賃貸住宅経営のセルチェックシート【入力シート】!$AB$10, 賃貸住宅経営のセルチェックシート【入力シート】!$G$25-賃貸住宅経営のセルチェックシート【入力シート】!$G$25*キャッシュフロー表!$D$28*(賃貸住宅経営のセルチェックシート【入力シート】!$AB$10-1),0))/10000","v":{"$error":"#N/A"}},{"$f":"IF(BG2<賃貸住宅経営のセルチェックシート【入力シート】!$AB$10,賃貸住宅経営のセルチェックシート【入力シート】!$G$25*キャッシュフロー表!$D$28,IF(BG2=賃貸住宅経営のセルチェックシート【入力シート】!$AB$10, 賃貸住宅経営のセルチェックシート【入力シート】!$G$25-賃貸住宅経営のセルチェックシート【入力シート】!$G$25*キャッシュフロー表!$D$28*(賃貸住宅経営のセルチェックシート【入力シート】!$AB$10-1),0))/10000","v":{"$error":"#N/A"}},{"$f":"IF(BH2<賃貸住宅経営のセルチェックシート【入力シート】!$AB$10,賃貸住宅経営のセルチェックシート【入力シート】!$G$25*キャッシュフロー表!$D$28,IF(BH2=賃貸住宅経営のセルチェックシート【入力シート】!$AB$10, 賃貸住宅経営のセルチェックシート【入力シート】!$G$25-賃貸住宅経営のセルチェックシート【入力シート】!$G$25*キャッシュフロー表!$D$28*(賃貸住宅経営のセルチェックシート【入力シート】!$AB$10-1),0))/10000","v":{"$error":"#N/A"}},{"$f":"IF(BI2<賃貸住宅経営のセルチェックシート【入力シート】!$AB$10,賃貸住宅経営のセルチェックシート【入力シート】!$G$25*キャッシュフロー表!$D$28,IF(BI2=賃貸住宅経営のセルチェックシート【入力シート】!$AB$10, 賃貸住宅経営のセルチェックシート【入力シート】!$G$25-賃貸住宅経営のセルチェックシート【入力シート】!$G$25*キャッシュフロー表!$D$28*(賃貸住宅経営のセルチェックシート【入力シート】!$AB$10-1),0))/10000","v":{"$error":"#N/A"}},{"$f":"IF(BJ2<賃貸住宅経営のセルチェックシート【入力シート】!$AB$10,賃貸住宅経営のセルチェックシート【入力シート】!$G$25*キャッシュフロー表!$D$28,IF(BJ2=賃貸住宅経営のセルチェックシート【入力シート】!$AB$10, 賃貸住宅経営のセルチェックシート【入力シート】!$G$25-賃貸住宅経営のセルチェックシート【入力シート】!$G$25*キャッシュフロー表!$D$28*(賃貸住宅経営のセルチェックシート【入力シート】!$AB$10-1),0))/10000","v":{"$error":"#N/A"}},{"$f":"IF(BK2<賃貸住宅経営のセルチェックシート【入力シート】!$AB$10,賃貸住宅経営のセルチェックシート【入力シート】!$G$25*キャッシュフロー表!$D$28,IF(BK2=賃貸住宅経営のセルチェックシート【入力シート】!$AB$10, 賃貸住宅経営のセルチェックシート【入力シート】!$G$25-賃貸住宅経営のセルチェックシート【入力シート】!$G$25*キャッシュフロー表!$D$28*(賃貸住宅経営のセルチェックシート【入力シート】!$AB$10-1),0))/10000","v":{"$error":"#N/A"}},{"$f":"IF(BL2<賃貸住宅経営のセルチェックシート【入力シート】!$AB$10,賃貸住宅経営のセルチェックシート【入力シート】!$G$25*キャッシュフロー表!$D$28,IF(BL2=賃貸住宅経営のセルチェックシート【入力シート】!$AB$10, 賃貸住宅経営のセルチェックシート【入力シート】!$G$25-賃貸住宅経営のセルチェックシート【入力シート】!$G$25*キャッシュフロー表!$D$28*(賃貸住宅経営のセルチェックシート【入力シート】!$AB$10-1),0))/10000","v":{"$error":"#N/A"}},{"$f":"IF(BM2<賃貸住宅経営のセルチェックシート【入力シート】!$AB$10,賃貸住宅経営のセルチェックシート【入力シート】!$G$25*キャッシュフロー表!$D$28,IF(BM2=賃貸住宅経営のセルチェックシート【入力シート】!$AB$10, 賃貸住宅経営のセルチェックシート【入力シート】!$G$25-賃貸住宅経営のセルチェックシート【入力シート】!$G$25*キャッシュフロー表!$D$28*(賃貸住宅経営のセルチェックシート【入力シート】!$AB$10-1),0))/10000","v":{"$error":"#N/A"}}]
[null,"営業外費用","支払利息",null,null,{"$f":"借入金!C11","v":0},{"$f":"借入金!D11","v":0},{"$f":"借入金!E11","v":0},{"$f":"借入金!F11","v":0},{"$f":"借入金!G11","v":0},{"$f":"借入金!H11","v":0},{"$f":"借入金!I11","v":0},{"$f":"借入金!J11","v":0},{"$f":"借入金!K11","v":0},{"$f":"借入金!L11","v":0},{"$f":"借入金!M11","v":0},{"$f":"借入金!N11","v":0},{"$f":"借入金!O11","v":0},{"$f":"借入金!P11","v":0},{"$f":"借入金!Q11","v":0},{"$f":"借入金!R11","v":0},{"$f":"借入金!S11","v":0},{"$f":"借入金!T11","v":0},{"$f":"借入金!U11","v":0},{"$f":"借入金!V11","v":0},{"$f":"借入金!W11","v":0},{"$f":"借入金!X11","v":0},{"$f":"借入金!Y11","v":0},{"$f":"借入金!Z11","v":0},{"$f":"借入金!AA11","v":0},{"$f":"借入金!AB11","v":0},{"$f":"借入金!AC11","v":0},{"$f":"借入金!AD11","v":0},{"$f":"借入金!AE11","v":0},{"$f":"借入金!AF11","v":0},{"$f":"借入金!AG11","v":0},{"$f":"借入金!AH11","v":0},{"$f":"借入金!AI11","v":0},{"$f":"借入金!AJ11","v":0},{"$f":"借入金!AK11","v":0},{"$f":"借入金!AL11","v":0},{"$f":"借入金!AM11","v":0},{"$f":"借入金!AN11","v":0},{"$f":"借入金!AO11","v":0},{"$f":"借入金!AP11","v":0},{"$f":"借入金!AQ11","v":0},{"$f":"借入金!AR11","v":0},{"$f":"借入金!AS11","v":0},{"$f":"借入金!AT11","v":0},{"$f":"借入金!AU11","v":0},{"$f":"借入金!AV11","v":0},{"$f":"借入金!AW11","v":0},{"$f":"借入金!AX11","v":0},{"$f":"借入金!AY11","v":0},{"$f":"借入金!AZ11","v":0},{"$f":"借入金!BA11","v":0},{"$f":"借入金!BB11","v":0},{"$f":"借入金!BC11","v":0},{"$f":"借入金!BD11","v":0},{"$f":"借入金!BE11","v":0},{"$f":"借入金!BF11","v":0},{"$f":"借入金!BG11","v":0},{"$f":"借入金!BH11","v":0},{"$f":"借入金!BI11","v":0},{"$f":"借入金!BJ11","v":0}]
[null,null,"営業外費用計",null,null,{"$f":"SUM(F28:F29)","v":{"$error":"#N/A"}},{"$error":"#N/A"},{"$error":"#N/A"},{"$error":"#N/A"},{"$error":"#N/A"},{"$error":"#N/A"},{"$error":"#N/A"},{"$error":"#N/A"},{"$error":"#N/A"},{"$error":"#N/A"},{"$error":"#N/A"},{"$error":"#N/A"},{"$error":"#N/A"},{"$error":"#N/A"},{"$error":"#N/A"},{"$error":"#N/A"},{"$error":"#N/A"},{"$error":"#N/A"},{"$error":"#N/A"},{"$error":"#N/A"},{"$error":"#N/A"},{"$error":"#N/A"},{"$error":"#N/A"},{"$error":"#N/A"},{"$error":"#N/A"},{"$error":"#N/A"},{"$error":"#N/A"},{"$error":"#N/A"},{"$error":"#N/A"},{"$error":"#N/A"},{"$f":"SUM(AJ28:AJ29)","v":{"$error":"#N/A"}},{"$error":"#N/A"},{"$error":"#N/A"},{"$error":"#N/A"},{"$error":"#N/A"},{"$error":"#N/A"},{"$error":"#N/A"},{"$error":"#N/A"},{"$error":"#N/A"},{"$error":"#N/A"},{"$f":"SUM(AT28:AT29)","v":{"$error":"#N/A"}},{"$error":"#N/A"},{"$error":"#N/A"},{"$error":"#N/A"},{"$error":"#N/A"},{"$error":"#N/A"},{"$error":"#N/A"},{"$error":"#N/A"},{"$error":"#N/A"},{"$error":"#N/A"},{"$error":"#N/A"},{"$error":"#N/A"},{"$error":"#N/A"},{"$error":"#N/A"},{"$error":"#N/A"},{"$error":"#N/A"},{"$error":"#N/A"},{"$error":"#N/A"},{"$error":"#N/A"},{"$error":"#N/A"}]
[null,"税引前利益(償却後利益)",null,null,null,{"$f":"F27-F30","v":{"$error":"#N/A"}},{"$error":"#N/A"},{"$error":"#N/A"},{"$error":"#N/A"},{"$error":"#N/A"},{"$error":"#N/A"},{"$error":"#N/A"},{"$error":"#N/A"},{"$error":"#N/A"},{"$error":"#N/A"},{"$error":"#N/A"},{"$error":"#N/A"},{"$error":"#N/A"},{"$error":"#N/A"},{"$error":"#N/A"},{"$error":"#N/A"},{"$error":"#N/A"},{"$error":"#N/A"},{"$error":"#N/A"},{"$error":"#N/A"},{"$error":"#N/A"},{"$error":"#N/A"},{"$error":"#N/A"},{"$error":"#N/A"},{"$error":"#N/A"},{"$error":"#N/A"},{"$error":"#N/A"},{"$error":"#N/A"},{"$error":"#N/A"},{"$error":"#N/A"},{"$f":"AJ27-AJ30","v":{"$error":"#N/A"}},{"$error":"#N/A"},{"$error":"#N/A"},{"$error":"#N/A"},{"$error":"#N/A"},{"$error":"#N/A"},{"$error":"#N/A"},{"$error":"#N/A"},{"$error":"#N/A"},{"$error":"#N/A"},{"$f":"AT27-AT30","v":{"$error":"#N/A"}},{"$error":"#N/A"},{"$error":"#N/A"},{"$error":"#N/A"},{"$error":"#N/A"},{"$error":"#N/A"},{"$error":"#N/A"},{"$error":"#N/A"},{"$error":"#N/A"},{"$error":"#N/A"},{"$error":"#N/A"},{"$error":"#N/A"},{"$error":"#N/A"},{"$error":"#N/A"},{"$error":"#N/A"},{"$error":"#N/A"},{"$error":"#N/A"},{"$error":"#N/A"},{"$error":"#N/A"},{"$error":"#N/A"}]
[null,"所得税",null,null,null,{"$f":"MAX(F31*0.33,0)","v":{"$error":"#N/A"}},{"$f":"MAX(G31*0.33,0)","v":{"$error":"#N/A"}},{"$error":"#N/A"},{"$error":"#N/A"},{"$error":"#N/A"},{"$error":"#N/A"},{"$error":"#N/A"},{"$error":"#N/A"},{"$error":"#N/A"},{"$error":"#N/A"},{"$error":"#N/A"},{"$error":"#N/A"},{"$error":"#N/A"},{"$error":"#N/A"},{"$error":"#N/A"},{"$error":"#N/A"},{"$error":"#N/A"},{"$f":"MAX(W31*0.33,0)","v":{"$error":"#N/A"}},{"$f":"MAX(X31*0.33,0)","v":{"$error":"#N/A"}},{"$f":"MAX(Y31*0.33,0)","v":{"$error":"#N/A"}},{"$error":"#N/A"},{"$error":"#N/A"},{"$error":"#N/A"},{"$error":"#N/A"},{"$error":"#N/A"},{"$error":"#N/A"},{"$error":"#N/A"},{"$error":"#N/A"},{"$error":"#N/A"},{"$error":"#N/A"},{"$f":"MAX(AJ31*0.33,0)","v":{"$error":"#N/A"}},{"$error":"#N/A"},{"$error":"#N/A"},{"$error":"#N/A"},{"$error":"#N/A"},{"$error":"#N/A"},{"$error":"#N/A"},{"$error":"#N/A"},{"$error":"#N/A"},{"$error":"#N/A"},{"$f":"MAX(AT31*0.33,0)","v":{"$error":"#N/A"}},{"$error":"#N/A"},{"$error":"#N/A"},{"$error":"#N/A"},{"$error":"#N/A"},{"$error":"#N/A"},{"$error":"#N/A"},{"$error":"#N/A"},{"$error":"#N/A"},{"$error":"#N/A"},{"$error":"#N/A"},{"$error":"#N/A"},{"$error":"#N/A"},{"$error":"#N/A"},{"$error":"#N/A"},{"$error":"#N/A"},{"$error":"#N/A"},{"$error":"#N/A"},{"$error":"#N/A"},{"$error":"#N/A"}]
[null,"当期利益",null,null,null,{"$f":"F31-F32","v":{"$error":"#N/A"}},{"$f":"G31-G32","v":{"$error":"#N/A"}},{"$error":"#N/A"},{"$error":"#N/A"},{"$error":"#N/A"},{"$error":"#N/A"},{"$error":"#N/A"},{"$error":"#N/A"},{"$error":"#N/A"},{"$error":"#N/A"},{"$error":"#N/A"},{"$error":"#N/A"},{"$error":"#N/A"},{"$error":"#N/A"},{"$error":"#N/A"},{"$error":"#N/A"},{"$error":"#N/A"},{"$f":"W31-W32","v":{"$error":"#N/A"}},{"$f":"X31-X32","v":{"$error":"#N/A"}},{"$f":"Y31-Y32","v":{"$error":"#N/A"}},{"$error":"#N/A"},{"$error":"#N/A"},{"$error":"#N/A"},{"$error":"#N/A"},{"$error":"#N/A"},{"$error":"#N/A"},{"$error":"#N/A"},{"$error":"#N/A"},{"$error":"#N/A"},{"$error":"#N/A"},{"$f":"AJ31-AJ32","v":{"$error":"#N/A"}},{"$error":"#N/A"},{"$error":"#N/A"},{"$error":"#N/A"},{"$error":"#N/A"},{"$error":"#N/A"},{"$error":"#N/A"},{"$error":"#N/A"},{"$error":"#N/A"},{"$error":"#N/A"},{"$f":"AT31-AT32","v":{"$error":"#N/A"}},{"$error":"#N/A"},{"$error":"#N/A"},{"$error":"#N/A"},{"$error":"#N/A"},{"$error":"#N/A"},{"$error":"#N/A"},{"$error":"#N/A"},{"$error":"#N/A"},{"$error":"#N/A"},{"$error":"#N/A"},{"$error":"#N/A"},{"$error":"#N/A"},{"$error":"#N/A"},{"$error":"#N/A"},{"$error":"#N/A"},{"$error":"#N/A"},{"$error":"#N/A"},{"$error":"#N/A"},{"$error":"#N/A"}]
[null,"当期利益累計",null,null,null,{"$f":"F33","v":{"$error":"#N/A"}},{"$f":"F34+G33","v":{"$error":"#N/A"}},{"$error":"#N/A"},{"$error":"#N/A"},{"$error":"#N/A"},{"$error":"#N/A"},{"$error":"#N/A"},{"$error":"#N/A"},{"$error":"#N/A"},{"$error":"#N/A"},{"$error":"#N/A"},{"$error":"#N/A"},{"$error":"#N/A"},{"$error":"#N/A"},{"$error":"#N/A"},{"$error":"#N/A"},{"$error":"#N/A"},{"$f":"V34+W33","v":{"$error":"#N/A"}},{"$f":"W34+X33","v":{"$error":"#N/A"}},{"$f":"X34+Y33","v":{"$error":"#N/A"}},{"$f":"Y34+Z33","v":{"$error":"#N/A"}},{"$error":"#N/A"},{"$error":"#N/A"},{"$error":"#N/A"},{"$error":"#N/A"},{"$error":"#N/A"},{"$error":"#N/A"},{"$error":"#N/A"},{"$error":"#N/A"},{"$error":"#N/A"},{"$f":"AI34+AJ33","v":{"$error":"#N/A"}},{"$f":"AJ34+AK33","v":{"$error":"#N/A"}},{"$f":"AK34+AL33","v":{"$error":"#N/A"}},{"$f":"AL34+AM33","v":{"$error":"#N/A"}},{"$f":"AM34+AN33","v":{"$error":"#N/A"}},{"$f":"AN34+AO33","v":{"$error":"#N/A"}},{"$f":"AO34+AP33","v":{"$error":"#N/A"}},{"$f":"AP34+AQ33","v":{"$error":"#N/A"}},{"$f":"AQ34+AR33","v":{"$error":"#N/A"}},{"$f":"AR34+AS33","v":{"$error":"#N/A"}},{"$f":"AS34+AT33","v":{"$error":"#N/A"}},{"$f":"AT34+AU33","v":{"$error":"#N/A"}},{"$f":"AU34+AV33","v":{"$error":"#N/A"}},{"$f":"AV34+AW33","v":{"$error":"#N/A"}},{"$f":"AW34+AX33","v":{"$error":"#N/A"}},{"$f":"AX34+AY33","v":{"$error":"#N/A"}},{"$f":"AY34+AZ33","v":{"$error":"#N/A"}},{"$f":"AZ34+BA33","v":{"$error":"#N/A"}},{"$f":"BA34+BB33","v":{"$error":"#N/A"}},{"$f":"BB34+BC33","v":{"$error":"#N/A"}},{"$f":"BC34+BD33","v":{"$error":"#N/A"}},{"$f":"BD34+BE33","v":{"$error":"#N/A"}},{"$f":"BE34+BF33","v":{"$error":"#N/A"}},{"$f":"BF34+BG33","v":{"$error":"#N/A"}},{"$f":"BG34+BH33","v":{"$error":"#N/A"}},{"$f":"BH34+BI33","v":{"$error":"#N/A"}},{"$f":"BI34+BJ33","v":{"$error":"#N/A"}},{"$f":"BJ34+BK33","v":{"$error":"#N/A"}},{"$f":"BK34+BL33","v":{"$error":"#N/A"}},{"$f":"BL34+BM33","v":{"$error":"#N/A"}}]
["総収入ー総費用（運用期間通算）",null,null,null,{"$f":"E62","v":{"$error":"#N/A"}},{"$error":"#N/A"},{"$error":"#N/A"},{"$error":"#N/A"},{"$error":"#N/A"},{"$error":"#N/A"},{"$error":"#N/A"},{"$error":"#N/A"},{"$error":"#N/A"},{"$error":"#N/A"},{"$error":"#N/A"},{"$error":"#N/A"},{"$error":"#N/A"},{"$error":"#N/A"},{"$error":"#N/A"},{"$error":"#N/A"},{"$error":"#N/A"},{"$error":"#N/A"},{"$error":"#N/A"},{"$error":"#N/A"},{"$error":"#N/A"},{"$error":"#N/A"},{"$error":"#N/A"},{"$error":"#N/A"},{"$error":"#N/A"},{"$error":"#N/A"},{"$error":"#N/A"},{"$error":"#N/A"},{"$error":"#N/A"},{"$error":"#N/A"},{"$error":"#N/A"},{"$f":"AJ62","v":{"$error":"#N/A"}},{"$error":"#N/A"},{"$error":"#N/A"},{"$error":"#N/A"},{"$error":"#N/A"},{"$error":"#N/A"},{"$error":"#N/A"},{"$error":"#N/A"},{"$error":"#N/A"},{"$error":"#N/A"},{"$f":"AT62","v":{"$error":"#N/A"}},{"$error":"#N/A"},{"$error":"#N/A"},{"$error":"#N/A"},{"$error":"#N/A"},{"$error":"#N/A"},{"$error":"#N/A"},{"$error":"#N/A"},{"$error":"#N/A"},{"$error":"#N/A"},{"$error":"#N/A"},{"$error":"#N/A"},{"$error":"#N/A"},{"$error":"#N/A"},{"$error":"#N/A"},{"$error":"#N/A"},{"$error":"#N/A"},{"$error":"#N/A"},{"$error":"#N/A"},{"$error":"#N/A"}]
[]
[]
[null,null,"築年",null,null,1,{"$f":"F38+1","v":2},3,4,5,6,7,8,9,10,11,12,13,{"$f":"R38+1","v":14},{"$f":"S38+1","v":15},16,17,{"$f":"V38+1","v":18},{"$f":"W38+1","v":19},{"$f":"X38+1","v":20},{"$f":"Y38+1","v":21},{"$f":"Z38+1","v":22},23,24,25,26,27,28,29,30,{"$f":"AI38+1","v":31},{"$f":"AJ38+1","v":32},{"$f":"AK38+1","v":33},{"$f":"AL38+1","v":34},{"$f":"AM38+1","v":35},{"$f":"AN38+1","v":36},{"$f":"AO38+1","v":37},{"$f":"AP38+1","v":38},{"$f":"AQ38+1","v":39},{"$f":"AR38+1","v":40},{"$f":"AS38+1","v":41},{"$f":"AT38+1","v":42},{"$f":"AU38+1","v":43},{"$f":"AV38+1","v":44},{"$f":"AW38+1","v":45},{"$f":"AX38+1","v":46},{"$f":"AY38+1","v":47},{"$f":"AZ38+1","v":48},{"$f":"BA38+1","v":49},{"$f":"BB38+1","v":50},{"$f":"BC38+1","v":51},{"$f":"BD38+1","v":52},{"$f":"BE38+1","v":53},{"$f":"BF38+1","v":54},{"$f":"BG38+1","v":55},{"$f":"BH38+1","v":56},{"$f":"BI38+1","v":57},{"$f":"BJ38+1","v":58},{"$f":"BK38+1","v":59},{"$f":"BL38+1","v":60}]
[null,null,"満室時賃料",null,null,{"$f":"ROUND(賃貸住宅経営のセルチェックシート【入力シート】!G15*賃貸住宅経営のセルチェックシート【入力シート】!V15*12/10000,0)","v":0},{"$f":"ROUND(F39*(1+G40),0)","v":{"$error":"#N/A"}},{"$f":"ROUND(G39*(1+H40),0)","v":{"$error":"#N/A"}},{"$f":"ROUND(H39*(1+I40),0)","v":{"$error":"#N/A"}},{"$error":"#N/A"},{"$error":"#N/A"},{"$error":"#N/A"},{"$error":"#N/A"},{"$f":"ROUND(M39*(1+N40),0)","v":{"$error":"#N/A"}},{"$error":"#N/A"},{"$error":"#N/A"},{"$error":"#N/A"},{"$error":"#N/A"},{"$error":"#N/A"},{"$error":"#N/A"},{"$error":"#N/A"},{"$error":"#N/A"},{"$error":"#N/A"},{"$error":"#N/A"},{"$error":"#N/A"},{"$error":"#N/A"},{"$error":"#N/A"},{"$error":"#N/A"},{"$error":"#N/A"},{"$error":"#N/A"},{"$error":"#N/A"},{"$error":"#N/A"},{"$error":"#N/A"},{"$error":"#N/A"},{"$error":"#N/A"},{"$error":"#N/A"},{"$error":"#N/A"},{"$error":"#N/A"},{"$error":"#N/A"},{"$error":"#N/A"},{"$error":"#N/A"},{"$error":"#N/A"},{"$error":"#N/A"},{"$error":"#N/A"},{"$error":"#N/A"},{"$f":"ROUND(AS39*(1+AT40),0)","v":{"$error":"#N/A"}},{"$f":"ROUND(AT39*(1+AU40),0)","v":{"$error":"#N/A"}},{"$f":"ROUND(AU39*(1+AV40),0)","v":{"$error":"#N/A"}},{"$f":"ROUND(AV39*(1+AW40),0)","v":{"$error":"#N/A"}},{"$f":"ROUND(AW39*(1+AX40),0)","v":{"$error":"#N/A"}},{"$f":"ROUND(AX39*(1+AY40),0)","v":{"$error":"#N/A"}},{"$f":"ROUND(AY39*(1+AZ40),0)","v":{"$error":"#N/A"}},{"$f":"ROUND(AZ39*(1+BA40),0)","v":{"$error":"#N/A"}},{"$f":"ROUND(BA39*(1+BB40),0)","v":{"$error":"#N/A"}},{"$f":"ROUND(BB39*(1+BC40),0)","v":{"$error":"#N/A"}},{"$f":"ROUND(BC39*(1+BD40),0)","v":{"$error":"#N/A"}},{"$f":"ROUND(BD39*(1+BE40),0)","v":{"$error":"#N/A"}},{"$f":"ROUND(BE39*(1+BF40),0)","v":{"$error":"#N/A"}},{"$f":"ROUND(BF39*(1+BG40),0)","v":{"$error":"#N/A"}},{"$f":"ROUND(BG39*(1+BH40),0)","v":{"$error":"#N/A"}},{"$f":"ROUND(BH39*(1+BI40),0)","v":{"$error":"#N/A"}},{"$f":"ROUND(BI39*(1+BJ40),0)","v":{"$error":"#N/A"}},{"$f":"ROUND(BJ39*(1+BK40),0)","v":{"$error":"#N/A"}},{"$f":"ROUND(BK39*(1+BL40),0)","v":{"$error":"#N/A"}},{"$f":"ROUND(BL39*(1+BM40),0)","v":{"$error":"#N/A"}}]
[null,null,"賃料変動（下落）率",null,null,{"$f":"VLOOKUP(賃貸住宅経営のセルチェックシート【入力シート】!$G$16,算出基礎係数!$R$2:$BF$6,2)","v":{"$error":"#N/A"}},{"$f":"VLOOKUP(賃貸住宅経営のセルチェックシート【入力シート】!$G$16,算出基礎係数!$R$2:$BF$6,3)","v":{"$error":"#N/A"}},{"$f":"VLOOKUP(賃貸住宅経営のセルチェックシート【入力シート】!$G$16,算出基礎係数!$R$2:$BF$6,4)","v":{"$error":"#N/A"}},{"$f":"VLOOKUP(賃貸住宅経営のセルチェックシート【入力シート】!$G$16,算出基礎係数!$R$2:$BF$6,5)","v":{"$error":"#N/A"}},{"$f":"VLOOKUP(賃貸住宅経営のセルチェックシート【入力シート】!$G$16,算出基礎係数!$R$2:$BF$6,6)","v":{"$error":"#N/A"}},{"$f":"VLOOKUP(賃貸住宅経営のセルチェックシート【入力シート】!$G$16,算出基礎係数!$R$2:$BF$6,7)","v":{"$error":"#N/A"}},{"$f":"VLOOKUP(賃貸住宅経営のセルチェックシート【入力シート】!$G$16,算出基礎係数!$R$2:$BF$6,8)","v":{"$error":"#N/A"}},{"$f":"VLOOKUP(賃貸住宅経営のセルチェックシート【入力シート】!$G$16,算出基礎係数!$R$2:$BF$6,9)","v":{"$error":"#N/A"}},{"$f":"VLOOKUP(賃貸住宅経営のセルチェックシート【入力シート】!$G$16,算出基礎係数!$R$2:$BF$6,10)","v":{"$error":"#N/A"}},{"$f":"VLOOKUP(賃貸住宅経営のセルチェックシート【入力シート】!$G$16,算出基礎係数!$R$2:$BF$6,11)","v":{"$error":"#N/A"}},{"$f":"VLOOKUP(賃貸住宅経営のセルチェックシート【入力シート】!$G$16,算出基礎係数!$R$2:$BF$6,12)","v":{"$error":"#N/A"}},{"$f":"VLOOKUP(賃貸住宅経営のセルチェックシート【入力シート】!$G$16,算出基礎係数!$R$2:$BF$6,13)","v":{"$error":"#N/A"}},{"$f":"VLOOKUP(賃貸住宅経営のセルチェックシート【入力シート】!$G$16,算出基礎係数!$R$2:$BF$6,14)","v":{"$error":"#N/A"}},{"$f":"VLOOKUP(賃貸住宅経営のセルチェックシート【入力シート】!$G$16,算出基礎係数!$R$2:$BF$6,15)","v":{"$error":"#N/A"}},{"$f":"VLOOKUP(賃貸住宅経営のセルチェックシート【入力シート】!$G$16,算出基礎係数!$R$2:$BF$6,16)","v":{"$error":"#N/A"}},{"$f":"VLOOKUP(賃貸住宅経営のセルチェックシート【入力シート】!$G$16,算出基礎係数!$R$2:$BF$6,17)","v":{"$error":"#N/A"}},{"$f":"VLOOKUP(賃貸住宅経営のセルチェックシート【入力シート】!$G$16,算出基礎係数!$R$2:$BF$6,18)","v":{"$error":"#N/A"}},{"$f":"VLOOKUP(賃貸住宅経営のセルチェックシート【入力シート】!$G$16,算出基礎係数!$R$2:$BF$6,19)","v":{"$error":"#N/A"}},{"$f":"VLOOKUP(賃貸住宅経営のセルチェックシート【入力シート】!$G$16,算出基礎係数!$R$2:$BF$6,20)","v":{"$error":"#N/A"}},{"$f":"VLOOKUP(賃貸住宅経営のセルチェックシート【入力シート】!$G$16,算出基礎係数!$R$2:$BF$6,21)","v":{"$error":"#N/A"}},{"$f":"VLOOKUP(賃貸住宅経営のセルチェックシート【入力シート】!$G$16,算出基礎係数!$R$2:$BF$6,22)","v":{"$error":"#N/A"}},{"$f":"VLOOKUP(賃貸住宅経営のセルチェックシート【入力シート】!$G$16,算出基礎係数!$R$2:$BF$6,23)","v":{"$error":"#N/A"}},{"$f":"VLOOKUP(賃貸住宅経営のセルチェックシート【入力シート】!$G$16,算出基礎係数!$R$2:$BF$6,24)","v":{"$error":"#N/A"}},{"$f":"VLOOKUP(賃貸住宅経営のセルチェックシート【入力シート】!$G$16,算出基礎係数!$R$2:$BF$6,25)","v":{"$error":"#N/A"}},{"$f":"VLOOKUP(賃貸住宅経営のセルチェックシート【入力シート】!$G$16,算出基礎係数!$R$2:$BF$6,26)","v":{"$error":"#N/A"}},{"$f":"VLOOKUP(賃貸住宅経営のセルチェックシート【入力シート】!$G$16,算出基礎係数!$R$2:$BF$6,27)","v":{"$error":"#N/A"}},{"$f":"VLOOKUP(賃貸住宅経営のセルチェックシート【入力シート】!$G$16,算出基礎係数!$R$2:$BF$6,28)","v":{"$error":"#N/A"}},{"$f":"VLOOKUP(賃貸住宅経営のセルチェックシート【入力シート】!$G$16,算出基礎係数!$R$2:$BF$6,29)","v":{"$error":"#N/A"}},{"$f":"VLOOKUP(賃貸住宅経営のセルチェックシート【入力シート】!$G$16,算出基礎係数!$R$2:$BF$6,30)","v":{"$error":"#N/A"}},{"$f":"VLOOKUP(賃貸住宅経営のセルチェックシート【入力シート】!$G$16,算出基礎係数!$R$2:$BF$6,31)","v":{"$error":"#N/A"}},{"$f":"VLOOKUP(賃貸住宅経営のセルチェックシート【入力シート】!$G$16,算出基礎係数!$R$2:$BF$6,32)","v":{"$error":"#N/A"}},{"$f":"VLOOKUP(賃貸住宅経営のセルチェックシート【入力シート】!$G$16,算出基礎係数!$R$2:$BF$6,33)","v":{"$error":"#N/A"}},{"$f":"VLOOKUP(賃貸住宅経営のセルチェックシート【入力シート】!$G$16,算出基礎係数!$R$2:$BF$6,34)","v":{"$error":"#N/A"}},{"$f":"VLOOKUP(賃貸住宅経営のセルチェックシート【入力シート】!$G$16,算出基礎係数!$R$2:$BF$6,35)","v":{"$error":"#N/A"}},{"$f":"VLOOKUP(賃貸住宅経営のセルチェックシート【入力シート】!$G$16,算出基礎係数!$R$2:$BF$6,36)","v":{"$error":"#N/A"}},{"$f":"VLOOKUP(賃貸住宅経営のセルチェックシート【入力シート】!$G$16,算出基礎係数!$R$2:$BF$6,37)","v":{"$error":"#N/A"}},{"$f":"VLOOKUP(賃貸住宅経営のセルチェックシート【入力シート】!$G$16,算出基礎係数!$R$2:$BF$6,38)","v":{"$error":"#N/A"}},{"$f":"VLOOKUP(賃貸住宅経営のセルチェックシート【入力シート】!$G$16,算出基礎係数!$R$2:$BF$6,39)","v":{"$error":"#N/A"}},{"$f":"VLOOKUP(賃貸住宅経営のセルチェックシート【入力シート】!$G$16,算出基礎係数!$R$2:$BF$6,40)","v":{"$error":"#N/A"}},{"$f":"VLOOKUP(賃貸住宅経営のセルチェックシート【入力シート】!$G$16,算出基礎係数!$R$2:$BF$6,41)","v":{"$error":"#N/A"}},{"$f":"VLOOKUP(賃貸住宅経営のセルチェックシート【入力シート】!$G$16,算出基礎係数!$R$2:$BF$6,41)*0","v":{"$error":"#N/A"}},{"$f":"VLOOKUP(賃貸住宅経営のセルチェックシート【入力シート】!$G$16,算出基礎係数!$R$2:$BF$6,41)*0","v":{"$error":"#N/A"}},{"$f":"VLOOKUP(賃貸住宅経営のセルチェックシート【入力シート】!$G$16,算出基礎係数!$R$2:$BF$6,41)*0","v":{"$error":"#N/A"}},{"$f":"VLOOKUP(賃貸住宅経営のセルチェックシート【入力シート】!$G$16,算出基礎係数!$R$2:$BF$6,41)*0","v":{"$error":"#N/A"}},{"$f":"VLOOKUP(賃貸住宅経営のセルチェックシート【入力シート】!$G$16,算出基礎係数!$R$2:$BF$6,41)*0","v":{"$error":"#N/A"}},{"$f":"VLOOKUP(賃貸住宅経営のセルチェックシート【入力シート】!$G$16,算出基礎係数!$R$2:$BF$6,41)*0","v":{"$error":"#N/A"}},{"$f":"VLOOKUP(賃貸住宅経営のセルチェックシート【入力シート】!$G$16,算出基礎係数!$R$2:$BF$6,41)*0","v":{"$error":"#N/A"}},{"$f":"VLOOKUP(賃貸住宅経営のセルチェックシート【入力シート】!$G$16,算出基礎係数!$R$2:$BF$6,41)*0","v":{"$error":"#N/A"}},{"$f":"VLOOKUP(賃貸住宅経営のセルチェックシート【入力シート】!$G$16,算出基礎係数!$R$2:$BF$6,41)*0","v":{"$error":"#N/A"}},{"$f":"VLOOKUP(賃貸住宅経営のセルチェックシート【入力シート】!$G$16,算出基礎係数!$R$2:$BF$6,41)*0","v":{"$error":"#N/A"}},{"$f":"VLOOKUP(賃貸住宅経営のセルチェックシート【入力シート】!$G$16,算出基礎係数!$R$2:$BF$6,41)*0","v":{"$error":"#N/A"}},{"$f":"VLOOKUP(賃貸住宅経営のセルチェックシート【入力シート】!$G$16,算出基礎係数!$R$2:$BF$6,41)*0","v":{"$error":"#N/A"}},{"$f":"VLOOKUP(賃貸住宅経営のセルチェックシート【入力シート】!$G$16,算出基礎係数!$R$2:$BF$6,41)*0","v":{"$error":"#N/A"}},{"$f":"VLOOKUP(賃貸住宅経営のセルチェックシート【入力シート】!$G$16,算出基礎係数!$R$2:$BF$6,41)*0","v":{"$error":"#N/A"}},{"$f":"VLOOKUP(賃貸住宅経営のセルチェックシート【入力シート】!$G$16,算出基礎係数!$R$2:$BF$6,41)*0","v":{"$error":"#N/A"}},{"$f":"VLOOKUP(賃貸住宅経営のセルチェックシート【入力シート】!$G$16,算出基礎係数!$R$2:$BF$6,41)*0","v":{"$error":"#N/A"}},{"$f":"VLOOKUP(賃貸住宅経営のセルチェックシート【入力シート】!$G$16,算出基礎係数!$R$2:$BF$6,41)*0","v":{"$error":"#N/A"}},{"$f":"VLOOKUP(賃貸住宅経営のセルチェックシート【入力シート】!$G$16,算出基礎係数!$R$2:$BF$6,41)*0","v":{"$error":"#N/A"}},{"$f":"VLOOKUP(賃貸住宅経営のセルチェックシート【入力シート】!$G$16,算出基礎係数!$R$2:$BF$6,41)*0","v":{"$error":"#N/A"}},{"$f":"VLOOKUP(賃貸住宅経営のセルチェックシート【入力シート】!$G$16,算出基礎係数!$R$2:$BF$6,41)*0","v":{"$error":"#N/A"}}]
[null,null,"空室損失賃料",null,null,{"$f":"ROUND(F39*(1-F42),0)","v":0},{"$f":"ROUND(G39*(1-G42),0)","v":{"$error":"#N/A"}},{"$f":"ROUND(H39*(1-H42),0)","v":{"$error":"#N/A"}},{"$error":"#N/A"},{"$error":"#N/A"},{"$error":"#N/A"},{"$error":"#N/A"},{"$error":"#N/A"},{"$error":"#N/A"},{"$error":"#N/A"},{"$error":"#N/A"},{"$error":"#N/A"},{"$error":"#N/A"},{"$error":"#N/A"},{"$error":"#N/A"},{"$error":"#N/A"},{"$error":"#N/A"},{"$error":"#N/A"},{"$error":"#N/A"},{"$error":"#N/A"},{"$error":"#N/A"},{"$error":"#N/A"},{"$error":"#N/A"},{"$error":"#N/A"},{"$error":"#N/A"},{"$error":"#N/A"},{"$error":"#N/A"},{"$error":"#N/A"},{"$error":"#N/A"},{"$error":"#N/A"},{"$error":"#N/A"},{"$error":"#N/A"},{"$error":"#N/A"},{"$error":"#N/A"},{"$error":"#N/A"},{"$error":"#N/A"},{"$error":"#N/A"},{"$error":"#N/A"},{"$error":"#N/A"},{"$error":"#N/A"},{"$f":"ROUND(AT39*(1-AT42),0)","v":{"$error":"#N/A"}},{"$error":"#N/A"},{"$error":"#N/A"},{"$error":"#N/A"},{"$error":"#N/A"},{"$error":"#N/A"},{"$error":"#N/A"},{"$error":"#N/A"},{"$error":"#N/A"},{"$error":"#N/A"},{"$error":"#N/A"},{"$error":"#N/A"},{"$error":"#N/A"},{"$error":"#N/A"},{"$error":"#N/A"},{"$error":"#N/A"},{"$error":"#N/A"},{"$error":"#N/A"},{"$error":"#N/A"},{"$error":"#N/A"}]
[null,null,"稼働率（入室率）",null,null,{"$f":"IF(賃貸住宅経営のセルチェックシート【入力シート】!$I$17>=90%,賃貸住宅経営のセルチェックシート【入力シート】!$I$17,0.9)","v":0.9},{"$f":"IF(F42+G43>=90%,F42+G43,0.9)","v":{"$error":"#N/A"}},{"$f":"IF(G42+H43>=90%,G42+H43,0.9)","v":{"$error":"#N/A"}},{"$error":"#N/A"},{"$error":"#N/A"},{"$error":"#N/A"},{"$error":"#N/A"},{"$error":"#N/A"},{"$error":"#N/A"},{"$error":"#N/A"},{"$error":"#N/A"},{"$error":"#N/A"},{"$error":"#N/A"},{"$error":"#N/A"},{"$error":"#N/A"},{"$error":"#N/A"},{"$error":"#N/A"},{"$error":"#N/A"},{"$error":"#N/A"},{"$error":"#N/A"},{"$error":"#N/A"},{"$error":"#N/A"},{"$error":"#N/A"},{"$error":"#N/A"},{"$error":"#N/A"},{"$error":"#N/A"},{"$error":"#N/A"},{"$error":"#N/A"},{"$error":"#N/A"},{"$error":"#N/A"},{"$error":"#N/A"},{"$error":"#N/A"},{"$error":"#N/A"},{"$error":"#N/A"},{"$error":"#N/A"},{"$error":"#N/A"},{"$error":"#N/A"},{"$error":"#N/A"},{"$error":"#N/A"},{"$error":"#N/A"},{"$error":"#N/A"},{"$error":"#N/A"},{"$error":"#N/A"},{"$error":"#N/A"},{"$error":"#N/A"},{"$error":"#N/A"},{"$error":"#N/A"},{"$error":"#N/A"},{"$error":"#N/A"},{"$error":"#N/A"},{"$error":"#N/A"},{"$error":"#N/A"},{"$error":"#N/A"},{"$error":"#N/A"},{"$error":"#N/A"},{"$error":"#N/A"},{"$error":"#N/A"},{"$error":"#N/A"},{"$error":"#N/A"},{"$error":"#N/A"}]
[null,null,"変動率（空室日数）",null,null,{"$f":"VLOOKUP(賃貸住宅経営のセルチェックシート【入力シート】!$G$16,算出基礎係数!$R$9:$BF$13,2)","v":{"$error":"#N/A"}},{"$f":"VLOOKUP(賃貸住宅経営のセルチェックシート【入力シート】!$G$16,算出基礎係数!$R$9:$BF$13,3)","v":{"$error":"#N/A"}},{"$f":"VLOOKUP(賃貸住宅経営のセルチェックシート【入力シート】!$G$16,算出基礎係数!$R$9:$BF$13,4)","v":{"$error":"#N/A"}},{"$f":"VLOOKUP(賃貸住宅経営のセルチェックシート【入力シート】!$G$16,算出基礎係数!$R$9:$BF$13,5)","v":{"$error":"#N/A"}},{"$f":"VLOOKUP(賃貸住宅経営のセルチェックシート【入力シート】!$G$16,算出基礎係数!$R$9:$BF$13,6)","v":{"$error":"#N/A"}},{"$f":"VLOOKUP(賃貸住宅経営のセルチェックシート【入力シート】!$G$16,算出基礎係数!$R$9:$BF$13,7)","v":{"$error":"#N/A"}},{"$f":"VLOOKUP(賃貸住宅経営のセルチェックシート【入力シート】!$G$16,算出基礎係数!$R$9:$BF$13,8)","v":{"$error":"#N/A"}},{"$f":"VLOOKUP(賃貸住宅経営のセルチェックシート【入力シート】!$G$16,算出基礎係数!$R$9:$BF$13,9)","v":{"$error":"#N/A"}},{"$f":"VLOOKUP(賃貸住宅経営のセルチェックシート【入力シート】!$G$16,算出基礎係数!$R$9:$BF$13,10)","v":{"$error":"#N/A"}},{"$f":"VLOOKUP(賃貸住宅経営のセルチェックシート【入力シート】!$G$16,算出基礎係数!$R$9:$BF$13,11)","v":{"$error":"#N/A"}},{"$f":"VLOOKUP(賃貸住宅経営のセルチェックシート【入力シート】!$G$16,算出基礎係数!$R$9:$BF$13,12)","v":{"$error":"#N/A"}},{"$f":"VLOOKUP(賃貸住宅経営のセルチェックシート【入力シート】!$G$16,算出基礎係数!$R$9:$BF$13,13)","v":{"$error":"#N/A"}},{"$f":"VLOOKUP(賃貸住宅経営のセルチェックシート【入力シート】!$G$16,算出基礎係数!$R$9:$BF$13,14)","v":{"$error":"#N/A"}},{"$f":"VLOOKUP(賃貸住宅経営のセルチェックシート【入力シート】!$G$16,算出基礎係数!$R$9:$BF$13,15)","v":{"$error":"#N/A"}},{"$f":"VLOOKUP(賃貸住宅経営のセルチェックシート【入力シート】!$G$16,算出基礎係数!$R$9:$BF$13,16)","v":{"$error":"#N/A"}},{"$f":"VLOOKUP(賃貸住宅経営のセルチェックシート【入力シート】!$G$16,算出基礎係数!$R$9:$BF$13,17)","v":{"$error":"#N/A"}},{"$f":"VLOOKUP(賃貸住宅経営のセルチェックシート【入力シート】!$G$16,算出基礎係数!$R$9:$BF$13,18)","v":{"$error":"#N/A"}},{"$f":"VLOOKUP(賃貸住宅経営のセルチェックシート【入力シート】!$G$16,算出基礎係数!$R$9:$BF$13,19)","v":{"$error":"#N/A"}},{"$f":"VLOOKUP(賃貸住宅経営のセルチェックシート【入力シート】!$G$16,算出基礎係数!$R$9:$BF$13,20)","v":{"$error":"#N/A"}},{"$f":"VLOOKUP(賃貸住宅経営のセルチェックシート【入力シート】!$G$16,算出基礎係数!$R$9:$BF$13,21)","v":{"$error":"#N/A"}},{"$f":"VLOOKUP(賃貸住宅経営のセルチェックシート【入力シート】!$G$16,算出基礎係数!$R$9:$BF$13,22)","v":{"$error":"#N/A"}},{"$f":"VLOOKUP(賃貸住宅経営のセルチェックシート【入力シート】!$G$16,算出基礎係数!$R$9:$BF$13,23)","v":{"$error":"#N/A"}},{"$f":"VLOOKUP(賃貸住宅経営のセルチェックシート【入力シート】!$G$16,算出基礎係数!$R$9:$BF$13,24)","v":{"$error":"#N/A"}},{"$f":"VLOOKUP(賃貸住宅経営のセルチェックシート【入力シート】!$G$16,算出基礎係数!$R$9:$BF$13,25)","v":{"$error":"#N/A"}},{"$f":"VLOOKUP(賃貸住宅経営のセルチェックシート【入力シート】!$G$16,算出基礎係数!$R$9:$BF$13,26)","v":{"$error":"#N/A"}},{"$f":"VLOOKUP(賃貸住宅経営のセルチェックシート【入力シート】!$G$16,算出基礎係数!$R$9:$BF$13,27)","v":{"$error":"#N/A"}},{"$f":"VLOOKUP(賃貸住宅経営のセルチェックシート【入力シート】!$G$16,算出基礎係数!$R$9:$BF$13,28)","v":{"$error":"#N/A"}},{"$f":"VLOOKUP(賃貸住宅経営のセルチェックシート【入力シート】!$G$16,算出基礎係数!$R$9:$BF$13,29)","v":{"$error":"#N/A"}},{"$f":"VLOOKUP(賃貸住宅経営のセルチェックシート【入力シート】!$G$16,算出基礎係数!$R$9:$BF$13,30)","v":{"$error":"#N/A"}},{"$f":"VLOOKUP(賃貸住宅経営のセルチェックシート【入力シート】!$G$16,算出基礎係数!$R$9:$BF$13,31)","v":{"$error":"#N/A"}},{"$f":"VLOOKUP(賃貸住宅経営のセルチェックシート【入力シート】!$G$16,算出基礎係数!$R$9:$BF$13,32)","v":{"$error":"#N/A"}},{"$f":"VLOOKUP(賃貸住宅経営のセルチェックシート【入力シート】!$G$16,算出基礎係数!$R$9:$BF$13,33)","v":{"$error":"#N/A"}},{"$f":"VLOOKUP(賃貸住宅経営のセルチェックシート【入力シート】!$G$16,算出基礎係数!$R$9:$BF$13,34)","v":{"$error":"#N/A"}},{"$f":"VLOOKUP(賃貸住宅経営のセルチェックシート【入力シート】!$G$16,算出基礎係数!$R$9:$BF$13,35)","v":{"$error":"#N/A"}},{"$f":"VLOOKUP(賃貸住宅経営のセルチェックシート【入力シート】!$G$16,算出基礎係数!$R$9:$BF$13,36)","v":{"$error":"#N/A"}},{"$f":"VLOOKUP(賃貸住宅経営のセルチェックシート【入力シート】!$G$16,算出基礎係数!$R$9:$BF$13,37)","v":{"$error":"#N/A"}},{"$f":"VLOOKUP(賃貸住宅経営のセルチェックシート【入力シート】!$G$16,算出基礎係数!$R$9:$BF$13,38)","v":{"$error":"#N/A"}},{"$f":"VLOOKUP(賃貸住宅経営のセルチェックシート【入力シート】!$G$16,算出基礎係数!$R$9:$BF$13,39)","v":{"$error":"#N/A"}},{"$f":"VLOOKUP(賃貸住宅経営のセルチェックシート【入力シート】!$G$16,算出基礎係数!$R$9:$BF$13,40)","v":{"$error":"#N/A"}},{"$f":"VLOOKUP(賃貸住宅経営のセルチェックシート【入力シート】!$G$16,算出基礎係数!$R$9:$BF$13,41)","v":{"$error":"#N/A"}},{"$f":"VLOOKUP(賃貸住宅経営のセルチェックシート【入力シート】!$G$16,算出基礎係数!$R$9:$BF$13,41)","v":{"$error":"#N/A"}},{"$f":"VLOOKUP(賃貸住宅経営のセルチェックシート【入力シート】!$G$16,算出基礎係数!$R$9:$BF$13,41)","v":{"$error":"#N/A"}},{"$f":"VLOOKUP(賃貸住宅経営のセルチェックシート【入力シート】!$G$16,算出基礎係数!$R$9:$BF$13,41)","v":{"$error":"#N/A"}},{"$f":"VLOOKUP(賃貸住宅経営のセルチェックシート【入力シート】!$G$16,算出基礎係数!$R$9:$BF$13,41)","v":{"$error":"#N/A"}},{"$f":"VLOOKUP(賃貸住宅経営のセルチェックシート【入力シート】!$G$16,算出基礎係数!$R$9:$BF$13,41)","v":{"$error":"#N/A"}},{"$f":"VLOOKUP(賃貸住宅経営のセルチェックシート【入力シート】!$G$16,算出基礎係数!$R$9:$BF$13,41)","v":{"$error":"#N/A"}},{"$f":"VLOOKUP(賃貸住宅経営のセルチェックシート【入力シート】!$G$16,算出基礎係数!$R$9:$BF$13,41)","v":{"$error":"#N/A"}},{"$f":"VLOOKUP(賃貸住宅経営のセルチェックシート【入力シート】!$G$16,算出基礎係数!$R$9:$BF$13,41)","v":{"$error":"#N/A"}},{"$f":"VLOOKUP(賃貸住宅経営のセルチェックシート【入力シート】!$G$16,算出基礎係数!$R$9:$BF$13,41)","v":{"$error":"#N/A"}},{"$f":"VLOOKUP(賃貸住宅経営のセルチェックシート【入力シート】!$G$16,算出基礎係数!$R$9:$BF$13,41)","v":{"$error":"#N/A"}},{"$f":"VLOOKUP(賃貸住宅経営のセルチェックシート【入力シート】!$G$16,算出基礎係数!$R$9:$BF$13,41)","v":{"$error":"#N/A"}},{"$f":"VLOOKUP(賃貸住宅経営のセルチェックシート【入力シート】!$G$16,算出基礎係数!$R$9:$BF$13,41)","v":{"$error":"#N/A"}},{"$f":"VLOOKUP(賃貸住宅経営のセルチェックシート【入力シート】!$G$16,算出基礎係数!$R$9:$BF$13,41)","v":{"$error":"#N/A"}},{"$f":"VLOOKUP(賃貸住宅経営のセルチェックシート【入力シート】!$G$16,算出基礎係数!$R$9:$BF$13,41)","v":{"$error":"#N/A"}},{"$f":"VLOOKUP(賃貸住宅経営のセルチェックシート【入力シート】!$G$16,算出基礎係数!$R$9:$BF$13,41)","v":{"$error":"#N/A"}},{"$f":"VLOOKUP(賃貸住宅経営のセルチェックシート【入力シート】!$G$16,算出基礎係数!$R$9:$BF$13,41)","v":{"$error":"#N/A"}},{"$f":"VLOOKUP(賃貸住宅経営のセルチェックシート【入力シート】!$G$16,算出基礎係数!$R$9:$BF$13,41)","v":{"$error":"#N/A"}},{"$f":"VLOOKUP(賃貸住宅経営のセルチェックシート【入力シート】!$G$16,算出基礎係数!$R$9:$BF$13,41)","v":{"$error":"#N/A"}},{"$f":"VLOOKUP(賃貸住宅経営のセルチェックシート【入力シート】!$G$16,算出基礎係数!$R$9:$BF$13,41)","v":{"$error":"#N/A"}},{"$f":"VLOOKUP(賃貸住宅経営のセルチェックシート【入力シート】!$G$16,算出基礎係数!$R$9:$BF$13,41)","v":{"$error":"#N/A"}}]
[null,null,"賃料収入",null,null,{"$f":"F39-F41","v":0},{"$f":"G39-G41","v":{"$error":"#N/A"}},{"$error":"#N/A"},{"$error":"#N/A"},{"$error":"#N/A"},{"$error":"#N/A"},{"$error":"#N/A"},{"$error":"#N/A"},{"$error":"#N/A"},{"$error":"#N/A"},{"$error":"#N/A"},{"$error":"#N/A"},{"$f":"R39-R41","v":{"$error":"#N/A"}},{"$error":"#N/A"},{"$error":"#N/A"},{"$error":"#N/A"},{"$error":"#N/A"},{"$error":"#N/A"},{"$error":"#N/A"},{"$error":"#N/A"},{"$error":"#N/A"},{"$error":"#N/A"},{"$error":"#N/A"},{"$error":"#N/A"},{"$error":"#N/A"},{"$error":"#N/A"},{"$error":"#N/A"},{"$error":"#N/A"},{"$error":"#N/A"},{"$error":"#N/A"},{"$error":"#N/A"},{"$error":"#N/A"},{"$error":"#N/A"},{"$error":"#N/A"},{"$error":"#N/A"},{"$error":"#N/A"},{"$error":"#N/A"},{"$error":"#N/A"},{"$error":"#N/A"},{"$error":"#N/A"},{"$error":"#N/A"},{"$error":"#N/A"},{"$error":"#N/A"},{"$error":"#N/A"},{"$error":"#N/A"},{"$error":"#N/A"},{"$error":"#N/A"},{"$error":"#N/A"},{"$error":"#N/A"},{"$error":"#N/A"},{"$error":"#N/A"},{"$error":"#N/A"},{"$error":"#N/A"},{"$error":"#N/A"},{"$error":"#N/A"},{"$error":"#N/A"},{"$error":"#N/A"},{"$error":"#N/A"},{"$error":"#N/A"},{"$error":"#N/A"}]
[null,null,"賃料収入水準",null,null,{"$f":"F44/$F$39*100","v":{"$error":"#DIV/0!"}},{"$f":"G44/$F$39*100","v":{"$error":"#N/A"}},{"$error":"#N/A"},{"$error":"#N/A"},{"$error":"#N/A"},{"$error":"#N/A"},{"$error":"#N/A"},{"$error":"#N/A"},{"$error":"#N/A"},{"$error":"#N/A"},{"$error":"#N/A"},{"$error":"#N/A"},{"$error":"#N/A"},{"$error":"#N/A"},{"$error":"#N/A"},{"$error":"#N/A"},{"$error":"#N/A"},{"$error":"#N/A"},{"$error":"#N/A"},{"$error":"#N/A"},{"$error":"#N/A"},{"$error":"#N/A"},{"$error":"#N/A"},{"$error":"#N/A"},{"$error":"#N/A"},{"$error":"#N/A"},{"$error":"#N/A"},{"$error":"#N/A"},{"$error":"#N/A"},{"$error":"#N/A"},{"$error":"#N/A"},{"$error":"#N/A"},{"$error":"#N/A"},{"$error":"#N/A"},{"$error":"#N/A"},{"$error":"#N/A"},{"$error":"#N/A"},{"$error":"#N/A"},{"$error":"#N/A"},{"$error":"#N/A"},{"$f":"AT44/$F$39*100","v":{"$error":"#N/A"}},{"$error":"#N/A"},{"$error":"#N/A"},{"$error":"#N/A"},{"$error":"#N/A"},{"$error":"#N/A"},{"$error":"#N/A"},{"$error":"#N/A"},{"$error":"#N/A"},{"$error":"#N/A"},{"$error":"#N/A"},{"$error":"#N/A"},{"$error":"#N/A"},{"$error":"#N/A"},{"$error":"#N/A"},{"$error":"#N/A"},{"$error":"#N/A"},{"$error":"#N/A"},{"$error":"#N/A"},{"$error":"#N/A"}]
[]
[null,null,"（IRR計算用）"]
[null,null,"30年目",null,{"$f":"$E$17*(-1)","v":0},{"$f":"F33","v":{"$error":"#N/A"}},{"$error":"#N/A"},{"$error":"#N/A"},{"$error":"#N/A"},{"$error":"#N/A"},{"$error":"#N/A"},{"$error":"#N/A"},{"$error":"#N/A"},{"$error":"#N/A"},{"$error":"#N/A"},{"$error":"#N/A"},{"$error":"#N/A"},{"$error":"#N/A"},{"$error":"#N/A"},{"$error":"#N/A"},{"$error":"#N/A"},{"$error":"#N/A"},{"$error":"#N/A"},{"$error":"#N/A"},{"$error":"#N/A"},{"$error":"#N/A"},{"$error":"#N/A"},{"$error":"#N/A"},{"$error":"#N/A"},{"$error":"#N/A"},{"$error":"#N/A"},{"$error":"#N/A"},{"$error":"#N/A"},{"$error":"#N/A"},{"$error":"#N/A"},{"$f":"賃貸住宅経営のセルチェックシート【入力シート】!$Q$58/10000","v":0},null,null,null,null,null,null,null,null,null,null,null,"築26～30",0.40300000000000002]
[null,null,"10年目",null,{"$f":"E48","v":0},{"$error":"#N/A"},{"$error":"#N/A"},{"$error":"#N/A"},{"$error":"#N/A"},{"$error":"#N/A"},{"$error":"#N/A"},{"$error":"#N/A"},{"$error":"#N/A"},{"$error":"#N/A"},{"$error":"#N/A"},{"$f":"賃貸住宅経営のセルチェックシート【入力シート】!$D$58/10000","v":0},null,null,null,null,null,null,null,null,null,null,null,null,null,null,null,null,null,null,null,null,null,null,null,null,null,null,null,null,null,null,null,"築6～10年",0.82199999999999995]
[]
[null,null,"（グラフ1用）"]
[null,null,null,null,null,"1年目","2-5年目","6-10年目","11-15年目","16-20年目","21-25年目","26-30年目","31-35年目","36-40年目"]
[null,null,"当期利益（期間）",null,null,{"$f":"$F$33","v":{"$error":"#N/A"}},{"$f":"SUM(G33:J33)","v":{"$error":"#N/A"}},{"$f":"SUM(K33:O33)","v":{"$error":"#N/A"}},{"$f":"SUM(P33:T33)","v":{"$error":"#N/A"}},{"$f":"SUM(U33:Y33)","v":{"$error":"#N/A"}},{"$f":"SUM(Z33:AD33)","v":{"$error":"#N/A"}},{"$f":"SUM(AE33:AI33)","v":{"$error":"#N/A"}},{"$f":"SUM(AJ33:AN33)","v":{"$error":"#N/A"}},{"$f":"SUM(AO33:AS33)","v":{"$error":"#N/A"}}]
[null,null,"当期利益累計",null,null,{"$f":"F53","v":{"$error":"#N/A"}},{"$f":"F54+G53","v":{"$error":"#N/A"}},{"$f":"G54+H53","v":{"$error":"#N/A"}},{"$error":"#N/A"},{"$error":"#N/A"},{"$error":"#N/A"},{"$error":"#N/A"},{"$error":"#N/A"},{"$error":"#N/A"}]
[]
[null,null,"（グラフ2用）"]
[null,null,null,null,0,1,{"$f":"F57+1","v":2},3,4,5,6,7,8,9,10,11,12,13,{"$f":"R57+1","v":14},15,16,17,{"$f":"V57+1","v":18},19,20,{"$f":"Y57+1","v":21},22,23,24,25,26,27,28,29,30,{"$f":"AI57+1","v":31},{"$f":"AJ57+1","v":32},{"$f":"AK57+1","v":33},{"$f":"AL57+1","v":34},{"$f":"AM57+1","v":35},{"$f":"AN57+1","v":36},{"$f":"AO57+1","v":37},{"$f":"AP57+1","v":38},{"$f":"AQ57+1","v":39},{"$f":"AR57+1","v":40},{"$f":"AS57+1","v":41},{"$f":"AT57+1","v":42},{"$f":"AU57+1","v":43},{"$f":"AV57+1","v":44},{"$f":"AW57+1","v":45},{"$f":"AX57+1","v":46},{"$f":"AY57+1","v":47},{"$f":"AZ57+1","v":48},{"$f":"BA57+1","v":49},{"$f":"BB57+1","v":50},{"$f":"BC57+1","v":51},{"$f":"BD57+1","v":52},{"$f":"BE57+1","v":53},{"$f":"BF57+1","v":54},{"$f":"BG57+1","v":55},{"$f":"BH57+1","v":56},{"$f":"BI57+1","v":57},{"$f":"BJ57+1","v":58},{"$f":"BK57+1","v":59},{"$f":"BL57+1","v":60}]
[null,null,"総家賃収入",null,{"$f":"E3","v":0},{"$f":"E58+F3","v":0},{"$error":"#N/A"},{"$error":"#N/A"},{"$error":"#N/A"},{"$error":"#N/A"},{"$error":"#N/A"},{"$error":"#N/A"},{"$error":"#N/A"},{"$error":"#N/A"},{"$error":"#N/A"},{"$error":"#N/A"},{"$error":"#N/A"},{"$error":"#N/A"},{"$error":"#N/A"},{"$error":"#N/A"},{"$error":"#N/A"},{"$error":"#N/A"},{"$error":"#N/A"},{"$error":"#N/A"},{"$error":"#N/A"},{"$error":"#N/A"},{"$error":"#N/A"},{"$error":"#N/A"},{"$error":"#N/A"},{"$error":"#N/A"},{"$error":"#N/A"},{"$error":"#N/A"},{"$error":"#N/A"},{"$error":"#N/A"},{"$error":"#N/A"},{"$error":"#N/A"},{"$error":"#N/A"},{"$f":"AK58+AL3","v":{"$error":"#N/A"}},{"$error":"#N/A"},{"$error":"#N/A"},{"$error":"#N/A"},{"$error":"#N/A"},{"$error":"#N/A"},{"$error":"#N/A"},{"$error":"#N/A"},{"$error":"#N/A"},{"$error":"#N/A"},{"$error":"#N/A"},{"$error":"#N/A"},{"$error":"#N/A"},{"$error":"#N/A"},{"$error":"#N/A"},{"$error":"#N/A"},{"$error":"#N/A"},{"$error":"#N/A"},{"$error":"#N/A"},{"$error":"#N/A"},{"$error":"#N/A"},{"$error":"#N/A"},{"$error":"#N/A"},{"$error":"#N/A"},{"$error":"#N/A"},{"$error":"#N/A"},{"$error":"#N/A"},{"$error":"#N/A"}]
[null,null,"固定費総額（管理費、税、返済）",null,{"$f":"SUM(E66:AS66)","v":{"$error":"#N/A"}},{"$f":"$E$59","v":{"$error":"#N/A"}},{"$error":"#N/A"},{"$error":"#N/A"},{"$error":"#N/A"},{"$error":"#N/A"},{"$error":"#N/A"},{"$error":"#N/A"},{"$error":"#N/A"},{"$error":"#N/A"},{"$error":"#N/A"},{"$error":"#N/A"},{"$error":"#N/A"},{"$error":"#N/A"},{"$error":"#N/A"},{"$error":"#N/A"},{"$error":"#N/A"},{"$error":"#N/A"},{"$error":"#N/A"},{"$error":"#N/A"},{"$error":"#N/A"},{"$error":"#N/A"},{"$error":"#N/A"},{"$error":"#N/A"},{"$error":"#N/A"},{"$error":"#N/A"},{"$error":"#N/A"},{"$error":"#N/A"},{"$error":"#N/A"},{"$error":"#N/A"},{"$error":"#N/A"},{"$error":"#N/A"},{"$error":"#N/A"},{"$error":"#N/A"},{"$error":"#N/A"},{"$error":"#N/A"},{"$error":"#N/A"},{"$error":"#N/A"},{"$error":"#N/A"},{"$error":"#N/A"},{"$error":"#N/A"},{"$error":"#N/A"},{"$error":"#N/A"},{"$error":"#N/A"},{"$error":"#N/A"},{"$error":"#N/A"},{"$error":"#N/A"},{"$error":"#N/A"},{"$error":"#N/A"},{"$error":"#N/A"},{"$error":"#N/A"},{"$error":"#N/A"},{"$error":"#N/A"},{"$error":"#N/A"},{"$error":"#N/A"},{"$error":"#N/A"},{"$error":"#N/A"},{"$error":"#N/A"},{"$error":"#N/A"},{"$error":"#N/A"},{"$error":"#N/A"}]
[null,null,"変動費(修繕）（累計）",null,{"$f":"SUM(E66,E67)","v":0},{"$f":"E60+F67","v":{"$error":"#VALUE!"}},{"$error":"#VALUE!"},{"$error":"#VALUE!"},{"$error":"#VALUE!"},{"$error":"#VALUE!"},{"$error":"#VALUE!"},{"$error":"#VALUE!"},{"$error":"#VALUE!"},{"$error":"#VALUE!"},{"$error":"#VALUE!"},{"$error":"#VALUE!"},{"$error":"#VALUE!"},{"$error":"#VALUE!"},{"$error":"#VALUE!"},{"$error":"#VALUE!"},{"$error":"#VALUE!"},{"$error":"#VALUE!"},{"$error":"#VALUE!"},{"$error":"#VALUE!"},{"$error":"#VALUE!"},{"$error":"#VALUE!"},{"$error":"#VALUE!"},{"$error":"#VALUE!"},{"$error":"#VALUE!"},{"$error":"#VALUE!"},{"$error":"#VALUE!"},{"$error":"#VALUE!"},{"$error":"#VALUE!"},{"$error":"#VALUE!"},{"$error":"#VALUE!"},{"$error":"#VALUE!"},{"$error":"#VALUE!"},{"$error":"#VALUE!"},{"$error":"#VALUE!"},{"$error":"#VALUE!"},{"$error":"#VALUE!"},{"$error":"#VALUE!"},{"$error":"#VALUE!"},{"$error":"#VALUE!"},{"$error":"#VALUE!"},{"$f":"AS60+AT67","v":{"$error":"#VALUE!"}},{"$f":"AT60+AU67","v":{"$error":"#VALUE!"}},{"$f":"AU60+AV67","v":{"$error":"#VALUE!"}},{"$f":"AV60+AW67","v":{"$error":"#VALUE!"}},{"$f":"AW60+AX67","v":{"$error":"#VALUE!"}},{"$f":"AX60+AY67","v":{"$error":"#VALUE!"}},{"$f":"AY60+AZ67","v":{"$error":"#VALUE!"}},{"$f":"AZ60+BA67","v":{"$error":"#VALUE!"}},{"$f":"BA60+BB67","v":{"$error":"#VALUE!"}},{"$f":"BB60+BC67","v":{"$error":"#VALUE!"}},{"$f":"BC60+BD67","v":{"$error":"#VALUE!"}},{"$f":"BD60+BE67","v":{"$error":"#VALUE!"}},{"$f":"BE60+BF67","v":{"$error":"#VALUE!"}},{"$f":"BF60+BG67","v":{"$error":"#VALUE!"}},{"$f":"BG60+BH67","v":{"$error":"#VALUE!"}},{"$f":"BH60+BI67","v":{"$error":"#VALUE!"}},{"$f":"BI60+BJ67","v":{"$error":"#VALUE!"}},{"$f":"BJ60+BK67","v":{"$error":"#VALUE!"}},{"$f":"BK60+BL67","v":{"$error":"#VALUE!"}},{"$f":"BL60+BM67","v":{"$error":"#VALUE!"}}]
[null,null,"総支出",null,{"$f":"SUM(E59,E60)","v":{"$error":"#N/A"}},{"$error":"#N/A"},{"$error":"#N/A"},{"$error":"#N/A"},{"$error":"#N/A"},{"$error":"#N/A"},{"$error":"#N/A"},{"$error":"#N/A"},{"$error":"#N/A"},{"$error":"#N/A"},{"$error":"#N/A"},{"$error":"#N/A"},{"$error":"#N/A"},{"$error":"#N/A"},{"$error":"#N/A"},{"$error":"#N/A"},{"$error":"#N/A"},{"$error":"#N/A"},{"$error":"#N/A"},{"$error":"#N/A"},{"$error":"#N/A"},{"$error":"#N/A"},{"$error":"#N/A"},{"$error":"#N/A"},{"$error":"#N/A"},{"$error":"#N/A"},{"$error":"#N/A"},{"$error":"#N/A"},{"$error":"#N/A"},{"$error":"#N/A"},{"$error":"#N/A"},{"$error":"#N/A"},{"$error":"#N/A"},{"$error":"#N/A"},{"$error":"#N/A"},{"$error":"#N/A"},{"$error":"#N/A"},{"$error":"#N/A"},{"$error":"#N/A"},{"$error":"#N/A"},{"$error":"#N/A"},{"$f":"SUM(AT59,AT60)","v":{"$error":"#N/A"}},{"$error":"#N/A"},{"$error":"#N/A"},{"$error":"#N/A"},{"$error":"#N/A"},{"$error":"#N/A"},{"$error":"#N/A"},{"$error":"#N/A"},{"$error":"#N/A"},{"$error":"#N/A"},{"$error":"#N/A"},{"$error":"#N/A"},{"$error":"#N/A"},{"$error":"#N/A"},{"$error":"#N/A"},{"$error":"#N/A"},{"$error":"#N/A"},{"$error":"#N/A"},{"$error":"#N/A"},{"$error":"#N/A"}]
[null,null,"差引",null,{"$f":"E58-E61","v":{"$error":"#N/A"}},{"$f":"F58-F61","v":{"$error":"#N/A"}},{"$error":"#N/A"},{"$error":"#N/A"},{"$error":"#N/A"},{"$error":"#N/A"},{"$error":"#N/A"},{"$error":"#N/A"},{"$error":"#N/A"},{"$error":"#N/A"},{"$error":"#N/A"},{"$error":"#N/A"},{"$error":"#N/A"},{"$error":"#N/A"},{"$error":"#N/A"},{"$error":"#N/A"},{"$error":"#N/A"},{"$error":"#N/A"},{"$error":"#N/A"},{"$error":"#N/A"},{"$error":"#N/A"},{"$error":"#N/A"},{"$error":"#N/A"},{"$error":"#N/A"},{"$error":"#N/A"},{"$error":"#N/A"},{"$error":"#N/A"},{"$error":"#N/A"},{"$error":"#N/A"},{"$error":"#N/A"},{"$error":"#N/A"},{"$f":"AJ58-AJ61","v":{"$error":"#N/A"}},{"$error":"#N/A"},{"$error":"#N/A"},{"$error":"#N/A"},{"$error":"#N/A"},{"$error":"#N/A"},{"$error":"#N/A"},{"$error":"#N/A"},{"$error":"#N/A"},{"$error":"#N/A"},{"$f":"AT58-AT61","v":{"$error":"#N/A"}},{"$error":"#N/A"},{"$error":"#N/A"},{"$error":"#N/A"},{"$error":"#N/A"},{"$error":"#N/A"},{"$error":"#N/A"},{"$error":"#N/A"},{"$error":"#N/A"},{"$error":"#N/A"},{"$error":"#N/A"},{"$error":"#N/A"},{"$error":"#N/A"},{"$error":"#N/A"},{"$error":"#N/A"},{"$error":"#N/A"},{"$error":"#N/A"},{"$error":"#N/A"},{"$error":"#N/A"},{"$error":"#N/A"}]
[]
[]
[]
[null,null,"固定費（管理費・税、返済）",null,{"$f":"SUM(E8,E9,E15,E13,E14,E16)","v":0},{"$error":"#N/A"},{"$error":"#N/A"},{"$error":"#N/A"},{"$error":"#N/A"},{"$error":"#N/A"},{"$error":"#N/A"},{"$error":"#N/A"},{"$error":"#N/A"},{"$error":"#N/A"},{"$error":"#N/A"},{"$error":"#N/A"},{"$error":"#N/A"},{"$error":"#N/A"},{"$error":"#N/A"},{"$error":"#N/A"},{"$error":"#N/A"},{"$error":"#N/A"},{"$error":"#N/A"},{"$error":"#N/A"},{"$error":"#N/A"},{"$error":"#N/A"},{"$error":"#N/A"},{"$error":"#N/A"},{"$error":"#N/A"},{"$error":"#N/A"},{"$error":"#N/A"},{"$error":"#N/A"},{"$error":"#N/A"},{"$error":"#N/A"},{"$error":"#N/A"},{"$error":"#N/A"},{"$error":"#N/A"},{"$error":"#N/A"},{"$error":"#N/A"},{"$error":"#N/A"},{"$error":"#N/A"},{"$error":"#N/A"},{"$error":"#N/A"},{"$error":"#N/A"},{"$error":"#N/A"}]
[null,null,"変動費(修繕）（単年）",null,{"$f":"SUM(E10:E12)","v":0},{"$f":"SUM(F10:F12)","v":{"$error":"#VALUE!"}},{"$error":"#VALUE!"},{"$error":"#VALUE!"},{"$error":"#VALUE!"},{"$error":"#VALUE!"},{"$error":"#VALUE!"},{"$error":"#VALUE!"},{"$error":"#VALUE!"},{"$error":"#VALUE!"},{"$error":"#VALUE!"},{"$error":"#VALUE!"},{"$error":"#VALUE!"},{"$error":"#VALUE!"},{"$error":"#VALUE!"},{"$error":"#VALUE!"},{"$error":"#VALUE!"},{"$error":"#VALUE!"},{"$error":"#VALUE!"},{"$error":"#VALUE!"},{"$error":"#VALUE!"},{"$error":"#VALUE!"},{"$error":"#VALUE!"},{"$error":"#VALUE!"},{"$error":"#VALUE!"},{"$error":"#VALUE!"},{"$error":"#VALUE!"},{"$error":"#VALUE!"},{"$error":"#VALUE!"},{"$error":"#VALUE!"},{"$error":"#VALUE!"},{"$error":"#VALUE!"},{"$error":"#VALUE!"},{"$error":"#VALUE!"},{"$error":"#VALUE!"},{"$error":"#VALUE!"},{"$error":"#VALUE!"},{"$error":"#VALUE!"},{"$error":"#VALUE!"},{"$error":"#VALUE!"},{"$error":"#VALUE!"}]
[]
[null,null,"（グラフ3用）",null,null,null,null,null,null,null,null,null,null,null,null,null,null,null,null,null,null,null,null,null,null,null,null,null,null,null,null,null,null,null,null,null,null,null,null,null,null,null,"総費用（NOI算出用）",null,{"$f":"AS61-SUM(AS70:AS71)","v":{"$error":"#N/A"}}]
[null,null,null,null,null,"1年目","2-5年目","6-10年目","11-15年目","16-20年目","21-25年目","26-30年目","31-35年目","36-40年目",null,null,null,null,null,null,null,null,null,null,null,null,null,null,null,null,null,null,null,null,null,null,null,null,null,null,null,null,"借入金返済（累計）",null,{"$f":"SUM(E15:AS15)","v":0}]
[null,null,"手元資金残金（期間）",null,null,{"$f":"F18","v":{"$error":"#N/A"}},{"$f":"SUM(G18:J18)","v":{"$error":"#N/A"}},{"$f":"SUM(K18:O18)","v":{"$error":"#N/A"}},{"$f":"SUM(P18:T18)","v":{"$error":"#N/A"}},{"$f":"SUM(U18:Y18)","v":{"$error":"#N/A"}},{"$f":"SUM(Z18:AD18)","v":{"$error":"#N/A"}},{"$f":"SUM(AE18:AI18)","v":{"$error":"#N/A"}},{"$f":"SUM(AJ18:AN18)","v":{"$error":"#N/A"}},{"$f":"SUM(AO18:AS18)","v":{"$error":"#N/A"}},null,null,null,null,null,null,null,null,null,null,null,null,null,null,null,null,null,null,null,null,null,null,null,null,null,null,null,null,"所得税等（累計）",null,{"$f":"SUM(E16:AS16)","v":{"$error":"#N/A"}}]
[null,null,"手元資金残金累計",null,null,{"$f":"E72+F71","v":{"$error":"#N/A"}},{"$f":"F72+G71","v":{"$error":"#N/A"}},{"$f":"G72+H71","v":{"$error":"#N/A"}},{"$error":"#N/A"},{"$error":"#N/A"},{"$error":"#N/A"},{"$error":"#N/A"},{"$error":"#N/A"},{"$error":"#N/A"}]

{"sheet":"Sheet1","index":3,"n_rows":0,"n_cols":0,"rows_kept":0,"cut":false,"hidden":false,"merged":[]}

{"sheet":"固都税経年率","index":4,"n_rows":56,"n_cols":62,"rows_kept":56,"cut":false,"hidden":false,"merged":[]}
["固都税経年計算"]
[null,"経過年数",1,2,3,4,5,6,7,8,9,10,11,12,13,14,15,16,17,18,19,20,21,22,23,24,25,26,27,28,29,30,31,32,33,34,35,36,37,38,39,40,41,42,43,44,45,46,47,48,49,50,51,52,53,54,55,56,57,58,59,60]
[null,"RC造",0.8,0.75,0.7,0.69120000000000004,0.6825,0.67369999999999997,0.66490000000000005,0.65610000000000002,0.64739999999999998,0.63859999999999995,0.62980000000000003,0.62109999999999999,0.61229999999999996,0.60350000000000004,0.59470000000000001,0.58599999999999997,0.57720000000000005,0.56840000000000002,0.55959999999999999,0.55089999999999995,0.54210000000000003,0.5333,0.52459999999999996,0.51580000000000004,0.50700000000000001,0.49819999999999998,0.48949999999999999,0.48070000000000002,0.47189999999999999,0.4632,0.45440000000000003,0.4456,0.43680000000000002,0.42809999999999998,0.41930000000000001,0.41049999999999998,0.40179999999999999,0.39300000000000002,0.38419999999999999,0.37540000000000001,0.36670000000000003,0.3579,0.34910000000000002,0.34039999999999998,0.33160000000000001,0.32279999999999998,0.314,0.30530000000000002,0.29649999999999999,0.28770000000000001,0.27889999999999998,0.2702,0.26140000000000002,0.25259999999999999,0.24390000000000001,0.2351,0.2263,0.2175,0.20880000000000001,0.2]
[null,"軽量鉄骨造",0.8,0.75,0.7,0.67059999999999997,0.64119999999999999,0.61180000000000001,0.58240000000000003,0.55289999999999995,0.52349999999999997,0.49409999999999998,0.4647,0.43530000000000002,0.40589999999999998,0.3765,0.34710000000000002,0.31759999999999999,0.28820000000000001,0.25879999999999997,0.22939999999999999,0.2,0.2,0.2,0.2,0.2,0.2,0.2,0.2,0.2,0.2,0.2,0.2,0.2,0.2,0.2,0.2,0.2,0.2,0.2,0.2,0.2,0.2,0.2,0.2,0.2,0.2,0.2,0.2,0.2,0.2,0.2,0.2,0.2,0.2,0.2,0.2,0.2,0.2,0.2,0.2,0.2]
[null,"木造",0.8,0.75,0.7,0.67,0.64,0.61,0.57999999999999996,0.55000000000000004,0.52,0.49,0.46,0.44,0.41,0.38,0.35,0.32,0.28999999999999998,0.26,0.23,0.2,0.2,0.2,0.2,0.2,0.2,0.2,0.2,0.2,0.2,0.2,0.2,0.2,0.2,0.2,0.2,0.2,0.2,0.2,0.2,0.2,0.2,0.2,0.2,0.2,0.2,0.2,0.2,0.2,0.2,0.2,0.2,0.2,0.2,0.2,0.2,0.2,0.2,0.2,0.2,0.2]
[]
[]
["建物新築標準価格"]
[null,null,"木造","軽量鉄骨造","RC造"]
[null,"北海道",85,93,118,"【札幌】"]
[null,"青森県",76,87,129]
[null,"岩手県",78,96,129]
[null,"宮城県",90,100,139]
[null,"秋田県",84,105,129]
[null,"山形県",79,99,137]
[null,"福島県",82,95,144]
[null,"茨城県",86,98,114]
[null,"栃木県",85,98,122]
[null,"群馬県",79,95,125]
[null,"埼玉県",87,99,125]
[null,"千葉県",91,100,133]
[null,"東京都",100,104,143]
[null,"神奈川県",105,103,139]
[null,"新潟県",84,96,110]
[null,"富山県",84,93,126]
[null,"石川県",85,93,126]
[null,"福井県",87,93,125]
[null,"山梨県",89,93,123]
[null,"長野県",81,95,127]
[null,"岐阜県",83,96,124]
[null,"静岡県",86,95,129]
[null,"愛知県",96,100,136]
[null,"三重県",83,94,118]
[null,"滋賀県",83,94,123]
[null,"京都府",97,101,132]
[null,"大阪府",94,98,133]
[null,"兵庫県",94,99,135]
[null,"奈良県",86,97,125]
[null,"和歌山県",82,97,123]
[null,"鳥取県",83,96,120]
[null,"島根県",83,93,124]
[null,"岡山県",80,99,135]
[null,"広島県",83,96,135]
[null,"山口県",80,94,117]
[null,"徳島県",79,95,121]
[null,"香川県",83,98,124]
[null,"愛媛県",82,96,122]
[null,"高知県",82,96,124]
[null,"福岡県",94,96,137]
[null,"佐賀県",80,91,119]
[null,"長崎県",79,98,126]
[null,"熊本県",83,100,123]
[null,"大分県",82,94,129]
[null,"宮崎県",79,94,125]
[null,"鹿児島県",81,95,131]
[null,"沖縄県",84,93,112]

{"sheet":"借入金","index":5,"n_rows":13,"n_cols":43,"rows_kept":13,"cut":false,"hidden":false,"merged":[]}
["長期融資"]
[null,"（元利均等）"]
[null,"銀行借入(万円)",{"$f":"賃貸住宅経営のセルチェックシート【入力シート】!$G$26/10000","v":0},"※リンク"]
[null,"返済期間",{"$f":"賃貸住宅経営のセルチェックシート【入力シート】!$AC$26","v":0},"※リンク"]
[null,"設定金利",{"$f":"賃貸住宅経営のセルチェックシート【入力シート】!$X$26","v":0},"※リンク"]
[null,"毎年の支払額",{"$f":"PMT(C5,C4,C3)*-1","v":{"$error":"#NUM!"}},"(万円)"]
[]
[null,null,1,2,3,4,5,6,7,8,9,10,11,12,13,14,15,16,17,18,19,20,21,22,23,24,25,26,27,28,29,30,31,32,33,34,35,36,37,38,39,40,41]
[null,"借入金返済総額",{"$f":"IF($C$4<C8,0,$C$6)","v":0},{"$f":"IF($C$4<D8,0,$C$6)","v":0},0,0,0,0,0,0,0,0,0,0,0,0,0,0,0,0,0,0,0,0,0,0,0,0,0,0,0,0,0,0,0,0,0,0,0,0,0,0,0]
[null,"元本(借入金)返済",{"$f":"IF(C8>$C$4,0,C9-C11)","v":0},{"$f":"IF(D8>$C$4,0,D9-D11)","v":0},{"$f":"IF(E8>$C$4,0,E9-E11)","v":0},0,0,0,0,0,0,0,0,0,0,0,0,0,0,0,0,0,0,0,0,0,0,0,0,0,0,{"$f":"IF(AF8>$C$4,0,AF9-AF11)","v":0},0,0,0,0,0,0,0,0,0,0,0]
[null,"支払利息",{"$f":"IF(C8>$C$4,0,C3*($C$5))","v":0},{"$f":"IF(D8>$C$4,0,C13*($C$5))","v":0},{"$f":"IF(E8>$C$4,0,D13*($C$5))","v":0},{"$f":"IF(F8>$C$4,0,E13*($C$5))","v":0},0,0,0,0,0,0,0,0,0,0,0,0,0,0,0,0,0,0,0,0,0,0,0,0,0,0,0,0,0,0,0,0,0,0,0,0,0]
[null,"合　　計",{"$f":"C10+C11","v":0},{"$f":"D10+D11","v":0},{"$f":"E10+E11","v":0},0,0,0,0,0,0,0,0,0,0,0,0,0,0,0,0,0,0,0,0,0,0,0,0,0,0,0,{"$f":"AG10+AG11","v":0},0,0,0,0,0,0,0,0,0,0]
[null,"借入金残高",{"$f":"IF(C3-C10>0,C3-C10,0)","v":0},{"$f":"IF(C13-D10>0,C13-D10,0)","v":0},{"$f":"IF(D13-E10>0,D13-E10,0)","v":0},0,0,0,0,0,0,0,0,0,0,0,0,0,0,0,0,0,0,0,0,0,0,0,0,0,0,{"$f":"IF(AE13-AF10>0,AE13-AF10,0)","v":0},{"$f":"IF(AF13-AG10>0,AF13-AG10,0)","v":0},{"$f":"IF(AG13-AH10>0,AG13-AH10,0)","v":0},{"$f":"IF(AH13-AI10>0,AH13-AI10,0)","v":0},{"$f":"IF(AI13-AJ10>0,AI13-AJ10,0)","v":0},{"$f":"IF(AJ13-AK10>0,AJ13-AK10,0)","v":0},{"$f":"IF(AK13-AL10>0,AK13-AL10,0)","v":0},{"$f":"IF(AL13-AM10>0,AL13-AM10,0)","v":0},{"$f":"IF(AM13-AN10>0,AM13-AN10,0)","v":0},{"$f":"IF(AN13-AO10>0,AN13-AO10,0)","v":0},{"$f":"IF(AO13-AP10>0,AO13-AP10,0)","v":0},{"$f":"IF(AP13-AQ10>0,AP13-AQ10,0)","v":0}]

{"sheet":"算出基礎係数","index":6,"n_rows":66,"n_cols":58,"rows_kept":66,"cut":false,"hidden":false,"merged":[]}
["構造","法定耐用年数","償却率","保険料率","入居期間","入替率","水準","屋根","外壁","code",null,"構造","外壁",null,null,null,null,"賃料下落",1,{"$f":"S1+1","v":2},3,4,5,6,7,8,9,10,11,12,13,14,15,16,17,18,19,20,{"$f":"AL1+1","v":21},22,23,24,25,26,27,28,29,30,31,32,33,34,35,36,37,38,39,40]
["軽量鉄骨造",19,{"$f":"1/B2","v":5.2631578947368418E-2},1.1999999999999999E-3,1,1,"標準","傾斜屋根","塗装","軽鉄",null,"軽量鉄骨造","　　吹付タイル","　　サイディング",null,null,null,1,null,{"$f":"賃貸住宅経営のセルチェックシート【入力シート】!$AB$16","v":0},{"$f":"賃貸住宅経営のセルチェックシート【入力シート】!$AB$16","v":0},{"$f":"賃貸住宅経営のセルチェックシート【入力シート】!$AB$16","v":0},{"$f":"賃貸住宅経営のセルチェックシート【入力シート】!$AB$16","v":0},{"$f":"賃貸住宅経営のセルチェックシート【入力シート】!$AB$16","v":0},{"$f":"賃貸住宅経営のセルチェックシート【入力シート】!$AB$16","v":0},{"$f":"賃貸住宅経営のセルチェックシート【入力シート】!$AB$16","v":0},{"$f":"賃貸住宅経営のセルチェックシート【入力シート】!$AB$16","v":0},{"$f":"賃貸住宅経営のセルチェックシート【入力シート】!$AB$16","v":0},{"$f":"賃貸住宅経営のセルチェックシート【入力シート】!$AB$16","v":0},{"$f":"賃貸住宅経営のセルチェックシート【入力シート】!$AB$16","v":0},{"$f":"賃貸住宅経営のセルチェックシート【入力シート】!$AB$16","v":0},{"$f":"賃貸住宅経営のセルチェックシート【入力シート】!$AB$16","v":0},{"$f":"賃貸住宅経営のセルチェックシート【入力シート】!$AB$16","v":0},{"$f":"賃貸住宅経営のセルチェックシート【入力シート】!$AB$16","v":0},{"$f":"賃貸住宅経営のセルチェックシート【入力シート】!$AB$16","v":0},{"$f":"賃貸住宅経営のセルチェックシート【入力シート】!$AB$16","v":0},{"$f":"賃貸住宅経営のセルチェックシート【入力シート】!$AB$16","v":0},{"$f":"賃貸住宅経営のセルチェックシート【入力シート】!$AB$16","v":0},{"$f":"賃貸住宅経営のセルチェックシート【入力シート】!$AB$16","v":0},{"$f":"賃貸住宅経営のセルチェックシート【入力シート】!$AB$16","v":0},{"$f":"賃貸住宅経営のセルチェックシート【入力シート】!$AB$16","v":0},{"$f":"賃貸住宅経営のセルチェックシート【入力シート】!$AB$16","v":0},{"$f":"賃貸住宅経営のセルチェックシート【入力シート】!$AB$16","v":0},{"$f":"賃貸住宅経営のセルチェックシート【入力シート】!$AB$16","v":0},{"$f":"賃貸住宅経営のセルチェックシート【入力シート】!$AB$16","v":0},{"$f":"賃貸住宅経営のセルチェックシート【入力シート】!$AB$16","v":0},{"$f":"賃貸住宅経営のセルチェックシート【入力シート】!$AB$16","v":0},{"$f":"賃貸住宅経営のセルチェックシート【入力シート】!$AB$16","v":0},{"$f":"賃貸住宅経営のセルチェックシート【入力シート】!$AB$16","v":0},{"$f":"賃貸住宅経営のセルチェックシート【入力シート】!$AB$16","v":0},{"$f":"賃貸住宅経営のセルチェックシート【入力シート】!$AB$16","v":0},{"$f":"賃貸住宅経営のセルチェックシート【入力シート】!$AB$16","v":0},{"$f":"賃貸住宅経営のセルチェックシート【入力シート】!$AB$16","v":0},{"$f":"賃貸住宅経営のセルチェックシート【入力シート】!$AB$16","v":0},{"$f":"賃貸住宅経営のセルチェックシート【入力シート】!$AB$16","v":0},{"$f":"賃貸住宅経営のセルチェックシート【入力シート】!$AB$16","v":0},{"$f":"賃貸住宅経営のセルチェックシート【入力シート】!$AB$16","v":0},{"$f":"賃貸住宅経営のセルチェックシート【入力シート】!$AB$16","v":0}]
["木造",22,{"$f":"1/B3","v":4.5454545454545456E-2},2.5000000000000001E-3,2,0.5,"簡易","陸屋根","タイル","木",null,"木造","　　吹付タイル","　　サイディング",null,null,null,2,null,null,{"$f":"賃貸住宅経営のセルチェックシート【入力シート】!$AB$16","v":0},null,{"$f":"賃貸住宅経営のセルチェックシート【入力シート】!$AB$16","v":0},null,{"$f":"賃貸住宅経営のセルチェックシート【入力シート】!$AB$16","v":0},null,{"$f":"賃貸住宅経営のセルチェックシート【入力シート】!$AB$16","v":0},null,{"$f":"賃貸住宅経営のセルチェックシート【入力シート】!$AB$16","v":0},null,{"$f":"賃貸住宅経営のセルチェックシート【入力シート】!$AB$16","v":0},null,{"$f":"賃貸住宅経営のセルチェックシート【入力シート】!$AB$16","v":0},null,{"$f":"賃貸住宅経営のセルチェックシート【入力シート】!$AB$16","v":0},null,{"$f":"賃貸住宅経営のセルチェックシート【入力シート】!$AB$16","v":0},null,{"$f":"賃貸住宅経営のセルチェックシート【入力シート】!$AB$16","v":0},null,{"$f":"賃貸住宅経営のセルチェックシート【入力シート】!$AB$16","v":0},null,{"$f":"賃貸住宅経営のセルチェックシート【入力シート】!$AB$16","v":0},null,{"$f":"賃貸住宅経営のセルチェックシート【入力シート】!$AB$16","v":0},null,{"$f":"賃貸住宅経営のセルチェックシート【入力シート】!$AB$16","v":0},null,{"$f":"賃貸住宅経営のセルチェックシート【入力シート】!$AB$16","v":0},null,{"$f":"賃貸住宅経営のセルチェックシート【入力シート】!$AB$16","v":0},null,{"$f":"賃貸住宅経営のセルチェックシート【入力シート】!$AB$16","v":0},null,{"$f":"賃貸住宅経営のセルチェックシート【入力シート】!$AB$16","v":0},null,{"$f":"賃貸住宅経営のセルチェックシート【入力シート】!$AB$16","v":0}]
["RC造",47,2.1276595744680851E-2,5.0000000000000001E-4,3,0.33300000000000002,null,null,"サイディング","鉄骨",null,"RC造","　　吹付タイル","　　磁器質タイル","　　磁器質タイル、一部吹付タイル","　　吹付タイル、一部磁器質タイル",null,3,null,null,null,{"$f":"賃貸住宅経営のセルチェックシート【入力シート】!$AB$16","v":0},null,null,{"$f":"賃貸住宅経営のセルチェックシート【入力シート】!$AB$16","v":0},null,null,{"$f":"賃貸住宅経営のセルチェックシート【入力シート】!$AB$16","v":0},null,null,{"$f":"賃貸住宅経営のセルチェックシート【入力シート】!$AB$16","v":0},null,null,{"$f":"賃貸住宅経営のセルチェックシート【入力シート】!$AB$16","v":0},null,null,{"$f":"賃貸住宅経営のセルチェックシート【入力シート】!$AB$16","v":0},null,null,{"$f":"賃貸住宅経営のセルチェックシート【入力シート】!$AB$16","v":0},null,null,{"$f":"賃貸住宅経営のセルチェックシート【入力シート】!$AB$16","v":0},null,null,{"$f":"賃貸住宅経営のセルチェックシート【入力シート】!$AB$16","v":0},null,null,{"$f":"賃貸住宅経営のセルチェックシート【入力シート】!$AB$16","v":0},null,null,{"$f":"賃貸住宅経営のセルチェックシート【入力シート】!$AB$16","v":0},null,null,{"$f":"賃貸住宅経営のセルチェックシート【入力シート】!$AB$16","v":0},null,null,{"$f":"賃貸住宅経営のセルチェックシート【入力シート】!$AB$16","v":0}]
[null,null,null,null,4,0.25,null,null,null,null,null,null,null,null,null,null,null,4,null,null,null,null,{"$f":"賃貸住宅経営のセルチェックシート【入力シート】!$AB$16","v":0},null,null,null,{"$f":"賃貸住宅経営のセルチェックシート【入力シート】!$AB$16","v":0},null,null,null,{"$f":"賃貸住宅経営のセルチェックシート【入力シート】!$AB$16","v":0},null,null,null,{"$f":"賃貸住宅経営のセルチェックシート【入力シート】!$AB$16","v":0},null,null,null,{"$f":"賃貸住宅経営のセルチェックシート【入力シート】!$AB$16","v":0},null,null,null,{"$f":"賃貸住宅経営のセルチェックシート【入力シート】!$AB$16","v":0},null,null,null,{"$f":"賃貸住宅経営のセルチェックシート【入力シート】!$AB$16","v":0},null,null,null,{"$f":"賃貸住宅経営のセルチェックシート【入力シート】!$AB$16","v":0},null,null,null,{"$f":"賃貸住宅経営のセルチェックシート【入力シート】!$AB$16","v":0}]
[null,null,null,null,5,0.2,null,null,null,null,null,"構造","防水・屋根仕上",null,null,null,null,5,null,null,null,null,null,{"$f":"賃貸住宅経営のセルチェックシート【入力シート】!$AB$16","v":0},null,null,null,null,{"$f":"賃貸住宅経営のセルチェックシート【入力シート】!$AB$16","v":0},null,null,null,null,{"$f":"賃貸住宅経営のセルチェックシート【入力シート】!$AB$16","v":0},null,null,null,null,{"$f":"賃貸住宅経営のセルチェックシート【入力シート】!$AB$16","v":0},null,null,null,null,{"$f":"賃貸住宅経営のセルチェックシート【入力シート】!$AB$16","v":0},null,null,null,null,{"$f":"賃貸住宅経営のセルチェックシート【入力シート】!$AB$16","v":0},null,null,null,null,{"$f":"賃貸住宅経営のセルチェックシート【入力シート】!$AB$16","v":0}]
[null,null,null,null,null,null,null,null,null,null,null,{"$f":"H2","v":"傾斜屋根"},"　　スレート・コロニアル葺き","　　鋼板・ガルバリウム鋼板","　　アスファルトシングル葺き"]
[null,null,null,null,null,null,null,null,null,null,null,"陸屋根","　　露出アスファルト防水","　　保護アスファルト防水","　　シート防水","　　塗膜防水",null,"空室率",1,{"$f":"S8+1","v":2},3,4,5,6,7,8,9,10,11,12,13,14,15,16,17,18,19,20,{"$f":"AL8+1","v":21},22,23,24,25,26,27,28,29,30,31,32,33,34,35,36,37,38,39,40]
["auto",{"$f":"VLOOKUP(賃貸住宅経営のセルチェックシート【入力シート】!V10,$A$2:$J$4,10,FALSE)","v":{"$error":"#N/A"}},null,null,null,null,null,null,null,null,null,null,null,null,null,null,null,1,null,{"$f":"賃貸住宅経営のセルチェックシート【入力シート】!$N$17","v":0},{"$f":"賃貸住宅経営のセルチェックシート【入力シート】!$N$17","v":0},{"$f":"賃貸住宅経営のセルチェックシート【入力シート】!$N$17","v":0},{"$f":"賃貸住宅経営のセルチェックシート【入力シート】!$N$17","v":0},{"$f":"賃貸住宅経営のセルチェックシート【入力シート】!$N$17","v":0},{"$f":"賃貸住宅経営のセルチェックシート【入力シート】!$N$17","v":0},{"$f":"賃貸住宅経営のセルチェックシート【入力シート】!$N$17","v":0},{"$f":"賃貸住宅経営のセルチェックシート【入力シート】!$N$17","v":0},{"$f":"賃貸住宅経営のセルチェックシート【入力シート】!$N$17","v":0},{"$f":"賃貸住宅経営のセルチェックシート【入力シート】!$N$17","v":0},{"$f":"賃貸住宅経営のセルチェックシート【入力シート】!$N$17","v":0},{"$f":"賃貸住宅経営のセルチェックシート【入力シート】!$N$17","v":0},{"$f":"賃貸住宅経営のセルチェックシート【入力シート】!$N$17","v":0},{"$f":"賃貸住宅経営のセルチェックシート【入力シート】!$N$17","v":0},{"$f":"賃貸住宅経営のセルチェックシート【入力シート】!$N$17","v":0},{"$f":"賃貸住宅経営のセルチェックシート【入力シート】!$N$17","v":0},{"$f":"賃貸住宅経営のセルチェックシート【入力シート】!$N$17","v":0},{"$f":"賃貸住宅経営のセルチェックシート【入力シート】!$N$17","v":0},{"$f":"賃貸住宅経営のセルチェックシート【入力シート】!$N$17","v":0},{"$f":"賃貸住宅経営のセルチェックシート【入力シート】!$N$17","v":0},{"$f":"賃貸住宅経営のセルチェックシート【入力シート】!$N$17","v":0},{"$f":"賃貸住宅経営のセルチェックシート【入力シート】!$N$17","v":0},{"$f":"賃貸住宅経営のセルチェックシート【入力シート】!$N$17","v":0},{"$f":"賃貸住宅経営のセルチェックシート【入力シート】!$N$17","v":0},{"$f":"賃貸住宅経営のセルチェックシート【入力シート】!$N$17","v":0},{"$f":"賃貸住宅経営のセルチェックシート【入力シート】!$N$17","v":0},{"$f":"賃貸住宅経営のセルチェックシート【入力シート】!$N$17","v":0},{"$f":"賃貸住宅経営のセルチェックシート【入力シート】!$N$17","v":0},{"$f":"賃貸住宅経営のセルチェックシート【入力シート】!$N$17","v":0},{"$f":"賃貸住宅経営のセルチェックシート【入力シート】!$N$17","v":0},{"$f":"賃貸住宅経営のセルチェックシート【入力シート】!$N$17","v":0},{"$f":"賃貸住宅経営のセルチェックシート【入力シート】!$N$17","v":0},{"$f":"賃貸住宅経営のセルチェックシート【入力シート】!$N$17","v":0},{"$f":"賃貸住宅経営のセルチェックシート【入力シート】!$N$17","v":0},{"$f":"賃貸住宅経営のセルチェックシート【入力シート】!$N$17","v":0},{"$f":"賃貸住宅経営のセルチェックシート【入力シート】!$N$17","v":0},{"$f":"賃貸住宅経営のセルチェックシート【入力シート】!$N$17","v":0},{"$f":"賃貸住宅経営のセルチェックシート【入力シート】!$N$17","v":0},{"$f":"賃貸住宅経営のセルチェックシート【入力シート】!$N$17","v":0}]
["構造","EV",null,null,"階層","単価","係数",null,null,null,null,null,null,null,null,null,null,2,null,null,{"$f":"賃貸住宅経営のセルチェックシート【入力シート】!$N$17","v":0},null,{"$f":"賃貸住宅経営のセルチェックシート【入力シート】!$N$17","v":0},null,{"$f":"賃貸住宅経営のセルチェックシート【入力シート】!$N$17","v":0},null,{"$f":"賃貸住宅経営のセルチェックシート【入力シート】!$N$17","v":0},null,{"$f":"賃貸住宅経営のセルチェックシート【入力シート】!$N$17","v":0},null,{"$f":"賃貸住宅経営のセルチェックシート【入力シート】!$N$17","v":0},null,{"$f":"賃貸住宅経営のセルチェックシート【入力シート】!$N$17","v":0},null,{"$f":"賃貸住宅経営のセルチェックシート【入力シート】!$N$17","v":0},null,{"$f":"賃貸住宅経営のセルチェックシート【入力シート】!$N$17","v":0},null,{"$f":"賃貸住宅経営のセルチェックシート【入力シート】!$N$17","v":0},null,{"$f":"賃貸住宅経営のセルチェックシート【入力シート】!$N$17","v":0},null,{"$f":"賃貸住宅経営のセルチェックシート【入力シート】!$N$17","v":0},null,{"$f":"賃貸住宅経営のセルチェックシート【入力シート】!$N$17","v":0},null,{"$f":"賃貸住宅経営のセルチェックシート【入力シート】!$N$17","v":0},null,{"$f":"賃貸住宅経営のセルチェックシート【入力シート】!$N$17","v":0},null,{"$f":"賃貸住宅経営のセルチェックシート【入力シート】!$N$17","v":0},null,{"$f":"賃貸住宅経営のセルチェックシート【入力シート】!$N$17","v":0},null,{"$f":"賃貸住宅経営のセルチェックシート【入力シート】!$N$17","v":0},null,{"$f":"賃貸住宅経営のセルチェックシート【入力シート】!$N$17","v":0}]
["軽鉄","‐","‐",null,"低層",1860,1,null,null,null,null,null,null,null,null,null,null,3,null,null,null,{"$f":"賃貸住宅経営のセルチェックシート【入力シート】!$N$17","v":0},null,null,{"$f":"賃貸住宅経営のセルチェックシート【入力シート】!$N$17","v":0},null,null,{"$f":"賃貸住宅経営のセルチェックシート【入力シート】!$N$17","v":0},null,null,{"$f":"賃貸住宅経営のセルチェックシート【入力シート】!$N$17","v":0},null,null,{"$f":"賃貸住宅経営のセルチェックシート【入力シート】!$N$17","v":0},null,null,{"$f":"賃貸住宅経営のセルチェックシート【入力シート】!$N$17","v":0},null,null,{"$f":"賃貸住宅経営のセルチェックシート【入力シート】!$N$17","v":0},null,null,{"$f":"賃貸住宅経営のセルチェックシート【入力シート】!$N$17","v":0},null,null,{"$f":"賃貸住宅経営のセルチェックシート【入力シート】!$N$17","v":0},null,null,{"$f":"賃貸住宅経営のセルチェックシート【入力シート】!$N$17","v":0},null,null,{"$f":"賃貸住宅経営のセルチェックシート【入力シート】!$N$17","v":0},null,null,{"$f":"賃貸住宅経営のセルチェックシート【入力シート】!$N$17","v":0},null,null,{"$f":"賃貸住宅経営のセルチェックシート【入力シート】!$N$17","v":0}]
["木","‐","‐",null,"中層",2050,{"$f":"ROUND(F12/F11,2)","v":1.1000000000000001},null,null,null,null,null,null,null,null,null,null,4,null,null,null,null,{"$f":"賃貸住宅経営のセルチェックシート【入力シート】!$N$17","v":0},null,null,null,{"$f":"賃貸住宅経営のセルチェックシート【入力シート】!$N$17","v":0},null,null,null,{"$f":"賃貸住宅経営のセルチェックシート【入力シート】!$N$17","v":0},null,null,null,{"$f":"賃貸住宅経営のセルチェックシート【入力シート】!$N$17","v":0},null,null,null,{"$f":"賃貸住宅経営のセルチェックシート【入力シート】!$N$17","v":0},null,null,null,{"$f":"賃貸住宅経営のセルチェックシート【入力シート】!$N$17","v":0},null,null,null,{"$f":"賃貸住宅経営のセルチェックシート【入力シート】!$N$17","v":0},null,null,null,{"$f":"賃貸住宅経営のセルチェックシート【入力シート】!$N$17","v":0},null,null,null,{"$f":"賃貸住宅経営のセルチェックシート【入力シート】!$N$17","v":0}]
["鉄骨","あり","なし",null,"高層",2130,{"$f":"ROUND(F13/F11,2)","v":1.1499999999999999},null,null,null,null,null,null,null,null,null,null,5,null,null,null,null,null,{"$f":"賃貸住宅経営のセルチェックシート【入力シート】!$N$17","v":0},null,null,null,null,{"$f":"賃貸住宅経営のセルチェックシート【入力シート】!$N$17","v":0},null,null,null,null,{"$f":"賃貸住宅経営のセルチェックシート【入力シート】!$N$17","v":0},null,null,null,null,{"$f":"賃貸住宅経営のセルチェックシート【入力シート】!$N$17","v":0},null,null,null,null,{"$f":"賃貸住宅経営のセルチェックシート【入力シート】!$N$17","v":0},null,null,null,null,{"$f":"賃貸住宅経営のセルチェックシート【入力シート】!$N$17","v":0},null,null,null,null,{"$f":"賃貸住宅経営のセルチェックシート【入力シート】!$N$17","v":0}]
[null,null,null,null,"※（財）経済調査会「積算資料　マンション修繕編」"]
["auto",{"$f":"VLOOKUP(賃貸住宅経営のセルチェックシート【入力シート】!V13,$A$17:$B$66,2)","v":{"$error":"#N/A"}}]
["階建","係数",null,null,"改定率",null,"建築年"]
[1,{"$f":"$G$11","v":1},null,null,0,null,"昭和"]
[2,{"$f":"$G$11","v":1},null,null,-5.0000000000000001E-3,null,"平成"]
[3,{"$f":"$G$11","v":1},null,null,{"$f":"E18-0.005","v":-0.01},null,"令和"]
[4,{"$f":"$G$12","v":1.1000000000000001},null,null,{"$f":"E19-0.005","v":-1.4999999999999999E-2}]
[5,{"$f":"$G$12","v":1.1000000000000001},null,null,-0.02]
[6,{"$f":"$G$12","v":1.1000000000000001},null,null,-2.5000000000000001E-2]
[7,{"$f":"$G$13","v":1.1499999999999999},null,null,-3.0000000000000002E-2]
[8,1.1499999999999999,null,null,-3.5000000000000003E-2]
[9,1.1499999999999999,null,null,-0.04]
[10,1.1499999999999999,null,null,-4.4999999999999998E-2]
[11,1.1499999999999999,null,null,-4.9999999999999996E-2]
[12,1.1499999999999999]
[13,1.1499999999999999]
[14,1.1499999999999999]
[15,1.1499999999999999]
[16,1.1499999999999999]
[17,1.1499999999999999]
[18,1.1499999999999999]
[19,1.1499999999999999]
[20,1.1499999999999999]
[21,1.1499999999999999]
[22,1.1499999999999999]
[23,1.1499999999999999]
[24,1.1499999999999999]
[25,1.1499999999999999]
[26,1.1499999999999999]
[27,1.1499999999999999]
[28,1.1499999999999999]
[29,1.1499999999999999]
[30,1.1499999999999999]
[31,1.1499999999999999]
[32,1.1499999999999999]
[33,1.1499999999999999]
[34,1.1499999999999999]
[35,1.1499999999999999]
[36,1.1499999999999999]
[37,1.1499999999999999]
[38,1.1499999999999999]
[39,1.1499999999999999]
[40,1.1499999999999999]
[41,1.1499999999999999]
[42,1.1499999999999999]
[43,1.1499999999999999]
[44,1.1499999999999999]
[45,1.1499999999999999]
[46,1.1499999999999999]
[47,1.1499999999999999]
[48,1.1499999999999999]
[49,1.1499999999999999]
[50,1.1499999999999999]

{"sheet":"Sheet3","index":7,"n_rows":0,"n_cols":0,"rows_kept":0,"cut":false,"hidden":true,"merged":[]}

{"sheet":"W1 修繕なし","index":8,"n_rows":71,"n_cols":59,"rows_kept":71,"cut":false,"hidden":true,"merged":[[69,3,69,4],[68,3,68,4],[59,3,59,4],[64,3,64,4],[65,3,65,4],[66,3,66,4],[67,3,67,4]]}
[]
[]
[null,null,{"$f":"#REF!","v":{"$error":"#REF!"}},{"$f":"#REF!","v":{"$error":"#REF!"}},{"$f":"#REF!","v":{"$error":"#REF!"}}]
[null,null,{"$f":"#REF!","v":{"$error":"#REF!"}},{"$f":"#REF!","v":{"$error":"#REF!"}},{"$f":"#REF!","v":{"$error":"#REF!"}}]
[null,null,null,null,{"$f":"#REF!","v":{"$error":"#REF!"}}]
[null,null,"戸数",null,{"$f":"#REF!","v":{"$error":"#REF!"}}]
[null,null,"家賃(万円/月)",null,{"$f":"#REF!","v":{"$error":"#REF!"}},null,{"$f":"E6*E7*12","v":{"$error":"#REF!"}},"満室時賃料",null,"建設費"]
[null,null,"駐車場(万円/月)",null,{"$f":"#REF!","v":{"$error":"#REF!"}},null,null,null,null,"大都市部",{"$f":"#REF!","v":{"$error":"#REF!"}}]
[null,null,"建物建設費(万円)",null,{"$f":"#REF!","v":{"$error":"#REF!"}},"設備等込",null,null,null,"地方部",{"$f":"#REF!","v":{"$error":"#REF!"}}]
[null,null,null,null,null,null,null,null,null,"調整比率",{"$f":"#REF!","v":{"$error":"#REF!"}},"※地方部で使用"]
[null,null,"自己資金",null,{"$f":"#REF!","v":{"$error":"#REF!"}},null,null,null,null,null,null,null,null,null,"　"]
[null,null,"銀行借り入れ",null,{"$f":"#REF!","v":{"$error":"#REF!"}}]
[null,null,"返済期間",null,{"$f":"#REF!","v":{"$error":"#REF!"}}]
[null,null,"金利",null,{"$f":"#REF!","v":{"$error":"#REF!"}}]
[]
[null,null,"建物管理",null,{"$f":"#REF!","v":{"$error":"#REF!"}},"満室賃料に対して"]
[null,null,"保険料(万円/年)",null,{"$f":"#REF!","v":{"$error":"#REF!"}}]
[null,null,"建築面積","㎡",{"$f":"#REF!","v":{"$error":"#REF!"}},null,"延べ床面積",{"$f":"#REF!","v":{"$error":"#REF!"}},{"$f":"#REF!","v":{"$error":"#REF!"}},{"$f":"#REF!","v":{"$error":"#REF!"}},"万円"]
[null,null,"敷地面積","㎡",{"$f":"#REF!","v":{"$error":"#REF!"}}]
[null,null,"土地単価","万円/㎡",{"$f":"#REF!","v":{"$error":"#REF!"}}]
[null,null,"土地価格",null,{"$f":"#REF!","v":{"$error":"#REF!"}},"計算"]
[null,null,"土地　課税標準",null,{"$f":"#REF!","v":{"$error":"#REF!"}},"計算"]
[null,null,"大規模修繕",null,{"$f":"#REF!","v":{"$error":"#REF!"}}]
[null,null,"修繕費積立"]
[null,null,"減価償却率","RC　47年",{"$f":"#REF!","v":{"$error":"#REF!"}}]
[null,null,null,"W　22年",{"$f":"#REF!","v":{"$error":"#REF!"}}]
[null,null,null,null,null,null,"実収入率",0.95,0.95,0.95,0.95,0.95,{"$f":"L27-0.01","v":0.94},{"$f":"M27-0.01","v":0.92999999999999994},0.91999999999999993,0.90999999999999992,{"$f":"P27-0.01","v":0.89999999999999991},{"$f":"Q27-0.01","v":0.8899999999999999},{"$f":"R27-0.01","v":0.87999999999999989},{"$f":"S27-0.01","v":0.86999999999999988},{"$f":"T27-0.01","v":0.85999999999999988},{"$f":"U27-0.01","v":0.84999999999999987},{"$f":"V27-0.01","v":0.83999999999999986},{"$f":"W27-0.01","v":0.82999999999999985},{"$f":"X27-0.01","v":0.81999999999999984},{"$f":"Y27-0.01","v":0.80999999999999983},{"$f":"Z27-0.01","v":0.79999999999999982},{"$f":"AA27-0.01","v":0.78999999999999981},{"$f":"AB27-0.01","v":0.7799999999999998},{"$f":"AC27-0.01","v":0.7699999999999998},{"$f":"AD27-0.01","v":0.75999999999999979},{"$f":"AE27-0.01","v":0.74999999999999978},{"$f":"AF27-0.01","v":0.73999999999999977},{"$f":"AG27-0.01","v":0.72999999999999976},{"$f":"AH27-0.01","v":0.71999999999999975},{"$f":"AI27-0.01","v":0.70999999999999974},{"$f":"AJ27-0.01","v":0.69999999999999973},{"$f":"AK27-0.01","v":0.68999999999999972},{"$f":"AL27-0.01","v":0.67999999999999972},{"$f":"AM27-0.01","v":0.66999999999999971},{"$f":"AN27-0.01","v":0.6599999999999997},{"$f":"AO27-0.01","v":0.64999999999999969}]
[]
[]
[]
[]
[null,null,null,null,null,null,null,null,null,"（単位：万円）"]
[null,null,null,null,"（単位：万円）",null,0,1,{"$f":"H33+1","v":2},{"$f":"I33+1","v":3},4,5,6,7,8,9,10,11,12,13,14,15,16,17,18,19,20,21,22,23,24,25,26,27,28,29,30,31,32,33,34,35]
[null,null,null,"収入","家賃収入",null,null,{"$f":"$G$7*H27","v":{"$error":"#REF!"}},{"$f":"$G$7*I27","v":{"$error":"#REF!"}},{"$error":"#REF!"},{"$error":"#REF!"},{"$error":"#REF!"},{"$error":"#REF!"},{"$error":"#REF!"},{"$error":"#REF!"},{"$error":"#REF!"},{"$error":"#REF!"},{"$error":"#REF!"},{"$error":"#REF!"},{"$error":"#REF!"},{"$error":"#REF!"},{"$error":"#REF!"},{"$error":"#REF!"},{"$error":"#REF!"},{"$error":"#REF!"},{"$error":"#REF!"},{"$error":"#REF!"},{"$error":"#REF!"},{"$error":"#REF!"},{"$error":"#REF!"},{"$error":"#REF!"},{"$error":"#REF!"},{"$error":"#REF!"},{"$error":"#REF!"},{"$error":"#REF!"},{"$error":"#REF!"},{"$error":"#REF!"},{"$error":"#REF!"},{"$error":"#REF!"},{"$error":"#REF!"},{"$error":"#REF!"},{"$error":"#REF!"}]
[null,null,null,null,"銀行借入（長期）",null,{"$f":"E12","v":{"$error":"#REF!"}}]
[null,null,null,null,"銀行借入（短期）",null,null,null,null,null,null,null,null,null,null,null,null,null,null,null,null,{"$f":"V29","v":0},null,null,null,null,null,null,null,null,null,{"$f":"AF29","v":0}]
[null,null,null,null,"自己資金",null,{"$f":"E11","v":{"$error":"#REF!"}},null,null,null,null,null,null,null,null,null,null,null,null,null,null,{"$f":"V30","v":0},null,null,null,null,null,null,null,null,null,{"$f":"AF30","v":0}]
[null,null,null,null,"(修繕積立金　取り崩し）"]
[null,null,null,null,"収入計",null,{"$f":"SUM(G34:G38)","v":{"$error":"#REF!"}},{"$f":"SUM(H34:H38)","v":{"$error":"#REF!"}},{"$f":"SUM(I34:I38)","v":{"$error":"#REF!"}},{"$error":"#REF!"},{"$error":"#REF!"},{"$error":"#REF!"},{"$error":"#REF!"},{"$error":"#REF!"},{"$error":"#REF!"},{"$error":"#REF!"},{"$error":"#REF!"},{"$error":"#REF!"},{"$error":"#REF!"},{"$error":"#REF!"},{"$error":"#REF!"},{"$error":"#REF!"},{"$error":"#REF!"},{"$error":"#REF!"},{"$error":"#REF!"},{"$error":"#REF!"},{"$error":"#REF!"},{"$error":"#REF!"},{"$error":"#REF!"},{"$error":"#REF!"},{"$error":"#REF!"},{"$error":"#REF!"},{"$error":"#REF!"},{"$error":"#REF!"},{"$error":"#REF!"},{"$error":"#REF!"},{"$error":"#REF!"},{"$error":"#REF!"},{"$error":"#REF!"},{"$error":"#REF!"},{"$error":"#REF!"},{"$error":"#REF!"}]
[null,null,null,null,"建物建設費（初期建設費）",null,{"$f":"E9","v":{"$error":"#REF!"}}]
[null,null,"収支計算",null,"建物管理費(募集・管理委託等)",null,null,{"$f":"$G$7*0.05","v":{"$error":"#REF!"}},{"$f":"$G$7*0.05","v":{"$error":"#REF!"}},{"$error":"#REF!"},{"$error":"#REF!"},{"$error":"#REF!"},{"$error":"#REF!"},{"$error":"#REF!"},{"$error":"#REF!"},{"$error":"#REF!"},{"$error":"#REF!"},{"$error":"#REF!"},{"$error":"#REF!"},{"$error":"#REF!"},{"$error":"#REF!"},{"$error":"#REF!"},{"$error":"#REF!"},{"$error":"#REF!"},{"$error":"#REF!"},{"$error":"#REF!"},{"$error":"#REF!"},{"$error":"#REF!"},{"$error":"#REF!"},{"$error":"#REF!"},{"$error":"#REF!"},{"$error":"#REF!"},{"$error":"#REF!"},{"$error":"#REF!"},{"$error":"#REF!"},{"$error":"#REF!"},{"$error":"#REF!"},{"$error":"#REF!"},{"$error":"#REF!"},{"$error":"#REF!"},{"$error":"#REF!"},{"$error":"#REF!"}]
[null,null,null,null,"保険料",null,null,{"$f":"$E$17","v":{"$error":"#REF!"}},{"$f":"$E$17","v":{"$error":"#REF!"}},{"$error":"#REF!"},{"$error":"#REF!"},{"$error":"#REF!"},{"$error":"#REF!"},{"$error":"#REF!"},{"$error":"#REF!"},{"$error":"#REF!"},{"$error":"#REF!"},{"$error":"#REF!"},{"$error":"#REF!"},{"$error":"#REF!"},{"$error":"#REF!"},{"$error":"#REF!"},{"$error":"#REF!"},{"$error":"#REF!"},{"$error":"#REF!"},{"$error":"#REF!"},{"$error":"#REF!"},{"$error":"#REF!"},{"$error":"#REF!"},{"$error":"#REF!"},{"$error":"#REF!"},{"$error":"#REF!"},{"$error":"#REF!"},{"$error":"#REF!"},{"$error":"#REF!"},{"$error":"#REF!"},{"$error":"#REF!"},{"$error":"#REF!"},{"$error":"#REF!"},{"$error":"#REF!"},{"$error":"#REF!"},{"$error":"#REF!"}]
[null,null,null,null,"原状回復費用",null,null,{"$f":"IF(MOD(H33,4)=0,$E$7,\"0\")","v":"0"},"0","0",{"$error":"#REF!"},"0","0","0",{"$error":"#REF!"},"0","0","0",{"$error":"#REF!"},"0","0","0",{"$error":"#REF!"},"0","0","0",{"$error":"#REF!"},"0","0","0",{"$error":"#REF!"},"0","0","0",{"$error":"#REF!"},"0","0","0",{"$error":"#REF!"},"0","0","0"]
[null,null,null,"支出","修繕費","※",null,null,null,null,null,null,null,null,null,null,null,null,null,null,null,null,null,null,null,null,null,null,null,null,null,null,null,null,null,null,null,null,null,null,null,null,null,null,null,null,null,null,null,null,null,null,null,null,null,null,null,null,{"$f":"SUM(H44:BE44)/50","v":0}]
[null,null,null,null,"修繕積立金"]
[null,null,null,null,"借入金返済","※",null,{"$f":"借入金!C12","v":0},{"$f":"借入金!D12","v":0},{"$f":"借入金!E12","v":0},{"$f":"借入金!F12","v":0},{"$f":"借入金!G12","v":0},{"$f":"借入金!H12","v":0},{"$f":"借入金!I12","v":0},{"$f":"借入金!J12","v":0},{"$f":"借入金!K12","v":0},{"$f":"借入金!L12","v":0},{"$f":"借入金!M12","v":0},{"$f":"借入金!N12","v":0},{"$f":"借入金!O12","v":0},{"$f":"借入金!P12","v":0},{"$f":"借入金!Q12","v":0},{"$f":"借入金!R12","v":0},{"$f":"借入金!S12","v":0},{"$f":"借入金!T12","v":0},{"$f":"借入金!U12","v":0},{"$f":"借入金!V12","v":0},{"$f":"借入金!W12","v":0},{"$f":"借入金!X12","v":0},{"$f":"借入金!Y12","v":0},{"$f":"借入金!Z12","v":0},{"$f":"借入金!AA12","v":0},{"$f":"借入金!AB12","v":0},{"$f":"借入金!AC12","v":0},{"$f":"借入金!AD12","v":0},{"$f":"借入金!AE12","v":0},{"$f":"借入金!AF12","v":0}]
[null,null,null,null,"借入金(短期)返済","※"]
[null,null,null,null,"固定資産税・都市計画税","※",null,{"$f":"($E$9+$E$22)*固都税経年率!C5*(0.014+0.003)","v":{"$error":"#REF!"}},{"$f":"($E$9+$E$22)*固都税経年率!D5*(0.014+0.003)","v":{"$error":"#REF!"}},{"$f":"($E$9+$E$22)*固都税経年率!E5*(0.014+0.003)","v":{"$error":"#REF!"}},{"$f":"($E$9+$E$22)*固都税経年率!F5*(0.014+0.003)","v":{"$error":"#REF!"}},{"$f":"($E$9+$E$22)*固都税経年率!G5*(0.014+0.003)","v":{"$error":"#REF!"}},{"$f":"($E$9+$E$22)*固都税経年率!H5*(0.014+0.003)","v":{"$error":"#REF!"}},{"$f":"($E$9+$E$22)*固都税経年率!I5*(0.014+0.003)","v":{"$error":"#REF!"}},{"$f":"($E$9+$E$22)*固都税経年率!J5*(0.014+0.003)","v":{"$error":"#REF!"}},{"$f":"($E$9+$E$22)*固都税経年率!K5*(0.014+0.003)","v":{"$error":"#REF!"}},{"$f":"($E$9+$E$22)*固都税経年率!L5*(0.014+0.003)","v":{"$error":"#REF!"}},{"$f":"($E$9+$E$22)*固都税経年率!M5*(0.014+0.003)","v":{"$error":"#REF!"}},{"$f":"($E$9+$E$22)*固都税経年率!N5*(0.014+0.003)","v":{"$error":"#REF!"}},{"$f":"($E$9+$E$22)*固都税経年率!O5*(0.014+0.003)","v":{"$error":"#REF!"}},{"$f":"($E$9+$E$22)*固都税経年率!P5*(0.014+0.003)","v":{"$error":"#REF!"}},{"$f":"($E$9+$E$22)*固都税経年率!Q5*(0.014+0.003)","v":{"$error":"#REF!"}},{"$f":"($E$9+$E$22)*固都税経年率!R5*(0.014+0.003)","v":{"$error":"#REF!"}},{"$f":"($E$9+$E$22)*固都税経年率!S5*(0.014+0.003)","v":{"$error":"#REF!"}},{"$f":"($E$9+$E$22)*固都税経年率!T5*(0.014+0.003)","v":{"$error":"#REF!"}},{"$f":"($E$9+$E$22)*固都税経年率!U5*(0.014+0.003)","v":{"$error":"#REF!"}},{"$f":"($E$9+$E$22)*固都税経年率!V5*(0.014+0.003)","v":{"$error":"#REF!"}},{"$f":"($E$9+$E$22)*固都税経年率!W5*(0.014+0.003)","v":{"$error":"#REF!"}},{"$f":"($E$9+$E$22)*固都税経年率!X5*(0.014+0.003)","v":{"$error":"#REF!"}},{"$f":"($E$9+$E$22)*固都税経年率!Y5*(0.014+0.003)","v":{"$error":"#REF!"}},{"$f":"($E$9+$E$22)*固都税経年率!Z5*(0.014+0.003)","v":{"$error":"#REF!"}},{"$f":"($E$9+$E$22)*固都税経年率!AA5*(0.014+0.003)","v":{"$error":"#REF!"}},{"$f":"($E$9+$E$22)*固都税経年率!AB5*(0.014+0.003)","v":{"$error":"#REF!"}},{"$f":"($E$9+$E$22)*固都税経年率!AC5*(0.014+0.003)","v":{"$error":"#REF!"}},{"$f":"($E$9+$E$22)*固都税経年率!AD5*(0.014+0.003)","v":{"$error":"#REF!"}},{"$f":"($E$9+$E$22)*固都税経年率!AE5*(0.014+0.003)","v":{"$error":"#REF!"}},{"$f":"($E$9+$E$22)*固都税経年率!AF5*(0.014+0.003)","v":{"$error":"#REF!"}},{"$f":"($E$9+$E$22)*固都税経年率!AG5*(0.014+0.003)","v":{"$error":"#REF!"}},{"$f":"($E$9+$E$22)*固都税経年率!AH5*(0.014+0.003)","v":{"$error":"#REF!"}},{"$f":"($E$9+$E$22)*固都税経年率!AI5*(0.014+0.003)","v":{"$error":"#REF!"}},{"$f":"($E$9+$E$22)*固都税経年率!AJ5*(0.014+0.003)","v":{"$error":"#REF!"}},{"$f":"($E$9+$E$22)*固都税経年率!AK5*(0.014+0.003)","v":{"$error":"#REF!"}}]
[null,null,null,null,"所得税等",null,null,{"$f":"MAX(H65*0.33,0)","v":{"$error":"#REF!"}},{"$f":"MAX(I65*0.33,0)","v":{"$error":"#REF!"}},{"$error":"#REF!"},{"$error":"#REF!"},{"$error":"#REF!"},{"$error":"#REF!"},{"$error":"#REF!"},{"$error":"#REF!"},{"$error":"#REF!"},{"$error":"#REF!"},{"$error":"#REF!"},{"$error":"#REF!"},{"$error":"#REF!"},{"$error":"#REF!"},{"$error":"#REF!"},{"$error":"#REF!"},{"$error":"#REF!"},{"$error":"#REF!"},{"$error":"#REF!"},{"$error":"#REF!"},{"$error":"#REF!"},{"$error":"#REF!"},{"$error":"#REF!"},{"$error":"#REF!"},{"$error":"#REF!"},{"$error":"#REF!"},{"$error":"#REF!"},{"$error":"#REF!"},{"$error":"#REF!"},{"$error":"#REF!"},{"$error":"#REF!"},{"$error":"#REF!"},{"$error":"#REF!"},{"$error":"#REF!"},{"$error":"#REF!"}]
[null,null,null,null,"支出計",null,{"$f":"SUM(G40:G49)","v":{"$error":"#REF!"}},{"$f":"SUM(H40:H49)","v":{"$error":"#REF!"}},{"$error":"#REF!"},{"$error":"#REF!"},{"$error":"#REF!"},{"$error":"#REF!"},{"$error":"#REF!"},{"$error":"#REF!"},{"$error":"#REF!"},{"$error":"#REF!"},{"$error":"#REF!"},{"$error":"#REF!"},{"$error":"#REF!"},{"$error":"#REF!"},{"$error":"#REF!"},{"$error":"#REF!"},{"$error":"#REF!"},{"$error":"#REF!"},{"$error":"#REF!"},{"$error":"#REF!"},{"$error":"#REF!"},{"$error":"#REF!"},{"$error":"#REF!"},{"$error":"#REF!"},{"$error":"#REF!"},{"$error":"#REF!"},{"$error":"#REF!"},{"$error":"#REF!"},{"$error":"#REF!"},{"$error":"#REF!"},{"$error":"#REF!"},{"$error":"#REF!"},{"$error":"#REF!"},{"$error":"#REF!"},{"$error":"#REF!"},{"$error":"#REF!"}]
[null,null,null,"収支","手元資金残金（年）",null,{"$f":"G39-G50","v":{"$error":"#REF!"}},{"$f":"H39-H50","v":{"$error":"#REF!"}},{"$error":"#REF!"},{"$error":"#REF!"},{"$error":"#REF!"},{"$error":"#REF!"},{"$error":"#REF!"},{"$error":"#REF!"},{"$error":"#REF!"},{"$error":"#REF!"},{"$error":"#REF!"},{"$error":"#REF!"},{"$error":"#REF!"},{"$error":"#REF!"},{"$error":"#REF!"},{"$error":"#REF!"},{"$error":"#REF!"},{"$error":"#REF!"},{"$error":"#REF!"},{"$error":"#REF!"},{"$error":"#REF!"},{"$error":"#REF!"},{"$error":"#REF!"},{"$error":"#REF!"},{"$error":"#REF!"},{"$error":"#REF!"},{"$error":"#REF!"},{"$error":"#REF!"},{"$error":"#REF!"},{"$error":"#REF!"},{"$error":"#REF!"},{"$error":"#REF!"},{"$error":"#REF!"},{"$error":"#REF!"},{"$error":"#REF!"},{"$error":"#REF!"}]
[null,null,null,null,"手元資金残金（累計）",null,{"$f":"-1*G39","v":{"$error":"#REF!"}},{"$f":"G52+H51","v":{"$error":"#REF!"}},{"$f":"H52+I51","v":{"$error":"#REF!"}},{"$error":"#REF!"},{"$error":"#REF!"},{"$error":"#REF!"},{"$error":"#REF!"},{"$error":"#REF!"},{"$error":"#REF!"},{"$error":"#REF!"},{"$error":"#REF!"},{"$error":"#REF!"},{"$error":"#REF!"},{"$error":"#REF!"},{"$error":"#REF!"},{"$error":"#REF!"},{"$error":"#REF!"},{"$error":"#REF!"},{"$error":"#REF!"},{"$error":"#REF!"},{"$error":"#REF!"},{"$error":"#REF!"},{"$error":"#REF!"},{"$error":"#REF!"},{"$error":"#REF!"},{"$error":"#REF!"},{"$error":"#REF!"},{"$error":"#REF!"},{"$error":"#REF!"},{"$error":"#REF!"},{"$error":"#REF!"},{"$error":"#REF!"},{"$error":"#REF!"},{"$error":"#REF!"},{"$error":"#REF!"},{"$error":"#REF!"}]
[null,null,null,"収益","（収入計：修繕積立金取崩し除く)",null,null,{"$f":"H34","v":{"$error":"#REF!"}},{"$f":"I34","v":{"$error":"#REF!"}},{"$error":"#REF!"},{"$error":"#REF!"},{"$error":"#REF!"},{"$error":"#REF!"},{"$error":"#REF!"},{"$error":"#REF!"},{"$error":"#REF!"},{"$error":"#REF!"},{"$error":"#REF!"},{"$error":"#REF!"},{"$error":"#REF!"},{"$error":"#REF!"},{"$error":"#REF!"},{"$error":"#REF!"},{"$error":"#REF!"},{"$error":"#REF!"},{"$error":"#REF!"},{"$error":"#REF!"},{"$error":"#REF!"},{"$error":"#REF!"},{"$error":"#REF!"},{"$error":"#REF!"},{"$error":"#REF!"},{"$error":"#REF!"},{"$error":"#REF!"},{"$error":"#REF!"},{"$error":"#REF!"},{"$error":"#REF!"},{"$error":"#REF!"},{"$error":"#REF!"},{"$error":"#REF!"},{"$error":"#REF!"},{"$error":"#REF!"}]
[null,null,null,null,"建物管理費(募集・管理委託等)",null,null,{"$f":"$G$7*0.05","v":{"$error":"#REF!"}},{"$f":"$G$7*0.05","v":{"$error":"#REF!"}},{"$error":"#REF!"},{"$error":"#REF!"},{"$error":"#REF!"},{"$error":"#REF!"},{"$error":"#REF!"},{"$error":"#REF!"},{"$error":"#REF!"},{"$error":"#REF!"},{"$f":"$G$7*0.05","v":{"$error":"#REF!"}},{"$error":"#REF!"},{"$error":"#REF!"},{"$error":"#REF!"},{"$error":"#REF!"},{"$error":"#REF!"},{"$error":"#REF!"},{"$error":"#REF!"},{"$error":"#REF!"},{"$error":"#REF!"},{"$error":"#REF!"},{"$error":"#REF!"},{"$error":"#REF!"},{"$error":"#REF!"},{"$error":"#REF!"},{"$error":"#REF!"},{"$error":"#REF!"},{"$error":"#REF!"},{"$error":"#REF!"},{"$error":"#REF!"},{"$error":"#REF!"},{"$error":"#REF!"},{"$error":"#REF!"},{"$error":"#REF!"},{"$error":"#REF!"}]
[null,null,"P/L","営業費用","修繕費",null,null,{"$f":"H44","v":0},{"$f":"I44","v":0},0,0,0,0,0,0,0,0,0,0,0,0,0,0,0,0,0,0,0,0,0,0,0,0,0,0,0,0,0,0,0,0,0]
[null,null,"損益計算",null,"保険料",null,null,{"$f":"H42","v":{"$error":"#REF!"}},{"$error":"#REF!"},{"$error":"#REF!"},{"$error":"#REF!"},{"$error":"#REF!"},{"$error":"#REF!"},{"$error":"#REF!"},{"$error":"#REF!"},{"$error":"#REF!"},{"$error":"#REF!"},{"$error":"#REF!"},{"$error":"#REF!"},{"$error":"#REF!"},{"$error":"#REF!"},{"$error":"#REF!"},{"$error":"#REF!"},{"$error":"#REF!"},{"$error":"#REF!"},{"$error":"#REF!"},{"$error":"#REF!"},{"$error":"#REF!"},{"$error":"#REF!"},{"$error":"#REF!"},{"$error":"#REF!"},{"$error":"#REF!"},{"$error":"#REF!"},{"$error":"#REF!"},{"$error":"#REF!"},{"$error":"#REF!"},{"$error":"#REF!"},{"$error":"#REF!"},{"$error":"#REF!"},{"$error":"#REF!"},{"$error":"#REF!"},{"$error":"#REF!"}]
[null,null,null,null,"固定資産税・都市計画税",null,null,{"$f":"H48","v":{"$error":"#REF!"}},{"$error":"#REF!"},{"$error":"#REF!"},{"$error":"#REF!"},{"$error":"#REF!"},{"$error":"#REF!"},{"$error":"#REF!"},{"$error":"#REF!"},{"$error":"#REF!"},{"$error":"#REF!"},{"$error":"#REF!"},{"$error":"#REF!"},{"$error":"#REF!"},{"$error":"#REF!"},{"$error":"#REF!"},{"$error":"#REF!"},{"$error":"#REF!"},{"$error":"#REF!"},{"$error":"#REF!"},{"$error":"#REF!"},{"$error":"#REF!"},{"$error":"#REF!"},{"$error":"#REF!"},{"$error":"#REF!"},{"$error":"#REF!"},{"$error":"#REF!"},{"$error":"#REF!"},{"$error":"#REF!"},{"$error":"#REF!"},{"$error":"#REF!"},{"$error":"#REF!"},{"$error":"#REF!"},{"$error":"#REF!"},{"$error":"#REF!"},{"$error":"#REF!"}]
[null,null,null,null,"修繕積立金"]
[null,null,null,null,"営業費用計",null,null,{"$f":"SUM(H54:H58)","v":{"$error":"#REF!"}},{"$f":"SUM(I54:I58)","v":{"$error":"#REF!"}},{"$error":"#REF!"},{"$error":"#REF!"},{"$error":"#REF!"},{"$error":"#REF!"},{"$error":"#REF!"},{"$error":"#REF!"},{"$error":"#REF!"},{"$error":"#REF!"},{"$error":"#REF!"},{"$error":"#REF!"},{"$error":"#REF!"},{"$error":"#REF!"},{"$error":"#REF!"},{"$error":"#REF!"},{"$error":"#REF!"},{"$error":"#REF!"},{"$error":"#REF!"},{"$error":"#REF!"},{"$error":"#REF!"},{"$error":"#REF!"},{"$error":"#REF!"},{"$error":"#REF!"},{"$error":"#REF!"},{"$error":"#REF!"},{"$error":"#REF!"},{"$error":"#REF!"},{"$error":"#REF!"},{"$error":"#REF!"},{"$error":"#REF!"},{"$error":"#REF!"},{"$error":"#REF!"},{"$error":"#REF!"},{"$error":"#REF!"}]
[null,null,null,"償却前利益","（営業収入と同値）",null,null,{"$f":"H53-H59","v":{"$error":"#REF!"}},{"$f":"I53-I59","v":{"$error":"#REF!"}},{"$error":"#REF!"},{"$error":"#REF!"},{"$error":"#REF!"},{"$error":"#REF!"},{"$error":"#REF!"},{"$error":"#REF!"},{"$error":"#REF!"},{"$error":"#REF!"},{"$error":"#REF!"},{"$error":"#REF!"},{"$error":"#REF!"},{"$error":"#REF!"},{"$error":"#REF!"},{"$error":"#REF!"},{"$error":"#REF!"},{"$error":"#REF!"},{"$error":"#REF!"},{"$error":"#REF!"},{"$error":"#REF!"},{"$error":"#REF!"},{"$error":"#REF!"},{"$error":"#REF!"},{"$error":"#REF!"},{"$error":"#REF!"},{"$error":"#REF!"},{"$error":"#REF!"},{"$error":"#REF!"},{"$error":"#REF!"},{"$error":"#REF!"},{"$error":"#REF!"},{"$error":"#REF!"},{"$error":"#REF!"},{"$error":"#REF!"}]
[null,null,null,null,"減価償却費(定額法)",null,null,{"$f":"$E$9*$E$26","v":{"$error":"#REF!"}},{"$f":"$E$9*$E$26","v":{"$error":"#REF!"}},{"$error":"#REF!"},{"$error":"#REF!"},{"$error":"#REF!"},{"$error":"#REF!"},{"$error":"#REF!"},{"$error":"#REF!"},{"$error":"#REF!"},{"$error":"#REF!"},{"$error":"#REF!"},{"$error":"#REF!"},{"$error":"#REF!"},{"$error":"#REF!"},{"$error":"#REF!"},{"$error":"#REF!"},{"$error":"#REF!"},{"$error":"#REF!"},{"$error":"#REF!"},{"$error":"#REF!"},{"$error":"#REF!"},{"$error":"#REF!"},null,null,null,null,null,null,null,null,null,null,null,null,null,null,null,null,null,null,null,null,null,null,null,null,null,null,null,null,"← 注意　22年まで"]
[null,null,null,"営業外費用","支払利息","※",null,{"$f":"借入金!C11","v":0},{"$f":"借入金!D11","v":0},{"$f":"借入金!E11","v":0},{"$f":"借入金!F11","v":0},{"$f":"借入金!G11","v":0},{"$f":"借入金!H11","v":0},{"$f":"借入金!I11","v":0},{"$f":"借入金!J11","v":0},{"$f":"借入金!K11","v":0},{"$f":"借入金!L11","v":0},{"$f":"借入金!M11","v":0},{"$f":"借入金!N11","v":0},{"$f":"借入金!O11","v":0},{"$f":"借入金!P11","v":0},{"$f":"借入金!Q11","v":0},{"$f":"借入金!R11","v":0},{"$f":"借入金!S11","v":0},{"$f":"借入金!T11","v":0},{"$f":"借入金!U11","v":0},{"$f":"借入金!V11","v":0},{"$f":"借入金!W11","v":0},{"$f":"借入金!X11","v":0},{"$f":"借入金!Y11","v":0},{"$f":"借入金!Z11","v":0},{"$f":"借入金!AA11","v":0},{"$f":"借入金!AB11","v":0},{"$f":"借入金!AC11","v":0},{"$f":"借入金!AD11","v":0},{"$f":"借入金!AE11","v":0},{"$f":"借入金!AF11","v":0}]
[null,null,null,null,"支払利息(短期分)","※"]
[null,null,null,null,"営業外費用計",null,null,{"$f":"SUM(H61:H63)","v":{"$error":"#REF!"}},{"$f":"SUM(I61:I63)","v":{"$error":"#REF!"}},{"$error":"#REF!"},{"$error":"#REF!"},{"$error":"#REF!"},{"$error":"#REF!"},{"$error":"#REF!"},{"$error":"#REF!"},{"$error":"#REF!"},{"$error":"#REF!"},{"$error":"#REF!"},{"$error":"#REF!"},{"$error":"#REF!"},{"$error":"#REF!"},{"$error":"#REF!"},{"$error":"#REF!"},{"$error":"#REF!"},{"$error":"#REF!"},{"$error":"#REF!"},{"$error":"#REF!"},{"$error":"#REF!"},{"$error":"#REF!"},0,0,0,0,0,0,0,0,0,0,0,0,0]
[null,null,null,"税引前利益(償却後利益)",null,null,null,{"$f":"H60-H64","v":{"$error":"#REF!"}},{"$error":"#REF!"},{"$error":"#REF!"},{"$error":"#REF!"},{"$error":"#REF!"},{"$error":"#REF!"},{"$error":"#REF!"},{"$error":"#REF!"},{"$error":"#REF!"},{"$error":"#REF!"},{"$error":"#REF!"},{"$error":"#REF!"},{"$error":"#REF!"},{"$error":"#REF!"},{"$error":"#REF!"},{"$error":"#REF!"},{"$error":"#REF!"},{"$error":"#REF!"},{"$error":"#REF!"},{"$error":"#REF!"},{"$error":"#REF!"},{"$error":"#REF!"},{"$error":"#REF!"},{"$error":"#REF!"},{"$error":"#REF!"},{"$error":"#REF!"},{"$error":"#REF!"},{"$error":"#REF!"},{"$error":"#REF!"},{"$error":"#REF!"},{"$error":"#REF!"},{"$error":"#REF!"},{"$error":"#REF!"},{"$error":"#REF!"},{"$error":"#REF!"}]
[null,null,null," 所得税",null,null,null,{"$f":"MAX(H65*0.33,0)","v":{"$error":"#REF!"}},{"$f":"MAX(I65*0.33,0)","v":{"$error":"#REF!"}},{"$error":"#REF!"},{"$error":"#REF!"},{"$error":"#REF!"},{"$error":"#REF!"},{"$error":"#REF!"},{"$error":"#REF!"},{"$error":"#REF!"},{"$error":"#REF!"},{"$error":"#REF!"},{"$error":"#REF!"},{"$error":"#REF!"},{"$error":"#REF!"},{"$error":"#REF!"},{"$error":"#REF!"},{"$error":"#REF!"},{"$error":"#REF!"},{"$error":"#REF!"},{"$error":"#REF!"},{"$error":"#REF!"},{"$error":"#REF!"},{"$error":"#REF!"},{"$error":"#REF!"},{"$error":"#REF!"},{"$error":"#REF!"},{"$error":"#REF!"},{"$error":"#REF!"},{"$error":"#REF!"},{"$error":"#REF!"},{"$error":"#REF!"},{"$error":"#REF!"},{"$error":"#REF!"},{"$error":"#REF!"},{"$error":"#REF!"}]
[null,null,null,"当期利益",null,null,null,{"$f":"H65-H66","v":{"$error":"#REF!"}},{"$f":"I65-I66","v":{"$error":"#REF!"}},{"$error":"#REF!"},{"$error":"#REF!"},{"$error":"#REF!"},{"$error":"#REF!"},{"$error":"#REF!"},{"$error":"#REF!"},{"$error":"#REF!"},{"$error":"#REF!"},{"$error":"#REF!"},{"$error":"#REF!"},{"$error":"#REF!"},{"$error":"#REF!"},{"$error":"#REF!"},{"$error":"#REF!"},{"$error":"#REF!"},{"$error":"#REF!"},{"$error":"#REF!"},{"$error":"#REF!"},{"$error":"#REF!"},{"$error":"#REF!"},{"$error":"#REF!"},{"$error":"#REF!"},{"$error":"#REF!"},{"$error":"#REF!"},{"$error":"#REF!"},{"$error":"#REF!"},{"$error":"#REF!"},{"$error":"#REF!"},{"$error":"#REF!"},{"$error":"#REF!"},{"$error":"#REF!"},{"$error":"#REF!"},{"$error":"#REF!"}]
[null,null,null,"当期利益累計",null,null,null,{"$f":"H67","v":{"$error":"#REF!"}},{"$f":"H68+I67","v":{"$error":"#REF!"}},{"$f":"I68+J67","v":{"$error":"#REF!"}},{"$error":"#REF!"},{"$error":"#REF!"},{"$error":"#REF!"},{"$error":"#REF!"},{"$error":"#REF!"},{"$error":"#REF!"},{"$error":"#REF!"},{"$error":"#REF!"},{"$error":"#REF!"},{"$error":"#REF!"},{"$error":"#REF!"},{"$error":"#REF!"},{"$error":"#REF!"},{"$error":"#REF!"},{"$error":"#REF!"},{"$error":"#REF!"},{"$error":"#REF!"},{"$error":"#REF!"},{"$error":"#REF!"},{"$error":"#REF!"},{"$error":"#REF!"},{"$error":"#REF!"},{"$error":"#REF!"},{"$error":"#REF!"},{"$error":"#REF!"},{"$error":"#REF!"},{"$error":"#REF!"},{"$error":"#REF!"},{"$error":"#REF!"},{"$error":"#REF!"},{"$error":"#REF!"},{"$error":"#REF!"}]
[null,null,null,"投下資本未回収残高(積立金除く)",null,null,{"$f":"-1*G50","v":{"$error":"#REF!"}},{"$f":"G69+IF(H51>0,H51,0)-SUM(H36:H37)","v":{"$error":"#REF!"}},{"$error":"#REF!"},{"$error":"#REF!"},{"$error":"#REF!"},{"$error":"#REF!"},{"$error":"#REF!"},{"$error":"#REF!"},{"$error":"#REF!"},{"$error":"#REF!"},{"$error":"#REF!"},{"$error":"#REF!"},{"$error":"#REF!"},{"$error":"#REF!"},{"$error":"#REF!"},{"$error":"#REF!"},{"$error":"#REF!"},{"$error":"#REF!"},{"$error":"#REF!"},{"$error":"#REF!"},{"$error":"#REF!"},{"$error":"#REF!"},{"$error":"#REF!"},{"$error":"#REF!"},{"$error":"#REF!"},{"$error":"#REF!"},{"$error":"#REF!"},{"$error":"#REF!"},{"$error":"#REF!"},{"$error":"#REF!"},{"$error":"#REF!"},{"$error":"#REF!"},{"$error":"#REF!"},{"$f":"AM69+IF(AN51>0,AN51,0)-SUM(AN36:AN37)","v":{"$error":"#REF!"}},{"$error":"#REF!"},{"$error":"#REF!"}]
[null,null,null,"修繕積立金累計額",null,null,null,{"$f":"G70+H45-H38","v":0},0,0,0,0,0,0,0,0,0,0,0,0,0,0,0,0,0,0,0,0,0,0,0,0,0,0,0,0,0,0,0,{"$f":"AM70+AN45-AN38","v":0},0,0]
[null,null,null,null,null,"※は別シートとリンク"]

{"sheet":"W1修繕あり-積立なし-短期融資","index":9,"n_rows":71,"n_cols":59,"rows_kept":71,"cut":false,"hidden":true,"merged":[[69,3,69,4],[68,3,68,4],[59,3,59,4],[64,3,64,4],[65,3,65,4],[66,3,66,4],[67,3,67,4]]}
[]
[]
[null,null,{"$f":"#REF!","v":{"$error":"#REF!"}},{"$f":"#REF!","v":{"$error":"#REF!"}},{"$f":"#REF!","v":{"$error":"#REF!"}}]
[null,null,{"$f":"#REF!","v":{"$error":"#REF!"}},{"$f":"#REF!","v":{"$error":"#REF!"}},{"$f":"#REF!","v":{"$error":"#REF!"}}]
[null,null,null,null,{"$f":"#REF!","v":{"$error":"#REF!"}}]
[null,null,"戸数",null,{"$f":"#REF!","v":{"$error":"#REF!"}}]
[null,null,"家賃(万円/月)",null,{"$f":"#REF!","v":{"$error":"#REF!"}},null,{"$f":"E6*E7*12","v":{"$error":"#REF!"}},"満室時賃料",null,"建設費"]
[null,null,"駐車場(万円/月)",null,{"$f":"#REF!","v":{"$error":"#REF!"}},null,null,null,null,"大都市部",{"$f":"#REF!","v":{"$error":"#REF!"}}]
[null,null,"建物建設費(万円)",null,{"$f":"#REF!","v":{"$error":"#REF!"}},"設備等込",null,null,null,"地方部",{"$f":"#REF!","v":{"$error":"#REF!"}}]
[null,null,null,null,null,null,null,null,null,"調整比率",{"$f":"#REF!","v":{"$error":"#REF!"}},"※地方部で使用"]
[null,null,"自己資金",null,{"$f":"#REF!","v":{"$error":"#REF!"}},null,null,null,null,null,null,null,null,null,"　"]
[null,null,"銀行借り入れ",null,{"$f":"#REF!","v":{"$error":"#REF!"}}]
[null,null,"返済期間",null,{"$f":"#REF!","v":{"$error":"#REF!"}}]
[null,null,"金利",null,{"$f":"#REF!","v":{"$error":"#REF!"}}]
[]
[null,null,"建物管理",null,{"$f":"#REF!","v":{"$error":"#REF!"}},"満室賃料に対して"]
[null,null,"保険料(万円/年)",null,{"$f":"#REF!","v":{"$error":"#REF!"}}]
[null,null,"建築面積","㎡",{"$f":"#REF!","v":{"$error":"#REF!"}},null,"延べ床面積",{"$f":"#REF!","v":{"$error":"#REF!"}},{"$f":"#REF!","v":{"$error":"#REF!"}},{"$f":"#REF!","v":{"$error":"#REF!"}},"万円"]
[null,null,"敷地面積","㎡",{"$f":"#REF!","v":{"$error":"#REF!"}}]
[null,null,"土地単価","万円/㎡",{"$f":"#REF!","v":{"$error":"#REF!"}}]
[null,null,"土地価格",null,{"$f":"#REF!","v":{"$error":"#REF!"}},"計算"]
[null,null,"土地　課税標準",null,{"$f":"#REF!","v":{"$error":"#REF!"}},"計算"]
[null,null,"大規模修繕",null,{"$f":"#REF!","v":{"$error":"#REF!"}}]
[null,null,"修繕費積立"]
[null,null,"減価償却率","RC　47年",{"$f":"#REF!","v":{"$error":"#REF!"}}]
[null,null,null,"W　22年",{"$f":"#REF!","v":{"$error":"#REF!"}}]
[null,null,null,null,null,null,"実収入率",0.95,0.95,0.95,0.95,0.95,{"$f":"L27-0.01","v":0.94},{"$f":"M27-0.01","v":0.92999999999999994},0.91999999999999993,0.90999999999999992,0.89999999999999991,{"$f":"Q27+0.05","v":0.95},{"$f":"R27-0.01","v":0.94},0.92999999999999994,0.91999999999999993,0.90999999999999992,{"$f":"V27+0.04","v":0.95},{"$f":"W27-0.01","v":0.94},0.92999999999999994,0.91999999999999993,0.90999999999999992,{"$f":"AA27+0.04","v":0.95},{"$f":"AB27-0.01","v":0.94},0.92999999999999994,0.91999999999999993,0.90999999999999992,{"$f":"AF27+0.04","v":0.95},{"$f":"AG27-0.01","v":0.94},0.92999999999999994,0.91999999999999993,0.90999999999999992,{"$f":"AK27+0.04","v":0.95},{"$f":"AL27-0.01","v":0.94},0.92999999999999994,0.91999999999999993,0.90999999999999992]
[]
[null,null,null,null,null,null,"銀行借入（短期）",null,null,null,null,null,null,null,null,null,null,null,null,null,null,150,null,null,null,null,null,null,null,null,null,400]
[]
[]
[null,null,null,null,null,null,null,null,null,"（単位：万円）"]
[null,null,null,null,"（単位：万円）",null,0,1,{"$f":"H33+1","v":2},{"$f":"I33+1","v":3},4,5,6,7,8,9,10,11,12,13,14,15,16,17,18,19,20,21,22,23,24,25,26,27,28,29,30,31,32,33,34,35]
[null,null,null,"収入","家賃収入",null,null,{"$f":"$G$7*H27","v":{"$error":"#REF!"}},{"$f":"$G$7*I27","v":{"$error":"#REF!"}},{"$error":"#REF!"},{"$error":"#REF!"},{"$error":"#REF!"},{"$error":"#REF!"},{"$error":"#REF!"},{"$error":"#REF!"},{"$error":"#REF!"},{"$error":"#REF!"},{"$error":"#REF!"},{"$error":"#REF!"},{"$error":"#REF!"},{"$error":"#REF!"},{"$error":"#REF!"},{"$error":"#REF!"},{"$error":"#REF!"},{"$error":"#REF!"},{"$error":"#REF!"},{"$error":"#REF!"},{"$error":"#REF!"},{"$error":"#REF!"},{"$error":"#REF!"},{"$error":"#REF!"},{"$error":"#REF!"},{"$error":"#REF!"},{"$error":"#REF!"},{"$error":"#REF!"},{"$error":"#REF!"},{"$error":"#REF!"},{"$error":"#REF!"},{"$error":"#REF!"},{"$error":"#REF!"},{"$error":"#REF!"},{"$error":"#REF!"}]
[null,null,null,null,"銀行借入（長期）",null,{"$f":"E12","v":{"$error":"#REF!"}}]
[null,null,null,null,"銀行借入（短期）",null,null,null,null,null,null,null,null,null,null,null,null,null,null,null,null,{"$f":"V29","v":150},null,null,null,null,null,null,null,null,null,{"$f":"AF29","v":400}]
[null,null,null,null,"自己資金",null,{"$f":"E11","v":{"$error":"#REF!"}},null,null,null,null,null,null,null,null,null,null,null,null,null,null,{"$f":"V30","v":0},null,null,null,null,null,null,null,null,null,{"$f":"AF30","v":0}]
[null,null,null,null,"(修繕積立金　取り崩し）",null,null,{"$f":"IF((H43+H44)>G70,G70,(H43+H44))","v":{"$error":"#REF!"}},{"$error":"#REF!"},{"$error":"#REF!"},{"$error":"#REF!"},{"$error":"#REF!"},{"$error":"#REF!"},{"$error":"#REF!"},{"$error":"#REF!"},{"$error":"#REF!"},{"$error":"#REF!"},{"$error":"#REF!"},{"$error":"#REF!"},{"$error":"#REF!"},{"$error":"#REF!"},{"$error":"#REF!"},{"$error":"#REF!"},{"$error":"#REF!"},{"$error":"#REF!"},{"$error":"#REF!"},{"$error":"#REF!"},{"$error":"#REF!"},{"$error":"#REF!"},{"$error":"#REF!"},{"$error":"#REF!"},{"$error":"#REF!"},{"$error":"#REF!"},{"$error":"#REF!"},{"$error":"#REF!"},{"$error":"#REF!"},{"$error":"#REF!"},{"$error":"#REF!"},{"$error":"#REF!"},{"$f":"IF((AN43+AN44)>AM70,AM70,(AN43+AN44))","v":{"$error":"#REF!"}},{"$error":"#REF!"},{"$error":"#REF!"}]
[null,null,null,null,"収入計",null,{"$f":"SUM(G34:G38)","v":{"$error":"#REF!"}},{"$f":"SUM(H34:H38)","v":{"$error":"#REF!"}},{"$f":"SUM(I34:I38)","v":{"$error":"#REF!"}},{"$error":"#REF!"},{"$error":"#REF!"},{"$error":"#REF!"},{"$error":"#REF!"},{"$error":"#REF!"},{"$error":"#REF!"},{"$error":"#REF!"},{"$error":"#REF!"},{"$error":"#REF!"},{"$error":"#REF!"},{"$error":"#REF!"},{"$error":"#REF!"},{"$error":"#REF!"},{"$error":"#REF!"},{"$error":"#REF!"},{"$error":"#REF!"},{"$error":"#REF!"},{"$error":"#REF!"},{"$error":"#REF!"},{"$error":"#REF!"},{"$error":"#REF!"},{"$error":"#REF!"},{"$error":"#REF!"},{"$error":"#REF!"},{"$error":"#REF!"},{"$error":"#REF!"},{"$error":"#REF!"},{"$error":"#REF!"},{"$error":"#REF!"},{"$error":"#REF!"},{"$error":"#REF!"},{"$error":"#REF!"},{"$error":"#REF!"}]
[null,null,null,null,"建物建設費（初期建設費）",null,{"$f":"E9","v":{"$error":"#REF!"}}]
[null,null,"収支計算",null,"建物管理費(募集・管理委託等)",null,null,{"$f":"$G$7*0.05","v":{"$error":"#REF!"}},{"$f":"$G$7*0.05","v":{"$error":"#REF!"}},{"$error":"#REF!"},{"$error":"#REF!"},{"$error":"#REF!"},{"$error":"#REF!"},{"$error":"#REF!"},{"$error":"#REF!"},{"$error":"#REF!"},{"$error":"#REF!"},{"$error":"#REF!"},{"$error":"#REF!"},{"$error":"#REF!"},{"$error":"#REF!"},{"$error":"#REF!"},{"$error":"#REF!"},{"$error":"#REF!"},{"$error":"#REF!"},{"$error":"#REF!"},{"$error":"#REF!"},{"$error":"#REF!"},{"$error":"#REF!"},{"$error":"#REF!"},{"$error":"#REF!"},{"$error":"#REF!"},{"$error":"#REF!"},{"$error":"#REF!"},{"$error":"#REF!"},{"$error":"#REF!"},{"$error":"#REF!"},{"$error":"#REF!"},{"$error":"#REF!"},{"$error":"#REF!"},{"$error":"#REF!"},{"$error":"#REF!"}]
[null,null,null,null,"保険料",null,null,{"$f":"$E$17","v":{"$error":"#REF!"}},{"$f":"$E$17","v":{"$error":"#REF!"}},{"$error":"#REF!"},{"$error":"#REF!"},{"$error":"#REF!"},{"$error":"#REF!"},{"$error":"#REF!"},{"$error":"#REF!"},{"$error":"#REF!"},{"$error":"#REF!"},{"$error":"#REF!"},{"$error":"#REF!"},{"$error":"#REF!"},{"$error":"#REF!"},{"$error":"#REF!"},{"$error":"#REF!"},{"$error":"#REF!"},{"$error":"#REF!"},{"$error":"#REF!"},{"$error":"#REF!"},{"$error":"#REF!"},{"$error":"#REF!"},{"$error":"#REF!"},{"$error":"#REF!"},{"$error":"#REF!"},{"$error":"#REF!"},{"$error":"#REF!"},{"$error":"#REF!"},{"$error":"#REF!"},{"$error":"#REF!"},{"$error":"#REF!"},{"$error":"#REF!"},{"$error":"#REF!"},{"$error":"#REF!"},{"$error":"#REF!"}]
[null,null,null,null,"原状回復費用",null,null,{"$f":"IF(MOD(H33,4)=0,$E$7,\"0\")","v":"0"},"0","0",{"$error":"#REF!"},"0","0","0",{"$error":"#REF!"},"0","0","0",{"$error":"#REF!"},"0","0","0",{"$error":"#REF!"},"0","0","0",{"$error":"#REF!"},"0","0","0",{"$error":"#REF!"},"0","0","0",{"$error":"#REF!"},"0","0","0",{"$error":"#REF!"},"0","0","0"]
[null,null,null,"支出","修繕費","※",null,{"$f":"#REF!*$E$6/10000","v":{"$error":"#REF!"}},{"$f":"#REF!*$E$6/10000","v":{"$error":"#REF!"}},{"$f":"#REF!*$E$6/10000","v":{"$error":"#REF!"}},{"$f":"#REF!*$E$6/10000","v":{"$error":"#REF!"}},{"$f":"#REF!*$E$6/10000","v":{"$error":"#REF!"}},{"$f":"#REF!*$E$6/10000","v":{"$error":"#REF!"}},{"$f":"#REF!*$E$6/10000","v":{"$error":"#REF!"}},{"$f":"#REF!*$E$6/10000","v":{"$error":"#REF!"}},{"$f":"#REF!*$E$6/10000","v":{"$error":"#REF!"}},{"$f":"#REF!*$E$6/10000","v":{"$error":"#REF!"}},{"$f":"#REF!*$E$6/10000","v":{"$error":"#REF!"}},{"$f":"#REF!*$E$6/10000","v":{"$error":"#REF!"}},{"$f":"#REF!*$E$6/10000","v":{"$error":"#REF!"}},{"$f":"#REF!*$E$6/10000","v":{"$error":"#REF!"}},{"$f":"#REF!*$E$6/10000","v":{"$error":"#REF!"}},{"$f":"#REF!*$E$6/10000","v":{"$error":"#REF!"}},{"$f":"#REF!*$E$6/10000","v":{"$error":"#REF!"}},{"$f":"#REF!*$E$6/10000","v":{"$error":"#REF!"}},{"$f":"#REF!*$E$6/10000","v":{"$error":"#REF!"}},{"$f":"#REF!*$E$6/10000","v":{"$error":"#REF!"}},{"$f":"#REF!*$E$6/10000","v":{"$error":"#REF!"}},{"$f":"#REF!*$E$6/10000","v":{"$error":"#REF!"}},{"$f":"#REF!*$E$6/10000","v":{"$error":"#REF!"}},{"$f":"#REF!*$E$6/10000","v":{"$error":"#REF!"}},{"$f":"#REF!*$E$6/10000","v":{"$error":"#REF!"}},{"$f":"#REF!*$E$6/10000","v":{"$error":"#REF!"}},{"$f":"#REF!*$E$6/10000","v":{"$error":"#REF!"}},{"$f":"#REF!*$E$6/10000","v":{"$error":"#REF!"}},{"$f":"#REF!*$E$6/10000","v":{"$error":"#REF!"}},{"$f":"#REF!*$E$6/10000","v":{"$error":"#REF!"}},{"$f":"#REF!*$E$6/10000","v":{"$error":"#REF!"}},{"$f":"#REF!*$E$6/10000","v":{"$error":"#REF!"}},{"$f":"#REF!*$E$6/10000","v":{"$error":"#REF!"}},{"$f":"#REF!*$E$6/10000","v":{"$error":"#REF!"}},{"$f":"#REF!*$E$6/10000","v":{"$error":"#REF!"}},null,null,null,null,null,null,null,null,null,null,null,null,null,null,null,null,{"$f":"SUM(H44:BE44)/50","v":{"$error":"#REF!"}}]
[null,null,null,null,"修繕積立金"]
[null,null,null,null,"借入金返済","※",null,{"$f":"借入金!C12","v":0},{"$f":"借入金!D12","v":0},{"$f":"借入金!E12","v":0},{"$f":"借入金!F12","v":0},{"$f":"借入金!G12","v":0},{"$f":"借入金!H12","v":0},{"$f":"借入金!I12","v":0},{"$f":"借入金!J12","v":0},{"$f":"借入金!K12","v":0},{"$f":"借入金!L12","v":0},{"$f":"借入金!M12","v":0},{"$f":"借入金!N12","v":0},{"$f":"借入金!O12","v":0},{"$f":"借入金!P12","v":0},{"$f":"借入金!Q12","v":0},{"$f":"借入金!R12","v":0},{"$f":"借入金!S12","v":0},{"$f":"借入金!T12","v":0},{"$f":"借入金!U12","v":0},{"$f":"借入金!V12","v":0},{"$f":"借入金!W12","v":0},{"$f":"借入金!X12","v":0},{"$f":"借入金!Y12","v":0},{"$f":"借入金!Z12","v":0},{"$f":"借入金!AA12","v":0},{"$f":"借入金!AB12","v":0},{"$f":"借入金!AC12","v":0},{"$f":"借入金!AD12","v":0},{"$f":"借入金!AE12","v":0},{"$f":"借入金!AF12","v":0},{"$f":"借入金!AG12","v":0}]
[null,null,null,null,"借入金(短期)返済","※",null,null,null,null,null,null,null,null,null,null,null,null,null,null,null,null,{"$f":"#REF!","v":{"$error":"#REF!"}},{"$f":"#REF!","v":{"$error":"#REF!"}},{"$f":"#REF!","v":{"$error":"#REF!"}},{"$f":"#REF!","v":{"$error":"#REF!"}},null,null,null,null,null,null,{"$f":"#REF!","v":{"$error":"#REF!"}},{"$f":"#REF!","v":{"$error":"#REF!"}},{"$f":"#REF!","v":{"$error":"#REF!"}},{"$f":"#REF!","v":{"$error":"#REF!"}},{"$f":"#REF!","v":{"$error":"#REF!"}},{"$f":"#REF!","v":{"$error":"#REF!"}}]
[null,null,null,null,"固定資産税・都市計画税","※",null,{"$f":"($E$9+$E$22)*固都税経年率!C5*(0.014+0.003)","v":{"$error":"#REF!"}},{"$f":"($E$9+$E$22)*固都税経年率!D5*(0.014+0.003)","v":{"$error":"#REF!"}},{"$f":"($E$9+$E$22)*固都税経年率!E5*(0.014+0.003)","v":{"$error":"#REF!"}},{"$f":"($E$9+$E$22)*固都税経年率!F5*(0.014+0.003)","v":{"$error":"#REF!"}},{"$f":"($E$9+$E$22)*固都税経年率!G5*(0.014+0.003)","v":{"$error":"#REF!"}},{"$f":"($E$9+$E$22)*固都税経年率!H5*(0.014+0.003)","v":{"$error":"#REF!"}},{"$f":"($E$9+$E$22)*固都税経年率!I5*(0.014+0.003)","v":{"$error":"#REF!"}},{"$f":"($E$9+$E$22)*固都税経年率!J5*(0.014+0.003)","v":{"$error":"#REF!"}},{"$f":"($E$9+$E$22)*固都税経年率!K5*(0.014+0.003)","v":{"$error":"#REF!"}},{"$f":"($E$9+$E$22)*固都税経年率!L5*(0.014+0.003)","v":{"$error":"#REF!"}},{"$f":"($E$9+$E$22)*固都税経年率!M5*(0.014+0.003)","v":{"$error":"#REF!"}},{"$f":"($E$9+$E$22)*固都税経年率!N5*(0.014+0.003)","v":{"$error":"#REF!"}},{"$f":"($E$9+$E$22)*固都税経年率!O5*(0.014+0.003)","v":{"$error":"#REF!"}},{"$f":"($E$9+$E$22)*固都税経年率!P5*(0.014+0.003)","v":{"$error":"#REF!"}},{"$f":"($E$9+$E$22)*固都税経年率!Q5*(0.014+0.003)","v":{"$error":"#REF!"}},{"$f":"($E$9+$E$22)*固都税経年率!R5*(0.014+0.003)","v":{"$error":"#REF!"}},{"$f":"($E$9+$E$22)*固都税経年率!S5*(0.014+0.003)","v":{"$error":"#REF!"}},{"$f":"($E$9+$E$22)*固都税経年率!T5*(0.014+0.003)","v":{"$error":"#REF!"}},{"$f":"($E$9+$E$22)*固都税経年率!U5*(0.014+0.003)","v":{"$error":"#REF!"}},{"$f":"($E$9+$E$22)*固都税経年率!V5*(0.014+0.003)","v":{"$error":"#REF!"}},{"$f":"($E$9+$E$22)*固都税経年率!W5*(0.014+0.003)","v":{"$error":"#REF!"}},{"$f":"($E$9+$E$22)*固都税経年率!X5*(0.014+0.003)","v":{"$error":"#REF!"}},{"$f":"($E$9+$E$22)*固都税経年率!Y5*(0.014+0.003)","v":{"$error":"#REF!"}},{"$f":"($E$9+$E$22)*固都税経年率!Z5*(0.014+0.003)","v":{"$error":"#REF!"}},{"$f":"($E$9+$E$22)*固都税経年率!AA5*(0.014+0.003)","v":{"$error":"#REF!"}},{"$f":"($E$9+$E$22)*固都税経年率!AB5*(0.014+0.003)","v":{"$error":"#REF!"}},{"$f":"($E$9+$E$22)*固都税経年率!AC5*(0.014+0.003)","v":{"$error":"#REF!"}},{"$f":"($E$9+$E$22)*固都税経年率!AD5*(0.014+0.003)","v":{"$error":"#REF!"}},{"$f":"($E$9+$E$22)*固都税経年率!AE5*(0.014+0.003)","v":{"$error":"#REF!"}},{"$f":"($E$9+$E$22)*固都税経年率!AF5*(0.014+0.003)","v":{"$error":"#REF!"}},{"$f":"($E$9+$E$22)*固都税経年率!AG5*(0.014+0.003)","v":{"$error":"#REF!"}},{"$f":"($E$9+$E$22)*固都税経年率!AH5*(0.014+0.003)","v":{"$error":"#REF!"}},{"$f":"($E$9+$E$22)*固都税経年率!AI5*(0.014+0.003)","v":{"$error":"#REF!"}},{"$f":"($E$9+$E$22)*固都税経年率!AJ5*(0.014+0.003)","v":{"$error":"#REF!"}},{"$f":"($E$9+$E$22)*固都税経年率!AK5*(0.014+0.003)","v":{"$error":"#REF!"}}]
[null,null,null,null,"所得税等",null,null,{"$f":"MAX(H65*0.33,0)","v":{"$error":"#REF!"}},{"$f":"MAX(I65*0.33,0)","v":{"$error":"#REF!"}},{"$error":"#REF!"},{"$error":"#REF!"},{"$error":"#REF!"},{"$error":"#REF!"},{"$error":"#REF!"},{"$error":"#REF!"},{"$error":"#REF!"},{"$error":"#REF!"},{"$error":"#REF!"},{"$error":"#REF!"},{"$error":"#REF!"},{"$error":"#REF!"},{"$error":"#REF!"},{"$error":"#REF!"},{"$error":"#REF!"},{"$error":"#REF!"},{"$error":"#REF!"},{"$error":"#REF!"},{"$error":"#REF!"},{"$error":"#REF!"},{"$error":"#REF!"},{"$error":"#REF!"},{"$error":"#REF!"},{"$error":"#REF!"},{"$error":"#REF!"},{"$error":"#REF!"},{"$error":"#REF!"},{"$error":"#REF!"},{"$error":"#REF!"},{"$error":"#REF!"},{"$error":"#REF!"},{"$error":"#REF!"},{"$error":"#REF!"}]
[null,null,null,null,"支出計",null,{"$f":"SUM(G40:G49)","v":{"$error":"#REF!"}},{"$f":"SUM(H40:H49)","v":{"$error":"#REF!"}},{"$error":"#REF!"},{"$error":"#REF!"},{"$error":"#REF!"},{"$error":"#REF!"},{"$error":"#REF!"},{"$error":"#REF!"},{"$error":"#REF!"},{"$error":"#REF!"},{"$error":"#REF!"},{"$error":"#REF!"},{"$error":"#REF!"},{"$error":"#REF!"},{"$error":"#REF!"},{"$error":"#REF!"},{"$error":"#REF!"},{"$error":"#REF!"},{"$error":"#REF!"},{"$error":"#REF!"},{"$error":"#REF!"},{"$error":"#REF!"},{"$error":"#REF!"},{"$error":"#REF!"},{"$error":"#REF!"},{"$error":"#REF!"},{"$error":"#REF!"},{"$error":"#REF!"},{"$error":"#REF!"},{"$error":"#REF!"},{"$error":"#REF!"},{"$error":"#REF!"},{"$error":"#REF!"},{"$error":"#REF!"},{"$error":"#REF!"},{"$error":"#REF!"}]
[null,null,null,"収支","手元資金残金（年）",null,{"$f":"G39-G50","v":{"$error":"#REF!"}},{"$f":"H39-H50","v":{"$error":"#REF!"}},{"$error":"#REF!"},{"$error":"#REF!"},{"$error":"#REF!"},{"$error":"#REF!"},{"$error":"#REF!"},{"$error":"#REF!"},{"$error":"#REF!"},{"$error":"#REF!"},{"$error":"#REF!"},{"$error":"#REF!"},{"$error":"#REF!"},{"$error":"#REF!"},{"$error":"#REF!"},{"$error":"#REF!"},{"$error":"#REF!"},{"$error":"#REF!"},{"$error":"#REF!"},{"$error":"#REF!"},{"$error":"#REF!"},{"$error":"#REF!"},{"$error":"#REF!"},{"$error":"#REF!"},{"$error":"#REF!"},{"$error":"#REF!"},{"$error":"#REF!"},{"$error":"#REF!"},{"$error":"#REF!"},{"$error":"#REF!"},{"$error":"#REF!"},{"$error":"#REF!"},{"$error":"#REF!"},{"$error":"#REF!"},{"$error":"#REF!"},{"$error":"#REF!"}]
[null,null,null,null,"手元資金残金（累計）",null,{"$f":"-1*G39","v":{"$error":"#REF!"}},{"$f":"G52+H51","v":{"$error":"#REF!"}},{"$f":"H52+I51","v":{"$error":"#REF!"}},{"$error":"#REF!"},{"$error":"#REF!"},{"$error":"#REF!"},{"$error":"#REF!"},{"$error":"#REF!"},{"$error":"#REF!"},{"$error":"#REF!"},{"$error":"#REF!"},{"$error":"#REF!"},{"$error":"#REF!"},{"$error":"#REF!"},{"$error":"#REF!"},{"$error":"#REF!"},{"$error":"#REF!"},{"$error":"#REF!"},{"$error":"#REF!"},{"$error":"#REF!"},{"$error":"#REF!"},{"$error":"#REF!"},{"$error":"#REF!"},{"$error":"#REF!"},{"$error":"#REF!"},{"$error":"#REF!"},{"$error":"#REF!"},{"$error":"#REF!"},{"$error":"#REF!"},{"$error":"#REF!"},{"$error":"#REF!"},{"$error":"#REF!"},{"$error":"#REF!"},{"$error":"#REF!"},{"$error":"#REF!"},{"$error":"#REF!"}]
[null,null,null,"収益","（収入計：修繕積立金取崩し除く)",null,null,{"$f":"H34","v":{"$error":"#REF!"}},{"$f":"I34","v":{"$error":"#REF!"}},{"$error":"#REF!"},{"$error":"#REF!"},{"$error":"#REF!"},{"$error":"#REF!"},{"$error":"#REF!"},{"$error":"#REF!"},{"$error":"#REF!"},{"$error":"#REF!"},{"$error":"#REF!"},{"$error":"#REF!"},{"$error":"#REF!"},{"$error":"#REF!"},{"$error":"#REF!"},{"$error":"#REF!"},{"$error":"#REF!"},{"$error":"#REF!"},{"$error":"#REF!"},{"$error":"#REF!"},{"$error":"#REF!"},{"$error":"#REF!"},{"$error":"#REF!"},{"$error":"#REF!"},{"$error":"#REF!"},{"$error":"#REF!"},{"$error":"#REF!"},{"$error":"#REF!"},{"$error":"#REF!"},{"$error":"#REF!"},{"$error":"#REF!"},{"$error":"#REF!"},{"$error":"#REF!"},{"$error":"#REF!"},{"$error":"#REF!"}]
[null,null,null,null,"建物管理費(募集・管理委託等)",null,null,{"$f":"$G$7*0.05","v":{"$error":"#REF!"}},{"$f":"$G$7*0.05","v":{"$error":"#REF!"}},{"$error":"#REF!"},{"$error":"#REF!"},{"$error":"#REF!"},{"$error":"#REF!"},{"$error":"#REF!"},{"$error":"#REF!"},{"$error":"#REF!"},{"$error":"#REF!"},{"$f":"$G$7*0.05","v":{"$error":"#REF!"}},{"$error":"#REF!"},{"$error":"#REF!"},{"$error":"#REF!"},{"$error":"#REF!"},{"$error":"#REF!"},{"$error":"#REF!"},{"$error":"#REF!"},{"$error":"#REF!"},{"$error":"#REF!"},{"$error":"#REF!"},{"$error":"#REF!"},{"$error":"#REF!"},{"$error":"#REF!"},{"$error":"#REF!"},{"$error":"#REF!"},{"$error":"#REF!"},{"$error":"#REF!"},{"$error":"#REF!"},{"$error":"#REF!"},{"$error":"#REF!"},{"$error":"#REF!"},{"$error":"#REF!"},{"$error":"#REF!"},{"$error":"#REF!"}]
[null,null,"P/L","営業費用","修繕費",null,null,{"$f":"H44","v":{"$error":"#REF!"}},{"$f":"I44","v":{"$error":"#REF!"}},{"$error":"#REF!"},{"$error":"#REF!"},{"$error":"#REF!"},{"$error":"#REF!"},{"$error":"#REF!"},{"$error":"#REF!"},{"$error":"#REF!"},{"$error":"#REF!"},{"$error":"#REF!"},{"$error":"#REF!"},{"$error":"#REF!"},{"$error":"#REF!"},{"$error":"#REF!"},{"$error":"#REF!"},{"$error":"#REF!"},{"$error":"#REF!"},{"$error":"#REF!"},{"$error":"#REF!"},{"$error":"#REF!"},{"$error":"#REF!"},{"$error":"#REF!"},{"$error":"#REF!"},{"$error":"#REF!"},{"$error":"#REF!"},{"$error":"#REF!"},{"$error":"#REF!"},{"$error":"#REF!"},{"$error":"#REF!"},{"$error":"#REF!"},{"$error":"#REF!"},{"$error":"#REF!"},{"$error":"#REF!"},{"$error":"#REF!"}]
[null,null,"損益計算",null,"保険料",null,null,{"$f":"H42","v":{"$error":"#REF!"}},{"$error":"#REF!"},{"$error":"#REF!"},{"$error":"#REF!"},{"$error":"#REF!"},{"$error":"#REF!"},{"$error":"#REF!"},{"$error":"#REF!"},{"$error":"#REF!"},{"$error":"#REF!"},{"$error":"#REF!"},{"$error":"#REF!"},{"$error":"#REF!"},{"$error":"#REF!"},{"$error":"#REF!"},{"$error":"#REF!"},{"$error":"#REF!"},{"$error":"#REF!"},{"$error":"#REF!"},{"$error":"#REF!"},{"$error":"#REF!"},{"$error":"#REF!"},{"$error":"#REF!"},{"$error":"#REF!"},{"$error":"#REF!"},{"$error":"#REF!"},{"$error":"#REF!"},{"$error":"#REF!"},{"$error":"#REF!"},{"$error":"#REF!"},{"$error":"#REF!"},{"$error":"#REF!"},{"$error":"#REF!"},{"$error":"#REF!"},{"$error":"#REF!"}]
[null,null,null,null,"固定資産税・都市計画税",null,null,{"$f":"H48","v":{"$error":"#REF!"}},{"$error":"#REF!"},{"$error":"#REF!"},{"$error":"#REF!"},{"$error":"#REF!"},{"$error":"#REF!"},{"$error":"#REF!"},{"$error":"#REF!"},{"$error":"#REF!"},{"$error":"#REF!"},{"$error":"#REF!"},{"$error":"#REF!"},{"$error":"#REF!"},{"$error":"#REF!"},{"$error":"#REF!"},{"$error":"#REF!"},{"$error":"#REF!"},{"$error":"#REF!"},{"$error":"#REF!"},{"$error":"#REF!"},{"$error":"#REF!"},{"$error":"#REF!"},{"$error":"#REF!"},{"$error":"#REF!"},{"$error":"#REF!"},{"$error":"#REF!"},{"$error":"#REF!"},{"$error":"#REF!"},{"$error":"#REF!"},{"$error":"#REF!"},{"$error":"#REF!"},{"$error":"#REF!"},{"$error":"#REF!"},{"$error":"#REF!"},{"$error":"#REF!"}]
[null,null,null,null,"修繕積立金"]
[null,null,null,null,"営業費用計",null,null,{"$f":"SUM(H54:H58)","v":{"$error":"#REF!"}},{"$f":"SUM(I54:I58)","v":{"$error":"#REF!"}},{"$error":"#REF!"},{"$error":"#REF!"},{"$error":"#REF!"},{"$error":"#REF!"},{"$error":"#REF!"},{"$error":"#REF!"},{"$error":"#REF!"},{"$error":"#REF!"},{"$error":"#REF!"},{"$error":"#REF!"},{"$error":"#REF!"},{"$error":"#REF!"},{"$error":"#REF!"},{"$error":"#REF!"},{"$error":"#REF!"},{"$error":"#REF!"},{"$error":"#REF!"},{"$error":"#REF!"},{"$error":"#REF!"},{"$error":"#REF!"},{"$error":"#REF!"},{"$error":"#REF!"},{"$error":"#REF!"},{"$error":"#REF!"},{"$error":"#REF!"},{"$error":"#REF!"},{"$error":"#REF!"},{"$error":"#REF!"},{"$error":"#REF!"},{"$error":"#REF!"},{"$error":"#REF!"},{"$error":"#REF!"},{"$error":"#REF!"}]
[null,null,null,"償却前利益","（営業収入と同値）",null,null,{"$f":"H53-H59","v":{"$error":"#REF!"}},{"$f":"I53-I59","v":{"$error":"#REF!"}},{"$error":"#REF!"},{"$error":"#REF!"},{"$error":"#REF!"},{"$error":"#REF!"},{"$error":"#REF!"},{"$error":"#REF!"},{"$error":"#REF!"},{"$error":"#REF!"},{"$error":"#REF!"},{"$error":"#REF!"},{"$error":"#REF!"},{"$error":"#REF!"},{"$error":"#REF!"},{"$error":"#REF!"},{"$error":"#REF!"},{"$error":"#REF!"},{"$error":"#REF!"},{"$error":"#REF!"},{"$error":"#REF!"},{"$error":"#REF!"},{"$error":"#REF!"},{"$error":"#REF!"},{"$error":"#REF!"},{"$error":"#REF!"},{"$error":"#REF!"},{"$error":"#REF!"},{"$error":"#REF!"},{"$error":"#REF!"},{"$error":"#REF!"},{"$error":"#REF!"},{"$error":"#REF!"},{"$error":"#REF!"},{"$error":"#REF!"}]
[null,null,null,null,"減価償却費(定額法)",null,null,{"$f":"$E$9*$E$26","v":{"$error":"#REF!"}},{"$f":"$E$9*$E$26","v":{"$error":"#REF!"}},{"$error":"#REF!"},{"$error":"#REF!"},{"$error":"#REF!"},{"$error":"#REF!"},{"$error":"#REF!"},{"$error":"#REF!"},{"$error":"#REF!"},{"$error":"#REF!"},{"$error":"#REF!"},{"$error":"#REF!"},{"$error":"#REF!"},{"$error":"#REF!"},{"$error":"#REF!"},{"$error":"#REF!"},{"$error":"#REF!"},{"$error":"#REF!"},{"$error":"#REF!"},{"$error":"#REF!"},{"$error":"#REF!"},{"$error":"#REF!"},null,null,null,null,null,null,null,null,null,null,null,null,null,null,null,null,null,null,null,null,null,null,null,null,null,null,null,null,"← 注意　22年まで"]
[null,null,null,"営業外費用","支払利息","※",null,{"$f":"借入金!C11","v":0},{"$f":"借入金!D11","v":0},{"$f":"借入金!E11","v":0},{"$f":"借入金!F11","v":0},{"$f":"借入金!G11","v":0},{"$f":"借入金!H11","v":0},{"$f":"借入金!I11","v":0},{"$f":"借入金!J11","v":0},{"$f":"借入金!K11","v":0},{"$f":"借入金!L11","v":0},{"$f":"借入金!M11","v":0},{"$f":"借入金!N11","v":0},{"$f":"借入金!O11","v":0},{"$f":"借入金!P11","v":0},{"$f":"借入金!Q11","v":0},{"$f":"借入金!R11","v":0},{"$f":"借入金!S11","v":0},{"$f":"借入金!T11","v":0},{"$f":"借入金!U11","v":0},{"$f":"借入金!V11","v":0},{"$f":"借入金!W11","v":0},{"$f":"借入金!X11","v":0},{"$f":"借入金!Y11","v":0},{"$f":"借入金!Z11","v":0},{"$f":"借入金!AA11","v":0},{"$f":"借入金!AB11","v":0},{"$f":"借入金!AC11","v":0},{"$f":"借入金!AD11","v":0},{"$f":"借入金!AE11","v":0},{"$f":"借入金!AF11","v":0},{"$f":"借入金!AG11","v":0}]
[null,null,null,null,"支払利息(短期分)","※",null,null,null,null,null,null,null,null,null,null,null,null,null,null,null,null,{"$f":"#REF!","v":{"$error":"#REF!"}},{"$f":"#REF!","v":{"$error":"#REF!"}},{"$f":"#REF!","v":{"$error":"#REF!"}},{"$f":"#REF!","v":{"$error":"#REF!"}},null,null,null,null,null,null,{"$f":"#REF!","v":{"$error":"#REF!"}},{"$f":"#REF!","v":{"$error":"#REF!"}},{"$f":"#REF!","v":{"$error":"#REF!"}},{"$f":"#REF!","v":{"$error":"#REF!"}},{"$f":"#REF!","v":{"$error":"#REF!"}},{"$f":"#REF!","v":{"$error":"#REF!"}}]
[null,null,null,null,"営業外費用計",null,null,{"$f":"SUM(H61:H63)","v":{"$error":"#REF!"}},{"$f":"SUM(I61:I63)","v":{"$error":"#REF!"}},{"$error":"#REF!"},{"$error":"#REF!"},{"$error":"#REF!"},{"$error":"#REF!"},{"$error":"#REF!"},{"$error":"#REF!"},{"$error":"#REF!"},{"$error":"#REF!"},{"$error":"#REF!"},{"$error":"#REF!"},{"$error":"#REF!"},{"$error":"#REF!"},{"$error":"#REF!"},{"$error":"#REF!"},{"$error":"#REF!"},{"$error":"#REF!"},{"$error":"#REF!"},{"$error":"#REF!"},{"$error":"#REF!"},{"$error":"#REF!"},0,0,0,{"$error":"#REF!"},{"$error":"#REF!"},{"$error":"#REF!"},{"$error":"#REF!"},{"$error":"#REF!"},{"$error":"#REF!"},0,0,0,0]
[null,null,null,"税引前利益(償却後利益)",null,null,null,{"$f":"H60-H64","v":{"$error":"#REF!"}},{"$error":"#REF!"},{"$error":"#REF!"},{"$error":"#REF!"},{"$error":"#REF!"},{"$error":"#REF!"},{"$error":"#REF!"},{"$error":"#REF!"},{"$error":"#REF!"},{"$error":"#REF!"},{"$error":"#REF!"},{"$error":"#REF!"},{"$error":"#REF!"},{"$error":"#REF!"},{"$error":"#REF!"},{"$error":"#REF!"},{"$error":"#REF!"},{"$error":"#REF!"},{"$error":"#REF!"},{"$error":"#REF!"},{"$error":"#REF!"},{"$error":"#REF!"},{"$error":"#REF!"},{"$error":"#REF!"},{"$error":"#REF!"},{"$error":"#REF!"},{"$error":"#REF!"},{"$error":"#REF!"},{"$error":"#REF!"},{"$error":"#REF!"},{"$error":"#REF!"},{"$error":"#REF!"},{"$error":"#REF!"},{"$error":"#REF!"},{"$error":"#REF!"}]
[null,null,null," 所得税",null,null,null,{"$f":"MAX(H65*0.33,0)","v":{"$error":"#REF!"}},{"$f":"MAX(I65*0.33,0)","v":{"$error":"#REF!"}},{"$error":"#REF!"},{"$error":"#REF!"},{"$error":"#REF!"},{"$error":"#REF!"},{"$error":"#REF!"},{"$error":"#REF!"},{"$error":"#REF!"},{"$error":"#REF!"},{"$error":"#REF!"},{"$error":"#REF!"},{"$error":"#REF!"},{"$error":"#REF!"},{"$error":"#REF!"},{"$error":"#REF!"},{"$error":"#REF!"},{"$error":"#REF!"},{"$error":"#REF!"},{"$error":"#REF!"},{"$error":"#REF!"},{"$error":"#REF!"},{"$error":"#REF!"},{"$error":"#REF!"},{"$error":"#REF!"},{"$error":"#REF!"},{"$error":"#REF!"},{"$error":"#REF!"},{"$error":"#REF!"},{"$error":"#REF!"},{"$error":"#REF!"},{"$error":"#REF!"},{"$error":"#REF!"},{"$error":"#REF!"},{"$error":"#REF!"}]
[null,null,null,"当期利益",null,null,null,{"$f":"H65-H66","v":{"$error":"#REF!"}},{"$f":"I65-I66","v":{"$error":"#REF!"}},{"$error":"#REF!"},{"$error":"#REF!"},{"$error":"#REF!"},{"$error":"#REF!"},{"$error":"#REF!"},{"$error":"#REF!"},{"$error":"#REF!"},{"$error":"#REF!"},{"$error":"#REF!"},{"$error":"#REF!"},{"$error":"#REF!"},{"$error":"#REF!"},{"$error":"#REF!"},{"$error":"#REF!"},{"$error":"#REF!"},{"$error":"#REF!"},{"$error":"#REF!"},{"$error":"#REF!"},{"$error":"#REF!"},{"$error":"#REF!"},{"$error":"#REF!"},{"$error":"#REF!"},{"$error":"#REF!"},{"$error":"#REF!"},{"$error":"#REF!"},{"$error":"#REF!"},{"$error":"#REF!"},{"$error":"#REF!"},{"$error":"#REF!"},{"$error":"#REF!"},{"$error":"#REF!"},{"$error":"#REF!"},{"$error":"#REF!"}]
[null,null,null,"当期利益累計",null,null,null,{"$f":"H67","v":{"$error":"#REF!"}},{"$f":"H68+I67","v":{"$error":"#REF!"}},{"$f":"I68+J67","v":{"$error":"#REF!"}},{"$error":"#REF!"},{"$error":"#REF!"},{"$error":"#REF!"},{"$error":"#REF!"},{"$error":"#REF!"},{"$error":"#REF!"},{"$error":"#REF!"},{"$error":"#REF!"},{"$error":"#REF!"},{"$error":"#REF!"},{"$error":"#REF!"},{"$error":"#REF!"},{"$error":"#REF!"},{"$error":"#REF!"},{"$error":"#REF!"},{"$error":"#REF!"},{"$error":"#REF!"},{"$error":"#REF!"},{"$error":"#REF!"},{"$error":"#REF!"},{"$error":"#REF!"},{"$error":"#REF!"},{"$error":"#REF!"},{"$error":"#REF!"},{"$error":"#REF!"},{"$error":"#REF!"},{"$error":"#REF!"},{"$error":"#REF!"},{"$error":"#REF!"},{"$error":"#REF!"},{"$error":"#REF!"},{"$error":"#REF!"}]
[null,null,null,"投下資本未回収残高(積立金除く)",null,null,{"$f":"-1*G50","v":{"$error":"#REF!"}},{"$f":"G69+IF(H51>0,H51,0)-SUM(H36:H37)","v":{"$error":"#REF!"}},{"$error":"#REF!"},{"$error":"#REF!"},{"$error":"#REF!"},{"$error":"#REF!"},{"$error":"#REF!"},{"$error":"#REF!"},{"$error":"#REF!"},{"$error":"#REF!"},{"$error":"#REF!"},{"$error":"#REF!"},{"$error":"#REF!"},{"$error":"#REF!"},{"$error":"#REF!"},{"$error":"#REF!"},{"$error":"#REF!"},{"$error":"#REF!"},{"$error":"#REF!"},{"$error":"#REF!"},{"$error":"#REF!"},{"$error":"#REF!"},{"$error":"#REF!"},{"$error":"#REF!"},{"$error":"#REF!"},{"$error":"#REF!"},{"$error":"#REF!"},{"$error":"#REF!"},{"$error":"#REF!"},{"$error":"#REF!"},{"$error":"#REF!"},{"$error":"#REF!"},{"$error":"#REF!"},{"$f":"AM69+IF(AN51>0,AN51,0)-SUM(AN36:AN37)","v":{"$error":"#REF!"}},{"$error":"#REF!"},{"$error":"#REF!"}]
[null,null,null,"修繕積立金累計額",null,null,null,{"$f":"G70+H45-H38","v":{"$error":"#REF!"}},{"$error":"#REF!"},{"$error":"#REF!"},{"$error":"#REF!"},{"$error":"#REF!"},{"$error":"#REF!"},{"$error":"#REF!"},{"$error":"#REF!"},{"$error":"#REF!"},{"$error":"#REF!"},{"$error":"#REF!"},{"$error":"#REF!"},{"$error":"#REF!"},{"$error":"#REF!"},{"$error":"#REF!"},{"$error":"#REF!"},{"$error":"#REF!"},{"$error":"#REF!"},{"$error":"#REF!"},{"$error":"#REF!"},{"$error":"#REF!"},{"$error":"#REF!"},{"$error":"#REF!"},{"$error":"#REF!"},{"$error":"#REF!"},{"$error":"#REF!"},{"$error":"#REF!"},{"$error":"#REF!"},{"$error":"#REF!"},{"$error":"#REF!"},{"$error":"#REF!"},{"$error":"#REF!"},{"$f":"AM70+AN45-AN38","v":{"$error":"#REF!"}},{"$error":"#REF!"},{"$error":"#REF!"}]
[null,null,null,null,null,"※は別シートとリンク"]

{"sheet":"W1修繕あり-積立あり","index":10,"n_rows":71,"n_cols":59,"rows_kept":71,"cut":false,"hidden":true,"merged":[[69,3,69,4],[68,3,68,4],[59,3,59,4],[64,3,64,4],[65,3,65,4],[66,3,66,4],[67,3,67,4]]}
[]
[]
[null,null,{"$f":"#REF!","v":{"$error":"#REF!"}},{"$f":"#REF!","v":{"$error":"#REF!"}},{"$f":"#REF!","v":{"$error":"#REF!"}}]
[null,null,{"$f":"#REF!","v":{"$error":"#REF!"}},{"$f":"#REF!","v":{"$error":"#REF!"}},{"$f":"#REF!","v":{"$error":"#REF!"}}]
[null,null,null,null,{"$f":"#REF!","v":{"$error":"#REF!"}}]
[null,null,"戸数",null,{"$f":"#REF!","v":{"$error":"#REF!"}}]
[null,null,"家賃(万円/月)",null,{"$f":"#REF!","v":{"$error":"#REF!"}},null,{"$f":"E6*E7*12","v":{"$error":"#REF!"}},"満室時賃料",null,"建設費"]
[null,null,"駐車場(万円/月)",null,{"$f":"#REF!","v":{"$error":"#REF!"}},null,null,null,null,"大都市部",{"$f":"#REF!","v":{"$error":"#REF!"}}]
[null,null,"建物建設費(万円)",null,{"$f":"#REF!","v":{"$error":"#REF!"}},"設備等込",null,null,null,"地方部",{"$f":"#REF!","v":{"$error":"#REF!"}}]
[null,null,null,null,null,null,null,null,null,"調整比率",{"$f":"#REF!","v":{"$error":"#REF!"}},"※地方部で使用"]
[null,null,"自己資金",null,{"$f":"#REF!","v":{"$error":"#REF!"}},null,null,null,null,null,null,null,null,null,"　"]
[null,null,"銀行借り入れ",null,{"$f":"#REF!","v":{"$error":"#REF!"}}]
[null,null,"返済期間",null,{"$f":"#REF!","v":{"$error":"#REF!"}}]
[null,null,"金利",null,{"$f":"#REF!","v":{"$error":"#REF!"}}]
[]
[null,null,"建物管理",null,{"$f":"#REF!","v":{"$error":"#REF!"}},"満室賃料に対して"]
[null,null,"保険料(万円/年)",null,{"$f":"#REF!","v":{"$error":"#REF!"}}]
[null,null,"建築面積","㎡",{"$f":"#REF!","v":{"$error":"#REF!"}},null,"延べ床面積",{"$f":"#REF!","v":{"$error":"#REF!"}},{"$f":"#REF!","v":{"$error":"#REF!"}},{"$f":"#REF!","v":{"$error":"#REF!"}},"万円"]
[null,null,"敷地面積","㎡",{"$f":"#REF!","v":{"$error":"#REF!"}}]
[null,null,"土地単価","万円/㎡",{"$f":"#REF!","v":{"$error":"#REF!"}}]
[null,null,"土地価格",null,{"$f":"#REF!","v":{"$error":"#REF!"}},"計算"]
[null,null,"土地　課税標準",null,{"$f":"#REF!","v":{"$error":"#REF!"}},"計算"]
[null,null,"大規模修繕",null,{"$f":"#REF!","v":{"$error":"#REF!"}}]
[null,null,"修繕費積立"]
[null,null,"減価償却率","RC　47年",{"$f":"#REF!","v":{"$error":"#REF!"}}]
[null,null,null,"W　22年",{"$f":"#REF!","v":{"$error":"#REF!"}}]
[null,null,null,null,null,null,"実収入率",0.95,0.95,0.95,0.95,0.95,{"$f":"L27-0.01","v":0.94},{"$f":"M27-0.01","v":0.92999999999999994},0.91999999999999993,0.90999999999999992,0.89999999999999991,{"$f":"Q27+0.05","v":0.95},{"$f":"R27-0.01","v":0.94},0.92999999999999994,0.91999999999999993,0.90999999999999992,{"$f":"V27+0.04","v":0.95},{"$f":"W27-0.01","v":0.94},0.92999999999999994,0.91999999999999993,0.90999999999999992,{"$f":"AA27+0.04","v":0.95},{"$f":"AB27-0.01","v":0.94},0.92999999999999994,0.91999999999999993,0.90999999999999992,{"$f":"AF27+0.04","v":0.95},{"$f":"AG27-0.01","v":0.94},0.92999999999999994,0.91999999999999993,0.90999999999999992,{"$f":"AK27+0.04","v":0.95},{"$f":"AL27-0.01","v":0.94},0.92999999999999994,0.91999999999999993,0.90999999999999992]
[null,null,null,null,null,null,"修繕積立金（/戸/年）",8.4,8.4,8.4,8.4,8.4,8.4,8.4,8.4,8.4,8.4,8.4,8.4,8.4,8.4,8.4,8.4,8.4,8.4,8.4,8.4,8.4,8.4,8.4,8.4,4.4000000000000004,4.4000000000000004,4.4000000000000004,4.4000000000000004,4.4000000000000004]
[]
[]
[]
[null,null,null,null,null,null,null,null,null,"（単位：万円）"]
[null,null,null,null,"（単位：万円）",null,0,1,{"$f":"H33+1","v":2},{"$f":"I33+1","v":3},4,5,6,7,8,9,10,11,12,13,14,15,16,17,18,19,20,21,22,23,24,25,26,27,28,29,30,31,32,33,34,35]
[null,null,null,"収入","家賃収入",null,null,{"$f":"$G$7*H27","v":{"$error":"#REF!"}},{"$f":"$G$7*I27","v":{"$error":"#REF!"}},{"$error":"#REF!"},{"$error":"#REF!"},{"$error":"#REF!"},{"$error":"#REF!"},{"$error":"#REF!"},{"$error":"#REF!"},{"$error":"#REF!"},{"$error":"#REF!"},{"$error":"#REF!"},{"$error":"#REF!"},{"$error":"#REF!"},{"$error":"#REF!"},{"$error":"#REF!"},{"$error":"#REF!"},{"$error":"#REF!"},{"$error":"#REF!"},{"$error":"#REF!"},{"$error":"#REF!"},{"$error":"#REF!"},{"$error":"#REF!"},{"$error":"#REF!"},{"$error":"#REF!"},{"$error":"#REF!"},{"$error":"#REF!"},{"$error":"#REF!"},{"$error":"#REF!"},{"$error":"#REF!"},{"$error":"#REF!"},{"$f":"$G$7*AL27","v":{"$error":"#REF!"}},{"$error":"#REF!"},{"$error":"#REF!"},{"$error":"#REF!"},{"$error":"#REF!"}]
[null,null,null,null,"銀行借入（長期）",null,{"$f":"E12","v":{"$error":"#REF!"}}]
[null,null,null,null,"銀行借入（短期）"]
[null,null,null,null,"自己資金",null,{"$f":"E11","v":{"$error":"#REF!"}}]
[null,null,null,null,"(修繕積立金　取り崩し）",null,null,{"$f":"IF((H43+H44)>G70,G70,(H43+H44))","v":{"$error":"#REF!"}},{"$error":"#REF!"},{"$error":"#REF!"},{"$error":"#REF!"},{"$error":"#REF!"},{"$error":"#REF!"},{"$error":"#REF!"},{"$error":"#REF!"},{"$error":"#REF!"},{"$error":"#REF!"},{"$error":"#REF!"},{"$error":"#REF!"},{"$error":"#REF!"},{"$error":"#REF!"},{"$error":"#REF!"},{"$error":"#REF!"},{"$error":"#REF!"},{"$error":"#REF!"},{"$error":"#REF!"},{"$error":"#REF!"},{"$error":"#REF!"},{"$error":"#REF!"},{"$error":"#REF!"},{"$error":"#REF!"},{"$error":"#REF!"},{"$error":"#REF!"},{"$error":"#REF!"},{"$error":"#REF!"},{"$error":"#REF!"},{"$error":"#REF!"},{"$error":"#REF!"},{"$error":"#REF!"},{"$f":"IF((AN43+AN44)>AM70,AM70,(AN43+AN44))","v":{"$error":"#REF!"}},{"$error":"#REF!"},{"$error":"#REF!"}]
[null,null,null,null,"収入計",null,{"$f":"SUM(G34:G38)","v":{"$error":"#REF!"}},{"$f":"SUM(H34:H38)","v":{"$error":"#REF!"}},{"$f":"SUM(I34:I38)","v":{"$error":"#REF!"}},{"$error":"#REF!"},{"$error":"#REF!"},{"$error":"#REF!"},{"$error":"#REF!"},{"$error":"#REF!"},{"$error":"#REF!"},{"$error":"#REF!"},{"$error":"#REF!"},{"$error":"#REF!"},{"$error":"#REF!"},{"$error":"#REF!"},{"$error":"#REF!"},{"$error":"#REF!"},{"$error":"#REF!"},{"$error":"#REF!"},{"$error":"#REF!"},{"$error":"#REF!"},{"$error":"#REF!"},{"$error":"#REF!"},{"$error":"#REF!"},{"$error":"#REF!"},{"$error":"#REF!"},{"$error":"#REF!"},{"$error":"#REF!"},{"$error":"#REF!"},{"$error":"#REF!"},{"$error":"#REF!"},{"$error":"#REF!"},{"$f":"SUM(AL34:AL38)","v":{"$error":"#REF!"}},{"$error":"#REF!"},{"$error":"#REF!"},{"$error":"#REF!"},{"$error":"#REF!"}]
[null,null,null,null,"建物建設費（初期建設費）",null,{"$f":"E9","v":{"$error":"#REF!"}}]
[null,null,"収支計算",null,"建物管理費(募集・管理委託等)",null,null,{"$f":"$G$7*0.05","v":{"$error":"#REF!"}},{"$f":"$G$7*0.05","v":{"$error":"#REF!"}},{"$error":"#REF!"},{"$error":"#REF!"},{"$error":"#REF!"},{"$error":"#REF!"},{"$error":"#REF!"},{"$error":"#REF!"},{"$error":"#REF!"},{"$error":"#REF!"},{"$error":"#REF!"},{"$error":"#REF!"},{"$error":"#REF!"},{"$error":"#REF!"},{"$error":"#REF!"},{"$error":"#REF!"},{"$error":"#REF!"},{"$error":"#REF!"},{"$error":"#REF!"},{"$error":"#REF!"},{"$error":"#REF!"},{"$error":"#REF!"},{"$error":"#REF!"},{"$error":"#REF!"},{"$error":"#REF!"},{"$error":"#REF!"},{"$error":"#REF!"},{"$error":"#REF!"},{"$error":"#REF!"},{"$error":"#REF!"},{"$error":"#REF!"},{"$error":"#REF!"},{"$error":"#REF!"},{"$error":"#REF!"},{"$error":"#REF!"}]
[null,null,null,null,"保険料",null,null,{"$f":"$E$17","v":{"$error":"#REF!"}},{"$f":"$E$17","v":{"$error":"#REF!"}},{"$error":"#REF!"},{"$error":"#REF!"},{"$error":"#REF!"},{"$error":"#REF!"},{"$error":"#REF!"},{"$error":"#REF!"},{"$error":"#REF!"},{"$error":"#REF!"},{"$error":"#REF!"},{"$error":"#REF!"},{"$error":"#REF!"},{"$error":"#REF!"},{"$error":"#REF!"},{"$error":"#REF!"},{"$error":"#REF!"},{"$error":"#REF!"},{"$error":"#REF!"},{"$error":"#REF!"},{"$error":"#REF!"},{"$error":"#REF!"},{"$error":"#REF!"},{"$error":"#REF!"},{"$error":"#REF!"},{"$error":"#REF!"},{"$error":"#REF!"},{"$error":"#REF!"},{"$error":"#REF!"},{"$error":"#REF!"},{"$error":"#REF!"},{"$error":"#REF!"},{"$error":"#REF!"},{"$error":"#REF!"},{"$error":"#REF!"}]
[null,null,null,null,"原状回復費用",null,null,{"$f":"IF(MOD(H33,4)=0,$E$7,\"0\")","v":"0"},"0","0",{"$error":"#REF!"},"0","0","0",{"$error":"#REF!"},"0","0","0",{"$error":"#REF!"},"0","0","0",{"$error":"#REF!"},"0","0","0",{"$error":"#REF!"},"0","0","0",{"$error":"#REF!"},"0","0","0",{"$error":"#REF!"},"0","0",{"$f":"IF(MOD(AL33,4)=0,$E$7,\"0\")","v":"0"},{"$error":"#REF!"},"0","0","0"]
[null,null,null,"支出","修繕費","※",null,{"$f":"#REF!*$E$6/10000","v":{"$error":"#REF!"}},{"$f":"#REF!*$E$6/10000","v":{"$error":"#REF!"}},{"$f":"#REF!*$E$6/10000","v":{"$error":"#REF!"}},{"$f":"#REF!*$E$6/10000","v":{"$error":"#REF!"}},{"$f":"#REF!*$E$6/10000","v":{"$error":"#REF!"}},{"$f":"#REF!*$E$6/10000","v":{"$error":"#REF!"}},{"$f":"#REF!*$E$6/10000","v":{"$error":"#REF!"}},{"$f":"#REF!*$E$6/10000","v":{"$error":"#REF!"}},{"$f":"#REF!*$E$6/10000","v":{"$error":"#REF!"}},{"$f":"#REF!*$E$6/10000","v":{"$error":"#REF!"}},{"$f":"#REF!*$E$6/10000","v":{"$error":"#REF!"}},{"$f":"#REF!*$E$6/10000","v":{"$error":"#REF!"}},{"$f":"#REF!*$E$6/10000","v":{"$error":"#REF!"}},{"$f":"#REF!*$E$6/10000","v":{"$error":"#REF!"}},{"$f":"#REF!*$E$6/10000","v":{"$error":"#REF!"}},{"$f":"#REF!*$E$6/10000","v":{"$error":"#REF!"}},{"$f":"#REF!*$E$6/10000","v":{"$error":"#REF!"}},{"$f":"#REF!*$E$6/10000","v":{"$error":"#REF!"}},{"$f":"#REF!*$E$6/10000","v":{"$error":"#REF!"}},{"$f":"#REF!*$E$6/10000","v":{"$error":"#REF!"}},{"$f":"#REF!*$E$6/10000","v":{"$error":"#REF!"}},{"$f":"#REF!*$E$6/10000","v":{"$error":"#REF!"}},{"$f":"#REF!*$E$6/10000","v":{"$error":"#REF!"}},{"$f":"#REF!*$E$6/10000","v":{"$error":"#REF!"}},{"$f":"#REF!*$E$6/10000","v":{"$error":"#REF!"}},{"$f":"#REF!*$E$6/10000","v":{"$error":"#REF!"}},{"$f":"#REF!*$E$6/10000","v":{"$error":"#REF!"}},{"$f":"#REF!*$E$6/10000","v":{"$error":"#REF!"}},{"$f":"#REF!*$E$6/10000","v":{"$error":"#REF!"}},{"$f":"#REF!*$E$6/10000","v":{"$error":"#REF!"}},{"$f":"#REF!*$E$6/10000","v":{"$error":"#REF!"}},{"$f":"#REF!*$E$6/10000","v":{"$error":"#REF!"}},{"$f":"#REF!*$E$6/10000","v":{"$error":"#REF!"}},{"$f":"#REF!*$E$6/10000","v":{"$error":"#REF!"}},{"$f":"#REF!*$E$6/10000","v":{"$error":"#REF!"}},null,null,null,null,null,null,null,null,null,null,null,null,null,null,null,null,{"$f":"SUM(H44:BE44)/50","v":{"$error":"#REF!"}}]
[null,null,null,null,"修繕積立金",null,null,{"$f":"H28*$E$6","v":{"$error":"#REF!"}},{"$f":"I28*$E$6","v":{"$error":"#REF!"}},{"$error":"#REF!"},{"$f":"K28*$E$6","v":{"$error":"#REF!"}},{"$error":"#REF!"},{"$error":"#REF!"},{"$error":"#REF!"},{"$error":"#REF!"},{"$error":"#REF!"},{"$error":"#REF!"},{"$error":"#REF!"},{"$error":"#REF!"},{"$error":"#REF!"},{"$error":"#REF!"},{"$error":"#REF!"},{"$error":"#REF!"},{"$error":"#REF!"},{"$error":"#REF!"},{"$error":"#REF!"},{"$error":"#REF!"},{"$error":"#REF!"},{"$error":"#REF!"},{"$error":"#REF!"},{"$error":"#REF!"},{"$error":"#REF!"},{"$error":"#REF!"},{"$error":"#REF!"},{"$error":"#REF!"},{"$error":"#REF!"},{"$error":"#REF!"},{"$f":"AL28*$E$6","v":{"$error":"#REF!"}},{"$error":"#REF!"},{"$error":"#REF!"},{"$error":"#REF!"},{"$error":"#REF!"}]
[null,null,null,null,"借入金返済","※",null,{"$f":"借入金!C12","v":0},{"$f":"借入金!D12","v":0},{"$f":"借入金!E12","v":0},{"$f":"借入金!F12","v":0},{"$f":"借入金!G12","v":0},{"$f":"借入金!H12","v":0},{"$f":"借入金!I12","v":0},{"$f":"借入金!J12","v":0},{"$f":"借入金!K12","v":0},{"$f":"借入金!L12","v":0},{"$f":"借入金!M12","v":0},{"$f":"借入金!N12","v":0},{"$f":"借入金!O12","v":0},{"$f":"借入金!P12","v":0},{"$f":"借入金!Q12","v":0},{"$f":"借入金!R12","v":0},{"$f":"借入金!S12","v":0},{"$f":"借入金!T12","v":0},{"$f":"借入金!U12","v":0},{"$f":"借入金!V12","v":0},{"$f":"借入金!W12","v":0},{"$f":"借入金!X12","v":0},{"$f":"借入金!Y12","v":0},{"$f":"借入金!Z12","v":0},{"$f":"借入金!AA12","v":0},{"$f":"借入金!AB12","v":0},{"$f":"借入金!AC12","v":0},{"$f":"借入金!AD12","v":0},{"$f":"借入金!AE12","v":0},{"$f":"借入金!AF12","v":0},{"$f":"借入金!AG12","v":0},{"$f":"借入金!AH12","v":0},{"$f":"借入金!AI12","v":0},{"$f":"借入金!AJ12","v":0},{"$f":"借入金!AK12","v":0}]
[null,null,null,null,"借入金(短期)返済","※"]
[null,null,null,null,"固定資産税・都市計画税","※",null,{"$f":"($E$9+$E$22)*固都税経年率!C5*(0.014+0.003)","v":{"$error":"#REF!"}},{"$f":"($E$9+$E$22)*固都税経年率!D5*(0.014+0.003)","v":{"$error":"#REF!"}},{"$f":"($E$9+$E$22)*固都税経年率!E5*(0.014+0.003)","v":{"$error":"#REF!"}},{"$f":"($E$9+$E$22)*固都税経年率!F5*(0.014+0.003)","v":{"$error":"#REF!"}},{"$f":"($E$9+$E$22)*固都税経年率!G5*(0.014+0.003)","v":{"$error":"#REF!"}},{"$f":"($E$9+$E$22)*固都税経年率!H5*(0.014+0.003)","v":{"$error":"#REF!"}},{"$f":"($E$9+$E$22)*固都税経年率!I5*(0.014+0.003)","v":{"$error":"#REF!"}},{"$f":"($E$9+$E$22)*固都税経年率!J5*(0.014+0.003)","v":{"$error":"#REF!"}},{"$f":"($E$9+$E$22)*固都税経年率!K5*(0.014+0.003)","v":{"$error":"#REF!"}},{"$f":"($E$9+$E$22)*固都税経年率!L5*(0.014+0.003)","v":{"$error":"#REF!"}},{"$f":"($E$9+$E$22)*固都税経年率!M5*(0.014+0.003)","v":{"$error":"#REF!"}},{"$f":"($E$9+$E$22)*固都税経年率!N5*(0.014+0.003)","v":{"$error":"#REF!"}},{"$f":"($E$9+$E$22)*固都税経年率!O5*(0.014+0.003)","v":{"$error":"#REF!"}},{"$f":"($E$9+$E$22)*固都税経年率!P5*(0.014+0.003)","v":{"$error":"#REF!"}},{"$f":"($E$9+$E$22)*固都税経年率!Q5*(0.014+0.003)","v":{"$error":"#REF!"}},{"$f":"($E$9+$E$22)*固都税経年率!R5*(0.014+0.003)","v":{"$error":"#REF!"}},{"$f":"($E$9+$E$22)*固都税経年率!S5*(0.014+0.003)","v":{"$error":"#REF!"}},{"$f":"($E$9+$E$22)*固都税経年率!T5*(0.014+0.003)","v":{"$error":"#REF!"}},{"$f":"($E$9+$E$22)*固都税経年率!U5*(0.014+0.003)","v":{"$error":"#REF!"}},{"$f":"($E$9+$E$22)*固都税経年率!V5*(0.014+0.003)","v":{"$error":"#REF!"}},{"$f":"($E$9+$E$22)*固都税経年率!W5*(0.014+0.003)","v":{"$error":"#REF!"}},{"$f":"($E$9+$E$22)*固都税経年率!X5*(0.014+0.003)","v":{"$error":"#REF!"}},{"$f":"($E$9+$E$22)*固都税経年率!Y5*(0.014+0.003)","v":{"$error":"#REF!"}},{"$f":"($E$9+$E$22)*固都税経年率!Z5*(0.014+0.003)","v":{"$error":"#REF!"}},{"$f":"($E$9+$E$22)*固都税経年率!AA5*(0.014+0.003)","v":{"$error":"#REF!"}},{"$f":"($E$9+$E$22)*固都税経年率!AB5*(0.014+0.003)","v":{"$error":"#REF!"}},{"$f":"($E$9+$E$22)*固都税経年率!AC5*(0.014+0.003)","v":{"$error":"#REF!"}},{"$f":"($E$9+$E$22)*固都税経年率!AD5*(0.014+0.003)","v":{"$error":"#REF!"}},{"$f":"($E$9+$E$22)*固都税経年率!AE5*(0.014+0.003)","v":{"$error":"#REF!"}},{"$f":"($E$9+$E$22)*固都税経年率!AF5*(0.014+0.003)","v":{"$error":"#REF!"}},{"$f":"($E$9+$E$22)*固都税経年率!AG5*(0.014+0.003)","v":{"$error":"#REF!"}},{"$f":"($E$9+$E$22)*固都税経年率!AH5*(0.014+0.003)","v":{"$error":"#REF!"}},{"$f":"($E$9+$E$22)*固都税経年率!AI5*(0.014+0.003)","v":{"$error":"#REF!"}},{"$f":"($E$9+$E$22)*固都税経年率!AJ5*(0.014+0.003)","v":{"$error":"#REF!"}},{"$f":"($E$9+$E$22)*固都税経年率!AK5*(0.014+0.003)","v":{"$error":"#REF!"}}]
[null,null,null,null,"所得税等",null,null,{"$f":"MAX(H65*0.33,0)","v":{"$error":"#REF!"}},{"$f":"MAX(I65*0.33,0)","v":{"$error":"#REF!"}},{"$error":"#REF!"},{"$error":"#REF!"},{"$error":"#REF!"},{"$error":"#REF!"},{"$error":"#REF!"},{"$error":"#REF!"},{"$error":"#REF!"},{"$error":"#REF!"},{"$error":"#REF!"},{"$error":"#REF!"},{"$error":"#REF!"},{"$error":"#REF!"},{"$error":"#REF!"},{"$error":"#REF!"},{"$error":"#REF!"},{"$error":"#REF!"},{"$error":"#REF!"},{"$error":"#REF!"},{"$error":"#REF!"},{"$error":"#REF!"},{"$error":"#REF!"},{"$error":"#REF!"},{"$error":"#REF!"},{"$error":"#REF!"},{"$error":"#REF!"},{"$error":"#REF!"},{"$error":"#REF!"},{"$error":"#REF!"},{"$f":"MAX(AL65*0.33,0)","v":{"$error":"#REF!"}},{"$error":"#REF!"},{"$error":"#REF!"},{"$error":"#REF!"},{"$error":"#REF!"}]
[null,null,null,null,"支出計",null,{"$f":"SUM(G40:G49)","v":{"$error":"#REF!"}},{"$f":"SUM(H40:H49)","v":{"$error":"#REF!"}},{"$error":"#REF!"},{"$error":"#REF!"},{"$error":"#REF!"},{"$error":"#REF!"},{"$error":"#REF!"},{"$error":"#REF!"},{"$error":"#REF!"},{"$error":"#REF!"},{"$error":"#REF!"},{"$error":"#REF!"},{"$error":"#REF!"},{"$error":"#REF!"},{"$error":"#REF!"},{"$error":"#REF!"},{"$error":"#REF!"},{"$error":"#REF!"},{"$error":"#REF!"},{"$error":"#REF!"},{"$error":"#REF!"},{"$error":"#REF!"},{"$error":"#REF!"},{"$error":"#REF!"},{"$error":"#REF!"},{"$error":"#REF!"},{"$error":"#REF!"},{"$error":"#REF!"},{"$error":"#REF!"},{"$error":"#REF!"},{"$error":"#REF!"},{"$f":"SUM(AL40:AL49)","v":{"$error":"#REF!"}},{"$error":"#REF!"},{"$error":"#REF!"},{"$error":"#REF!"},{"$error":"#REF!"}]
[null,null,null,"収支","手元資金残金（年）",null,{"$f":"G39-G50","v":{"$error":"#REF!"}},{"$f":"H39-H50","v":{"$error":"#REF!"}},{"$error":"#REF!"},{"$error":"#REF!"},{"$error":"#REF!"},{"$error":"#REF!"},{"$error":"#REF!"},{"$error":"#REF!"},{"$error":"#REF!"},{"$error":"#REF!"},{"$error":"#REF!"},{"$error":"#REF!"},{"$error":"#REF!"},{"$error":"#REF!"},{"$error":"#REF!"},{"$error":"#REF!"},{"$error":"#REF!"},{"$error":"#REF!"},{"$error":"#REF!"},{"$error":"#REF!"},{"$f":"AA39-AA50","v":{"$error":"#REF!"}},{"$error":"#REF!"},{"$error":"#REF!"},{"$error":"#REF!"},{"$error":"#REF!"},{"$f":"AF39-AF50","v":{"$error":"#REF!"}},{"$error":"#REF!"},{"$error":"#REF!"},{"$error":"#REF!"},{"$error":"#REF!"},{"$error":"#REF!"},{"$f":"AL39-AL50","v":{"$error":"#REF!"}},{"$error":"#REF!"},{"$error":"#REF!"},{"$error":"#REF!"},{"$error":"#REF!"}]
[null,null,null,null,"手元資金残金（累計）",null,{"$f":"-1*G39","v":{"$error":"#REF!"}},{"$f":"G52+H51","v":{"$error":"#REF!"}},{"$f":"H52+I51","v":{"$error":"#REF!"}},{"$error":"#REF!"},{"$error":"#REF!"},{"$error":"#REF!"},{"$error":"#REF!"},{"$error":"#REF!"},{"$error":"#REF!"},{"$error":"#REF!"},{"$error":"#REF!"},{"$error":"#REF!"},{"$error":"#REF!"},{"$error":"#REF!"},{"$error":"#REF!"},{"$error":"#REF!"},{"$error":"#REF!"},{"$error":"#REF!"},{"$error":"#REF!"},{"$error":"#REF!"},{"$f":"Z52+AA51","v":{"$error":"#REF!"}},{"$error":"#REF!"},{"$error":"#REF!"},{"$error":"#REF!"},{"$error":"#REF!"},{"$error":"#REF!"},{"$error":"#REF!"},{"$error":"#REF!"},{"$error":"#REF!"},{"$error":"#REF!"},{"$error":"#REF!"},{"$f":"AK52+AL51","v":{"$error":"#REF!"}},{"$f":"AL52+AM51","v":{"$error":"#REF!"}},{"$f":"AM52+AN51","v":{"$error":"#REF!"}},{"$f":"AN52+AO51","v":{"$error":"#REF!"}},{"$f":"AO52+AP51","v":{"$error":"#REF!"}}]
[null,null,null,"収益","（収入計：修繕積立金取崩し除く)",null,null,{"$f":"H34","v":{"$error":"#REF!"}},{"$f":"I34","v":{"$error":"#REF!"}},{"$error":"#REF!"},{"$error":"#REF!"},{"$error":"#REF!"},{"$error":"#REF!"},{"$error":"#REF!"},{"$error":"#REF!"},{"$error":"#REF!"},{"$error":"#REF!"},{"$error":"#REF!"},{"$error":"#REF!"},{"$error":"#REF!"},{"$error":"#REF!"},{"$error":"#REF!"},{"$error":"#REF!"},{"$error":"#REF!"},{"$error":"#REF!"},{"$error":"#REF!"},{"$error":"#REF!"},{"$error":"#REF!"},{"$error":"#REF!"},{"$error":"#REF!"},{"$error":"#REF!"},{"$error":"#REF!"},{"$error":"#REF!"},{"$error":"#REF!"},{"$error":"#REF!"},{"$error":"#REF!"},{"$error":"#REF!"},{"$f":"AL34","v":{"$error":"#REF!"}},{"$error":"#REF!"},{"$error":"#REF!"},{"$error":"#REF!"},{"$error":"#REF!"}]
[null,null,null,null,"建物管理費(募集・管理委託等)",null,null,{"$f":"$G$7*0.05","v":{"$error":"#REF!"}},{"$f":"$G$7*0.05","v":{"$error":"#REF!"}},{"$error":"#REF!"},{"$error":"#REF!"},{"$error":"#REF!"},{"$error":"#REF!"},{"$error":"#REF!"},{"$error":"#REF!"},{"$error":"#REF!"},{"$error":"#REF!"},{"$f":"$G$7*0.05","v":{"$error":"#REF!"}},{"$error":"#REF!"},{"$error":"#REF!"},{"$error":"#REF!"},{"$error":"#REF!"},{"$error":"#REF!"},{"$error":"#REF!"},{"$error":"#REF!"},{"$error":"#REF!"},{"$error":"#REF!"},{"$error":"#REF!"},{"$error":"#REF!"},{"$error":"#REF!"},{"$error":"#REF!"},{"$error":"#REF!"},{"$error":"#REF!"},{"$error":"#REF!"},{"$error":"#REF!"},{"$error":"#REF!"},{"$error":"#REF!"},{"$error":"#REF!"},{"$error":"#REF!"},{"$error":"#REF!"},{"$error":"#REF!"},{"$error":"#REF!"}]
[null,null,"P/L","営業費用","修繕費",null,null,{"$f":"H44","v":{"$error":"#REF!"}},{"$f":"I44","v":{"$error":"#REF!"}},{"$error":"#REF!"},{"$error":"#REF!"},{"$error":"#REF!"},{"$error":"#REF!"},{"$error":"#REF!"},{"$error":"#REF!"},{"$error":"#REF!"},{"$error":"#REF!"},{"$error":"#REF!"},{"$error":"#REF!"},{"$error":"#REF!"},{"$error":"#REF!"},{"$error":"#REF!"},{"$error":"#REF!"},{"$error":"#REF!"},{"$error":"#REF!"},{"$error":"#REF!"},{"$error":"#REF!"},{"$error":"#REF!"},{"$error":"#REF!"},{"$error":"#REF!"},{"$error":"#REF!"},{"$error":"#REF!"},{"$error":"#REF!"},{"$error":"#REF!"},{"$error":"#REF!"},{"$error":"#REF!"},{"$error":"#REF!"},{"$f":"AL44","v":{"$error":"#REF!"}},{"$error":"#REF!"},{"$error":"#REF!"},{"$error":"#REF!"},{"$error":"#REF!"}]
[null,null,"損益計算",null,"保険料",null,null,{"$f":"H42","v":{"$error":"#REF!"}},{"$error":"#REF!"},{"$error":"#REF!"},{"$error":"#REF!"},{"$error":"#REF!"},{"$error":"#REF!"},{"$error":"#REF!"},{"$error":"#REF!"},{"$error":"#REF!"},{"$error":"#REF!"},{"$error":"#REF!"},{"$error":"#REF!"},{"$error":"#REF!"},{"$error":"#REF!"},{"$error":"#REF!"},{"$error":"#REF!"},{"$error":"#REF!"},{"$error":"#REF!"},{"$error":"#REF!"},{"$error":"#REF!"},{"$error":"#REF!"},{"$error":"#REF!"},{"$error":"#REF!"},{"$error":"#REF!"},{"$error":"#REF!"},{"$error":"#REF!"},{"$error":"#REF!"},{"$error":"#REF!"},{"$error":"#REF!"},{"$error":"#REF!"},{"$f":"AL42","v":{"$error":"#REF!"}},{"$error":"#REF!"},{"$error":"#REF!"},{"$error":"#REF!"},{"$error":"#REF!"}]
[null,null,null,null,"固定資産税・都市計画税",null,null,{"$f":"H48","v":{"$error":"#REF!"}},{"$error":"#REF!"},{"$error":"#REF!"},{"$error":"#REF!"},{"$error":"#REF!"},{"$error":"#REF!"},{"$error":"#REF!"},{"$error":"#REF!"},{"$error":"#REF!"},{"$error":"#REF!"},{"$error":"#REF!"},{"$error":"#REF!"},{"$error":"#REF!"},{"$error":"#REF!"},{"$error":"#REF!"},{"$error":"#REF!"},{"$error":"#REF!"},{"$error":"#REF!"},{"$error":"#REF!"},{"$error":"#REF!"},{"$error":"#REF!"},{"$error":"#REF!"},{"$error":"#REF!"},{"$error":"#REF!"},{"$error":"#REF!"},{"$error":"#REF!"},{"$error":"#REF!"},{"$error":"#REF!"},{"$error":"#REF!"},{"$error":"#REF!"},{"$f":"AL48","v":{"$error":"#REF!"}},{"$error":"#REF!"},{"$error":"#REF!"},{"$error":"#REF!"},{"$error":"#REF!"}]
[null,null,null,null,"修繕積立金"]
[null,null,null,null,"営業費用計",null,null,{"$f":"SUM(H54:H58)","v":{"$error":"#REF!"}},{"$f":"SUM(I54:I58)","v":{"$error":"#REF!"}},{"$error":"#REF!"},{"$error":"#REF!"},{"$error":"#REF!"},{"$error":"#REF!"},{"$error":"#REF!"},{"$error":"#REF!"},{"$error":"#REF!"},{"$error":"#REF!"},{"$error":"#REF!"},{"$error":"#REF!"},{"$error":"#REF!"},{"$error":"#REF!"},{"$error":"#REF!"},{"$error":"#REF!"},{"$error":"#REF!"},{"$error":"#REF!"},{"$error":"#REF!"},{"$error":"#REF!"},{"$error":"#REF!"},{"$error":"#REF!"},{"$error":"#REF!"},{"$error":"#REF!"},{"$error":"#REF!"},{"$error":"#REF!"},{"$error":"#REF!"},{"$error":"#REF!"},{"$error":"#REF!"},{"$error":"#REF!"},{"$f":"SUM(AL54:AL58)","v":{"$error":"#REF!"}},{"$error":"#REF!"},{"$error":"#REF!"},{"$error":"#REF!"},{"$error":"#REF!"}]
[null,null,null,"償却前利益","（営業収入と同値）",null,null,{"$f":"H53-H59","v":{"$error":"#REF!"}},{"$f":"I53-I59","v":{"$error":"#REF!"}},{"$error":"#REF!"},{"$error":"#REF!"},{"$error":"#REF!"},{"$error":"#REF!"},{"$error":"#REF!"},{"$error":"#REF!"},{"$error":"#REF!"},{"$error":"#REF!"},{"$error":"#REF!"},{"$error":"#REF!"},{"$error":"#REF!"},{"$error":"#REF!"},{"$error":"#REF!"},{"$error":"#REF!"},{"$error":"#REF!"},{"$error":"#REF!"},{"$error":"#REF!"},{"$error":"#REF!"},{"$error":"#REF!"},{"$error":"#REF!"},{"$error":"#REF!"},{"$error":"#REF!"},{"$error":"#REF!"},{"$error":"#REF!"},{"$error":"#REF!"},{"$error":"#REF!"},{"$error":"#REF!"},{"$error":"#REF!"},{"$f":"AL53-AL59","v":{"$error":"#REF!"}},{"$error":"#REF!"},{"$error":"#REF!"},{"$error":"#REF!"},{"$error":"#REF!"}]
[null,null,null,null,"減価償却費(定額法)",null,null,{"$f":"$E$9*$E$26","v":{"$error":"#REF!"}},{"$f":"$E$9*$E$26","v":{"$error":"#REF!"}},{"$error":"#REF!"},{"$error":"#REF!"},{"$error":"#REF!"},{"$error":"#REF!"},{"$error":"#REF!"},{"$error":"#REF!"},{"$error":"#REF!"},{"$error":"#REF!"},{"$error":"#REF!"},{"$error":"#REF!"},{"$error":"#REF!"},{"$error":"#REF!"},{"$error":"#REF!"},{"$error":"#REF!"},{"$error":"#REF!"},{"$error":"#REF!"},{"$error":"#REF!"},{"$error":"#REF!"},{"$error":"#REF!"},{"$error":"#REF!"},null,null,null,null,null,null,null,null,null,null,null,null,null,null,null,null,null,null,null,null,null,null,null,null,null,null,null,null,"← 注意　22年まで"]
[null,null,null,"営業外費用","支払利息","※",null,{"$f":"借入金!C11","v":0},{"$f":"借入金!D11","v":0},{"$f":"借入金!E11","v":0},{"$f":"借入金!F11","v":0},{"$f":"借入金!G11","v":0},{"$f":"借入金!H11","v":0},{"$f":"借入金!I11","v":0},{"$f":"借入金!J11","v":0},{"$f":"借入金!K11","v":0},{"$f":"借入金!L11","v":0},{"$f":"借入金!M11","v":0},{"$f":"借入金!N11","v":0},{"$f":"借入金!O11","v":0},{"$f":"借入金!P11","v":0},{"$f":"借入金!Q11","v":0},{"$f":"借入金!R11","v":0},{"$f":"借入金!S11","v":0},{"$f":"借入金!T11","v":0},{"$f":"借入金!U11","v":0},{"$f":"借入金!V11","v":0},{"$f":"借入金!W11","v":0},{"$f":"借入金!X11","v":0},{"$f":"借入金!Y11","v":0},{"$f":"借入金!Z11","v":0},{"$f":"借入金!AA11","v":0},{"$f":"借入金!AB11","v":0},{"$f":"借入金!AC11","v":0},{"$f":"借入金!AD11","v":0},{"$f":"借入金!AE11","v":0},{"$f":"借入金!AF11","v":0},{"$f":"借入金!AG11","v":0}]
[null,null,null,null,"支払利息(短期分)","※"]
[null,null,null,null,"営業外費用計",null,null,{"$f":"SUM(H61:H63)","v":{"$error":"#REF!"}},{"$f":"SUM(I61:I63)","v":{"$error":"#REF!"}},{"$error":"#REF!"},{"$error":"#REF!"},{"$error":"#REF!"},{"$error":"#REF!"},{"$error":"#REF!"},{"$error":"#REF!"},{"$error":"#REF!"},{"$error":"#REF!"},{"$error":"#REF!"},{"$error":"#REF!"},{"$error":"#REF!"},{"$error":"#REF!"},{"$error":"#REF!"},{"$error":"#REF!"},{"$error":"#REF!"},{"$error":"#REF!"},{"$error":"#REF!"},{"$error":"#REF!"},{"$error":"#REF!"},{"$error":"#REF!"},0,0,0,0,0,0,0,0,{"$f":"SUM(AL61:AL63)","v":0},0,0,0,0]
[null,null,null,"税引前利益(償却後利益)",null,null,null,{"$f":"H60-H64","v":{"$error":"#REF!"}},{"$error":"#REF!"},{"$error":"#REF!"},{"$error":"#REF!"},{"$error":"#REF!"},{"$error":"#REF!"},{"$error":"#REF!"},{"$error":"#REF!"},{"$error":"#REF!"},{"$error":"#REF!"},{"$error":"#REF!"},{"$error":"#REF!"},{"$error":"#REF!"},{"$error":"#REF!"},{"$error":"#REF!"},{"$error":"#REF!"},{"$error":"#REF!"},{"$error":"#REF!"},{"$error":"#REF!"},{"$error":"#REF!"},{"$error":"#REF!"},{"$error":"#REF!"},{"$error":"#REF!"},{"$error":"#REF!"},{"$error":"#REF!"},{"$error":"#REF!"},{"$error":"#REF!"},{"$error":"#REF!"},{"$error":"#REF!"},{"$error":"#REF!"},{"$f":"AL60-AL64","v":{"$error":"#REF!"}},{"$error":"#REF!"},{"$error":"#REF!"},{"$error":"#REF!"},{"$error":"#REF!"}]
[null,null,null," 所得税",null,null,null,{"$f":"MAX(H65*0.33,0)","v":{"$error":"#REF!"}},{"$f":"MAX(I65*0.33,0)","v":{"$error":"#REF!"}},{"$error":"#REF!"},{"$error":"#REF!"},{"$error":"#REF!"},{"$error":"#REF!"},{"$error":"#REF!"},{"$error":"#REF!"},{"$error":"#REF!"},{"$error":"#REF!"},{"$error":"#REF!"},{"$error":"#REF!"},{"$error":"#REF!"},{"$error":"#REF!"},{"$error":"#REF!"},{"$error":"#REF!"},{"$error":"#REF!"},{"$error":"#REF!"},{"$error":"#REF!"},{"$error":"#REF!"},{"$error":"#REF!"},{"$error":"#REF!"},{"$error":"#REF!"},{"$error":"#REF!"},{"$error":"#REF!"},{"$error":"#REF!"},{"$error":"#REF!"},{"$error":"#REF!"},{"$error":"#REF!"},{"$error":"#REF!"},{"$f":"MAX(AL65*0.33,0)","v":{"$error":"#REF!"}},{"$error":"#REF!"},{"$error":"#REF!"},{"$error":"#REF!"},{"$error":"#REF!"}]
[null,null,null,"当期利益",null,null,null,{"$f":"H65-H66","v":{"$error":"#REF!"}},{"$f":"I65-I66","v":{"$error":"#REF!"}},{"$error":"#REF!"},{"$error":"#REF!"},{"$error":"#REF!"},{"$error":"#REF!"},{"$error":"#REF!"},{"$error":"#REF!"},{"$error":"#REF!"},{"$error":"#REF!"},{"$error":"#REF!"},{"$error":"#REF!"},{"$error":"#REF!"},{"$error":"#REF!"},{"$error":"#REF!"},{"$error":"#REF!"},{"$error":"#REF!"},{"$error":"#REF!"},{"$error":"#REF!"},{"$error":"#REF!"},{"$error":"#REF!"},{"$error":"#REF!"},{"$error":"#REF!"},{"$error":"#REF!"},{"$error":"#REF!"},{"$error":"#REF!"},{"$error":"#REF!"},{"$error":"#REF!"},{"$error":"#REF!"},{"$error":"#REF!"},{"$f":"AL65-AL66","v":{"$error":"#REF!"}},{"$error":"#REF!"},{"$error":"#REF!"},{"$error":"#REF!"},{"$error":"#REF!"}]
[null,null,null,"当期利益累計",null,null,null,{"$f":"H67","v":{"$error":"#REF!"}},{"$f":"H68+I67","v":{"$error":"#REF!"}},{"$f":"I68+J67","v":{"$error":"#REF!"}},{"$error":"#REF!"},{"$error":"#REF!"},{"$error":"#REF!"},{"$error":"#REF!"},{"$error":"#REF!"},{"$error":"#REF!"},{"$error":"#REF!"},{"$error":"#REF!"},{"$error":"#REF!"},{"$error":"#REF!"},{"$error":"#REF!"},{"$error":"#REF!"},{"$error":"#REF!"},{"$error":"#REF!"},{"$error":"#REF!"},{"$error":"#REF!"},{"$error":"#REF!"},{"$error":"#REF!"},{"$error":"#REF!"},{"$error":"#REF!"},{"$error":"#REF!"},{"$f":"AE68+AF67","v":{"$error":"#REF!"}},{"$error":"#REF!"},{"$error":"#REF!"},{"$error":"#REF!"},{"$error":"#REF!"},{"$error":"#REF!"},{"$f":"AK68+AL67","v":{"$error":"#REF!"}},{"$f":"AL68+AM67","v":{"$error":"#REF!"}},{"$f":"AM68+AN67","v":{"$error":"#REF!"}},{"$f":"AN68+AO67","v":{"$error":"#REF!"}},{"$f":"AO68+AP67","v":{"$error":"#REF!"}}]
[null,null,null,"投下資本未回収残高(積立金除く)",null,null,{"$f":"-1*G50","v":{"$error":"#REF!"}},{"$f":"G69+IF(H51>0,H51,0)-SUM(H36:H37)","v":{"$error":"#REF!"}},{"$error":"#REF!"},{"$error":"#REF!"},{"$error":"#REF!"},{"$error":"#REF!"},{"$error":"#REF!"},{"$error":"#REF!"},{"$error":"#REF!"},{"$error":"#REF!"},{"$error":"#REF!"},{"$error":"#REF!"},{"$error":"#REF!"},{"$error":"#REF!"},{"$error":"#REF!"},{"$error":"#REF!"},{"$error":"#REF!"},{"$error":"#REF!"},{"$error":"#REF!"},{"$error":"#REF!"},{"$error":"#REF!"},{"$error":"#REF!"},{"$error":"#REF!"},{"$error":"#REF!"},{"$error":"#REF!"},{"$error":"#REF!"},{"$error":"#REF!"},{"$error":"#REF!"},{"$error":"#REF!"},{"$error":"#REF!"},{"$error":"#REF!"},{"$error":"#REF!"},{"$error":"#REF!"},{"$f":"AM69+IF(AN51>0,AN51,0)-SUM(AN36:AN37)","v":{"$error":"#REF!"}},{"$error":"#REF!"},{"$error":"#REF!"}]
[null,null,null,"修繕積立金累計額",null,null,null,{"$f":"G70+H45-H38","v":{"$error":"#REF!"}},{"$error":"#REF!"},{"$error":"#REF!"},{"$error":"#REF!"},{"$error":"#REF!"},{"$error":"#REF!"},{"$error":"#REF!"},{"$error":"#REF!"},{"$error":"#REF!"},{"$error":"#REF!"},{"$error":"#REF!"},{"$error":"#REF!"},{"$error":"#REF!"},{"$error":"#REF!"},{"$error":"#REF!"},{"$error":"#REF!"},{"$error":"#REF!"},{"$error":"#REF!"},{"$error":"#REF!"},{"$error":"#REF!"},{"$error":"#REF!"},{"$error":"#REF!"},{"$error":"#REF!"},{"$error":"#REF!"},{"$error":"#REF!"},{"$error":"#REF!"},{"$error":"#REF!"},{"$error":"#REF!"},{"$error":"#REF!"},{"$error":"#REF!"},{"$error":"#REF!"},{"$error":"#REF!"},{"$f":"AM70+AN45-AN38","v":{"$error":"#REF!"}},{"$error":"#REF!"},{"$error":"#REF!"}]
[null,null,null,null,null,"※は別シートとリンク"]