{"text_format":"1","workbook":"xlsx","n_sheets":15,"sheets":["様式2-1準備用","取水施設","浄水場内施設（急速ろ過）","浄水場内施設（膜ろ過）","浄水場内施設（紫外線）","浄水場内施設（ろ過機）","浄水場内施設（その他）","送配水ポンプ施設","配水池","管種別導入布設年度","用途管種別延長","デフレータ","様式2-2準備用","管路布設情報入力","単価情報"],"not_rendered":{"charts":0,"images":16,"macros":1,"external_links":1,"defined_names":39,"comments":0,"pivot_tables":0},"unopened":[],"bounds":{"document_bytes":16777216,"sheet_cells":100000,"rows_first":2000,"rows_last":500,"rows_between":2000,"halvings":0,"cell_chars":16384,"cell_head_chars":4096},"cells_cut":0,"cells_raw":0,"read":"whole","date_system":"1900"}

{"sheet":"様式2-1準備用","index":0,"n_rows":1016,"n_cols":19,"rows_kept":1016,"cut":false,"hidden":false,"merged":[]}
[null,"様式2-1（準備用）"]
[null,"●構造物及び設備の取得年度、帳簿原価等"]
[null,"帳簿価格、取得年度が0のデータは様式2-1に編集しません。（削除する必要はありません。）"]
[null,"②系統","③区分","④工種","⑤施設名","⑥帳簿価格\n（千円）","⑦取得年度","⑧改築費\n（千円）","⑨\n法定耐用年数","⑩再改築費\n（千円）","⑪更新基準\n（現有資産）",null,"＜施設（大分類）＞",null,null,"【集計表】","⑥現在価格\n（千円）","⑧改築費\n（千円）","⑩再改築費\n（千円）"]
[null,null,null,null,null,null,null,null,null,null,60,null,"●取水施設",null,null,"建築",{"$f":"SUMIF($D:$D,$P5,$F:$F)","v":0},{"$f":"SUMIF($D:$D,$P5,$H:$H)","v":0},{"$f":"SUMIF($D:$D,$P5,$J:$J)","v":0}]
[null,null,null,null,null,null,null,null,null,null,15,null,"　浅井戸",null,null,"土木",{"$f":"SUMIF($D:$D,$P6,$F:$F)","v":0},{"$f":"SUMIF($D:$D,$P6,$H:$H)","v":0},{"$f":"SUMIF($D:$D,$P6,$J:$J)","v":0}]
[null,null,null,null,null,null,null,null,null,null,15,null,"　深井戸",null,null,"電気",0,0,0]
[null,null,null,null,null,null,null,null,null,null,60,null,"　取水口と沈砂池",null,null,"機械",0,0,0]
[null,null,null,null,null,null,null,null,null,null,15,null,"●浄水場内施設",null,null,"計装",0,0,0]
[null,null,null,null,null,null,null,null,null,null,15,null,"　急速ろ過《天日乾燥床・高圧受電》",null,null,"その他１",0,0,0]
[null,null,null,null,null,null,null,null,null,null,60,null,"　（直接基礎浄水池）",null,null,"その他２",0,0,0]
[null,null,null,null,null,null,null,null,null,null,15,null,"　急速ろ過《機械脱水機・特高受電》",null,null,"その他３",0,0,0]
[null,null,null,null,null,null,null,null,null,null,15,null,"　（ポンプ井と杭基礎浄水池・ポンプ井）",null,null,"計",{"$f":"SUM(Q5:Q12)","v":0},{"$f":"SUM(R5:R12)","v":0},{"$f":"SUM(S5:S12)","v":0}]
[null,null,null,null,null,null,null,null,null,null,60,null,"　膜ろ過"]
[null,null,null,null,null,null,null,null,null,null,15,null,"　紫外線処理",null,null,"工種","※法定耐用年数"]
[null,null,null,null,null,null,null,null,null,null,15,null,"　ろ過機",null,null,"建築",50]
[null,null,null,null,null,null,null,null,null,null,60,null,"　オゾン処理",null,null,"土木",60]
[null,null,null,null,null,null,null,null,null,null,15,null,"　活性炭処理《粉末》",null,null,"配水池《SUS》",45]
[null,null,null,null,null,null,null,null,null,null,15,null,"　活性炭処理《粒状》",null,null,"電気",15]
[null,null,null,null,null,null,null,null,null,null,60,null,"　緩速ろ過池",null,null,"機械",15]
[null,null,null,null,null,null,null,null,null,null,15,null,"●送配水ポンプ施設"]
[null,null,null,null,null,null,null,null,null,null,15,null,"　送水ポンプ施設-場外"]
[null,null,null,null,null,null,null,null,null,null,60,null,"　配水ポンプ施設-場外"]
[null,null,null,null,null,null,null,null,null,null,15,null,"●配水池"]
[null,null,null,null,null,null,null,null,null,null,15,null,"　RC"]
[null,null,null,null,null,null,null,null,null,null,60,null,"　PC"]
[null,null,null,null,null,null,null,null,null,null,15,null,"　SUS"]
[null,null,null,null,null,null,null,null,null,null,15]
[null,null,null,null,null,null,null,null,null,null,60]
[null,null,null,null,null,null,null,null,null,null,15]
[null,null,null,null,null,null,null,null,null,null,15]
[null,null,null,null,null,null,null,null,null,null,60]
[null,null,null,null,null,null,null,null,null,null,15]
[null,null,null,null,null,null,null,null,null,null,60]
[null,null,null,null,null,null,null,null,null,null,50]
[null,null,null,null,null,null,null,null,null,null,15]
[null,null,null,null,null,null,null,null,null,null,15]
[null,null,null,null,null,null,null,null,null,null,50]
[null,null,null,null,null,null,null,null,null,null,15]
[null,null,null,null,null,null,null,null,null,null,15]
[null,null,null,null,null,null,null,null,null,null,60]
[null,null,null,null,null,null,null,null,null,null,15]
[null,null,null,null,null,null,null,null,null,null,15]
[null,null,null,null,null,null,null,null,null,null,60]
[null,null,null,null,null,null,null,null,null,null,15]
[null,null,null,null,null,null,null,null,null,null,15]
[null,null,null,null,null,null,null,null,null,null,60]
[null,null,null,null,null,null,null,null,null,null,50]
[null,null,null,null,null,null,null,null,null,null,50]
[null,null,null,null,null,null,null,null,null,null,15]
[null,null,null,null,null,null,null,null,null,null,15]
[null,null,null,null,null,null,null,null,null,null,15]
[null,null,null,null,null,null,null,null,null,null,50]
[null,null,null,null,null,null,null,null,null,null,15]
[null,null,null,null,null,null,null,null,null,null,15]
[null,null,null,null,null,null,null,null,null,null,60]
[null,null,null,null,null,null,null,null,null,null,60]
[null,null,null,null,null,null,null,null,null,null,15]
[null,null,null,null,null,null,null,null,null,null,15]
[null,null,null,null,null,null,null,null,null,null,60]
[null,null,null,null,null,null,null,null,null,null,15]
[null,null,null,null,null,null,null,null,null,null,15]
[null,null,null,null,null,null,null,null,null,null,60]
[null,null,null,null,null,null,null,null,null,null,15]
[null,null,null,null,null,null,null,null,null,null,15]
[null,null,null,null,null,null,null,null,null,null,60]
[null,null,null,null,null,null,null,null,null,null,15]
[null,null,null,null,null,null,null,null,null,null,15]
[null,null,null,null,null,null,null,null,null,null,60]
[null,null,null,null,null,null,null,null,null,null,15]
[null,null,null,null,null,null,null,null,null,null,15]
[null,null,null,null,null,null,null,null,null,null,60]
[null,null,null,null,null,null,null,null,null,null,15]
[null,null,null,null,null,null,null,null,null,null,60]
[null,null,null,null,null,null,null,null,null,null,50]
[null,null,null,null,null,null,null,null,null,null,15]
[null,null,null,null,null,null,null,null,null,null,15]
[null,null,null,null,null,null,null,null,null,null,50]
[null,null,null,null,null,null,null,null,null,null,15]
[null,null,null,null,null,null,null,null,null,null,15]
[null,null,null,null,null,null,null,null,null,null,60]
[null,null,null,null,null,null,null,null,null,null,15]
[null,null,null,null,null,null,null,null,null,null,15]
[null,null,null,null,null,null,null,null,null,null,60]
[null,null,null,null,null,null,null,null,null,null,15]
[null,null,null,null,null,null,null,null,null,null,15]
[null,null,null,null,null,null,null,null,null,null,50]
[null,null,null,null,null,null,null,null,null,null,15]
[null,null,null,null,null,null,null,null,null,null,15]
[null,null,null,null,null,null,null,null,null,null,50]
[null,null,null,null,null,null,null,null,null,null,50]
[null,null,null,null,null,null,null,null,null,null,15]
[null,null,null,null,null,null,null,null,null,null,15]
[null,null,null,null,null,null,null,null,null,null,15]
[null,null,null,null,null,null,null,null,null,null,50]
[null,null,null,null,null,null,null,null,null,null,15]
[null,null,null,null,null,null,null,null,null,null,15]
[null,null,null,null,null,null,null,null,null,null,60]
[null,null,null,null,null,null,null,null,null,null,15]
[null,null,null,null,null,null,null,null,null,null,15]
[null,null,null,null,null,null,null,null,null,null,60]
[null,null,null,null,null,null,null,null,null,null,15]
[null,null,null,null,null,null,null,null,null,null,15]
[null,null,null,null,null,null,null,null,null,null,60]
[null,null,null,null,null,null,null,null,null,null,15]
[null,null,null,null,null,null,null,null,null,null,60]
[null,null,null,null,null,null,null,null,null,null,50]
[null,null,null,null,null,null,null,null,null,null,15]
[null,null,null,null,null,null,null,null,null,null,15]
[null,null,null,null,null,null,null,null,null,null,50]
[null,null,null,null,null,null,null,null,null,null,15]
[null,null,null,null,null,null,null,null,null,null,15]
[null,null,null,null,null,null,null,null,null,null,60]
[null,null,null,null,null,null,null,null,null,null,15]
[null,null,null,null,null,null,null,null,null,null,15]
[null,null,null,null,null,null,null,null,null,null,60]
[null,null,null,null,null,null,null,null,null,null,15]
[null,null,null,null,null,null,null,null,null,null,15]
[null,null,null,null,null,null,null,null,null,null,60]
[null,null,null,null,null,null,null,null,null,null,50]
[null,null,null,null,null,null,null,null,null,null,50]
[null,null,null,null,null,null,null,null,null,null,15]
[null,null,null,null,null,null,null,null,null,null,15]
[null,null,null,null,null,null,null,null,null,null,15]
[null,null,null,null,null,null,null,null,null,null,50]
[null,null,null,null,null,null,null,null,null,null,15]
[null,null,null,null,null,null,null,null,null,null,15]
[null,null,null,null,null,null,null,null,null,null,60]
[null,null,null,null,null,null,null,null,null,null,15]
[null,null,null,null,null,null,null,null,null,null,15]
[null,null,null,null,null,null,null,null,null,null,60]
[null,null,null,null,null,null,null,null,null,null,50]
[null,null,null,null,null,null,null,null,null,null,50]
[null,null,null,null,null,null,null,null,null,null,15]
[null,null,null,null,null,null,null,null,null,null,15]
[null,null,null,null,null,null,null,null,null,null,15]
[null,null,null,null,null,null,null,null,null,null,50]
[null,null,null,null,null,null,null,null,null,null,15]
[null,null,null,null,null,null,null,null,null,null,15]
[null,null,null,null,null,null,null,null,null,null,60]
[null,null,null,null,null,null,null,null,null,null,50]
[null,null,null,null,null,null,null,null,null,null,15]
[null,null,null,null,null,null,null,null,null,null,15]
[null,null,null,null,null,null,null,null,null,null,50]
[null,null,null,null,null,null,null,null,null,null,15]
[null,null,null,null,null,null,null,null,null,null,15]
[null,null,null,null,null,null,null,null,null,null,45]
[null,null,null,null,null,null,null,null,null,null,60]
[null,null,null,null,null,null,null,null,null,null,15]
[null,null,null,null,null,null,null,null,null,null,15]
[null,null,null,null,null,null,null,null,null,null,60]
[null,null,null,null,null,null,null,null,null,null,15]
[null,null,null,null,null,null,null,null,null,null,15]
[null,null,null,null,null,null,null,null,null,null,60]
[null,null,null,null,null,null,null,null,null,null,15]
[null,null,null,null,null,null,null,null,null,null,15]
[null,null,null,null,null,null,null,null,null,null,15]
[null,null,null,null,null,null,null,null,null,null,60]
[null,null,null,null,null,null,null,null,null,null,15]
[null,null,null,null,null,null,null,null,null,null,60]
[null,null,null,null,null,null,null,null,null,null,50]
[null,null,null,null,null,null,null,null,null,null,15]
[null,null,null,null,null,null,null,null,null,null,15]
[null,null,null,null,null,null,null,null,null,null,50]
[null,null,null,null,null,null,null,null,null,null,15]
[null,null,null,null,null,null,null,null,null,null,15]
[null,null,null,null,null,null,null,null,null,null,60]
[null,null,null,null,null,null,null,null,null,null,15]
[null,null,null,null,null,null,null,null,null,null,15]
[null,null,null,null,null,null,null,null,null,null,60]
[null,null,null,null,null,null,null,null,null,null,15]
[null,null,null,null,null,null,null,null,null,null,15]
[null,null,null,null,null,null,null,null,null,null,60]
[null,null,null,null,null,null,null,null,null,null,50]
[null,null,null,null,null,null,null,null,null,null,50]
[null,null,null,null,null,null,null,null,null,null,15]
[null,null,null,null,null,null,null,null,null,null,15]
[null,null,null,null,null,null,null,null,null,null,15]
[null,null,null,null,null,null,null,null,null,null,50]
[null,null,null,null,null,null,null,null,null,null,15]
[null,null,null,null,null,null,null,null,null,null,15]
[null,null,null,null,null,null,null,null,null,null,60]
[null,null,null,null,null,null,null,null,null,null,15]
[null,null,null,null,null,null,null,null,null,null,15]
[null,null,null,null,null,null,null,null,null,null,15]
[null,null,null,null,null,null,null,null,null,null,60]
[null,null,null,null,null,null,null,null,null,null,50]
[null,null,null,null,null,null,null,null,null,null,15]
[null,null,null,null,null,null,null,null,null,null,15]
[null,null,null,null,null,null,null,null,null,null,50]
[null,null,null,null,null,null,null,null,null,null,15]
[null,null,null,null,null,null,null,null,null,null,15]
[null,null,null,null,null,null,null,null,null,null,60]
[null,null,null,null,null,null,null,null,null,null,60]
[null,null,null,null,null,null,null,null,null,null,45]
[]
[]
[]
[]
[]
[]
[]
[]
[]
[]
[]
[]
[]
[]
[]
[]
[]
[]
[]
[]
[]
[]
[]
[]
[]
[]
[]
[]
[]
[]
[]
[]
[]
[]
[]
[]
[]
[]
[]
[]
[]
[]
[]
[]
[]
[]
[]
[]
[]
[]
[]
[]
[]
[]
[]
[]
[]
[]
[]
[]
[]
[]
[]
[]
[]
[]
[]
[]
[]
[]
[]
[]
[]
[]
[]
[]
[]
[]
[]
[]
[]
[]
[]
[]
[]
[]
[]
[]
[]
[]
[]
[]
[]
[]
[]
[]
[]
[]
[]
[]
[]
[]
[]
[]
[]
[]
[]
[]
[]
[]
[]
[]
[]
[]
[]
[]
[]
[]
[]
[]
[]
[]
[]
[]
[]
[]
[]
[]
[]
[]
[]
[]
[]
[]
[]
[]
[]
[]
[]
[]
[]
[]
[]
[]
[]
[]
[]
[]
[]
[]
[]
[]
[]
[]
[]
[]
[]
[]
[]
[]
[]
[]
[]
[]
[]
[]
[]
[]
[]
[]
[]
[]
[]
[]
[]
[]
[]
[]
[]
[]
[]
[]
[]
[]
[]
[]
[]
[]
[]
[]
[]
[]
[]
[]
[]
[]
[]
[]
[]
[]
[]
[]
[]
[]
[]
[]
[]
[]
[]
[]
[]
[]
[]
[]
[]
[]
[]
[]
[]
[]
[]
[]
[]
[]
[]
[]
[]
[]
[]
[]
[]
[]
[]
[]
[]
[]
[]
[]
[]
[]
[]
[]
[]
[]
[]
[]
[]
[]
[]
[]
[]
[]
[]
[]
[]
[]
[]
[]
[]
[]
[]
[]
[]
[]
[]
[]
[]
[]
[]
[]
[]
[]
[]
[]
[]
[]
[]
[]
[]
[]
[]
[]
[]
[]
[]
[]
[]
[]
[]
[]
[]
[]
[]
[]
[]
[]
[]
[]
[]
[]
[]
[]
[]
[]
[]
[]
[]
[]
[]
[]
[]
[]
[]
[]
[]
[]
[]
[]
[]
[]
[]
[]
[]
[]
[]
[]
[]
[]
[]
[]
[]
[]
[]
[]
[]
[]
[]
[]
[]
[]
[]
[]
[]
[]
[]
[]
[]
[]
[]
[]
[]
[]
[]
[]
[]
[]
[]
[]
[]
[]
[]
[]
[]
[]
[]
[]
[]
[]
[]
[]
[]
[]
[]
[]
[]
[]
[]
[]
[]
[]
[]
[]
[]
[]
[]
[]
[]
[]
[]
[]
[]
[]
[]
[]
[]
[]
[]
[]
[]
[]
[]
[]
[]
[]
[]
[]
[]
[]
[]
[]
[]
[]
[]
[]
[]
[]
[]
[]
[]
[]
[]
[]
[]
[]
[]
[]
[]
[]
[]
[]
[]
[]
[]
[]
[]
[]
[]
[]
[]
[]
[]
[]
[]
[]
[]
[]
[]
[]
[]
[]
[]
[]
[]
[]
[]
[]
[]
[]
[]
[]
[]
[]
[]
[]
[]
[]
[]
[]
[]
[]
[]
[]
[]
[]
[]
[]
[]
[]
[]
[]
[]
[]
[]
[]
[]
[]
[]
[]
[]
[]
[]
[]
[]
[]
[]
[]
[]
[]
[]
[]
[]
[]
[]
[]
[]
[]
[]
[]
[]
[]
[]
[]
[]
[]
[]
[]
[]
[]
[]
[]
[]
[]
[]
[]
[]
[]
[]
[]
[]
[]
[]
[]
[]
[]
[]
[]
[]
[]
[]
[]
[]
[]
[]
[]
[]
[]
[]
[]
[]
[]
[]
[]
[]
[]
[]
[]
[]
[]
[]
[]
[]
[]
[]
[]
[]
[]
[]
[]
[]
[]
[]
[]
[]
[]
[]
[]
[]
[]
[]
[]
[]
[]
[]
[]
[]
[]
[]
[]
[]
[]
[]
[]
[]
[]
[]
[]
[]
[]
[]
[]
[]
[]
[]
[]
[]
[]
[]
[]
[]
[]
[]
[]
[]
[]
[]
[]
[]
[]
[]
[]
[]
[]
[]
[]
[]
[]
[]
[]
[]
[]
[]
[]
[]
[]
[]
[]
[]
[]
[]
[]
[]
[]
[]
[]
[]
[]
[]
[]
[]
[]
[]
[]
[]
[]
[]
[]
[]
[]
[]
[]
[]
[]
[]
[]
[]
[]
[]
[]
[]
[]
[]
[]
[]
[]
[]
[]
[]
[]
[]
[]
[]
[]
[]
[]
[]
[]
[]
[]
[]
[]
[]
[]
[]
[]
[]
[]
[]
[]
[]
[]
[]
[]
[]
[]
[]
[]
[]
[]
[]
[]
[]
[]
[]
[]
[]
[]
[]
[]
[]
[]
[]
[]
[]
[]
[]
[]
[]
[]
[]
[]
[]
[]
[]
[]
[]
[]
[]
[]
[]
[]
[]
[]
[]
[]
[]
[]
[]
[]
[]
[]
[]
[]
[]
[]
[]
[]
[]
[]
[]
[]
[]
[]
[]
[]
[]
[]
[]
[]
[]
[]
[]
[]
[]
[]
[]
[]
[]
[]
[]
[]
[]
[]
[]
[]
[]
[]
[]
[]
[]
[]
[]
[]
[]
[]
[]
[]
[]
[]
[]
[]
[]
[]
[]
[]
[]
[]
[]
[]
[]
[]
[]
[]
[]
[]
[]
[]
[]
[]
[]
[]
[null,"※行を増やしたい際は、この行の上に挿入するようにしてください｡"]

{"sheet":"取水施設","index":1,"n_rows":29,"n_cols":21,"rows_kept":29,"cut":false,"hidden":false,"merged":[]}
[null,null,null,null,null,null,null,null,null,null,null,"戻る"]
["●取水施設-浅井戸"]
[]
[null,null,"取水量(m3/日)：",null,"建設年度：",null,null,null,null,null,null,null,null,null,"費用関数",null,null,null,"費用関数"]
["係数","②系統","③区分","④工種","⑤施設名","⑥帳簿価格\n（千円）","⑦取得年度","⑧改築費\n（千円）","⑨法定耐用年数","⑩再改築費\n（千円）","⑪更新基準\n（現有資産）","備考","係数\n初期値",null,"⑥'現在価格\n（千円）",null,null,"デフレータ\n(R5が100)","現在価格\n(税込10%, 百万円)"]
[1,"A浄水場","取水","土木","浅井戸",{"$f":"IF($D$4=0,0,ROUND($O6*R6/100,))","v":0},{"$f":"IF($F$4=0,0,IF(A6=0,0,$F$4))","v":0},{"$f":"IF($D$4=0,0,$O6)","v":0},{"$f":"VLOOKUP(D6,'様式2-1準備用'!$P$16:$Q$20,2,FALSE)","v":60},{"$f":"IF($D$4=0,0,$O6)","v":0},{"$f":"I6","v":60},null,1,null,{"$f":"IF($D$4=0,0,$A6*$S6*100/110*1000)","v":0},null,null,{"$f":"IFERROR(VLOOKUP(G6,デフレータ!$D$5:$E$129,2,TRUE),100)","v":100},{"$f":"22.992*EXP(0.000007*$D$4)","v":22.992000000000001}]
[1,null,"取水","機械","浅井戸",{"$f":"IF($D$4=0,0,ROUND($O7*R7/100,))","v":0},{"$f":"IF($F$4=0,0,IF(A7=0,0,$F$4))","v":0},{"$f":"IF($D$4=0,0,$O7)","v":0},{"$f":"VLOOKUP(D7,'様式2-1準備用'!$P$16:$Q$20,2,FALSE)","v":15},{"$f":"IF($D$4=0,0,$O7)","v":0},15,null,1,null,{"$f":"IF($D$4=0,0,$A7*$S7*100/110*1000)","v":0},null,null,{"$f":"IFERROR(VLOOKUP(G7,デフレータ!$D$5:$E$129,2,TRUE),100)","v":100},{"$f":"0.0708*($D$4^0.6989)","v":0}]
[1,null,"取水","電気","浅井戸",0,{"$f":"IF($F$4=0,0,IF(A8=0,0,$F$4))","v":0},0,{"$f":"VLOOKUP(D8,'様式2-1準備用'!$P$16:$Q$20,2,FALSE)","v":15},0,15,null,1,null,0,null,null,{"$f":"IFERROR(VLOOKUP(G8,デフレータ!$D$5:$E$129,2,TRUE),100)","v":100},{"$f":"0.4413*($D$4^0.5447)","v":0}]
[]
[null,null,null,null,null,null,null,null,null,null,null,"戻る"]
["●取水施設-深井戸"]
[]
[null,null,"取水量(m3/日)：",null,"建設年度：",null,null,null,null,null,null,null,null,null,"費用関数",null,null,null,"費用関数"]
["係数","②系統","③区分","④工種","⑤施設名","⑥帳簿価格\n（千円）","⑦取得年度","⑧改築費\n（千円）","⑨法定耐用年数","⑩再改築費\n（千円）","⑪更新基準\n（現有資産）","備考","係数\n初期値",null,"⑥現在価格\n（千円）",null,null,"デフレータ\n(R5が100)","現在価格\n(税込10%)"]
[1,"B水源","取水","土木","深井戸",{"$f":"IF($D$4=0,0,ROUND($O15*R15/100,))","v":0},{"$f":"IF($F$13=0,0,IF(A15=0,0,$F$13))","v":0},{"$f":"IF($D$13=0,0,$O15)","v":0},{"$f":"VLOOKUP(D15,'様式2-1準備用'!$P$16:$Q$20,2,FALSE)","v":60},{"$f":"IF($D$13=0,0,$O15)","v":0},{"$f":"I15","v":60},"7,200m3/日以上なら複数本に分割",1,null,{"$f":"IF($D$13=0,0,$A15*$S15*100/110*1000)","v":0},null,null,{"$f":"IFERROR(VLOOKUP(G15,デフレータ!$D$5:$E$129,2,TRUE),100)","v":100},{"$f":"0.5771*(($D$13/T15)^0.5665)*T15","v":0},{"$f":"IF($D$13>=7200,ROUNDUP($D$13/7200,),1)","v":1},"本"]
[1,null,"取水","機械","深井戸",0,{"$f":"IF($F$13=0,0,IF(A16=0,0,$F$13))","v":0},{"$f":"IF($D$13=0,0,$O16)","v":0},{"$f":"VLOOKUP(D16,'様式2-1準備用'!$P$16:$Q$20,2,FALSE)","v":15},{"$f":"IF($D$13=0,0,$O16)","v":0},15,"7,200m3/日以上なら複数本に分割",1,null,{"$f":"IF($D$13=0,0,$A16*$S16*100/110*1000)","v":0},null,null,{"$f":"IFERROR(VLOOKUP(G16,デフレータ!$D$5:$E$129,2,TRUE),100)","v":100},{"$f":"6.5477*EXP(0.0002*$D$13/T16)*T16","v":6.5476999999999999},{"$f":"IF($D$13>=7200,ROUNDUP($D$13/7200,),1)","v":1},"本"]
[1,null,"取水","電気","深井戸",0,{"$f":"IF($F$13=0,0,IF(A17=0,0,$F$13))","v":0},{"$f":"IF($D$13=0,0,$O17)","v":0},{"$f":"VLOOKUP(D17,'様式2-1準備用'!$P$16:$Q$20,2,FALSE)","v":15},{"$f":"IF($D$13=0,0,$O17)","v":0},15,"7,200m3/日以上なら複数本に分割",1,null,0,null,null,{"$f":"IFERROR(VLOOKUP(G17,デフレータ!$D$5:$E$129,2,TRUE),100)","v":100},{"$f":"13.266*(($D$13/T17)^0.0164)*T17","v":0},{"$f":"IF($D$13>=7200,ROUNDUP($D$13/7200,),1)","v":1},"本"]
[]
[null,null,null,null,null,null,null,null,null,null,null,"戻る"]
["●取水施設-取水口と沈砂池"]
[]
[null,null,"取水量(m3/日)：",null,"建設年度：",null,null,null,null,null,null,null,null,null,"費用関数",null,null,null,"費用関数"]
["係数","②系統","③区分","④工種","⑤施設名","⑥帳簿価格\n（千円）","⑦取得年度","⑧改築費\n（千円）","⑨法定耐用年数","⑩再改築費\n（千円）","⑪更新基準\n（現有資産）","備考","係数\n初期値",null,"⑥現在価格\n（千円）",null,null,"デフレータ\n(R5が100)","現在価格\n(税込10%)"]
[1,"C浄水場","取水","土木","取水口",{"$f":"IF($D$4=0,0,ROUND($O24*R24/100,))","v":0},{"$f":"IF($F$22=0,0,IF(A24=0,0,$F$22))","v":0},{"$f":"IF($D$22=0,0,$O24)","v":0},{"$f":"VLOOKUP(D24,'様式2-1準備用'!$P$16:$Q$20,2,FALSE)","v":60},{"$f":"IF($D$22=0,0,$O24)","v":0},{"$f":"I24","v":60},null,1,null,{"$f":"IF($D$22=0,0,$A24*$S24*100/110*1000)","v":0},null,null,{"$f":"IFERROR(VLOOKUP(G24,デフレータ!$D$5:$E$129,2,TRUE),100)","v":100},{"$f":"0.002*$D$22+85.394","v":85.394000000000005}]
[1,null,"取水","機械","取水口",0,0,{"$f":"IF($D$22=0,0,$O25)","v":0},{"$f":"VLOOKUP(D25,'様式2-1準備用'!$P$16:$Q$20,2,FALSE)","v":15},{"$f":"IF($D$22=0,0,$O25)","v":0},15,null,1,null,{"$f":"IF($D$22=0,0,$A25*$S25*100/110*1000)","v":0},null,null,{"$f":"IFERROR(VLOOKUP(G25,デフレータ!$D$5:$E$129,2,TRUE),100)","v":100},{"$f":"0.0538*($D$22^0.6851)","v":0}]
[1,null,"取水","電気","取水口",0,0,{"$f":"IF($D$22=0,0,$O26)","v":0},{"$f":"VLOOKUP(D26,'様式2-1準備用'!$P$16:$Q$20,2,FALSE)","v":15},0,15,null,1,null,0,null,null,{"$f":"IFERROR(VLOOKUP(G26,デフレータ!$D$5:$E$129,2,TRUE),100)","v":100},{"$f":"0.145*($D$22^0.5457)","v":0}]
[1,null,"取水","土木","沈砂池",0,0,0,{"$f":"VLOOKUP(D27,'様式2-1準備用'!$P$16:$Q$20,2,FALSE)","v":60},0,60,null,1,null,0,null,null,{"$f":"IFERROR(VLOOKUP(G27,デフレータ!$D$5:$E$129,2,TRUE),100)","v":100},{"$f":"0.0183*($D$22^0.9083)","v":0}]
[1,null,"取水","機械","沈砂池",0,0,0,{"$f":"VLOOKUP(D28,'様式2-1準備用'!$P$16:$Q$20,2,FALSE)","v":15},0,15,null,1,null,0,null,null,{"$f":"IFERROR(VLOOKUP(G28,デフレータ!$D$5:$E$129,2,TRUE),100)","v":100},{"$f":"0.0288*($D$22^0.7474)","v":0}]
[1,null,"取水","電気","沈砂池",0,0,{"$f":"IF($D$22=0,0,$O29)","v":0},{"$f":"VLOOKUP(D29,'様式2-1準備用'!$P$16:$Q$20,2,FALSE)","v":15},{"$f":"IF($D$22=0,0,$O29)","v":0},15,null,1,null,0,null,null,{"$f":"IFERROR(VLOOKUP(G29,デフレータ!$D$5:$E$129,2,TRUE),100)","v":100},{"$f":"0.0352*($D$22^0.7127)","v":0}]

{"sheet":"浄水場内施設（急速ろ過）","index":2,"n_rows":93,"n_cols":20,"rows_kept":93,"cut":false,"hidden":false,"merged":[]}
[null,null,null,null,null,null,null,null,null,null,null,"戻る"]
["●浄水場内施設-急速ろ過《天日乾燥床・高圧受電》（直接基礎浄水池・ポンプ井）"]
[]
[null,null,"浄水施設能力(m3/日)：",null,"建設年度：",null,null,null,null,null,null,null,null,null,"費用関数",null,null,null,"費用関数"]
["係数","②系統","③区分","④工種","⑤施設名","⑥帳簿価格\n（千円）","⑦取得年度","⑧改築費\n（千円）","⑨法定耐用年数","⑩再改築費\n（千円）","⑪更新基準\n（現有資産）","備考","係数\n初期値",null,"⑥現在価格\n（千円）",null,null,"デフレータ\n(R5が100)","現在価格\n(税込10%, 百万円)"]
[1,null,"浄水","土木","着水井",{"$f":"IF($D$4=0,0,ROUND($O6*R6/100,))","v":0},{"$f":"IF($F$4=0,0,IF(A6=0,0,$F$4))","v":0},{"$f":"IF($D$4=0,0,$O6)","v":0},{"$f":"VLOOKUP(D6,'様式2-1準備用'!$P$16:$Q$20,2,FALSE)","v":60},{"$f":"IF($D$4=0,0,$O6)","v":0},{"$f":"I6","v":60},null,1,null,{"$f":"IF($D$4=0,0,$A6*S6*100/110*1000)","v":0},null,null,{"$f":"IFERROR(VLOOKUP(G6,デフレータ!$D$5:$E$129,2,TRUE),100)","v":100},{"$f":"19.995*($D$4^0.1553)","v":0}]
[1,null,"浄水","機械","着水井",{"$f":"IF($D$4=0,0,ROUND($O7*R7/100,))","v":0},{"$f":"IF($F$4=0,0,IF(A7=0,0,$F$4))","v":0},{"$f":"IF($D$4=0,0,$O7)","v":0},{"$f":"VLOOKUP(D7,'様式2-1準備用'!$P$16:$Q$20,2,FALSE)","v":15},{"$f":"IF($D$4=0,0,$O7)","v":0},{"$f":"I7","v":15},null,1,null,{"$f":"IF($D$4=0,0,$A7*S7*100/110*1000)","v":0},null,null,{"$f":"IFERROR(VLOOKUP(G7,デフレータ!$D$5:$E$129,2,TRUE),100)","v":100},{"$f":"0.073*($D$4^0.5733)","v":0}]
[1,null,"浄水","電気","着水井",0,0,0,{"$f":"VLOOKUP(D8,'様式2-1準備用'!$P$16:$Q$20,2,FALSE)","v":15},0,15,null,1,null,0,null,null,{"$f":"IFERROR(VLOOKUP(G8,デフレータ!$D$5:$E$129,2,TRUE),100)","v":100},{"$f":"0.0004*($D$4^1.0027)","v":0}]
[1,null,"浄水","土木","急速攪拌池",0,0,0,{"$f":"VLOOKUP(D9,'様式2-1準備用'!$P$16:$Q$20,2,FALSE)","v":60},0,60,null,1,null,0,null,null,{"$f":"IFERROR(VLOOKUP(G9,デフレータ!$D$5:$E$129,2,TRUE),100)","v":100},{"$f":"0.0159*($D$4^0.7382)","v":0}]
[1,null,"浄水","機械","急速攪拌池",0,0,0,{"$f":"VLOOKUP(D10,'様式2-1準備用'!$P$16:$Q$20,2,FALSE)","v":15},0,15,null,1,null,0,null,null,{"$f":"IFERROR(VLOOKUP(G10,デフレータ!$D$5:$E$129,2,TRUE),100)","v":100},{"$f":"0.4134*($D$4^0.3787)","v":0}]
[1,null,"浄水","電気","急速攪拌池",0,0,0,{"$f":"VLOOKUP(D11,'様式2-1準備用'!$P$16:$Q$20,2,FALSE)","v":15},0,15,null,1,null,0,null,null,{"$f":"IFERROR(VLOOKUP(G11,デフレータ!$D$5:$E$129,2,TRUE),100)","v":100},{"$f":"9.3765*EXP(0.00001*$D$4)","v":9.3765000000000001}]
[1,null,"浄水","土木","フロック形成池",0,0,0,{"$f":"VLOOKUP(D12,'様式2-1準備用'!$P$16:$Q$20,2,FALSE)","v":60},0,60,null,1,null,0,null,null,{"$f":"IFERROR(VLOOKUP(G12,デフレータ!$D$5:$E$129,2,TRUE),100)","v":100},{"$f":"0.2813*($D$4^0.6175)","v":0}]
[1,null,"浄水","機械","フロック形成池",0,0,0,{"$f":"VLOOKUP(D13,'様式2-1準備用'!$P$16:$Q$20,2,FALSE)","v":15},0,15,"機械式",1,null,0,null,null,{"$f":"IFERROR(VLOOKUP(G13,デフレータ!$D$5:$E$129,2,TRUE),100)","v":100},{"$f":"0.0037*$D$4+47.624","v":47.624000000000002}]
[1,null,"浄水","電気","フロック形成池",0,0,0,{"$f":"VLOOKUP(D14,'様式2-1準備用'!$P$16:$Q$20,2,FALSE)","v":15},0,15,"機械式",1,null,0,null,null,{"$f":"IFERROR(VLOOKUP(G14,デフレータ!$D$5:$E$129,2,TRUE),100)","v":100},{"$f":"8.0566*EXP(0.00001*$D$4)","v":8.0565999999999995}]
[1,null,"浄水","土木","沈澱池（横流式「傾斜板式」）",0,0,0,{"$f":"VLOOKUP(D15,'様式2-1準備用'!$P$16:$Q$20,2,FALSE)","v":60},0,60,null,1,null,0,null,null,{"$f":"IFERROR(VLOOKUP(G15,デフレータ!$D$5:$E$129,2,TRUE),100)","v":100},{"$f":"0.0114*($D$4^0.9871)","v":0}]
[1,null,"浄水","機械","沈澱池（横流式「傾斜板式」）",0,0,0,{"$f":"VLOOKUP(D16,'様式2-1準備用'!$P$16:$Q$20,2,FALSE)","v":15},0,15,null,1,null,0,null,null,{"$f":"IFERROR(VLOOKUP(G16,デフレータ!$D$5:$E$129,2,TRUE),100)","v":100},{"$f":"296.75*EXP(0.000002*$D$4)","v":296.75}]
[1,null,"浄水","電気","沈澱池（横流式「傾斜板式」）",0,0,0,{"$f":"VLOOKUP(D17,'様式2-1準備用'!$P$16:$Q$20,2,FALSE)","v":15},0,15,null,1,null,0,null,null,{"$f":"IFERROR(VLOOKUP(G17,デフレータ!$D$5:$E$129,2,TRUE),100)","v":100},{"$f":"0.0014*($D$4^1.008)","v":0}]
[1,null,"浄水","土木","急速ろ過池",0,0,0,{"$f":"VLOOKUP(D18,'様式2-1準備用'!$P$16:$Q$20,2,FALSE)","v":60},0,60,"重力式",1,null,0,null,null,{"$f":"IFERROR(VLOOKUP(G18,デフレータ!$D$5:$E$129,2,TRUE),100)","v":100},{"$f":"0.0119*$D$4+124.63","v":124.63}]
[1,null,"浄水","機械","急速ろ過池",0,0,0,{"$f":"VLOOKUP(D19,'様式2-1準備用'!$P$16:$Q$20,2,FALSE)","v":15},0,15,"重力式",1,null,0,null,null,{"$f":"IFERROR(VLOOKUP(G19,デフレータ!$D$5:$E$129,2,TRUE),100)","v":100},{"$f":"4.0196*($D$4^0.4107)","v":0}]
[1,null,"浄水","電気","急速ろ過池",0,0,0,{"$f":"VLOOKUP(D20,'様式2-1準備用'!$P$16:$Q$20,2,FALSE)","v":15},0,15,null,1,null,0,null,null,{"$f":"IFERROR(VLOOKUP(G20,デフレータ!$D$5:$E$129,2,TRUE),100)","v":100},{"$f":"0.3742*($D$4^0.5438)","v":0}]
[1,null,"浄水","土木","塩素混和池",0,0,0,{"$f":"VLOOKUP(D21,'様式2-1準備用'!$P$16:$Q$20,2,FALSE)","v":60},0,60,null,1,null,0,null,null,{"$f":"IFERROR(VLOOKUP(G21,デフレータ!$D$5:$E$129,2,TRUE),100)","v":100},{"$f":"0.2411*($D$4^0.6425)","v":0}]
[1,null,"浄水","機械","塩素混和池",0,0,0,{"$f":"VLOOKUP(D22,'様式2-1準備用'!$P$16:$Q$20,2,FALSE)","v":15},0,15,null,1,null,0,null,null,{"$f":"IFERROR(VLOOKUP(G22,デフレータ!$D$5:$E$129,2,TRUE),100)","v":100},{"$f":"0.0572*($D$4^0.6528)","v":0}]
[1,null,"浄水","土木","浄水池・ポンプ井《直接基礎》",0,0,0,{"$f":"VLOOKUP(D23,'様式2-1準備用'!$P$16:$Q$20,2,FALSE)","v":60},0,60,"直接基礎、RC",1,null,0,null,null,{"$f":"IFERROR(VLOOKUP(G23,デフレータ!$D$5:$E$129,2,TRUE),100)","v":100},{"$f":"0.3156*($D$4^0.6844)","v":0}]
[1,null,"送水","建築","送水ポンプ施設《場内》",0,0,0,{"$f":"VLOOKUP(D24,'様式2-1準備用'!$P$16:$Q$20,2,FALSE)","v":50},0,50,"直接基礎、RC造",1,null,0,null,null,{"$f":"IFERROR(VLOOKUP(G24,デフレータ!$D$5:$E$129,2,TRUE),100)","v":100},{"$f":"2.8678*($T$24^0.7782)","v":0},{"$f":"2.2437*($D$4^0.5111)","v":0}]
[1,null,"送水","機械","送水ポンプ施設《場内》",0,0,0,{"$f":"VLOOKUP(D25,'様式2-1準備用'!$P$16:$Q$20,2,FALSE)","v":15},0,15,null,1,null,0,null,null,{"$f":"IFERROR(VLOOKUP(G25,デフレータ!$D$5:$E$129,2,TRUE),100)","v":100},{"$f":"0.1052*($D$4^0.6761)","v":0}]
[1,null,"送水","電気","送水ポンプ施設《場内》",0,0,0,{"$f":"VLOOKUP(D26,'様式2-1準備用'!$P$16:$Q$20,2,FALSE)","v":15},0,15,null,1,null,0,null,null,{"$f":"IFERROR(VLOOKUP(G26,デフレータ!$D$5:$E$129,2,TRUE),100)","v":100},{"$f":"0.0016*$D$4+140.56","v":140.56}]
[1,null,"配水","建築","配水ポンプ施設《場内》",0,0,0,{"$f":"VLOOKUP(D27,'様式2-1準備用'!$P$16:$Q$20,2,FALSE)","v":50},0,50,"直接基礎、RC造",1,null,0,null,null,{"$f":"IFERROR(VLOOKUP(G27,デフレータ!$D$5:$E$129,2,TRUE),100)","v":100},{"$f":"2.8678*($T$27^0.7782)","v":0},{"$f":"2.2437*($D$4^0.5111)","v":0}]
[1,null,"配水","機械","配水ポンプ施設《場内》",0,0,0,{"$f":"VLOOKUP(D28,'様式2-1準備用'!$P$16:$Q$20,2,FALSE)","v":15},0,15,null,1,null,0,null,null,{"$f":"IFERROR(VLOOKUP(G28,デフレータ!$D$5:$E$129,2,TRUE),100)","v":100},{"$f":"0.1052*($D$4^0.6761)","v":0}]
[1,null,"配水","電気","配水ポンプ施設《場内》",0,0,0,{"$f":"VLOOKUP(D29,'様式2-1準備用'!$P$16:$Q$20,2,FALSE)","v":15},0,15,null,1,null,0,null,null,{"$f":"IFERROR(VLOOKUP(G29,デフレータ!$D$5:$E$129,2,TRUE),100)","v":100},{"$f":"0.0016*$D$4+140.56","v":140.56}]
[1,null,"浄水","土木","排水池・排泥池",0,0,0,{"$f":"VLOOKUP(D30,'様式2-1準備用'!$P$16:$Q$20,2,FALSE)","v":60},0,60,"直接基礎",1,null,0,null,null,{"$f":"IFERROR(VLOOKUP(G30,デフレータ!$D$5:$E$129,2,TRUE),100)","v":100},{"$f":"29.81*EXP(0.00003*$D$4)","v":29.81}]
[1,null,"浄水","機械","排水池・排泥池",0,0,0,{"$f":"VLOOKUP(D31,'様式2-1準備用'!$P$16:$Q$20,2,FALSE)","v":15},0,15,null,1,null,0,null,null,{"$f":"IFERROR(VLOOKUP(G31,デフレータ!$D$5:$E$129,2,TRUE),100)","v":100},{"$f":"0.0003*$D$4+57.868","v":57.868000000000002}]
[1,null,"浄水","電気","排水池・排泥池",0,0,0,{"$f":"VLOOKUP(D32,'様式2-1準備用'!$P$16:$Q$20,2,FALSE)","v":15},0,15,null,1,null,0,null,null,{"$f":"IFERROR(VLOOKUP(G32,デフレータ!$D$5:$E$129,2,TRUE),100)","v":100},{"$f":"0.001*$D$4+90.873","v":90.873000000000005}]
[1,null,"浄水","土木","濃縮槽",0,0,0,{"$f":"VLOOKUP(D33,'様式2-1準備用'!$P$16:$Q$20,2,FALSE)","v":60},0,60,"杭基礎",1,null,0,null,null,{"$f":"IFERROR(VLOOKUP(G33,デフレータ!$D$5:$E$129,2,TRUE),100)","v":100},{"$f":"155.18*EXP(0.000003*$D$4)","v":155.18}]
[1,null,"浄水","機械","濃縮槽",0,0,0,{"$f":"VLOOKUP(D34,'様式2-1準備用'!$P$16:$Q$20,2,FALSE)","v":15},0,15,null,1,null,0,null,null,{"$f":"IFERROR(VLOOKUP(G34,デフレータ!$D$5:$E$129,2,TRUE),100)","v":100},{"$f":"41.062*EXP(0.000003*$D$4)","v":41.061999999999998}]
[1,null,"浄水","電気","濃縮槽",0,0,0,{"$f":"VLOOKUP(D35,'様式2-1準備用'!$P$16:$Q$20,2,FALSE)","v":15},0,15,null,1,null,0,null,null,{"$f":"IFERROR(VLOOKUP(G35,デフレータ!$D$5:$E$129,2,TRUE),100)","v":100},{"$f":"29.827*EXP(0.00001*$D$4)","v":29.827000000000002}]
[1,null,"浄水","土木","天日乾燥床",0,0,0,{"$f":"VLOOKUP(D36,'様式2-1準備用'!$P$16:$Q$20,2,FALSE)","v":60},0,60,"直接基礎",1,null,0,null,null,{"$f":"IFERROR(VLOOKUP(G36,デフレータ!$D$5:$E$129,2,TRUE),100)","v":100},{"$f":"0.0482*($D$4^0.689)","v":0}]
[1,null,"浄水","建築","管理本館",0,0,0,{"$f":"VLOOKUP(D37,'様式2-1準備用'!$P$16:$Q$20,2,FALSE)","v":50},0,50,null,1,null,0,null,null,{"$f":"IFERROR(VLOOKUP(G37,デフレータ!$D$5:$E$129,2,TRUE),100)","v":100},{"$f":"132.83*EXP(0.000002*$D$4)","v":132.83000000000001}]
[1,null,"浄水","建築","薬品注入施設",0,0,0,{"$f":"VLOOKUP(D38,'様式2-1準備用'!$P$16:$Q$20,2,FALSE)","v":50},0,50,null,1,null,0,null,null,{"$f":"IFERROR(VLOOKUP(G38,デフレータ!$D$5:$E$129,2,TRUE),100)","v":100},{"$f":"0.0302*($D$4^0.6794)","v":0}]
[1,null,"浄水","機械","薬品注入施設",0,0,0,{"$f":"VLOOKUP(D39,'様式2-1準備用'!$P$16:$Q$20,2,FALSE)","v":15},0,15,null,1,null,0,null,null,{"$f":"IFERROR(VLOOKUP(G39,デフレータ!$D$5:$E$129,2,TRUE),100)","v":100},{"$f":"0.0188*($D$4^0.7883)","v":0}]
[1,null,"浄水","電気","薬品注入施設",0,0,0,{"$f":"VLOOKUP(D40,'様式2-1準備用'!$P$16:$Q$20,2,FALSE)","v":15},0,15,null,1,null,0,null,null,{"$f":"IFERROR(VLOOKUP(G40,デフレータ!$D$5:$E$129,2,TRUE),100)","v":100},{"$f":"0.307*($D$4^0.5154)","v":0}]
[1,null,"浄水","電気","中央監視操作施設",0,0,0,{"$f":"VLOOKUP(D41,'様式2-1準備用'!$P$16:$Q$20,2,FALSE)","v":15},0,15,null,1,null,0,null,null,{"$f":"IFERROR(VLOOKUP(G41,デフレータ!$D$5:$E$129,2,TRUE),100)","v":100},{"$f":"0.1448*($D$4^0.7681)","v":0}]
[1,null,"浄水","建築","自家発電施設",0,0,0,{"$f":"VLOOKUP(D42,'様式2-1準備用'!$P$16:$Q$20,2,FALSE)","v":50},0,50,null,1,null,0,null,null,{"$f":"IFERROR(VLOOKUP(G42,デフレータ!$D$5:$E$129,2,TRUE),100)","v":100},{"$f":"70.24*EXP(0.000003*$D$4)","v":70.239999999999995}]
[1,null,"浄水","電気","自家発電施設",0,0,0,{"$f":"VLOOKUP(D43,'様式2-1準備用'!$P$16:$Q$20,2,FALSE)","v":15},0,15,null,1,null,0,null,null,{"$f":"IFERROR(VLOOKUP(G43,デフレータ!$D$5:$E$129,2,TRUE),100)","v":100},{"$f":"0.3104*$T$43+59.48","v":59.48},{"$f":"0.9197*($D$4^0.6292)","v":0}]
[1,null,"浄水","電気","受配電施設《高圧》",0,0,0,{"$f":"VLOOKUP(D44,'様式2-1準備用'!$P$16:$Q$20,2,FALSE)","v":15},0,15,"高圧",1,null,0,null,null,{"$f":"IFERROR(VLOOKUP(G44,デフレータ!$D$5:$E$129,2,TRUE),100)","v":100},{"$f":"1.1448*($D$4^0.5194)","v":0}]
[1,null,"浄水","土木","場内整備・場内配管",0,0,0,{"$f":"VLOOKUP(D45,'様式2-1準備用'!$P$16:$Q$20,2,FALSE)","v":60},0,60,null,1,null,0,null,null,{"$f":"IFERROR(VLOOKUP(G45,デフレータ!$D$5:$E$129,2,TRUE),100)","v":100},{"$f":"0.005*$D$4+44.527","v":44.527000000000001}]
[]
[null,null,null,null,null,null,null,null,null,null,null,"戻る"]
["●浄水場内施設-急速ろ過《機械脱水機・特高受電》（杭基礎浄水池・ポンプ井）"]
[]
[null,null,"浄水施設能力(m3/日)：",null,"建設年度：",null,null,null,null,null,null,null,null,null,"費用関数",null,null,null,"費用関数"]
["係数","②系統","③区分","④工種","⑤施設名","⑥帳簿価格\n（千円）","⑦取得年度","⑧改築費\n（千円）","⑨法定耐用年数","⑩再改築費\n（千円）","⑪更新基準\n（現有資産）","備考","係数\n初期値",null,"⑥現在価格\n（千円）",null,null,"デフレータ\n(R5が100)","現在価格\n(税込10%, 百万円)"]
[1,null,"浄水","土木","着水井",{"$f":"IF($D$4=0,0,ROUND($O52*R52/100,))","v":0},{"$f":"IF($F$50=0,0,IF(A52=0,0,$F$50))","v":0},{"$f":"IF($D$50=0,0,$O52)","v":0},{"$f":"VLOOKUP(D52,'様式2-1準備用'!$P$16:$Q$20,2,FALSE)","v":60},{"$f":"IF($D$50=0,0,$O52)","v":0},{"$f":"I52","v":60},null,1,null,{"$f":"IF($D$50=0,0,$A52*S52*100/110*1000)","v":0},null,null,{"$f":"IFERROR(VLOOKUP(G52,デフレータ!$D$5:$E$129,2,TRUE),100)","v":100},{"$f":"19.995*($D$50^0.1553)","v":0}]
[1,null,"浄水","機械","着水井",0,{"$f":"IF($F$50=0,0,IF(A53=0,0,$F$50))","v":0},{"$f":"IF($D$50=0,0,$O53)","v":0},{"$f":"VLOOKUP(D53,'様式2-1準備用'!$P$16:$Q$20,2,FALSE)","v":15},0,15,null,1,null,{"$f":"IF($D$50=0,0,$A53*S53*100/110*1000)","v":0},null,null,{"$f":"IFERROR(VLOOKUP(G53,デフレータ!$D$5:$E$129,2,TRUE),100)","v":100},{"$f":"0.073*($D$50^0.5733)","v":0}]
[1,null,"浄水","電気","着水井",0,0,0,{"$f":"VLOOKUP(D54,'様式2-1準備用'!$P$16:$Q$20,2,FALSE)","v":15},0,15,null,1,null,0,null,null,{"$f":"IFERROR(VLOOKUP(G54,デフレータ!$D$5:$E$129,2,TRUE),100)","v":100},{"$f":"0.0004*($D$50^1.0027)","v":0}]
[1,null,"浄水","土木","急速攪拌池",0,0,{"$f":"IF($D$50=0,0,$O55)","v":0},{"$f":"VLOOKUP(D55,'様式2-1準備用'!$P$16:$Q$20,2,FALSE)","v":60},{"$f":"IF($D$50=0,0,$O55)","v":0},60,null,1,null,0,null,null,{"$f":"IFERROR(VLOOKUP(G55,デフレータ!$D$5:$E$129,2,TRUE),100)","v":100},{"$f":"0.0159*($D$50^0.7382)","v":0}]
[1,null,"浄水","機械","急速攪拌池",0,0,{"$f":"IF($D$50=0,0,$O56)","v":0},{"$f":"VLOOKUP(D56,'様式2-1準備用'!$P$16:$Q$20,2,FALSE)","v":15},0,15,null,1,null,0,null,null,{"$f":"IFERROR(VLOOKUP(G56,デフレータ!$D$5:$E$129,2,TRUE),100)","v":100},{"$f":"0.4134*($D$50^0.3787)","v":0}]
[1,null,"浄水","電気","急速攪拌池",0,0,0,{"$f":"VLOOKUP(D57,'様式2-1準備用'!$P$16:$Q$20,2,FALSE)","v":15},0,15,null,1,null,0,null,null,{"$f":"IFERROR(VLOOKUP(G57,デフレータ!$D$5:$E$129,2,TRUE),100)","v":100},{"$f":"9.3765*EXP(0.00001*$D$50)","v":9.3765000000000001}]
[1,null,"浄水","土木","フロック形成池",0,0,0,{"$f":"VLOOKUP(D58,'様式2-1準備用'!$P$16:$Q$20,2,FALSE)","v":60},0,60,null,1,null,0,null,null,{"$f":"IFERROR(VLOOKUP(G58,デフレータ!$D$5:$E$129,2,TRUE),100)","v":100},{"$f":"0.2813*($D$50^0.6175)","v":0}]
[1,null,"浄水","機械","フロック形成池",0,0,0,{"$f":"VLOOKUP(D59,'様式2-1準備用'!$P$16:$Q$20,2,FALSE)","v":15},0,15,"機械式",1,null,0,null,null,{"$f":"IFERROR(VLOOKUP(G59,デフレータ!$D$5:$E$129,2,TRUE),100)","v":100},{"$f":"0.0037*$D$50+47.624","v":47.624000000000002}]
[1,null,"浄水","電気","フロック形成池",0,{"$f":"IF($F$50=0,0,IF(A60=0,0,$F$50))","v":0},0,{"$f":"VLOOKUP(D60,'様式2-1準備用'!$P$16:$Q$20,2,FALSE)","v":15},0,15,"機械式",1,null,0,null,null,{"$f":"IFERROR(VLOOKUP(G60,デフレータ!$D$5:$E$129,2,TRUE),100)","v":100},{"$f":"8.0566*EXP(0.00001*$D$50)","v":8.0565999999999995}]
[1,null,"浄水","土木","沈澱池（横流式「傾斜板式」）",0,0,0,{"$f":"VLOOKUP(D61,'様式2-1準備用'!$P$16:$Q$20,2,FALSE)","v":60},0,60,null,1,null,0,null,null,{"$f":"IFERROR(VLOOKUP(G61,デフレータ!$D$5:$E$129,2,TRUE),100)","v":100},{"$f":"0.0114*($D$50^0.9871)","v":0}]
[1,null,"浄水","機械","沈澱池（横流式「傾斜板式」）",0,0,0,{"$f":"VLOOKUP(D62,'様式2-1準備用'!$P$16:$Q$20,2,FALSE)","v":15},0,15,null,1,null,0,null,null,{"$f":"IFERROR(VLOOKUP(G62,デフレータ!$D$5:$E$129,2,TRUE),100)","v":100},{"$f":"296.75*EXP(0.000002*$D$50)","v":296.75}]
[1,null,"浄水","電気","沈澱池（横流式「傾斜板式」）",0,0,0,{"$f":"VLOOKUP(D63,'様式2-1準備用'!$P$16:$Q$20,2,FALSE)","v":15},0,15,null,1,null,0,null,null,{"$f":"IFERROR(VLOOKUP(G63,デフレータ!$D$5:$E$129,2,TRUE),100)","v":100},{"$f":"0.0014*($D$50^1.008)","v":0}]
[1,null,"浄水","土木","急速ろ過池",0,0,0,{"$f":"VLOOKUP(D64,'様式2-1準備用'!$P$16:$Q$20,2,FALSE)","v":60},0,60,"重力式",1,null,0,null,null,{"$f":"IFERROR(VLOOKUP(G64,デフレータ!$D$5:$E$129,2,TRUE),100)","v":100},{"$f":"0.0119*$D$50+124.63","v":124.63}]
[1,null,"浄水","機械","急速ろ過池",0,0,0,{"$f":"VLOOKUP(D65,'様式2-1準備用'!$P$16:$Q$20,2,FALSE)","v":15},0,15,"重力式",1,null,0,null,null,{"$f":"IFERROR(VLOOKUP(G65,デフレータ!$D$5:$E$129,2,TRUE),100)","v":100},{"$f":"4.0196*($D$50^0.4107)","v":0}]
[1,null,"浄水","電気","急速ろ過池",0,0,0,{"$f":"VLOOKUP(D66,'様式2-1準備用'!$P$16:$Q$20,2,FALSE)","v":15},0,15,null,1,null,0,null,null,{"$f":"IFERROR(VLOOKUP(G66,デフレータ!$D$5:$E$129,2,TRUE),100)","v":100},{"$f":"0.3742*($D$50^0.5438)","v":0}]
[1,null,"浄水","土木","塩素混和池",0,0,0,{"$f":"VLOOKUP(D67,'様式2-1準備用'!$P$16:$Q$20,2,FALSE)","v":60},0,60,null,1,null,0,null,null,{"$f":"IFERROR(VLOOKUP(G67,デフレータ!$D$5:$E$129,2,TRUE),100)","v":100},{"$f":"0.2411*($D$50^0.6425)","v":0}]
[1,null,"浄水","機械","塩素混和池",0,0,0,{"$f":"VLOOKUP(D68,'様式2-1準備用'!$P$16:$Q$20,2,FALSE)","v":15},0,15,null,1,null,0,null,null,{"$f":"IFERROR(VLOOKUP(G68,デフレータ!$D$5:$E$129,2,TRUE),100)","v":100},{"$f":"0.0572*($D$50^0.6528)","v":0}]
[1,null,"浄水","土木","浄水池・ポンプ井《杭基礎》",0,0,0,{"$f":"VLOOKUP(D69,'様式2-1準備用'!$P$16:$Q$20,2,FALSE)","v":60},0,60,"杭基礎、RC",1,null,0,null,null,{"$f":"IFERROR(VLOOKUP(G69,デフレータ!$D$5:$E$129,2,TRUE),100)","v":100},{"$f":"0.3156*($D$50^0.6844)","v":0}]
[1,null,"送水","建築","送水ポンプ施設《場内》",0,0,0,{"$f":"VLOOKUP(D70,'様式2-1準備用'!$P$16:$Q$20,2,FALSE)","v":50},0,50,"直接基礎、RC造",1,null,0,null,null,{"$f":"IFERROR(VLOOKUP(G70,デフレータ!$D$5:$E$129,2,TRUE),100)","v":100},{"$f":"2.8678*($T$70^0.7782)","v":0},{"$f":"2.2437*($D$50^0.5111)","v":0}]
[1,null,"送水","機械","送水ポンプ施設《場内》",0,0,0,{"$f":"VLOOKUP(D71,'様式2-1準備用'!$P$16:$Q$20,2,FALSE)","v":15},0,15,null,1,null,0,null,null,{"$f":"IFERROR(VLOOKUP(G71,デフレータ!$D$5:$E$129,2,TRUE),100)","v":100},{"$f":"0.1052*($D$50^0.6761)","v":0}]
[1,null,"送水","電気","送水ポンプ施設《場内》",0,0,0,{"$f":"VLOOKUP(D72,'様式2-1準備用'!$P$16:$Q$20,2,FALSE)","v":15},0,15,null,1,null,0,null,null,{"$f":"IFERROR(VLOOKUP(G72,デフレータ!$D$5:$E$129,2,TRUE),100)","v":100},{"$f":"0.0016*$D$50+140.56","v":140.56}]
[1,null,"配水","建築","配水ポンプ施設《場内》",0,0,0,{"$f":"VLOOKUP(D73,'様式2-1準備用'!$P$16:$Q$20,2,FALSE)","v":50},0,50,"直接基礎、RC造",1,null,0,null,null,{"$f":"IFERROR(VLOOKUP(G73,デフレータ!$D$5:$E$129,2,TRUE),100)","v":100},{"$f":"2.8678*($T$73^0.7782)","v":0},{"$f":"2.2437*($D$50^0.5111)","v":0}]
[1,null,"配水","機械","配水ポンプ施設《場内》",0,0,0,{"$f":"VLOOKUP(D74,'様式2-1準備用'!$P$16:$Q$20,2,FALSE)","v":15},0,15,null,1,null,0,null,null,{"$f":"IFERROR(VLOOKUP(G74,デフレータ!$D$5:$E$129,2,TRUE),100)","v":100},{"$f":"0.1052*($D$50^0.6761)","v":0}]
[1,null,"配水","電気","配水ポンプ施設《場内》",0,0,0,{"$f":"VLOOKUP(D75,'様式2-1準備用'!$P$16:$Q$20,2,FALSE)","v":15},0,15,null,1,null,0,null,null,{"$f":"IFERROR(VLOOKUP(G75,デフレータ!$D$5:$E$129,2,TRUE),100)","v":100},{"$f":"0.0016*$D$50+140.56","v":140.56}]
[1,null,"浄水","土木","排水池・排泥池",0,0,0,{"$f":"VLOOKUP(D76,'様式2-1準備用'!$P$16:$Q$20,2,FALSE)","v":60},0,60,"直接基礎",1,null,0,null,null,{"$f":"IFERROR(VLOOKUP(G76,デフレータ!$D$5:$E$129,2,TRUE),100)","v":100},{"$f":"29.81*EXP(0.00003*$D$50)","v":29.81}]
[1,null,"浄水","機械","排水池・排泥池",0,0,0,{"$f":"VLOOKUP(D77,'様式2-1準備用'!$P$16:$Q$20,2,FALSE)","v":15},0,15,null,1,null,0,null,null,{"$f":"IFERROR(VLOOKUP(G77,デフレータ!$D$5:$E$129,2,TRUE),100)","v":100},{"$f":"0.0003*$D$50+57.868","v":57.868000000000002}]
[1,null,"浄水","電気","排水池・排泥池",0,0,0,{"$f":"VLOOKUP(D78,'様式2-1準備用'!$P$16:$Q$20,2,FALSE)","v":15},0,15,null,1,null,0,null,null,{"$f":"IFERROR(VLOOKUP(G78,デフレータ!$D$5:$E$129,2,TRUE),100)","v":100},{"$f":"0.001*$D$50+90.873","v":90.873000000000005}]
[1,null,"浄水","土木","濃縮槽",0,0,0,{"$f":"VLOOKUP(D79,'様式2-1準備用'!$P$16:$Q$20,2,FALSE)","v":60},0,60,"杭基礎",1,null,0,null,null,{"$f":"IFERROR(VLOOKUP(G79,デフレータ!$D$5:$E$129,2,TRUE),100)","v":100},{"$f":"155.18*EXP(0.000003*$D$50)","v":155.18}]
[1,null,"浄水","機械","濃縮槽",0,0,0,{"$f":"VLOOKUP(D80,'様式2-1準備用'!$P$16:$Q$20,2,FALSE)","v":15},0,15,null,1,null,0,null,null,{"$f":"IFERROR(VLOOKUP(G80,デフレータ!$D$5:$E$129,2,TRUE),100)","v":100},{"$f":"41.062*EXP(0.000003*$D$50)","v":41.061999999999998}]
[1,null,"浄水","電気","濃縮槽",0,0,0,{"$f":"VLOOKUP(D81,'様式2-1準備用'!$P$16:$Q$20,2,FALSE)","v":15},0,15,null,1,null,0,null,null,{"$f":"IFERROR(VLOOKUP(G81,デフレータ!$D$5:$E$129,2,TRUE),100)","v":100},{"$f":"29.827*EXP(0.00001*$D$50)","v":29.827000000000002}]
[1,null,"浄水","建築","機械脱水機施設",0,0,0,{"$f":"VLOOKUP(D82,'様式2-1準備用'!$P$16:$Q$20,2,FALSE)","v":50},0,50,null,1,null,0,null,null,{"$f":"IFERROR(VLOOKUP(G82,デフレータ!$D$5:$E$129,2,TRUE),100)","v":100},{"$f":"0.003*$D$50+218.79","v":218.79}]
[1,null,"浄水","機械","機械脱水機施設",0,0,0,{"$f":"VLOOKUP(D83,'様式2-1準備用'!$P$16:$Q$20,2,FALSE)","v":15},0,15,null,1,null,0,null,null,{"$f":"IFERROR(VLOOKUP(G83,デフレータ!$D$5:$E$129,2,TRUE),100)","v":100},{"$f":"0.9374*($D$50^0.6059)","v":0}]
[1,null,"浄水","電気","機械脱水機施設",0,0,0,{"$f":"VLOOKUP(D84,'様式2-1準備用'!$P$16:$Q$20,2,FALSE)","v":15},0,15,null,1,null,0,null,null,{"$f":"IFERROR(VLOOKUP(G84,デフレータ!$D$5:$E$129,2,TRUE),100)","v":100},{"$f":"0.9339*($D$50^0.4862)","v":0}]
[1,null,"浄水","建築","管理本館",0,0,0,{"$f":"VLOOKUP(D85,'様式2-1準備用'!$P$16:$Q$20,2,FALSE)","v":50},0,50,null,1,null,0,null,null,{"$f":"IFERROR(VLOOKUP(G85,デフレータ!$D$5:$E$129,2,TRUE),100)","v":100},{"$f":"132.83*EXP(0.000002*$D$50)","v":132.83000000000001}]
[1,null,"浄水","建築","薬品注入施設",0,0,0,{"$f":"VLOOKUP(D86,'様式2-1準備用'!$P$16:$Q$20,2,FALSE)","v":50},0,50,null,1,null,0,null,null,{"$f":"IFERROR(VLOOKUP(G86,デフレータ!$D$5:$E$129,2,TRUE),100)","v":100},{"$f":"0.0302*($D$50^0.6794)","v":0}]
[1,null,"浄水","機械","薬品注入施設",0,0,0,{"$f":"VLOOKUP(D87,'様式2-1準備用'!$P$16:$Q$20,2,FALSE)","v":15},0,15,null,1,null,0,null,null,{"$f":"IFERROR(VLOOKUP(G87,デフレータ!$D$5:$E$129,2,TRUE),100)","v":100},{"$f":"0.0188*($D$50^0.7883)","v":0}]
[1,null,"浄水","電気","薬品注入施設",0,0,0,{"$f":"VLOOKUP(D88,'様式2-1準備用'!$P$16:$Q$20,2,FALSE)","v":15},0,15,null,1,null,0,null,null,{"$f":"IFERROR(VLOOKUP(G88,デフレータ!$D$5:$E$129,2,TRUE),100)","v":100},{"$f":"0.307*($D$50^0.5154)","v":0}]
[1,null,"浄水","電気","中央監視操作施設",0,0,0,{"$f":"VLOOKUP(D89,'様式2-1準備用'!$P$16:$Q$20,2,FALSE)","v":15},0,15,null,1,null,0,null,null,{"$f":"IFERROR(VLOOKUP(G89,デフレータ!$D$5:$E$129,2,TRUE),100)","v":100},{"$f":"0.1448*($D$50^0.7681)","v":0}]
[1,null,"浄水","建築","自家発電施設",0,0,0,{"$f":"VLOOKUP(D90,'様式2-1準備用'!$P$16:$Q$20,2,FALSE)","v":50},0,50,null,1,null,0,null,null,{"$f":"IFERROR(VLOOKUP(G90,デフレータ!$D$5:$E$129,2,TRUE),100)","v":100},{"$f":"70.24*EXP(0.000003*$D$50)","v":70.239999999999995}]
[1,null,"浄水","電気","自家発電施設",0,0,0,{"$f":"VLOOKUP(D91,'様式2-1準備用'!$P$16:$Q$20,2,FALSE)","v":15},0,15,null,1,null,0,null,null,{"$f":"IFERROR(VLOOKUP(G91,デフレータ!$D$5:$E$129,2,TRUE),100)","v":100},{"$f":"0.3104*$T$91+59.48","v":59.48},{"$f":"0.9197*($D$50^0.6292)","v":0}]
[1,null,"浄水","電気","受配電施設《特高》",0,0,0,{"$f":"VLOOKUP(D92,'様式2-1準備用'!$P$16:$Q$20,2,FALSE)","v":15},0,15,"特高",1,null,0,null,null,{"$f":"IFERROR(VLOOKUP(G92,デフレータ!$D$5:$E$129,2,TRUE),100)","v":100},{"$f":"1.1448*($D$50^0.5194)","v":0}]
[1,null,"浄水","土木","場内整備・場内配管",0,0,{"$f":"IF($D$50=0,0,$O93)","v":0},{"$f":"VLOOKUP(D93,'様式2-1準備用'!$P$16:$Q$20,2,FALSE)","v":60},{"$f":"IF($D$50=0,0,$O93)","v":0},60,null,1,null,0,null,null,{"$f":"IFERROR(VLOOKUP(G93,デフレータ!$D$5:$E$129,2,TRUE),100)","v":100},{"$f":"0.005*$D$50+44.527","v":44.527000000000001}]

{"sheet":"浄水場内施設（膜ろ過）","index":3,"n_rows":29,"n_cols":20,"rows_kept":29,"cut":false,"hidden":false,"merged":[]}
[null,null,null,null,null,null,null,null,null,null,null,"戻る"]
["●浄水場内施設-膜ろ過"]
[]
[null,null,"浄水施設能力(m3/日)：",null,"建設年度：",null,null,null,null,null,null,null,null,null,"費用関数",null,null,null,"費用関数"]
["係数","②系統","③区分","④工種","⑤施設名","⑥帳簿価格\n（千円）","⑦取得年度","⑧改築費\n（千円）","⑨法定耐用年数","⑩再改築費\n（千円）","⑪更新基準\n（現有資産）","備考","係数\n初期値",null,"⑥現在価格\n（千円）",null,null,"デフレータ\n(R5が100)","現在価格\n(税込10%, 百万円)"]
[1,null,"浄水","土木","着水井",{"$f":"IF($D$4=0,0,ROUND($O6*R6/100,))","v":0},{"$f":"IF($F$4=0,0,IF(A6=0,0,$F$4))","v":0},{"$f":"IF($D$4=0,0,$O6)","v":0},{"$f":"VLOOKUP(D6,'様式2-1準備用'!$P$16:$Q$20,2,FALSE)","v":60},{"$f":"IF($D$4=0,0,$O6)","v":0},{"$f":"I6","v":60},null,1,null,{"$f":"IF($D$4=0,0,$A6*S6*100/110*1000)","v":0},null,null,{"$f":"IFERROR(VLOOKUP(G6,デフレータ!$D$5:$E$129,2,TRUE),100)","v":100},{"$f":"19.995*($D$4^0.1553)","v":0}]
[1,null,"浄水","機械","着水井",0,{"$f":"IF($F$4=0,0,IF(A7=0,0,$F$4))","v":0},{"$f":"IF($D$4=0,0,$O7)","v":0},{"$f":"VLOOKUP(D7,'様式2-1準備用'!$P$16:$Q$20,2,FALSE)","v":15},{"$f":"IF($D$4=0,0,$O7)","v":0},15,null,1,null,{"$f":"IF($D$4=0,0,$A7*S7*100/110*1000)","v":0},null,null,{"$f":"IFERROR(VLOOKUP(G7,デフレータ!$D$5:$E$129,2,TRUE),100)","v":100},{"$f":"0.073*($D$4^0.5733)","v":0}]
[1,null,"浄水","電気","着水井",0,0,0,{"$f":"VLOOKUP(D8,'様式2-1準備用'!$P$16:$Q$20,2,FALSE)","v":15},0,15,null,1,null,0,null,null,{"$f":"IFERROR(VLOOKUP(G8,デフレータ!$D$5:$E$129,2,TRUE),100)","v":100},{"$f":"0.0004*($D$4^1.0027)","v":0}]
[1,null,"浄水","機械","膜処理施設",0,0,0,{"$f":"VLOOKUP(D9,'様式2-1準備用'!$P$16:$Q$20,2,FALSE)","v":15},0,15,null,1,null,0,null,null,{"$f":"IFERROR(VLOOKUP(G9,デフレータ!$D$5:$E$129,2,TRUE),100)","v":100},{"$f":"0.0658*$D$4+697.65","v":697.65}]
[1,null,"浄水","土木","浄水池・ポンプ井《直接基礎》",0,0,0,{"$f":"VLOOKUP(D10,'様式2-1準備用'!$P$16:$Q$20,2,FALSE)","v":60},0,60,"直接基礎、RC",1,null,0,null,null,{"$f":"IFERROR(VLOOKUP(G10,デフレータ!$D$5:$E$129,2,TRUE),100)","v":100},{"$f":"0.3156*($D$4^0.6844)","v":0}]
[1,null,"送水","建築","送水ポンプ施設《場内》",0,0,0,{"$f":"VLOOKUP(D11,'様式2-1準備用'!$P$16:$Q$20,2,FALSE)","v":50},0,50,"直接基礎、RC造",1,null,0,null,null,{"$f":"IFERROR(VLOOKUP(G11,デフレータ!$D$5:$E$129,2,TRUE),100)","v":100},{"$f":"2.8678*($T$11^0.7782)","v":0},{"$f":"2.2437*($D$4^0.5111)","v":0}]
[1,null,"送水","機械","送水ポンプ施設《場内》",0,0,0,{"$f":"VLOOKUP(D12,'様式2-1準備用'!$P$16:$Q$20,2,FALSE)","v":15},0,15,null,1,null,0,null,null,{"$f":"IFERROR(VLOOKUP(G12,デフレータ!$D$5:$E$129,2,TRUE),100)","v":100},{"$f":"0.1052*($D$4^0.6761)","v":0}]
[1,null,"送水","電気","送水ポンプ施設《場内》",0,0,0,{"$f":"VLOOKUP(D13,'様式2-1準備用'!$P$16:$Q$20,2,FALSE)","v":15},0,15,null,1,null,0,null,null,{"$f":"IFERROR(VLOOKUP(G13,デフレータ!$D$5:$E$129,2,TRUE),100)","v":100},{"$f":"0.0016*$D$4+140.56","v":140.56}]
[1,null,"配水","建築","配水ポンプ施設《場内》",0,0,0,{"$f":"VLOOKUP(D14,'様式2-1準備用'!$P$16:$Q$20,2,FALSE)","v":50},0,50,"直接基礎、RC造",1,null,0,null,null,{"$f":"IFERROR(VLOOKUP(G14,デフレータ!$D$5:$E$129,2,TRUE),100)","v":100},{"$f":"2.8678*($T$14^0.7782)","v":0},{"$f":"2.2437*($D$4^0.5111)","v":0}]
[1,null,"配水","機械","配水ポンプ施設《場内》",0,0,0,{"$f":"VLOOKUP(D15,'様式2-1準備用'!$P$16:$Q$20,2,FALSE)","v":15},0,15,null,1,null,0,null,null,{"$f":"IFERROR(VLOOKUP(G15,デフレータ!$D$5:$E$129,2,TRUE),100)","v":100},{"$f":"0.1052*($D$4^0.6761)","v":0}]
[1,null,"配水","電気","配水ポンプ施設《場内》",0,0,0,{"$f":"VLOOKUP(D16,'様式2-1準備用'!$P$16:$Q$20,2,FALSE)","v":15},0,15,null,1,null,0,null,null,{"$f":"IFERROR(VLOOKUP(G16,デフレータ!$D$5:$E$129,2,TRUE),100)","v":100},{"$f":"0.0016*$D$4+140.56","v":140.56}]
[1,null,"浄水","土木","排水池・排泥池",0,0,0,{"$f":"VLOOKUP(D17,'様式2-1準備用'!$P$16:$Q$20,2,FALSE)","v":60},0,60,"直接基礎",1,null,0,null,null,{"$f":"IFERROR(VLOOKUP(G17,デフレータ!$D$5:$E$129,2,TRUE),100)","v":100},{"$f":"29.81*EXP(0.00003*$D$4)","v":29.81}]
[1,null,"浄水","機械","排水池・排泥池",0,0,0,{"$f":"VLOOKUP(D18,'様式2-1準備用'!$P$16:$Q$20,2,FALSE)","v":15},0,15,null,1,null,0,null,null,{"$f":"IFERROR(VLOOKUP(G18,デフレータ!$D$5:$E$129,2,TRUE),100)","v":100},{"$f":"0.0003*$D$4+57.868","v":57.868000000000002}]
[1,null,"浄水","電気","排水池・排泥池",0,0,0,{"$f":"VLOOKUP(D19,'様式2-1準備用'!$P$16:$Q$20,2,FALSE)","v":15},0,15,null,1,null,0,null,null,{"$f":"IFERROR(VLOOKUP(G19,デフレータ!$D$5:$E$129,2,TRUE),100)","v":100},{"$f":"0.001*$D$4+90.873","v":90.873000000000005}]
[1,null,"浄水","建築","管理本館",0,0,0,{"$f":"VLOOKUP(D20,'様式2-1準備用'!$P$16:$Q$20,2,FALSE)","v":50},0,50,null,1,null,0,null,null,{"$f":"IFERROR(VLOOKUP(G20,デフレータ!$D$5:$E$129,2,TRUE),100)","v":100},{"$f":"132.83*EXP(0.000002*$D$4)","v":132.83000000000001}]
[1,null,"浄水","建築","薬品注入施設",0,0,0,{"$f":"VLOOKUP(D21,'様式2-1準備用'!$P$16:$Q$20,2,FALSE)","v":50},0,50,null,1,null,0,null,null,{"$f":"IFERROR(VLOOKUP(G21,デフレータ!$D$5:$E$129,2,TRUE),100)","v":100},{"$f":"0.0302*($D$4^0.6794)","v":0}]
[1,null,"浄水","機械","薬品注入施設",0,0,0,{"$f":"VLOOKUP(D22,'様式2-1準備用'!$P$16:$Q$20,2,FALSE)","v":15},0,15,null,1,null,0,null,null,{"$f":"IFERROR(VLOOKUP(G22,デフレータ!$D$5:$E$129,2,TRUE),100)","v":100},{"$f":"0.0188*($D$4^0.7883)","v":0}]
[1,null,"浄水","電気","薬品注入施設",0,0,0,{"$f":"VLOOKUP(D23,'様式2-1準備用'!$P$16:$Q$20,2,FALSE)","v":15},0,15,null,1,null,0,null,null,{"$f":"IFERROR(VLOOKUP(G23,デフレータ!$D$5:$E$129,2,TRUE),100)","v":100},{"$f":"0.307*($D$4^0.5154)","v":0}]
[1,null,"浄水","電気","中央監視操作施設",0,0,0,{"$f":"VLOOKUP(D24,'様式2-1準備用'!$P$16:$Q$20,2,FALSE)","v":15},0,15,null,1,null,0,null,null,{"$f":"IFERROR(VLOOKUP(G24,デフレータ!$D$5:$E$129,2,TRUE),100)","v":100},{"$f":"0.1448*($D$4^0.7681)","v":0}]
[1,null,"浄水","建築","自家発電施設",0,0,0,{"$f":"VLOOKUP(D25,'様式2-1準備用'!$P$16:$Q$20,2,FALSE)","v":50},0,50,null,1,null,0,null,null,{"$f":"IFERROR(VLOOKUP(G25,デフレータ!$D$5:$E$129,2,TRUE),100)","v":100},{"$f":"70.24*EXP(0.000003*$D$4)","v":70.239999999999995}]
[1,null,"浄水","電気","自家発電施設",0,0,0,{"$f":"VLOOKUP(D26,'様式2-1準備用'!$P$16:$Q$20,2,FALSE)","v":15},0,15,null,1,null,0,null,null,{"$f":"IFERROR(VLOOKUP(G26,デフレータ!$D$5:$E$129,2,TRUE),100)","v":100},{"$f":"0.3104*$T$26+59.48","v":59.48},{"$f":"0.9197*($D$4^0.6292)","v":0}]
[1,null,"浄水","電気","受配電施設《特高》",0,0,0,{"$f":"VLOOKUP(D27,'様式2-1準備用'!$P$16:$Q$20,2,FALSE)","v":15},0,15,"特高",1,null,0,null,null,{"$f":"IFERROR(VLOOKUP(G27,デフレータ!$D$5:$E$129,2,TRUE),100)","v":100},{"$f":"0.0023*$D$4+469.08","v":469.08}]
[1,null,"浄水","土木","場内整備・場内配管",0,0,0,{"$f":"VLOOKUP(D28,'様式2-1準備用'!$P$16:$Q$20,2,FALSE)","v":60},0,60,null,1,null,0,null,null,{"$f":"IFERROR(VLOOKUP(G28,デフレータ!$D$5:$E$129,2,TRUE),100)","v":100},{"$f":"0.005*$D$4+44.527","v":44.527000000000001}]
[null,null,null,null,"※膜処理施設の費用関数の工種区分は\"一式\"だが、ここでは\"機械\"に区分している。"]

{"sheet":"浄水場内施設（紫外線）","index":4,"n_rows":29,"n_cols":20,"rows_kept":29,"cut":false,"hidden":false,"merged":[]}
[null,null,null,null,null,null,null,null,null,null,null,"戻る"]
["●浄水場内施設-紫外線処理"]
[]
[null,null,"浄水施設能力(m3/日)：",null,"建設年度：",null,null,null,null,null,null,null,null,null,"費用関数",null,null,null,"費用関数"]
["係数","②系統","③区分","④工種","⑤施設名","⑥帳簿価格\n（千円）","⑦取得年度","⑧改築費\n（千円）","⑨法定耐用年数","⑩再改築費\n（千円）","⑪更新基準\n（現有資産）","備考","係数\n初期値",null,"⑥現在価格\n（千円）",null,null,"デフレータ\n(R5が100)","現在価格\n(税込10%, 百万円)"]
[1,null,"浄水","土木","着水井",{"$f":"IF($D$4=0,0,ROUND($O6*R6/100,))","v":0},{"$f":"IF($F$4=0,0,IF(A6=0,0,$F$4))","v":0},{"$f":"IF($D$4=0,0,$O6)","v":0},{"$f":"VLOOKUP(D6,'様式2-1準備用'!$P$16:$Q$20,2,FALSE)","v":60},{"$f":"IF($D$4=0,0,$O6)","v":0},{"$f":"I6","v":60},null,1,null,{"$f":"IF($D$4=0,0,$A6*S6*100/110*1000)","v":0},null,null,{"$f":"IFERROR(VLOOKUP(G6,デフレータ!$D$5:$E$129,2,TRUE),100)","v":100},{"$f":"19.995*($D$4^0.1553)","v":0}]
[1,null,"浄水","機械","着水井",{"$f":"IF($D$4=0,0,ROUND($O7*R7/100,))","v":0},{"$f":"IF($F$4=0,0,IF(A7=0,0,$F$4))","v":0},{"$f":"IF($D$4=0,0,$O7)","v":0},{"$f":"VLOOKUP(D7,'様式2-1準備用'!$P$16:$Q$20,2,FALSE)","v":15},{"$f":"IF($D$4=0,0,$O7)","v":0},15,null,1,null,{"$f":"IF($D$4=0,0,$A7*S7*100/110*1000)","v":0},null,null,{"$f":"IFERROR(VLOOKUP(G7,デフレータ!$D$5:$E$129,2,TRUE),100)","v":100},{"$f":"0.073*($D$4^0.5733)","v":0}]
[1,null,"浄水","電気","着水井",0,0,0,{"$f":"VLOOKUP(D8,'様式2-1準備用'!$P$16:$Q$20,2,FALSE)","v":15},0,15,null,1,null,0,null,null,{"$f":"IFERROR(VLOOKUP(G8,デフレータ!$D$5:$E$129,2,TRUE),100)","v":100},{"$f":"0.0004*($D$4^1.0027)","v":0}]
[1,null,"浄水","機械","紫外線処理施設",0,0,0,{"$f":"VLOOKUP(D9,'様式2-1準備用'!$P$16:$Q$20,2,FALSE)","v":15},0,15,null,1,null,0,null,null,{"$f":"IFERROR(VLOOKUP(G9,デフレータ!$D$5:$E$129,2,TRUE),100)","v":100},{"$f":"0.0235*$D$4+102.95","v":102.95}]
[1,null,"浄水","土木","浄水池・ポンプ井《直接基礎》",0,0,0,{"$f":"VLOOKUP(D10,'様式2-1準備用'!$P$16:$Q$20,2,FALSE)","v":60},0,60,"直接基礎、RC",1,null,0,null,null,{"$f":"IFERROR(VLOOKUP(G10,デフレータ!$D$5:$E$129,2,TRUE),100)","v":100},{"$f":"0.3156*($D$4^0.6844)","v":0}]
[1,null,"送水","建築","送水ポンプ施設《場内》",0,0,0,{"$f":"VLOOKUP(D11,'様式2-1準備用'!$P$16:$Q$20,2,FALSE)","v":50},0,50,"直接基礎、RC造",1,null,0,null,null,{"$f":"IFERROR(VLOOKUP(G11,デフレータ!$D$5:$E$129,2,TRUE),100)","v":100},{"$f":"2.8678*($T$11^0.7782)","v":0},{"$f":"2.2437*($D$4^0.5111)","v":0}]
[1,null,"送水","機械","送水ポンプ施設《場内》",0,0,0,{"$f":"VLOOKUP(D12,'様式2-1準備用'!$P$16:$Q$20,2,FALSE)","v":15},0,15,null,1,null,0,null,null,{"$f":"IFERROR(VLOOKUP(G12,デフレータ!$D$5:$E$129,2,TRUE),100)","v":100},{"$f":"0.1052*($D$4^0.6761)","v":0}]
[1,null,"送水","電気","送水ポンプ施設《場内》",0,0,0,{"$f":"VLOOKUP(D13,'様式2-1準備用'!$P$16:$Q$20,2,FALSE)","v":15},0,15,null,1,null,0,null,null,{"$f":"IFERROR(VLOOKUP(G13,デフレータ!$D$5:$E$129,2,TRUE),100)","v":100},{"$f":"0.0016*$D$4+140.56","v":140.56}]
[1,null,"配水","建築","配水ポンプ施設《場内》",0,0,0,{"$f":"VLOOKUP(D14,'様式2-1準備用'!$P$16:$Q$20,2,FALSE)","v":50},0,50,"直接基礎、RC造",1,null,0,null,null,{"$f":"IFERROR(VLOOKUP(G14,デフレータ!$D$5:$E$129,2,TRUE),100)","v":100},{"$f":"2.8678*($T$14^0.7782)","v":0},{"$f":"2.2437*($D$4^0.5111)","v":0}]
[1,null,"配水","機械","配水ポンプ施設《場内》",0,0,0,{"$f":"VLOOKUP(D15,'様式2-1準備用'!$P$16:$Q$20,2,FALSE)","v":15},0,15,null,1,null,0,null,null,{"$f":"IFERROR(VLOOKUP(G15,デフレータ!$D$5:$E$129,2,TRUE),100)","v":100},{"$f":"0.1052*($D$4^0.6761)","v":0}]
[1,null,"配水","電気","配水ポンプ施設《場内》",0,0,0,{"$f":"VLOOKUP(D16,'様式2-1準備用'!$P$16:$Q$20,2,FALSE)","v":15},0,15,null,1,null,0,null,null,{"$f":"IFERROR(VLOOKUP(G16,デフレータ!$D$5:$E$129,2,TRUE),100)","v":100},{"$f":"0.0016*$D$4+140.56","v":140.56}]
[1,null,"浄水","土木","排水池・排泥池",0,0,0,{"$f":"VLOOKUP(D17,'様式2-1準備用'!$P$16:$Q$20,2,FALSE)","v":60},0,60,"直接基礎",1,null,0,null,null,{"$f":"IFERROR(VLOOKUP(G17,デフレータ!$D$5:$E$129,2,TRUE),100)","v":100},{"$f":"29.81*EXP(0.00003*$D$4)","v":29.81}]
[1,null,"浄水","機械","排水池・排泥池",0,0,0,{"$f":"VLOOKUP(D18,'様式2-1準備用'!$P$16:$Q$20,2,FALSE)","v":15},0,15,null,1,null,0,null,null,{"$f":"IFERROR(VLOOKUP(G18,デフレータ!$D$5:$E$129,2,TRUE),100)","v":100},{"$f":"0.0003*$D$4+57.868","v":57.868000000000002}]
[1,null,"浄水","電気","排水池・排泥池",0,0,0,{"$f":"VLOOKUP(D19,'様式2-1準備用'!$P$16:$Q$20,2,FALSE)","v":15},0,15,null,1,null,0,null,null,{"$f":"IFERROR(VLOOKUP(G19,デフレータ!$D$5:$E$129,2,TRUE),100)","v":100},{"$f":"0.001*$D$4+90.873","v":90.873000000000005}]
[1,null,"浄水","建築","管理本館",0,0,0,{"$f":"VLOOKUP(D20,'様式2-1準備用'!$P$16:$Q$20,2,FALSE)","v":50},0,50,null,1,null,0,null,null,{"$f":"IFERROR(VLOOKUP(G20,デフレータ!$D$5:$E$129,2,TRUE),100)","v":100},{"$f":"132.83*EXP(0.000002*$D$4)","v":132.83000000000001}]
[1,null,"浄水","建築","薬品注入施設",0,0,0,{"$f":"VLOOKUP(D21,'様式2-1準備用'!$P$16:$Q$20,2,FALSE)","v":50},0,50,null,1,null,0,null,null,{"$f":"IFERROR(VLOOKUP(G21,デフレータ!$D$5:$E$129,2,TRUE),100)","v":100},{"$f":"0.0302*($D$4^0.6794)","v":0}]
[1,null,"浄水","機械","薬品注入施設",0,0,0,{"$f":"VLOOKUP(D22,'様式2-1準備用'!$P$16:$Q$20,2,FALSE)","v":15},0,15,null,1,null,0,null,null,{"$f":"IFERROR(VLOOKUP(G22,デフレータ!$D$5:$E$129,2,TRUE),100)","v":100},{"$f":"0.0188*($D$4^0.7883)","v":0}]
[1,null,"浄水","電気","薬品注入施設",0,0,0,{"$f":"VLOOKUP(D23,'様式2-1準備用'!$P$16:$Q$20,2,FALSE)","v":15},0,15,null,1,null,0,null,null,{"$f":"IFERROR(VLOOKUP(G23,デフレータ!$D$5:$E$129,2,TRUE),100)","v":100},{"$f":"0.307*($D$4^0.5154)","v":0}]
[1,null,"浄水","電気","中央監視操作施設",0,0,0,{"$f":"VLOOKUP(D24,'様式2-1準備用'!$P$16:$Q$20,2,FALSE)","v":15},0,15,null,1,null,0,null,null,{"$f":"IFERROR(VLOOKUP(G24,デフレータ!$D$5:$E$129,2,TRUE),100)","v":100},{"$f":"0.1448*($D$4^0.7681)","v":0}]
[1,null,"浄水","建築","自家発電施設",0,0,0,{"$f":"VLOOKUP(D25,'様式2-1準備用'!$P$16:$Q$20,2,FALSE)","v":50},0,50,null,1,null,0,null,null,{"$f":"IFERROR(VLOOKUP(G25,デフレータ!$D$5:$E$129,2,TRUE),100)","v":100},{"$f":"70.24*EXP(0.000003*$D$4)","v":70.239999999999995}]
[1,null,"浄水","電気","自家発電施設",0,0,0,{"$f":"VLOOKUP(D26,'様式2-1準備用'!$P$16:$Q$20,2,FALSE)","v":15},0,15,null,1,null,0,null,null,{"$f":"IFERROR(VLOOKUP(G26,デフレータ!$D$5:$E$129,2,TRUE),100)","v":100},{"$f":"0.3104*$T$26+59.48","v":59.48},{"$f":"0.9197*($D$4^0.6292)","v":0}]
[1,null,"浄水","電気","受配電施設《高圧》",0,0,0,{"$f":"VLOOKUP(D27,'様式2-1準備用'!$P$16:$Q$20,2,FALSE)","v":15},0,15,"高圧",1,null,0,null,null,{"$f":"IFERROR(VLOOKUP(G27,デフレータ!$D$5:$E$129,2,TRUE),100)","v":100},{"$f":"1.1448*($D$4^0.5194)","v":0}]
[1,null,"浄水","土木","場内整備・場内配管",0,0,0,{"$f":"VLOOKUP(D28,'様式2-1準備用'!$P$16:$Q$20,2,FALSE)","v":60},0,60,null,1,null,0,null,null,{"$f":"IFERROR(VLOOKUP(G28,デフレータ!$D$5:$E$129,2,TRUE),100)","v":100},{"$f":"0.005*$D$4+44.527","v":44.527000000000001}]
[null,null,null,null,"※紫外線処理施設の費用関数の工種区分は\"一式\"だが、ここでは\"機械\"に区分している。"]

{"sheet":"浄水場内施設（ろ過機）","index":5,"n_rows":44,"n_cols":20,"rows_kept":44,"cut":false,"hidden":false,"merged":[]}
[null,null,null,null,null,null,null,null,null,null,null,"戻る"]
["●浄水場内施設-ろ過機"]
[]
[null,null,"浄水施設能力(m3/日)：",null,"建設年度：",null,null,null,null,null,null,null,null,null,"費用関数",null,null,null,"費用関数"]
["係数","②系統","③区分","④工種","⑤施設名","⑥帳簿価格\n（千円）","⑦取得年度","⑧改築費\n（千円）","⑨法定耐用年数","⑩再改築費\n（千円）","⑪更新基準\n（現有資産）","備考","係数\n初期値",null,"⑥現在価格\n（千円）",null,null,"デフレータ\n(R5が100)","現在価格\n(税込10%, 百万円)"]
[1,null,"浄水","土木","着水井",{"$f":"IF($D$4=0,0,ROUND($O6*R6/100,))","v":0},{"$f":"IF($F$4=0,0,IF(A6=0,0,$F$4))","v":0},{"$f":"IF($D$4=0,0,$O6)","v":0},{"$f":"VLOOKUP(D6,'様式2-1準備用'!$P$16:$Q$20,2,FALSE)","v":60},{"$f":"IF($D$4=0,0,$O6)","v":0},{"$f":"I6","v":60},null,1,null,{"$f":"IF($D$4=0,0,$A6*S6*100/110*1000)","v":0},null,null,{"$f":"IFERROR(VLOOKUP(G6,デフレータ!$D$5:$E$129,2,TRUE),100)","v":100},{"$f":"19.995*($D$4^0.1553)","v":0}]
[1,null,"浄水","機械","着水井",{"$f":"IF($D$4=0,0,ROUND($O7*R7/100,))","v":0},{"$f":"IF($F$4=0,0,IF(A7=0,0,$F$4))","v":0},{"$f":"IF($D$4=0,0,$O7)","v":0},{"$f":"VLOOKUP(D7,'様式2-1準備用'!$P$16:$Q$20,2,FALSE)","v":15},{"$f":"IF($D$4=0,0,$O7)","v":0},15,null,1,null,{"$f":"IF($D$4=0,0,$A7*S7*100/110*1000)","v":0},null,null,{"$f":"IFERROR(VLOOKUP(G7,デフレータ!$D$5:$E$129,2,TRUE),100)","v":100},{"$f":"0.073*($D$4^0.5733)","v":0}]
[1,null,"浄水","電気","着水井",0,0,0,{"$f":"VLOOKUP(D8,'様式2-1準備用'!$P$16:$Q$20,2,FALSE)","v":15},0,15,null,1,null,0,null,null,{"$f":"IFERROR(VLOOKUP(G8,デフレータ!$D$5:$E$129,2,TRUE),100)","v":100},{"$f":"0.0004*($D$4^1.0027)","v":0}]
[1,null,"浄水","土木","急速攪拌池",0,0,0,{"$f":"VLOOKUP(D9,'様式2-1準備用'!$P$16:$Q$20,2,FALSE)","v":60},0,60,null,1,null,0,null,null,{"$f":"IFERROR(VLOOKUP(G9,デフレータ!$D$5:$E$129,2,TRUE),100)","v":100},{"$f":"0.0159*($D$4^0.7382)","v":0}]
[1,null,"浄水","機械","急速攪拌池",0,0,0,{"$f":"VLOOKUP(D10,'様式2-1準備用'!$P$16:$Q$20,2,FALSE)","v":15},0,15,null,1,null,0,null,null,{"$f":"IFERROR(VLOOKUP(G10,デフレータ!$D$5:$E$129,2,TRUE),100)","v":100},{"$f":"0.4134*($D$4^0.3787)","v":0}]
[1,null,"浄水","電気","急速攪拌池",0,0,0,{"$f":"VLOOKUP(D11,'様式2-1準備用'!$P$16:$Q$20,2,FALSE)","v":15},0,15,null,1,null,0,null,null,{"$f":"IFERROR(VLOOKUP(G11,デフレータ!$D$5:$E$129,2,TRUE),100)","v":100},{"$f":"9.3765*EXP(0.00001*$D$4)","v":9.3765000000000001}]
[1,null,"浄水","土木","フロック形成池",0,0,0,{"$f":"VLOOKUP(D12,'様式2-1準備用'!$P$16:$Q$20,2,FALSE)","v":60},0,60,null,1,null,0,null,null,{"$f":"IFERROR(VLOOKUP(G12,デフレータ!$D$5:$E$129,2,TRUE),100)","v":100},{"$f":"0.2813*($D$4^0.6175)","v":0}]
[1,null,"浄水","機械","フロック形成池",0,0,0,{"$f":"VLOOKUP(D13,'様式2-1準備用'!$P$16:$Q$20,2,FALSE)","v":15},0,15,"機械式",1,null,0,null,null,{"$f":"IFERROR(VLOOKUP(G13,デフレータ!$D$5:$E$129,2,TRUE),100)","v":100},{"$f":"0.0037*$D$4+47.624","v":47.624000000000002}]
[1,null,"浄水","電気","フロック形成池",0,0,0,{"$f":"VLOOKUP(D14,'様式2-1準備用'!$P$16:$Q$20,2,FALSE)","v":15},0,15,"機械式",1,null,0,null,null,{"$f":"IFERROR(VLOOKUP(G14,デフレータ!$D$5:$E$129,2,TRUE),100)","v":100},{"$f":"8.0566*EXP(0.00001*$D$4)","v":8.0565999999999995}]
[1,null,"浄水","土木","沈澱池（横流式「傾斜板式」）",0,0,0,{"$f":"VLOOKUP(D15,'様式2-1準備用'!$P$16:$Q$20,2,FALSE)","v":60},0,60,null,1,null,0,null,null,{"$f":"IFERROR(VLOOKUP(G15,デフレータ!$D$5:$E$129,2,TRUE),100)","v":100},{"$f":"0.0114*($D$4^0.9871)","v":0}]
[1,null,"浄水","機械","沈澱池（横流式「傾斜板式」）",0,0,0,{"$f":"VLOOKUP(D16,'様式2-1準備用'!$P$16:$Q$20,2,FALSE)","v":15},0,15,null,1,null,0,null,null,{"$f":"IFERROR(VLOOKUP(G16,デフレータ!$D$5:$E$129,2,TRUE),100)","v":100},{"$f":"296.75*EXP(0.000002*$D$4)","v":296.75}]
[1,null,"浄水","電気","沈澱池（横流式「傾斜板式」）",0,0,0,{"$f":"VLOOKUP(D17,'様式2-1準備用'!$P$16:$Q$20,2,FALSE)","v":15},0,15,null,1,null,0,null,null,{"$f":"IFERROR(VLOOKUP(G17,デフレータ!$D$5:$E$129,2,TRUE),100)","v":100},{"$f":"0.0014*($D$4^1.008)","v":0}]
[1,null,"浄水","機械","ろ過機",0,0,0,{"$f":"VLOOKUP(D18,'様式2-1準備用'!$P$16:$Q$20,2,FALSE)","v":15},0,15,null,1,null,0,null,null,{"$f":"IFERROR(VLOOKUP(G18,デフレータ!$D$5:$E$129,2,TRUE),100)","v":100},{"$f":"0.0155*$D$4+71.888","v":71.888000000000005}]
[1,null,"浄水","土木","塩素混和池",0,0,0,{"$f":"VLOOKUP(D19,'様式2-1準備用'!$P$16:$Q$20,2,FALSE)","v":60},0,60,null,1,null,0,null,null,{"$f":"IFERROR(VLOOKUP(G19,デフレータ!$D$5:$E$129,2,TRUE),100)","v":100},{"$f":"0.2411*($D$4^0.6425)","v":0}]
[1,null,"浄水","機械","塩素混和池",0,0,0,{"$f":"VLOOKUP(D20,'様式2-1準備用'!$P$16:$Q$20,2,FALSE)","v":15},0,15,null,1,null,0,null,null,{"$f":"IFERROR(VLOOKUP(G20,デフレータ!$D$5:$E$129,2,TRUE),100)","v":100},{"$f":"0.0572*($D$4^0.6528)","v":0}]
[1,null,"浄水","土木","浄水池・ポンプ井《直接基礎》",0,0,0,{"$f":"VLOOKUP(D21,'様式2-1準備用'!$P$16:$Q$20,2,FALSE)","v":60},0,60,"直接基礎、RC",1,null,0,null,null,{"$f":"IFERROR(VLOOKUP(G21,デフレータ!$D$5:$E$129,2,TRUE),100)","v":100},{"$f":"0.3156*($D$4^0.6844)","v":0}]
[1,null,"送水","建築","送水ポンプ施設《場内》",0,0,0,{"$f":"VLOOKUP(D22,'様式2-1準備用'!$P$16:$Q$20,2,FALSE)","v":50},0,50,"直接基礎、RC造",1,null,0,null,null,{"$f":"IFERROR(VLOOKUP(G22,デフレータ!$D$5:$E$129,2,TRUE),100)","v":100},{"$f":"2.8678*($T$22^0.7782)","v":0},{"$f":"2.2437*($D$4^0.5111)","v":0}]
[1,null,"送水","機械","送水ポンプ施設《場内》",0,0,0,{"$f":"VLOOKUP(D23,'様式2-1準備用'!$P$16:$Q$20,2,FALSE)","v":15},0,15,null,1,null,0,null,null,{"$f":"IFERROR(VLOOKUP(G23,デフレータ!$D$5:$E$129,2,TRUE),100)","v":100},{"$f":"0.1052*($D$4^0.6761)","v":0}]
[1,null,"送水","電気","送水ポンプ施設《場内》",0,0,0,{"$f":"VLOOKUP(D24,'様式2-1準備用'!$P$16:$Q$20,2,FALSE)","v":15},0,15,null,1,null,0,null,null,{"$f":"IFERROR(VLOOKUP(G24,デフレータ!$D$5:$E$129,2,TRUE),100)","v":100},{"$f":"0.0016*$D$4+140.56","v":140.56}]
[1,null,"配水","建築","配水ポンプ施設《場内》",0,0,0,{"$f":"VLOOKUP(D25,'様式2-1準備用'!$P$16:$Q$20,2,FALSE)","v":50},0,50,"直接基礎、RC造",1,null,0,null,null,{"$f":"IFERROR(VLOOKUP(G25,デフレータ!$D$5:$E$129,2,TRUE),100)","v":100},{"$f":"2.8678*($T$25^0.7782)","v":0},{"$f":"2.2437*($D$4^0.5111)","v":0}]
[1,null,"配水","機械","配水ポンプ施設《場内》",0,0,0,{"$f":"VLOOKUP(D26,'様式2-1準備用'!$P$16:$Q$20,2,FALSE)","v":15},0,15,null,1,null,0,null,null,{"$f":"IFERROR(VLOOKUP(G26,デフレータ!$D$5:$E$129,2,TRUE),100)","v":100},{"$f":"0.1052*($D$4^0.6761)","v":0}]
[1,null,"配水","電気","配水ポンプ施設《場内》",0,0,0,{"$f":"VLOOKUP(D27,'様式2-1準備用'!$P$16:$Q$20,2,FALSE)","v":15},0,15,null,1,null,0,null,null,{"$f":"IFERROR(VLOOKUP(G27,デフレータ!$D$5:$E$129,2,TRUE),100)","v":100},{"$f":"0.0016*$D$4+140.56","v":140.56}]
[1,null,"浄水","土木","排水池・排泥池",0,0,0,{"$f":"VLOOKUP(D28,'様式2-1準備用'!$P$16:$Q$20,2,FALSE)","v":60},0,60,"直接基礎",1,null,0,null,null,{"$f":"IFERROR(VLOOKUP(G28,デフレータ!$D$5:$E$129,2,TRUE),100)","v":100},{"$f":"29.81*EXP(0.00003*$D$4)","v":29.81}]
[1,null,"浄水","機械","排水池・排泥池",0,0,0,{"$f":"VLOOKUP(D29,'様式2-1準備用'!$P$16:$Q$20,2,FALSE)","v":15},0,15,null,1,null,0,null,null,{"$f":"IFERROR(VLOOKUP(G29,デフレータ!$D$5:$E$129,2,TRUE),100)","v":100},{"$f":"0.0003*$D$4+57.868","v":57.868000000000002}]
[1,null,"浄水","電気","排水池・排泥池",0,0,0,{"$f":"VLOOKUP(D30,'様式2-1準備用'!$P$16:$Q$20,2,FALSE)","v":15},0,15,null,1,null,0,null,null,{"$f":"IFERROR(VLOOKUP(G30,デフレータ!$D$5:$E$129,2,TRUE),100)","v":100},{"$f":"0.001*$D$4+90.873","v":90.873000000000005}]
[1,null,"浄水","土木","濃縮槽",0,0,0,{"$f":"VLOOKUP(D31,'様式2-1準備用'!$P$16:$Q$20,2,FALSE)","v":60},0,60,"杭基礎",1,null,0,null,null,{"$f":"IFERROR(VLOOKUP(G31,デフレータ!$D$5:$E$129,2,TRUE),100)","v":100},{"$f":"155.18*EXP(0.000003*$D$4)","v":155.18}]
[1,null,"浄水","機械","濃縮槽",0,0,0,{"$f":"VLOOKUP(D32,'様式2-1準備用'!$P$16:$Q$20,2,FALSE)","v":15},0,15,null,1,null,0,null,null,{"$f":"IFERROR(VLOOKUP(G32,デフレータ!$D$5:$E$129,2,TRUE),100)","v":100},{"$f":"41.062*EXP(0.000003*$D$4)","v":41.061999999999998}]
[1,null,"浄水","電気","濃縮槽",0,0,0,{"$f":"VLOOKUP(D33,'様式2-1準備用'!$P$16:$Q$20,2,FALSE)","v":15},0,15,null,1,null,0,null,null,{"$f":"IFERROR(VLOOKUP(G33,デフレータ!$D$5:$E$129,2,TRUE),100)","v":100},{"$f":"29.827*EXP(0.00001*$D$4)","v":29.827000000000002}]
[1,null,"浄水","土木","天日乾燥床",0,0,0,{"$f":"VLOOKUP(D34,'様式2-1準備用'!$P$16:$Q$20,2,FALSE)","v":60},0,60,"直接基礎",1,null,0,null,null,{"$f":"IFERROR(VLOOKUP(G34,デフレータ!$D$5:$E$129,2,TRUE),100)","v":100},{"$f":"0.0482*($D$4^0.689)","v":0}]
[1,null,"浄水","建築","管理本館",0,0,0,{"$f":"VLOOKUP(D35,'様式2-1準備用'!$P$16:$Q$20,2,FALSE)","v":50},0,50,null,1,null,0,null,null,{"$f":"IFERROR(VLOOKUP(G35,デフレータ!$D$5:$E$129,2,TRUE),100)","v":100},{"$f":"132.83*EXP(0.000002*$D$4)","v":132.83000000000001}]
[1,null,"浄水","建築","薬品注入施設",0,0,0,{"$f":"VLOOKUP(D36,'様式2-1準備用'!$P$16:$Q$20,2,FALSE)","v":50},0,50,null,1,null,0,null,null,{"$f":"IFERROR(VLOOKUP(G36,デフレータ!$D$5:$E$129,2,TRUE),100)","v":100},{"$f":"0.0302*($D$4^0.6794)","v":0}]
[1,null,"浄水","機械","薬品注入施設",0,0,0,{"$f":"VLOOKUP(D37,'様式2-1準備用'!$P$16:$Q$20,2,FALSE)","v":15},0,15,null,1,null,0,null,null,{"$f":"IFERROR(VLOOKUP(G37,デフレータ!$D$5:$E$129,2,TRUE),100)","v":100},{"$f":"0.0188*($D$4^0.7883)","v":0}]
[1,null,"浄水","電気","薬品注入施設",0,0,0,{"$f":"VLOOKUP(D38,'様式2-1準備用'!$P$16:$Q$20,2,FALSE)","v":15},0,15,null,1,null,0,null,null,{"$f":"IFERROR(VLOOKUP(G38,デフレータ!$D$5:$E$129,2,TRUE),100)","v":100},{"$f":"0.307*($D$4^0.5154)","v":0}]
[1,null,"浄水","電気","中央監視操作施設",0,0,0,{"$f":"VLOOKUP(D39,'様式2-1準備用'!$P$16:$Q$20,2,FALSE)","v":15},0,15,null,1,null,0,null,null,{"$f":"IFERROR(VLOOKUP(G39,デフレータ!$D$5:$E$129,2,TRUE),100)","v":100},{"$f":"0.1448*($D$4^0.7681)","v":0}]
[1,null,"浄水","建築","自家発電施設",0,0,0,{"$f":"VLOOKUP(D40,'様式2-1準備用'!$P$16:$Q$20,2,FALSE)","v":50},0,50,null,1,null,0,null,null,{"$f":"IFERROR(VLOOKUP(G40,デフレータ!$D$5:$E$129,2,TRUE),100)","v":100},{"$f":"70.24*EXP(0.000003*$D$4)","v":70.239999999999995}]
[1,null,"浄水","電気","自家発電施設",0,0,0,{"$f":"VLOOKUP(D41,'様式2-1準備用'!$P$16:$Q$20,2,FALSE)","v":15},0,15,null,1,null,0,null,null,{"$f":"IFERROR(VLOOKUP(G41,デフレータ!$D$5:$E$129,2,TRUE),100)","v":100},{"$f":"0.3104*$T$41+59.48","v":59.48},{"$f":"0.9197*($D$4^0.6292)","v":0}]
[1,null,"浄水","電気","受配電施設《高圧》",0,0,0,{"$f":"VLOOKUP(D42,'様式2-1準備用'!$P$16:$Q$20,2,FALSE)","v":15},0,15,"高圧",1,null,0,null,null,{"$f":"IFERROR(VLOOKUP(G42,デフレータ!$D$5:$E$129,2,TRUE),100)","v":100},{"$f":"1.1448*($D$4^0.5194)","v":0}]
[1,null,"浄水","土木","場内整備・場内配管",0,0,0,{"$f":"VLOOKUP(D43,'様式2-1準備用'!$P$16:$Q$20,2,FALSE)","v":60},0,60,null,1,null,0,null,null,{"$f":"IFERROR(VLOOKUP(G43,デフレータ!$D$5:$E$129,2,TRUE),100)","v":100},{"$f":"0.005*$D$4+44.527","v":44.527000000000001}]
[null,null,null,null,"※ろ過機の工種区分は\"一式\"だが、ここでは\"機械\"に区分している。"]

{"sheet":"浄水場内施設（その他）","index":6,"n_rows":27,"n_cols":19,"rows_kept":27,"cut":false,"hidden":false,"merged":[]}
[null,null,null,null,null,null,null,null,null,null,null,"戻る"]
["●浄水場内施設-オゾン処理"]
[]
[null,null,"浄水施設能力(m3/日)：",null,"建設年度：",null,null,null,null,null,null,null,null,null,"費用関数",null,null,null,"費用関数"]
["係数","②系統","③区分","④工種","⑤施設名","⑥帳簿価格\n（千円）","⑦取得年度","⑧改築費\n（千円）","⑨法定耐用年数","⑩再改築費\n（千円）","⑪更新基準\n（現有資産）","備考","係数\n初期値",null,"⑥現在価格\n（千円）",null,null,"デフレータ\n(R5が100)","現在価格\n(税込10%, 百万円)"]
[1,null,"浄水","機械","オゾン処理施設",{"$f":"IF($D$4=0,0,ROUND($O6*R6/100,))","v":0},{"$f":"IF($F$4=0,0,IF(A6=0,0,$F$4))","v":0},{"$f":"IF($D$4=0,0,$O6)","v":0},{"$f":"VLOOKUP(D6,'様式2-1準備用'!$P$16:$Q$20,2,FALSE)","v":15},{"$f":"IF($D$4=0,0,$O6)","v":0},{"$f":"I6","v":15},null,1,null,{"$f":"IF($D$4=0,0,$A6*S6*100/110*1000)","v":0},null,null,{"$f":"IFERROR(VLOOKUP(G6,デフレータ!$D$5:$E$129,2,TRUE),100)","v":100},{"$f":"0.0702*($D$4^0.8281)","v":0}]
[null,null,null,null,"※オゾン処理施設の費用関数の工種区分は\"一式\"だが、ここでは\"機械\"に区分している。"]
[null,null,null,null,null,null,null,null,null,null,null,"戻る"]
["●浄水場内施設-活性炭処理《粉末》"]
[]
[null,null,"浄水施設能力(m3/日)：",null,"建設年度：",null,null,null,null,null,null,null,null,null,"費用関数",null,null,null,"費用関数"]
["係数","②系統","③区分","④工種","⑤施設名","⑥帳簿価格\n（千円）","⑦取得年度","⑧改築費\n（千円）","⑨法定耐用年数","⑩再改築費\n（千円）","⑪更新基準\n（現有資産）","備考","係数\n初期値",null,"⑥現在価格\n（千円）",null,null,"デフレータ\n(R5が100)","現在価格\n(税込10%, 百万円)"]
[1,null,"浄水","機械","活性炭処理施設《粉末》",{"$f":"IF($D$4=0,0,ROUND($O13*R13/100,))","v":0},{"$f":"IF($F$11=0,0,IF(A13=0,0,$F$11))","v":0},{"$f":"IF($D$11=0,0,$O13)","v":0},{"$f":"VLOOKUP(D13,'様式2-1準備用'!$P$16:$Q$20,2,FALSE)","v":15},{"$f":"IF($D$11=0,0,$O13)","v":0},{"$f":"I13","v":15},null,1,null,{"$f":"IF($D$11=0,0,$A13*S13*100/110*1000)","v":0},null,null,{"$f":"IFERROR(VLOOKUP(G13,デフレータ!$D$5:$E$129,2,TRUE),100)","v":100},{"$f":"0.1286*($D$11^0.6658)","v":0}]
[null,null,null,null,"※費用関数の工種区分は\"一式\"だが、ここでは\"機械\"に区分している。"]
[null,null,null,null,null,null,null,null,null,null,null,"戻る"]
["●浄水場内施設-活性炭処理《粒状》"]
[]
[null,null,"浄水施設能力(m3/日)：",null,"建設年度：",null,null,null,null,null,null,null,null,null,"費用関数",null,null,null,"費用関数"]
["係数","②系統","③区分","④工種","⑤施設名","⑥帳簿価格\n（千円）","⑦取得年度","⑧改築費\n（千円）","⑨法定耐用年数","⑩再改築費\n（千円）","⑪更新基準\n（現有資産）","備考","係数\n初期値",null,"⑥現在価格\n（千円）",null,null,"デフレータ\n(R5が100)","現在価格\n(税込10%, 百万円)"]
[1,null,"浄水","機械","活性炭処理施設《粒状》",{"$f":"IF($D$4=0,0,ROUND($O20*R20/100,))","v":0},{"$f":"IF($F$18=0,0,IF(A20=0,0,$F$18))","v":0},{"$f":"IF($D$18=0,0,$O20)","v":0},{"$f":"VLOOKUP(D20,'様式2-1準備用'!$P$16:$Q$20,2,FALSE)","v":15},{"$f":"IF($D$18=0,0,$O20)","v":0},{"$f":"I20","v":15},null,1,null,{"$f":"IF($D$18=0,0,$A20*S20*100/110*1000)","v":0},null,null,{"$f":"IFERROR(VLOOKUP(G20,デフレータ!$D$5:$E$129,2,TRUE),100)","v":100},{"$f":"0.7166*($D$18^0.6494)","v":0}]
[null,null,null,null,"※費用関数の工種区分は\"一式\"だが、ここでは\"機械\"に区分している。"]
[null,null,null,null,null,null,null,null,null,null,null,"戻る"]
["●浄水場内施設-緩速ろ過池"]
[]
[null,null,"浄水施設能力(m3/日)：",null,"建設年度：",null,null,null,null,null,null,null,null,null,"費用関数",null,null,null,"費用関数"]
["係数","②系統","③区分","④工種","⑤施設名","⑥帳簿価格\n（千円）","⑦取得年度","⑧改築費\n（千円）","⑨法定耐用年数","⑩再改築費\n（千円）","⑪更新基準\n（現有資産）","備考","係数\n初期値",null,"⑥現在価格\n（千円）",null,null,"デフレータ\n(R5が100)","現在価格\n(税込10%, 百万円)"]
[1,null,"浄水","土木","緩速ろ過池",{"$f":"IF($D$4=0,0,ROUND($O27*R27/100,))","v":0},{"$f":"IF($F$25=0,0,IF(A27=0,0,$F$25))","v":0},{"$f":"IF($D$25=0,0,$O27)","v":0},{"$f":"VLOOKUP(D27,'様式2-1準備用'!$P$16:$Q$20,2,FALSE)","v":60},{"$f":"IF($D$25=0,0,$O27)","v":0},{"$f":"I27","v":60},null,1,null,{"$f":"IF($D$25=0,0,$A27*S27*100/110*1000)","v":0},null,null,{"$f":"IFERROR(VLOOKUP(G27,デフレータ!$D$5:$E$129,2,TRUE),100)","v":100},{"$f":"0.0488*$D$25+32.76","v":32.76}]

{"sheet":"送配水ポンプ施設","index":7,"n_rows":18,"n_cols":19,"rows_kept":18,"cut":false,"hidden":false,"merged":[]}
[null,null,null,null,null,null,null,null,null,null,null,"戻る"]
["●送水ポンプ施設-場外"]
[]
[null,null,"送水量(m3/日)：",null,"建設年度：",null,null,null,null,null,null,null,null,null,"費用関数",null,null,null,"費用関数"]
["係数","②系統","③区分","④工種","⑤施設名","⑥帳簿価格\n（千円）","⑦取得年度","⑧改築費\n（千円）","⑨法定耐用年数","⑩再改築費\n（千円）","⑪更新基準\n（現有資産）","備考","係数\n初期値",null,"⑥現在価格\n（千円）",null,null,"デフレータ\n(R5が100)","現在価格\n(税込10%, 百万円)"]
[1,null,"送水","建築","送水ポンプ施設《場外》",{"$f":"IF($D$4=0,0,ROUND($O6*R6/100,))","v":0},{"$f":"IF($F$4=0,0,IF(A6=0,0,$F$4))","v":0},{"$f":"IF($D$4=0,0,$O6)","v":0},{"$f":"VLOOKUP(D6,'様式2-1準備用'!$P$16:$Q$20,2,FALSE)","v":50},{"$f":"IF($D$4=0,0,$O6)","v":0},{"$f":"I6","v":50},"直接基礎、RC造",1,null,{"$f":"IF($D$4=0,0,$A6*S6*100/110*1000)","v":0},null,null,{"$f":"IFERROR(VLOOKUP(G6,デフレータ!$D$5:$E$129,2,TRUE),100)","v":100},{"$f":"1.6155*($D$4^0.565)","v":0}]
[1,null,"送水","機械","送水ポンプ施設《場外》",{"$f":"IF($D$4=0,0,ROUND($O7*R7/100,))","v":0},{"$f":"IF($F$4=0,0,IF(A7=0,0,$F$4))","v":0},{"$f":"IF($D$4=0,0,$O7)","v":0},{"$f":"VLOOKUP(D7,'様式2-1準備用'!$P$16:$Q$20,2,FALSE)","v":15},0,15,null,1,null,{"$f":"IF($D$4=0,0,$A7*S7*100/110*1000)","v":0},null,null,{"$f":"IFERROR(VLOOKUP(G7,デフレータ!$D$5:$E$129,2,TRUE),100)","v":100},{"$f":"0.1141*($D$4^0.7072)","v":0}]
[1,null,"送水","電気","送水ポンプ施設《場外》",0,{"$f":"IF($F$4=0,0,IF(A8=0,0,$F$4))","v":0},0,{"$f":"VLOOKUP(D8,'様式2-1準備用'!$P$16:$Q$20,2,FALSE)","v":15},0,15,null,1,null,0,null,null,{"$f":"IFERROR(VLOOKUP(G8,デフレータ!$D$5:$E$129,2,TRUE),100)","v":100},{"$f":"0.4995*($D$4^0.624)","v":0}]
[]
[]
[null,null,null,null,null,null,null,null,null,null,null,"戻る"]
["●配水ポンプ施設-場外"]
[]
[null,null,"配水量(m3/日)：",null,"建設年度：",null,null,null,null,null,null,null,null,null,"費用関数",null,null,null,"費用関数"]
["係数","②系統","③区分","④工種","⑤施設名","⑥帳簿価格\n（千円）","⑦取得年度","⑧改築費\n（千円）","⑨法定耐用年数","⑩再改築費\n（千円）","⑪更新基準\n（現有資産）","備考","係数\n初期値",null,"⑥現在価格\n（千円）",null,null,"デフレータ\n(R5が100)","現在価格\n(税込10%, 百万円)"]
[1,null,"配水","建築","配水ポンプ施設《場外》",{"$f":"IF($D$4=0,0,ROUND($O16*R16/100,))","v":0},{"$f":"IF($F$14=0,0,IF(A16=0,0,$F$14))","v":0},{"$f":"IF($D$14=0,0,$O16)","v":0},{"$f":"VLOOKUP(D16,'様式2-1準備用'!$P$16:$Q$20,2,FALSE)","v":50},{"$f":"IF($D$14=0,0,$O16)","v":0},{"$f":"I16","v":50},"直接基礎、RC造",1,null,{"$f":"IF($D$14=0,0,$A16*S16*100/110*1000)","v":0},null,null,{"$f":"IFERROR(VLOOKUP(G16,デフレータ!$D$5:$E$129,2,TRUE),100)","v":100},{"$f":"1.6155*($D$14^0.565)","v":0}]
[1,null,"配水","機械","配水ポンプ施設《場外》",0,{"$f":"IF($F$14=0,0,IF(A17=0,0,$F$14))","v":0},{"$f":"IF($D$14=0,0,$O17)","v":0},{"$f":"VLOOKUP(D17,'様式2-1準備用'!$P$16:$Q$20,2,FALSE)","v":15},{"$f":"IF($D$14=0,0,$O17)","v":0},15,null,1,null,{"$f":"IF($D$14=0,0,$A17*S17*100/110*1000)","v":0},null,null,{"$f":"IFERROR(VLOOKUP(G17,デフレータ!$D$5:$E$129,2,TRUE),100)","v":100},{"$f":"0.1141*($D$14^0.7072)","v":0}]
[1,null,"配水","電気","配水ポンプ施設《場外》",0,{"$f":"IF($F$14=0,0,IF(A18=0,0,$F$14))","v":0},{"$f":"IF($D$14=0,0,$O18)","v":0},{"$f":"VLOOKUP(D18,'様式2-1準備用'!$P$16:$Q$20,2,FALSE)","v":15},{"$f":"IF($D$14=0,0,$O18)","v":0},15,null,1,null,0,null,null,{"$f":"IFERROR(VLOOKUP(G18,デフレータ!$D$5:$E$129,2,TRUE),100)","v":100},{"$f":"0.4995*($D$14^0.624)","v":0}]

{"sheet":"配水池","index":8,"n_rows":21,"n_cols":19,"rows_kept":21,"cut":false,"hidden":false,"merged":[]}
[null,null,null,null,null,null,null,null,null,null,null,"戻る"]
["●配水池-RC"]
[]
[null,null,"有効容量(m3)：",null,"建設年度：",null,null,null,null,null,null,null,null,null,"費用関数",null,null,null,"費用関数"]
["係数","②系統","③区分","④工種","⑤施設名","⑥帳簿価格\n（千円）","⑦取得年度","⑧改築費\n（千円）","⑨法定耐用年数","⑩再改築費\n（千円）","⑪更新基準\n（現有資産）","備考","係数\n初期値",null,"⑥現在価格\n（千円）",null,null,"デフレータ\n(R5が100)","現在価格\n(税込10%, 百万円)"]
[1,null,"配水","土木","配水池《RC》",{"$f":"IF($D$4=0,0,ROUND($O6*R6/100,))","v":0},{"$f":"IF($F$4=0,0,IF(A6=0,0,$F$4))","v":0},{"$f":"IF($D$4=0,0,$O6)","v":0},{"$f":"VLOOKUP(D6,'様式2-1準備用'!$P$16:$Q$20,2,FALSE)","v":60},{"$f":"IF($D$4=0,0,$O6)","v":0},{"$f":"I6","v":60},null,1,null,{"$f":"IF($D$4=0,0,$A6*S6*100/110*1000)","v":0},null,null,{"$f":"IFERROR(VLOOKUP(G6,デフレータ!$D$5:$E$129,2,TRUE),100)","v":100},{"$f":"0.6019*($D$4^0.8635)","v":0}]
[null,null,null,null,"※費用関数の工種区分は\"一式\"だが、ここでは\"土木\"に区分している。"]
[null,null,null,null,null,null,null,null,null,null,null,"戻る"]
["●配水池-PC"]
[]
[null,null,"有効容量(m3)：",null,"建設年度：",null,null,null,null,null,null,null,null,null,"費用関数",null,null,null,"費用関数"]
["係数","②系統","③区分","④工種","⑤施設名","⑥帳簿価格\n（千円）","⑦取得年度","⑧改築費\n（千円）","⑨法定耐用年数","⑩再改築費\n（千円）","⑪更新基準\n（現有資産）","備考","係数\n初期値",null,"⑥現在価格\n（千円）",null,null,"デフレータ\n(R5が100)","現在価格\n(税込10%, 百万円)"]
[1,null,"配水","土木","配水池《PC》",{"$f":"IF($D$4=0,0,ROUND($O13*R13/100,))","v":0},{"$f":"IF($F$11=0,0,IF(A13=0,0,$F$11))","v":0},{"$f":"IF($D$11=0,0,$O13)","v":0},{"$f":"VLOOKUP(D13,'様式2-1準備用'!$P$16:$Q$20,2,FALSE)","v":60},{"$f":"IF($D$11=0,0,$O13)","v":0},{"$f":"I13","v":60},null,1,null,{"$f":"IF($D$11=0,0,$A13*S13*100/110*1000)","v":0},null,null,{"$f":"IFERROR(VLOOKUP(G13,デフレータ!$D$5:$E$129,2,TRUE),100)","v":100},{"$f":"1.9905*($D$11^0.6415)","v":0}]
[null,null,null,null,"※費用関数の工種区分は\"一式\"だが、ここでは\"土木\"に区分している。"]
[null,null,null,null,null,null,null,null,null,null,null,"戻る"]
["●配水池-SUS"]
[]
[null,null,"有効容量(m3)：",null,"建設年度：",null,null,null,null,null,null,null,null,null,"費用関数",null,null,null,"費用関数"]
["係数","②系統","③区分","④工種","⑤施設名","⑥帳簿価格\n（千円）","⑦取得年度","⑧改築費\n（千円）","⑨法定耐用年数","⑩再改築費\n（千円）","⑪更新基準\n（現有資産）","備考","係数\n初期値",null,"⑥現在価格\n（千円）",null,null,"デフレータ\n(R5が100)","現在価格\n(税込10%, 百万円)"]
[1,null,"配水","土木","配水池《SUS》",{"$f":"IF($D$4=0,0,ROUND($O20*R20/100,))","v":0},{"$f":"IF($F$18=0,0,IF(A20=0,0,$F$18))","v":0},{"$f":"IF($D$18=0,0,$O20)","v":0},{"$f":"'様式2-1準備用'!Q18","v":45},{"$f":"IF($D$18=0,0,$O20)","v":0},{"$f":"I20","v":45},null,1,null,{"$f":"IF($D$18=0,0,$A20*S20*100/110*1000)","v":0},null,null,{"$f":"IFERROR(VLOOKUP(G20,デフレータ!$D$5:$E$129,2,TRUE),100)","v":100},{"$f":"0.2488*$D$18+127.97","v":127.97}]
[null,null,null,null,"※費用関数の工種区分は\"一式\"だが、ここでは\"土木\"に区分し、かつ耐用年数の初期設定は60年でなく45年としている。"]

{"sheet":"管種別導入布設年度","index":9,"n_rows":24,"n_cols":8,"rows_kept":24,"cut":false,"hidden":true,"merged":[[3,7,4,7],[3,6,4,6],[3,1,3,2],[3,3,3,4],[3,0,4,0],[3,5,4,5]]}
["●管種別の導入布設年度",null,null,null,null,null,"用途管種別延長へ"]
["創設事業開始年度：",1970,"←水道（事業）が始まった時期"]
["実績最新年度：",2020]
["水道統計（社団法人 日本水道協会）の\n管種区分","導入布設年度",null,"製造年度",null,"チェック","製造年度の参考文献等","管種\nコード"]
[null,"開始","最終","開始","最終"]
["鋳鉄管　（ダクタイル鋳鉄管は含まない） (m)",1970,1975,0,1970,{"$f":"IF(B6=\"\",IF(C6=\"\",\"-\",\"エラー\"),IF(B6<$B$2,\"エラー\",IF(B6>C6,\"エラー\",IF(B6<D6,\"エラー\",IF(B6>C6,\"エラー\",IF(C6>$B$3,\"エラー\",\"OK\"))))))","v":"OK"},"ダクが広まりA形､K形のみのJWWA規格となった1976年(S46)よりも前とした。（S40年以降が高級鋳鉄管の末期とされている(*1ｐ.12)）","A1"]
["ダクタイル鋳鉄管　耐震型継手を有する (m)",1982,1985,1982,9999,{"$f":"IF(B7=\"\",IF(C7=\"\",\"-\",\"エラー\"),IF(B7<$B$2,\"エラー\",IF(B7>C7,\"エラー\",IF(B7<D7,\"エラー\",IF(B7>C7,\"エラー\",IF(C7>$B$3,\"エラー\",\"OK\"))))))","v":"OK"},"資料よりS形、SⅡ形の採用時期と見込まれる(*1ｐ.28)","A2"]
["ダクタイル鋳鉄管　Ｋ形継手等を有するもののうち良い地盤に布設されている (m)",1980,2020,1971,9999,"OK","以前からA形、B形、C形、フランジ形があったが、1971年(S46)には、A形､K形のみのJWWA規格となったタイミング","A3"]
["ダクタイル鋳鉄管　(上記以外・不明なものを含む） (m)",2001,2001,1971,9999,"OK","同上","A9"]
["鋼管　（溶接継手を有する） （m）",1982,1985,1953,9999,"OK","資料より1957(S27)以前は印ろう継手と分類されている(*1p.43)","B1"]
["鋼管　（上記以外・不明なものを含む） (m)",null,null,0,9999,"-","古い印ろう継手か、亜鉛メッキ鋼管（ネジ継手）、塩ビライニング鋼管（ネジ継手）が考えられる。","B9"]
["石綿セメント管 (m)",null,null,0,1985,"-","最後の製造中止は1985（S60）(日本エタニットパイプ社)","C1"]
["硬質塩化ビニル管　（ＲＲロング継手等を有する） (m)",2000,2005,2000,9999,"OK","JWWA規格化が2000年。","D1"]
["硬質塩化ビニル管　（ＲＲ継手等を有する） (m)",1985,1995,1981,1999,"OK","JWWA規格化が1981年。RRロング登場後は使用しないと想定","D2"]
["硬質塩化ビニル管　（上記以外・不明なものを含む） (m)",1982,1982,1964,9999,"OK","TS継手が初めて規格化された","D9"]
["コンクリート管 (m)",null,null,0,1948,"-","高級鋳鉄管の規格化以前を想定（*1ｐ.3に戦時中はヒューム管、木管といった代用管使用の記述がある。）","E1"]
["鉛管 (m)",null,null,0,1988,"-","H元年に厚生省通知","F1"]
["ポリエチレン管　（高密度、熱融着継手を有する） （m）",1995,2000,1995,9999,"OK","資料よる区切りを採用（*1p.66）","G1"]
["ポリエチレン管　（上記以外・不明なものを含む） （m）",null,null,0,1994,"-","同上","G9"]
["ステンレス管　耐震型継手を有する (m)",1985,1989,1985,9999,"OK","ステンレス管の採用が早かった横須賀市で1985年から使用しているため（HPより）","H1"]
["ステンレス管　(上記以外・不明なものを含む） (m)",null,null,1985,9999,"-","同上","H9"]
["その他　（管種が不明のものを含む） (m)",null,null,0,9999,"-",null,"Z9"]
[null,null,null,null,null,null,"*1「水道管の分類と特性（案）」(H20.7、(財)水道技術研究センター)"]
[null,null,null,null,null,null,"*2　採用がNS形なら1999年(H11)以降。"]

{"sheet":"用途管種別延長","index":10,"n_rows":79,"n_cols":124,"rows_kept":79,"cut":false,"hidden":true,"merged":[[3,122,4,122],[0,2,0,6],[0,8,0,9],[3,6,3,7],[3,0,4,0],[3,1,4,1],[3,3,4,3],[5,0,21,0],[74,0,74,1],[75,0,75,1],[76,0,76,1],[77,0,77,1],[22,0,38,0],[39,0,55,0],[56,0,72,0],[73,0,73,1],[3,123,4,123],[5,123,21,123],[22,123,38,123],[39,123,55,123],[56,123,72,123]]}
["●用途・管種別の布設延長",null,"管種別導入布設年度へ",null,null,null,null,null,"様式2-2準備用へ"]
[]
[null,null,null,null,null,null,null,null,null,null,11,{"$f":"K3+1","v":12},{"$f":"L3+1","v":13},14,15,16,17,18,19,20,21,22,23,24,25,26,27,28,29,30,31,32,33,34,35,36,37,38,39,40,41,42,43,44,45,46,47,48,49,50,51,52,53,54,55,56,57,58,59,60,61,62,63,64,65,66,67,68,69,70,71,72,73,74,75,76,{"$f":"BX3+1","v":77},78,79,80,81,82,83,84,85,86,87,88,89,90,91,92,93,94,95,96,97,98,99,100,101,102,103,104,105,106,107,108,109,110,111,112,113,114,115,116,117,118,119,120,121]
["用途","水道統計（公益社団法人 日本水道協会）の管種区分","延長","布設事業費\n(千円)","h","p","導入布設年度",null,"利用期間","利用期間","年度別布設延長",null,null,null,null,null,null,null,null,null,null,null,null,null,null,null,null,null,null,null,null,null,null,null,null,null,null,null,null,null,null,null,null,null,null,null,null,null,null,null,null,null,null,null,null,null,null,null,null,null,null,null,null,null,null,null,null,null,null,null,null,null,null,null,null,null,null,null,null,null,null,null,null,null,null,null,null,null,null,null,null,null,null,null,null,null,null,null,null,null,null,null,null,null,null,null,null,null,null,null,null,null,null,null,null,null,null,null,null,null,null,null,"管種\nコード","施設名"]
[null,null,"（m）",null,"切片","傾き","開始","最終","（年）","平均延長",{"$f":"管種別導入布設年度!B2","v":1970},{"$f":"K5+1","v":1971},{"$f":"L5+1","v":1972},1973,1974,1975,1976,1977,1978,1979,1980,1981,1982,1983,1984,1985,1986,1987,1988,1989,1990,1991,1992,1993,1994,1995,1996,1997,1998,1999,2000,2001,2002,2003,2004,2005,2006,2007,2008,2009,2010,2011,2012,2013,2014,2015,2016,2017,2018,2019,2020,2021,2022,2023,2024,2025,2026,2027,2028,2029,2030,2031,2032,2033,2034,2035,{"$f":"BX5+1","v":2036},2037,2038,2039,2040,2041,2042,2043,2044,2045,2046,2047,2048,2049,2050,2051,2052,2053,2054,2055,2056,2057,2058,2059,2060,2061,2062,2063,2064,2065,2066,2067,2068,2069,2070,2071,2072,2073,2074,2075,2076,2077,2078,2079,2080,"（合計）"]
["導水管","鋳鉄管　（ダクタイル鋳鉄管は含まない） (m)",30,3500,null,null,{"$f":"IF($C6=0,\"-\",管種別導入布設年度!B6)","v":1970},{"$f":"IF($C6=0,\"-\",管種別導入布設年度!C6)","v":1975},{"$f":"IF(C6=0,0,H6-G6+1)","v":6},{"$f":"IF(C6=0,0,ROUND(C6/I6,1))","v":5},{"$f":"IF($C6=0,0,IF(K$5<INT($G6),0, IF(K$5>INT($H6),0,$J6)))","v":5},5,5,5,5,5,0,0,0,0,{"$f":"IF($C6=0,0,IF(U$5<INT($G6),0, IF(U$5>INT($H6),0,$J6)))","v":0},0,0,0,0,0,0,0,0,0,{"$f":"IF($C6=0,0,IF(AE$5<INT($G6),0, IF(AE$5>INT($H6),0,$J6)))","v":0},0,0,0,0,0,0,0,0,0,{"$f":"IF($C6=0,0,IF(AO$5<INT($G6),0, IF(AO$5>INT($H6),0,$J6)))","v":0},0,0,0,0,0,0,0,0,0,{"$f":"IF($C6=0,0,IF(AY$5<INT($G6),0, IF(AY$5>INT($H6),0,$J6)))","v":0},0,0,0,0,0,0,0,0,0,{"$f":"IF($C6=0,0,IF(BI$5<INT($G6),0, IF(BI$5>INT($H6),0,$J6)))","v":0},0,0,0,0,0,0,0,0,0,{"$f":"IF($C6=0,0,IF(BS$5<INT($G6),0, IF(BS$5>INT($H6),0,$J6)))","v":0},0,0,0,0,0,0,0,0,0,{"$f":"IF($C6=0,0,IF(CC$5<INT($G6),0, IF(CC$5>INT($H6),0,$J6)))","v":0},0,0,0,0,0,0,0,0,0,{"$f":"IF($C6=0,0,IF(CM$5<INT($G6),0, IF(CM$5>INT($H6),0,$J6)))","v":0},0,0,0,0,0,0,0,0,0,{"$f":"IF($C6=0,0,IF(CW$5<INT($G6),0, IF(CW$5>INT($H6),0,$J6)))","v":0},0,0,0,0,0,0,0,0,0,{"$f":"IF($C6=0,0,IF(DG$5<INT($G6),0, IF(DG$5>INT($H6),0,$J6)))","v":0},0,0,0,0,0,0,0,0,0,0,{"$f":"SUM(K6:DQ6)","v":30},"A1","取・導水管"]
[null,"ダクタイル鋳鉄管　耐震型継手を有する (m)",120,15000,null,null,{"$f":"IF($C7=0,\"-\",管種別導入布設年度!B7)","v":1982},{"$f":"IF($C7=0,\"-\",管種別導入布設年度!C7)","v":1985},4,30,0,0,0,0,0,0,0,0,0,0,0,0,30,30,30,30,0,0,0,0,0,0,0,0,0,0,0,0,0,0,0,0,0,0,0,0,0,0,0,0,0,0,0,0,0,0,0,0,0,0,0,0,0,0,0,0,0,0,0,0,0,0,0,0,0,0,0,0,0,0,0,0,0,0,0,0,0,0,0,0,0,0,0,0,0,0,0,0,0,0,0,0,0,0,0,0,0,0,0,0,0,0,0,0,0,0,0,0,0,0,0,120,"A2"]
[null,"ダクタイル鋳鉄管　Ｋ形継手等を有するもののうち良い地盤に布設されている (m)",null,null,null,null,{"$f":"IF($C8=0,\"-\",管種別導入布設年度!B8)","v":"-"},{"$f":"IF($C8=0,\"-\",管種別導入布設年度!C8)","v":"-"},0,0,0,0,0,0,0,0,0,0,0,0,0,0,0,0,0,0,0,0,0,0,0,0,0,0,0,0,0,0,0,0,0,0,0,0,0,0,0,0,0,0,0,0,0,0,0,0,0,0,0,0,0,0,0,0,0,0,0,0,0,0,0,0,0,0,0,0,0,0,0,0,0,0,0,0,0,0,0,0,0,0,0,0,0,0,0,0,0,0,0,0,0,0,0,0,0,0,0,0,0,0,0,0,0,0,0,0,0,0,0,0,0,0,"A3"]
[null,"ダクタイル鋳鉄管　(上記以外・不明なものを含む） (m)",100,null,{"$f":"IF(H9<2000,C9/(1999-G9+1),IF(G9<2000,C9/((1999-G9+1)+(H9+2-2000)/2),2*C9/(H9+2-G9)))","v":100},{"$f":"IF($H9<2000,0,E9/(H9+IF(G9<2000,1-2000,1-G9)))","v":100},{"$f":"IF($C9=0,\"-\",管種別導入布設年度!B9)","v":2001},{"$f":"IF($C9=0,\"-\",管種別導入布設年度!C9)","v":2001},1,100,{"$f":"IF($C9=0,0,IF(K$5<INT($G9),0,IF(K$5>INT($H9),0,IF(K$5<2000,$E9,$E9-($F9*(K$5-IF($G9<2001,2000,$G9)))))))","v":0},0,0,0,0,0,0,0,0,0,0,0,0,0,0,0,0,0,0,0,0,0,0,0,0,0,0,0,0,0,0,100,{"$f":"IF($C9=0,0,IF(AQ$5<INT($G9),0,IF(AQ$5>INT($H9),0,IF(AQ$5<2000,$E9,$E9-($F9*(AQ$5-IF($G9<2001,2000,$G9)))))))","v":0},0,0,0,0,0,0,0,0,0,0,0,0,0,0,0,0,0,0,0,0,0,0,0,0,0,0,0,0,0,0,0,{"$f":"IF($C9=0,0,IF(BW$5<INT($G9),0,IF(BW$5>INT($H9),0,IF(BW$5<2000,$E9,$E9-($F9*(BW$5-IF($G9<2001,2000,$G9)))))))","v":0},0,0,0,0,0,0,0,0,0,0,0,0,0,0,0,0,0,0,0,0,0,0,0,0,0,0,0,0,0,0,0,{"$f":"IF($C9=0,0,IF(DC$5<INT($G9),0,IF(DC$5>INT($H9),0,IF(DC$5<2000,$E9,$E9-($F9*(DC$5-IF($G9<2001,2000,$G9)))))))","v":0},0,0,0,0,0,0,0,0,0,0,0,0,0,0,100,"A9"]
[null,"鋼管　（溶接継手を有する） （m）",null,null,null,null,{"$f":"IF($C10=0,\"-\",管種別導入布設年度!B10)","v":"-"},{"$f":"IF($C10=0,\"-\",管種別導入布設年度!C10)","v":"-"},0,0,{"$f":"IF($C10=0,0,IF(K$5<INT($G10),0, IF(K$5>INT($H10),0,$J10)))","v":0},0,0,0,0,0,0,0,0,0,{"$f":"IF($C10=0,0,IF(U$5<INT($G10),0, IF(U$5>INT($H10),0,$J10)))","v":0},0,0,0,0,0,0,0,0,0,{"$f":"IF($C10=0,0,IF(AE$5<INT($G10),0, IF(AE$5>INT($H10),0,$J10)))","v":0},0,0,0,0,0,0,0,0,0,{"$f":"IF($C10=0,0,IF(AO$5<INT($G10),0, IF(AO$5>INT($H10),0,$J10)))","v":0},0,0,0,0,0,0,0,0,0,{"$f":"IF($C10=0,0,IF(AY$5<INT($G10),0, IF(AY$5>INT($H10),0,$J10)))","v":0},0,0,0,0,0,0,0,0,0,{"$f":"IF($C10=0,0,IF(BI$5<INT($G10),0, IF(BI$5>INT($H10),0,$J10)))","v":0},0,0,0,0,0,0,0,0,0,{"$f":"IF($C10=0,0,IF(BS$5<INT($G10),0, IF(BS$5>INT($H10),0,$J10)))","v":0},0,0,0,0,0,0,0,0,0,{"$f":"IF($C10=0,0,IF(CC$5<INT($G10),0, IF(CC$5>INT($H10),0,$J10)))","v":0},0,0,0,0,0,0,0,0,0,{"$f":"IF($C10=0,0,IF(CM$5<INT($G10),0, IF(CM$5>INT($H10),0,$J10)))","v":0},0,0,0,0,0,0,0,0,0,{"$f":"IF($C10=0,0,IF(CW$5<INT($G10),0, IF(CW$5>INT($H10),0,$J10)))","v":0},0,0,0,0,0,0,0,0,0,{"$f":"IF($C10=0,0,IF(DG$5<INT($G10),0, IF(DG$5>INT($H10),0,$J10)))","v":0},0,0,0,0,0,0,0,0,0,0,0,"B1"]
[null,"鋼管　（上記以外・不明なものを含む） (m)",null,null,null,null,{"$f":"IF($C11=0,\"-\",管種別導入布設年度!B11)","v":"-"},{"$f":"IF($C11=0,\"-\",管種別導入布設年度!C11)","v":"-"},0,0,0,0,0,0,0,0,0,0,0,0,0,0,0,0,0,0,0,0,0,0,0,0,0,0,0,0,0,0,0,0,0,0,0,0,0,0,0,0,0,0,0,0,0,0,0,0,0,0,0,0,0,0,0,0,0,0,0,0,0,0,0,0,0,0,0,0,0,0,0,0,0,0,0,0,0,0,0,0,0,0,0,0,0,0,0,0,0,0,0,0,0,0,0,0,0,0,0,0,0,0,0,0,0,0,0,0,0,0,0,0,0,0,"B9"]
[null,"石綿セメント管 (m)",null,null,null,null,{"$f":"IF($C12=0,\"-\",管種別導入布設年度!B12)","v":"-"},{"$f":"IF($C12=0,\"-\",管種別導入布設年度!C12)","v":"-"},0,0,0,0,0,0,0,0,0,0,0,0,0,0,0,0,0,0,0,0,0,0,0,0,0,0,0,0,0,0,0,0,0,0,0,0,0,0,0,0,0,0,0,0,0,0,0,0,0,0,0,0,0,0,0,0,0,0,0,0,0,0,0,0,0,0,0,0,0,0,0,0,0,0,0,0,0,0,0,0,0,0,0,0,0,0,0,0,0,0,0,0,0,0,0,0,0,0,0,0,0,0,0,0,0,0,0,0,0,0,0,0,0,0,"C1"]
[null,"硬質塩化ビニル管　（ＲＲロング継手等を有する） (m)",null,null,null,null,{"$f":"IF($C13=0,\"-\",管種別導入布設年度!B13)","v":"-"},{"$f":"IF($C13=0,\"-\",管種別導入布設年度!C13)","v":"-"},0,0,0,0,0,0,0,0,0,0,0,0,0,0,0,0,0,0,0,0,0,0,0,0,0,0,0,0,0,0,0,0,0,0,0,0,0,0,0,0,0,0,0,0,0,0,0,0,0,0,0,0,0,0,0,0,0,0,0,0,0,0,0,0,0,0,0,0,0,0,0,0,0,0,0,0,0,0,0,0,0,0,0,0,0,0,0,0,0,0,0,0,0,0,0,0,0,0,0,0,0,0,0,0,0,0,0,0,0,0,0,0,0,0,"D1"]
[null,"硬質塩化ビニル管　（ＲＲ継手等を有する） (m)",null,null,null,null,{"$f":"IF($C14=0,\"-\",管種別導入布設年度!B14)","v":"-"},{"$f":"IF($C14=0,\"-\",管種別導入布設年度!C14)","v":"-"},0,0,0,0,0,0,0,0,0,0,0,0,0,0,0,0,0,0,0,0,0,0,0,0,0,0,0,0,0,0,0,0,0,0,0,0,0,0,0,0,0,0,0,0,0,0,0,0,0,0,0,0,0,0,0,0,0,0,0,0,0,0,0,0,0,0,0,0,0,0,0,0,0,0,0,0,0,0,0,0,0,0,0,0,0,0,0,0,0,0,0,0,0,0,0,0,0,0,0,0,0,0,0,0,0,0,0,0,0,0,0,0,0,0,"D2"]
[null,"硬質塩化ビニル管　（上記以外・不明なものを含む） (m)",null,null,{"$f":"IF(H15<2000,C15/(1999-G15+1),IF(G15<2000,C15/((1999-G15+1)+(H15+2-2000)/2),2*C15/(H15+2-G15)))","v":{"$error":"#VALUE!"}},{"$f":"IF($H15<2000,0,E15/(H15+IF(G15<2000,1-2000,1-G15)))","v":{"$error":"#VALUE!"}},{"$f":"IF($C15=0,\"-\",管種別導入布設年度!B15)","v":"-"},{"$f":"IF($C15=0,\"-\",管種別導入布設年度!C15)","v":"-"},0,0,{"$f":"IF($C15=0,0,IF(K$5<INT($G15),0,IF(K$5>INT($H15),0,IF(K$5<2000,$E15,$E15-($F15*(K$5-IF($G15<2001,2000,$G15)))))))","v":0},0,0,0,0,0,0,0,0,0,0,0,0,0,0,0,0,0,0,0,0,0,0,0,0,0,0,0,0,0,0,0,{"$f":"IF($C15=0,0,IF(AQ$5<INT($G15),0,IF(AQ$5>INT($H15),0,IF(AQ$5<2000,$E15,$E15-($F15*(AQ$5-IF($G15<2001,2000,$G15)))))))","v":0},0,0,0,0,0,0,0,0,0,0,0,0,0,0,0,0,0,0,0,0,0,0,0,0,0,0,0,0,0,0,0,{"$f":"IF($C15=0,0,IF(BW$5<INT($G15),0,IF(BW$5>INT($H15),0,IF(BW$5<2000,$E15,$E15-($F15*(BW$5-IF($G15<2001,2000,$G15)))))))","v":0},0,0,0,0,0,0,0,0,0,0,0,0,0,0,0,0,0,0,0,0,0,0,0,0,0,0,0,0,0,0,0,{"$f":"IF($C15=0,0,IF(DC$5<INT($G15),0,IF(DC$5>INT($H15),0,IF(DC$5<2000,$E15,$E15-($F15*(DC$5-IF($G15<2001,2000,$G15)))))))","v":0},0,0,0,0,0,0,0,0,0,0,0,0,0,0,0,"D9"]
[null,"コンクリート管 (m)",null,null,null,null,{"$f":"IF($C16=0,\"-\",管種別導入布設年度!B16)","v":"-"},{"$f":"IF($C16=0,\"-\",管種別導入布設年度!C16)","v":"-"},0,0,{"$f":"IF($C16=0,0,IF(K$5<INT($G16),0, IF(K$5>INT($H16),0,$J16)))","v":0},0,0,0,0,0,0,0,0,0,{"$f":"IF($C16=0,0,IF(U$5<INT($G16),0, IF(U$5>INT($H16),0,$J16)))","v":0},0,0,0,0,0,0,0,0,0,{"$f":"IF($C16=0,0,IF(AE$5<INT($G16),0, IF(AE$5>INT($H16),0,$J16)))","v":0},0,0,0,0,0,0,0,0,0,{"$f":"IF($C16=0,0,IF(AO$5<INT($G16),0, IF(AO$5>INT($H16),0,$J16)))","v":0},0,0,0,0,0,0,0,0,0,{"$f":"IF($C16=0,0,IF(AY$5<INT($G16),0, IF(AY$5>INT($H16),0,$J16)))","v":0},0,0,0,0,0,0,0,0,0,{"$f":"IF($C16=0,0,IF(BI$5<INT($G16),0, IF(BI$5>INT($H16),0,$J16)))","v":0},0,0,0,0,0,0,0,0,0,{"$f":"IF($C16=0,0,IF(BS$5<INT($G16),0, IF(BS$5>INT($H16),0,$J16)))","v":0},0,0,0,0,0,0,0,0,0,{"$f":"IF($C16=0,0,IF(CC$5<INT($G16),0, IF(CC$5>INT($H16),0,$J16)))","v":0},0,0,0,0,0,0,0,0,0,{"$f":"IF($C16=0,0,IF(CM$5<INT($G16),0, IF(CM$5>INT($H16),0,$J16)))","v":0},0,0,0,0,0,0,0,0,0,{"$f":"IF($C16=0,0,IF(CW$5<INT($G16),0, IF(CW$5>INT($H16),0,$J16)))","v":0},0,0,0,0,0,0,0,0,0,{"$f":"IF($C16=0,0,IF(DG$5<INT($G16),0, IF(DG$5>INT($H16),0,$J16)))","v":0},0,0,0,0,0,0,0,0,0,0,0,"E1"]
[null,"鉛管 (m)",null,null,null,null,{"$f":"IF($C17=0,\"-\",管種別導入布設年度!B17)","v":"-"},{"$f":"IF($C17=0,\"-\",管種別導入布設年度!C17)","v":"-"},0,0,0,0,0,0,0,0,0,0,0,0,0,0,0,0,0,0,0,0,0,0,0,0,0,0,0,0,0,0,0,0,0,0,0,0,0,0,0,0,0,0,0,0,0,0,0,0,0,0,0,0,0,0,0,0,0,0,0,0,0,0,0,0,0,0,0,0,0,0,0,0,0,0,0,0,0,0,0,0,0,0,0,0,0,0,0,0,0,0,0,0,0,0,0,0,0,0,0,0,0,0,0,0,0,0,0,0,0,0,0,0,0,0,"F1"]
[null,"ポリエチレン管　（高密度、熱融着継手を有する） （m）",null,null,null,null,{"$f":"IF($C18=0,\"-\",管種別導入布設年度!B18)","v":"-"},{"$f":"IF($C18=0,\"-\",管種別導入布設年度!C18)","v":"-"},0,0,0,0,0,0,0,0,0,0,0,0,0,0,0,0,0,0,0,0,0,0,0,0,0,0,0,0,0,0,0,0,0,0,0,0,0,0,0,0,0,0,0,0,0,0,0,0,0,0,0,0,0,0,0,0,0,0,0,0,0,0,0,0,0,0,0,0,0,0,0,0,0,0,0,0,0,0,0,0,0,0,0,0,0,0,0,0,0,0,0,0,0,0,0,0,0,0,0,0,0,0,0,0,0,0,0,0,0,0,0,0,0,0,"G1"]
[null,"ポリエチレン管　（上記以外・不明なものを含む） （m）",null,null,null,null,{"$f":"IF($C19=0,\"-\",管種別導入布設年度!B19)","v":"-"},{"$f":"IF($C19=0,\"-\",管種別導入布設年度!C19)","v":"-"},0,0,0,0,0,0,0,0,0,0,0,0,0,0,0,0,0,0,0,0,0,0,0,0,0,0,0,0,0,0,0,0,0,0,0,0,0,0,0,0,0,0,0,0,0,0,0,0,0,0,0,0,0,0,0,0,0,0,0,0,0,0,0,0,0,0,0,0,0,0,0,0,0,0,0,0,0,0,0,0,0,0,0,0,0,0,0,0,0,0,0,0,0,0,0,0,0,0,0,0,0,0,0,0,0,0,0,0,0,0,0,0,0,0,"G9"]
[null,"ステンレス管　耐震型継手を有する (m)",210,20790,null,null,{"$f":"IF($C20=0,\"-\",管種別導入布設年度!B20)","v":1985},{"$f":"IF($C20=0,\"-\",管種別導入布設年度!C20)","v":1989},5,42,0,0,0,0,0,0,0,0,0,0,0,0,0,0,0,42,42,42,42,42,0,0,0,0,0,0,0,0,0,0,0,0,0,0,0,0,0,0,0,0,0,0,0,0,0,0,0,0,0,0,0,0,0,0,0,0,0,0,0,0,0,0,0,0,0,0,0,0,0,0,0,0,0,0,0,0,0,0,0,0,0,0,0,0,0,0,0,0,0,0,0,0,0,0,0,0,0,0,0,0,0,0,0,0,0,0,0,0,0,0,0,210,"H1"]
[null,"ステンレス管　(上記以外・不明なものを含む） (m)",null,null,null,null,{"$f":"IF($C21=0,\"-\",管種別導入布設年度!B21)","v":"-"},{"$f":"IF($C21=0,\"-\",管種別導入布設年度!C21)","v":"-"},0,0,0,0,0,0,0,0,0,0,0,0,0,0,0,0,0,0,0,0,0,0,0,0,0,0,0,0,0,0,0,0,0,0,0,0,0,0,0,0,0,0,0,0,0,0,0,0,0,0,0,0,0,0,0,0,0,0,0,0,0,0,0,0,0,0,0,0,0,0,0,0,0,0,0,0,0,0,0,0,0,0,0,0,0,0,0,0,0,0,0,0,0,0,0,0,0,0,0,0,0,0,0,0,0,0,0,0,0,0,0,0,0,0,"H9"]
[null,"その他　（管種が不明のものを含む） (m)",null,null,null,null,{"$f":"IF($C22=0,\"-\",管種別導入布設年度!B22)","v":"-"},{"$f":"IF($C22=0,\"-\",管種別導入布設年度!C22)","v":"-"},0,0,0,0,0,0,0,0,0,0,0,0,0,0,0,0,0,0,0,0,0,0,0,0,0,0,0,0,0,0,0,0,0,0,0,0,0,0,0,0,0,0,0,0,0,0,0,0,0,0,0,0,0,0,0,0,0,0,0,0,0,0,0,0,0,0,0,0,0,0,0,0,0,0,0,0,0,0,0,0,0,0,0,0,0,0,0,0,0,0,0,0,0,0,0,0,0,0,0,0,0,0,0,0,0,0,0,0,0,0,0,0,0,0,"Z9"]
["送水管","鋳鉄管　(ダクタイル鋳鉄管は含まない) (m)",36,3700,null,null,{"$f":"IF($C23=0,\"-\",管種別導入布設年度!B6)","v":1970},{"$f":"IF($C23=0,\"-\",管種別導入布設年度!C6)","v":1975},6,6,6,6,6,6,6,6,0,0,0,0,0,0,0,0,0,0,0,0,0,0,0,0,0,0,0,0,0,0,0,0,0,0,0,0,0,0,0,0,0,0,0,0,0,0,0,0,0,0,0,0,0,0,0,0,0,0,0,0,0,0,0,0,0,0,0,0,0,0,0,0,0,0,0,0,0,0,0,0,0,0,0,0,0,0,0,0,0,0,0,0,0,0,0,0,0,0,0,0,0,0,0,0,0,0,0,0,0,0,0,0,0,36,"A1","送水管"]
[null,"ダクタイル鋳鉄管　耐震型継手を有する (m)",160,17000,null,null,{"$f":"IF($C24=0,\"-\",管種別導入布設年度!B7)","v":1982},{"$f":"IF($C24=0,\"-\",管種別導入布設年度!C7)","v":1985},4,40,0,0,0,0,0,0,0,0,0,0,0,0,40,40,40,40,0,0,0,0,0,0,0,0,0,0,0,0,0,0,0,0,0,0,0,0,0,0,0,0,0,0,0,0,0,0,0,0,0,0,0,0,0,0,0,0,0,0,0,0,0,0,0,0,0,0,0,0,0,0,0,0,0,0,0,0,0,0,0,0,0,0,0,0,0,0,0,0,0,0,0,0,0,0,0,0,0,0,0,0,0,0,0,0,0,0,0,0,0,0,0,160,"A2"]
[null,"ダクタイル鋳鉄管　Ｋ形継手等を有するもののうち良い地盤に布設されている (m)",null,null,null,null,{"$f":"IF($C25=0,\"-\",管種別導入布設年度!B8)","v":"-"},{"$f":"IF($C25=0,\"-\",管種別導入布設年度!C8)","v":"-"},0,0,0,0,0,0,0,0,0,0,0,0,0,0,0,0,0,0,0,0,0,0,0,0,0,0,0,0,0,0,0,0,0,0,0,0,0,0,0,0,0,0,0,0,0,0,0,0,0,0,0,0,0,0,0,0,0,0,0,0,0,0,0,0,0,0,0,0,0,0,0,0,0,0,0,0,0,0,0,0,0,0,0,0,0,0,0,0,0,0,0,0,0,0,0,0,0,0,0,0,0,0,0,0,0,0,0,0,0,0,0,0,0,0,"A3"]
[null,"ダクタイル鋳鉄管　(上記以外・不明なものを含む) (m)",null,null,{"$f":"IF(H26<2000,C26/(1999-G26+1),IF(G26<2000,C26/((1999-G26+1)+(H26+2-2000)/2),2*C26/(H26+2-G26)))","v":{"$error":"#VALUE!"}},{"$f":"IF($H26<2000,0,E26/(H26+IF(G26<2000,1-2000,1-G26)))","v":{"$error":"#VALUE!"}},{"$f":"IF($C26=0,\"-\",管種別導入布設年度!B9)","v":"-"},{"$f":"IF($C26=0,\"-\",管種別導入布設年度!C9)","v":"-"},0,0,{"$f":"IF($C26=0,0,IF(K$5<INT($G26),0,IF(K$5>INT($H26),0,IF(K$5<2000,$E26,$E26-($F26*(K$5-IF($G26<2001,2000,$G26)))))))","v":0},0,0,0,0,0,0,0,0,0,0,0,0,0,0,0,0,0,0,0,0,0,0,0,0,0,0,0,0,0,0,0,{"$f":"IF($C26=0,0,IF(AQ$5<INT($G26),0,IF(AQ$5>INT($H26),0,IF(AQ$5<2000,$E26,$E26-($F26*(AQ$5-IF($G26<2001,2000,$G26)))))))","v":0},0,0,0,0,0,0,0,0,0,0,0,0,0,0,0,0,0,0,0,0,0,0,0,0,0,0,0,0,0,0,0,{"$f":"IF($C26=0,0,IF(BW$5<INT($G26),0,IF(BW$5>INT($H26),0,IF(BW$5<2000,$E26,$E26-($F26*(BW$5-IF($G26<2001,2000,$G26)))))))","v":0},0,0,0,0,0,0,0,0,0,0,0,0,0,0,0,0,0,0,0,0,0,0,0,0,0,0,0,0,0,0,0,{"$f":"IF($C26=0,0,IF(DC$5<INT($G26),0,IF(DC$5>INT($H26),0,IF(DC$5<2000,$E26,$E26-($F26*(DC$5-IF($G26<2001,2000,$G26)))))))","v":0},0,0,0,0,0,0,0,0,0,0,0,0,0,0,0,"A9"]
[null,"鋼管　（溶接継手を有する）　（m）",null,null,null,null,{"$f":"IF($C27=0,\"-\",管種別導入布設年度!B10)","v":"-"},{"$f":"IF($C27=0,\"-\",管種別導入布設年度!C10)","v":"-"},0,0,{"$f":"IF($C27=0,0,IF(K$5<INT($G27),0, IF(K$5>INT($H27),0,$J27)))","v":0},0,0,0,0,0,0,0,0,0,{"$f":"IF($C27=0,0,IF(U$5<INT($G27),0, IF(U$5>INT($H27),0,$J27)))","v":0},0,0,0,0,0,0,0,0,0,{"$f":"IF($C27=0,0,IF(AE$5<INT($G27),0, IF(AE$5>INT($H27),0,$J27)))","v":0},0,0,0,0,0,0,0,0,0,{"$f":"IF($C27=0,0,IF(AO$5<INT($G27),0, IF(AO$5>INT($H27),0,$J27)))","v":0},0,0,0,0,0,0,0,0,0,{"$f":"IF($C27=0,0,IF(AY$5<INT($G27),0, IF(AY$5>INT($H27),0,$J27)))","v":0},0,0,0,0,0,0,0,0,0,{"$f":"IF($C27=0,0,IF(BI$5<INT($G27),0, IF(BI$5>INT($H27),0,$J27)))","v":0},0,0,0,0,0,0,0,0,0,{"$f":"IF($C27=0,0,IF(BS$5<INT($G27),0, IF(BS$5>INT($H27),0,$J27)))","v":0},0,0,0,0,0,0,0,0,0,{"$f":"IF($C27=0,0,IF(CC$5<INT($G27),0, IF(CC$5>INT($H27),0,$J27)))","v":0},0,0,0,0,0,0,0,0,0,{"$f":"IF($C27=0,0,IF(CM$5<INT($G27),0, IF(CM$5>INT($H27),0,$J27)))","v":0},0,0,0,0,0,0,0,0,0,{"$f":"IF($C27=0,0,IF(CW$5<INT($G27),0, IF(CW$5>INT($H27),0,$J27)))","v":0},0,0,0,0,0,0,0,0,0,{"$f":"IF($C27=0,0,IF(DG$5<INT($G27),0, IF(DG$5>INT($H27),0,$J27)))","v":0},0,0,0,0,0,0,0,0,0,0,0,"B1"]
[null,"鋼管　（上記以外・不明なものを含む）　（m）",null,null,null,null,{"$f":"IF($C28=0,\"-\",管種別導入布設年度!B11)","v":"-"},{"$f":"IF($C28=0,\"-\",管種別導入布設年度!C11)","v":"-"},0,0,0,0,0,0,0,0,0,0,0,0,0,0,0,0,0,0,0,0,0,0,0,0,0,0,0,0,0,0,0,0,0,0,0,0,0,0,0,0,0,0,0,0,0,0,0,0,0,0,0,0,0,0,0,0,0,0,0,0,0,0,0,0,0,0,0,0,0,0,0,0,0,0,0,0,0,0,0,0,0,0,0,0,0,0,0,0,0,0,0,0,0,0,0,0,0,0,0,0,0,0,0,0,0,0,0,0,0,0,0,0,0,0,"B9"]
[null,"石綿セメント管 (m)",null,null,null,null,{"$f":"IF($C29=0,\"-\",管種別導入布設年度!B12)","v":"-"},{"$f":"IF($C29=0,\"-\",管種別導入布設年度!C12)","v":"-"},0,0,0,0,0,0,0,0,0,0,0,0,0,0,0,0,0,0,0,0,0,0,0,0,0,0,0,0,0,0,0,0,0,0,0,0,0,0,0,0,0,0,0,0,0,0,0,0,0,0,0,0,0,0,0,0,0,0,0,0,0,0,0,0,0,0,0,0,0,0,0,0,0,0,0,0,0,0,0,0,0,0,0,0,0,0,0,0,0,0,0,0,0,0,0,0,0,0,0,0,0,0,0,0,0,0,0,0,0,0,0,0,0,0,"C1"]
[null,"硬質塩化ビニル管　（ＲＲロング継手等を有する） (m)",null,null,null,null,{"$f":"IF($C30=0,\"-\",管種別導入布設年度!B13)","v":"-"},{"$f":"IF($C30=0,\"-\",管種別導入布設年度!C13)","v":"-"},0,0,0,0,0,0,0,0,0,0,0,0,0,0,0,0,0,0,0,0,0,0,0,0,0,0,0,0,0,0,0,0,0,0,0,0,0,0,0,0,0,0,0,0,0,0,0,0,0,0,0,0,0,0,0,0,0,0,0,0,0,0,0,0,0,0,0,0,0,0,0,0,0,0,0,0,0,0,0,0,0,0,0,0,0,0,0,0,0,0,0,0,0,0,0,0,0,0,0,0,0,0,0,0,0,0,0,0,0,0,0,0,0,0,"D1"]
[null,"硬質塩化ビニル管　（ＲＲ継手等を有する） (m)",null,null,null,null,{"$f":"IF($C31=0,\"-\",管種別導入布設年度!B14)","v":"-"},{"$f":"IF($C31=0,\"-\",管種別導入布設年度!C14)","v":"-"},0,0,0,0,0,0,0,0,0,0,0,0,0,0,0,0,0,0,0,0,0,0,0,0,0,0,0,0,0,0,0,0,0,0,0,0,0,0,0,0,0,0,0,0,0,0,0,0,0,0,0,0,0,0,0,0,0,0,0,0,0,0,0,0,0,0,0,0,0,0,0,0,0,0,0,0,0,0,0,0,0,0,0,0,0,0,0,0,0,0,0,0,0,0,0,0,0,0,0,0,0,0,0,0,0,0,0,0,0,0,0,0,0,0,"D2"]
[null,"硬質塩化ビニル管　（上記以外・不明なものを含む） (m)",null,null,{"$f":"IF(H32<2000,C32/(1999-G32+1),IF(G32<2000,C32/((1999-G32+1)+(H32+2-2000)/2),2*C32/(H32+2-G32)))","v":{"$error":"#VALUE!"}},{"$f":"IF($H32<2000,0,E32/(H32+IF(G32<2000,1-2000,1-G32)))","v":{"$error":"#VALUE!"}},{"$f":"IF($C32=0,\"-\",管種別導入布設年度!B15)","v":"-"},{"$f":"IF($C32=0,\"-\",管種別導入布設年度!C15)","v":"-"},0,0,{"$f":"IF($C32=0,0,IF(K$5<INT($G32),0,IF(K$5>INT($H32),0,IF(K$5<2000,$E32,$E32-($F32*(K$5-IF($G32<2001,2000,$G32)))))))","v":0},0,0,0,0,0,0,0,0,0,0,0,0,0,0,0,0,0,0,0,0,0,0,0,0,0,0,0,0,0,0,0,{"$f":"IF($C32=0,0,IF(AQ$5<INT($G32),0,IF(AQ$5>INT($H32),0,IF(AQ$5<2000,$E32,$E32-($F32*(AQ$5-IF($G32<2001,2000,$G32)))))))","v":0},0,0,0,0,0,0,0,0,0,0,0,0,0,0,0,0,0,0,0,0,0,0,0,0,0,0,0,0,0,0,0,{"$f":"IF($C32=0,0,IF(BW$5<INT($G32),0,IF(BW$5>INT($H32),0,IF(BW$5<2000,$E32,$E32-($F32*(BW$5-IF($G32<2001,2000,$G32)))))))","v":0},0,0,0,0,0,0,0,0,0,0,0,0,0,0,0,0,0,0,0,0,0,0,0,0,0,0,0,0,0,0,0,{"$f":"IF($C32=0,0,IF(DC$5<INT($G32),0,IF(DC$5>INT($H32),0,IF(DC$5<2000,$E32,$E32-($F32*(DC$5-IF($G32<2001,2000,$G32)))))))","v":0},0,0,0,0,0,0,0,0,0,0,0,0,0,0,0,"D9"]
[null,"コンクリート管 (m)",null,null,null,null,{"$f":"IF($C33=0,\"-\",管種別導入布設年度!B16)","v":"-"},{"$f":"IF($C33=0,\"-\",管種別導入布設年度!C16)","v":"-"},0,0,{"$f":"IF($C33=0,0,IF(K$5<INT($G33),0, IF(K$5>INT($H33),0,$J33)))","v":0},0,0,0,0,0,0,0,0,0,{"$f":"IF($C33=0,0,IF(U$5<INT($G33),0, IF(U$5>INT($H33),0,$J33)))","v":0},0,0,0,0,0,0,0,0,0,{"$f":"IF($C33=0,0,IF(AE$5<INT($G33),0, IF(AE$5>INT($H33),0,$J33)))","v":0},0,0,0,0,0,0,0,0,0,{"$f":"IF($C33=0,0,IF(AO$5<INT($G33),0, IF(AO$5>INT($H33),0,$J33)))","v":0},0,0,0,0,0,0,0,0,0,{"$f":"IF($C33=0,0,IF(AY$5<INT($G33),0, IF(AY$5>INT($H33),0,$J33)))","v":0},0,0,0,0,0,0,0,0,0,{"$f":"IF($C33=0,0,IF(BI$5<INT($G33),0, IF(BI$5>INT($H33),0,$J33)))","v":0},0,0,0,0,0,0,0,0,0,{"$f":"IF($C33=0,0,IF(BS$5<INT($G33),0, IF(BS$5>INT($H33),0,$J33)))","v":0},0,0,0,0,0,0,0,0,0,{"$f":"IF($C33=0,0,IF(CC$5<INT($G33),0, IF(CC$5>INT($H33),0,$J33)))","v":0},0,0,0,0,0,0,0,0,0,{"$f":"IF($C33=0,0,IF(CM$5<INT($G33),0, IF(CM$5>INT($H33),0,$J33)))","v":0},0,0,0,0,0,0,0,0,0,{"$f":"IF($C33=0,0,IF(CW$5<INT($G33),0, IF(CW$5>INT($H33),0,$J33)))","v":0},0,0,0,0,0,0,0,0,0,{"$f":"IF($C33=0,0,IF(DG$5<INT($G33),0, IF(DG$5>INT($H33),0,$J33)))","v":0},0,0,0,0,0,0,0,0,0,0,0,"E1"]
[null,"鉛管 (m)",null,null,null,null,{"$f":"IF($C34=0,\"-\",管種別導入布設年度!B17)","v":"-"},{"$f":"IF($C34=0,\"-\",管種別導入布設年度!C17)","v":"-"},0,0,0,0,0,0,0,0,0,0,0,0,0,0,0,0,0,0,0,0,0,0,0,0,0,0,0,0,0,0,0,0,0,0,0,0,0,0,0,0,0,0,0,0,0,0,0,0,0,0,0,0,0,0,0,0,0,0,0,0,0,0,0,0,0,0,0,0,0,0,0,0,0,0,0,0,0,0,0,0,0,0,0,0,0,0,0,0,0,0,0,0,0,0,0,0,0,0,0,0,0,0,0,0,0,0,0,0,0,0,0,0,0,0,"F1"]
[null,"ポリエチレン管　（高密度、熱融着継手を有する） （m）",null,null,null,null,{"$f":"IF($C35=0,\"-\",管種別導入布設年度!B18)","v":"-"},{"$f":"IF($C35=0,\"-\",管種別導入布設年度!C18)","v":"-"},0,0,0,0,0,0,0,0,0,0,0,0,0,0,0,0,0,0,0,0,0,0,0,0,0,0,0,0,0,0,0,0,0,0,0,0,0,0,0,0,0,0,0,0,0,0,0,0,0,0,0,0,0,0,0,0,0,0,0,0,0,0,0,0,0,0,0,0,0,0,0,0,0,0,0,0,0,0,0,0,0,0,0,0,0,0,0,0,0,0,0,0,0,0,0,0,0,0,0,0,0,0,0,0,0,0,0,0,0,0,0,0,0,0,"G1"]
[null,"ポリエチレン管　（上記以外・不明なものを含む） （m）",null,null,null,null,{"$f":"IF($C36=0,\"-\",管種別導入布設年度!B19)","v":"-"},{"$f":"IF($C36=0,\"-\",管種別導入布設年度!C19)","v":"-"},0,0,0,0,0,0,0,0,0,0,0,0,0,0,0,0,0,0,0,0,0,0,0,0,0,0,0,0,0,0,0,0,0,0,0,0,0,0,0,0,0,0,0,0,0,0,0,0,0,0,0,0,0,0,0,0,0,0,0,0,0,0,0,0,0,0,0,0,0,0,0,0,0,0,0,0,0,0,0,0,0,0,0,0,0,0,0,0,0,0,0,0,0,0,0,0,0,0,0,0,0,0,0,0,0,0,0,0,0,0,0,0,0,0,"G9"]
[null,"ステンレス管　耐震型継手を有する (m)",200,19800,null,null,{"$f":"IF($C37=0,\"-\",管種別導入布設年度!B20)","v":1985},{"$f":"IF($C37=0,\"-\",管種別導入布設年度!C20)","v":1989},5,40,0,0,0,0,0,0,0,0,0,0,0,0,0,0,0,40,40,40,40,40,0,0,0,0,0,0,0,0,0,0,0,0,0,0,0,0,0,0,0,0,0,0,0,0,0,0,0,0,0,0,0,0,0,0,0,0,0,0,0,0,0,0,0,0,0,0,0,0,0,0,0,0,0,0,0,0,0,0,0,0,0,0,0,0,0,0,0,0,0,0,0,0,0,0,0,0,0,0,0,0,0,0,0,0,0,0,0,0,0,0,0,200,"H1"]
[null,"ステンレス管　(上記以外・不明なものを含む） (m)",null,null,null,null,{"$f":"IF($C38=0,\"-\",管種別導入布設年度!B21)","v":"-"},{"$f":"IF($C38=0,\"-\",管種別導入布設年度!C21)","v":"-"},{"$f":"IF(C38=0,0,H38-G38+1)","v":0},{"$f":"IF(C38=0,0,ROUND(C38/I38,1))","v":0},0,0,0,0,0,0,0,0,0,0,0,0,0,0,0,0,0,0,0,0,0,0,0,0,0,0,0,0,0,0,0,0,0,0,0,0,0,0,0,0,0,0,0,0,0,0,0,0,0,0,0,0,0,0,0,0,0,0,0,0,0,0,0,0,0,0,0,0,0,0,0,0,0,0,0,0,0,0,0,0,0,0,0,0,0,0,0,0,0,0,0,0,0,0,0,0,0,0,0,0,0,0,0,0,0,0,0,0,0,0,0,{"$f":"SUM(K38:DQ38)","v":0},"H9"]
[null,"その他　(管種が不明なものを含む) (m)",null,null,null,null,{"$f":"IF($C39=0,\"-\",管種別導入布設年度!B22)","v":"-"},{"$f":"IF($C39=0,\"-\",管種別導入布設年度!C22)","v":"-"},0,0,0,0,0,0,0,0,0,0,0,0,0,0,0,0,0,0,0,0,0,0,0,0,0,0,0,0,0,0,0,0,0,0,0,0,0,0,0,0,0,0,0,0,0,0,0,0,0,0,0,0,0,0,0,0,0,0,0,0,0,0,0,0,0,0,0,0,0,0,0,0,0,0,0,0,0,0,0,0,0,0,0,0,0,0,0,0,0,0,0,0,0,0,0,0,0,0,0,0,0,0,0,0,0,0,0,0,0,0,0,0,0,0,"Z9"]
["配水本管","鋳鉄管　(ダクタイル鋳鉄管は含まない) (m)",42,3900,null,null,{"$f":"IF($C40=0,\"-\",管種別導入布設年度!B6)","v":1970},{"$f":"IF($C40=0,\"-\",管種別導入布設年度!C6)","v":1975},6,7,7,7,7,7,7,7,0,0,0,0,0,0,0,0,0,0,0,0,0,0,0,0,0,0,0,0,0,0,0,0,0,0,0,0,0,0,0,0,0,0,0,0,0,0,0,0,0,0,0,0,0,0,0,0,0,0,0,0,0,0,0,0,0,0,0,0,0,0,0,0,0,0,0,0,0,0,0,0,0,0,0,0,0,0,0,0,0,0,0,0,0,0,0,0,0,0,0,0,0,0,0,0,0,0,0,0,0,0,0,0,0,42,"A1","配水本管"]
[null,"ダクタイル鋳鉄管　耐震型継手を有する (m)",200,19000,null,null,{"$f":"IF($C41=0,\"-\",管種別導入布設年度!B7)","v":1982},{"$f":"IF($C41=0,\"-\",管種別導入布設年度!C7)","v":1985},4,50,0,0,0,0,0,0,0,0,0,0,0,0,50,50,50,50,0,0,0,0,0,0,0,0,0,0,0,0,0,0,0,0,0,0,0,0,0,0,0,0,0,0,0,0,0,0,0,0,0,0,0,0,0,0,0,0,0,0,0,0,0,0,0,0,0,0,0,0,0,0,0,0,0,0,0,0,0,0,0,0,0,0,0,0,0,0,0,0,0,0,0,0,0,0,0,0,0,0,0,0,0,0,0,0,0,0,0,0,0,0,0,200,"A2"]
[null,"ダクタイル鋳鉄管　Ｋ形継手等を有するもののうち良い地盤に布設されている (m)",null,null,null,null,{"$f":"IF($C42=0,\"-\",管種別導入布設年度!B8)","v":"-"},{"$f":"IF($C42=0,\"-\",管種別導入布設年度!C8)","v":"-"},0,0,0,0,0,0,0,0,0,0,0,0,0,0,0,0,0,0,0,0,0,0,0,0,0,0,0,0,0,0,0,0,0,0,0,0,0,0,0,0,0,0,0,0,0,0,0,0,0,0,0,0,0,0,0,0,0,0,0,0,0,0,0,0,0,0,0,0,0,0,0,0,0,0,0,0,0,0,0,0,0,0,0,0,0,0,0,0,0,0,0,0,0,0,0,0,0,0,0,0,0,0,0,0,0,0,0,0,0,0,0,0,0,0,"A3"]
[null,"ダクタイル鋳鉄管　(上記以外・不明なものを含む) (m)",null,null,{"$f":"IF(H43<2000,C43/(1999-G43+1),IF(G43<2000,C43/((1999-G43+1)+(H43+2-2000)/2),2*C43/(H43+2-G43)))","v":{"$error":"#VALUE!"}},{"$f":"IF($H43<2000,0,E43/(H43+IF(G43<2000,1-2000,1-G43)))","v":{"$error":"#VALUE!"}},{"$f":"IF($C43=0,\"-\",管種別導入布設年度!B9)","v":"-"},{"$f":"IF($C43=0,\"-\",管種別導入布設年度!C9)","v":"-"},0,0,{"$f":"IF($C43=0,0,IF(K$5<INT($G43),0,IF(K$5>INT($H43),0,IF(K$5<2000,$E43,$E43-($F43*(K$5-IF($G43<2001,2000,$G43)))))))","v":0},0,0,0,0,0,0,0,0,0,0,0,0,0,0,0,0,0,0,0,0,0,0,0,0,0,0,0,0,0,0,0,{"$f":"IF($C43=0,0,IF(AQ$5<INT($G43),0,IF(AQ$5>INT($H43),0,IF(AQ$5<2000,$E43,$E43-($F43*(AQ$5-IF($G43<2001,2000,$G43)))))))","v":0},0,0,0,0,0,0,0,0,0,0,0,0,0,0,0,0,0,0,0,0,0,0,0,0,0,0,0,0,0,0,0,{"$f":"IF($C43=0,0,IF(BW$5<INT($G43),0,IF(BW$5>INT($H43),0,IF(BW$5<2000,$E43,$E43-($F43*(BW$5-IF($G43<2001,2000,$G43)))))))","v":0},0,0,0,0,0,0,0,0,0,0,0,0,0,0,0,0,0,0,0,0,0,0,0,0,0,0,0,0,0,0,0,{"$f":"IF($C43=0,0,IF(DC$5<INT($G43),0,IF(DC$5>INT($H43),0,IF(DC$5<2000,$E43,$E43-($F43*(DC$5-IF($G43<2001,2000,$G43)))))))","v":0},0,0,0,0,0,0,0,0,0,0,0,0,0,0,0,"A9"]
[null,"鋼管　（溶接継手を有する） （m）",null,null,null,null,{"$f":"IF($C44=0,\"-\",管種別導入布設年度!B10)","v":"-"},{"$f":"IF($C44=0,\"-\",管種別導入布設年度!C10)","v":"-"},0,0,{"$f":"IF($C44=0,0,IF(K$5<INT($G44),0, IF(K$5>INT($H44),0,$J44)))","v":0},0,0,0,0,0,0,0,0,0,{"$f":"IF($C44=0,0,IF(U$5<INT($G44),0, IF(U$5>INT($H44),0,$J44)))","v":0},0,0,0,0,0,0,0,0,0,{"$f":"IF($C44=0,0,IF(AE$5<INT($G44),0, IF(AE$5>INT($H44),0,$J44)))","v":0},0,0,0,0,0,0,0,0,0,{"$f":"IF($C44=0,0,IF(AO$5<INT($G44),0, IF(AO$5>INT($H44),0,$J44)))","v":0},0,0,0,0,0,0,0,0,0,{"$f":"IF($C44=0,0,IF(AY$5<INT($G44),0, IF(AY$5>INT($H44),0,$J44)))","v":0},0,0,0,0,0,0,0,0,0,{"$f":"IF($C44=0,0,IF(BI$5<INT($G44),0, IF(BI$5>INT($H44),0,$J44)))","v":0},0,0,0,0,0,0,0,0,0,{"$f":"IF($C44=0,0,IF(BS$5<INT($G44),0, IF(BS$5>INT($H44),0,$J44)))","v":0},0,0,0,0,0,0,0,0,0,{"$f":"IF($C44=0,0,IF(CC$5<INT($G44),0, IF(CC$5>INT($H44),0,$J44)))","v":0},0,0,0,0,0,0,0,0,0,{"$f":"IF($C44=0,0,IF(CM$5<INT($G44),0, IF(CM$5>INT($H44),0,$J44)))","v":0},0,0,0,0,0,0,0,0,0,{"$f":"IF($C44=0,0,IF(CW$5<INT($G44),0, IF(CW$5>INT($H44),0,$J44)))","v":0},0,0,0,0,0,0,0,0,0,{"$f":"IF($C44=0,0,IF(DG$5<INT($G44),0, IF(DG$5>INT($H44),0,$J44)))","v":0},0,0,0,0,0,0,0,0,0,0,0,"B1"]
[null,"鋼管　（上記以外・不明なものを含む） （m）",null,null,null,null,{"$f":"IF($C45=0,\"-\",管種別導入布設年度!B11)","v":"-"},{"$f":"IF($C45=0,\"-\",管種別導入布設年度!C11)","v":"-"},0,0,0,0,0,0,0,0,0,0,0,0,0,0,0,0,0,0,0,0,0,0,0,0,0,0,0,0,0,0,0,0,0,0,0,0,0,0,0,0,0,0,0,0,0,0,0,0,0,0,0,0,0,0,0,0,0,0,0,0,0,0,0,0,0,0,0,0,0,0,0,0,0,0,0,0,0,0,0,0,0,0,0,0,0,0,0,0,0,0,0,0,0,0,0,0,0,0,0,0,0,0,0,0,0,0,0,0,0,0,0,0,0,0,"B9"]
[null,"石綿セメント管 (m)",null,null,null,null,{"$f":"IF($C46=0,\"-\",管種別導入布設年度!B12)","v":"-"},{"$f":"IF($C46=0,\"-\",管種別導入布設年度!C12)","v":"-"},0,0,0,0,0,0,0,0,0,0,0,0,0,0,0,0,0,0,0,0,0,0,0,0,0,0,0,0,0,0,0,0,0,0,0,0,0,0,0,0,0,0,0,0,0,0,0,0,0,0,0,0,0,0,0,0,0,0,0,0,0,0,0,0,0,0,0,0,0,0,0,0,0,0,0,0,0,0,0,0,0,0,0,0,0,0,0,0,0,0,0,0,0,0,0,0,0,0,0,0,0,0,0,0,0,0,0,0,0,0,0,0,0,0,"C1"]
[null,"硬質塩化ビニル管　（ＲＲロング継手等を有する） (m)",null,null,null,null,{"$f":"IF($C47=0,\"-\",管種別導入布設年度!B13)","v":"-"},{"$f":"IF($C47=0,\"-\",管種別導入布設年度!C13)","v":"-"},0,0,0,0,0,0,0,0,0,0,0,0,0,0,0,0,0,0,0,0,0,0,0,0,0,0,0,0,0,0,0,0,0,0,0,0,0,0,0,0,0,0,0,0,0,0,0,0,0,0,0,0,0,0,0,0,0,0,0,0,0,0,0,0,0,0,0,0,0,0,0,0,0,0,0,0,0,0,0,0,0,0,0,0,0,0,0,0,0,0,0,0,0,0,0,0,0,0,0,0,0,0,0,0,0,0,0,0,0,0,0,0,0,0,"D1"]
[null,"硬質塩化ビニル管　（ＲＲ継手等を有する） (m)",null,null,null,null,{"$f":"IF($C48=0,\"-\",管種別導入布設年度!B14)","v":"-"},{"$f":"IF($C48=0,\"-\",管種別導入布設年度!C14)","v":"-"},0,0,0,0,0,0,0,0,0,0,0,0,0,0,0,0,0,0,0,0,0,0,0,0,0,0,0,0,0,0,0,0,0,0,0,0,0,0,0,0,0,0,0,0,0,0,0,0,0,0,0,0,0,0,0,0,0,0,0,0,0,0,0,0,0,0,0,0,0,0,0,0,0,0,0,0,0,0,0,0,0,0,0,0,0,0,0,0,0,0,0,0,0,0,0,0,0,0,0,0,0,0,0,0,0,0,0,0,0,0,0,0,0,0,"D2"]
[null,"硬質塩化ビニル管　（上記以外・不明なものを含む） (m)",null,null,{"$f":"IF(H49<2000,C49/(1999-G49+1),IF(G49<2000,C49/((1999-G49+1)+(H49+2-2000)/2),2*C49/(H49+2-G49)))","v":{"$error":"#VALUE!"}},{"$f":"IF($H49<2000,0,E49/(H49+IF(G49<2000,1-2000,1-G49)))","v":{"$error":"#VALUE!"}},{"$f":"IF($C49=0,\"-\",管種別導入布設年度!B15)","v":"-"},{"$f":"IF($C49=0,\"-\",管種別導入布設年度!C15)","v":"-"},0,0,{"$f":"IF($C49=0,0,IF(K$5<INT($G49),0,IF(K$5>INT($H49),0,IF(K$5<2000,$E49,$E49-($F49*(K$5-IF($G49<2001,2000,$G49)))))))","v":0},0,0,0,0,0,0,0,0,0,0,0,0,0,0,0,0,0,0,0,0,0,0,0,0,0,0,0,0,0,0,0,{"$f":"IF($C49=0,0,IF(AQ$5<INT($G49),0,IF(AQ$5>INT($H49),0,IF(AQ$5<2000,$E49,$E49-($F49*(AQ$5-IF($G49<2001,2000,$G49)))))))","v":0},0,0,0,0,0,0,0,0,0,0,0,0,0,0,0,0,0,0,0,0,0,0,0,0,0,0,0,0,0,0,0,{"$f":"IF($C49=0,0,IF(BW$5<INT($G49),0,IF(BW$5>INT($H49),0,IF(BW$5<2000,$E49,$E49-($F49*(BW$5-IF($G49<2001,2000,$G49)))))))","v":0},0,0,0,0,0,0,0,0,0,0,0,0,0,0,0,0,0,0,0,0,0,0,0,0,0,0,0,0,0,0,0,{"$f":"IF($C49=0,0,IF(DC$5<INT($G49),0,IF(DC$5>INT($H49),0,IF(DC$5<2000,$E49,$E49-($F49*(DC$5-IF($G49<2001,2000,$G49)))))))","v":0},0,0,0,0,0,0,0,0,0,0,0,0,0,0,0,"D9"]
[null,"コンクリート管 (m)",null,null,null,null,{"$f":"IF($C50=0,\"-\",管種別導入布設年度!B16)","v":"-"},{"$f":"IF($C50=0,\"-\",管種別導入布設年度!C16)","v":"-"},0,0,{"$f":"IF($C50=0,0,IF(K$5<INT($G50),0, IF(K$5>INT($H50),0,$J50)))","v":0},0,0,0,0,0,0,0,0,0,{"$f":"IF($C50=0,0,IF(U$5<INT($G50),0, IF(U$5>INT($H50),0,$J50)))","v":0},0,0,0,0,0,0,0,0,0,{"$f":"IF($C50=0,0,IF(AE$5<INT($G50),0, IF(AE$5>INT($H50),0,$J50)))","v":0},0,0,0,0,0,0,0,0,0,{"$f":"IF($C50=0,0,IF(AO$5<INT($G50),0, IF(AO$5>INT($H50),0,$J50)))","v":0},0,0,0,0,0,0,0,0,0,{"$f":"IF($C50=0,0,IF(AY$5<INT($G50),0, IF(AY$5>INT($H50),0,$J50)))","v":0},0,0,0,0,0,0,0,0,0,{"$f":"IF($C50=0,0,IF(BI$5<INT($G50),0, IF(BI$5>INT($H50),0,$J50)))","v":0},0,0,0,0,0,0,0,0,0,{"$f":"IF($C50=0,0,IF(BS$5<INT($G50),0, IF(BS$5>INT($H50),0,$J50)))","v":0},0,0,0,0,0,0,0,0,0,{"$f":"IF($C50=0,0,IF(CC$5<INT($G50),0, IF(CC$5>INT($H50),0,$J50)))","v":0},0,0,0,0,0,0,0,0,0,{"$f":"IF($C50=0,0,IF(CM$5<INT($G50),0, IF(CM$5>INT($H50),0,$J50)))","v":0},0,0,0,0,0,0,0,0,0,{"$f":"IF($C50=0,0,IF(CW$5<INT($G50),0, IF(CW$5>INT($H50),0,$J50)))","v":0},0,0,0,0,0,0,0,0,0,{"$f":"IF($C50=0,0,IF(DG$5<INT($G50),0, IF(DG$5>INT($H50),0,$J50)))","v":0},0,0,0,0,0,0,0,0,0,0,0,"E1"]
[null,"鉛管 (m)",null,null,null,null,{"$f":"IF($C51=0,\"-\",管種別導入布設年度!B17)","v":"-"},{"$f":"IF($C51=0,\"-\",管種別導入布設年度!C17)","v":"-"},0,0,0,0,0,0,0,0,0,0,0,0,0,0,0,0,0,0,0,0,0,0,0,0,0,0,0,0,0,0,0,0,0,0,0,0,0,0,0,0,0,0,0,0,0,0,0,0,0,0,0,0,0,0,0,0,0,0,0,0,0,0,0,0,0,0,0,0,0,0,0,0,0,0,0,0,0,0,0,0,0,0,0,0,0,0,0,0,0,0,0,0,0,0,0,0,0,0,0,0,0,0,0,0,0,0,0,0,0,0,0,0,0,0,"F1"]
[null,"ポリエチレン管　（高密度、熱融着継手を有する） （m）",null,null,null,null,{"$f":"IF($C52=0,\"-\",管種別導入布設年度!B18)","v":"-"},{"$f":"IF($C52=0,\"-\",管種別導入布設年度!C18)","v":"-"},0,0,0,0,0,0,0,0,0,0,0,0,0,0,0,0,0,0,0,0,0,0,0,0,0,0,0,0,0,0,0,0,0,0,0,0,0,0,0,0,0,0,0,0,0,0,0,0,0,0,0,0,0,0,0,0,0,0,0,0,0,0,0,0,0,0,0,0,0,0,0,0,0,0,0,0,0,0,0,0,0,0,0,0,0,0,0,0,0,0,0,0,0,0,0,0,0,0,0,0,0,0,0,0,0,0,0,0,0,0,0,0,0,0,"G1"]
[null,"ポリエチレン管　（上記以外・不明なものを含む） （m）",null,null,null,null,{"$f":"IF($C53=0,\"-\",管種別導入布設年度!B19)","v":"-"},{"$f":"IF($C53=0,\"-\",管種別導入布設年度!C19)","v":"-"},0,0,0,0,0,0,0,0,0,0,0,0,0,0,0,0,0,0,0,0,0,0,0,0,0,0,0,0,0,0,0,0,0,0,0,0,0,0,0,0,0,0,0,0,0,0,0,0,0,0,0,0,0,0,0,0,0,0,0,0,0,0,0,0,0,0,0,0,0,0,0,0,0,0,0,0,0,0,0,0,0,0,0,0,0,0,0,0,0,0,0,0,0,0,0,0,0,0,0,0,0,0,0,0,0,0,0,0,0,0,0,0,0,0,"G9"]
[null,"ステンレス管　耐震型継手を有する (m)",190,18810,null,null,{"$f":"IF($C54=0,\"-\",管種別導入布設年度!B20)","v":1985},{"$f":"IF($C54=0,\"-\",管種別導入布設年度!C20)","v":1989},5,38,0,0,0,0,0,0,0,0,0,0,0,0,0,0,0,38,38,38,38,38,0,0,0,0,0,0,0,0,0,0,0,0,0,0,0,0,0,0,0,0,0,0,0,0,0,0,0,0,0,0,0,0,0,0,0,0,0,0,0,0,0,0,0,0,0,0,0,0,0,0,0,0,0,0,0,0,0,0,0,0,0,0,0,0,0,0,0,0,0,0,0,0,0,0,0,0,0,0,0,0,0,0,0,0,0,0,0,0,0,0,0,190,"H1"]
[null,"ステンレス管　(上記以外・不明なものを含む） (m)",null,null,null,null,{"$f":"IF($C55=0,\"-\",管種別導入布設年度!B21)","v":"-"},{"$f":"IF($C55=0,\"-\",管種別導入布設年度!C21)","v":"-"},0,0,0,0,0,0,0,0,0,0,0,0,0,0,0,0,0,0,0,0,0,0,0,0,0,0,0,0,0,0,0,0,0,0,0,0,0,0,0,0,0,0,0,0,0,0,0,0,0,0,0,0,0,0,0,0,0,0,0,0,0,0,0,0,0,0,0,0,0,0,0,0,0,0,0,0,0,0,0,0,0,0,0,0,0,0,0,0,0,0,0,0,0,0,0,0,0,0,0,0,0,0,0,0,0,0,0,0,0,0,0,0,0,0,"H9"]
[null,"その他　(管種が不明を含む) (m)",null,null,null,null,{"$f":"IF($C56=0,\"-\",管種別導入布設年度!B22)","v":"-"},{"$f":"IF($C56=0,\"-\",管種別導入布設年度!C22)","v":"-"},0,0,0,0,0,0,0,0,0,0,0,0,0,0,0,0,0,0,0,0,0,0,0,0,0,0,0,0,0,0,0,0,0,0,0,0,0,0,0,0,0,0,0,0,0,0,0,0,0,0,0,0,0,0,0,0,0,0,0,0,0,0,0,0,0,0,0,0,0,0,0,0,0,0,0,0,0,0,0,0,0,0,0,0,0,0,0,0,0,0,0,0,0,0,0,0,0,0,0,0,0,0,0,0,0,0,0,0,0,0,0,0,0,0,"Z9"]
["配水支管","配水支管　鋳鉄管　(ダクタイル鋳鉄管は含まない)(m)",60,4100,null,null,{"$f":"IF($C57=0,\"-\",管種別導入布設年度!B6)","v":1970},{"$f":"IF($C57=0,\"-\",管種別導入布設年度!C6)","v":1975},6,10,10,10,10,10,10,10,0,0,0,0,0,0,0,0,0,0,0,0,0,0,0,0,0,0,0,0,0,0,0,0,0,0,0,0,0,0,0,0,0,0,0,0,0,0,0,0,0,0,0,0,0,0,0,0,0,0,0,0,0,0,0,0,0,0,0,0,0,0,0,0,0,0,0,0,0,0,0,0,0,0,0,0,0,0,0,0,0,0,0,0,0,0,0,0,0,0,0,0,0,0,0,0,0,0,0,0,0,0,0,0,0,60,"A1","配水支管"]
[null,"ダクタイル鋳鉄管　耐震型継手を有する(m)",240,21000,null,null,{"$f":"IF($C58=0,\"-\",管種別導入布設年度!B7)","v":1982},{"$f":"IF($C58=0,\"-\",管種別導入布設年度!C7)","v":1985},4,60,0,0,0,0,0,0,0,0,0,0,0,0,60,60,60,60,0,0,0,0,0,0,0,0,0,0,0,0,0,0,0,0,0,0,0,0,0,0,0,0,0,0,0,0,0,0,0,0,0,0,0,0,0,0,0,0,0,0,0,0,0,0,0,0,0,0,0,0,0,0,0,0,0,0,0,0,0,0,0,0,0,0,0,0,0,0,0,0,0,0,0,0,0,0,0,0,0,0,0,0,0,0,0,0,0,0,0,0,0,0,0,240,"A2"]
[null,"ダクタイル鋳鉄管　Ｋ形継手等を有するもののうち良い地盤に布設されている(m)",null,null,null,null,{"$f":"IF($C59=0,\"-\",管種別導入布設年度!B8)","v":"-"},{"$f":"IF($C59=0,\"-\",管種別導入布設年度!C8)","v":"-"},0,0,0,0,0,0,0,0,0,0,0,0,0,0,0,0,0,0,0,0,0,0,0,0,0,0,0,0,0,0,0,0,0,0,0,0,0,0,0,0,0,0,0,0,0,0,0,0,0,0,0,0,0,0,0,0,0,0,0,0,0,0,0,0,0,0,0,0,0,0,0,0,0,0,0,0,0,0,0,0,0,0,0,0,0,0,0,0,0,0,0,0,0,0,0,0,0,0,0,0,0,0,0,0,0,0,0,0,0,0,0,0,0,0,"A3"]
[null,"ダクタイル鋳鉄管　(上記以外・不明なものを含む)(m)",null,null,{"$f":"IF(H60<2000,C60/(1999-G60+1),IF(G60<2000,C60/((1999-G60+1)+(H60+2-2000)/2),2*C60/(H60+2-G60)))","v":{"$error":"#VALUE!"}},{"$f":"IF($H60<2000,0,E60/(H60+IF(G60<2000,1-2000,1-G60)))","v":{"$error":"#VALUE!"}},{"$f":"IF($C60=0,\"-\",管種別導入布設年度!B9)","v":"-"},{"$f":"IF($C60=0,\"-\",管種別導入布設年度!C9)","v":"-"},0,0,{"$f":"IF($C60=0,0,IF(K$5<INT($G60),0,IF(K$5>INT($H60),0,IF(K$5<2000,$E60,$E60-($F60*(K$5-IF($G60<2001,2000,$G60)))))))","v":0},0,0,0,0,0,0,0,0,0,0,0,0,0,0,0,0,0,0,0,0,0,0,0,0,0,0,0,0,0,0,0,{"$f":"IF($C60=0,0,IF(AQ$5<INT($G60),0,IF(AQ$5>INT($H60),0,IF(AQ$5<2000,$E60,$E60-($F60*(AQ$5-IF($G60<2001,2000,$G60)))))))","v":0},0,0,0,0,0,0,0,0,0,0,0,0,0,0,0,0,0,0,0,0,0,0,0,0,0,0,0,0,0,0,0,{"$f":"IF($C60=0,0,IF(BW$5<INT($G60),0,IF(BW$5>INT($H60),0,IF(BW$5<2000,$E60,$E60-($F60*(BW$5-IF($G60<2001,2000,$G60)))))))","v":0},0,0,0,0,0,0,0,0,0,0,0,0,0,0,0,0,0,0,0,0,0,0,0,0,0,0,0,0,0,0,0,{"$f":"IF($C60=0,0,IF(DC$5<INT($G60),0,IF(DC$5>INT($H60),0,IF(DC$5<2000,$E60,$E60-($F60*(DC$5-IF($G60<2001,2000,$G60)))))))","v":0},0,0,0,0,0,0,0,0,0,0,0,0,0,0,0,"A9"]
[null,"鋼管　（溶接継手を有する） （m）",null,null,null,null,{"$f":"IF($C61=0,\"-\",管種別導入布設年度!B10)","v":"-"},{"$f":"IF($C61=0,\"-\",管種別導入布設年度!C10)","v":"-"},0,0,{"$f":"IF($C61=0,0,IF(K$5<INT($G61),0, IF(K$5>INT($H61),0,$J61)))","v":0},0,0,0,0,0,0,0,0,0,{"$f":"IF($C61=0,0,IF(U$5<INT($G61),0, IF(U$5>INT($H61),0,$J61)))","v":0},0,0,0,0,0,0,0,0,0,{"$f":"IF($C61=0,0,IF(AE$5<INT($G61),0, IF(AE$5>INT($H61),0,$J61)))","v":0},0,0,0,0,0,0,0,0,0,{"$f":"IF($C61=0,0,IF(AO$5<INT($G61),0, IF(AO$5>INT($H61),0,$J61)))","v":0},0,0,0,0,0,0,0,0,0,{"$f":"IF($C61=0,0,IF(AY$5<INT($G61),0, IF(AY$5>INT($H61),0,$J61)))","v":0},0,0,0,0,0,0,0,0,0,{"$f":"IF($C61=0,0,IF(BI$5<INT($G61),0, IF(BI$5>INT($H61),0,$J61)))","v":0},0,0,0,0,0,0,0,0,0,{"$f":"IF($C61=0,0,IF(BS$5<INT($G61),0, IF(BS$5>INT($H61),0,$J61)))","v":0},0,0,0,0,0,0,0,0,0,{"$f":"IF($C61=0,0,IF(CC$5<INT($G61),0, IF(CC$5>INT($H61),0,$J61)))","v":0},0,0,0,0,0,0,0,0,0,{"$f":"IF($C61=0,0,IF(CM$5<INT($G61),0, IF(CM$5>INT($H61),0,$J61)))","v":0},0,0,0,0,0,0,0,0,0,{"$f":"IF($C61=0,0,IF(CW$5<INT($G61),0, IF(CW$5>INT($H61),0,$J61)))","v":0},0,0,0,0,0,0,0,0,0,{"$f":"IF($C61=0,0,IF(DG$5<INT($G61),0, IF(DG$5>INT($H61),0,$J61)))","v":0},0,0,0,0,0,0,0,0,0,0,0,"B1"]
[null,"鋼管　（上記以外・不明なものを含む） （m）",null,null,null,null,{"$f":"IF($C62=0,\"-\",管種別導入布設年度!B11)","v":"-"},{"$f":"IF($C62=0,\"-\",管種別導入布設年度!C11)","v":"-"},0,0,0,0,0,0,0,0,0,0,0,0,0,0,0,0,0,0,0,0,0,0,0,0,0,0,0,0,0,0,0,0,0,0,0,0,0,0,0,0,0,0,0,0,0,0,0,0,0,0,0,0,0,0,0,0,0,0,0,0,0,0,0,0,0,0,0,0,0,0,0,0,0,0,0,0,0,0,0,0,0,0,0,0,0,0,0,0,0,0,0,0,0,0,0,0,0,0,0,0,0,0,0,0,0,0,0,0,0,0,0,0,0,0,"B9"]
[null,"石綿セメント管 (m)",null,null,null,null,{"$f":"IF($C63=0,\"-\",管種別導入布設年度!B12)","v":"-"},{"$f":"IF($C63=0,\"-\",管種別導入布設年度!C12)","v":"-"},0,0,0,0,0,0,0,0,0,0,0,0,0,0,0,0,0,0,0,0,0,0,0,0,0,0,0,0,0,0,0,0,0,0,0,0,0,0,0,0,0,0,0,0,0,0,0,0,0,0,0,0,0,0,0,0,0,0,0,0,0,0,0,0,0,0,0,0,0,0,0,0,0,0,0,0,0,0,0,0,0,0,0,0,0,0,0,0,0,0,0,0,0,0,0,0,0,0,0,0,0,0,0,0,0,0,0,0,0,0,0,0,0,0,"C1"]
[null,"硬質塩化ビニル管　（ＲＲロング継手等を有する） (m)",null,null,null,null,{"$f":"IF($C64=0,\"-\",管種別導入布設年度!B13)","v":"-"},{"$f":"IF($C64=0,\"-\",管種別導入布設年度!C13)","v":"-"},0,0,0,0,0,0,0,0,0,0,0,0,0,0,0,0,0,0,0,0,0,0,0,0,0,0,0,0,0,0,0,0,0,0,0,0,0,0,0,0,0,0,0,0,0,0,0,0,0,0,0,0,0,0,0,0,0,0,0,0,0,0,0,0,0,0,0,0,0,0,0,0,0,0,0,0,0,0,0,0,0,0,0,0,0,0,0,0,0,0,0,0,0,0,0,0,0,0,0,0,0,0,0,0,0,0,0,0,0,0,0,0,0,0,"D1"]
[null,"硬質塩化ビニル管　（ＲＲ継手等を有する） (m)",null,null,null,null,{"$f":"IF($C65=0,\"-\",管種別導入布設年度!B14)","v":"-"},{"$f":"IF($C65=0,\"-\",管種別導入布設年度!C14)","v":"-"},0,0,0,0,0,0,0,0,0,0,0,0,0,0,0,0,0,0,0,0,0,0,0,0,0,0,0,0,0,0,0,0,0,0,0,0,0,0,0,0,0,0,0,0,0,0,0,0,0,0,0,0,0,0,0,0,0,0,0,0,0,0,0,0,0,0,0,0,0,0,0,0,0,0,0,0,0,0,0,0,0,0,0,0,0,0,0,0,0,0,0,0,0,0,0,0,0,0,0,0,0,0,0,0,0,0,0,0,0,0,0,0,0,0,"D2"]
[null,"硬質塩化ビニル管　（上記以外・不明なものを含む） (m)",null,null,{"$f":"IF(H66<2000,C66/(1999-G66+1),IF(G66<2000,C66/((1999-G66+1)+(H66+2-2000)/2),2*C66/(H66+2-G66)))","v":{"$error":"#VALUE!"}},{"$f":"IF($H66<2000,0,E66/(H66+IF(G66<2000,1-2000,1-G66)))","v":{"$error":"#VALUE!"}},{"$f":"IF($C66=0,\"-\",管種別導入布設年度!B15)","v":"-"},{"$f":"IF($C66=0,\"-\",管種別導入布設年度!C15)","v":"-"},0,0,{"$f":"IF($C66=0,0,IF(K$5<INT($G66),0,IF(K$5>INT($H66),0,IF(K$5<2000,$E66,$E66-($F66*(K$5-IF($G66<2001,2000,$G66)))))))","v":0},0,0,0,0,0,0,0,0,0,0,0,0,0,0,0,0,0,0,0,0,0,0,0,0,0,0,0,0,0,0,0,{"$f":"IF($C66=0,0,IF(AQ$5<INT($G66),0,IF(AQ$5>INT($H66),0,IF(AQ$5<2000,$E66,$E66-($F66*(AQ$5-IF($G66<2001,2000,$G66)))))))","v":0},0,0,0,0,0,0,0,0,0,0,0,0,0,0,0,0,0,0,0,0,0,0,0,0,0,0,0,0,0,0,0,{"$f":"IF($C66=0,0,IF(BW$5<INT($G66),0,IF(BW$5>INT($H66),0,IF(BW$5<2000,$E66,$E66-($F66*(BW$5-IF($G66<2001,2000,$G66)))))))","v":0},0,0,0,0,0,0,0,0,0,0,0,0,0,0,0,0,0,0,0,0,0,0,0,0,0,0,0,0,0,0,0,{"$f":"IF($C66=0,0,IF(DC$5<INT($G66),0,IF(DC$5>INT($H66),0,IF(DC$5<2000,$E66,$E66-($F66*(DC$5-IF($G66<2001,2000,$G66)))))))","v":0},0,0,0,0,0,0,0,0,0,0,0,0,0,0,0,"D9"]
[null,"コンクリート管 (m)",null,null,null,null,{"$f":"IF($C67=0,\"-\",管種別導入布設年度!B16)","v":"-"},{"$f":"IF($C67=0,\"-\",管種別導入布設年度!C16)","v":"-"},0,0,{"$f":"IF($C67=0,0,IF(K$5<INT($G67),0, IF(K$5>INT($H67),0,$J67)))","v":0},0,0,0,0,0,0,0,0,0,{"$f":"IF($C67=0,0,IF(U$5<INT($G67),0, IF(U$5>INT($H67),0,$J67)))","v":0},0,0,0,0,0,0,0,0,0,{"$f":"IF($C67=0,0,IF(AE$5<INT($G67),0, IF(AE$5>INT($H67),0,$J67)))","v":0},0,0,0,0,0,0,0,0,0,{"$f":"IF($C67=0,0,IF(AO$5<INT($G67),0, IF(AO$5>INT($H67),0,$J67)))","v":0},0,0,0,0,0,0,0,0,0,{"$f":"IF($C67=0,0,IF(AY$5<INT($G67),0, IF(AY$5>INT($H67),0,$J67)))","v":0},0,0,0,0,0,0,0,0,0,{"$f":"IF($C67=0,0,IF(BI$5<INT($G67),0, IF(BI$5>INT($H67),0,$J67)))","v":0},0,0,0,0,0,0,0,0,0,{"$f":"IF($C67=0,0,IF(BS$5<INT($G67),0, IF(BS$5>INT($H67),0,$J67)))","v":0},0,0,0,0,0,0,0,0,0,{"$f":"IF($C67=0,0,IF(CC$5<INT($G67),0, IF(CC$5>INT($H67),0,$J67)))","v":0},0,0,0,0,0,0,0,0,0,{"$f":"IF($C67=0,0,IF(CM$5<INT($G67),0, IF(CM$5>INT($H67),0,$J67)))","v":0},0,0,0,0,0,0,0,0,0,{"$f":"IF($C67=0,0,IF(CW$5<INT($G67),0, IF(CW$5>INT($H67),0,$J67)))","v":0},0,0,0,0,0,0,0,0,0,{"$f":"IF($C67=0,0,IF(DG$5<INT($G67),0, IF(DG$5>INT($H67),0,$J67)))","v":0},0,0,0,0,0,0,0,0,0,0,0,"E1"]
[null,"鉛管 (m)",null,null,null,null,{"$f":"IF($C68=0,\"-\",管種別導入布設年度!B17)","v":"-"},{"$f":"IF($C68=0,\"-\",管種別導入布設年度!C17)","v":"-"},0,0,0,0,0,0,0,0,0,0,0,0,0,0,0,0,0,0,0,0,0,0,0,0,0,0,0,0,0,0,0,0,0,0,0,0,0,0,0,0,0,0,0,0,0,0,0,0,0,0,0,0,0,0,0,0,0,0,0,0,0,0,0,0,0,0,0,0,0,0,0,0,0,0,0,0,0,0,0,0,0,0,0,0,0,0,0,0,0,0,0,0,0,0,0,0,0,0,0,0,0,0,0,0,0,0,0,0,0,0,0,0,0,0,"F1"]
[null,"ポリエチレン管　（高密度、熱融着継手を有する） （m）",null,null,null,null,{"$f":"IF($C69=0,\"-\",管種別導入布設年度!B18)","v":"-"},{"$f":"IF($C69=0,\"-\",管種別導入布設年度!C18)","v":"-"},0,0,0,0,0,0,0,0,0,0,0,0,0,0,0,0,0,0,0,0,0,0,0,0,0,0,0,0,0,0,0,0,0,0,0,0,0,0,0,0,0,0,0,0,0,0,0,0,0,0,0,0,0,0,0,0,0,0,0,0,0,0,0,0,0,0,0,0,0,0,0,0,0,0,0,0,0,0,0,0,0,0,0,0,0,0,0,0,0,0,0,0,0,0,0,0,0,0,0,0,0,0,0,0,0,0,0,0,0,0,0,0,0,0,"G1"]
[null,"ポリエチレン管　（上記以外・不明なものを含む） （m）",null,null,null,null,{"$f":"IF($C70=0,\"-\",管種別導入布設年度!B19)","v":"-"},{"$f":"IF($C70=0,\"-\",管種別導入布設年度!C19)","v":"-"},{"$f":"IF(C70=0,0,H70-G70+1)","v":0},{"$f":"IF(C70=0,0,ROUND(C70/I70,1))","v":0},0,0,0,0,0,0,0,0,0,0,0,0,0,0,0,0,0,0,0,0,0,0,0,0,0,0,0,0,0,0,0,0,0,0,0,0,0,0,0,0,0,0,0,0,0,0,0,0,0,0,0,0,0,0,0,0,0,0,0,0,0,0,0,0,0,0,0,0,0,0,0,0,0,0,0,0,0,0,0,0,0,0,0,0,0,0,0,0,0,0,0,0,0,0,0,0,0,0,0,0,0,0,0,0,0,0,0,0,0,0,0,{"$f":"SUM(K70:DQ70)","v":0},"G9"]
[null,"ステンレス管　耐震型継手を有する (m)",180,17820,null,null,{"$f":"IF($C71=0,\"-\",管種別導入布設年度!B20)","v":1985},{"$f":"IF($C71=0,\"-\",管種別導入布設年度!C20)","v":1989},{"$f":"IF(C71=0,0,H71-G71+1)","v":5},{"$f":"IF(C71=0,0,ROUND(C71/I71,1))","v":36},0,0,0,0,0,0,0,0,0,0,0,0,0,0,0,36,36,36,36,36,0,0,0,0,0,0,0,0,0,0,0,0,0,0,0,0,0,0,0,0,0,0,0,0,0,0,0,0,0,0,0,0,0,0,0,0,0,0,0,0,0,0,0,0,0,0,0,0,0,0,0,0,0,0,0,0,0,0,0,0,0,0,0,0,0,0,0,0,0,0,0,0,0,0,0,0,0,0,0,0,0,0,0,0,0,0,0,0,0,0,0,{"$f":"SUM(K71:DQ71)","v":180},"H1"]
[null,"ステンレス管　(上記以外・不明なものを含む） (m)",null,null,null,null,{"$f":"IF($C72=0,\"-\",管種別導入布設年度!B21)","v":"-"},{"$f":"IF($C72=0,\"-\",管種別導入布設年度!C21)","v":"-"},{"$f":"IF(C72=0,0,H72-G72+1)","v":0},{"$f":"IF(C72=0,0,ROUND(C72/I72,1))","v":0},0,0,0,0,0,0,0,0,0,0,0,0,0,0,0,0,0,0,0,0,0,0,0,0,0,0,0,0,0,0,0,0,0,0,0,0,0,0,0,0,0,0,0,0,0,0,0,0,0,0,0,0,0,0,0,0,0,0,0,0,0,0,0,0,0,0,0,0,0,0,0,0,0,0,0,0,0,0,0,0,0,0,0,0,0,0,0,0,0,0,0,0,0,0,0,0,0,0,0,0,0,0,0,0,0,0,0,0,0,0,0,{"$f":"SUM(K72:DQ72)","v":0},"H9"]
[null,"その他　(管種が不明を含む) (m)",null,null,null,null,{"$f":"IF($C73=0,\"-\",管種別導入布設年度!B22)","v":"-"},{"$f":"IF($C73=0,\"-\",管種別導入布設年度!C22)","v":"-"},{"$f":"IF(C73=0,0,H73-G73+1)","v":0},{"$f":"IF(C73=0,0,ROUND(C73/I73,1))","v":0},0,0,0,0,0,0,0,0,0,0,0,0,0,0,0,0,0,0,0,0,0,0,0,0,0,0,0,0,0,0,0,0,0,0,0,0,0,0,0,0,0,0,0,0,0,0,0,0,0,0,0,0,0,0,0,0,0,0,0,0,0,0,0,0,0,0,0,0,0,0,0,0,0,0,0,0,0,0,0,0,0,0,0,0,0,0,0,0,0,0,0,0,0,0,0,0,0,0,0,0,0,0,0,0,0,0,0,0,0,0,0,{"$f":"SUM(K73:DQ73)","v":0},"Z9"]
["延長合計",null,{"$f":"SUM(C6:C73)","v":1768},{"$f":"SUM(D6:D73)","v":164420},null,null,null,null,null,null,{"$f":"ROUND(SUM(K6:K73),0)","v":28},28,28,28,28,28,0,0,0,0,0,0,180,180,180,336,156,156,156,156,0,0,0,0,0,0,0,0,0,0,0,100,{"$f":"ROUND(SUM(AQ6:AQ73),0)","v":0},0,0,0,0,0,0,0,0,0,0,0,0,0,0,0,0,0,0,0,0,0,0,0,0,0,0,0,0,0,0,0,{"$f":"ROUND(SUM(BW6:BW73),0)","v":0},0,0,0,0,0,0,0,0,0,0,0,0,0,0,0,0,0,0,0,0,0,0,0,0,0,0,0,0,0,0,0,{"$f":"ROUND(SUM(DC6:DC73),0)","v":0},0,0,0,0,0,0,0,0,0,0,0,0,0,0,{"$f":"SUM(K74:DQ74)","v":1768}]
["導水管延長計",null,{"$f":"SUM(K75:DQ75)","v":460},{"$f":"SUM(D6:D22)","v":39290},null,null,null,null,null,null,{"$f":"ROUND(SUM(K6:K22),0)","v":5},5,5,5,5,5,0,0,0,0,0,0,30,30,30,72,42,42,42,42,0,0,0,0,0,0,0,0,0,0,0,100,{"$f":"ROUND(SUM(AQ6:AQ22),0)","v":0},0,0,0,0,0,0,0,0,0,0,0,0,0,0,0,0,0,0,0,0,0,0,0,0,0,0,0,0,0,0,0,{"$f":"ROUND(SUM(BW6:BW22),0)","v":0},0,0,0,0,0,0,0,0,0,0,0,0,0,0,0,0,0,0,0,0,0,0,0,0,0,0,0,0,0,0,0,{"$f":"ROUND(SUM(DC6:DC22),0)","v":0},0,0,0,0,0,0,0,0,0,0,0,0,0,0]
["送水管延長計",null,{"$f":"SUM(K76:DQ76)","v":396},{"$f":"SUM(D23:D39)","v":40500},null,null,null,null,null,null,{"$f":"ROUND(SUM(K23:K39),0)","v":6},6,6,6,6,6,0,0,0,0,0,0,40,40,40,80,40,40,40,40,0,0,0,0,0,0,0,0,0,0,0,0,{"$f":"ROUND(SUM(AQ23:AQ39),0)","v":0},0,0,0,0,0,0,0,0,0,0,0,0,0,0,0,0,0,0,0,0,0,0,0,0,0,0,0,0,0,0,0,{"$f":"ROUND(SUM(BW23:BW39),0)","v":0},0,0,0,0,0,0,0,0,0,0,0,0,0,0,0,0,0,0,0,0,0,0,0,0,0,0,0,0,0,0,0,{"$f":"ROUND(SUM(DC23:DC39),0)","v":0},0,0,0,0,0,0,0,0,0,0,0,0,0,0]
["配水本管延長計",null,{"$f":"SUM(K77:DQ77)","v":432},{"$f":"SUM(D40:D56)","v":41710},null,null,null,null,null,null,{"$f":"ROUND(SUM(K40:K56),0)","v":7},7,7,7,7,7,0,0,0,0,0,0,50,50,50,88,38,38,38,38,0,0,0,0,0,0,0,0,0,0,0,0,{"$f":"ROUND(SUM(AQ40:AQ56),0)","v":0},0,0,0,0,0,0,0,0,0,0,0,0,0,0,0,0,0,0,0,0,0,0,0,0,0,0,0,0,0,0,0,{"$f":"ROUND(SUM(BW40:BW56),0)","v":0},0,0,0,0,0,0,0,0,0,0,0,0,0,0,0,0,0,0,0,0,0,0,0,0,0,0,0,0,0,0,0,{"$f":"ROUND(SUM(DC40:DC56),0)","v":0},0,0,0,0,0,0,0,0,0,0,0,0,0,0]
["配水支管延長計",null,{"$f":"SUM(K78:DQ78)","v":480},{"$f":"SUM(D57:D73)","v":42920},null,null,null,null,null,null,{"$f":"ROUND(SUM(K57:K73),0)","v":10},10,10,10,10,10,0,0,0,0,0,0,60,60,60,96,36,36,36,36,0,0,0,0,0,0,0,0,0,0,0,0,{"$f":"ROUND(SUM(AQ57:AQ73),0)","v":0},0,0,0,0,0,0,0,0,0,0,0,0,0,0,0,0,0,0,0,0,0,0,0,0,0,0,0,0,0,0,0,{"$f":"ROUND(SUM(BW57:BW73),0)","v":0},0,0,0,0,0,0,0,0,0,0,0,0,0,0,0,0,0,0,0,0,0,0,0,0,0,0,0,0,0,0,0,{"$f":"ROUND(SUM(DC57:DC73),0)","v":0},0,0,0,0,0,0,0,0,0,0,0,0,0,0]
[null,null,"※各年度配分後の合計値は、端数の関係でもとの延長に一致しないことがあります。"]

{"sheet":"デフレータ","index":11,"n_rows":130,"n_cols":14,"rows_kept":130,"cut":false,"hidden":false,"merged":[]}
["建築デフレーター（上・工業用水道）"]
["国土交通省　建設工事費　デフレーター　ＵＲＬ"]
["http://www.mlit.go.jp/sogoseisaku/jouhouka/sosei_jouhouka_tk4_000112.html"]
[null,"西暦\n（年度）","上・工業用水道",null,"R5年度を100",null,null,null,"【参考】　デフレーターについて"]
[null,1900,{"$f":"ROUND($C$56*L15,2)","v":0.02},{"$f":"B5","v":1900},{"$f":"ROUND(C5/$C$128*100,3)","v":1.6E-2}]
[null,1901,0.02,{"$f":"D5+1","v":1901},1.6E-2,null,null,null,"1951年～1984年のデフレーターは国土交通省　建設工事費　「下水道」より設定（AH列5～38行目）"]
[null,1902,0.02,{"$f":"D6+1","v":1902},1.6E-2,null,null,null,"1985年～最新年度は国土交通省　建設工事費　「上・工業用水道」より設定（初期設定シートのC列より取得）"]
[null,1903,0.02,1903,1.6E-2,null,null,null,"（AH列のデフレーターは最新年度を100としてAJ列に補正値を算定（実際に使用する数値（P列））"]
[null,1904,0.02,1904,1.6E-2,null,null,null,"最新年度以降はすべて100とする。（更新費用＝現在価格とする）"]
[null,1905,0.02,1905,1.6E-2,null,null,null,"1950以前のデフレーターは国土交通省の治水経済調査マニュアル（案）P99～100に記載されている治水事業工事費比率"]
[null,1906,0.02,1906,1.6E-2,null,null,null,"を基に補正率を算出し、1951年度のデフレーターに補正率を掛けて算出する。"]
[null,1907,0.03,1907,2.4E-2]
[null,1908,0.03,1908,2.4E-2,null,null,null,"明治以降の土木工事費指数（治水事業）"]
[null,1909,0.03,1909,2.4E-2,null,null,null,"年度","和暦","指数","補正率",null,"補正率の算出（AO列=AB列）"]
[null,1910,0.03,1910,2.4E-2,null,null,null,1900,33,40.299999999999997,{"$f":"K15/$K$66","v":1.6819699499165273E-3},null,"　各年度の指数/1951年の指数"]
[null,1911,0.03,1911,2.4E-2,null,null,null,{"$f":"I15+1","v":1901},34,40.299999999999997,1.6819699499165273E-3,null,"デフレータの算出（P列：1950年まで）"]
[null,1912,0.03,1912,2.4E-2,null,null,null,{"$f":"I16+1","v":1902},35,40.299999999999997,1.6819699499165273E-3,null,"　1951年のデフレーター*各年度の補正率"]
[null,1913,0.03,1913,2.4E-2,null,null,null,1903,36,40.299999999999997,1.6819699499165273E-3]
[null,1914,0.03,1914,2.4E-2,null,null,null,1904,37,39.200000000000003,1.636060100166945E-3]
[null,1915,0.03,1915,2.4E-2,null,null,null,1905,38,41.3,1.7237061769616025E-3]
[null,1916,0.03,1916,2.4E-2,null,null,null,1906,39,44.3,1.8489148580968279E-3]
[null,1917,0.04,1917,3.1E-2,null,null,null,1907,40,50,2.0868113522537562E-3]
[null,1918,0.05,1918,3.9E-2,null,null,null,1908,41,53.4,2.2287145242070117E-3]
[null,1919,0.08,1919,6.3E-2,null,null,null,1909,42,52.2,2.1786310517529217E-3]
[null,1920,0.1,1920,7.9000000000000001E-2,null,null,null,1910,43,52.1,2.1744574290484143E-3]
[null,1921,0.09,1921,7.0999999999999994E-2,null,null,null,1911,44,55.1,2.2996661101836392E-3]
[null,1922,0.09,1922,7.0999999999999994E-2,null,null,null,1912,1,58.3,2.4332220367278795E-3]
[null,1923,0.09,1923,7.0999999999999994E-2,null,null,null,1913,2,58.4,2.4373956594323874E-3]
[null,1924,0.09,1924,7.0999999999999994E-2,null,null,null,1914,3,58.1,2.4248747913188646E-3]
[null,1925,0.08,1925,6.3E-2,null,null,null,1915,4,55.8,2.3288814691151917E-3]
[null,1926,0.08,1926,6.3E-2,null,null,null,1916,5,58.5,2.4415692821368948E-3]
[null,1927,0.08,1927,6.3E-2,null,null,null,1917,6,71.7,2.9924874791318868E-3]
[null,1928,0.08,1928,6.3E-2,null,null,null,1918,7,97,4.0484140233722869E-3]
[null,1929,0.08,1929,6.3E-2,null,null,null,1919,8,141.5,5.9056761268781299E-3]
[null,1930,0.06,1930,4.7E-2,null,null,null,1920,9,188.6,7.8714524207011676E-3]
[null,1931,0.06,1931,4.7E-2,null,null,null,1921,10,156.69999999999999,6.5400667779632717E-3]
[null,1932,0.05,1932,3.9E-2,null,null,null,1922,11,168,7.0116861435726213E-3]
[null,1933,0.06,1933,4.7E-2,null,null,null,1923,12,168.5,7.0325542570951584E-3]
[null,1934,0.06,1934,4.7E-2,null,null,null,1924,13,160.19999999999999,6.6861435726210342E-3]
[null,1935,0.06,1935,4.7E-2,null,null,null,1925,14,152.69999999999999,6.3731218697829712E-3]
[null,1936,0.06,1936,4.7E-2,null,null,null,1926,1,147.4,6.1519198664440741E-3]
[null,1937,7.0000000000000007E-2,1937,5.5E-2,null,null,null,1927,2,140.9,5.8806343906510853E-3]
[null,1938,7.0000000000000007E-2,1938,5.5E-2,null,null,null,1928,3,139.69999999999999,5.8305509181969944E-3]
[null,1939,0.09,1939,7.0999999999999994E-2,null,null,null,1929,4,135.5,5.6552587646076791E-3]
[null,1940,0.1,1940,7.9000000000000001E-2,null,null,null,1930,5,109.9,4.5868113522537562E-3]
[null,1941,0.11,1941,8.6999999999999994E-2,null,null,null,1931,6,99.1,4.1360601001669446E-3]
[null,1942,0.11,1942,8.6999999999999994E-2,null,null,null,1932,7,97.7,{"$f":"K47/$K$66","v":4.0776293823038398E-3}]
[null,1943,0.13,1943,0.10199999999999999,null,null,null,1933,8,99.4,4.1485809682804678E-3]
[null,1944,0.18,1944,0.14199999999999999,null,null,null,1934,9,99.4,4.1485809682804678E-3]
[null,1945,0.68,1945,0.53500000000000003,null,null,null,1935,10,100,4.1736227045075123E-3]
[null,1946,1.38,1946,1.0860000000000001,null,null,null,1936,11,100.6,4.1986644407345577E-3]
[null,1947,3.25,1947,2.5569999999999999,null,null,null,1937,12,119.1,4.9707846410684473E-3]
[null,1948,0.9,1948,0.70799999999999996,null,null,null,1938,13,132.4,5.5258764607679471E-3]
[null,1949,3.4,1949,2.6749999999999998,null,null,null,1939,14,155.9,6.5066777963272123E-3]
[null,1950,{"$f":"ROUND($C$56*L65,2)","v":10.31},1950,8.1120000000000001,null,null,null,1940,15,179.4,7.4874791318864774E-3]
[null,1951,13.3,1951,10.464,null,null,null,1941,16,199.4,8.3222036727879801E-3]
[null,1952,14.3,1952,11.250999999999999,null,null,null,1942,17,206.9,8.635225375626044E-3]
[null,1953,15.3,1953,12.038,null,null,null,1943,18,238.5,9.9540901502504168E-3]
[null,1954,15.3,1954,12.038,null,null,null,1944,19,326.89999999999998,1.3643572621035058E-2]
[null,1955,15.4,1955,12.116,null,null,null,1945,20,1219,5.087646076794658E-2]
[null,1956,17.100000000000001,1956,13.454000000000001,null,null,null,1946,21,2479,0.10346410684474124]
[null,1957,18.100000000000001,1957,14.241,null,null,null,1947,22,5860,0.24457429048414023]
[null,1958,17.5,1958,13.769,null,null,null,1948,23,1630,6.803005008347246E-2]
[null,1959,17.899999999999999,1959,14.083,null,null,null,1949,24,6120,0.25542570951585974]
[null,1960,19,1960,14.949,null,null,null,1950,25,18570,0.77504173622704509]
[null,1961,21,1961,16.521999999999998,null,null,null,{"$f":"I65+1","v":1951},26,23960]
[null,1962,21.8,1962,17.152000000000001]
[null,1963,22.2,1963,17.466999999999999]
[null,1964,23,1964,{"$f":"ROUND(C69/$C$128*100,3)","v":18.096}]
[null,1965,23.7,1965,18.646999999999998]
[null,1966,25.3,{"$f":"D70+1","v":1966},19.905999999999999]
[null,1967,26.7,1967,21.007000000000001]
[null,1968,27.5,1968,21.637]
[null,1969,29.5,1969,23.21]
[null,1970,31.7,1970,24.940999999999999]
[null,1971,32.4,1971,25.492000000000001]
[null,1972,34.299999999999997,1972,26.986999999999998]
[null,1973,43.8,1973,34.460999999999999]
[null,1974,53.1,1974,41.777999999999999]
[null,1975,53.7,1975,42.25]
[null,1976,57.6,1976,45.319000000000003]
[null,1977,60.5,1977,47.6]
[null,1978,64.599999999999994,1978,50.826000000000001]
[null,1979,70.2,1979,55.231999999999999]
[null,1980,76.5,1980,60.189]
[null,1981,77.400000000000006,1981,60.896999999999998]
[null,1982,77.599999999999994,1982,61.054000000000002]
[null,1983,77.5,1983,60.975999999999999]
[null,1984,78.8,1984,61.997999999999998]
[null,1985,77.7,1985,61.133000000000003]
[null,1986,76.8,1986,60.424999999999997]
[null,1987,77.3,1987,60.817999999999998]
[null,1988,78.7,1988,61.92]
[null,1989,82.4,1989,64.831000000000003]
[null,1990,85.3,1990,67.113]
[null,1991,87.6,1991,68.921999999999997]
[null,1992,88.6,1992,69.709000000000003]
[null,1993,88.4,1993,69.552000000000007]
[null,1994,88.6,1994,69.709000000000003]
[null,1995,88.8,1995,69.866]
[null,1996,88.5,1996,69.63]
[null,1997,89.4,1997,70.337999999999994]
[null,1998,88,1998,69.236999999999995]
[null,1999,87,1999,68.45]
[null,2000,87.2,2000,68.606999999999999]
[null,2001,85.6,null,67.349000000000004]
[null,2002,85,null,66.876000000000005]
[null,2003,86,null,67.662999999999997]
[null,2004,87.5,null,68.843000000000004]
[null,2005,89,null,70.024000000000001]
[null,2006,90.6,null,71.281999999999996]
[null,2007,93.5,null,73.563999999999993]
[null,2008,98.8,null,77.733999999999995]
[null,2009,94,null,73.957999999999998]
[null,2010,94.1,null,74.036000000000001]
[null,2011,95.3,null,74.98]
[null,2012,94.7,null,74.507999999999996]
[null,2013,96.6,null,76.003]
[null,2014,99.5,null,78.284999999999997]
[null,2015,100,null,78.677999999999997]
[null,2016,100.1,null,78.757000000000005]
[null,2017,102,null,80.251999999999995]
[null,2018,105.8,null,83.242000000000004]
[null,2019,108.9,null,85.680999999999997]
[null,2020,108.9,null,85.680999999999997]
[null,2021,113.7,null,89.456999999999994]
[null,2022,122.8,null,96.617000000000004]
[null,2023,127.1,null,{"$f":"ROUND(C128/$C$128*100,3)","v":100}]
[null,2024,131.5,null,{"$f":"ROUND(C129/$C$128*100,3)","v":103.462}]
[null,2025]

{"sheet":"様式2-2準備用","index":12,"n_rows":7555,"n_cols":17,"rows_kept":7555,"cut":false,"hidden":false,"merged":[[0,6,0,8],[1,6,1,8]]}
[null,"様式2-2（準備用）"]
[null,"●管路の布設年度別延長"]
[]
[null,"②系統","③基本種別１","④基本種別２","⑤基本種別３","⑥施設名","⑦布設年度","⑧延長(m)","口径(mm)","管種\nコード",null,"【集計表】","⑧延長(m)","管種\nコード","改築費\n（千円）","再改築費\n（千円）","⑧延長(m)"]
[null,null,null,null,null,null,null,null,null,null,null,"取・導水管",{"$f":"SUMIF(管路布設情報入力!$DT$11:$DT$7805,'様式2-2準備用'!$L5,管路布設情報入力!$E$11:$E$7805)","v":0},"A1",{"$f":"SUMIF(管路布設情報入力!$DU$11:$DU$7805,'様式2-2準備用'!$N5,管路布設情報入力!$I$11:$I$7805)","v":0},{"$f":"SUMIF(管路布設情報入力!$DU$11:$DU$7805,'様式2-2準備用'!$N5,管路布設情報入力!$J$11:$J$7805)","v":0},{"$f":"SUMIF(管路布設情報入力!$DU$11:$DU$7805,'様式2-2準備用'!$N5,管路布設情報入力!$E$11:$E$7805)","v":0}]
[null,null,null,null,null,null,null,null,null,null,null,"送水管",{"$f":"SUMIF(管路布設情報入力!$DT$11:$DT$7805,'様式2-2準備用'!$L6,管路布設情報入力!$E$11:$E$7805)","v":0},"A2",{"$f":"SUMIF(管路布設情報入力!$DU$11:$DU$7805,'様式2-2準備用'!$N6,管路布設情報入力!$I$11:$I$7805)","v":0},{"$f":"SUMIF(管路布設情報入力!$DU$11:$DU$7805,'様式2-2準備用'!$N6,管路布設情報入力!$J$11:$J$7805)","v":0},{"$f":"SUMIF(管路布設情報入力!$DU$11:$DU$7805,'様式2-2準備用'!$N6,管路布設情報入力!$E$11:$E$7805)","v":0}]
[null,null,null,null,null,null,null,null,null,null,null,"配水本管",{"$f":"SUMIF(管路布設情報入力!$DT$11:$DT$7805,'様式2-2準備用'!$L7,管路布設情報入力!$E$11:$E$7805)","v":0},"A3",{"$f":"SUMIF(管路布設情報入力!$DU$11:$DU$7805,'様式2-2準備用'!$N7,管路布設情報入力!$I$11:$I$7805)","v":0},{"$f":"SUMIF(管路布設情報入力!$DU$11:$DU$7805,'様式2-2準備用'!$N7,管路布設情報入力!$J$11:$J$7805)","v":0},{"$f":"SUMIF(管路布設情報入力!$DU$11:$DU$7805,'様式2-2準備用'!$N7,管路布設情報入力!$E$11:$E$7805)","v":0}]
[null,null,null,null,null,null,null,null,null,null,null,"配水支管",{"$f":"SUMIF(管路布設情報入力!$DT$11:$DT$7805,'様式2-2準備用'!$L8,管路布設情報入力!$E$11:$E$7805)","v":0},"A9",{"$f":"SUMIF(管路布設情報入力!$DU$11:$DU$7805,'様式2-2準備用'!$N8,管路布設情報入力!$I$11:$I$7805)","v":0},{"$f":"SUMIF(管路布設情報入力!$DU$11:$DU$7805,'様式2-2準備用'!$N8,管路布設情報入力!$J$11:$J$7805)","v":0},{"$f":"SUMIF(管路布設情報入力!$DU$11:$DU$7805,'様式2-2準備用'!$N8,管路布設情報入力!$E$11:$E$7805)","v":0}]
[null,null,null,null,null,null,null,null,null,null,null,"その他１",{"$f":"SUMIF(管路布設情報入力!$DT$11:$DT$7805,'様式2-2準備用'!$L9,管路布設情報入力!$E$11:$E$7805)","v":0},"B1",{"$f":"SUMIF(管路布設情報入力!$DU$11:$DU$7805,'様式2-2準備用'!$N9,管路布設情報入力!$I$11:$I$7805)","v":0},{"$f":"SUMIF(管路布設情報入力!$DU$11:$DU$7805,'様式2-2準備用'!$N9,管路布設情報入力!$J$11:$J$7805)","v":0},{"$f":"SUMIF(管路布設情報入力!$DU$11:$DU$7805,'様式2-2準備用'!$N9,管路布設情報入力!$E$11:$E$7805)","v":0}]
[null,null,null,null,null,null,null,null,null,null,null,"その他２",{"$f":"SUMIF(管路布設情報入力!$DT$11:$DT$7805,'様式2-2準備用'!$L10,管路布設情報入力!$E$11:$E$7805)","v":0},"B9",{"$f":"SUMIF(管路布設情報入力!$DU$11:$DU$7805,'様式2-2準備用'!$N10,管路布設情報入力!$I$11:$I$7805)","v":0},{"$f":"SUMIF(管路布設情報入力!$DU$11:$DU$7805,'様式2-2準備用'!$N10,管路布設情報入力!$J$11:$J$7805)","v":0},{"$f":"SUMIF(管路布設情報入力!$DU$11:$DU$7805,'様式2-2準備用'!$N10,管路布設情報入力!$E$11:$E$7805)","v":0}]
[null,null,null,null,null,null,null,null,null,null,null,"その他３",{"$f":"SUMIF(管路布設情報入力!$DT$11:$DT$7805,'様式2-2準備用'!$L11,管路布設情報入力!$E$11:$E$7805)","v":0},"C1",{"$f":"SUMIF(管路布設情報入力!$DU$11:$DU$7805,'様式2-2準備用'!$N11,管路布設情報入力!$I$11:$I$7805)","v":0},{"$f":"SUMIF(管路布設情報入力!$DU$11:$DU$7805,'様式2-2準備用'!$N11,管路布設情報入力!$J$11:$J$7805)","v":0},{"$f":"SUMIF(管路布設情報入力!$DU$11:$DU$7805,'様式2-2準備用'!$N11,管路布設情報入力!$E$11:$E$7805)","v":0}]
[null,null,null,null,null,null,null,null,null,null,null,"計",{"$f":"SUM(M5:M11)","v":0},"D1",{"$f":"SUMIF(管路布設情報入力!$DU$11:$DU$7805,'様式2-2準備用'!$N12,管路布設情報入力!$I$11:$I$7805)","v":0},{"$f":"SUMIF(管路布設情報入力!$DU$11:$DU$7805,'様式2-2準備用'!$N12,管路布設情報入力!$J$11:$J$7805)","v":0},{"$f":"SUMIF(管路布設情報入力!$DU$11:$DU$7805,'様式2-2準備用'!$N12,管路布設情報入力!$E$11:$E$7805)","v":0}]
[null,null,null,null,null,null,null,null,null,null,null,null,null,"D2",{"$f":"SUMIF(管路布設情報入力!$DU$11:$DU$7805,'様式2-2準備用'!$N13,管路布設情報入力!$I$11:$I$7805)","v":0},{"$f":"SUMIF(管路布設情報入力!$DU$11:$DU$7805,'様式2-2準備用'!$N13,管路布設情報入力!$J$11:$J$7805)","v":0},{"$f":"SUMIF(管路布設情報入力!$DU$11:$DU$7805,'様式2-2準備用'!$N13,管路布設情報入力!$E$11:$E$7805)","v":0}]
[null,null,null,null,null,null,null,null,null,null,null,"⑤基本種別３",null,"D9",{"$f":"SUMIF(管路布設情報入力!$DU$11:$DU$7805,'様式2-2準備用'!$N14,管路布設情報入力!$I$11:$I$7805)","v":0},{"$f":"SUMIF(管路布設情報入力!$DU$11:$DU$7805,'様式2-2準備用'!$N14,管路布設情報入力!$J$11:$J$7805)","v":0},{"$f":"SUMIF(管路布設情報入力!$DU$11:$DU$7805,'様式2-2準備用'!$N14,管路布設情報入力!$E$11:$E$7805)","v":0}]
[null,null,null,null,null,null,null,null,null,null,null,"耐震管",null,"E1",{"$f":"SUMIF(管路布設情報入力!$DU$11:$DU$7805,'様式2-2準備用'!$N15,管路布設情報入力!$I$11:$I$7805)","v":0},{"$f":"SUMIF(管路布設情報入力!$DU$11:$DU$7805,'様式2-2準備用'!$N15,管路布設情報入力!$J$11:$J$7805)","v":0},{"$f":"SUMIF(管路布設情報入力!$DU$11:$DU$7805,'様式2-2準備用'!$N15,管路布設情報入力!$E$11:$E$7805)","v":0}]
[null,null,null,null,null,null,null,null,null,null,null,"非耐震管",null,"F1",{"$f":"SUMIF(管路布設情報入力!$DU$11:$DU$7805,'様式2-2準備用'!$N16,管路布設情報入力!$I$11:$I$7805)","v":0},{"$f":"SUMIF(管路布設情報入力!$DU$11:$DU$7805,'様式2-2準備用'!$N16,管路布設情報入力!$J$11:$J$7805)","v":0},{"$f":"SUMIF(管路布設情報入力!$DU$11:$DU$7805,'様式2-2準備用'!$N16,管路布設情報入力!$E$11:$E$7805)","v":0}]
[null,null,null,null,null,null,null,null,null,null,null,"その他１",null,"G1",{"$f":"SUMIF(管路布設情報入力!$DU$11:$DU$7805,'様式2-2準備用'!$N17,管路布設情報入力!$I$11:$I$7805)","v":0},{"$f":"SUMIF(管路布設情報入力!$DU$11:$DU$7805,'様式2-2準備用'!$N17,管路布設情報入力!$J$11:$J$7805)","v":0},{"$f":"SUMIF(管路布設情報入力!$DU$11:$DU$7805,'様式2-2準備用'!$N17,管路布設情報入力!$E$11:$E$7805)","v":0}]
[null,null,null,null,null,null,null,null,null,null,null,"その他２",null,"G9",{"$f":"SUMIF(管路布設情報入力!$DU$11:$DU$7805,'様式2-2準備用'!$N18,管路布設情報入力!$I$11:$I$7805)","v":0},{"$f":"SUMIF(管路布設情報入力!$DU$11:$DU$7805,'様式2-2準備用'!$N18,管路布設情報入力!$J$11:$J$7805)","v":0},{"$f":"SUMIF(管路布設情報入力!$DU$11:$DU$7805,'様式2-2準備用'!$N18,管路布設情報入力!$E$11:$E$7805)","v":0}]
[null,null,null,null,null,null,null,null,null,null,null,"その他３",null,"H1",{"$f":"SUMIF(管路布設情報入力!$DU$11:$DU$7805,'様式2-2準備用'!$N19,管路布設情報入力!$I$11:$I$7805)","v":0},{"$f":"SUMIF(管路布設情報入力!$DU$11:$DU$7805,'様式2-2準備用'!$N19,管路布設情報入力!$J$11:$J$7805)","v":0},{"$f":"SUMIF(管路布設情報入力!$DU$11:$DU$7805,'様式2-2準備用'!$N19,管路布設情報入力!$E$11:$E$7805)","v":0}]
[null,null,null,null,null,null,null,null,null,null,null,"その他４",null,"H9",{"$f":"SUMIF(管路布設情報入力!$DU$11:$DU$7805,'様式2-2準備用'!$N20,管路布設情報入力!$I$11:$I$7805)","v":0},{"$f":"SUMIF(管路布設情報入力!$DU$11:$DU$7805,'様式2-2準備用'!$N20,管路布設情報入力!$J$11:$J$7805)","v":0},{"$f":"SUMIF(管路布設情報入力!$DU$11:$DU$7805,'様式2-2準備用'!$N20,管路布設情報入力!$E$11:$E$7805)","v":0}]
[null,null,null,null,null,null,null,null,null,null,null,"その他５",null,"Z9",{"$f":"SUMIF(管路布設情報入力!$DU$11:$DU$7805,'様式2-2準備用'!$N21,管路布設情報入力!$I$11:$I$7805)","v":0},{"$f":"SUMIF(管路布設情報入力!$DU$11:$DU$7805,'様式2-2準備用'!$N21,管路布設情報入力!$J$11:$J$7805)","v":0},{"$f":"SUMIF(管路布設情報入力!$DU$11:$DU$7805,'様式2-2準備用'!$N21,管路布設情報入力!$E$11:$E$7805)","v":0}]
[null,null,null,null,null,null,null,null,null,null,null,null,null,"計",{"$f":"SUM(O5:O21)","v":0},{"$f":"SUM(P5:P21)","v":0},{"$f":"SUM(Q5:Q21)","v":0}]
[]
[]
[]
[]
[]
[]
[]
[]
[]
[]
[]
[]
[]
[]
[]
[]
[]
[]
[]
[]
[]
[]
[]
[]
[]
[]
[]
[]
[]
[]
[]
[]
[]
[]
[]
[]
[]
[]
[]
[]
[]
[]
[]
[]
[]
[]
[]
[]
[]
[]
[]
[]
[]
[]
[]
[]
[]
[]
[]
[]
[]
[]
[]
[]
[]
[]
[]
[]
[]
[]
[]
[]
[]
[]
[]
[]
[]
[]
[]
[]
[]
[]
[]
[]
[]
[]
[]
[]
[]
[]
[]
[]
[]
[]
[]
[]
[]
[]
[]
[]
[]
[]
[]
[]
[]
[]
[]
[]
[]
[]
[]
[]
[]
[]
[]
[]
[]
[]
[]
[]
[]
[]
[]
[]
[]
[]
[]
[]
[]
[]
[]
[]
[]
[]
[]
[]
[]
[]
[]
[]
[]
[]
[]
[]
[]
[]
[]
[]
[]
[]
[]
[]
[]
[]
[]
[]
[]
[]
[]
[]
[]
[]
[]
[]
[]
[]
[]
[]
[]
[]
[]
[]
[]
[]
[]
[]
[]
[]
[]
[]
[]
[]
[]
[]
[]
[]
[]
[]
[]
[]
[]
[]
[]
[]
[]
[]
[]
[]
[]
[]
[]
[]
[]
[]
[]
[]
[]
[]
[]
[]
[]
[]
[]
[]
[]
[]
[]
[]
[]
[]
[]
[]
[]
[]
[]
[]
[]
[]
[]
[]
[]
[]
[]
[]
[]
[]
[]
[]
[]
[]
[]
[]
[]
[]
[]
[]
[]
[]
[]
[]
[]
[]
[]
[]
[]
[]
[]
[]
[]
[]
[]
[]
[]
[]
[]
[]
[]
[]
[]
[]
[]
[]
[]
[]
[]
[]
[]
[]
[]
[]
[]
[]
[]
[]
[]
[]
[]
[]
[]
[]
[]
[]
[]
[]
[]
[]
[]
[]
[]
[]
[]
[]
[]
[]
[]
[]
[]
[]
[]
[]
[]
[]
[]
[]
[]
[]
[]
[]
[]
[]
[]
[]
[]
[]
[]
[]
[]
[]
[]
[]
[]
[]
[]
[]
[]
[]
[]
[]
[]
[]
[]
[]
[]
[]
[]
[]
[]
[]
[]
[]
[]
[]
[]
[]
[]
[]
[]
[]
[]
[]
[]
[]
[]
[]
[]
[]
[]
[]
[]
[]
[]
[]
[]
[]
[]
[]
[]
[]
[]
[]
[]
[]
[]
[]
[]
[]
[]
[]
[]
[]
[]
[]
[]
[]
[]
[]
[]
[]
[]
[]
[]
[]
[]
[]
[]
[]
[]
[]
[]
[]
[]
[]
[]
[]
[]
[]
[]
[]
[]
[]
[]
[]
[]
[]
[]
[]
[]
[]
[]
[]
[]
[]
[]
[]
[]
[]
[]
[]
[]
[]
[]
[]
[]
[]
[]
[]
[]
[]
[]
[]
[]
[]
[]
[]
[]
[]
[]
[]
[]
[]
[]
[]
[]
[]
[]
[]
[]
[]
[]
[]
[]
[]
[]
[]
[]
[]
[]
[]
[]
[]
[]
[]
[]
[]
[]
[]
[]
[]
[]
[]
[]
[]
[]
[]
[]
[]
[]
[]
[]
[]
[]
[]
[]
[]
[]
[]
[]
[]
[]
[]
[]
[]
[]
[]
[]
[]
[]
[]
[]
[]
[]
[]
[]
[]
[]
[]
[]
[]
[]
[]
[]
[]
[]
[]
[]
[]
[]
[]
[]
[]
[]
[]
[]
[]
[]
[]
[]
[]
[]
[]
[]
[]
[]
[]
[]
[]
[]
[]
[]
[]
[]
[]
[]
[]
[]
[]
[]
[]
[]
[]
[]
[]
[]
[]
[]
[]
[]
[]
[]
[]
[]
[]
[]
[]
[]
[]
[]
[]
[]
[]
[]
[]
[]
[]
[]
[]
[]
[]
[]
[]
[]
[]
[]
[]
[]
[]
[]
[]
[]
[]
[]
[]
[]
[]
[]
[]
[]
[]
[]
[]
[]
[]
[]
[]
[]
[]
[]
[]
[]
[]
[]
[]
[]
[]
[]
[]
[]
[]
[]
[]
[]
[]
[]
[]
[]
[]
[]
[]
[]
[]
[]
[]
[]
[]
[]
[]
[]
[]
[]
[]
[]
[]
[]
[]
[]
[]
[]
[]
[]
[]
[]
[]
[]
[]
[]
[]
[]
[]
[]
[]
[]
[]
[]
[]
[]
[]
[]
[]
[]
[]
[]
[]
[]
[]
[]
[]
[]
[]
[]
[]
[]
[]
[]
[]
[]
[]
[]
[]
[]
[]
[]
[]
[]
[]
[]
[]
[]
[]
[]
[]
[]
[]
[]
[]
[]
[]
[]
[]
[]
[]
[]
[]
[]
[]
[]
[]
[]
[]
[]
[]
[]
[]
[]
[]
[]
[]
[]
[]
[]
[]
[]
[]
[]
[]
[]
[]
[]
[]
[]
[]
[]
[]
[]
[]
[]
[]
[]
[]
[]
[]
[]
[]
[]
[]
[]
[]
[]
[]
[]
[]
[]
[]
[]
[]
[]
[]
[]
[]
[]
[]
[]
[]
[]
[]
[]
[]
[]
[]
[]
[]
[]
[]
[]
[]
[]
[]
[]
[]
[]
[]
[]
[]
[]
[]
[]
[]
[]
[]
[]
[]
[]
[]
[]
[]
[]
[]
[]
[]
[]
[]
[]
[]
[]
[]
[]
[]
[]
[]
[]
[]
[]
[]
[]
[]
[]
[]
[]
[]
[]
[]
[]
[]
[]
[]
[]
[]
[]
[]
[]
[]
[]
[]
[]
[]
[]
[]
[]
[]
[]
[]
[]
[]
[]
[]
[]
[]
[]
[]
[]
[]
[]
[]
[]
[]
[]
[]
[]
[]
[]
[]
[]
[]
[]
[]
[]
[]
[]
[]
[]
[]
[]
[]
[]
[]
[]
[]
[]
[]
[]
[]
[]
[]
[]
[]
[]
[]
[]
[]
[]
[]
[]
[]
[]
[]
[]
[]
[]
[]
[]
[]
[]
[]
[]
[]
[]
[]
[]
[]
[]
[]
[]
[]
[]
[]
[]
[]
[]
[]
[]
[]
[]
[]
[]
[]
[]
[]
[]
[]
[]
[]
[]
[]
[]
[]
[]
[]
[]
[]
[]
[]
[]
[]
[]
[]
[]
[]
[]
[]
[]
[]
[]
[]
[]
[]
[]
[]
[]
[]
[]
[]
[]
[]
[]
[]
[]
[]
[]
[]
[]
[]
[]
[]
[]
[]
[]
[]
[]
[]
[]
[]
[]
[]
[]
[]
[]
[]
[]
[]
[]
[]
[]
[]
[]
[]
[]
[]
[]
[]
[]
[]
[]
[]
[]
[]
[]
[]
[]
[]
[]
[]
[]
[]
[]
[]
[]
[]
[]
[]
[]
[]
[]
[]
[]
[]
[]
[]
[]
[]
[]
[]
[]
[]
[]
[]
[]
[]
[]
[]
[]
[]
[]
[]
[]
[]
[]
[]
[]
[]
[]
[]
[]
[]
[]
[]
[]
[]
[]
[]
[]
[]
[]
[]
[]
[]
[]
[]
[]
[]
[]
[]
[]
[]
[]
[]
[]
[]
[]
[]
[]
[]
[]
[]
[]
[]
[]
[]
[]
[]
[]
[]
[]
[]
[]
[]
[]
[]
[]
[]
[]
[]
[]
[]
[]
[]
[]
[]
[]
[]
[]
[]
[]
[]
[]
[]
[]
[]
[]
[]
[]
[]
[]
[]
[]
[]
[]
[]
[]
[]
[]
[]
[]
[]
[]
[]
[]
[]
[]
[]
[]
[]
[]
[]
[]
[]
[]
[]
[]
[]
[]
[]
[]
[]
[]
[]
[]
[]
[]
[]
[]
[]
[]
[]
[]
[]
[]
[]
[]
[]
[]
[]
[]
[]
[]
[]
[]
[]
[]
[]
[]
[]
[]
[]
[]
[]
[]
[]
[]
[]
[]
[]
[]
[]
[]
[]
[]
[]
[]
[]
[]
[]
[]
[]
[]
[]
[]
[]
[]
[]
[]
[]
[]
[]
[]
[]
[]
[]
[]
[]
[]
[]
[]
[]
[]
[]
[]
[]
[]
[]
[]
[]
[]
[]
[]
[]
[]
[]
[]
[]
[]
[]
[]
[]
[]
[]
[]
[]
[]
[]
[]
[]
[]
[]
[]
[]
[]
[]
[]
[]
[]
[]
[]
[]
[]
[]
[]
[]
[]
[]
[]
[]
[]
[]
[]
[]
[]
[]
[]
[]
[]
[]
[]
[]
[]
[]
[]
[]
[]
[]
[]
[]
[]
[]
[]
[]
[]
[]
[]
[]
[]
[]
[]
[]
[]
[]
[]
[]
[]
[]
[]
[]
[]
[]
[]
[]
[]
[]
[]
[]
[]
[]
[]
[]
[]
[]
[]
[]
[]
[]
[]
[]
[]
[]
[]
[]
[]
[]
[]
[]
[]
[]
[]
[]
[]
[]
[]
[]
[]
[]
[]
[]
[]
[]
[]
[]
[]
[]
[]
[]
[]
[]
[]
[]
[]
[]
[]
[]
[]
[]
[]
[]
[]
[]
[]
[]
[]
[]
[]
[]
[]
[]
[]
[]
[]
[]
[]
[]
[]
[]
[]
[]
[]
[]
[]
[]
[]
[]
[]
[]
[]
[]
[]
[]
[]
[]
[]
[]
[]
[]
[]
[]
[]
[]
[]
[]
[]
[]
[]
[]
[]
[]
[]
[]
[]
[]
[]
[]
[]
[]
[]
[]
[]
[]
[]
[]
[]
[]
[]
[]
[]
[]
[]
[]
[]
[]
[]
[]
[]
[]
[]
[]
[]
[]
[]
[]
[]
[]
[]
[]
[]
[]
[]
[]
[]
[]
[]
[]
[]
[]
[]
[]
[]
[]
[]
[]
[]
[]
[]
[]
[]
[]
[]
[]
[]
[]
[]
[]
[]
[]
[]
[]
[]
[]
[]
[]
[]
[]
[]
[]
[]
[]
[]
[]
[]
[]
[]
[]
[]
[]
[]
[]
[]
[]
[]
[]
[]
[]
[]
[]
[]
[]
[]
[]
[]
[]
[]
[]
[]
[]
[]
[]
[]
[]
[]
[]
[]
[]
[]
[]
[]
[]
[]
[]
[]
[]
[]
[]
[]
[]
[]
[]
[]
[]
[]
[]
[]
[]
[]
[]
[]
[]
[]
[]
[]
[]
[]
[]
[]
[]
[]
[]
[]
[]
[]
[]
[]
[]
[]
[]
[]
[]
[]
[]
[]
[]
[]
[]
[]
[]
[]
[]
[]
[]
[]
[]
[]
[]
[]
[]
[]
[]
[]
[]
[]
[]
[]
[]
[]
[]
[]
[]
[]
[]
[]
[]
[]
[]
[]
[]
[]
[]
[]
[]
[]
[]
[]
[]
[]
[]
[]
[]
[]
[]
[]
[]
[]
[]
[]
[]
[]
[]
[]
[]
[]
[]
[]
[]
[]
[]
[]
[]
[]
[]
[]
[]
[]
[]
[]
[]
[]
[]
[]
[]
[]
[]
[]
[]
[]
[]
[]
[]
[]
[]
[]
[]
[]
[]
[]
[]
[]
[]
[]
[]
[]
[]
[]
[]
[]
[]
[]
[]
[]
[]
[]
[]
[]
[]
[]
[]
[]
[]
[]
[]
[]
[]
[]
[]
[]
[]
[]
[]
[]
[]
[]
[]
[]
[]
[]
[]
[]
[]
[]
[]
[]
[]
[]
[]
[]
[]
[]
[]
[]
[]
[]
[]
[]
[]
[]
[]
[]
[]
[]
[]
[]
[]
[]
[]
[]
[]
[]
[]
[]
[]
[]
[]
[]
[]
[]
[]
[]
[]
[]
[]
[]
[]
[]
[]
[]
[]
[]
[]
[]
[]
[]
[]
[]
[]
[]
[]
[]
[]
[]
[]
[]
[]
[]
[]
[]
[]
[]
[]
[]
[]
[]
[]
[]
[]
[]
[]
[]
[]
[]
[]
[]
[]
[]
[]
[]
[]
[]
[]
[]
[]
[]
[]
[]
[]
[]
[]
[]
[]
[]
[]
[]
[]
[]
[]
[]
[]
[]
[]
[]
[]
[]
[]
[]
[]
[]
[]
[]
[]
[]
[]
[]
[]
[]
[]
[]
[]
[]
[]
[]
[]
[]
[]
[]
[]
[]
[]
[]
[]
[]
[]
[]
[]
[]
[]
[]
[]
[]
[]
[]
[]
[]
[]
[]
[]
[]
[]
[]
[]
[]
[]
[]
[]
[]
[]
[]
[]
[]
[]
[]
[]
[]
[]
[]
[]
[]
[]
[]
[]
[]
[]
[]
[]
[]
[]
[]
[]
[]
[]
[]
[]
[]
[]
[]
[]
[]
[]
[]
[]
[]
[]
[]
[]
[]
[]
[]
[]
[]
[]
[]
[]
[]
[]
[]
[]
[]
[]
[]
[]
[]
[]
[]
[]
[]
[]
[]
[]
[]
[]
[]
[]
[]
[]
[]
[]
[]
[]
[]
[]
[]
[]
[]
[]
[]
[]
[]
[]
[]
[]
[]
[]
[]
[]
[]
[]
[]
[]
[]
[]
[]
[]
[]
[]
[]
[]
[]
[]
[]
[]
[]
[]
[]
[]
[]
[]
[]
[]
[]
[]
[]
[]
[]
[]
[]
[]
[]
[]
[]
[]
[]
[]
[]
[]
[]
[]
[]
[]
[]
[]
[]
[]
[]
[]
[]
[]
[]
[]
[]
[]
[]
[]
[]
[]
[]
[]
[]
[]
[]
[]
[]
[]
[]
[]
[]
[]
[]
[]
[]
[]
[]
[]
[]
[]
[]
[]
[]
[]
[]
[]
[]
[]
[]
[]
[]
[]
[]
[]
[]
[]
[]
[]
[]
[]
[]
[]
[]
[]
[]
[]
[]
[]
[]
[]
[]
[]
[]
[]
[]
[]
[]
[]
[]
[]
[]
[]
[]
[]
[]
[]
[]
[]
[]
[]
[]
[]
[]
[]
[]
[]
[]
[]
[]
[]
[]
[]
[]
[]
[]
[]
[]
[]
[]
[]
[]
[]
[]
[]
[]
[]
[]
[]
[]
[]
[]
[]
[]
[]
[]
[]
[]
[]
[]
[]
[]
[]
[]
[]
[]
[]
[]
[]
[]
[]
[]
[]
[]
[]
[]
[]
[]
[]
[]
[]
[]
[]
[]
[]
[]
[]
[]
[]
[]
[]
[]
[]
[]
[]
[]
[]
[]
[]
[]
[]
[]
[]
[]
[]
[]
[]
[]
[]
[]
[]
[]
[]
[]
[]
[]
[]
[]
[]
[]
[]
[]
[]
[]
[]
[]
[]
[]
[]
[]
[]
[]
[]
[]
[]
[]
[]
[]
[]
[]
[]
[]
[]
[]
[]
[]
[]
[]
[]
[]
[]
[]
[]
[]
[]
[]
[]
[]
[]
[]
[]
[]
[]
[]
[]
[]
[]
[]
[]
[]
[]
[]
[]
[]
[]
[]
[]
[]
[]
[]
[]
[]
[]
[]
[]
[]
[]
[]
[]
[]
[]
[]
[]
[]
[]
[]
[]
[]
[]
[]
[]
[]
[]
[]
[]
[]
[]
[]
[]
[]
[]
[]
[]
[]
[]
[]
[]
[]
[]
[]
[]
[]
[]
[]
[]
[]
[]
[]
[]
[]
[]
[]
[]
[]
[]
[]
[]
[]
[]
[]
[]
[]
[]
[]
[]
[]
[]
[]
[]
[]
[]
[]
[]
[]
[]
[]
[]
[]
[]
[]
[]
[]
[]
[]
[]
[]
[]
[]
[]
[]
[]
[]
[]
[]
[]
[]
[]
[]
[]
[]
[]
[]
[]
[]
[]
[]
[]
[]
[]
[]
[]
[]
[]
[]
[]
[]
[]
[]
[]
[]
[]
[]
[]
[]
[]
[]
[]
[]
[]
[]
[]
[]
[]
[]
[]
[]
[]
[]
[]
[]
[]
[]
[]
[]
[]
[]
[]
[]
[]
[]
[]
[]
[]
[]
[]
[]
[]
[]
[]
[]
[]
[]
[]
[]
[]
[]
[]
[]
[]
[]
[]
[]
[]
[]
[]
[]
[]
[]
[]
[]
[]
[]
[]
[]
[]
[]
[]
[]
[]
[]
[]
[]
[]
[]
[]
[]
[]
[]
[]
[]
[]
[]
[]
[]
[]
[]
[]
[]
[]
[]
[]
[]
[]
[]
[]
[]
[]
[]
[]
[]
[]
[]
[]
[]
[]
[]
[]
[]
[]
[]
[]
[]
[]
[]
[]
[]
[]
[]
[]
[]
[]
[]
[]
[]
[]
[]
[]
[]
[]
[]
[]
[]
[]
[]
[]
[]
[]
[]
[]
[]
[]
[]
[]
[]
[]
[]
[]
[]
[]
[]
[]
[]
[]
[]
[]
[]
[]
[]
[]
[]
[]
[]
[]
[]
[]
[]
[]
[]
[]
[]
[]
[]
[]
[]
[]
[]
[]
[]
[]
[]
[]
[]
[]
[]
[]
[]
[]
[]
[]
[]
[]
[]
[]
[]
[]
[]
[]
[]
[]
[]
[]
[]
[]
[]
[]
[]
[]
[]
[]
[]
[]
[]
[]
[]
[]
[]
[]
[]
[]
[]
[]
[]
[]
[]
[]
[]
[]
[]
[]
[]
[]
[]
[]
[]
[]
[]
[]
[]
[]
[]
[]
[]
[]
[]
[]
[]
[]
[]
[]
[]
[]
[]
[]
[]
[]
[]
[]
[]
[]
[]
[]
[]
[]
[]
[]
[]
[]
[]
[]
[]
[]
[]
[]
[]
[]
[]
[]
[]
[]
[]
[]
[]
[]
[]
[]
[]
[]
[]
[]
[]
[]
[]
[]
[]
[]
[]
[]
[]
[]
[]
[]
[]
[]
[]
[]
[]
[]
[]
[]
[]
[]
[]
[]
[]
[]
[]
[]
[]
[]
[]
[]
[]
[]
[]
[]
[]
[]
[]
[]
[]
[]
[]
[]
[]
[]
[]
[]
[]
[]
[]
[]
[]
[]
[]
[]
[]
[]
[]
[]
[]
[]
[]
[]
[]
[]
[]
[]
[]
[]
[]
[]
[]
[]
[]
[]
[]
[]
[]
[]
[]
[]
[]
[]
[]
[]
[]
[]
[]
[]
[]
[]
[]
[]
[]
[]
[]
[]
[]
[]
[]
[]
[]
[]
[]
[]
[]
[]
[]
[]
[]
[]
[]
[]
[]
[]
[]
[]
[]
[]
[]
[]
[]
[]
[]
[]
[]
[]
[]
[]
[]
[]
[]
[]
[]
[]
[]
[]
[]
[]
[]
[]
[]
[]
[]
[]
[]
[]
[]
[]
[]
[]
[]
[]
[]
[]
[]
[]
[]
[]
[]
[]
[]
[]
[]
[]
[]
[]
[]
[]
[]
[]
[]
[]
[]
[]
[]
[]
[]
[]
[]
[]
[]
[]
[]
[]
[]
[]
[]
[]
[]
[]
[]
[]
[]
[]
[]
[]
[]
[]
[]
[]
[]
[]
[]
[]
[]
[]
[]
[]
[]
[]
[]
[]
[]
[]
[]
[]
[]
[]
[]
[]
[]
[]
[]
[]
[]
[]
[]
[]
[]
[]
[]
[]
[]
[]
[]
[]
[]
[]
[]
[]
[]
[]
[]
[]
[]
[]
[]
[]
[]
[]
[]
[]
[]
[]
[]
[]
[]
[]
[]
[]
[]
[]
[]
[]
[]
[]
[]
[]
[]
[]
[]
[]
[]
[]
[]
[]
[]
[]
[]
[]
[]
[]
[]
[]
[]
[]
[]
[]
[]
[]
[]
[]
[]
[]
[]
[]
[]
[]
[]
[]
[]
[]
[]
[]
[]
[]
[]
[]
[]
[]
[]
[]
[]
[]
[]
[]
[]
[]
[]
[]
[]
[]
[]
[]
[]
[]
[]
[]
[]
[]
[]
[]
[]
[]
[]
[]
[]
[]
[]
[]
[]
[]
[]
[]
[]
[]
[]
[]
[]
[]
[]
[]
[]
[]
[]
[]
[]
[]
[]
[]
[]
[]
[]
[]
[]
[]
[]
[]
[]
[]
[]
[]
[]
[]
[]
[]
[]
[]
[]
[]
[]
[]
[]
[]
[]
[]
[]
[]
[]
[]
[]
[]
[]
[]
[]
[]
[]
[]
[]
[]
[]
[]
[]
[]
[]
[]
[]
[]
[]
[]
[]
[]
[]
[]
[]
[]
[]
[]
[]
[]
[]
[]
[]
[]
[]
[]
[]
[]
[]
[]
[]
[]
[]
[]
[]
[]
[]
[]
[]
[]
[]
[]
[]
[]
[]
[]
[]
[]
[]
[]
[]
[]
[]
[]
[]
[]
[]
[]
[]
[]
[]
[]
[]
[]
[]
[]
[]
[]
[]
[]
[]
[]
[]
[]
[]
[]
[]
[]
[]
[]
[]
[]
[]
[]
[]
[]
[]
[]
[]
[]
[]
[]
[]
[]
[]
[]
[]
[]
[]
[]
[]
[]
[]
[]
[]
[]
[]
[]
[]
[]
[]
[]
[]
[]
[]
[]
[]
[]
[]
[]
[]
[]
[]
[]
[]
[]
[]
[]
[]
[]
[]
[]
[]
[]
[]
[]
[]
[]
[]
[]
[]
[]
[]
[]
[]
[]
[]
[]
[]
[]
[]
[]
[]
[]
[]
[]
[]
[]
[]
[]
[]
[]
[]
[]
[]
[]
[]
[]
[]
[]
[]
[]
[]
[]
[]
[]
[]
[]
[]
[]
[]
[]
[]
[]
[]
[]
[]
[]
[]
[]
[]
[]
[]
[]
[]
[]
[]
[]
[]
[]
[]
[]
[]
[]
[]
[]
[]
[]
[]
[]
[]
[]
[]
[]
[]
[]
[]
[]
[]
[]
[]
[]
[]
[]
[]
[]
[]
[]
[]
[]
[]
[]
[]
[]
[]
[]
[]
[]
[]
[]
[]
[]
[]
[]
[]
[]
[]
[]
[]
[]
[]
[]
[]
[]
[]
[]
[]
[]
[]
[]
[]
[]
[]
[]
[]
[]
[]
[]
[]
[]
[]
[]
[]
[]
[]
[]
[]
[]
[]
[]
[]
[]
[]
[]
[]
[]
[]
[]
[]
[]
[]
[]
[]
[]
[]
[]
[]
[]
[]
[]
[]
[]
[]
[]
[]
[]
[]
[]
[]
[]
[]
[]
[]
[]
[]
[]
[]
[]
[]
[]
[]
[]
[]
[]
[]
[]
[]
[]
[]
[]
[]
[]
[]
[]
[]
[]
[]
[]
[]
[]
[]
[]
[]
[]
[]
[]
[]
[]
[]
[]
[]
[]
[]
[]
[]
[]
[]
[]
[]
[]
[]
[]
[]
[]
[]
[]
[]
[]
[]
[]
[]
[]
[]
[]
[]
[]
[]
[]
[]
[]
[]
[]
[]
[]
[]
[]
[]
[]
[]
[]
[]
[]
[]
[]
[]
[]
[]
[]
[]
[]
[]
[]
[]
[]
[]
[]
[]
[]
[]
[]
[]
[]
[]
[]
[]
[]
[]
[]
[]
[]
[]
[]
[]
[]
[]
[]
[]
[]
[]
[]
[]
[]
[]
[]
[]
[]
[]
[]
[]
[]
[]
[]
[]
[]
[]
[]
[]
[]
[]
[]
[]
[]
[]
[]
[]
[]
[]
[]
[]
[]
[]
[]
[]
[]
[]
[]
[]
[]
[]
[]
[]
[]
[]
[]
[]
[]
[]
[]
[]
[]
[]
[]
[]
[]
[]
[]
[]
[]
[]
[]
[]
[]
[]
[]
[]
[]
[]
[]
[]
[]
[]
[]
[]
[]
[]
[]
[]
[]
[]
[]
[]
[]
[]
[]
[]
[]
[]
[]
[]
[]
[]
[]
[]
[]
[]
[]
[]
[]
[]
[]
[]
[]
[]
[]
[]
[]
[]
[]
[]
[]
[]
[]
[]
[]
[]
[]
[]
[]
[]
[]
[]
[]
[]
[]
[]
[]
[]
[]
[]
[]
[]
[]
[]
[]
[]
[]
[]
[]
[]
[]
[]
[]
[]
[]
[]
[]
[]
[]
[]
[]
[]
[]
[]
[]
[]
[]
[]
[]
[]
[]
[]
[]
[]
[]
[]
[]
[]
[]
[]
[]
[]
[]
[]
[]
[]
[]
[]
[]
[]
[]
[]
[]
[]
[]
[]
[]
[]
[]
[]
[]
[]
[]
[]
[]
[]
[]
[]
[]
[]
[]
[]
[]
[]
[]
[]
[]
[]
[]
[]
[]
[]
[]
[]
[]
[]
[]
[]
[]
[]
[]
[]
[]
[]
[]
[]
[]
[]
[]
[]
[]
[]
[]
[]
[]
[]
[]
[]
[]
[]
[]
[]
[]
[]
[]
[]
[]
[]
[]
[]
[]
[]
[]
[]
[]
[]
[]
[]
[]
[]
[]
[]
[]
[]
[]
[]
[]
[]
[]
[]
[]
[]
[]
[]
[]
[]
[]
[]
[]
[]
[]
[]
[]
[]
[]
[]
[]
[]
[]
[]
[]
[]
[]
[]
[]
[]
[]
[]
[]
[]
[]
[]
[]
[]
[]
[]
[]
[]
[]
[]
[]
[]
[]
[]
[]
[]
[]
[]
[]
[]
[]
[]
[]
[]
[]
[]
[]
[]
[]
[]
[]
[]
[]
[]
[]
[]
[]
[]
[]
[]
[]
[]
[]
[]
[]
[]
[]
[]
[]
[]
[]
[]
[]
[]
[]
[]
[]
[]
[]
[]
[]
[]
[]
[]
[]
[]
[]
[]
[]
[]
[]
[]
[]
[]
[]
[]
[]
[]
[]
[]
[]
[]
[]
[]
[]
[]
[]
[]
[]
[]
[]
[]
[]
[]
[]
[]
[]
[]
[]
[]
[]
[]
[]
[]
[]
[]
[]
[]
[]
[]
[]
[]
[]
[]
[]
[]
[]
[]
[]
[]
[]
[]
[]
[]
[]
[]
[]
[]
[]
[]
[]
[]
[]
[]
[]
[]
[]
[]
[]
[]
[]
[]
[]
[]
[]
[]
[]
[]
[]
[]
[]
[]
[]
[]
[]
[]
[]
[]
[]
[]
[]
[]
[]
[]
[]
[]
[]
[]
[]
[]
[]
[]
[]
[]
[]
[]
[]
[]
[]
[]
[]
[]
[]
[]
[]
[]
[]
[]
[]
[]
[]
[]
[]
[]
[]
[]
[]
[]
[]
[]
[]
[]
[]
[]
[]
[]
[]
[]
[]
[]
[]
[]
[]
[]
[]
[]
[]
[]
[]
[]
[]
[]
[]
[]
[]
[]
[]
[]
[]
[]
[]
[]
[]
[]
[]
[]
[]
[]
[]
[]
[]
[]
[]
[]
[]
[]
[]
[]
[]
[]
[]
[]
[]
[]
[]
[]
[]
[]
[]
[]
[]
[]
[]
[]
[]
[]
[]
[]
[]
[]
[]
[]
[]
[]
[]
[]
[]
[]
[]
[]
[]
[]
[]
[]
[]
[]
[]
[]
[]
[]
[]
[]
[]
[]
[]
[]
[]
[]
[]
[]
[]
[]
[]
[]
[]
[]
[]
[]
[]
[]
[]
[]
[]
[]
[]
[]
[]
[]
[]
[]
[]
[]
[]
[]
[]
[]
[]
[]
[]
[]
[]
[]
[]
[]
[]
[]
[]
[]
[]
[]
[]
[]
[]
[]
[]
[]
[]
[]
[]
[]
[]
[]
[]
[]
[]
[]
[]
[]
[]
[]
[]
[]
[]
[]
[]
[]
[]
[]
[]
[]
[]
[]
[]
[]
[]
[]
[]
[]
[]
[]
[]
[]
[]
[]
[]
[]
[]
[]
[]
[]
[]
[]
[]
[]
[]
[]
[]
[]
[]
[]
[]
[]
[]
[]
[]
[]
[]
[]
[]
[]
[]
[]
[]
[]
[]
[]
[]
[]
[]
[]
[]
[]
[]
[]
[]
[]
[]
[]
[]
[]
[]
[]
[]
[]
[]
[]
[]
[]
[]
[]
[]
[]
[]
[]
[]
[]
[]
[]
[]
[]
[]
[]
[]
[]
[]
[]
[]
[]
[]
[]
[]
[]
[]
[]
[]
[]
[]
[]
[]
[]
[]
[]
[]
[]
[]
[]
[]
[]
[]
[]
[]
[]
[]
[]
[]
[]
[]
[]
[]
[]
[]
[]
[]
[]
[]
[]
[]
[]
[]
[]
[]
[]
[]
[]
[]
[]
[]
[]
[]
[]
[]
[]
[]
[]
[]
[]
[]
[]
[]
[]
[]
[]
[]
[]
[]
[]
[]
[]
[]
[]
[]
[]
[]
[]
[]
[]
[]
[]
[]
[]
[]
[]
[]
[]
[]
[]
[]
[]
[]
[]
[]
[]
[]
[]
[]
[]
[]
[]
[]
[]
[]
[]
[]
[]
[]
[]
[]
[]
[]
[]
[]
[]
[]
[]
[]
[]
[]
[]
[]
[]
[]
[]
[]
[]
[]
[]
[]
[]
[]
[]
[]
[]
[]
[]
[]
[]
[]
[]
[]
[]
[]
[]
[]
[]
[]
[]
[]
[]
[]
[]
[]
[]
[]
[]
[]
[]
[]
[]
[]
[]
[]
[]
[]
[]
[]
[]
[]
[]
[]
[]
[]
[]
[]
[]
[]
[]
[]
[]
[]
[]
[]
[]
[]
[]
[]
[]
[]
[]
[]
[]
[]
[]
[]
[]
[]
[]
[]
[]
[]
[]
[]
[]
[]
[]
[]
[]
[]
[]
[]
[]
[]
[]
[]
[]
[]
[]
[]
[]
[]
[]
[]
[]
[]
[]
[]
[]
[]
[]
[]
[]
[]
[]
[]
[]
[]
[]
[]
[]
[]
[]
[]
[]
[]
[]
[]
[]
[]
[]
[]
[]
[]
[]
[]
[]
[]
[]
[]
[]
[]
[]
[]
[]
[]
[]
[]
[]
[]
[]
[]
[]
[]
[]
[]
[]
[]
[]
[]
[]
[]
[]
[]
[]
[]
[]
[]
[]
[]
[]
[]
[]
[]
[]
[]
[]
[]
[]
[]
[]
[]
[]
[]
[]
[]
[]
[]
[]
[]
[]
[]
[]
[]
[]
[]
[]
[]
[]
[]
[]
[]
[]
[]
[]
[]
[]
[]
[]
[]
[]
[]
[]
[]
[]
[]
[]
[]
[]
[]
[]
[]
[]
[]
[]
[]
[]
[]
[]
[]
[]
[]
[]
[]
[]
[]
[]
[]
[]
[]
[]
[]
[]
[]
[]
[]
[]
[]
[]
[]
[]
[]
[]
[]
[]
[]
[]
[]
[]
[]
[]
[]
[]
[]
[]
[]
[]
[]
[]
[]
[]
[]
[]
[]
[]
[]
[]
[]
[]
[]
[]
[]
[]
[]
[]
[]
[]
[]
[]
[]
[]
[]
[]
[]
[]
[]
[]
[]
[]
[]
[]
[]
[]
[]
[]
[]
[]
[]
[]
[]
[]
[]
[]
[]
[]
[]
[]
[]
[]
[]
[]
[]
[]
[]
[]
[]
[]
[]
[]
[]
[]
[]
[]
[]
[]
[]
[]
[]
[]
[]
[]
[]
[]
[]
[]
[]
[]
[]
[]
[]
[]
[]
[]
[]
[]
[]
[]
[]
[]
[]
[]
[]
[]
[]
[]
[]
[]
[]
[]
[]
[]
[]
[]
[]
[]
[]
[]
[]
[]
[]
[]
[]
[]
[]
[]
[]
[]
[]
[]
[]
[]
[]
[]
[]
[]
[]
[]
[]
[]
[]
[]
[]
[]
[]
[]
[]
[]
[]
[]
[]
[]
[]
[]
[]
[]
[]
[]
[]
[]
[]
[]
[]
[]
[]
[]
[]
[]
[]
[]
[]
[]
[]
[]
[]
[]
[]
[]
[]
[]
[]
[]
[]
[]
[]
[]
[]
[]
[]
[]
[]
[]
[]
[]
[]
[]
[]
[]
[]
[]
[]
[]
[]
[]
[]
[]
[]
[]
[]
[]
[]
[]
[]
[]
[]
[]
[]
[]
[]
[]
[]
[]
[]
[]
[]
[]
[]
[]
[]
[]
[]
[]
[]
[]
[]
[]
[]
[]
[]
[]
[]
[]
[]
[]
[]
[]
[]
[]
[]
[]
[]
[]
[]
[]
[]
[]
[]
[]
[]
[]
[]
[]
[]
[]
[]
[]
[]
[]
[]
[]
[]
[]
[]
[]
[]
[]
[]
[]
[]
[]
[]
[]
[]
[]
[]
[]
[]
[]
[]
[]
[]
[]
[]
[]
[]
[]
[]
[]
[]
[]
[]
[]
[]
[]
[]
[]
[]
[]
[]
[]
[]
[]
[]
[]
[]
[]
[]
[]
[]
[]
[]
[]
[]
[]
[]
[]
[]
[]
[]
[]
[]
[]
[]
[]
[]
[]
[]
[]
[]
[]
[]
[]
[]
[]
[]
[]
[]
[]
[]
[]
[]
[]
[]
[]
[]
[]
[]
[]
[]
[]
[]
[]
[]
[]
[]
[]
[]
[]
[]
[]
[]
[]
[]
[]
[]
[]
[]
[]
[]
[]
[]
[]
[]
[]
[]
[]
[]
[]
[]
[]
[]
[]
[]
[]
[]
[]
[]
[]
[]
[]
[]
[]
[]
[]
[]
[]
[]
[]
[]
[]
[]
[]
[]
[]
[]
[]
[]
[]
[]
[]
[]
[]
[]
[]
[]
[]
[]
[]
[]
[]
[]
[]
[]
[]
[]
[]
[]
[]
[]
[]
[]
[]
[]
[]
[]
[]
[]
[]
[]
[]
[]
[]
[]
[]
[]
[]
[]
[]
[]
[]
[]
[]
[]
[]
[]
[]
[]
[]
[]
[]
[]
[]
[]
[]
[]
[]
[]
[]
[]
[]
[]
[]
[]
[]
[]
[]
[]
[]
[]
[]
[]
[]
[]
[]
[]
[]
[]
[]
[]
[]
[]
[]
[]
[]
[]
[]
[]
[]
[]
[]
[]
[]
[]
[]
[]
[]
[]
[]
[]
[]
[]
[]
[]
[]
[]
[]
[]
[]
[]
[]
[]
[]
[]
[]
[]
[]
[]
[]
[]
[]
[]
[]
[]
[]
[]
[]
[]
[]
[]
[]
[]
[]
[]
[]
[]
[]
[]
[]
[]
[]
[]
[]
[]
[]
[]
[]
[]
[]
[]
[]
[]
[]
[]
[]
[]
[]
[]
[]
[]
[]
[]
[]
[]
[]
[]
[]
[]
[]
[]
[]
[]
[]
[]
[]
[]
[]
[]
[]
[]
[]
[]
[]
[]
[]
[]
[]
[]
[]
[]
[]
[]
[]
[]
[]
[]
[]
[]
[]
[]
[]
[]
[]
[]
[]
[]
[]
[]
[]
[]
[]
[]
[]
[]
[]
[]
[]
[]
[]
[]
[]
[]
[]
[]
[]
[]
[]
[]
[]
[]
[]
[]
[]
[]
[]
[]
[]
[]
[]
[]
[]
[]
[]
[]
[]
[]
[]
[]
[]
[]
[]
[]
[]
[]
[]
[]
[]
[]
[]
[]
[]
[]
[]
[]
[]
[]
[]
[]
[]
[]
[]
[]
[]
[]
[]
[]
[]
[]
[]
[]
[]
[]
[]
[]
[]
[]
[]
[]
[]
[]
[]
[]
[]
[]
[]
[]
[]
[]
[]
[]
[]
[]
[]
[]
[]
[]
[]
[]
[]
[]
[]
[]
[]
[]
[]
[]
[]
[]
[]
[]
[]
[]
[]
[]
[]
[]
[]
[]
[]
[]
[]
[]
[]
[]
[]
[]
[]
[]
[]
[]
[]
[]
[]
[]
[]
[]
[]
[]
[]
[]
[]
[]
[]
[]
[]
[]
[]
[]
[]
[]
[]
[]
[]
[]
[]
[]
[]
[]
[]
[]
[]
[]
[]
[]
[]
[]
[]
[]
[]
[]
[]
[]
[]
[]
[]
[]
[]
[]
[]
[]
[]
[]
[]
[]
[]
[]
[]
[]
[]
[]
[]
[]
[]
[]
[]
[]
[]
[]
[]
[]
[]
[]
[]
[]
[]
[]
[]
[]
[]
[]
[]
[]
[]
[]
[]
[]
[]
[]
[]
[]
[]
[]
[]
[]
[]
[]
[]
[]
[]
[]
[]
[]
[]
[]
[]
[]
[]
[]
[]
[]
[]
[]
[]
[]
[]
[]
[]
[]
[]
[]
[]
[]
[]
[]
[]
[]
[]
[]
[]
[]
[]
[]
[]
[]
[]
[]
[]
[]
[]
[]
[]
[]
[]
[]
[]
[]
[]
[]
[]
[]
[]
[]
[]
[]
[]
[]
[]
[]
[]
[]
[]
[]
[]
[]
[]
[]
[]
[]
[]
[]
[]
[]
[]
[]
[]
[]
[]
[]
[]
[]
[]
[]
[]
[]
[]
[]
[]
[]
[]
[]
[]
[]
[]
[]
[]
[]
[]
[]
[]
[]
[]
[]
[]
[]
[]
[]
[]
[]
[]
[]
[]
[]
[]
[]
[]
[]
[]
[]
[]
[]
[]
[]
[]
[]
[]
[]
[]
[]
[]
[]
[]
[]
[]
[]
[]
[]
[]
[]
[]
[]
[]
[]
[]
[]
[]
[]
[]
[]
[]
[]
[]
[]
[]
[]
[]
[]
[]
[]
[]
[]
[]
[]
[]
[]
[]
[]
[]
[]
[]
[]
[]
[]
[]
[]
[]
[]
[]
[]
[]
[]
[]
[]
[]
[]
[]
[]
[]
[]
[]
[]
[]
[]
[]
[]
[]
[]
[]
[]
[]
[]
[]
[]
[]
[]
[]
[]
[]
[]
[]
[]
[]
[]
[]
[]
[]
[]
[]
[]
[]
[]
[]
[]
[]
[]
[]
[]
[]
[]
[]
[]
[]
[]
[]
[]
[]
[]
[]
[]
[]
[]
[]
[]
[]
[]
[]
[]
[]
[]
[]
[]
[]
[]
[]
[]
[]
[]
[]
[]
[]
[]
[]
[]
[]
[]
[]
[]
[]
[]
[]
[]
[]
[]
[]
[]
[]
[]
[]
[]
[]
[]
[]
[]
[]
[]
[]
[]
[]
[]
[]
[]
[]
[]
[]
[]
[]
[]
[]
[]
[]
[]
[]
[]
[]
[]
[]
[]
[]
[]
[]
[]
[]
[]
[]
[]
[]
[]
[]
[]
[]
[]
[]
[]
[]
[]
[]
[]
[]
[]
[]
[]
[]
[]
[]
[]
[]
[]
[]
[]
[]
[]
[]
[]
[]
[]
[]
[]
[]
[]
[]
[]
[]
[]
[]
[]
[]
[]
[]
[]
[]
[]
[]
[]
[]
[]
[]
[]
[]
[]
[]
[]
[]
[]
[]
[]
[]
[]
[]
[]
[]
[]
[]
[]
[]
[]
[]
[]
[]
[]
[]
[]
[]
[]
[]
[]
[]
[]
[]
[]
[]
[]
[]
[]
[]
[]
[]
[]
[]
[]
[]
[]
[]
[]
[]
[]
[]
[]
[]
[]
[]
[]
[]
[]
[]
[]
[]
[]
[]
[]
[]
[]
[]
[]
[]
[]
[]
[]
[]
[]
[]
[]
[]
[]
[]
[]
[]
[]
[]
[]
[]
[]
[]
[]
[]
[]
[]
[]
[]
[]
[]
[]
[]
[]
[]
[]
[]
[]
[]
[]
[]
[]
[]
[]
[]
[]
[]
[]
[]
[]
[]
[]
[]
[]
[]
[]
[]
[]
[]
[]
[]
[]
[]
[]
[]
[]
[]
[]
[]
[]
[]
[]
[]
[]
[]
[]
[]
[]
[]
[]
[]
[]
[]
[]
[]
[]
[]
[]
[]
[]
[]
[]
[]
[]
[]
[]
[]
[]
[]
[]
[]
[]
[]
[]
[]
[]
[]
[]
[]
[]
[]
[]
[]
[]
[]
[]
[]
[]
[]
[]
[]
[]
[]
[]
[]
[]
[]
[]
[]
[]
[]
[]
[]
[]
[]
[]
[]
[]
[]
[]
[]
[]
[]
[]
[]
[]
[]
[]
[]
[]
[]
[]
[]
[]
[]
[]
[]
[]
[]
[]
[]
[]
[]
[]
[]
[]
[]
[]
[]
[]
[]
[]
[]
[]
[]
[]
[]
[]
[]
[]
[]
[]
[]
[]
[]
[]
[]
[]
[]
[]
[]
[]
[]
[]
[]
[]
[]
[]
[]
[]
[]
[]
[]
[]
[]
[]
[]
[]
[]
[]
[]
[]
[]
[]
[]
[]
[]
[]
[]
[]
[]
[]
[]
[]
[]
[]
[]
[]
[]
[]
[]
[]
[]
[]
[]
[]
[]
[]
[]
[]
[]
[]
[]
[]
[]
[]
[]
[]
[]
[]
[]
[]
[]
[]
[]
[]
[]
[]
[]
[]
[]
[]
[]
[]
[]
[]
[]
[]
[]
[]
[]
[]
[]
[]
[]
[]
[]
[]
[]
[]
[]
[]
[]
[]
[]
[]
[]
[]
[]
[]
[]
[]
[]
[]
[]
[]
[]
[]
[]
[]
[]
[]
[]
[]
[]
[]
[]
[]
[]
[]
[]
[]
[]
[]
[]
[]
[]
[]
[]
[]
[]
[]
[]
[]
[]
[]
[]
[]
[]
[]
[]
[]
[]
[]
[]
[]
[]
[]
[]
[]
[]
[]
[]
[]
[]
[]
[]
[]
[]
[]
[]
[]
[]
[]
[]
[]
[]
[]
[]
[]
[]
[]
[]
[]
[]
[]
[]
[]
[]
[]
[]
[]
[]
[]
[]
[]
[]
[]
[]
[]
[]
[]
[]
[]
[]
[]
[]
[]
[]
[]
[]
[]
[]
[]
[]
[]
[]
[]
[]
[]
[]
[]
[]
[]
[]
[]
[]
[]
[]
[]
[]
[]
[]
[]
[]
[]
[]
[]
[]
[]
[]
[]
[]
[]
[]
[]
[]
[]
[]
[]
[]
[]
[]
[]
[]
[]
[]
[]
[]
[]
[]
[]
[]
[]
[]
[]
[]
[]
[]
[]
[]
[]
[]
[]
[]
[]
[]
[]
[]
[]
[]
[]
[]
[]
[]
[]
[]
[]
[]
[]
[]
[]
[]
[]
[]
[]
[]
[]
[]
[]
[]
[]
[]
[]
[]
[]
[]
[]
[]
[]
[]
[]
[]
[]
[]
[]
[]
[]
[]
[]
[]
[]
[]
[]
[]
[]
[]
[]
[]
[]
[]
[]
[]
[]
[]
[]
[]
[]
[]
[]
[]
[]
[]
[]
[]
[]
[]
[]
[]
[]
[]
[]
[]
[]
[]
[]
[]
[]
[]
[]
[]
[]
[]
[]
[]
[]
[]
[]
[]
[]
[]
[]
[]
[]
[]
[]
[]
[]
[]
[]
[]
[]
[]
[]
[]
[]
[]
[]
[]
[]
[]
[]
[]
[]
[]
[]
[]
[]
[]
[]
[]
[]
[]
[]
[]
[]
[]
[]
[]
[]
[]
[]
[]
[]
[]
[]
[]
[]
[]
[]
[]
[]
[]
[]
[]
[]
[]
[]
[]
[]
[]
[]
[]
[]
[]
[]
[]
[]
[]
[]
[]
[]
[]
[]
[]
[]
[]
[]
[]
[]
[]
[]
[]
[]
[]
[]
[]
[]
[]
[]
[]
[]
[]
[]
[]
[]
[]
[]
[]
[]
[]
[]
[]
[]
[]
[]
[]
[]
[]
[]
[]
[]
[]
[]
[]
[]
[]
[]
[]
[]
[]
[]
[]
[]
[]
[]
[]
[]
[]
[]
[]
[]
[]
[]
[]
[]
[]
[]
[]
[]
[]
[]
[]
[]
[]
[]
[]
[]
[]
[]
[]
[]
[]
[]
[]
[]
[]
[]
[]
[]
[]
[]
[]
[]
[]
[]
[]
[]
[]
[]
[]
[]
[]
[]
[]
[]
[]
[]
[]
[]
[]
[]
[]
[]
[]
[]
[]
[]
[]
[]
[]
[]
[]
[]
[]
[]
[]
[]
[]
[]
[]
[]
[]
[]
[]
[]
[]
[]
[]
[]
[]
[]
[]
[]
[]
[]
[]
[]
[]
[]
[]
[]
[]
[]
[]
[]
[]
[]
[]
[]
[]
[]
[]
[]
[]
[]
[]
[]
[]
[]
[]
[]
[]
[]
[]
[]
[]
[]
[]
[]
[]
[]
[]
[]
[]
[]
[]
[]
[]
[]
[]
[]
[]
[]
[]
[]
[]
[]
[]
[]
[]
[]
[]
[]
[]
[]
[]
[]
[]
[]
[]
[]
[]
[]
[]
[]
[]
[]
[]
[]
[]
[]
[]
[]
[]
[]
[]
[]
[]
[]
[]
[]
[]
[]
[]
[]
[]
[]
[]
[]
[]
[]
[]
[]
[]
[]
[]
[]
[]
[]
[]
[]
[]
[]
[]
[]
[]
[]
[]
[]
[]
[]
[]
[]
[]
[]
[]
[]
[]
[]
[]
[]
[]
[]
[]
[]
[]
[]
[]
[]
[]
[]
[]
[]
[]
[]
[]
[]
[]
[]
[]
[]
[]
[]
[]
[]
[]
[]
[]
[]
[]
[]
[]
[]
[]
[]
[]
[]
[]
[]
[]
[]
[]
[]
[]
[]
[]
[]
[]
[]
[]
[]
[]
[]
[]
[]
[]
[]
[]
[]
[]
[]
[]
[]
[]
[]
[]
[]
[]
[]
[]
[]
[]
[]
[]
[]
[]
[]
[]
[]
[]
[]
[]
[]
[]
[]
[]
[]
[]
[]
[]
[]
[]
[]
[]
[]
[]
[]
[]
[]
[]
[]
[]
[]
[]
[]
[]
[]
[]
[]
[]
[]
[]
[]
[]
[]
[]
[]
[]
[]
[]
[]
[]
[]
[]
[]
[]
[]
[]
[]
[]
[]
[]
[]
[]
[]
[]
[]
[]
[]
[]
[]
[]
[]
[]
[]
[]
[]
[]
[]
[]
[]
[]
[]
[]
[]
[]
[]
[]
[]
[]
[]
[]
[]
[]
[]
[]
[]
[]
[]
[]
[]
[]
[]
[]
[]
[]
[]
[]
[]
[]
[]
[]
[]
[]
[]
[]
[]
[]
[]
[]
[]
[]
[]
[]
[]
[]
[]
[]
[]
[]
[]
[]
[]
[]
[]
[]
[]
[]
[]
[]
[]
[]
[]
[]
[]
[]
[]
[]
[]
[]
[]
[]
[]
[]
[]
[]
[]
[]
[]
[]
[]
[]
[]
[]
[]
[]
[]
[]
[]
[]
[]
[]
[]
[]
[]
[]
[]
[]
[]
[]
[]
[]
[]
[]
[]
[]
[]
[]
[]
[]
[]
[]
[]
[]
[]
[]
[]
[]
[]
[]
[]
[]
[]
[]
[]
[]
[]
[]
[]
[]
[]
[]
[]
[]
[]
[]
[]
[]
[]
[]
[]
[]
[]
[]
[]
[]
[]
[]
[]
[]
[]
[]
[]
[]
[]
[]
[]
[]
[]
[]
[]
[]
[]
[]
[]
[]
[]
[]
[]
[]
[]
[]
[]
[]
[]
[]
[]
[]
[]
[]
[]
[]
[]
[]
[]
[]
[]
[]
[]
[]
[]
[]
[]
[]
[]
[]
[]
[]
[]
[]
[]
[]
[]
[]
[]
[]
[]
[]
[]
[]
[]
[]
[]
[]
[]
[]
[]
[]
[]
[]
[]
[]
[]
[]
[]
[]
[]
[]
[]
[]
[]
[]
[]
[]
[]
[]
[]
[]
[]
[]
[]
[]
[]
[]
[]
[]
[]
[]
[]
[]
[]
[]
[]
[]
[]
[]
[]
[]
[]
[]
[]
[]
[]
[]
[]
[]
[]
[]
[]
[]
[]
[]
[]
[]
[]
[]
[]
[]
[]
[]
[]
[]
[]
[]
[]
[]
[]
[]
[]
[]
[]
[]
[]
[]
[]
[]
[]
[]
[]
[]
[]
[]
[]
[]
[]
[]
[]
[]
[]
[]
[]
[]
[]
[]
[]
[]
[]
[]
[]
[]
[]
[]
[]
[]
[]
[]
[]
[]
[]
[]
[]
[]
[]
[]
[]
[]
[]
[]
[]
[]
[]
[]
[]
[]
[]
[]
[]
[]
[]
[]
[]
[]
[]
[]
[]
[]
[]
[]
[]
[]
[]
[]
[]
[]
[]
[]
[]
[]
[]
[]
[]
[]
[]
[]
[]
[]
[]
[]
[]
[]
[]
[]
[]
[]
[]
[]
[]
[]
[]
[]
[]
[]
[]
[]
[]
[]
[]
[]
[]
[]
[]
[]
[]
[]
[]
[]
[]
[]
[]
[]
[]
[]
[]
[]
[]
[]
[]
[]
[]
[]
[]
[]
[]
[]
[]
[]
[]
[]
[]
[]
[]
[]
[]
[]
[]
[]
[]
[]
[]
[]
[]
[]
[]
[]
[]
[]
[]
[]
[]
[]
[]
[]
[]
[]
[]
[]
[]
[]
[]
[]
[]
[]
[]
[]
[]
[]
[]
[]
[]
[]
[]
[]
[]
[]
[]
[]
[]
[]
[]
[]
[]
[]
[]
[]
[]
[]
[]
[]
[]
[]
[]
[]
[]
[]
[]
[]
[]
[]
[]
[]
[]
[]
[]
[]
[]
[]
[]
[]
[]
[]
[]
[]
[]
[]
[]
[]
[]
[]
[]
[]
[]
[]
[]
[]
[]
[]
[]
[]
[]
[]
[]
[]
[]
[]
[]
[null,"※行を増やしたい際は、この行の上に挿入するようにしてください｡"]

{"sheet":"管路布設情報入力","index":13,"n_rows":7810,"n_cols":132,"rows_kept":1125,"cut":true,"hidden":false,"merged":[[8,130,9,130],[8,131,9,131],[9,0,9,3],[5,0,8,0],[8,129,9,129],[8,128,9,128],[8,126,9,126],[5,1,5,3],[6,1,6,3],[7,1,7,3],[8,1,8,3],[3,0,4,0],[3,1,4,1],[3,6,4,6],[8,127,9,127],[3,123,4,123],[3,124,4,124],[3,7,4,7],[3,9,4,9],[3,8,4,8],[3,5,4,5],[3,2,4,2],[3,3,4,3]],"bounds":{"rows_first":500,"rows_last":125,"rows_between":500,"halvings":2}}
["●用途・管種別の布設延長"]
[]
["単価情報","←独自単価を用いる場合は事前に設定してください。",null,null,null,null,null,null,null,null,null,12,{"$f":"L3+1","v":13},{"$f":"M3+1","v":14},15,16,17,18,19,20,21,22,23,24,25,26,27,28,29,30,31,32,33,34,35,36,37,38,39,40,41,42,43,44,45,46,47,48,49,50,51,52,53,54,55,56,57,58,59,60,61,62,63,64,65,66,67,68,69,70,71,72,73,74,75,76,77,{"$f":"BY3+1","v":78},79,80,81,82,83,84,85,86,87,88,89,90,91,92,93,94,95,96,97,98,99,100,101,102,103,104,105,106,107,108,109,110,111,112,113,114,115,116,117,118,119,120,121,122]
["用途","水道統計（公益社団法人 日本水道協会）の管種区分","口径\n(mm)","施工区分","延長","布設年度","改築\n単価","再改築\n単価","改築費\n（千円）","再改築費\n（千円）","布設期間","年度別布設延長",null,null,null,null,null,null,null,null,null,null,null,null,null,null,null,null,null,null,null,null,null,null,null,null,null,null,null,null,null,null,null,null,null,null,null,null,null,null,null,null,null,null,null,null,null,null,null,null,null,null,null,null,null,null,null,null,null,null,null,null,null,null,null,null,null,null,null,null,null,null,null,null,null,null,null,null,null,null,null,null,null,null,null,null,null,null,null,null,null,null,null,null,null,null,null,null,null,null,null,null,null,null,null,null,null,null,null,null,null,null,null,"施設","管種\nコード"]
[null,null,null,null,"（m）",null,null,null,null,null,"平均延長",{"$f":"$F$3","v":0},{"$f":"L5+1","v":1},{"$f":"M5+1","v":2},3,4,5,6,7,8,9,10,11,12,13,14,15,16,17,18,19,20,21,22,23,24,25,26,27,28,29,30,31,32,33,34,35,36,37,38,39,40,41,42,43,44,45,46,47,48,49,50,51,52,53,54,55,56,57,58,59,60,61,62,63,64,65,{"$f":"BY5+1","v":66},67,68,69,70,71,72,73,74,75,76,77,78,79,80,81,82,83,84,85,86,87,88,89,90,91,92,93,94,95,96,97,98,99,100,101,102,103,104,105,106,107,108,109,110,"（合計）"]
["施設別計","取・導水管",null,null,{"$f":"SUMIF($DT$11:$DT$7805,$B6,E$11:E$7805)","v":0},null,null,null,{"$f":"SUMIF($DT$11:$DT$7805,$B6,I$11:I$7805)","v":0},0]
[null,"送水管",null,null,{"$f":"SUMIF($DT$11:$DT$7805,$B7,E$11:E$7805)","v":0},null,null,null,0,0]
[null,"配水本管",null,null,0,null,null,null,0,0,null,null,null,null,null,null,null,null,null,null,null,null,null,null,null,null,null,null,null,null,null,null,null,null,null,null,null,null,null,null,null,null,null,null,null,null,null,null,null,null,null,null,null,null,null,null,null,null,null,null,null,null,null,null,null,null,null,null,null,null,null,null,null,null,null,null,null,null,null,null,null,null,null,null,null,null,null,null,null,null,null,null,null,null,null,null,null,null,null,null,null,null,null,null,null,null,null,null,null,null,null,null,null,null,null,null,null,null,null,null,null,null,null,null,null,null,"ドロップダウンリスト情報"]
[null,"配水支管",null,null,0,null,null,null,0,0,null,null,null,null,null,null,null,null,null,null,null,null,null,null,null,null,null,null,null,null,null,null,null,null,null,null,null,null,null,null,null,null,null,null,null,null,null,null,null,null,null,null,null,null,null,null,null,null,null,null,null,null,null,null,null,null,null,null,null,null,null,null,null,null,null,null,null,null,null,null,null,null,null,null,null,null,null,null,null,null,null,null,null,null,null,null,null,null,null,null,null,null,null,null,null,null,null,null,null,null,null,null,null,null,null,null,null,null,null,null,null,null,null,null,null,null,"用途","施設","管種","管種\nコード","口径","施工区分"]
["総合計",null,null,null,{"$f":"SUM(E11:E7805)","v":0},null,null,null,{"$f":"SUM(I11:I7805)","v":0},{"$f":"SUM(J11:J7805)","v":0}]
[null,null,null,null,null,null,{"$f":"IF($D11=\"\",0,VLOOKUP(($DU11&$C11&$D11),単価情報!$B$66:$C$932,2,FALSE))","v":0},{"$f":"G11","v":0},{"$f":"E11*G11","v":0},{"$f":"E11*H11","v":0},{"$f":"IF(E11=0,0,ROUND(E11/#REF!,1))","v":0},{"$f":"IF(L$5>=$F11,IF(L$5<=#REF!,$K11,0),0)","v":{"$error":"#REF!"}},{"$f":"IF(M$5>=$F11,IF(M$5<=#REF!,$K11,0),0)","v":{"$error":"#REF!"}},{"$f":"IF(N$5>=$F11,IF(N$5<=#REF!,$K11,0),0)","v":{"$error":"#REF!"}},{"$f":"IF(O$5>=$F11,IF(O$5<=#REF!,$K11,0),0)","v":{"$error":"#REF!"}},{"$f":"IF(P$5>=$F11,IF(P$5<=#REF!,$K11,0),0)","v":{"$error":"#REF!"}},{"$f":"IF(Q$5>=$F11,IF(Q$5<=#REF!,$K11,0),0)","v":{"$error":"#REF!"}},{"$f":"IF(R$5>=$F11,IF(R$5<=#REF!,$K11,0),0)","v":{"$error":"#REF!"}},{"$f":"IF(S$5>=$F11,IF(S$5<=#REF!,$K11,0),0)","v":{"$error":"#REF!"}},{"$f":"IF(T$5>=$F11,IF(T$5<=#REF!,$K11,0),0)","v":{"$error":"#REF!"}},{"$f":"IF(U$5>=$F11,IF(U$5<=#REF!,$K11,0),0)","v":{"$error":"#REF!"}},{"$f":"IF(V$5>=$F11,IF(V$5<=#REF!,$K11,0),0)","v":{"$error":"#REF!"}},{"$f":"IF(W$5>=$F11,IF(W$5<=#REF!,$K11,0),0)","v":{"$error":"#REF!"}},{"$f":"IF(X$5>=$F11,IF(X$5<=#REF!,$K11,0),0)","v":{"$error":"#REF!"}},{"$f":"IF(Y$5>=$F11,IF(Y$5<=#REF!,$K11,0),0)","v":{"$error":"#REF!"}},{"$f":"IF(Z$5>=$F11,IF(Z$5<=#REF!,$K11,0),0)","v":{"$error":"#REF!"}},{"$f":"IF(AA$5>=$F11,IF(AA$5<=#REF!,$K11,0),0)","v":{"$error":"#REF!"}},{"$f":"IF(AB$5>=$F11,IF(AB$5<=#REF!,$K11,0),0)","v":{"$error":"#REF!"}},{"$f":"IF(AC$5>=$F11,IF(AC$5<=#REF!,$K11,0),0)","v":{"$error":"#REF!"}},{"$f":"IF(AD$5>=$F11,IF(AD$5<=#REF!,$K11,0),0)","v":{"$error":"#REF!"}},{"$f":"IF(AE$5>=$F11,IF(AE$5<=#REF!,$K11,0),0)","v":{"$error":"#REF!"}},{"$f":"IF(AF$5>=$F11,IF(AF$5<=#REF!,$K11,0),0)","v":{"$error":"#REF!"}},{"$f":"IF(AG$5>=$F11,IF(AG$5<=#REF!,$K11,0),0)","v":{"$error":"#REF!"}},{"$f":"IF(AH$5>=$F11,IF(AH$5<=#REF!,$K11,0),0)","v":{"$error":"#REF!"}},{"$f":"IF(AI$5>=$F11,IF(AI$5<=#REF!,$K11,0),0)","v":{"$error":"#REF!"}},{"$f":"IF(AJ$5>=$F11,IF(AJ$5<=#REF!,$K11,0),0)","v":{"$error":"#REF!"}},{"$f":"IF(AK$5>=$F11,IF(AK$5<=#REF!,$K11,0),0)","v":{"$error":"#REF!"}},{"$f":"IF(AL$5>=$F11,IF(AL$5<=#REF!,$K11,0),0)","v":{"$error":"#REF!"}},{"$f":"IF(AM$5>=$F11,IF(AM$5<=#REF!,$K11,0),0)","v":{"$error":"#REF!"}},{"$f":"IF(AN$5>=$F11,IF(AN$5<=#REF!,$K11,0),0)","v":{"$error":"#REF!"}},{"$f":"IF(AO$5>=$F11,IF(AO$5<=#REF!,$K11,0),0)","v":{"$error":"#REF!"}},{"$f":"IF(AP$5>=$F11,IF(AP$5<=#REF!,$K11,0),0)","v":{"$error":"#REF!"}},{"$f":"IF(AQ$5>=$F11,IF(AQ$5<=#REF!,$K11,0),0)","v":{"$error":"#REF!"}},{"$f":"IF(AR$5>=$F11,IF(AR$5<=#REF!,$K11,0),0)","v":{"$error":"#REF!"}},{"$f":"IF(AS$5>=$F11,IF(AS$5<=#REF!,$K11,0),0)","v":{"$error":"#REF!"}},{"$f":"IF(AT$5>=$F11,IF(AT$5<=#REF!,$K11,0),0)","v":{"$error":"#REF!"}},{"$f":"IF(AU$5>=$F11,IF(AU$5<=#REF!,$K11,0),0)","v":{"$error":"#REF!"}},{"$f":"IF(AV$5>=$F11,IF(AV$5<=#REF!,$K11,0),0)","v":{"$error":"#REF!"}},{"$f":"IF(AW$5>=$F11,IF(AW$5<=#REF!,$K11,0),0)","v":{"$error":"#REF!"}},{"$f":"IF(AX$5>=$F11,IF(AX$5<=#REF!,$K11,0),0)","v":{"$error":"#REF!"}},{"$f":"IF(AY$5>=$F11,IF(AY$5<=#REF!,$K11,0),0)","v":{"$error":"#REF!"}},{"$f":"IF(AZ$5>=$F11,IF(AZ$5<=#REF!,$K11,0),0)","v":{"$error":"#REF!"}},{"$f":"IF(BA$5>=$F11,IF(BA$5<=#REF!,$K11,0),0)","v":{"$error":"#REF!"}},{"$f":"IF(BB$5>=$F11,IF(BB$5<=#REF!,$K11,0),0)","v":{"$error":"#REF!"}},{"$f":"IF(BC$5>=$F11,IF(BC$5<=#REF!,$K11,0),0)","v":{"$error":"#REF!"}},{"$f":"IF(BD$5>=$F11,IF(BD$5<=#REF!,$K11,0),0)","v":{"$error":"#REF!"}},{"$f":"IF(BE$5>=$F11,IF(BE$5<=#REF!,$K11,0),0)","v":{"$error":"#REF!"}},{"$f":"IF(BF$5>=$F11,IF(BF$5<=#REF!,$K11,0),0)","v":{"$error":"#REF!"}},{"$f":"IF(BG$5>=$F11,IF(BG$5<=#REF!,$K11,0),0)","v":{"$error":"#REF!"}},{"$f":"IF(BH$5>=$F11,IF(BH$5<=#REF!,$K11,0),0)","v":{"$error":"#REF!"}},{"$f":"IF(BI$5>=$F11,IF(BI$5<=#REF!,$K11,0),0)","v":{"$error":"#REF!"}},{"$f":"IF(BJ$5>=$F11,IF(BJ$5<=#REF!,$K11,0),0)","v":{"$error":"#REF!"}},{"$f":"IF(BK$5>=$F11,IF(BK$5<=#REF!,$K11,0),0)","v":{"$error":"#REF!"}},{"$f":"IF(BL$5>=$F11,IF(BL$5<=#REF!,$K11,0),0)","v":{"$error":"#REF!"}},{"$f":"IF(BM$5>=$F11,IF(BM$5<=#REF!,$K11,0),0)","v":{"$error":"#REF!"}},{"$f":"IF(BN$5>=$F11,IF(BN$5<=#REF!,$K11,0),0)","v":{"$error":"#REF!"}},{"$f":"IF(BO$5>=$F11,IF(BO$5<=#REF!,$K11,0),0)","v":{"$error":"#REF!"}},{"$f":"IF(BP$5>=$F11,IF(BP$5<=#REF!,$K11,0),0)","v":{"$error":"#REF!"}},{"$f":"IF(BQ$5>=$F11,IF(BQ$5<=#REF!,$K11,0),0)","v":{"$error":"#REF!"}},{"$f":"IF(BR$5>=$F11,IF(BR$5<=#REF!,$K11,0),0)","v":{"$error":"#REF!"}},{"$f":"IF(BS$5>=$F11,IF(BS$5<=#REF!,$K11,0),0)","v":{"$error":"#REF!"}},{"$f":"IF(BT$5>=$F11,IF(BT$5<=#REF!,$K11,0),0)","v":{"$error":"#REF!"}},{"$f":"IF(BU$5>=$F11,IF(BU$5<=#REF!,$K11,0),0)","v":{"$error":"#REF!"}},{"$f":"IF(BV$5>=$F11,IF(BV$5<=#REF!,$K11,0),0)","v":{"$error":"#REF!"}},{"$f":"IF(BW$5>=$F11,IF(BW$5<=#REF!,$K11,0),0)","v":{"$error":"#REF!"}},{"$f":"IF(BX$5>=$F11,IF(BX$5<=#REF!,$K11,0),0)","v":{"$error":"#REF!"}},{"$f":"IF(BY$5>=$F11,IF(BY$5<=#REF!,$K11,0),0)","v":{"$error":"#REF!"}},{"$f":"IF(BZ$5>=$F11,IF(BZ$5<=#REF!,$K11,0),0)","v":{"$error":"#REF!"}},{"$f":"IF(CA$5>=$F11,IF(CA$5<=#REF!,$K11,0),0)","v":{"$error":"#REF!"}},{"$f":"IF(CB$5>=$F11,IF(CB$5<=#REF!,$K11,0),0)","v":{"$error":"#REF!"}},{"$f":"IF(CC$5>=$F11,IF(CC$5<=#REF!,$K11,0),0)","v":{"$error":"#REF!"}},{"$f":"IF(CD$5>=$F11,IF(CD$5<=#REF!,$K11,0),0)","v":{"$error":"#REF!"}},{"$f":"IF(CE$5>=$F11,IF(CE$5<=#REF!,$K11,0),0)","v":{"$error":"#REF!"}},{"$f":"IF(CF$5>=$F11,IF(CF$5<=#REF!,$K11,0),0)","v":{"$error":"#REF!"}},{"$f":"IF(CG$5>=$F11,IF(CG$5<=#REF!,$K11,0),0)","v":{"$error":"#REF!"}},{"$f":"IF(CH$5>=$F11,IF(CH$5<=#REF!,$K11,0),0)","v":{"$error":"#REF!"}},{"$f":"IF(CI$5>=$F11,IF(CI$5<=#REF!,$K11,0),0)","v":{"$error":"#REF!"}},{"$f":"IF(CJ$5>=$F11,IF(CJ$5<=#REF!,$K11,0),0)","v":{"$error":"#REF!"}},{"$f":"IF(CK$5>=$F11,IF(CK$5<=#REF!,$K11,0),0)","v":{"$error":"#REF!"}},{"$f":"IF(CL$5>=$F11,IF(CL$5<=#REF!,$K11,0),0)","v":{"$error":"#REF!"}},{"$f":"IF(CM$5>=$F11,IF(CM$5<=#REF!,$K11,0),0)","v":{"$error":"#REF!"}},{"$f":"IF(CN$5>=$F11,IF(CN$5<=#REF!,$K11,0),0)","v":{"$error":"#REF!"}},{"$f":"IF(CO$5>=$F11,IF(CO$5<=#REF!,$K11,0),0)","v":{"$error":"#REF!"}},{"$f":"IF(CP$5>=$F11,IF(CP$5<=#REF!,$K11,0),0)","v":{"$error":"#REF!"}},{"$f":"IF(CQ$5>=$F11,IF(CQ$5<=#REF!,$K11,0),0)","v":{"$error":"#REF!"}},{"$f":"IF(CR$5>=$F11,IF(CR$5<=#REF!,$K11,0),0)","v":{"$error":"#REF!"}},{"$f":"IF(CS$5>=$F11,IF(CS$5<=#REF!,$K11,0),0)","v":{"$error":"#REF!"}},{"$f":"IF(CT$5>=$F11,IF(CT$5<=#REF!,$K11,0),0)","v":{"$error":"#REF!"}},{"$f":"IF(CU$5>=$F11,IF(CU$5<=#REF!,$K11,0),0)","v":{"$error":"#REF!"}},{"$f":"IF(CV$5>=$F11,IF(CV$5<=#REF!,$K11,0),0)","v":{"$error":"#REF!"}},{"$f":"IF(CW$5>=$F11,IF(CW$5<=#REF!,$K11,0),0)","v":{"$error":"#REF!"}},{"$f":"IF(CX$5>=$F11,IF(CX$5<=#REF!,$K11,0),0)","v":{"$error":"#REF!"}},{"$f":"IF(CY$5>=$F11,IF(CY$5<=#REF!,$K11,0),0)","v":{"$error":"#REF!"}},{"$f":"IF(CZ$5>=$F11,IF(CZ$5<=#REF!,$K11,0),0)","v":{"$error":"#REF!"}},{"$f":"IF(DA$5>=$F11,IF(DA$5<=#REF!,$K11,0),0)","v":{"$error":"#REF!"}},{"$f":"IF(DB$5>=$F11,IF(DB$5<=#REF!,$K11,0),0)","v":{"$error":"#REF!"}},{"$f":"IF(DC$5>=$F11,IF(DC$5<=#REF!,$K11,0),0)","v":{"$error":"#REF!"}},{"$f":"IF(DD$5>=$F11,IF(DD$5<=#REF!,$K11,0),0)","v":{"$error":"#REF!"}},{"$f":"IF(DE$5>=$F11,IF(DE$5<=#REF!,$K11,0),0)","v":{"$error":"#REF!"}},{"$f":"IF(DF$5>=$F11,IF(DF$5<=#REF!,$K11,0),0)","v":{"$error":"#REF!"}},{"$f":"IF(DG$5>=$F11,IF(DG$5<=#REF!,$K11,0),0)","v":{"$error":"#REF!"}},{"$f":"IF(DH$5>=$F11,IF(DH$5<=#REF!,$K11,0),0)","v":{"$error":"#REF!"}},{"$f":"IF(DI$5>=$F11,IF(DI$5<=#REF!,$K11,0),0)","v":{"$error":"#REF!"}},{"$f":"IF(DJ$5>=$F11,IF(DJ$5<=#REF!,$K11,0),0)","v":{"$error":"#REF!"}},{"$f":"IF(DK$5>=$F11,IF(DK$5<=#REF!,$K11,0),0)","v":{"$error":"#REF!"}},{"$f":"IF(DL$5>=$F11,IF(DL$5<=#REF!,$K11,0),0)","v":{"$error":"#REF!"}},{"$f":"IF(DM$5>=$F11,IF(DM$5<=#REF!,$K11,0),0)","v":{"$error":"#REF!"}},{"$f":"IF(DN$5>=$F11,IF(DN$5<=#REF!,$K11,0),0)","v":{"$error":"#REF!"}},{"$f":"IF(DO$5>=$F11,IF(DO$5<=#REF!,$K11,0),0)","v":{"$error":"#REF!"}},{"$f":"IF(DP$5>=$F11,IF(DP$5<=#REF!,$K11,0),0)","v":{"$error":"#REF!"}},{"$f":"IF(DQ$5>=$F11,IF(DQ$5<=#REF!,$K11,0),0)","v":{"$error":"#REF!"}},{"$f":"IF(DR$5>=$F11,IF(DR$5<=#REF!,$K11,0),0)","v":{"$error":"#REF!"}},{"$f":"SUM(L11:DR11)","v":{"$error":"#REF!"}},{"$f":"IF($B11=\"\",\"\",VLOOKUP($A11,$DW$11:$DX$18,2,FALSE))","v":""},{"$f":"IF($B11=\"\",\"\",VLOOKUP($B11,$DY$11:$DZ$27,2,FALSE))","v":""},null,"導水管","取・導水管","鋳鉄管　（ダクタイル鋳鉄管は含まない） (m)","A1",50,"無舗装、昼間施工"]
[null,null,null,null,null,null,{"$f":"IF($D12=\"\",0,VLOOKUP(($DU12&$C12&$D12),単価情報!$B$66:$C$932,2,FALSE))","v":0},{"$f":"G12","v":0},{"$f":"E12*G12","v":0},0,{"$f":"IF(E12=0,0,ROUND(E12/#REF!,1))","v":0},{"$f":"IF(L$5>=$F12,IF(L$5<=#REF!,$K12,0),0)","v":{"$error":"#REF!"}},{"$f":"IF(M$5>=$F12,IF(M$5<=#REF!,$K12,0),0)","v":{"$error":"#REF!"}},{"$f":"IF(N$5>=$F12,IF(N$5<=#REF!,$K12,0),0)","v":{"$error":"#REF!"}},{"$f":"IF(O$5>=$F12,IF(O$5<=#REF!,$K12,0),0)","v":{"$error":"#REF!"}},{"$f":"IF(P$5>=$F12,IF(P$5<=#REF!,$K12,0),0)","v":{"$error":"#REF!"}},{"$f":"IF(Q$5>=$F12,IF(Q$5<=#REF!,$K12,0),0)","v":{"$error":"#REF!"}},{"$f":"IF(R$5>=$F12,IF(R$5<=#REF!,$K12,0),0)","v":{"$error":"#REF!"}},{"$f":"IF(S$5>=$F12,IF(S$5<=#REF!,$K12,0),0)","v":{"$error":"#REF!"}},{"$f":"IF(T$5>=$F12,IF(T$5<=#REF!,$K12,0),0)","v":{"$error":"#REF!"}},{"$f":"IF(U$5>=$F12,IF(U$5<=#REF!,$K12,0),0)","v":{"$error":"#REF!"}},{"$f":"IF(V$5>=$F12,IF(V$5<=#REF!,$K12,0),0)","v":{"$error":"#REF!"}},{"$f":"IF(W$5>=$F12,IF(W$5<=#REF!,$K12,0),0)","v":{"$error":"#REF!"}},{"$f":"IF(X$5>=$F12,IF(X$5<=#REF!,$K12,0),0)","v":{"$error":"#REF!"}},{"$f":"IF(Y$5>=$F12,IF(Y$5<=#REF!,$K12,0),0)","v":{"$error":"#REF!"}},{"$f":"IF(Z$5>=$F12,IF(Z$5<=#REF!,$K12,0),0)","v":{"$error":"#REF!"}},{"$f":"IF(AA$5>=$F12,IF(AA$5<=#REF!,$K12,0),0)","v":{"$error":"#REF!"}},{"$f":"IF(AB$5>=$F12,IF(AB$5<=#REF!,$K12,0),0)","v":{"$error":"#REF!"}},{"$f":"IF(AC$5>=$F12,IF(AC$5<=#REF!,$K12,0),0)","v":{"$error":"#REF!"}},{"$f":"IF(AD$5>=$F12,IF(AD$5<=#REF!,$K12,0),0)","v":{"$error":"#REF!"}},{"$f":"IF(AE$5>=$F12,IF(AE$5<=#REF!,$K12,0),0)","v":{"$error":"#REF!"}},{"$f":"IF(AF$5>=$F12,IF(AF$5<=#REF!,$K12,0),0)","v":{"$error":"#REF!"}},{"$f":"IF(AG$5>=$F12,IF(AG$5<=#REF!,$K12,0),0)","v":{"$error":"#REF!"}},{"$f":"IF(AH$5>=$F12,IF(AH$5<=#REF!,$K12,0),0)","v":{"$error":"#REF!"}},{"$f":"IF(AI$5>=$F12,IF(AI$5<=#REF!,$K12,0),0)","v":{"$error":"#REF!"}},{"$f":"IF(AJ$5>=$F12,IF(AJ$5<=#REF!,$K12,0),0)","v":{"$error":"#REF!"}},{"$f":"IF(AK$5>=$F12,IF(AK$5<=#REF!,$K12,0),0)","v":{"$error":"#REF!"}},{"$f":"IF(AL$5>=$F12,IF(AL$5<=#REF!,$K12,0),0)","v":{"$error":"#REF!"}},{"$f":"IF(AM$5>=$F12,IF(AM$5<=#REF!,$K12,0),0)","v":{"$error":"#REF!"}},{"$f":"IF(AN$5>=$F12,IF(AN$5<=#REF!,$K12,0),0)","v":{"$error":"#REF!"}},{"$f":"IF(AO$5>=$F12,IF(AO$5<=#REF!,$K12,0),0)","v":{"$error":"#REF!"}},{"$f":"IF(AP$5>=$F12,IF(AP$5<=#REF!,$K12,0),0)","v":{"$error":"#REF!"}},{"$f":"IF(AQ$5>=$F12,IF(AQ$5<=#REF!,$K12,0),0)","v":{"$error":"#REF!"}},{"$f":"IF(AR$5>=$F12,IF(AR$5<=#REF!,$K12,0),0)","v":{"$error":"#REF!"}},{"$f":"IF(AS$5>=$F12,IF(AS$5<=#REF!,$K12,0),0)","v":{"$error":"#REF!"}},{"$f":"IF(AT$5>=$F12,IF(AT$5<=#REF!,$K12,0),0)","v":{"$error":"#REF!"}},{"$f":"IF(AU$5>=$F12,IF(AU$5<=#REF!,$K12,0),0)","v":{"$error":"#REF!"}},{"$f":"IF(AV$5>=$F12,IF(AV$5<=#REF!,$K12,0),0)","v":{"$error":"#REF!"}},{"$f":"IF(AW$5>=$F12,IF(AW$5<=#REF!,$K12,0),0)","v":{"$error":"#REF!"}},{"$f":"IF(AX$5>=$F12,IF(AX$5<=#REF!,$K12,0),0)","v":{"$error":"#REF!"}},{"$f":"IF(AY$5>=$F12,IF(AY$5<=#REF!,$K12,0),0)","v":{"$error":"#REF!"}},{"$f":"IF(AZ$5>=$F12,IF(AZ$5<=#REF!,$K12,0),0)","v":{"$error":"#REF!"}},{"$f":"IF(BA$5>=$F12,IF(BA$5<=#REF!,$K12,0),0)","v":{"$error":"#REF!"}},{"$f":"IF(BB$5>=$F12,IF(BB$5<=#REF!,$K12,0),0)","v":{"$error":"#REF!"}},{"$f":"IF(BC$5>=$F12,IF(BC$5<=#REF!,$K12,0),0)","v":{"$error":"#REF!"}},{"$f":"IF(BD$5>=$F12,IF(BD$5<=#REF!,$K12,0),0)","v":{"$error":"#REF!"}},{"$f":"IF(BE$5>=$F12,IF(BE$5<=#REF!,$K12,0),0)","v":{"$error":"#REF!"}},{"$f":"IF(BF$5>=$F12,IF(BF$5<=#REF!,$K12,0),0)","v":{"$error":"#REF!"}},{"$f":"IF(BG$5>=$F12,IF(BG$5<=#REF!,$K12,0),0)","v":{"$error":"#REF!"}},{"$f":"IF(BH$5>=$F12,IF(BH$5<=#REF!,$K12,0),0)","v":{"$error":"#REF!"}},{"$f":"IF(BI$5>=$F12,IF(BI$5<=#REF!,$K12,0),0)","v":{"$error":"#REF!"}},{"$f":"IF(BJ$5>=$F12,IF(BJ$5<=#REF!,$K12,0),0)","v":{"$error":"#REF!"}},{"$f":"IF(BK$5>=$F12,IF(BK$5<=#REF!,$K12,0),0)","v":{"$error":"#REF!"}},{"$f":"IF(BL$5>=$F12,IF(BL$5<=#REF!,$K12,0),0)","v":{"$error":"#REF!"}},{"$f":"IF(BM$5>=$F12,IF(BM$5<=#REF!,$K12,0),0)","v":{"$error":"#REF!"}},{"$f":"IF(BN$5>=$F12,IF(BN$5<=#REF!,$K12,0),0)","v":{"$error":"#REF!"}},{"$f":"IF(BO$5>=$F12,IF(BO$5<=#REF!,$K12,0),0)","v":{"$error":"#REF!"}},{"$f":"IF(BP$5>=$F12,IF(BP$5<=#REF!,$K12,0),0)","v":{"$error":"#REF!"}},{"$f":"IF(BQ$5>=$F12,IF(BQ$5<=#REF!,$K12,0),0)","v":{"$error":"#REF!"}},{"$f":"IF(BR$5>=$F12,IF(BR$5<=#REF!,$K12,0),0)","v":{"$error":"#REF!"}},{"$f":"IF(BS$5>=$F12,IF(BS$5<=#REF!,$K12,0),0)","v":{"$error":"#REF!"}},{"$f":"IF(BT$5>=$F12,IF(BT$5<=#REF!,$K12,0),0)","v":{"$error":"#REF!"}},{"$f":"IF(BU$5>=$F12,IF(BU$5<=#REF!,$K12,0),0)","v":{"$error":"#REF!"}},{"$f":"IF(BV$5>=$F12,IF(BV$5<=#REF!,$K12,0),0)","v":{"$error":"#REF!"}},{"$f":"IF(BW$5>=$F12,IF(BW$5<=#REF!,$K12,0),0)","v":{"$error":"#REF!"}},{"$f":"IF(BX$5>=$F12,IF(BX$5<=#REF!,$K12,0),0)","v":{"$error":"#REF!"}},{"$f":"IF(BY$5>=$F12,IF(BY$5<=#REF!,$K12,0),0)","v":{"$error":"#REF!"}},{"$f":"IF(BZ$5>=$F12,IF(BZ$5<=#REF!,$K12,0),0)","v":{"$error":"#REF!"}},{"$f":"IF(CA$5>=$F12,IF(CA$5<=#REF!,$K12,0),0)","v":{"$error":"#REF!"}},{"$f":"IF(CB$5>=$F12,IF(CB$5<=#REF!,$K12,0),0)","v":{"$error":"#REF!"}},{"$f":"IF(CC$5>=$F12,IF(CC$5<=#REF!,$K12,0),0)","v":{"$error":"#REF!"}},{"$f":"IF(CD$5>=$F12,IF(CD$5<=#REF!,$K12,0),0)","v":{"$error":"#REF!"}},{"$f":"IF(CE$5>=$F12,IF(CE$5<=#REF!,$K12,0),0)","v":{"$error":"#REF!"}},{"$f":"IF(CF$5>=$F12,IF(CF$5<=#REF!,$K12,0),0)","v":{"$error":"#REF!"}},{"$f":"IF(CG$5>=$F12,IF(CG$5<=#REF!,$K12,0),0)","v":{"$error":"#REF!"}},{"$f":"IF(CH$5>=$F12,IF(CH$5<=#REF!,$K12,0),0)","v":{"$error":"#REF!"}},{"$f":"IF(CI$5>=$F12,IF(CI$5<=#REF!,$K12,0),0)","v":{"$error":"#REF!"}},{"$f":"IF(CJ$5>=$F12,IF(CJ$5<=#REF!,$K12,0),0)","v":{"$error":"#REF!"}},{"$f":"IF(CK$5>=$F12,IF(CK$5<=#REF!,$K12,0),0)","v":{"$error":"#REF!"}},{"$f":"IF(CL$5>=$F12,IF(CL$5<=#REF!,$K12,0),0)","v":{"$error":"#REF!"}},{"$f":"IF(CM$5>=$F12,IF(CM$5<=#REF!,$K12,0),0)","v":{"$error":"#REF!"}},{"$f":"IF(CN$5>=$F12,IF(CN$5<=#REF!,$K12,0),0)","v":{"$error":"#REF!"}},{"$f":"IF(CO$5>=$F12,IF(CO$5<=#REF!,$K12,0),0)","v":{"$error":"#REF!"}},{"$f":"IF(CP$5>=$F12,IF(CP$5<=#REF!,$K12,0),0)","v":{"$error":"#REF!"}},{"$f":"IF(CQ$5>=$F12,IF(CQ$5<=#REF!,$K12,0),0)","v":{"$error":"#REF!"}},{"$f":"IF(CR$5>=$F12,IF(CR$5<=#REF!,$K12,0),0)","v":{"$error":"#REF!"}},{"$f":"IF(CS$5>=$F12,IF(CS$5<=#REF!,$K12,0),0)","v":{"$error":"#REF!"}},{"$f":"IF(CT$5>=$F12,IF(CT$5<=#REF!,$K12,0),0)","v":{"$error":"#REF!"}},{"$f":"IF(CU$5>=$F12,IF(CU$5<=#REF!,$K12,0),0)","v":{"$error":"#REF!"}},{"$f":"IF(CV$5>=$F12,IF(CV$5<=#REF!,$K12,0),0)","v":{"$error":"#REF!"}},{"$f":"IF(CW$5>=$F12,IF(CW$5<=#REF!,$K12,0),0)","v":{"$error":"#REF!"}},{"$f":"IF(CX$5>=$F12,IF(CX$5<=#REF!,$K12,0),0)","v":{"$error":"#REF!"}},{"$f":"IF(CY$5>=$F12,IF(CY$5<=#REF!,$K12,0),0)","v":{"$error":"#REF!"}},{"$f":"IF(CZ$5>=$F12,IF(CZ$5<=#REF!,$K12,0),0)","v":{"$error":"#REF!"}},{"$f":"IF(DA$5>=$F12,IF(DA$5<=#REF!,$K12,0),0)","v":{"$error":"#REF!"}},{"$f":"IF(DB$5>=$F12,IF(DB$5<=#REF!,$K12,0),0)","v":{"$error":"#REF!"}},{"$f":"IF(DC$5>=$F12,IF(DC$5<=#REF!,$K12,0),0)","v":{"$error":"#REF!"}},{"$f":"IF(DD$5>=$F12,IF(DD$5<=#REF!,$K12,0),0)","v":{"$error":"#REF!"}},{"$f":"IF(DE$5>=$F12,IF(DE$5<=#REF!,$K12,0),0)","v":{"$error":"#REF!"}},{"$f":"IF(DF$5>=$F12,IF(DF$5<=#REF!,$K12,0),0)","v":{"$error":"#REF!"}},{"$f":"IF(DG$5>=$F12,IF(DG$5<=#REF!,$K12,0),0)","v":{"$error":"#REF!"}},{"$f":"IF(DH$5>=$F12,IF(DH$5<=#REF!,$K12,0),0)","v":{"$error":"#REF!"}},{"$f":"IF(DI$5>=$F12,IF(DI$5<=#REF!,$K12,0),0)","v":{"$error":"#REF!"}},{"$f":"IF(DJ$5>=$F12,IF(DJ$5<=#REF!,$K12,0),0)","v":{"$error":"#REF!"}},{"$f":"IF(DK$5>=$F12,IF(DK$5<=#REF!,$K12,0),0)","v":{"$error":"#REF!"}},{"$f":"IF(DL$5>=$F12,IF(DL$5<=#REF!,$K12,0),0)","v":{"$error":"#REF!"}},{"$f":"IF(DM$5>=$F12,IF(DM$5<=#REF!,$K12,0),0)","v":{"$error":"#REF!"}},{"$f":"IF(DN$5>=$F12,IF(DN$5<=#REF!,$K12,0),0)","v":{"$error":"#REF!"}},{"$f":"IF(DO$5>=$F12,IF(DO$5<=#REF!,$K12,0),0)","v":{"$error":"#REF!"}},{"$f":"IF(DP$5>=$F12,IF(DP$5<=#REF!,$K12,0),0)","v":{"$error":"#REF!"}},{"$f":"IF(DQ$5>=$F12,IF(DQ$5<=#REF!,$K12,0),0)","v":{"$error":"#REF!"}},{"$f":"IF(DR$5>=$F12,IF(DR$5<=#REF!,$K12,0),0)","v":{"$error":"#REF!"}},{"$error":"#REF!"},"","",null,"送水管","送水管","ダクタイル鋳鉄管　耐震型継手を有する (m)","A2",75,"歩道、昼間施工"]
[null,null,null,null,null,null,{"$f":"IF($D13=\"\",0,VLOOKUP(($DU13&$C13&$D13),単価情報!$B$66:$C$932,2,FALSE))","v":0},{"$f":"G13","v":0},0,0,{"$f":"IF(E13=0,0,ROUND(E13/#REF!,1))","v":0},{"$f":"IF(L$5>=$F13,IF(L$5<=#REF!,$K13,0),0)","v":{"$error":"#REF!"}},{"$f":"IF(M$5>=$F13,IF(M$5<=#REF!,$K13,0),0)","v":{"$error":"#REF!"}},{"$f":"IF(N$5>=$F13,IF(N$5<=#REF!,$K13,0),0)","v":{"$error":"#REF!"}},{"$f":"IF(O$5>=$F13,IF(O$5<=#REF!,$K13,0),0)","v":{"$error":"#REF!"}},{"$f":"IF(P$5>=$F13,IF(P$5<=#REF!,$K13,0),0)","v":{"$error":"#REF!"}},{"$f":"IF(Q$5>=$F13,IF(Q$5<=#REF!,$K13,0),0)","v":{"$error":"#REF!"}},{"$f":"IF(R$5>=$F13,IF(R$5<=#REF!,$K13,0),0)","v":{"$error":"#REF!"}},{"$f":"IF(S$5>=$F13,IF(S$5<=#REF!,$K13,0),0)","v":{"$error":"#REF!"}},{"$f":"IF(T$5>=$F13,IF(T$5<=#REF!,$K13,0),0)","v":{"$error":"#REF!"}},{"$f":"IF(U$5>=$F13,IF(U$5<=#REF!,$K13,0),0)","v":{"$error":"#REF!"}},{"$f":"IF(V$5>=$F13,IF(V$5<=#REF!,$K13,0),0)","v":{"$error":"#REF!"}},{"$f":"IF(W$5>=$F13,IF(W$5<=#REF!,$K13,0),0)","v":{"$error":"#REF!"}},{"$f":"IF(X$5>=$F13,IF(X$5<=#REF!,$K13,0),0)","v":{"$error":"#REF!"}},{"$f":"IF(Y$5>=$F13,IF(Y$5<=#REF!,$K13,0),0)","v":{"$error":"#REF!"}},{"$f":"IF(Z$5>=$F13,IF(Z$5<=#REF!,$K13,0),0)","v":{"$error":"#REF!"}},{"$f":"IF(AA$5>=$F13,IF(AA$5<=#REF!,$K13,0),0)","v":{"$error":"#REF!"}},{"$f":"IF(AB$5>=$F13,IF(AB$5<=#REF!,$K13,0),0)","v":{"$error":"#REF!"}},{"$f":"IF(AC$5>=$F13,IF(AC$5<=#REF!,$K13,0),0)","v":{"$error":"#REF!"}},{"$f":"IF(AD$5>=$F13,IF(AD$5<=#REF!,$K13,0),0)","v":{"$error":"#REF!"}},{"$f":"IF(AE$5>=$F13,IF(AE$5<=#REF!,$K13,0),0)","v":{"$error":"#REF!"}},{"$f":"IF(AF$5>=$F13,IF(AF$5<=#REF!,$K13,0),0)","v":{"$error":"#REF!"}},{"$f":"IF(AG$5>=$F13,IF(AG$5<=#REF!,$K13,0),0)","v":{"$error":"#REF!"}},{"$f":"IF(AH$5>=$F13,IF(AH$5<=#REF!,$K13,0),0)","v":{"$error":"#REF!"}},{"$f":"IF(AI$5>=$F13,IF(AI$5<=#REF!,$K13,0),0)","v":{"$error":"#REF!"}},{"$f":"IF(AJ$5>=$F13,IF(AJ$5<=#REF!,$K13,0),0)","v":{"$error":"#REF!"}},{"$f":"IF(AK$5>=$F13,IF(AK$5<=#REF!,$K13,0),0)","v":{"$error":"#REF!"}},{"$f":"IF(AL$5>=$F13,IF(AL$5<=#REF!,$K13,0),0)","v":{"$error":"#REF!"}},{"$f":"IF(AM$5>=$F13,IF(AM$5<=#REF!,$K13,0),0)","v":{"$error":"#REF!"}},{"$f":"IF(AN$5>=$F13,IF(AN$5<=#REF!,$K13,0),0)","v":{"$error":"#REF!"}},{"$f":"IF(AO$5>=$F13,IF(AO$5<=#REF!,$K13,0),0)","v":{"$error":"#REF!"}},{"$f":"IF(AP$5>=$F13,IF(AP$5<=#REF!,$K13,0),0)","v":{"$error":"#REF!"}},{"$f":"IF(AQ$5>=$F13,IF(AQ$5<=#REF!,$K13,0),0)","v":{"$error":"#REF!"}},{"$f":"IF(AR$5>=$F13,IF(AR$5<=#REF!,$K13,0),0)","v":{"$error":"#REF!"}},{"$f":"IF(AS$5>=$F13,IF(AS$5<=#REF!,$K13,0),0)","v":{"$error":"#REF!"}},{"$f":"IF(AT$5>=$F13,IF(AT$5<=#REF!,$K13,0),0)","v":{"$error":"#REF!"}},{"$f":"IF(AU$5>=$F13,IF(AU$5<=#REF!,$K13,0),0)","v":{"$error":"#REF!"}},{"$f":"IF(AV$5>=$F13,IF(AV$5<=#REF!,$K13,0),0)","v":{"$error":"#REF!"}},{"$f":"IF(AW$5>=$F13,IF(AW$5<=#REF!,$K13,0),0)","v":{"$error":"#REF!"}},{"$f":"IF(AX$5>=$F13,IF(AX$5<=#REF!,$K13,0),0)","v":{"$error":"#REF!"}},{"$f":"IF(AY$5>=$F13,IF(AY$5<=#REF!,$K13,0),0)","v":{"$error":"#REF!"}},{"$f":"IF(AZ$5>=$F13,IF(AZ$5<=#REF!,$K13,0),0)","v":{"$error":"#REF!"}},{"$f":"IF(BA$5>=$F13,IF(BA$5<=#REF!,$K13,0),0)","v":{"$error":"#REF!"}},{"$f":"IF(BB$5>=$F13,IF(BB$5<=#REF!,$K13,0),0)","v":{"$error":"#REF!"}},{"$f":"IF(BC$5>=$F13,IF(BC$5<=#REF!,$K13,0),0)","v":{"$error":"#REF!"}},{"$f":"IF(BD$5>=$F13,IF(BD$5<=#REF!,$K13,0),0)","v":{"$error":"#REF!"}},{"$f":"IF(BE$5>=$F13,IF(BE$5<=#REF!,$K13,0),0)","v":{"$error":"#REF!"}},{"$f":"IF(BF$5>=$F13,IF(BF$5<=#REF!,$K13,0),0)","v":{"$error":"#REF!"}},{"$f":"IF(BG$5>=$F13,IF(BG$5<=#REF!,$K13,0),0)","v":{"$error":"#REF!"}},{"$f":"IF(BH$5>=$F13,IF(BH$5<=#REF!,$K13,0),0)","v":{"$error":"#REF!"}},{"$f":"IF(BI$5>=$F13,IF(BI$5<=#REF!,$K13,0),0)","v":{"$error":"#REF!"}},{"$f":"IF(BJ$5>=$F13,IF(BJ$5<=#REF!,$K13,0),0)","v":{"$error":"#REF!"}},{"$f":"IF(BK$5>=$F13,IF(BK$5<=#REF!,$K13,0),0)","v":{"$error":"#REF!"}},{"$f":"IF(BL$5>=$F13,IF(BL$5<=#REF!,$K13,0),0)","v":{"$error":"#REF!"}},{"$f":"IF(BM$5>=$F13,IF(BM$5<=#REF!,$K13,0),0)","v":{"$error":"#REF!"}},{"$f":"IF(BN$5>=$F13,IF(BN$5<=#REF!,$K13,0),0)","v":{"$error":"#REF!"}},{"$f":"IF(BO$5>=$F13,IF(BO$5<=#REF!,$K13,0),0)","v":{"$error":"#REF!"}},{"$f":"IF(BP$5>=$F13,IF(BP$5<=#REF!,$K13,0),0)","v":{"$error":"#REF!"}},{"$f":"IF(BQ$5>=$F13,IF(BQ$5<=#REF!,$K13,0),0)","v":{"$error":"#REF!"}},{"$f":"IF(BR$5>=$F13,IF(BR$5<=#REF!,$K13,0),0)","v":{"$error":"#REF!"}},{"$f":"IF(BS$5>=$F13,IF(BS$5<=#REF!,$K13,0),0)","v":{"$error":"#REF!"}},{"$f":"IF(BT$5>=$F13,IF(BT$5<=#REF!,$K13,0),0)","v":{"$error":"#REF!"}},{"$f":"IF(BU$5>=$F13,IF(BU$5<=#REF!,$K13,0),0)","v":{"$error":"#REF!"}},{"$f":"IF(BV$5>=$F13,IF(BV$5<=#REF!,$K13,0),0)","v":{"$error":"#REF!"}},{"$f":"IF(BW$5>=$F13,IF(BW$5<=#REF!,$K13,0),0)","v":{"$error":"#REF!"}},{"$f":"IF(BX$5>=$F13,IF(BX$5<=#REF!,$K13,0),0)","v":{"$error":"#REF!"}},{"$f":"IF(BY$5>=$F13,IF(BY$5<=#REF!,$K13,0),0)","v":{"$error":"#REF!"}},{"$f":"IF(BZ$5>=$F13,IF(BZ$5<=#REF!,$K13,0),0)","v":{"$error":"#REF!"}},{"$f":"IF(CA$5>=$F13,IF(CA$5<=#REF!,$K13,0),0)","v":{"$error":"#REF!"}},{"$f":"IF(CB$5>=$F13,IF(CB$5<=#REF!,$K13,0),0)","v":{"$error":"#REF!"}},{"$f":"IF(CC$5>=$F13,IF(CC$5<=#REF!,$K13,0),0)","v":{"$error":"#REF!"}},{"$f":"IF(CD$5>=$F13,IF(CD$5<=#REF!,$K13,0),0)","v":{"$error":"#REF!"}},{"$f":"IF(CE$5>=$F13,IF(CE$5<=#REF!,$K13,0),0)","v":{"$error":"#REF!"}},{"$f":"IF(CF$5>=$F13,IF(CF$5<=#REF!,$K13,0),0)","v":{"$error":"#REF!"}},{"$f":"IF(CG$5>=$F13,IF(CG$5<=#REF!,$K13,0),0)","v":{"$error":"#REF!"}},{"$f":"IF(CH$5>=$F13,IF(CH$5<=#REF!,$K13,0),0)","v":{"$error":"#REF!"}},{"$f":"IF(CI$5>=$F13,IF(CI$5<=#REF!,$K13,0),0)","v":{"$error":"#REF!"}},{"$f":"IF(CJ$5>=$F13,IF(CJ$5<=#REF!,$K13,0),0)","v":{"$error":"#REF!"}},{"$f":"IF(CK$5>=$F13,IF(CK$5<=#REF!,$K13,0),0)","v":{"$error":"#REF!"}},{"$f":"IF(CL$5>=$F13,IF(CL$5<=#REF!,$K13,0),0)","v":{"$error":"#REF!"}},{"$f":"IF(CM$5>=$F13,IF(CM$5<=#REF!,$K13,0),0)","v":{"$error":"#REF!"}},{"$f":"IF(CN$5>=$F13,IF(CN$5<=#REF!,$K13,0),0)","v":{"$error":"#REF!"}},{"$f":"IF(CO$5>=$F13,IF(CO$5<=#REF!,$K13,0),0)","v":{"$error":"#REF!"}},{"$f":"IF(CP$5>=$F13,IF(CP$5<=#REF!,$K13,0),0)","v":{"$error":"#REF!"}},{"$f":"IF(CQ$5>=$F13,IF(CQ$5<=#REF!,$K13,0),0)","v":{"$error":"#REF!"}},{"$f":"IF(CR$5>=$F13,IF(CR$5<=#REF!,$K13,0),0)","v":{"$error":"#REF!"}},{"$f":"IF(CS$5>=$F13,IF(CS$5<=#REF!,$K13,0),0)","v":{"$error":"#REF!"}},{"$f":"IF(CT$5>=$F13,IF(CT$5<=#REF!,$K13,0),0)","v":{"$error":"#REF!"}},{"$f":"IF(CU$5>=$F13,IF(CU$5<=#REF!,$K13,0),0)","v":{"$error":"#REF!"}},{"$f":"IF(CV$5>=$F13,IF(CV$5<=#REF!,$K13,0),0)","v":{"$error":"#REF!"}},{"$f":"IF(CW$5>=$F13,IF(CW$5<=#REF!,$K13,0),0)","v":{"$error":"#REF!"}},{"$f":"IF(CX$5>=$F13,IF(CX$5<=#REF!,$K13,0),0)","v":{"$error":"#REF!"}},{"$f":"IF(CY$5>=$F13,IF(CY$5<=#REF!,$K13,0),0)","v":{"$error":"#REF!"}},{"$f":"IF(CZ$5>=$F13,IF(CZ$5<=#REF!,$K13,0),0)","v":{"$error":"#REF!"}},{"$f":"IF(DA$5>=$F13,IF(DA$5<=#REF!,$K13,0),0)","v":{"$error":"#REF!"}},{"$f":"IF(DB$5>=$F13,IF(DB$5<=#REF!,$K13,0),0)","v":{"$error":"#REF!"}},{"$f":"IF(DC$5>=$F13,IF(DC$5<=#REF!,$K13,0),0)","v":{"$error":"#REF!"}},{"$f":"IF(DD$5>=$F13,IF(DD$5<=#REF!,$K13,0),0)","v":{"$error":"#REF!"}},{"$f":"IF(DE$5>=$F13,IF(DE$5<=#REF!,$K13,0),0)","v":{"$error":"#REF!"}},{"$f":"IF(DF$5>=$F13,IF(DF$5<=#REF!,$K13,0),0)","v":{"$error":"#REF!"}},{"$f":"IF(DG$5>=$F13,IF(DG$5<=#REF!,$K13,0),0)","v":{"$error":"#REF!"}},{"$f":"IF(DH$5>=$F13,IF(DH$5<=#REF!,$K13,0),0)","v":{"$error":"#REF!"}},{"$f":"IF(DI$5>=$F13,IF(DI$5<=#REF!,$K13,0),0)","v":{"$error":"#REF!"}},{"$f":"IF(DJ$5>=$F13,IF(DJ$5<=#REF!,$K13,0),0)","v":{"$error":"#REF!"}},{"$f":"IF(DK$5>=$F13,IF(DK$5<=#REF!,$K13,0),0)","v":{"$error":"#REF!"}},{"$f":"IF(DL$5>=$F13,IF(DL$5<=#REF!,$K13,0),0)","v":{"$error":"#REF!"}},{"$f":"IF(DM$5>=$F13,IF(DM$5<=#REF!,$K13,0),0)","v":{"$error":"#REF!"}},{"$f":"IF(DN$5>=$F13,IF(DN$5<=#REF!,$K13,0),0)","v":{"$error":"#REF!"}},{"$f":"IF(DO$5>=$F13,IF(DO$5<=#REF!,$K13,0),0)","v":{"$error":"#REF!"}},{"$f":"IF(DP$5>=$F13,IF(DP$5<=#REF!,$K13,0),0)","v":{"$error":"#REF!"}},{"$f":"IF(DQ$5>=$F13,IF(DQ$5<=#REF!,$K13,0),0)","v":{"$error":"#REF!"}},{"$f":"IF(DR$5>=$F13,IF(DR$5<=#REF!,$K13,0),0)","v":{"$error":"#REF!"}},{"$error":"#REF!"},"","",null,"配水本管","配水本管","ダクタイル鋳鉄管　Ｋ形継手等を有するもののうち良い地盤に布設されている (m)","A3",100,"車道、昼間施工"]
[null,null,null,null,null,null,{"$f":"IF($D14=\"\",0,VLOOKUP(($DU14&$C14&$D14),単価情報!$B$66:$C$932,2,FALSE))","v":0},0,0,0,{"$f":"IF(E14=0,0,ROUND(E14/#REF!,1))","v":0},{"$f":"IF(L$5>=$F14,IF(L$5<=#REF!,$K14,0),0)","v":{"$error":"#REF!"}},{"$f":"IF(M$5>=$F14,IF(M$5<=#REF!,$K14,0),0)","v":{"$error":"#REF!"}},{"$f":"IF(N$5>=$F14,IF(N$5<=#REF!,$K14,0),0)","v":{"$error":"#REF!"}},{"$f":"IF(O$5>=$F14,IF(O$5<=#REF!,$K14,0),0)","v":{"$error":"#REF!"}},{"$f":"IF(P$5>=$F14,IF(P$5<=#REF!,$K14,0),0)","v":{"$error":"#REF!"}},{"$f":"IF(Q$5>=$F14,IF(Q$5<=#REF!,$K14,0),0)","v":{"$error":"#REF!"}},{"$f":"IF(R$5>=$F14,IF(R$5<=#REF!,$K14,0),0)","v":{"$error":"#REF!"}},{"$f":"IF(S$5>=$F14,IF(S$5<=#REF!,$K14,0),0)","v":{"$error":"#REF!"}},{"$f":"IF(T$5>=$F14,IF(T$5<=#REF!,$K14,0),0)","v":{"$error":"#REF!"}},{"$f":"IF(U$5>=$F14,IF(U$5<=#REF!,$K14,0),0)","v":{"$error":"#REF!"}},{"$f":"IF(V$5>=$F14,IF(V$5<=#REF!,$K14,0),0)","v":{"$error":"#REF!"}},{"$f":"IF(W$5>=$F14,IF(W$5<=#REF!,$K14,0),0)","v":{"$error":"#REF!"}},{"$f":"IF(X$5>=$F14,IF(X$5<=#REF!,$K14,0),0)","v":{"$error":"#REF!"}},{"$f":"IF(Y$5>=$F14,IF(Y$5<=#REF!,$K14,0),0)","v":{"$error":"#REF!"}},{"$f":"IF(Z$5>=$F14,IF(Z$5<=#REF!,$K14,0),0)","v":{"$error":"#REF!"}},{"$f":"IF(AA$5>=$F14,IF(AA$5<=#REF!,$K14,0),0)","v":{"$error":"#REF!"}},{"$f":"IF(AB$5>=$F14,IF(AB$5<=#REF!,$K14,0),0)","v":{"$error":"#REF!"}},{"$f":"IF(AC$5>=$F14,IF(AC$5<=#REF!,$K14,0),0)","v":{"$error":"#REF!"}},{"$f":"IF(AD$5>=$F14,IF(AD$5<=#REF!,$K14,0),0)","v":{"$error":"#REF!"}},{"$f":"IF(AE$5>=$F14,IF(AE$5<=#REF!,$K14,0),0)","v":{"$error":"#REF!"}},{"$f":"IF(AF$5>=$F14,IF(AF$5<=#REF!,$K14,0),0)","v":{"$error":"#REF!"}},{"$f":"IF(AG$5>=$F14,IF(AG$5<=#REF!,$K14,0),0)","v":{"$error":"#REF!"}},{"$f":"IF(AH$5>=$F14,IF(AH$5<=#REF!,$K14,0),0)","v":{"$error":"#REF!"}},{"$f":"IF(AI$5>=$F14,IF(AI$5<=#REF!,$K14,0),0)","v":{"$error":"#REF!"}},{"$f":"IF(AJ$5>=$F14,IF(AJ$5<=#REF!,$K14,0),0)","v":{"$error":"#REF!"}},{"$f":"IF(AK$5>=$F14,IF(AK$5<=#REF!,$K14,0),0)","v":{"$error":"#REF!"}},{"$f":"IF(AL$5>=$F14,IF(AL$5<=#REF!,$K14,0),0)","v":{"$error":"#REF!"}},{"$f":"IF(AM$5>=$F14,IF(AM$5<=#REF!,$K14,0),0)","v":{"$error":"#REF!"}},{"$f":"IF(AN$5>=$F14,IF(AN$5<=#REF!,$K14,0),0)","v":{"$error":"#REF!"}},{"$f":"IF(AO$5>=$F14,IF(AO$5<=#REF!,$K14,0),0)","v":{"$error":"#REF!"}},{"$f":"IF(AP$5>=$F14,IF(AP$5<=#REF!,$K14,0),0)","v":{"$error":"#REF!"}},{"$f":"IF(AQ$5>=$F14,IF(AQ$5<=#REF!,$K14,0),0)","v":{"$error":"#REF!"}},{"$f":"IF(AR$5>=$F14,IF(AR$5<=#REF!,$K14,0),0)","v":{"$error":"#REF!"}},{"$f":"IF(AS$5>=$F14,IF(AS$5<=#REF!,$K14,0),0)","v":{"$error":"#REF!"}},{"$f":"IF(AT$5>=$F14,IF(AT$5<=#REF!,$K14,0),0)","v":{"$error":"#REF!"}},{"$f":"IF(AU$5>=$F14,IF(AU$5<=#REF!,$K14,0),0)","v":{"$error":"#REF!"}},{"$f":"IF(AV$5>=$F14,IF(AV$5<=#REF!,$K14,0),0)","v":{"$error":"#REF!"}},{"$f":"IF(AW$5>=$F14,IF(AW$5<=#REF!,$K14,0),0)","v":{"$error":"#REF!"}},{"$f":"IF(AX$5>=$F14,IF(AX$5<=#REF!,$K14,0),0)","v":{"$error":"#REF!"}},{"$f":"IF(AY$5>=$F14,IF(AY$5<=#REF!,$K14,0),0)","v":{"$error":"#REF!"}},{"$f":"IF(AZ$5>=$F14,IF(AZ$5<=#REF!,$K14,0),0)","v":{"$error":"#REF!"}},{"$f":"IF(BA$5>=$F14,IF(BA$5<=#REF!,$K14,0),0)","v":{"$error":"#REF!"}},{"$f":"IF(BB$5>=$F14,IF(BB$5<=#REF!,$K14,0),0)","v":{"$error":"#REF!"}},{"$f":"IF(BC$5>=$F14,IF(BC$5<=#REF!,$K14,0),0)","v":{"$error":"#REF!"}},{"$f":"IF(BD$5>=$F14,IF(BD$5<=#REF!,$K14,0),0)","v":{"$error":"#REF!"}},{"$f":"IF(BE$5>=$F14,IF(BE$5<=#REF!,$K14,0),0)","v":{"$error":"#REF!"}},{"$f":"IF(BF$5>=$F14,IF(BF$5<=#REF!,$K14,0),0)","v":{"$error":"#REF!"}},{"$f":"IF(BG$5>=$F14,IF(BG$5<=#REF!,$K14,0),0)","v":{"$error":"#REF!"}},{"$f":"IF(BH$5>=$F14,IF(BH$5<=#REF!,$K14,0),0)","v":{"$error":"#REF!"}},{"$f":"IF(BI$5>=$F14,IF(BI$5<=#REF!,$K14,0),0)","v":{"$error":"#REF!"}},{"$f":"IF(BJ$5>=$F14,IF(BJ$5<=#REF!,$K14,0),0)","v":{"$error":"#REF!"}},{"$f":"IF(BK$5>=$F14,IF(BK$5<=#REF!,$K14,0),0)","v":{"$error":"#REF!"}},{"$f":"IF(BL$5>=$F14,IF(BL$5<=#REF!,$K14,0),0)","v":{"$error":"#REF!"}},{"$f":"IF(BM$5>=$F14,IF(BM$5<=#REF!,$K14,0),0)","v":{"$error":"#REF!"}},{"$f":"IF(BN$5>=$F14,IF(BN$5<=#REF!,$K14,0),0)","v":{"$error":"#REF!"}},{"$f":"IF(BO$5>=$F14,IF(BO$5<=#REF!,$K14,0),0)","v":{"$error":"#REF!"}},{"$f":"IF(BP$5>=$F14,IF(BP$5<=#REF!,$K14,0),0)","v":{"$error":"#REF!"}},{"$f":"IF(BQ$5>=$F14,IF(BQ$5<=#REF!,$K14,0),0)","v":{"$error":"#REF!"}},{"$f":"IF(BR$5>=$F14,IF(BR$5<=#REF!,$K14,0),0)","v":{"$error":"#REF!"}},{"$f":"IF(BS$5>=$F14,IF(BS$5<=#REF!,$K14,0),0)","v":{"$error":"#REF!"}},{"$f":"IF(BT$5>=$F14,IF(BT$5<=#REF!,$K14,0),0)","v":{"$error":"#REF!"}},{"$f":"IF(BU$5>=$F14,IF(BU$5<=#REF!,$K14,0),0)","v":{"$error":"#REF!"}},{"$f":"IF(BV$5>=$F14,IF(BV$5<=#REF!,$K14,0),0)","v":{"$error":"#REF!"}},{"$f":"IF(BW$5>=$F14,IF(BW$5<=#REF!,$K14,0),0)","v":{"$error":"#REF!"}},{"$f":"IF(BX$5>=$F14,IF(BX$5<=#REF!,$K14,0),0)","v":{"$error":"#REF!"}},{"$f":"IF(BY$5>=$F14,IF(BY$5<=#REF!,$K14,0),0)","v":{"$error":"#REF!"}},{"$f":"IF(BZ$5>=$F14,IF(BZ$5<=#REF!,$K14,0),0)","v":{"$error":"#REF!"}},{"$f":"IF(CA$5>=$F14,IF(CA$5<=#REF!,$K14,0),0)","v":{"$error":"#REF!"}},{"$f":"IF(CB$5>=$F14,IF(CB$5<=#REF!,$K14,0),0)","v":{"$error":"#REF!"}},{"$f":"IF(CC$5>=$F14,IF(CC$5<=#REF!,$K14,0),0)","v":{"$error":"#REF!"}},{"$f":"IF(CD$5>=$F14,IF(CD$5<=#REF!,$K14,0),0)","v":{"$error":"#REF!"}},{"$f":"IF(CE$5>=$F14,IF(CE$5<=#REF!,$K14,0),0)","v":{"$error":"#REF!"}},{"$f":"IF(CF$5>=$F14,IF(CF$5<=#REF!,$K14,0),0)","v":{"$error":"#REF!"}},{"$f":"IF(CG$5>=$F14,IF(CG$5<=#REF!,$K14,0),0)","v":{"$error":"#REF!"}},{"$f":"IF(CH$5>=$F14,IF(CH$5<=#REF!,$K14,0),0)","v":{"$error":"#REF!"}},{"$f":"IF(CI$5>=$F14,IF(CI$5<=#REF!,$K14,0),0)","v":{"$error":"#REF!"}},{"$f":"IF(CJ$5>=$F14,IF(CJ$5<=#REF!,$K14,0),0)","v":{"$error":"#REF!"}},{"$f":"IF(CK$5>=$F14,IF(CK$5<=#REF!,$K14,0),0)","v":{"$error":"#REF!"}},{"$f":"IF(CL$5>=$F14,IF(CL$5<=#REF!,$K14,0),0)","v":{"$error":"#REF!"}},{"$f":"IF(CM$5>=$F14,IF(CM$5<=#REF!,$K14,0),0)","v":{"$error":"#REF!"}},{"$f":"IF(CN$5>=$F14,IF(CN$5<=#REF!,$K14,0),0)","v":{"$error":"#REF!"}},{"$f":"IF(CO$5>=$F14,IF(CO$5<=#REF!,$K14,0),0)","v":{"$error":"#REF!"}},{"$f":"IF(CP$5>=$F14,IF(CP$5<=#REF!,$K14,0),0)","v":{"$error":"#REF!"}},{"$f":"IF(CQ$5>=$F14,IF(CQ$5<=#REF!,$K14,0),0)","v":{"$error":"#REF!"}},{"$f":"IF(CR$5>=$F14,IF(CR$5<=#REF!,$K14,0),0)","v":{"$error":"#REF!"}},{"$f":"IF(CS$5>=$F14,IF(CS$5<=#REF!,$K14,0),0)","v":{"$error":"#REF!"}},{"$f":"IF(CT$5>=$F14,IF(CT$5<=#REF!,$K14,0),0)","v":{"$error":"#REF!"}},{"$f":"IF(CU$5>=$F14,IF(CU$5<=#REF!,$K14,0),0)","v":{"$error":"#REF!"}},{"$f":"IF(CV$5>=$F14,IF(CV$5<=#REF!,$K14,0),0)","v":{"$error":"#REF!"}},{"$f":"IF(CW$5>=$F14,IF(CW$5<=#REF!,$K14,0),0)","v":{"$error":"#REF!"}},{"$f":"IF(CX$5>=$F14,IF(CX$5<=#REF!,$K14,0),0)","v":{"$error":"#REF!"}},{"$f":"IF(CY$5>=$F14,IF(CY$5<=#REF!,$K14,0),0)","v":{"$error":"#REF!"}},{"$f":"IF(CZ$5>=$F14,IF(CZ$5<=#REF!,$K14,0),0)","v":{"$error":"#REF!"}},{"$f":"IF(DA$5>=$F14,IF(DA$5<=#REF!,$K14,0),0)","v":{"$error":"#REF!"}},{"$f":"IF(DB$5>=$F14,IF(DB$5<=#REF!,$K14,0),0)","v":{"$error":"#REF!"}},{"$f":"IF(DC$5>=$F14,IF(DC$5<=#REF!,$K14,0),0)","v":{"$error":"#REF!"}},{"$f":"IF(DD$5>=$F14,IF(DD$5<=#REF!,$K14,0),0)","v":{"$error":"#REF!"}},{"$f":"IF(DE$5>=$F14,IF(DE$5<=#REF!,$K14,0),0)","v":{"$error":"#REF!"}},{"$f":"IF(DF$5>=$F14,IF(DF$5<=#REF!,$K14,0),0)","v":{"$error":"#REF!"}},{"$f":"IF(DG$5>=$F14,IF(DG$5<=#REF!,$K14,0),0)","v":{"$error":"#REF!"}},{"$f":"IF(DH$5>=$F14,IF(DH$5<=#REF!,$K14,0),0)","v":{"$error":"#REF!"}},{"$f":"IF(DI$5>=$F14,IF(DI$5<=#REF!,$K14,0),0)","v":{"$error":"#REF!"}},{"$f":"IF(DJ$5>=$F14,IF(DJ$5<=#REF!,$K14,0),0)","v":{"$error":"#REF!"}},{"$f":"IF(DK$5>=$F14,IF(DK$5<=#REF!,$K14,0),0)","v":{"$error":"#REF!"}},{"$f":"IF(DL$5>=$F14,IF(DL$5<=#REF!,$K14,0),0)","v":{"$error":"#REF!"}},{"$f":"IF(DM$5>=$F14,IF(DM$5<=#REF!,$K14,0),0)","v":{"$error":"#REF!"}},{"$f":"IF(DN$5>=$F14,IF(DN$5<=#REF!,$K14,0),0)","v":{"$error":"#REF!"}},{"$f":"IF(DO$5>=$F14,IF(DO$5<=#REF!,$K14,0),0)","v":{"$error":"#REF!"}},{"$f":"IF(DP$5>=$F14,IF(DP$5<=#REF!,$K14,0),0)","v":{"$error":"#REF!"}},{"$f":"IF(DQ$5>=$F14,IF(DQ$5<=#REF!,$K14,0),0)","v":{"$error":"#REF!"}},{"$f":"IF(DR$5>=$F14,IF(DR$5<=#REF!,$K14,0),0)","v":{"$error":"#REF!"}},{"$error":"#REF!"},"","",null,"配水支管","配水支管","ダクタイル鋳鉄管　(上記以外・不明なものを含む） (m)","A9",125,"車道、夜間施工"]
[null,null,null,null,null,null,{"$f":"IF($D15=\"\",0,VLOOKUP(($DU15&$C15&$D15),単価情報!$B$66:$C$932,2,FALSE))","v":0},0,0,0,{"$f":"IF(E15=0,0,ROUND(E15/#REF!,1))","v":0},{"$f":"IF(L$5>=$F15,IF(L$5<=#REF!,$K15,0),0)","v":{"$error":"#REF!"}},{"$f":"IF(M$5>=$F15,IF(M$5<=#REF!,$K15,0),0)","v":{"$error":"#REF!"}},{"$f":"IF(N$5>=$F15,IF(N$5<=#REF!,$K15,0),0)","v":{"$error":"#REF!"}},{"$f":"IF(O$5>=$F15,IF(O$5<=#REF!,$K15,0),0)","v":{"$error":"#REF!"}},{"$f":"IF(P$5>=$F15,IF(P$5<=#REF!,$K15,0),0)","v":{"$error":"#REF!"}},{"$f":"IF(Q$5>=$F15,IF(Q$5<=#REF!,$K15,0),0)","v":{"$error":"#REF!"}},{"$f":"IF(R$5>=$F15,IF(R$5<=#REF!,$K15,0),0)","v":{"$error":"#REF!"}},{"$f":"IF(S$5>=$F15,IF(S$5<=#REF!,$K15,0),0)","v":{"$error":"#REF!"}},{"$f":"IF(T$5>=$F15,IF(T$5<=#REF!,$K15,0),0)","v":{"$error":"#REF!"}},{"$f":"IF(U$5>=$F15,IF(U$5<=#REF!,$K15,0),0)","v":{"$error":"#REF!"}},{"$f":"IF(V$5>=$F15,IF(V$5<=#REF!,$K15,0),0)","v":{"$error":"#REF!"}},{"$f":"IF(W$5>=$F15,IF(W$5<=#REF!,$K15,0),0)","v":{"$error":"#REF!"}},{"$f":"IF(X$5>=$F15,IF(X$5<=#REF!,$K15,0),0)","v":{"$error":"#REF!"}},{"$f":"IF(Y$5>=$F15,IF(Y$5<=#REF!,$K15,0),0)","v":{"$error":"#REF!"}},{"$f":"IF(Z$5>=$F15,IF(Z$5<=#REF!,$K15,0),0)","v":{"$error":"#REF!"}},{"$f":"IF(AA$5>=$F15,IF(AA$5<=#REF!,$K15,0),0)","v":{"$error":"#REF!"}},{"$f":"IF(AB$5>=$F15,IF(AB$5<=#REF!,$K15,0),0)","v":{"$error":"#REF!"}},{"$f":"IF(AC$5>=$F15,IF(AC$5<=#REF!,$K15,0),0)","v":{"$error":"#REF!"}},{"$f":"IF(AD$5>=$F15,IF(AD$5<=#REF!,$K15,0),0)","v":{"$error":"#REF!"}},{"$f":"IF(AE$5>=$F15,IF(AE$5<=#REF!,$K15,0),0)","v":{"$error":"#REF!"}},{"$f":"IF(AF$5>=$F15,IF(AF$5<=#REF!,$K15,0),0)","v":{"$error":"#REF!"}},{"$f":"IF(AG$5>=$F15,IF(AG$5<=#REF!,$K15,0),0)","v":{"$error":"#REF!"}},{"$f":"IF(AH$5>=$F15,IF(AH$5<=#REF!,$K15,0),0)","v":{"$error":"#REF!"}},{"$f":"IF(AI$5>=$F15,IF(AI$5<=#REF!,$K15,0),0)","v":{"$error":"#REF!"}},{"$f":"IF(AJ$5>=$F15,IF(AJ$5<=#REF!,$K15,0),0)","v":{"$error":"#REF!"}},{"$f":"IF(AK$5>=$F15,IF(AK$5<=#REF!,$K15,0),0)","v":{"$error":"#REF!"}},{"$f":"IF(AL$5>=$F15,IF(AL$5<=#REF!,$K15,0),0)","v":{"$error":"#REF!"}},{"$f":"IF(AM$5>=$F15,IF(AM$5<=#REF!,$K15,0),0)","v":{"$error":"#REF!"}},{"$f":"IF(AN$5>=$F15,IF(AN$5<=#REF!,$K15,0),0)","v":{"$error":"#REF!"}},{"$f":"IF(AO$5>=$F15,IF(AO$5<=#REF!,$K15,0),0)","v":{"$error":"#REF!"}},{"$f":"IF(AP$5>=$F15,IF(AP$5<=#REF!,$K15,0),0)","v":{"$error":"#REF!"}},{"$f":"IF(AQ$5>=$F15,IF(AQ$5<=#REF!,$K15,0),0)","v":{"$error":"#REF!"}},{"$f":"IF(AR$5>=$F15,IF(AR$5<=#REF!,$K15,0),0)","v":{"$error":"#REF!"}},{"$f":"IF(AS$5>=$F15,IF(AS$5<=#REF!,$K15,0),0)","v":{"$error":"#REF!"}},{"$f":"IF(AT$5>=$F15,IF(AT$5<=#REF!,$K15,0),0)","v":{"$error":"#REF!"}},{"$f":"IF(AU$5>=$F15,IF(AU$5<=#REF!,$K15,0),0)","v":{"$error":"#REF!"}},{"$f":"IF(AV$5>=$F15,IF(AV$5<=#REF!,$K15,0),0)","v":{"$error":"#REF!"}},{"$f":"IF(AW$5>=$F15,IF(AW$5<=#REF!,$K15,0),0)","v":{"$error":"#REF!"}},{"$f":"IF(AX$5>=$F15,IF(AX$5<=#REF!,$K15,0),0)","v":{"$error":"#REF!"}},{"$f":"IF(AY$5>=$F15,IF(AY$5<=#REF!,$K15,0),0)","v":{"$error":"#REF!"}},{"$f":"IF(AZ$5>=$F15,IF(AZ$5<=#REF!,$K15,0),0)","v":{"$error":"#REF!"}},{"$f":"IF(BA$5>=$F15,IF(BA$5<=#REF!,$K15,0),0)","v":{"$error":"#REF!"}},{"$f":"IF(BB$5>=$F15,IF(BB$5<=#REF!,$K15,0),0)","v":{"$error":"#REF!"}},{"$f":"IF(BC$5>=$F15,IF(BC$5<=#REF!,$K15,0),0)","v":{"$error":"#REF!"}},{"$f":"IF(BD$5>=$F15,IF(BD$5<=#REF!,$K15,0),0)","v":{"$error":"#REF!"}},{"$f":"IF(BE$5>=$F15,IF(BE$5<=#REF!,$K15,0),0)","v":{"$error":"#REF!"}},{"$f":"IF(BF$5>=$F15,IF(BF$5<=#REF!,$K15,0),0)","v":{"$error":"#REF!"}},{"$f":"IF(BG$5>=$F15,IF(BG$5<=#REF!,$K15,0),0)","v":{"$error":"#REF!"}},{"$f":"IF(BH$5>=$F15,IF(BH$5<=#REF!,$K15,0),0)","v":{"$error":"#REF!"}},{"$f":"IF(BI$5>=$F15,IF(BI$5<=#REF!,$K15,0),0)","v":{"$error":"#REF!"}},{"$f":"IF(BJ$5>=$F15,IF(BJ$5<=#REF!,$K15,0),0)","v":{"$error":"#REF!"}},{"$f":"IF(BK$5>=$F15,IF(BK$5<=#REF!,$K15,0),0)","v":{"$error":"#REF!"}},{"$f":"IF(BL$5>=$F15,IF(BL$5<=#REF!,$K15,0),0)","v":{"$error":"#REF!"}},{"$f":"IF(BM$5>=$F15,IF(BM$5<=#REF!,$K15,0),0)","v":{"$error":"#REF!"}},{"$f":"IF(BN$5>=$F15,IF(BN$5<=#REF!,$K15,0),0)","v":{"$error":"#REF!"}},{"$f":"IF(BO$5>=$F15,IF(BO$5<=#REF!,$K15,0),0)","v":{"$error":"#REF!"}},{"$f":"IF(BP$5>=$F15,IF(BP$5<=#REF!,$K15,0),0)","v":{"$error":"#REF!"}},{"$f":"IF(BQ$5>=$F15,IF(BQ$5<=#REF!,$K15,0),0)","v":{"$error":"#REF!"}},{"$f":"IF(BR$5>=$F15,IF(BR$5<=#REF!,$K15,0),0)","v":{"$error":"#REF!"}},{"$f":"IF(BS$5>=$F15,IF(BS$5<=#REF!,$K15,0),0)","v":{"$error":"#REF!"}},{"$f":"IF(BT$5>=$F15,IF(BT$5<=#REF!,$K15,0),0)","v":{"$error":"#REF!"}},{"$f":"IF(BU$5>=$F15,IF(BU$5<=#REF!,$K15,0),0)","v":{"$error":"#REF!"}},{"$f":"IF(BV$5>=$F15,IF(BV$5<=#REF!,$K15,0),0)","v":{"$error":"#REF!"}},{"$f":"IF(BW$5>=$F15,IF(BW$5<=#REF!,$K15,0),0)","v":{"$error":"#REF!"}},{"$f":"IF(BX$5>=$F15,IF(BX$5<=#REF!,$K15,0),0)","v":{"$error":"#REF!"}},{"$f":"IF(BY$5>=$F15,IF(BY$5<=#REF!,$K15,0),0)","v":{"$error":"#REF!"}},{"$f":"IF(BZ$5>=$F15,IF(BZ$5<=#REF!,$K15,0),0)","v":{"$error":"#REF!"}},{"$f":"IF(CA$5>=$F15,IF(CA$5<=#REF!,$K15,0),0)","v":{"$error":"#REF!"}},{"$f":"IF(CB$5>=$F15,IF(CB$5<=#REF!,$K15,0),0)","v":{"$error":"#REF!"}},{"$f":"IF(CC$5>=$F15,IF(CC$5<=#REF!,$K15,0),0)","v":{"$error":"#REF!"}},{"$f":"IF(CD$5>=$F15,IF(CD$5<=#REF!,$K15,0),0)","v":{"$error":"#REF!"}},{"$f":"IF(CE$5>=$F15,IF(CE$5<=#REF!,$K15,0),0)","v":{"$error":"#REF!"}},{"$f":"IF(CF$5>=$F15,IF(CF$5<=#REF!,$K15,0),0)","v":{"$error":"#REF!"}},{"$f":"IF(CG$5>=$F15,IF(CG$5<=#REF!,$K15,0),0)","v":{"$error":"#REF!"}},{"$f":"IF(CH$5>=$F15,IF(CH$5<=#REF!,$K15,0),0)","v":{"$error":"#REF!"}},{"$f":"IF(CI$5>=$F15,IF(CI$5<=#REF!,$K15,0),0)","v":{"$error":"#REF!"}},{"$f":"IF(CJ$5>=$F15,IF(CJ$5<=#REF!,$K15,0),0)","v":{"$error":"#REF!"}},{"$f":"IF(CK$5>=$F15,IF(CK$5<=#REF!,$K15,0),0)","v":{"$error":"#REF!"}},{"$f":"IF(CL$5>=$F15,IF(CL$5<=#REF!,$K15,0),0)","v":{"$error":"#REF!"}},{"$f":"IF(CM$5>=$F15,IF(CM$5<=#REF!,$K15,0),0)","v":{"$error":"#REF!"}},{"$f":"IF(CN$5>=$F15,IF(CN$5<=#REF!,$K15,0),0)","v":{"$error":"#REF!"}},{"$f":"IF(CO$5>=$F15,IF(CO$5<=#REF!,$K15,0),0)","v":{"$error":"#REF!"}},{"$f":"IF(CP$5>=$F15,IF(CP$5<=#REF!,$K15,0),0)","v":{"$error":"#REF!"}},{"$f":"IF(CQ$5>=$F15,IF(CQ$5<=#REF!,$K15,0),0)","v":{"$error":"#REF!"}},{"$f":"IF(CR$5>=$F15,IF(CR$5<=#REF!,$K15,0),0)","v":{"$error":"#REF!"}},{"$f":"IF(CS$5>=$F15,IF(CS$5<=#REF!,$K15,0),0)","v":{"$error":"#REF!"}},{"$f":"IF(CT$5>=$F15,IF(CT$5<=#REF!,$K15,0),0)","v":{"$error":"#REF!"}},{"$f":"IF(CU$5>=$F15,IF(CU$5<=#REF!,$K15,0),0)","v":{"$error":"#REF!"}},{"$f":"IF(CV$5>=$F15,IF(CV$5<=#REF!,$K15,0),0)","v":{"$error":"#REF!"}},{"$f":"IF(CW$5>=$F15,IF(CW$5<=#REF!,$K15,0),0)","v":{"$error":"#REF!"}},{"$f":"IF(CX$5>=$F15,IF(CX$5<=#REF!,$K15,0),0)","v":{"$error":"#REF!"}},{"$f":"IF(CY$5>=$F15,IF(CY$5<=#REF!,$K15,0),0)","v":{"$error":"#REF!"}},{"$f":"IF(CZ$5>=$F15,IF(CZ$5<=#REF!,$K15,0),0)","v":{"$error":"#REF!"}},{"$f":"IF(DA$5>=$F15,IF(DA$5<=#REF!,$K15,0),0)","v":{"$error":"#REF!"}},{"$f":"IF(DB$5>=$F15,IF(DB$5<=#REF!,$K15,0),0)","v":{"$error":"#REF!"}},{"$f":"IF(DC$5>=$F15,IF(DC$5<=#REF!,$K15,0),0)","v":{"$error":"#REF!"}},{"$f":"IF(DD$5>=$F15,IF(DD$5<=#REF!,$K15,0),0)","v":{"$error":"#REF!"}},{"$f":"IF(DE$5>=$F15,IF(DE$5<=#REF!,$K15,0),0)","v":{"$error":"#REF!"}},{"$f":"IF(DF$5>=$F15,IF(DF$5<=#REF!,$K15,0),0)","v":{"$error":"#REF!"}},{"$f":"IF(DG$5>=$F15,IF(DG$5<=#REF!,$K15,0),0)","v":{"$error":"#REF!"}},{"$f":"IF(DH$5>=$F15,IF(DH$5<=#REF!,$K15,0),0)","v":{"$error":"#REF!"}},{"$f":"IF(DI$5>=$F15,IF(DI$5<=#REF!,$K15,0),0)","v":{"$error":"#REF!"}},{"$f":"IF(DJ$5>=$F15,IF(DJ$5<=#REF!,$K15,0),0)","v":{"$error":"#REF!"}},{"$f":"IF(DK$5>=$F15,IF(DK$5<=#REF!,$K15,0),0)","v":{"$error":"#REF!"}},{"$f":"IF(DL$5>=$F15,IF(DL$5<=#REF!,$K15,0),0)","v":{"$error":"#REF!"}},{"$f":"IF(DM$5>=$F15,IF(DM$5<=#REF!,$K15,0),0)","v":{"$error":"#REF!"}},{"$f":"IF(DN$5>=$F15,IF(DN$5<=#REF!,$K15,0),0)","v":{"$error":"#REF!"}},{"$f":"IF(DO$5>=$F15,IF(DO$5<=#REF!,$K15,0),0)","v":{"$error":"#REF!"}},{"$f":"IF(DP$5>=$F15,IF(DP$5<=#REF!,$K15,0),0)","v":{"$error":"#REF!"}},{"$f":"IF(DQ$5>=$F15,IF(DQ$5<=#REF!,$K15,0),0)","v":{"$error":"#REF!"}},{"$f":"IF(DR$5>=$F15,IF(DR$5<=#REF!,$K15,0),0)","v":{"$error":"#REF!"}},{"$error":"#REF!"},"","",null,"その他１","その他１","鋼管　（溶接継手を有する） （m）","B1",150]
[null,null,null,null,null,null,{"$f":"IF($D16=\"\",0,VLOOKUP(($DU16&$C16&$D16),単価情報!$B$66:$C$932,2,FALSE))","v":0},0,0,0,{"$f":"IF(E16=0,0,ROUND(E16/#REF!,1))","v":0},{"$f":"IF(L$5>=$F16,IF(L$5<=#REF!,$K16,0),0)","v":{"$error":"#REF!"}},{"$f":"IF(M$5>=$F16,IF(M$5<=#REF!,$K16,0),0)","v":{"$error":"#REF!"}},{"$f":"IF(N$5>=$F16,IF(N$5<=#REF!,$K16,0),0)","v":{"$error":"#REF!"}},{"$f":"IF(O$5>=$F16,IF(O$5<=#REF!,$K16,0),0)","v":{"$error":"#REF!"}},{"$f":"IF(P$5>=$F16,IF(P$5<=#REF!,$K16,0),0)","v":{"$error":"#REF!"}},{"$f":"IF(Q$5>=$F16,IF(Q$5<=#REF!,$K16,0),0)","v":{"$error":"#REF!"}},{"$f":"IF(R$5>=$F16,IF(R$5<=#REF!,$K16,0),0)","v":{"$error":"#REF!"}},{"$f":"IF(S$5>=$F16,IF(S$5<=#REF!,$K16,0),0)","v":{"$error":"#REF!"}},{"$f":"IF(T$5>=$F16,IF(T$5<=#REF!,$K16,0),0)","v":{"$error":"#REF!"}},{"$f":"IF(U$5>=$F16,IF(U$5<=#REF!,$K16,0),0)","v":{"$error":"#REF!"}},{"$f":"IF(V$5>=$F16,IF(V$5<=#REF!,$K16,0),0)","v":{"$error":"#REF!"}},{"$f":"IF(W$5>=$F16,IF(W$5<=#REF!,$K16,0),0)","v":{"$error":"#REF!"}},{"$f":"IF(X$5>=$F16,IF(X$5<=#REF!,$K16,0),0)","v":{"$error":"#REF!"}},{"$f":"IF(Y$5>=$F16,IF(Y$5<=#REF!,$K16,0),0)","v":{"$error":"#REF!"}},{"$f":"IF(Z$5>=$F16,IF(Z$5<=#REF!,$K16,0),0)","v":{"$error":"#REF!"}},{"$f":"IF(AA$5>=$F16,IF(AA$5<=#REF!,$K16,0),0)","v":{"$error":"#REF!"}},{"$f":"IF(AB$5>=$F16,IF(AB$5<=#REF!,$K16,0),0)","v":{"$error":"#REF!"}},{"$f":"IF(AC$5>=$F16,IF(AC$5<=#REF!,$K16,0),0)","v":{"$error":"#REF!"}},{"$f":"IF(AD$5>=$F16,IF(AD$5<=#REF!,$K16,0),0)","v":{"$error":"#REF!"}},{"$f":"IF(AE$5>=$F16,IF(AE$5<=#REF!,$K16,0),0)","v":{"$error":"#REF!"}},{"$f":"IF(AF$5>=$F16,IF(AF$5<=#REF!,$K16,0),0)","v":{"$error":"#REF!"}},{"$f":"IF(AG$5>=$F16,IF(AG$5<=#REF!,$K16,0),0)","v":{"$error":"#REF!"}},{"$f":"IF(AH$5>=$F16,IF(AH$5<=#REF!,$K16,0),0)","v":{"$error":"#REF!"}},{"$f":"IF(AI$5>=$F16,IF(AI$5<=#REF!,$K16,0),0)","v":{"$error":"#REF!"}},{"$f":"IF(AJ$5>=$F16,IF(AJ$5<=#REF!,$K16,0),0)","v":{"$error":"#REF!"}},{"$f":"IF(AK$5>=$F16,IF(AK$5<=#REF!,$K16,0),0)","v":{"$error":"#REF!"}},{"$f":"IF(AL$5>=$F16,IF(AL$5<=#REF!,$K16,0),0)","v":{"$error":"#REF!"}},{"$f":"IF(AM$5>=$F16,IF(AM$5<=#REF!,$K16,0),0)","v":{"$error":"#REF!"}},{"$f":"IF(AN$5>=$F16,IF(AN$5<=#REF!,$K16,0),0)","v":{"$error":"#REF!"}},{"$f":"IF(AO$5>=$F16,IF(AO$5<=#REF!,$K16,0),0)","v":{"$error":"#REF!"}},{"$f":"IF(AP$5>=$F16,IF(AP$5<=#REF!,$K16,0),0)","v":{"$error":"#REF!"}},{"$f":"IF(AQ$5>=$F16,IF(AQ$5<=#REF!,$K16,0),0)","v":{"$error":"#REF!"}},{"$f":"IF(AR$5>=$F16,IF(AR$5<=#REF!,$K16,0),0)","v":{"$error":"#REF!"}},{"$f":"IF(AS$5>=$F16,IF(AS$5<=#REF!,$K16,0),0)","v":{"$error":"#REF!"}},{"$f":"IF(AT$5>=$F16,IF(AT$5<=#REF!,$K16,0),0)","v":{"$error":"#REF!"}},{"$f":"IF(AU$5>=$F16,IF(AU$5<=#REF!,$K16,0),0)","v":{"$error":"#REF!"}},{"$f":"IF(AV$5>=$F16,IF(AV$5<=#REF!,$K16,0),0)","v":{"$error":"#REF!"}},{"$f":"IF(AW$5>=$F16,IF(AW$5<=#REF!,$K16,0),0)","v":{"$error":"#REF!"}},{"$f":"IF(AX$5>=$F16,IF(AX$5<=#REF!,$K16,0),0)","v":{"$error":"#REF!"}},{"$f":"IF(AY$5>=$F16,IF(AY$5<=#REF!,$K16,0),0)","v":{"$error":"#REF!"}},{"$f":"IF(AZ$5>=$F16,IF(AZ$5<=#REF!,$K16,0),0)","v":{"$error":"#REF!"}},{"$f":"IF(BA$5>=$F16,IF(BA$5<=#REF!,$K16,0),0)","v":{"$error":"#REF!"}},{"$f":"IF(BB$5>=$F16,IF(BB$5<=#REF!,$K16,0),0)","v":{"$error":"#REF!"}},{"$f":"IF(BC$5>=$F16,IF(BC$5<=#REF!,$K16,0),0)","v":{"$error":"#REF!"}},{"$f":"IF(BD$5>=$F16,IF(BD$5<=#REF!,$K16,0),0)","v":{"$error":"#REF!"}},{"$f":"IF(BE$5>=$F16,IF(BE$5<=#REF!,$K16,0),0)","v":{"$error":"#REF!"}},{"$f":"IF(BF$5>=$F16,IF(BF$5<=#REF!,$K16,0),0)","v":{"$error":"#REF!"}},{"$f":"IF(BG$5>=$F16,IF(BG$5<=#REF!,$K16,0),0)","v":{"$error":"#REF!"}},{"$f":"IF(BH$5>=$F16,IF(BH$5<=#REF!,$K16,0),0)","v":{"$error":"#REF!"}},{"$f":"IF(BI$5>=$F16,IF(BI$5<=#REF!,$K16,0),0)","v":{"$error":"#REF!"}},{"$f":"IF(BJ$5>=$F16,IF(BJ$5<=#REF!,$K16,0),0)","v":{"$error":"#REF!"}},{"$f":"IF(BK$5>=$F16,IF(BK$5<=#REF!,$K16,0),0)","v":{"$error":"#REF!"}},{"$f":"IF(BL$5>=$F16,IF(BL$5<=#REF!,$K16,0),0)","v":{"$error":"#REF!"}},{"$f":"IF(BM$5>=$F16,IF(BM$5<=#REF!,$K16,0),0)","v":{"$error":"#REF!"}},{"$f":"IF(BN$5>=$F16,IF(BN$5<=#REF!,$K16,0),0)","v":{"$error":"#REF!"}},{"$f":"IF(BO$5>=$F16,IF(BO$5<=#REF!,$K16,0),0)","v":{"$error":"#REF!"}},{"$f":"IF(BP$5>=$F16,IF(BP$5<=#REF!,$K16,0),0)","v":{"$error":"#REF!"}},{"$f":"IF(BQ$5>=$F16,IF(BQ$5<=#REF!,$K16,0),0)","v":{"$error":"#REF!"}},{"$f":"IF(BR$5>=$F16,IF(BR$5<=#REF!,$K16,0),0)","v":{"$error":"#REF!"}},{"$f":"IF(BS$5>=$F16,IF(BS$5<=#REF!,$K16,0),0)","v":{"$error":"#REF!"}},{"$f":"IF(BT$5>=$F16,IF(BT$5<=#REF!,$K16,0),0)","v":{"$error":"#REF!"}},{"$f":"IF(BU$5>=$F16,IF(BU$5<=#REF!,$K16,0),0)","v":{"$error":"#REF!"}},{"$f":"IF(BV$5>=$F16,IF(BV$5<=#REF!,$K16,0),0)","v":{"$error":"#REF!"}},{"$f":"IF(BW$5>=$F16,IF(BW$5<=#REF!,$K16,0),0)","v":{"$error":"#REF!"}},{"$f":"IF(BX$5>=$F16,IF(BX$5<=#REF!,$K16,0),0)","v":{"$error":"#REF!"}},{"$f":"IF(BY$5>=$F16,IF(BY$5<=#REF!,$K16,0),0)","v":{"$error":"#REF!"}},{"$f":"IF(BZ$5>=$F16,IF(BZ$5<=#REF!,$K16,0),0)","v":{"$error":"#REF!"}},{"$f":"IF(CA$5>=$F16,IF(CA$5<=#REF!,$K16,0),0)","v":{"$error":"#REF!"}},{"$f":"IF(CB$5>=$F16,IF(CB$5<=#REF!,$K16,0),0)","v":{"$error":"#REF!"}},{"$f":"IF(CC$5>=$F16,IF(CC$5<=#REF!,$K16,0),0)","v":{"$error":"#REF!"}},{"$f":"IF(CD$5>=$F16,IF(CD$5<=#REF!,$K16,0),0)","v":{"$error":"#REF!"}},{"$f":"IF(CE$5>=$F16,IF(CE$5<=#REF!,$K16,0),0)","v":{"$error":"#REF!"}},{"$f":"IF(CF$5>=$F16,IF(CF$5<=#REF!,$K16,0),0)","v":{"$error":"#REF!"}},{"$f":"IF(CG$5>=$F16,IF(CG$5<=#REF!,$K16,0),0)","v":{"$error":"#REF!"}},{"$f":"IF(CH$5>=$F16,IF(CH$5<=#REF!,$K16,0),0)","v":{"$error":"#REF!"}},{"$f":"IF(CI$5>=$F16,IF(CI$5<=#REF!,$K16,0),0)","v":{"$error":"#REF!"}},{"$f":"IF(CJ$5>=$F16,IF(CJ$5<=#REF!,$K16,0),0)","v":{"$error":"#REF!"}},{"$f":"IF(CK$5>=$F16,IF(CK$5<=#REF!,$K16,0),0)","v":{"$error":"#REF!"}},{"$f":"IF(CL$5>=$F16,IF(CL$5<=#REF!,$K16,0),0)","v":{"$error":"#REF!"}},{"$f":"IF(CM$5>=$F16,IF(CM$5<=#REF!,$K16,0),0)","v":{"$error":"#REF!"}},{"$f":"IF(CN$5>=$F16,IF(CN$5<=#REF!,$K16,0),0)","v":{"$error":"#REF!"}},{"$f":"IF(CO$5>=$F16,IF(CO$5<=#REF!,$K16,0),0)","v":{"$error":"#REF!"}},{"$f":"IF(CP$5>=$F16,IF(CP$5<=#REF!,$K16,0),0)","v":{"$error":"#REF!"}},{"$f":"IF(CQ$5>=$F16,IF(CQ$5<=#REF!,$K16,0),0)","v":{"$error":"#REF!"}},{"$f":"IF(CR$5>=$F16,IF(CR$5<=#REF!,$K16,0),0)","v":{"$error":"#REF!"}},{"$f":"IF(CS$5>=$F16,IF(CS$5<=#REF!,$K16,0),0)","v":{"$error":"#REF!"}},{"$f":"IF(CT$5>=$F16,IF(CT$5<=#REF!,$K16,0),0)","v":{"$error":"#REF!"}},{"$f":"IF(CU$5>=$F16,IF(CU$5<=#REF!,$K16,0),0)","v":{"$error":"#REF!"}},{"$f":"IF(CV$5>=$F16,IF(CV$5<=#REF!,$K16,0),0)","v":{"$error":"#REF!"}},{"$f":"IF(CW$5>=$F16,IF(CW$5<=#REF!,$K16,0),0)","v":{"$error":"#REF!"}},{"$f":"IF(CX$5>=$F16,IF(CX$5<=#REF!,$K16,0),0)","v":{"$error":"#REF!"}},{"$f":"IF(CY$5>=$F16,IF(CY$5<=#REF!,$K16,0),0)","v":{"$error":"#REF!"}},{"$f":"IF(CZ$5>=$F16,IF(CZ$5<=#REF!,$K16,0),0)","v":{"$error":"#REF!"}},{"$f":"IF(DA$5>=$F16,IF(DA$5<=#REF!,$K16,0),0)","v":{"$error":"#REF!"}},{"$f":"IF(DB$5>=$F16,IF(DB$5<=#REF!,$K16,0),0)","v":{"$error":"#REF!"}},{"$f":"IF(DC$5>=$F16,IF(DC$5<=#REF!,$K16,0),0)","v":{"$error":"#REF!"}},{"$f":"IF(DD$5>=$F16,IF(DD$5<=#REF!,$K16,0),0)","v":{"$error":"#REF!"}},{"$f":"IF(DE$5>=$F16,IF(DE$5<=#REF!,$K16,0),0)","v":{"$error":"#REF!"}},{"$f":"IF(DF$5>=$F16,IF(DF$5<=#REF!,$K16,0),0)","v":{"$error":"#REF!"}},{"$f":"IF(DG$5>=$F16,IF(DG$5<=#REF!,$K16,0),0)","v":{"$error":"#REF!"}},{"$f":"IF(DH$5>=$F16,IF(DH$5<=#REF!,$K16,0),0)","v":{"$error":"#REF!"}},{"$f":"IF(DI$5>=$F16,IF(DI$5<=#REF!,$K16,0),0)","v":{"$error":"#REF!"}},{"$f":"IF(DJ$5>=$F16,IF(DJ$5<=#REF!,$K16,0),0)","v":{"$error":"#REF!"}},{"$f":"IF(DK$5>=$F16,IF(DK$5<=#REF!,$K16,0),0)","v":{"$error":"#REF!"}},{"$f":"IF(DL$5>=$F16,IF(DL$5<=#REF!,$K16,0),0)","v":{"$error":"#REF!"}},{"$f":"IF(DM$5>=$F16,IF(DM$5<=#REF!,$K16,0),0)","v":{"$error":"#REF!"}},{"$f":"IF(DN$5>=$F16,IF(DN$5<=#REF!,$K16,0),0)","v":{"$error":"#REF!"}},{"$f":"IF(DO$5>=$F16,IF(DO$5<=#REF!,$K16,0),0)","v":{"$error":"#REF!"}},{"$f":"IF(DP$5>=$F16,IF(DP$5<=#REF!,$K16,0),0)","v":{"$error":"#REF!"}},{"$f":"IF(DQ$5>=$F16,IF(DQ$5<=#REF!,$K16,0),0)","v":{"$error":"#REF!"}},{"$f":"IF(DR$5>=$F16,IF(DR$5<=#REF!,$K16,0),0)","v":{"$error":"#REF!"}},{"$error":"#REF!"},"","",null,"その他２","その他２","鋼管　（上記以外・不明なものを含む） (m)","B9",200]
[null,null,null,null,null,null,{"$f":"IF($D17=\"\",0,VLOOKUP(($DU17&$C17&$D17),単価情報!$B$66:$C$932,2,FALSE))","v":0},0,0,0,{"$f":"IF(E17=0,0,ROUND(E17/#REF!,1))","v":0},{"$f":"IF(L$5>=$F17,IF(L$5<=#REF!,$K17,0),0)","v":{"$error":"#REF!"}},{"$f":"IF(M$5>=$F17,IF(M$5<=#REF!,$K17,0),0)","v":{"$error":"#REF!"}},{"$f":"IF(N$5>=$F17,IF(N$5<=#REF!,$K17,0),0)","v":{"$error":"#REF!"}},{"$f":"IF(O$5>=$F17,IF(O$5<=#REF!,$K17,0),0)","v":{"$error":"#REF!"}},{"$f":"IF(P$5>=$F17,IF(P$5<=#REF!,$K17,0),0)","v":{"$error":"#REF!"}},{"$f":"IF(Q$5>=$F17,IF(Q$5<=#REF!,$K17,0),0)","v":{"$error":"#REF!"}},{"$f":"IF(R$5>=$F17,IF(R$5<=#REF!,$K17,0),0)","v":{"$error":"#REF!"}},{"$f":"IF(S$5>=$F17,IF(S$5<=#REF!,$K17,0),0)","v":{"$error":"#REF!"}},{"$f":"IF(T$5>=$F17,IF(T$5<=#REF!,$K17,0),0)","v":{"$error":"#REF!"}},{"$f":"IF(U$5>=$F17,IF(U$5<=#REF!,$K17,0),0)","v":{"$error":"#REF!"}},{"$f":"IF(V$5>=$F17,IF(V$5<=#REF!,$K17,0),0)","v":{"$error":"#REF!"}},{"$f":"IF(W$5>=$F17,IF(W$5<=#REF!,$K17,0),0)","v":{"$error":"#REF!"}},{"$f":"IF(X$5>=$F17,IF(X$5<=#REF!,$K17,0),0)","v":{"$error":"#REF!"}},{"$f":"IF(Y$5>=$F17,IF(Y$5<=#REF!,$K17,0),0)","v":{"$error":"#REF!"}},{"$f":"IF(Z$5>=$F17,IF(Z$5<=#REF!,$K17,0),0)","v":{"$error":"#REF!"}},{"$f":"IF(AA$5>=$F17,IF(AA$5<=#REF!,$K17,0),0)","v":{"$error":"#REF!"}},{"$f":"IF(AB$5>=$F17,IF(AB$5<=#REF!,$K17,0),0)","v":{"$error":"#REF!"}},{"$f":"IF(AC$5>=$F17,IF(AC$5<=#REF!,$K17,0),0)","v":{"$error":"#REF!"}},{"$f":"IF(AD$5>=$F17,IF(AD$5<=#REF!,$K17,0),0)","v":{"$error":"#REF!"}},{"$f":"IF(AE$5>=$F17,IF(AE$5<=#REF!,$K17,0),0)","v":{"$error":"#REF!"}},{"$f":"IF(AF$5>=$F17,IF(AF$5<=#REF!,$K17,0),0)","v":{"$error":"#REF!"}},{"$f":"IF(AG$5>=$F17,IF(AG$5<=#REF!,$K17,0),0)","v":{"$error":"#REF!"}},{"$f":"IF(AH$5>=$F17,IF(AH$5<=#REF!,$K17,0),0)","v":{"$error":"#REF!"}},{"$f":"IF(AI$5>=$F17,IF(AI$5<=#REF!,$K17,0),0)","v":{"$error":"#REF!"}},{"$f":"IF(AJ$5>=$F17,IF(AJ$5<=#REF!,$K17,0),0)","v":{"$error":"#REF!"}},{"$f":"IF(AK$5>=$F17,IF(AK$5<=#REF!,$K17,0),0)","v":{"$error":"#REF!"}},{"$f":"IF(AL$5>=$F17,IF(AL$5<=#REF!,$K17,0),0)","v":{"$error":"#REF!"}},{"$f":"IF(AM$5>=$F17,IF(AM$5<=#REF!,$K17,0),0)","v":{"$error":"#REF!"}},{"$f":"IF(AN$5>=$F17,IF(AN$5<=#REF!,$K17,0),0)","v":{"$error":"#REF!"}},{"$f":"IF(AO$5>=$F17,IF(AO$5<=#REF!,$K17,0),0)","v":{"$error":"#REF!"}},{"$f":"IF(AP$5>=$F17,IF(AP$5<=#REF!,$K17,0),0)","v":{"$error":"#REF!"}},{"$f":"IF(AQ$5>=$F17,IF(AQ$5<=#REF!,$K17,0),0)","v":{"$error":"#REF!"}},{"$f":"IF(AR$5>=$F17,IF(AR$5<=#REF!,$K17,0),0)","v":{"$error":"#REF!"}},{"$f":"IF(AS$5>=$F17,IF(AS$5<=#REF!,$K17,0),0)","v":{"$error":"#REF!"}},{"$f":"IF(AT$5>=$F17,IF(AT$5<=#REF!,$K17,0),0)","v":{"$error":"#REF!"}},{"$f":"IF(AU$5>=$F17,IF(AU$5<=#REF!,$K17,0),0)","v":{"$error":"#REF!"}},{"$f":"IF(AV$5>=$F17,IF(AV$5<=#REF!,$K17,0),0)","v":{"$error":"#REF!"}},{"$f":"IF(AW$5>=$F17,IF(AW$5<=#REF!,$K17,0),0)","v":{"$error":"#REF!"}},{"$f":"IF(AX$5>=$F17,IF(AX$5<=#REF!,$K17,0),0)","v":{"$error":"#REF!"}},{"$f":"IF(AY$5>=$F17,IF(AY$5<=#REF!,$K17,0),0)","v":{"$error":"#REF!"}},{"$f":"IF(AZ$5>=$F17,IF(AZ$5<=#REF!,$K17,0),0)","v":{"$error":"#REF!"}},{"$f":"IF(BA$5>=$F17,IF(BA$5<=#REF!,$K17,0),0)","v":{"$error":"#REF!"}},{"$f":"IF(BB$5>=$F17,IF(BB$5<=#REF!,$K17,0),0)","v":{"$error":"#REF!"}},{"$f":"IF(BC$5>=$F17,IF(BC$5<=#REF!,$K17,0),0)","v":{"$error":"#REF!"}},{"$f":"IF(BD$5>=$F17,IF(BD$5<=#REF!,$K17,0),0)","v":{"$error":"#REF!"}},{"$f":"IF(BE$5>=$F17,IF(BE$5<=#REF!,$K17,0),0)","v":{"$error":"#REF!"}},{"$f":"IF(BF$5>=$F17,IF(BF$5<=#REF!,$K17,0),0)","v":{"$error":"#REF!"}},{"$f":"IF(BG$5>=$F17,IF(BG$5<=#REF!,$K17,0),0)","v":{"$error":"#REF!"}},{"$f":"IF(BH$5>=$F17,IF(BH$5<=#REF!,$K17,0),0)","v":{"$error":"#REF!"}},{"$f":"IF(BI$5>=$F17,IF(BI$5<=#REF!,$K17,0),0)","v":{"$error":"#REF!"}},{"$f":"IF(BJ$5>=$F17,IF(BJ$5<=#REF!,$K17,0),0)","v":{"$error":"#REF!"}},{"$f":"IF(BK$5>=$F17,IF(BK$5<=#REF!,$K17,0),0)","v":{"$error":"#REF!"}},{"$f":"IF(BL$5>=$F17,IF(BL$5<=#REF!,$K17,0),0)","v":{"$error":"#REF!"}},{"$f":"IF(BM$5>=$F17,IF(BM$5<=#REF!,$K17,0),0)","v":{"$error":"#REF!"}},{"$f":"IF(BN$5>=$F17,IF(BN$5<=#REF!,$K17,0),0)","v":{"$error":"#REF!"}},{"$f":"IF(BO$5>=$F17,IF(BO$5<=#REF!,$K17,0),0)","v":{"$error":"#REF!"}},{"$f":"IF(BP$5>=$F17,IF(BP$5<=#REF!,$K17,0),0)","v":{"$error":"#REF!"}},{"$f":"IF(BQ$5>=$F17,IF(BQ$5<=#REF!,$K17,0),0)","v":{"$error":"#REF!"}},{"$f":"IF(BR$5>=$F17,IF(BR$5<=#REF!,$K17,0),0)","v":{"$error":"#REF!"}},{"$f":"IF(BS$5>=$F17,IF(BS$5<=#REF!,$K17,0),0)","v":{"$error":"#REF!"}},{"$f":"IF(BT$5>=$F17,IF(BT$5<=#REF!,$K17,0),0)","v":{"$error":"#REF!"}},{"$f":"IF(BU$5>=$F17,IF(BU$5<=#REF!,$K17,0),0)","v":{"$error":"#REF!"}},{"$f":"IF(BV$5>=$F17,IF(BV$5<=#REF!,$K17,0),0)","v":{"$error":"#REF!"}},{"$f":"IF(BW$5>=$F17,IF(BW$5<=#REF!,$K17,0),0)","v":{"$error":"#REF!"}},{"$f":"IF(BX$5>=$F17,IF(BX$5<=#REF!,$K17,0),0)","v":{"$error":"#REF!"}},{"$f":"IF(BY$5>=$F17,IF(BY$5<=#REF!,$K17,0),0)","v":{"$error":"#REF!"}},{"$f":"IF(BZ$5>=$F17,IF(BZ$5<=#REF!,$K17,0),0)","v":{"$error":"#REF!"}},{"$f":"IF(CA$5>=$F17,IF(CA$5<=#REF!,$K17,0),0)","v":{"$error":"#REF!"}},{"$f":"IF(CB$5>=$F17,IF(CB$5<=#REF!,$K17,0),0)","v":{"$error":"#REF!"}},{"$f":"IF(CC$5>=$F17,IF(CC$5<=#REF!,$K17,0),0)","v":{"$error":"#REF!"}},{"$f":"IF(CD$5>=$F17,IF(CD$5<=#REF!,$K17,0),0)","v":{"$error":"#REF!"}},{"$f":"IF(CE$5>=$F17,IF(CE$5<=#REF!,$K17,0),0)","v":{"$error":"#REF!"}},{"$f":"IF(CF$5>=$F17,IF(CF$5<=#REF!,$K17,0),0)","v":{"$error":"#REF!"}},{"$f":"IF(CG$5>=$F17,IF(CG$5<=#REF!,$K17,0),0)","v":{"$error":"#REF!"}},{"$f":"IF(CH$5>=$F17,IF(CH$5<=#REF!,$K17,0),0)","v":{"$error":"#REF!"}},{"$f":"IF(CI$5>=$F17,IF(CI$5<=#REF!,$K17,0),0)","v":{"$error":"#REF!"}},{"$f":"IF(CJ$5>=$F17,IF(CJ$5<=#REF!,$K17,0),0)","v":{"$error":"#REF!"}},{"$f":"IF(CK$5>=$F17,IF(CK$5<=#REF!,$K17,0),0)","v":{"$error":"#REF!"}},{"$f":"IF(CL$5>=$F17,IF(CL$5<=#REF!,$K17,0),0)","v":{"$error":"#REF!"}},{"$f":"IF(CM$5>=$F17,IF(CM$5<=#REF!,$K17,0),0)","v":{"$error":"#REF!"}},{"$f":"IF(CN$5>=$F17,IF(CN$5<=#REF!,$K17,0),0)","v":{"$error":"#REF!"}},{"$f":"IF(CO$5>=$F17,IF(CO$5<=#REF!,$K17,0),0)","v":{"$error":"#REF!"}},{"$f":"IF(CP$5>=$F17,IF(CP$5<=#REF!,$K17,0),0)","v":{"$error":"#REF!"}},{"$f":"IF(CQ$5>=$F17,IF(CQ$5<=#REF!,$K17,0),0)","v":{"$error":"#REF!"}},{"$f":"IF(CR$5>=$F17,IF(CR$5<=#REF!,$K17,0),0)","v":{"$error":"#REF!"}},{"$f":"IF(CS$5>=$F17,IF(CS$5<=#REF!,$K17,0),0)","v":{"$error":"#REF!"}},{"$f":"IF(CT$5>=$F17,IF(CT$5<=#REF!,$K17,0),0)","v":{"$error":"#REF!"}},{"$f":"IF(CU$5>=$F17,IF(CU$5<=#REF!,$K17,0),0)","v":{"$error":"#REF!"}},{"$f":"IF(CV$5>=$F17,IF(CV$5<=#REF!,$K17,0),0)","v":{"$error":"#REF!"}},{"$f":"IF(CW$5>=$F17,IF(CW$5<=#REF!,$K17,0),0)","v":{"$error":"#REF!"}},{"$f":"IF(CX$5>=$F17,IF(CX$5<=#REF!,$K17,0),0)","v":{"$error":"#REF!"}},{"$f":"IF(CY$5>=$F17,IF(CY$5<=#REF!,$K17,0),0)","v":{"$error":"#REF!"}},{"$f":"IF(CZ$5>=$F17,IF(CZ$5<=#REF!,$K17,0),0)","v":{"$error":"#REF!"}},{"$f":"IF(DA$5>=$F17,IF(DA$5<=#REF!,$K17,0),0)","v":{"$error":"#REF!"}},{"$f":"IF(DB$5>=$F17,IF(DB$5<=#REF!,$K17,0),0)","v":{"$error":"#REF!"}},{"$f":"IF(DC$5>=$F17,IF(DC$5<=#REF!,$K17,0),0)","v":{"$error":"#REF!"}},{"$f":"IF(DD$5>=$F17,IF(DD$5<=#REF!,$K17,0),0)","v":{"$error":"#REF!"}},{"$f":"IF(DE$5>=$F17,IF(DE$5<=#REF!,$K17,0),0)","v":{"$error":"#REF!"}},{"$f":"IF(DF$5>=$F17,IF(DF$5<=#REF!,$K17,0),0)","v":{"$error":"#REF!"}},{"$f":"IF(DG$5>=$F17,IF(DG$5<=#REF!,$K17,0),0)","v":{"$error":"#REF!"}},{"$f":"IF(DH$5>=$F17,IF(DH$5<=#REF!,$K17,0),0)","v":{"$error":"#REF!"}},{"$f":"IF(DI$5>=$F17,IF(DI$5<=#REF!,$K17,0),0)","v":{"$error":"#REF!"}},{"$f":"IF(DJ$5>=$F17,IF(DJ$5<=#REF!,$K17,0),0)","v":{"$error":"#REF!"}},{"$f":"IF(DK$5>=$F17,IF(DK$5<=#REF!,$K17,0),0)","v":{"$error":"#REF!"}},{"$f":"IF(DL$5>=$F17,IF(DL$5<=#REF!,$K17,0),0)","v":{"$error":"#REF!"}},{"$f":"IF(DM$5>=$F17,IF(DM$5<=#REF!,$K17,0),0)","v":{"$error":"#REF!"}},{"$f":"IF(DN$5>=$F17,IF(DN$5<=#REF!,$K17,0),0)","v":{"$error":"#REF!"}},{"$f":"IF(DO$5>=$F17,IF(DO$5<=#REF!,$K17,0),0)","v":{"$error":"#REF!"}},{"$f":"IF(DP$5>=$F17,IF(DP$5<=#REF!,$K17,0),0)","v":{"$error":"#REF!"}},{"$f":"IF(DQ$5>=$F17,IF(DQ$5<=#REF!,$K17,0),0)","v":{"$error":"#REF!"}},{"$f":"IF(DR$5>=$F17,IF(DR$5<=#REF!,$K17,0),0)","v":{"$error":"#REF!"}},{"$error":"#REF!"},"","",null,"その他３","その他３","石綿セメント管 (m)","C1",250]
[null,null,null,null,null,null,{"$f":"IF($D18=\"\",0,VLOOKUP(($DU18&$C18&$D18),単価情報!$B$66:$C$932,2,FALSE))","v":0},0,0,0,{"$f":"IF(E18=0,0,ROUND(E18/#REF!,1))","v":0},{"$f":"IF(L$5>=$F18,IF(L$5<=#REF!,$K18,0),0)","v":{"$error":"#REF!"}},{"$f":"IF(M$5>=$F18,IF(M$5<=#REF!,$K18,0),0)","v":{"$error":"#REF!"}},{"$f":"IF(N$5>=$F18,IF(N$5<=#REF!,$K18,0),0)","v":{"$error":"#REF!"}},{"$f":"IF(O$5>=$F18,IF(O$5<=#REF!,$K18,0),0)","v":{"$error":"#REF!"}},{"$f":"IF(P$5>=$F18,IF(P$5<=#REF!,$K18,0),0)","v":{"$error":"#REF!"}},{"$f":"IF(Q$5>=$F18,IF(Q$5<=#REF!,$K18,0),0)","v":{"$error":"#REF!"}},{"$f":"IF(R$5>=$F18,IF(R$5<=#REF!,$K18,0),0)","v":{"$error":"#REF!"}},{"$f":"IF(S$5>=$F18,IF(S$5<=#REF!,$K18,0),0)","v":{"$error":"#REF!"}},{"$f":"IF(T$5>=$F18,IF(T$5<=#REF!,$K18,0),0)","v":{"$error":"#REF!"}},{"$f":"IF(U$5>=$F18,IF(U$5<=#REF!,$K18,0),0)","v":{"$error":"#REF!"}},{"$f":"IF(V$5>=$F18,IF(V$5<=#REF!,$K18,0),0)","v":{"$error":"#REF!"}},{"$f":"IF(W$5>=$F18,IF(W$5<=#REF!,$K18,0),0)","v":{"$error":"#REF!"}},{"$f":"IF(X$5>=$F18,IF(X$5<=#REF!,$K18,0),0)","v":{"$error":"#REF!"}},{"$f":"IF(Y$5>=$F18,IF(Y$5<=#REF!,$K18,0),0)","v":{"$error":"#REF!"}},{"$f":"IF(Z$5>=$F18,IF(Z$5<=#REF!,$K18,0),0)","v":{"$error":"#REF!"}},{"$f":"IF(AA$5>=$F18,IF(AA$5<=#REF!,$K18,0),0)","v":{"$error":"#REF!"}},{"$f":"IF(AB$5>=$F18,IF(AB$5<=#REF!,$K18,0),0)","v":{"$error":"#REF!"}},{"$f":"IF(AC$5>=$F18,IF(AC$5<=#REF!,$K18,0),0)","v":{"$error":"#REF!"}},{"$f":"IF(AD$5>=$F18,IF(AD$5<=#REF!,$K18,0),0)","v":{"$error":"#REF!"}},{"$f":"IF(AE$5>=$F18,IF(AE$5<=#REF!,$K18,0),0)","v":{"$error":"#REF!"}},{"$f":"IF(AF$5>=$F18,IF(AF$5<=#REF!,$K18,0),0)","v":{"$error":"#REF!"}},{"$f":"IF(AG$5>=$F18,IF(AG$5<=#REF!,$K18,0),0)","v":{"$error":"#REF!"}},{"$f":"IF(AH$5>=$F18,IF(AH$5<=#REF!,$K18,0),0)","v":{"$error":"#REF!"}},{"$f":"IF(AI$5>=$F18,IF(AI$5<=#REF!,$K18,0),0)","v":{"$error":"#REF!"}},{"$f":"IF(AJ$5>=$F18,IF(AJ$5<=#REF!,$K18,0),0)","v":{"$error":"#REF!"}},{"$f":"IF(AK$5>=$F18,IF(AK$5<=#REF!,$K18,0),0)","v":{"$error":"#REF!"}},{"$f":"IF(AL$5>=$F18,IF(AL$5<=#REF!,$K18,0),0)","v":{"$error":"#REF!"}},{"$f":"IF(AM$5>=$F18,IF(AM$5<=#REF!,$K18,0),0)","v":{"$error":"#REF!"}},{"$f":"IF(AN$5>=$F18,IF(AN$5<=#REF!,$K18,0),0)","v":{"$error":"#REF!"}},{"$f":"IF(AO$5>=$F18,IF(AO$5<=#REF!,$K18,0),0)","v":{"$error":"#REF!"}},{"$f":"IF(AP$5>=$F18,IF(AP$5<=#REF!,$K18,0),0)","v":{"$error":"#REF!"}},{"$f":"IF(AQ$5>=$F18,IF(AQ$5<=#REF!,$K18,0),0)","v":{"$error":"#REF!"}},{"$f":"IF(AR$5>=$F18,IF(AR$5<=#REF!,$K18,0),0)","v":{"$error":"#REF!"}},{"$f":"IF(AS$5>=$F18,IF(AS$5<=#REF!,$K18,0),0)","v":{"$error":"#REF!"}},{"$f":"IF(AT$5>=$F18,IF(AT$5<=#REF!,$K18,0),0)","v":{"$error":"#REF!"}},{"$f":"IF(AU$5>=$F18,IF(AU$5<=#REF!,$K18,0),0)","v":{"$error":"#REF!"}},{"$f":"IF(AV$5>=$F18,IF(AV$5<=#REF!,$K18,0),0)","v":{"$error":"#REF!"}},{"$f":"IF(AW$5>=$F18,IF(AW$5<=#REF!,$K18,0),0)","v":{"$error":"#REF!"}},{"$f":"IF(AX$5>=$F18,IF(AX$5<=#REF!,$K18,0),0)","v":{"$error":"#REF!"}},{"$f":"IF(AY$5>=$F18,IF(AY$5<=#REF!,$K18,0),0)","v":{"$error":"#REF!"}},{"$f":"IF(AZ$5>=$F18,IF(AZ$5<=#REF!,$K18,0),0)","v":{"$error":"#REF!"}},{"$f":"IF(BA$5>=$F18,IF(BA$5<=#REF!,$K18,0),0)","v":{"$error":"#REF!"}},{"$f":"IF(BB$5>=$F18,IF(BB$5<=#REF!,$K18,0),0)","v":{"$error":"#REF!"}},{"$f":"IF(BC$5>=$F18,IF(BC$5<=#REF!,$K18,0),0)","v":{"$error":"#REF!"}},{"$f":"IF(BD$5>=$F18,IF(BD$5<=#REF!,$K18,0),0)","v":{"$error":"#REF!"}},{"$f":"IF(BE$5>=$F18,IF(BE$5<=#REF!,$K18,0),0)","v":{"$error":"#REF!"}},{"$f":"IF(BF$5>=$F18,IF(BF$5<=#REF!,$K18,0),0)","v":{"$error":"#REF!"}},{"$f":"IF(BG$5>=$F18,IF(BG$5<=#REF!,$K18,0),0)","v":{"$error":"#REF!"}},{"$f":"IF(BH$5>=$F18,IF(BH$5<=#REF!,$K18,0),0)","v":{"$error":"#REF!"}},{"$f":"IF(BI$5>=$F18,IF(BI$5<=#REF!,$K18,0),0)","v":{"$error":"#REF!"}},{"$f":"IF(BJ$5>=$F18,IF(BJ$5<=#REF!,$K18,0),0)","v":{"$error":"#REF!"}},{"$f":"IF(BK$5>=$F18,IF(BK$5<=#REF!,$K18,0),0)","v":{"$error":"#REF!"}},{"$f":"IF(BL$5>=$F18,IF(BL$5<=#REF!,$K18,0),0)","v":{"$error":"#REF!"}},{"$f":"IF(BM$5>=$F18,IF(BM$5<=#REF!,$K18,0),0)","v":{"$error":"#REF!"}},{"$f":"IF(BN$5>=$F18,IF(BN$5<=#REF!,$K18,0),0)","v":{"$error":"#REF!"}},{"$f":"IF(BO$5>=$F18,IF(BO$5<=#REF!,$K18,0),0)","v":{"$error":"#REF!"}},{"$f":"IF(BP$5>=$F18,IF(BP$5<=#REF!,$K18,0),0)","v":{"$error":"#REF!"}},{"$f":"IF(BQ$5>=$F18,IF(BQ$5<=#REF!,$K18,0),0)","v":{"$error":"#REF!"}},{"$f":"IF(BR$5>=$F18,IF(BR$5<=#REF!,$K18,0),0)","v":{"$error":"#REF!"}},{"$f":"IF(BS$5>=$F18,IF(BS$5<=#REF!,$K18,0),0)","v":{"$error":"#REF!"}},{"$f":"IF(BT$5>=$F18,IF(BT$5<=#REF!,$K18,0),0)","v":{"$error":"#REF!"}},{"$f":"IF(BU$5>=$F18,IF(BU$5<=#REF!,$K18,0),0)","v":{"$error":"#REF!"}},{"$f":"IF(BV$5>=$F18,IF(BV$5<=#REF!,$K18,0),0)","v":{"$error":"#REF!"}},{"$f":"IF(BW$5>=$F18,IF(BW$5<=#REF!,$K18,0),0)","v":{"$error":"#REF!"}},{"$f":"IF(BX$5>=$F18,IF(BX$5<=#REF!,$K18,0),0)","v":{"$error":"#REF!"}},{"$f":"IF(BY$5>=$F18,IF(BY$5<=#REF!,$K18,0),0)","v":{"$error":"#REF!"}},{"$f":"IF(BZ$5>=$F18,IF(BZ$5<=#REF!,$K18,0),0)","v":{"$error":"#REF!"}},{"$f":"IF(CA$5>=$F18,IF(CA$5<=#REF!,$K18,0),0)","v":{"$error":"#REF!"}},{"$f":"IF(CB$5>=$F18,IF(CB$5<=#REF!,$K18,0),0)","v":{"$error":"#REF!"}},{"$f":"IF(CC$5>=$F18,IF(CC$5<=#REF!,$K18,0),0)","v":{"$error":"#REF!"}},{"$f":"IF(CD$5>=$F18,IF(CD$5<=#REF!,$K18,0),0)","v":{"$error":"#REF!"}},{"$f":"IF(CE$5>=$F18,IF(CE$5<=#REF!,$K18,0),0)","v":{"$error":"#REF!"}},{"$f":"IF(CF$5>=$F18,IF(CF$5<=#REF!,$K18,0),0)","v":{"$error":"#REF!"}},{"$f":"IF(CG$5>=$F18,IF(CG$5<=#REF!,$K18,0),0)","v":{"$error":"#REF!"}},{"$f":"IF(CH$5>=$F18,IF(CH$5<=#REF!,$K18,0),0)","v":{"$error":"#REF!"}},{"$f":"IF(CI$5>=$F18,IF(CI$5<=#REF!,$K18,0),0)","v":{"$error":"#REF!"}},{"$f":"IF(CJ$5>=$F18,IF(CJ$5<=#REF!,$K18,0),0)","v":{"$error":"#REF!"}},{"$f":"IF(CK$5>=$F18,IF(CK$5<=#REF!,$K18,0),0)","v":{"$error":"#REF!"}},{"$f":"IF(CL$5>=$F18,IF(CL$5<=#REF!,$K18,0),0)","v":{"$error":"#REF!"}},{"$f":"IF(CM$5>=$F18,IF(CM$5<=#REF!,$K18,0),0)","v":{"$error":"#REF!"}},{"$f":"IF(CN$5>=$F18,IF(CN$5<=#REF!,$K18,0),0)","v":{"$error":"#REF!"}},{"$f":"IF(CO$5>=$F18,IF(CO$5<=#REF!,$K18,0),0)","v":{"$error":"#REF!"}},{"$f":"IF(CP$5>=$F18,IF(CP$5<=#REF!,$K18,0),0)","v":{"$error":"#REF!"}},{"$f":"IF(CQ$5>=$F18,IF(CQ$5<=#REF!,$K18,0),0)","v":{"$error":"#REF!"}},{"$f":"IF(CR$5>=$F18,IF(CR$5<=#REF!,$K18,0),0)","v":{"$error":"#REF!"}},{"$f":"IF(CS$5>=$F18,IF(CS$5<=#REF!,$K18,0),0)","v":{"$error":"#REF!"}},{"$f":"IF(CT$5>=$F18,IF(CT$5<=#REF!,$K18,0),0)","v":{"$error":"#REF!"}},{"$f":"IF(CU$5>=$F18,IF(CU$5<=#REF!,$K18,0),0)","v":{"$error":"#REF!"}},{"$f":"IF(CV$5>=$F18,IF(CV$5<=#REF!,$K18,0),0)","v":{"$error":"#REF!"}},{"$f":"IF(CW$5>=$F18,IF(CW$5<=#REF!,$K18,0),0)","v":{"$error":"#REF!"}},{"$f":"IF(CX$5>=$F18,IF(CX$5<=#REF!,$K18,0),0)","v":{"$error":"#REF!"}},{"$f":"IF(CY$5>=$F18,IF(CY$5<=#REF!,$K18,0),0)","v":{"$error":"#REF!"}},{"$f":"IF(CZ$5>=$F18,IF(CZ$5<=#REF!,$K18,0),0)","v":{"$error":"#REF!"}},{"$f":"IF(DA$5>=$F18,IF(DA$5<=#REF!,$K18,0),0)","v":{"$error":"#REF!"}},{"$f":"IF(DB$5>=$F18,IF(DB$5<=#REF!,$K18,0),0)","v":{"$error":"#REF!"}},{"$f":"IF(DC$5>=$F18,IF(DC$5<=#REF!,$K18,0),0)","v":{"$error":"#REF!"}},{"$f":"IF(DD$5>=$F18,IF(DD$5<=#REF!,$K18,0),0)","v":{"$error":"#REF!"}},{"$f":"IF(DE$5>=$F18,IF(DE$5<=#REF!,$K18,0),0)","v":{"$error":"#REF!"}},{"$f":"IF(DF$5>=$F18,IF(DF$5<=#REF!,$K18,0),0)","v":{"$error":"#REF!"}},{"$f":"IF(DG$5>=$F18,IF(DG$5<=#REF!,$K18,0),0)","v":{"$error":"#REF!"}},{"$f":"IF(DH$5>=$F18,IF(DH$5<=#REF!,$K18,0),0)","v":{"$error":"#REF!"}},{"$f":"IF(DI$5>=$F18,IF(DI$5<=#REF!,$K18,0),0)","v":{"$error":"#REF!"}},{"$f":"IF(DJ$5>=$F18,IF(DJ$5<=#REF!,$K18,0),0)","v":{"$error":"#REF!"}},{"$f":"IF(DK$5>=$F18,IF(DK$5<=#REF!,$K18,0),0)","v":{"$error":"#REF!"}},{"$f":"IF(DL$5>=$F18,IF(DL$5<=#REF!,$K18,0),0)","v":{"$error":"#REF!"}},{"$f":"IF(DM$5>=$F18,IF(DM$5<=#REF!,$K18,0),0)","v":{"$error":"#REF!"}},{"$f":"IF(DN$5>=$F18,IF(DN$5<=#REF!,$K18,0),0)","v":{"$error":"#REF!"}},{"$f":"IF(DO$5>=$F18,IF(DO$5<=#REF!,$K18,0),0)","v":{"$error":"#REF!"}},{"$f":"IF(DP$5>=$F18,IF(DP$5<=#REF!,$K18,0),0)","v":{"$error":"#REF!"}},{"$f":"IF(DQ$5>=$F18,IF(DQ$5<=#REF!,$K18,0),0)","v":{"$error":"#REF!"}},{"$f":"IF(DR$5>=$F18,IF(DR$5<=#REF!,$K18,0),0)","v":{"$error":"#REF!"}},{"$error":"#REF!"},"","",null,null,null,"硬質塩化ビニル管　（ＲＲロング継手等を有する） (m)","D1",300]
[null,null,null,null,null,null,{"$f":"IF($D19=\"\",0,VLOOKUP(($DU19&$C19&$D19),単価情報!$B$66:$C$932,2,FALSE))","v":0},0,0,0,{"$f":"IF(E19=0,0,ROUND(E19/#REF!,1))","v":0},{"$f":"IF(L$5>=$F19,IF(L$5<=#REF!,$K19,0),0)","v":{"$error":"#REF!"}},{"$f":"IF(M$5>=$F19,IF(M$5<=#REF!,$K19,0),0)","v":{"$error":"#REF!"}},{"$f":"IF(N$5>=$F19,IF(N$5<=#REF!,$K19,0),0)","v":{"$error":"#REF!"}},{"$f":"IF(O$5>=$F19,IF(O$5<=#REF!,$K19,0),0)","v":{"$error":"#REF!"}},{"$f":"IF(P$5>=$F19,IF(P$5<=#REF!,$K19,0),0)","v":{"$error":"#REF!"}},{"$f":"IF(Q$5>=$F19,IF(Q$5<=#REF!,$K19,0),0)","v":{"$error":"#REF!"}},{"$f":"IF(R$5>=$F19,IF(R$5<=#REF!,$K19,0),0)","v":{"$error":"#REF!"}},{"$f":"IF(S$5>=$F19,IF(S$5<=#REF!,$K19,0),0)","v":{"$error":"#REF!"}},{"$f":"IF(T$5>=$F19,IF(T$5<=#REF!,$K19,0),0)","v":{"$error":"#REF!"}},{"$f":"IF(U$5>=$F19,IF(U$5<=#REF!,$K19,0),0)","v":{"$error":"#REF!"}},{"$f":"IF(V$5>=$F19,IF(V$5<=#REF!,$K19,0),0)","v":{"$error":"#REF!"}},{"$f":"IF(W$5>=$F19,IF(W$5<=#REF!,$K19,0),0)","v":{"$error":"#REF!"}},{"$f":"IF(X$5>=$F19,IF(X$5<=#REF!,$K19,0),0)","v":{"$error":"#REF!"}},{"$f":"IF(Y$5>=$F19,IF(Y$5<=#REF!,$K19,0),0)","v":{"$error":"#REF!"}},{"$f":"IF(Z$5>=$F19,IF(Z$5<=#REF!,$K19,0),0)","v":{"$error":"#REF!"}},{"$f":"IF(AA$5>=$F19,IF(AA$5<=#REF!,$K19,0),0)","v":{"$error":"#REF!"}},{"$f":"IF(AB$5>=$F19,IF(AB$5<=#REF!,$K19,0),0)","v":{"$error":"#REF!"}},{"$f":"IF(AC$5>=$F19,IF(AC$5<=#REF!,$K19,0),0)","v":{"$error":"#REF!"}},{"$f":"IF(AD$5>=$F19,IF(AD$5<=#REF!,$K19,0),0)","v":{"$error":"#REF!"}},{"$f":"IF(AE$5>=$F19,IF(AE$5<=#REF!,$K19,0),0)","v":{"$error":"#REF!"}},{"$f":"IF(AF$5>=$F19,IF(AF$5<=#REF!,$K19,0),0)","v":{"$error":"#REF!"}},{"$f":"IF(AG$5>=$F19,IF(AG$5<=#REF!,$K19,0),0)","v":{"$error":"#REF!"}},{"$f":"IF(AH$5>=$F19,IF(AH$5<=#REF!,$K19,0),0)","v":{"$error":"#REF!"}},{"$f":"IF(AI$5>=$F19,IF(AI$5<=#REF!,$K19,0),0)","v":{"$error":"#REF!"}},{"$f":"IF(AJ$5>=$F19,IF(AJ$5<=#REF!,$K19,0),0)","v":{"$error":"#REF!"}},{"$f":"IF(AK$5>=$F19,IF(AK$5<=#REF!,$K19,0),0)","v":{"$error":"#REF!"}},{"$f":"IF(AL$5>=$F19,IF(AL$5<=#REF!,$K19,0),0)","v":{"$error":"#REF!"}},{"$f":"IF(AM$5>=$F19,IF(AM$5<=#REF!,$K19,0),0)","v":{"$error":"#REF!"}},{"$f":"IF(AN$5>=$F19,IF(AN$5<=#REF!,$K19,0),0)","v":{"$error":"#REF!"}},{"$f":"IF(AO$5>=$F19,IF(AO$5<=#REF!,$K19,0),0)","v":{"$error":"#REF!"}},{"$f":"IF(AP$5>=$F19,IF(AP$5<=#REF!,$K19,0),0)","v":{"$error":"#REF!"}},{"$f":"IF(AQ$5>=$F19,IF(AQ$5<=#REF!,$K19,0),0)","v":{"$error":"#REF!"}},{"$f":"IF(AR$5>=$F19,IF(AR$5<=#REF!,$K19,0),0)","v":{"$error":"#REF!"}},{"$f":"IF(AS$5>=$F19,IF(AS$5<=#REF!,$K19,0),0)","v":{"$error":"#REF!"}},{"$f":"IF(AT$5>=$F19,IF(AT$5<=#REF!,$K19,0),0)","v":{"$error":"#REF!"}},{"$f":"IF(AU$5>=$F19,IF(AU$5<=#REF!,$K19,0),0)","v":{"$error":"#REF!"}},{"$f":"IF(AV$5>=$F19,IF(AV$5<=#REF!,$K19,0),0)","v":{"$error":"#REF!"}},{"$f":"IF(AW$5>=$F19,IF(AW$5<=#REF!,$K19,0),0)","v":{"$error":"#REF!"}},{"$f":"IF(AX$5>=$F19,IF(AX$5<=#REF!,$K19,0),0)","v":{"$error":"#REF!"}},{"$f":"IF(AY$5>=$F19,IF(AY$5<=#REF!,$K19,0),0)","v":{"$error":"#REF!"}},{"$f":"IF(AZ$5>=$F19,IF(AZ$5<=#REF!,$K19,0),0)","v":{"$error":"#REF!"}},{"$f":"IF(BA$5>=$F19,IF(BA$5<=#REF!,$K19,0),0)","v":{"$error":"#REF!"}},{"$f":"IF(BB$5>=$F19,IF(BB$5<=#REF!,$K19,0),0)","v":{"$error":"#REF!"}},{"$f":"IF(BC$5>=$F19,IF(BC$5<=#REF!,$K19,0),0)","v":{"$error":"#REF!"}},{"$f":"IF(BD$5>=$F19,IF(BD$5<=#REF!,$K19,0),0)","v":{"$error":"#REF!"}},{"$f":"IF(BE$5>=$F19,IF(BE$5<=#REF!,$K19,0),0)","v":{"$error":"#REF!"}},{"$f":"IF(BF$5>=$F19,IF(BF$5<=#REF!,$K19,0),0)","v":{"$error":"#REF!"}},{"$f":"IF(BG$5>=$F19,IF(BG$5<=#REF!,$K19,0),0)","v":{"$error":"#REF!"}},{"$f":"IF(BH$5>=$F19,IF(BH$5<=#REF!,$K19,0),0)","v":{"$error":"#REF!"}},{"$f":"IF(BI$5>=$F19,IF(BI$5<=#REF!,$K19,0),0)","v":{"$error":"#REF!"}},{"$f":"IF(BJ$5>=$F19,IF(BJ$5<=#REF!,$K19,0),0)","v":{"$error":"#REF!"}},{"$f":"IF(BK$5>=$F19,IF(BK$5<=#REF!,$K19,0),0)","v":{"$error":"#REF!"}},{"$f":"IF(BL$5>=$F19,IF(BL$5<=#REF!,$K19,0),0)","v":{"$error":"#REF!"}},{"$f":"IF(BM$5>=$F19,IF(BM$5<=#REF!,$K19,0),0)","v":{"$error":"#REF!"}},{"$f":"IF(BN$5>=$F19,IF(BN$5<=#REF!,$K19,0),0)","v":{"$error":"#REF!"}},{"$f":"IF(BO$5>=$F19,IF(BO$5<=#REF!,$K19,0),0)","v":{"$error":"#REF!"}},{"$f":"IF(BP$5>=$F19,IF(BP$5<=#REF!,$K19,0),0)","v":{"$error":"#REF!"}},{"$f":"IF(BQ$5>=$F19,IF(BQ$5<=#REF!,$K19,0),0)","v":{"$error":"#REF!"}},{"$f":"IF(BR$5>=$F19,IF(BR$5<=#REF!,$K19,0),0)","v":{"$error":"#REF!"}},{"$f":"IF(BS$5>=$F19,IF(BS$5<=#REF!,$K19,0),0)","v":{"$error":"#REF!"}},{"$f":"IF(BT$5>=$F19,IF(BT$5<=#REF!,$K19,0),0)","v":{"$error":"#REF!"}},{"$f":"IF(BU$5>=$F19,IF(BU$5<=#REF!,$K19,0),0)","v":{"$error":"#REF!"}},{"$f":"IF(BV$5>=$F19,IF(BV$5<=#REF!,$K19,0),0)","v":{"$error":"#REF!"}},{"$f":"IF(BW$5>=$F19,IF(BW$5<=#REF!,$K19,0),0)","v":{"$error":"#REF!"}},{"$f":"IF(BX$5>=$F19,IF(BX$5<=#REF!,$K19,0),0)","v":{"$error":"#REF!"}},{"$f":"IF(BY$5>=$F19,IF(BY$5<=#REF!,$K19,0),0)","v":{"$error":"#REF!"}},{"$f":"IF(BZ$5>=$F19,IF(BZ$5<=#REF!,$K19,0),0)","v":{"$error":"#REF!"}},{"$f":"IF(CA$5>=$F19,IF(CA$5<=#REF!,$K19,0),0)","v":{"$error":"#REF!"}},{"$f":"IF(CB$5>=$F19,IF(CB$5<=#REF!,$K19,0),0)","v":{"$error":"#REF!"}},{"$f":"IF(CC$5>=$F19,IF(CC$5<=#REF!,$K19,0),0)","v":{"$error":"#REF!"}},{"$f":"IF(CD$5>=$F19,IF(CD$5<=#REF!,$K19,0),0)","v":{"$error":"#REF!"}},{"$f":"IF(CE$5>=$F19,IF(CE$5<=#REF!,$K19,0),0)","v":{"$error":"#REF!"}},{"$f":"IF(CF$5>=$F19,IF(CF$5<=#REF!,$K19,0),0)","v":{"$error":"#REF!"}},{"$f":"IF(CG$5>=$F19,IF(CG$5<=#REF!,$K19,0),0)","v":{"$error":"#REF!"}},{"$f":"IF(CH$5>=$F19,IF(CH$5<=#REF!,$K19,0),0)","v":{"$error":"#REF!"}},{"$f":"IF(CI$5>=$F19,IF(CI$5<=#REF!,$K19,0),0)","v":{"$error":"#REF!"}},{"$f":"IF(CJ$5>=$F19,IF(CJ$5<=#REF!,$K19,0),0)","v":{"$error":"#REF!"}},{"$f":"IF(CK$5>=$F19,IF(CK$5<=#REF!,$K19,0),0)","v":{"$error":"#REF!"}},{"$f":"IF(CL$5>=$F19,IF(CL$5<=#REF!,$K19,0),0)","v":{"$error":"#REF!"}},{"$f":"IF(CM$5>=$F19,IF(CM$5<=#REF!,$K19,0),0)","v":{"$error":"#REF!"}},{"$f":"IF(CN$5>=$F19,IF(CN$5<=#REF!,$K19,0),0)","v":{"$error":"#REF!"}},{"$f":"IF(CO$5>=$F19,IF(CO$5<=#REF!,$K19,0),0)","v":{"$error":"#REF!"}},{"$f":"IF(CP$5>=$F19,IF(CP$5<=#REF!,$K19,0),0)","v":{"$error":"#REF!"}},{"$f":"IF(CQ$5>=$F19,IF(CQ$5<=#REF!,$K19,0),0)","v":{"$error":"#REF!"}},{"$f":"IF(CR$5>=$F19,IF(CR$5<=#REF!,$K19,0),0)","v":{"$error":"#REF!"}},{"$f":"IF(CS$5>=$F19,IF(CS$5<=#REF!,$K19,0),0)","v":{"$error":"#REF!"}},{"$f":"IF(CT$5>=$F19,IF(CT$5<=#REF!,$K19,0),0)","v":{"$error":"#REF!"}},{"$f":"IF(CU$5>=$F19,IF(CU$5<=#REF!,$K19,0),0)","v":{"$error":"#REF!"}},{"$f":"IF(CV$5>=$F19,IF(CV$5<=#REF!,$K19,0),0)","v":{"$error":"#REF!"}},{"$f":"IF(CW$5>=$F19,IF(CW$5<=#REF!,$K19,0),0)","v":{"$error":"#REF!"}},{"$f":"IF(CX$5>=$F19,IF(CX$5<=#REF!,$K19,0),0)","v":{"$error":"#REF!"}},{"$f":"IF(CY$5>=$F19,IF(CY$5<=#REF!,$K19,0),0)","v":{"$error":"#REF!"}},{"$f":"IF(CZ$5>=$F19,IF(CZ$5<=#REF!,$K19,0),0)","v":{"$error":"#REF!"}},{"$f":"IF(DA$5>=$F19,IF(DA$5<=#REF!,$K19,0),0)","v":{"$error":"#REF!"}},{"$f":"IF(DB$5>=$F19,IF(DB$5<=#REF!,$K19,0),0)","v":{"$error":"#REF!"}},{"$f":"IF(DC$5>=$F19,IF(DC$5<=#REF!,$K19,0),0)","v":{"$error":"#REF!"}},{"$f":"IF(DD$5>=$F19,IF(DD$5<=#REF!,$K19,0),0)","v":{"$error":"#REF!"}},{"$f":"IF(DE$5>=$F19,IF(DE$5<=#REF!,$K19,0),0)","v":{"$error":"#REF!"}},{"$f":"IF(DF$5>=$F19,IF(DF$5<=#REF!,$K19,0),0)","v":{"$error":"#REF!"}},{"$f":"IF(DG$5>=$F19,IF(DG$5<=#REF!,$K19,0),0)","v":{"$error":"#REF!"}},{"$f":"IF(DH$5>=$F19,IF(DH$5<=#REF!,$K19,0),0)","v":{"$error":"#REF!"}},{"$f":"IF(DI$5>=$F19,IF(DI$5<=#REF!,$K19,0),0)","v":{"$error":"#REF!"}},{"$f":"IF(DJ$5>=$F19,IF(DJ$5<=#REF!,$K19,0),0)","v":{"$error":"#REF!"}},{"$f":"IF(DK$5>=$F19,IF(DK$5<=#REF!,$K19,0),0)","v":{"$error":"#REF!"}},{"$f":"IF(DL$5>=$F19,IF(DL$5<=#REF!,$K19,0),0)","v":{"$error":"#REF!"}},{"$f":"IF(DM$5>=$F19,IF(DM$5<=#REF!,$K19,0),0)","v":{"$error":"#REF!"}},{"$f":"IF(DN$5>=$F19,IF(DN$5<=#REF!,$K19,0),0)","v":{"$error":"#REF!"}},{"$f":"IF(DO$5>=$F19,IF(DO$5<=#REF!,$K19,0),0)","v":{"$error":"#REF!"}},{"$f":"IF(DP$5>=$F19,IF(DP$5<=#REF!,$K19,0),0)","v":{"$error":"#REF!"}},{"$f":"IF(DQ$5>=$F19,IF(DQ$5<=#REF!,$K19,0),0)","v":{"$error":"#REF!"}},{"$f":"IF(DR$5>=$F19,IF(DR$5<=#REF!,$K19,0),0)","v":{"$error":"#REF!"}},{"$error":"#REF!"},"","",null,null,null,"硬質塩化ビニル管　（ＲＲ継手等を有する） (m)","D2",350]
[null,null,null,null,null,null,{"$f":"IF($D20=\"\",0,VLOOKUP(($DU20&$C20&$D20),単価情報!$B$66:$C$932,2,FALSE))","v":0},0,0,0,{"$f":"IF(E20=0,0,ROUND(E20/#REF!,1))","v":0},{"$f":"IF(L$5>=$F20,IF(L$5<=#REF!,$K20,0),0)","v":{"$error":"#REF!"}},{"$f":"IF(M$5>=$F20,IF(M$5<=#REF!,$K20,0),0)","v":{"$error":"#REF!"}},{"$f":"IF(N$5>=$F20,IF(N$5<=#REF!,$K20,0),0)","v":{"$error":"#REF!"}},{"$f":"IF(O$5>=$F20,IF(O$5<=#REF!,$K20,0),0)","v":{"$error":"#REF!"}},{"$f":"IF(P$5>=$F20,IF(P$5<=#REF!,$K20,0),0)","v":{"$error":"#REF!"}},{"$f":"IF(Q$5>=$F20,IF(Q$5<=#REF!,$K20,0),0)","v":{"$error":"#REF!"}},{"$f":"IF(R$5>=$F20,IF(R$5<=#REF!,$K20,0),0)","v":{"$error":"#REF!"}},{"$f":"IF(S$5>=$F20,IF(S$5<=#REF!,$K20,0),0)","v":{"$error":"#REF!"}},{"$f":"IF(T$5>=$F20,IF(T$5<=#REF!,$K20,0),0)","v":{"$error":"#REF!"}},{"$f":"IF(U$5>=$F20,IF(U$5<=#REF!,$K20,0),0)","v":{"$error":"#REF!"}},{"$f":"IF(V$5>=$F20,IF(V$5<=#REF!,$K20,0),0)","v":{"$error":"#REF!"}},{"$f":"IF(W$5>=$F20,IF(W$5<=#REF!,$K20,0),0)","v":{"$error":"#REF!"}},{"$f":"IF(X$5>=$F20,IF(X$5<=#REF!,$K20,0),0)","v":{"$error":"#REF!"}},{"$f":"IF(Y$5>=$F20,IF(Y$5<=#REF!,$K20,0),0)","v":{"$error":"#REF!"}},{"$f":"IF(Z$5>=$F20,IF(Z$5<=#REF!,$K20,0),0)","v":{"$error":"#REF!"}},{"$f":"IF(AA$5>=$F20,IF(AA$5<=#REF!,$K20,0),0)","v":{"$error":"#REF!"}},{"$f":"IF(AB$5>=$F20,IF(AB$5<=#REF!,$K20,0),0)","v":{"$error":"#REF!"}},{"$f":"IF(AC$5>=$F20,IF(AC$5<=#REF!,$K20,0),0)","v":{"$error":"#REF!"}},{"$f":"IF(AD$5>=$F20,IF(AD$5<=#REF!,$K20,0),0)","v":{"$error":"#REF!"}},{"$f":"IF(AE$5>=$F20,IF(AE$5<=#REF!,$K20,0),0)","v":{"$error":"#REF!"}},{"$f":"IF(AF$5>=$F20,IF(AF$5<=#REF!,$K20,0),0)","v":{"$error":"#REF!"}},{"$f":"IF(AG$5>=$F20,IF(AG$5<=#REF!,$K20,0),0)","v":{"$error":"#REF!"}},{"$f":"IF(AH$5>=$F20,IF(AH$5<=#REF!,$K20,0),0)","v":{"$error":"#REF!"}},{"$f":"IF(AI$5>=$F20,IF(AI$5<=#REF!,$K20,0),0)","v":{"$error":"#REF!"}},{"$f":"IF(AJ$5>=$F20,IF(AJ$5<=#REF!,$K20,0),0)","v":{"$error":"#REF!"}},{"$f":"IF(AK$5>=$F20,IF(AK$5<=#REF!,$K20,0),0)","v":{"$error":"#REF!"}},{"$f":"IF(AL$5>=$F20,IF(AL$5<=#REF!,$K20,0),0)","v":{"$error":"#REF!"}},{"$f":"IF(AM$5>=$F20,IF(AM$5<=#REF!,$K20,0),0)","v":{"$error":"#REF!"}},{"$f":"IF(AN$5>=$F20,IF(AN$5<=#REF!,$K20,0),0)","v":{"$error":"#REF!"}},{"$f":"IF(AO$5>=$F20,IF(AO$5<=#REF!,$K20,0),0)","v":{"$error":"#REF!"}},{"$f":"IF(AP$5>=$F20,IF(AP$5<=#REF!,$K20,0),0)","v":{"$error":"#REF!"}},{"$f":"IF(AQ$5>=$F20,IF(AQ$5<=#REF!,$K20,0),0)","v":{"$error":"#REF!"}},{"$f":"IF(AR$5>=$F20,IF(AR$5<=#REF!,$K20,0),0)","v":{"$error":"#REF!"}},{"$f":"IF(AS$5>=$F20,IF(AS$5<=#REF!,$K20,0),0)","v":{"$error":"#REF!"}},{"$f":"IF(AT$5>=$F20,IF(AT$5<=#REF!,$K20,0),0)","v":{"$error":"#REF!"}},{"$f":"IF(AU$5>=$F20,IF(AU$5<=#REF!,$K20,0),0)","v":{"$error":"#REF!"}},{"$f":"IF(AV$5>=$F20,IF(AV$5<=#REF!,$K20,0),0)","v":{"$error":"#REF!"}},{"$f":"IF(AW$5>=$F20,IF(AW$5<=#REF!,$K20,0),0)","v":{"$error":"#REF!"}},{"$f":"IF(AX$5>=$F20,IF(AX$5<=#REF!,$K20,0),0)","v":{"$error":"#REF!"}},{"$f":"IF(AY$5>=$F20,IF(AY$5<=#REF!,$K20,0),0)","v":{"$error":"#REF!"}},{"$f":"IF(AZ$5>=$F20,IF(AZ$5<=#REF!,$K20,0),0)","v":{"$error":"#REF!"}},{"$f":"IF(BA$5>=$F20,IF(BA$5<=#REF!,$K20,0),0)","v":{"$error":"#REF!"}},{"$f":"IF(BB$5>=$F20,IF(BB$5<=#REF!,$K20,0),0)","v":{"$error":"#REF!"}},{"$f":"IF(BC$5>=$F20,IF(BC$5<=#REF!,$K20,0),0)","v":{"$error":"#REF!"}},{"$f":"IF(BD$5>=$F20,IF(BD$5<=#REF!,$K20,0),0)","v":{"$error":"#REF!"}},{"$f":"IF(BE$5>=$F20,IF(BE$5<=#REF!,$K20,0),0)","v":{"$error":"#REF!"}},{"$f":"IF(BF$5>=$F20,IF(BF$5<=#REF!,$K20,0),0)","v":{"$error":"#REF!"}},{"$f":"IF(BG$5>=$F20,IF(BG$5<=#REF!,$K20,0),0)","v":{"$error":"#REF!"}},{"$f":"IF(BH$5>=$F20,IF(BH$5<=#REF!,$K20,0),0)","v":{"$error":"#REF!"}},{"$f":"IF(BI$5>=$F20,IF(BI$5<=#REF!,$K20,0),0)","v":{"$error":"#REF!"}},{"$f":"IF(BJ$5>=$F20,IF(BJ$5<=#REF!,$K20,0),0)","v":{"$error":"#REF!"}},{"$f":"IF(BK$5>=$F20,IF(BK$5<=#REF!,$K20,0),0)","v":{"$error":"#REF!"}},{"$f":"IF(BL$5>=$F20,IF(BL$5<=#REF!,$K20,0),0)","v":{"$error":"#REF!"}},{"$f":"IF(BM$5>=$F20,IF(BM$5<=#REF!,$K20,0),0)","v":{"$error":"#REF!"}},{"$f":"IF(BN$5>=$F20,IF(BN$5<=#REF!,$K20,0),0)","v":{"$error":"#REF!"}},{"$f":"IF(BO$5>=$F20,IF(BO$5<=#REF!,$K20,0),0)","v":{"$error":"#REF!"}},{"$f":"IF(BP$5>=$F20,IF(BP$5<=#REF!,$K20,0),0)","v":{"$error":"#REF!"}},{"$f":"IF(BQ$5>=$F20,IF(BQ$5<=#REF!,$K20,0),0)","v":{"$error":"#REF!"}},{"$f":"IF(BR$5>=$F20,IF(BR$5<=#REF!,$K20,0),0)","v":{"$error":"#REF!"}},{"$f":"IF(BS$5>=$F20,IF(BS$5<=#REF!,$K20,0),0)","v":{"$error":"#REF!"}},{"$f":"IF(BT$5>=$F20,IF(BT$5<=#REF!,$K20,0),0)","v":{"$error":"#REF!"}},{"$f":"IF(BU$5>=$F20,IF(BU$5<=#REF!,$K20,0),0)","v":{"$error":"#REF!"}},{"$f":"IF(BV$5>=$F20,IF(BV$5<=#REF!,$K20,0),0)","v":{"$error":"#REF!"}},{"$f":"IF(BW$5>=$F20,IF(BW$5<=#REF!,$K20,0),0)","v":{"$error":"#REF!"}},{"$f":"IF(BX$5>=$F20,IF(BX$5<=#REF!,$K20,0),0)","v":{"$error":"#REF!"}},{"$f":"IF(BY$5>=$F20,IF(BY$5<=#REF!,$K20,0),0)","v":{"$error":"#REF!"}},{"$f":"IF(BZ$5>=$F20,IF(BZ$5<=#REF!,$K20,0),0)","v":{"$error":"#REF!"}},{"$f":"IF(CA$5>=$F20,IF(CA$5<=#REF!,$K20,0),0)","v":{"$error":"#REF!"}},{"$f":"IF(CB$5>=$F20,IF(CB$5<=#REF!,$K20,0),0)","v":{"$error":"#REF!"}},{"$f":"IF(CC$5>=$F20,IF(CC$5<=#REF!,$K20,0),0)","v":{"$error":"#REF!"}},{"$f":"IF(CD$5>=$F20,IF(CD$5<=#REF!,$K20,0),0)","v":{"$error":"#REF!"}},{"$f":"IF(CE$5>=$F20,IF(CE$5<=#REF!,$K20,0),0)","v":{"$error":"#REF!"}},{"$f":"IF(CF$5>=$F20,IF(CF$5<=#REF!,$K20,0),0)","v":{"$error":"#REF!"}},{"$f":"IF(CG$5>=$F20,IF(CG$5<=#REF!,$K20,0),0)","v":{"$error":"#REF!"}},{"$f":"IF(CH$5>=$F20,IF(CH$5<=#REF!,$K20,0),0)","v":{"$error":"#REF!"}},{"$f":"IF(CI$5>=$F20,IF(CI$5<=#REF!,$K20,0),0)","v":{"$error":"#REF!"}},{"$f":"IF(CJ$5>=$F20,IF(CJ$5<=#REF!,$K20,0),0)","v":{"$error":"#REF!"}},{"$f":"IF(CK$5>=$F20,IF(CK$5<=#REF!,$K20,0),0)","v":{"$error":"#REF!"}},{"$f":"IF(CL$5>=$F20,IF(CL$5<=#REF!,$K20,0),0)","v":{"$error":"#REF!"}},{"$f":"IF(CM$5>=$F20,IF(CM$5<=#REF!,$K20,0),0)","v":{"$error":"#REF!"}},{"$f":"IF(CN$5>=$F20,IF(CN$5<=#REF!,$K20,0),0)","v":{"$error":"#REF!"}},{"$f":"IF(CO$5>=$F20,IF(CO$5<=#REF!,$K20,0),0)","v":{"$error":"#REF!"}},{"$f":"IF(CP$5>=$F20,IF(CP$5<=#REF!,$K20,0),0)","v":{"$error":"#REF!"}},{"$f":"IF(CQ$5>=$F20,IF(CQ$5<=#REF!,$K20,0),0)","v":{"$error":"#REF!"}},{"$f":"IF(CR$5>=$F20,IF(CR$5<=#REF!,$K20,0),0)","v":{"$error":"#REF!"}},{"$f":"IF(CS$5>=$F20,IF(CS$5<=#REF!,$K20,0),0)","v":{"$error":"#REF!"}},{"$f":"IF(CT$5>=$F20,IF(CT$5<=#REF!,$K20,0),0)","v":{"$error":"#REF!"}},{"$f":"IF(CU$5>=$F20,IF(CU$5<=#REF!,$K20,0),0)","v":{"$error":"#REF!"}},{"$f":"IF(CV$5>=$F20,IF(CV$5<=#REF!,$K20,0),0)","v":{"$error":"#REF!"}},{"$f":"IF(CW$5>=$F20,IF(CW$5<=#REF!,$K20,0),0)","v":{"$error":"#REF!"}},{"$f":"IF(CX$5>=$F20,IF(CX$5<=#REF!,$K20,0),0)","v":{"$error":"#REF!"}},{"$f":"IF(CY$5>=$F20,IF(CY$5<=#REF!,$K20,0),0)","v":{"$error":"#REF!"}},{"$f":"IF(CZ$5>=$F20,IF(CZ$5<=#REF!,$K20,0),0)","v":{"$error":"#REF!"}},{"$f":"IF(DA$5>=$F20,IF(DA$5<=#REF!,$K20,0),0)","v":{"$error":"#REF!"}},{"$f":"IF(DB$5>=$F20,IF(DB$5<=#REF!,$K20,0),0)","v":{"$error":"#REF!"}},{"$f":"IF(DC$5>=$F20,IF(DC$5<=#REF!,$K20,0),0)","v":{"$error":"#REF!"}},{"$f":"IF(DD$5>=$F20,IF(DD$5<=#REF!,$K20,0),0)","v":{"$error":"#REF!"}},{"$f":"IF(DE$5>=$F20,IF(DE$5<=#REF!,$K20,0),0)","v":{"$error":"#REF!"}},{"$f":"IF(DF$5>=$F20,IF(DF$5<=#REF!,$K20,0),0)","v":{"$error":"#REF!"}},{"$f":"IF(DG$5>=$F20,IF(DG$5<=#REF!,$K20,0),0)","v":{"$error":"#REF!"}},{"$f":"IF(DH$5>=$F20,IF(DH$5<=#REF!,$K20,0),0)","v":{"$error":"#REF!"}},{"$f":"IF(DI$5>=$F20,IF(DI$5<=#REF!,$K20,0),0)","v":{"$error":"#REF!"}},{"$f":"IF(DJ$5>=$F20,IF(DJ$5<=#REF!,$K20,0),0)","v":{"$error":"#REF!"}},{"$f":"IF(DK$5>=$F20,IF(DK$5<=#REF!,$K20,0),0)","v":{"$error":"#REF!"}},{"$f":"IF(DL$5>=$F20,IF(DL$5<=#REF!,$K20,0),0)","v":{"$error":"#REF!"}},{"$f":"IF(DM$5>=$F20,IF(DM$5<=#REF!,$K20,0),0)","v":{"$error":"#REF!"}},{"$f":"IF(DN$5>=$F20,IF(DN$5<=#REF!,$K20,0),0)","v":{"$error":"#REF!"}},{"$f":"IF(DO$5>=$F20,IF(DO$5<=#REF!,$K20,0),0)","v":{"$error":"#REF!"}},{"$f":"IF(DP$5>=$F20,IF(DP$5<=#REF!,$K20,0),0)","v":{"$error":"#REF!"}},{"$f":"IF(DQ$5>=$F20,IF(DQ$5<=#REF!,$K20,0),0)","v":{"$error":"#REF!"}},{"$f":"IF(DR$5>=$F20,IF(DR$5<=#REF!,$K20,0),0)","v":{"$error":"#REF!"}},{"$error":"#REF!"},"","",null,null,null,"硬質塩化ビニル管　（上記以外・不明なものを含む） (m)","D9",400]
[null,null,null,null,null,null,{"$f":"IF($D21=\"\",0,VLOOKUP(($DU21&$C21&$D21),単価情報!$B$66:$C$932,2,FALSE))","v":0},0,0,0,{"$f":"IF(E21=0,0,ROUND(E21/#REF!,1))","v":0},{"$f":"IF(L$5>=$F21,IF(L$5<=#REF!,$K21,0),0)","v":{"$error":"#REF!"}},{"$f":"IF(M$5>=$F21,IF(M$5<=#REF!,$K21,0),0)","v":{"$error":"#REF!"}},{"$f":"IF(N$5>=$F21,IF(N$5<=#REF!,$K21,0),0)","v":{"$error":"#REF!"}},{"$f":"IF(O$5>=$F21,IF(O$5<=#REF!,$K21,0),0)","v":{"$error":"#REF!"}},{"$f":"IF(P$5>=$F21,IF(P$5<=#REF!,$K21,0),0)","v":{"$error":"#REF!"}},{"$f":"IF(Q$5>=$F21,IF(Q$5<=#REF!,$K21,0),0)","v":{"$error":"#REF!"}},{"$f":"IF(R$5>=$F21,IF(R$5<=#REF!,$K21,0),0)","v":{"$error":"#REF!"}},{"$f":"IF(S$5>=$F21,IF(S$5<=#REF!,$K21,0),0)","v":{"$error":"#REF!"}},{"$f":"IF(T$5>=$F21,IF(T$5<=#REF!,$K21,0),0)","v":{"$error":"#REF!"}},{"$f":"IF(U$5>=$F21,IF(U$5<=#REF!,$K21,0),0)","v":{"$error":"#REF!"}},{"$f":"IF(V$5>=$F21,IF(V$5<=#REF!,$K21,0),0)","v":{"$error":"#REF!"}},{"$f":"IF(W$5>=$F21,IF(W$5<=#REF!,$K21,0),0)","v":{"$error":"#REF!"}},{"$f":"IF(X$5>=$F21,IF(X$5<=#REF!,$K21,0),0)","v":{"$error":"#REF!"}},{"$f":"IF(Y$5>=$F21,IF(Y$5<=#REF!,$K21,0),0)","v":{"$error":"#REF!"}},{"$f":"IF(Z$5>=$F21,IF(Z$5<=#REF!,$K21,0),0)","v":{"$error":"#REF!"}},{"$f":"IF(AA$5>=$F21,IF(AA$5<=#REF!,$K21,0),0)","v":{"$error":"#REF!"}},{"$f":"IF(AB$5>=$F21,IF(AB$5<=#REF!,$K21,0),0)","v":{"$error":"#REF!"}},{"$f":"IF(AC$5>=$F21,IF(AC$5<=#REF!,$K21,0),0)","v":{"$error":"#REF!"}},{"$f":"IF(AD$5>=$F21,IF(AD$5<=#REF!,$K21,0),0)","v":{"$error":"#REF!"}},{"$f":"IF(AE$5>=$F21,IF(AE$5<=#REF!,$K21,0),0)","v":{"$error":"#REF!"}},{"$f":"IF(AF$5>=$F21,IF(AF$5<=#REF!,$K21,0),0)","v":{"$error":"#REF!"}},{"$f":"IF(AG$5>=$F21,IF(AG$5<=#REF!,$K21,0),0)","v":{"$error":"#REF!"}},{"$f":"IF(AH$5>=$F21,IF(AH$5<=#REF!,$K21,0),0)","v":{"$error":"#REF!"}},{"$f":"IF(AI$5>=$F21,IF(AI$5<=#REF!,$K21,0),0)","v":{"$error":"#REF!"}},{"$f":"IF(AJ$5>=$F21,IF(AJ$5<=#REF!,$K21,0),0)","v":{"$error":"#REF!"}},{"$f":"IF(AK$5>=$F21,IF(AK$5<=#REF!,$K21,0),0)","v":{"$error":"#REF!"}},{"$f":"IF(AL$5>=$F21,IF(AL$5<=#REF!,$K21,0),0)","v":{"$error":"#REF!"}},{"$f":"IF(AM$5>=$F21,IF(AM$5<=#REF!,$K21,0),0)","v":{"$error":"#REF!"}},{"$f":"IF(AN$5>=$F21,IF(AN$5<=#REF!,$K21,0),0)","v":{"$error":"#REF!"}},{"$f":"IF(AO$5>=$F21,IF(AO$5<=#REF!,$K21,0),0)","v":{"$error":"#REF!"}},{"$f":"IF(AP$5>=$F21,IF(AP$5<=#REF!,$K21,0),0)","v":{"$error":"#REF!"}},{"$f":"IF(AQ$5>=$F21,IF(AQ$5<=#REF!,$K21,0),0)","v":{"$error":"#REF!"}},{"$f":"IF(AR$5>=$F21,IF(AR$5<=#REF!,$K21,0),0)","v":{"$error":"#REF!"}},{"$f":"IF(AS$5>=$F21,IF(AS$5<=#REF!,$K21,0),0)","v":{"$error":"#REF!"}},{"$f":"IF(AT$5>=$F21,IF(AT$5<=#REF!,$K21,0),0)","v":{"$error":"#REF!"}},{"$f":"IF(AU$5>=$F21,IF(AU$5<=#REF!,$K21,0),0)","v":{"$error":"#REF!"}},{"$f":"IF(AV$5>=$F21,IF(AV$5<=#REF!,$K21,0),0)","v":{"$error":"#REF!"}},{"$f":"IF(AW$5>=$F21,IF(AW$5<=#REF!,$K21,0),0)","v":{"$error":"#REF!"}},{"$f":"IF(AX$5>=$F21,IF(AX$5<=#REF!,$K21,0),0)","v":{"$error":"#REF!"}},{"$f":"IF(AY$5>=$F21,IF(AY$5<=#REF!,$K21,0),0)","v":{"$error":"#REF!"}},{"$f":"IF(AZ$5>=$F21,IF(AZ$5<=#REF!,$K21,0),0)","v":{"$error":"#REF!"}},{"$f":"IF(BA$5>=$F21,IF(BA$5<=#REF!,$K21,0),0)","v":{"$error":"#REF!"}},{"$f":"IF(BB$5>=$F21,IF(BB$5<=#REF!,$K21,0),0)","v":{"$error":"#REF!"}},{"$f":"IF(BC$5>=$F21,IF(BC$5<=#REF!,$K21,0),0)","v":{"$error":"#REF!"}},{"$f":"IF(BD$5>=$F21,IF(BD$5<=#REF!,$K21,0),0)","v":{"$error":"#REF!"}},{"$f":"IF(BE$5>=$F21,IF(BE$5<=#REF!,$K21,0),0)","v":{"$error":"#REF!"}},{"$f":"IF(BF$5>=$F21,IF(BF$5<=#REF!,$K21,0),0)","v":{"$error":"#REF!"}},{"$f":"IF(BG$5>=$F21,IF(BG$5<=#REF!,$K21,0),0)","v":{"$error":"#REF!"}},{"$f":"IF(BH$5>=$F21,IF(BH$5<=#REF!,$K21,0),0)","v":{"$error":"#REF!"}},{"$f":"IF(BI$5>=$F21,IF(BI$5<=#REF!,$K21,0),0)","v":{"$error":"#REF!"}},{"$f":"IF(BJ$5>=$F21,IF(BJ$5<=#REF!,$K21,0),0)","v":{"$error":"#REF!"}},{"$f":"IF(BK$5>=$F21,IF(BK$5<=#REF!,$K21,0),0)","v":{"$error":"#REF!"}},{"$f":"IF(BL$5>=$F21,IF(BL$5<=#REF!,$K21,0),0)","v":{"$error":"#REF!"}},{"$f":"IF(BM$5>=$F21,IF(BM$5<=#REF!,$K21,0),0)","v":{"$error":"#REF!"}},{"$f":"IF(BN$5>=$F21,IF(BN$5<=#REF!,$K21,0),0)","v":{"$error":"#REF!"}},{"$f":"IF(BO$5>=$F21,IF(BO$5<=#REF!,$K21,0),0)","v":{"$error":"#REF!"}},{"$f":"IF(BP$5>=$F21,IF(BP$5<=#REF!,$K21,0),0)","v":{"$error":"#REF!"}},{"$f":"IF(BQ$5>=$F21,IF(BQ$5<=#REF!,$K21,0),0)","v":{"$error":"#REF!"}},{"$f":"IF(BR$5>=$F21,IF(BR$5<=#REF!,$K21,0),0)","v":{"$error":"#REF!"}},{"$f":"IF(BS$5>=$F21,IF(BS$5<=#REF!,$K21,0),0)","v":{"$error":"#REF!"}},{"$f":"IF(BT$5>=$F21,IF(BT$5<=#REF!,$K21,0),0)","v":{"$error":"#REF!"}},{"$f":"IF(BU$5>=$F21,IF(BU$5<=#REF!,$K21,0),0)","v":{"$error":"#REF!"}},{"$f":"IF(BV$5>=$F21,IF(BV$5<=#REF!,$K21,0),0)","v":{"$error":"#REF!"}},{"$f":"IF(BW$5>=$F21,IF(BW$5<=#REF!,$K21,0),0)","v":{"$error":"#REF!"}},{"$f":"IF(BX$5>=$F21,IF(BX$5<=#REF!,$K21,0),0)","v":{"$error":"#REF!"}},{"$f":"IF(BY$5>=$F21,IF(BY$5<=#REF!,$K21,0),0)","v":{"$error":"#REF!"}},{"$f":"IF(BZ$5>=$F21,IF(BZ$5<=#REF!,$K21,0),0)","v":{"$error":"#REF!"}},{"$f":"IF(CA$5>=$F21,IF(CA$5<=#REF!,$K21,0),0)","v":{"$error":"#REF!"}},{"$f":"IF(CB$5>=$F21,IF(CB$5<=#REF!,$K21,0),0)","v":{"$error":"#REF!"}},{"$f":"IF(CC$5>=$F21,IF(CC$5<=#REF!,$K21,0),0)","v":{"$error":"#REF!"}},{"$f":"IF(CD$5>=$F21,IF(CD$5<=#REF!,$K21,0),0)","v":{"$error":"#REF!"}},{"$f":"IF(CE$5>=$F21,IF(CE$5<=#REF!,$K21,0),0)","v":{"$error":"#REF!"}},{"$f":"IF(CF$5>=$F21,IF(CF$5<=#REF!,$K21,0),0)","v":{"$error":"#REF!"}},{"$f":"IF(CG$5>=$F21,IF(CG$5<=#REF!,$K21,0),0)","v":{"$error":"#REF!"}},{"$f":"IF(CH$5>=$F21,IF(CH$5<=#REF!,$K21,0),0)","v":{"$error":"#REF!"}},{"$f":"IF(CI$5>=$F21,IF(CI$5<=#REF!,$K21,0),0)","v":{"$error":"#REF!"}},{"$f":"IF(CJ$5>=$F21,IF(CJ$5<=#REF!,$K21,0),0)","v":{"$error":"#REF!"}},{"$f":"IF(CK$5>=$F21,IF(CK$5<=#REF!,$K21,0),0)","v":{"$error":"#REF!"}},{"$f":"IF(CL$5>=$F21,IF(CL$5<=#REF!,$K21,0),0)","v":{"$error":"#REF!"}},{"$f":"IF(CM$5>=$F21,IF(CM$5<=#REF!,$K21,0),0)","v":{"$error":"#REF!"}},{"$f":"IF(CN$5>=$F21,IF(CN$5<=#REF!,$K21,0),0)","v":{"$error":"#REF!"}},{"$f":"IF(CO$5>=$F21,IF(CO$5<=#REF!,$K21,0),0)","v":{"$error":"#REF!"}},{"$f":"IF(CP$5>=$F21,IF(CP$5<=#REF!,$K21,0),0)","v":{"$error":"#REF!"}},{"$f":"IF(CQ$5>=$F21,IF(CQ$5<=#REF!,$K21,0),0)","v":{"$error":"#REF!"}},{"$f":"IF(CR$5>=$F21,IF(CR$5<=#REF!,$K21,0),0)","v":{"$error":"#REF!"}},{"$f":"IF(CS$5>=$F21,IF(CS$5<=#REF!,$K21,0),0)","v":{"$error":"#REF!"}},{"$f":"IF(CT$5>=$F21,IF(CT$5<=#REF!,$K21,0),0)","v":{"$error":"#REF!"}},{"$f":"IF(CU$5>=$F21,IF(CU$5<=#REF!,$K21,0),0)","v":{"$error":"#REF!"}},{"$f":"IF(CV$5>=$F21,IF(CV$5<=#REF!,$K21,0),0)","v":{"$error":"#REF!"}},{"$f":"IF(CW$5>=$F21,IF(CW$5<=#REF!,$K21,0),0)","v":{"$error":"#REF!"}},{"$f":"IF(CX$5>=$F21,IF(CX$5<=#REF!,$K21,0),0)","v":{"$error":"#REF!"}},{"$f":"IF(CY$5>=$F21,IF(CY$5<=#REF!,$K21,0),0)","v":{"$error":"#REF!"}},{"$f":"IF(CZ$5>=$F21,IF(CZ$5<=#REF!,$K21,0),0)","v":{"$error":"#REF!"}},{"$f":"IF(DA$5>=$F21,IF(DA$5<=#REF!,$K21,0),0)","v":{"$error":"#REF!"}},{"$f":"IF(DB$5>=$F21,IF(DB$5<=#REF!,$K21,0),0)","v":{"$error":"#REF!"}},{"$f":"IF(DC$5>=$F21,IF(DC$5<=#REF!,$K21,0),0)","v":{"$error":"#REF!"}},{"$f":"IF(DD$5>=$F21,IF(DD$5<=#REF!,$K21,0),0)","v":{"$error":"#REF!"}},{"$f":"IF(DE$5>=$F21,IF(DE$5<=#REF!,$K21,0),0)","v":{"$error":"#REF!"}},{"$f":"IF(DF$5>=$F21,IF(DF$5<=#REF!,$K21,0),0)","v":{"$error":"#REF!"}},{"$f":"IF(DG$5>=$F21,IF(DG$5<=#REF!,$K21,0),0)","v":{"$error":"#REF!"}},{"$f":"IF(DH$5>=$F21,IF(DH$5<=#REF!,$K21,0),0)","v":{"$error":"#REF!"}},{"$f":"IF(DI$5>=$F21,IF(DI$5<=#REF!,$K21,0),0)","v":{"$error":"#REF!"}},{"$f":"IF(DJ$5>=$F21,IF(DJ$5<=#REF!,$K21,0),0)","v":{"$error":"#REF!"}},{"$f":"IF(DK$5>=$F21,IF(DK$5<=#REF!,$K21,0),0)","v":{"$error":"#REF!"}},{"$f":"IF(DL$5>=$F21,IF(DL$5<=#REF!,$K21,0),0)","v":{"$error":"#REF!"}},{"$f":"IF(DM$5>=$F21,IF(DM$5<=#REF!,$K21,0),0)","v":{"$error":"#REF!"}},{"$f":"IF(DN$5>=$F21,IF(DN$5<=#REF!,$K21,0),0)","v":{"$error":"#REF!"}},{"$f":"IF(DO$5>=$F21,IF(DO$5<=#REF!,$K21,0),0)","v":{"$error":"#REF!"}},{"$f":"IF(DP$5>=$F21,IF(DP$5<=#REF!,$K21,0),0)","v":{"$error":"#REF!"}},{"$f":"IF(DQ$5>=$F21,IF(DQ$5<=#REF!,$K21,0),0)","v":{"$error":"#REF!"}},{"$f":"IF(DR$5>=$F21,IF(DR$5<=#REF!,$K21,0),0)","v":{"$error":"#REF!"}},{"$error":"#REF!"},"","",null,null,null,"コンクリート管 (m)","E1",450]
[null,null,null,null,null,null,{"$f":"IF($D22=\"\",0,VLOOKUP(($DU22&$C22&$D22),単価情報!$B$66:$C$932,2,FALSE))","v":0},0,0,0,{"$f":"IF(E22=0,0,ROUND(E22/#REF!,1))","v":0},{"$f":"IF(L$5>=$F22,IF(L$5<=#REF!,$K22,0),0)","v":{"$error":"#REF!"}},{"$f":"IF(M$5>=$F22,IF(M$5<=#REF!,$K22,0),0)","v":{"$error":"#REF!"}},{"$f":"IF(N$5>=$F22,IF(N$5<=#REF!,$K22,0),0)","v":{"$error":"#REF!"}},{"$f":"IF(O$5>=$F22,IF(O$5<=#REF!,$K22,0),0)","v":{"$error":"#REF!"}},{"$f":"IF(P$5>=$F22,IF(P$5<=#REF!,$K22,0),0)","v":{"$error":"#REF!"}},{"$f":"IF(Q$5>=$F22,IF(Q$5<=#REF!,$K22,0),0)","v":{"$error":"#REF!"}},{"$f":"IF(R$5>=$F22,IF(R$5<=#REF!,$K22,0),0)","v":{"$error":"#REF!"}},{"$f":"IF(S$5>=$F22,IF(S$5<=#REF!,$K22,0),0)","v":{"$error":"#REF!"}},{"$f":"IF(T$5>=$F22,IF(T$5<=#REF!,$K22,0),0)","v":{"$error":"#REF!"}},{"$f":"IF(U$5>=$F22,IF(U$5<=#REF!,$K22,0),0)","v":{"$error":"#REF!"}},{"$f":"IF(V$5>=$F22,IF(V$5<=#REF!,$K22,0),0)","v":{"$error":"#REF!"}},{"$f":"IF(W$5>=$F22,IF(W$5<=#REF!,$K22,0),0)","v":{"$error":"#REF!"}},{"$f":"IF(X$5>=$F22,IF(X$5<=#REF!,$K22,0),0)","v":{"$error":"#REF!"}},{"$f":"IF(Y$5>=$F22,IF(Y$5<=#REF!,$K22,0),0)","v":{"$error":"#REF!"}},{"$f":"IF(Z$5>=$F22,IF(Z$5<=#REF!,$K22,0),0)","v":{"$error":"#REF!"}},{"$f":"IF(AA$5>=$F22,IF(AA$5<=#REF!,$K22,0),0)","v":{"$error":"#REF!"}},{"$f":"IF(AB$5>=$F22,IF(AB$5<=#REF!,$K22,0),0)","v":{"$error":"#REF!"}},{"$f":"IF(AC$5>=$F22,IF(AC$5<=#REF!,$K22,0),0)","v":{"$error":"#REF!"}},{"$f":"IF(AD$5>=$F22,IF(AD$5<=#REF!,$K22,0),0)","v":{"$error":"#REF!"}},{"$f":"IF(AE$5>=$F22,IF(AE$5<=#REF!,$K22,0),0)","v":{"$error":"#REF!"}},{"$f":"IF(AF$5>=$F22,IF(AF$5<=#REF!,$K22,0),0)","v":{"$error":"#REF!"}},{"$f":"IF(AG$5>=$F22,IF(AG$5<=#REF!,$K22,0),0)","v":{"$error":"#REF!"}},{"$f":"IF(AH$5>=$F22,IF(AH$5<=#REF!,$K22,0),0)","v":{"$error":"#REF!"}},{"$f":"IF(AI$5>=$F22,IF(AI$5<=#REF!,$K22,0),0)","v":{"$error":"#REF!"}},{"$f":"IF(AJ$5>=$F22,IF(AJ$5<=#REF!,$K22,0),0)","v":{"$error":"#REF!"}},{"$f":"IF(AK$5>=$F22,IF(AK$5<=#REF!,$K22,0),0)","v":{"$error":"#REF!"}},{"$f":"IF(AL$5>=$F22,IF(AL$5<=#REF!,$K22,0),0)","v":{"$error":"#REF!"}},{"$f":"IF(AM$5>=$F22,IF(AM$5<=#REF!,$K22,0),0)","v":{"$error":"#REF!"}},{"$f":"IF(AN$5>=$F22,IF(AN$5<=#REF!,$K22,0),0)","v":{"$error":"#REF!"}},{"$f":"IF(AO$5>=$F22,IF(AO$5<=#REF!,$K22,0),0)","v":{"$error":"#REF!"}},{"$f":"IF(AP$5>=$F22,IF(AP$5<=#REF!,$K22,0),0)","v":{"$error":"#REF!"}},{"$f":"IF(AQ$5>=$F22,IF(AQ$5<=#REF!,$K22,0),0)","v":{"$error":"#REF!"}},{"$f":"IF(AR$5>=$F22,IF(AR$5<=#REF!,$K22,0),0)","v":{"$error":"#REF!"}},{"$f":"IF(AS$5>=$F22,IF(AS$5<=#REF!,$K22,0),0)","v":{"$error":"#REF!"}},{"$f":"IF(AT$5>=$F22,IF(AT$5<=#REF!,$K22,0),0)","v":{"$error":"#REF!"}},{"$f":"IF(AU$5>=$F22,IF(AU$5<=#REF!,$K22,0),0)","v":{"$error":"#REF!"}},{"$f":"IF(AV$5>=$F22,IF(AV$5<=#REF!,$K22,0),0)","v":{"$error":"#REF!"}},{"$f":"IF(AW$5>=$F22,IF(AW$5<=#REF!,$K22,0),0)","v":{"$error":"#REF!"}},{"$f":"IF(AX$5>=$F22,IF(AX$5<=#REF!,$K22,0),0)","v":{"$error":"#REF!"}},{"$f":"IF(AY$5>=$F22,IF(AY$5<=#REF!,$K22,0),0)","v":{"$error":"#REF!"}},{"$f":"IF(AZ$5>=$F22,IF(AZ$5<=#REF!,$K22,0),0)","v":{"$error":"#REF!"}},{"$f":"IF(BA$5>=$F22,IF(BA$5<=#REF!,$K22,0),0)","v":{"$error":"#REF!"}},{"$f":"IF(BB$5>=$F22,IF(BB$5<=#REF!,$K22,0),0)","v":{"$error":"#REF!"}},{"$f":"IF(BC$5>=$F22,IF(BC$5<=#REF!,$K22,0),0)","v":{"$error":"#REF!"}},{"$f":"IF(BD$5>=$F22,IF(BD$5<=#REF!,$K22,0),0)","v":{"$error":"#REF!"}},{"$f":"IF(BE$5>=$F22,IF(BE$5<=#REF!,$K22,0),0)","v":{"$error":"#REF!"}},{"$f":"IF(BF$5>=$F22,IF(BF$5<=#REF!,$K22,0),0)","v":{"$error":"#REF!"}},{"$f":"IF(BG$5>=$F22,IF(BG$5<=#REF!,$K22,0),0)","v":{"$error":"#REF!"}},{"$f":"IF(BH$5>=$F22,IF(BH$5<=#REF!,$K22,0),0)","v":{"$error":"#REF!"}},{"$f":"IF(BI$5>=$F22,IF(BI$5<=#REF!,$K22,0),0)","v":{"$error":"#REF!"}},{"$f":"IF(BJ$5>=$F22,IF(BJ$5<=#REF!,$K22,0),0)","v":{"$error":"#REF!"}},{"$f":"IF(BK$5>=$F22,IF(BK$5<=#REF!,$K22,0),0)","v":{"$error":"#REF!"}},{"$f":"IF(BL$5>=$F22,IF(BL$5<=#REF!,$K22,0),0)","v":{"$error":"#REF!"}},{"$f":"IF(BM$5>=$F22,IF(BM$5<=#REF!,$K22,0),0)","v":{"$error":"#REF!"}},{"$f":"IF(BN$5>=$F22,IF(BN$5<=#REF!,$K22,0),0)","v":{"$error":"#REF!"}},{"$f":"IF(BO$5>=$F22,IF(BO$5<=#REF!,$K22,0),0)","v":{"$error":"#REF!"}},{"$f":"IF(BP$5>=$F22,IF(BP$5<=#REF!,$K22,0),0)","v":{"$error":"#REF!"}},{"$f":"IF(BQ$5>=$F22,IF(BQ$5<=#REF!,$K22,0),0)","v":{"$error":"#REF!"}},{"$f":"IF(BR$5>=$F22,IF(BR$5<=#REF!,$K22,0),0)","v":{"$error":"#REF!"}},{"$f":"IF(BS$5>=$F22,IF(BS$5<=#REF!,$K22,0),0)","v":{"$error":"#REF!"}},{"$f":"IF(BT$5>=$F22,IF(BT$5<=#REF!,$K22,0),0)","v":{"$error":"#REF!"}},{"$f":"IF(BU$5>=$F22,IF(BU$5<=#REF!,$K22,0),0)","v":{"$error":"#REF!"}},{"$f":"IF(BV$5>=$F22,IF(BV$5<=#REF!,$K22,0),0)","v":{"$error":"#REF!"}},{"$f":"IF(BW$5>=$F22,IF(BW$5<=#REF!,$K22,0),0)","v":{"$error":"#REF!"}},{"$f":"IF(BX$5>=$F22,IF(BX$5<=#REF!,$K22,0),0)","v":{"$error":"#REF!"}},{"$f":"IF(BY$5>=$F22,IF(BY$5<=#REF!,$K22,0),0)","v":{"$error":"#REF!"}},{"$f":"IF(BZ$5>=$F22,IF(BZ$5<=#REF!,$K22,0),0)","v":{"$error":"#REF!"}},{"$f":"IF(CA$5>=$F22,IF(CA$5<=#REF!,$K22,0),0)","v":{"$error":"#REF!"}},{"$f":"IF(CB$5>=$F22,IF(CB$5<=#REF!,$K22,0),0)","v":{"$error":"#REF!"}},{"$f":"IF(CC$5>=$F22,IF(CC$5<=#REF!,$K22,0),0)","v":{"$error":"#REF!"}},{"$f":"IF(CD$5>=$F22,IF(CD$5<=#REF!,$K22,0),0)","v":{"$error":"#REF!"}},{"$f":"IF(CE$5>=$F22,IF(CE$5<=#REF!,$K22,0),0)","v":{"$error":"#REF!"}},{"$f":"IF(CF$5>=$F22,IF(CF$5<=#REF!,$K22,0),0)","v":{"$error":"#REF!"}},{"$f":"IF(CG$5>=$F22,IF(CG$5<=#REF!,$K22,0),0)","v":{"$error":"#REF!"}},{"$f":"IF(CH$5>=$F22,IF(CH$5<=#REF!,$K22,0),0)","v":{"$error":"#REF!"}},{"$f":"IF(CI$5>=$F22,IF(CI$5<=#REF!,$K22,0),0)","v":{"$error":"#REF!"}},{"$f":"IF(CJ$5>=$F22,IF(CJ$5<=#REF!,$K22,0),0)","v":{"$error":"#REF!"}},{"$f":"IF(CK$5>=$F22,IF(CK$5<=#REF!,$K22,0),0)","v":{"$error":"#REF!"}},{"$f":"IF(CL$5>=$F22,IF(CL$5<=#REF!,$K22,0),0)","v":{"$error":"#REF!"}},{"$f":"IF(CM$5>=$F22,IF(CM$5<=#REF!,$K22,0),0)","v":{"$error":"#REF!"}},{"$f":"IF(CN$5>=$F22,IF(CN$5<=#REF!,$K22,0),0)","v":{"$error":"#REF!"}},{"$f":"IF(CO$5>=$F22,IF(CO$5<=#REF!,$K22,0),0)","v":{"$error":"#REF!"}},{"$f":"IF(CP$5>=$F22,IF(CP$5<=#REF!,$K22,0),0)","v":{"$error":"#REF!"}},{"$f":"IF(CQ$5>=$F22,IF(CQ$5<=#REF!,$K22,0),0)","v":{"$error":"#REF!"}},{"$f":"IF(CR$5>=$F22,IF(CR$5<=#REF!,$K22,0),0)","v":{"$error":"#REF!"}},{"$f":"IF(CS$5>=$F22,IF(CS$5<=#REF!,$K22,0),0)","v":{"$error":"#REF!"}},{"$f":"IF(CT$5>=$F22,IF(CT$5<=#REF!,$K22,0),0)","v":{"$error":"#REF!"}},{"$f":"IF(CU$5>=$F22,IF(CU$5<=#REF!,$K22,0),0)","v":{"$error":"#REF!"}},{"$f":"IF(CV$5>=$F22,IF(CV$5<=#REF!,$K22,0),0)","v":{"$error":"#REF!"}},{"$f":"IF(CW$5>=$F22,IF(CW$5<=#REF!,$K22,0),0)","v":{"$error":"#REF!"}},{"$f":"IF(CX$5>=$F22,IF(CX$5<=#REF!,$K22,0),0)","v":{"$error":"#REF!"}},{"$f":"IF(CY$5>=$F22,IF(CY$5<=#REF!,$K22,0),0)","v":{"$error":"#REF!"}},{"$f":"IF(CZ$5>=$F22,IF(CZ$5<=#REF!,$K22,0),0)","v":{"$error":"#REF!"}},{"$f":"IF(DA$5>=$F22,IF(DA$5<=#REF!,$K22,0),0)","v":{"$error":"#REF!"}},{"$f":"IF(DB$5>=$F22,IF(DB$5<=#REF!,$K22,0),0)","v":{"$error":"#REF!"}},{"$f":"IF(DC$5>=$F22,IF(DC$5<=#REF!,$K22,0),0)","v":{"$error":"#REF!"}},{"$f":"IF(DD$5>=$F22,IF(DD$5<=#REF!,$K22,0),0)","v":{"$error":"#REF!"}},{"$f":"IF(DE$5>=$F22,IF(DE$5<=#REF!,$K22,0),0)","v":{"$error":"#REF!"}},{"$f":"IF(DF$5>=$F22,IF(DF$5<=#REF!,$K22,0),0)","v":{"$error":"#REF!"}},{"$f":"IF(DG$5>=$F22,IF(DG$5<=#REF!,$K22,0),0)","v":{"$error":"#REF!"}},{"$f":"IF(DH$5>=$F22,IF(DH$5<=#REF!,$K22,0),0)","v":{"$error":"#REF!"}},{"$f":"IF(DI$5>=$F22,IF(DI$5<=#REF!,$K22,0),0)","v":{"$error":"#REF!"}},{"$f":"IF(DJ$5>=$F22,IF(DJ$5<=#REF!,$K22,0),0)","v":{"$error":"#REF!"}},{"$f":"IF(DK$5>=$F22,IF(DK$5<=#REF!,$K22,0),0)","v":{"$error":"#REF!"}},{"$f":"IF(DL$5>=$F22,IF(DL$5<=#REF!,$K22,0),0)","v":{"$error":"#REF!"}},{"$f":"IF(DM$5>=$F22,IF(DM$5<=#REF!,$K22,0),0)","v":{"$error":"#REF!"}},{"$f":"IF(DN$5>=$F22,IF(DN$5<=#REF!,$K22,0),0)","v":{"$error":"#REF!"}},{"$f":"IF(DO$5>=$F22,IF(DO$5<=#REF!,$K22,0),0)","v":{"$error":"#REF!"}},{"$f":"IF(DP$5>=$F22,IF(DP$5<=#REF!,$K22,0),0)","v":{"$error":"#REF!"}},{"$f":"IF(DQ$5>=$F22,IF(DQ$5<=#REF!,$K22,0),0)","v":{"$error":"#REF!"}},{"$f":"IF(DR$5>=$F22,IF(DR$5<=#REF!,$K22,0),0)","v":{"$error":"#REF!"}},{"$error":"#REF!"},"","",null,null,null,"鉛管 (m)","F1",500]
[null,null,null,null,null,null,{"$f":"IF($D23=\"\",0,VLOOKUP(($DU23&$C23&$D23),単価情報!$B$66:$C$932,2,FALSE))","v":0},0,0,0,{"$f":"IF(E23=0,0,ROUND(E23/#REF!,1))","v":0},{"$f":"IF(L$5>=$F23,IF(L$5<=#REF!,$K23,0),0)","v":{"$error":"#REF!"}},{"$f":"IF(M$5>=$F23,IF(M$5<=#REF!,$K23,0),0)","v":{"$error":"#REF!"}},{"$f":"IF(N$5>=$F23,IF(N$5<=#REF!,$K23,0),0)","v":{"$error":"#REF!"}},{"$f":"IF(O$5>=$F23,IF(O$5<=#REF!,$K23,0),0)","v":{"$error":"#REF!"}},{"$f":"IF(P$5>=$F23,IF(P$5<=#REF!,$K23,0),0)","v":{"$error":"#REF!"}},{"$f":"IF(Q$5>=$F23,IF(Q$5<=#REF!,$K23,0),0)","v":{"$error":"#REF!"}},{"$f":"IF(R$5>=$F23,IF(R$5<=#REF!,$K23,0),0)","v":{"$error":"#REF!"}},{"$f":"IF(S$5>=$F23,IF(S$5<=#REF!,$K23,0),0)","v":{"$error":"#REF!"}},{"$f":"IF(T$5>=$F23,IF(T$5<=#REF!,$K23,0),0)","v":{"$error":"#REF!"}},{"$f":"IF(U$5>=$F23,IF(U$5<=#REF!,$K23,0),0)","v":{"$error":"#REF!"}},{"$f":"IF(V$5>=$F23,IF(V$5<=#REF!,$K23,0),0)","v":{"$error":"#REF!"}},{"$f":"IF(W$5>=$F23,IF(W$5<=#REF!,$K23,0),0)","v":{"$error":"#REF!"}},{"$f":"IF(X$5>=$F23,IF(X$5<=#REF!,$K23,0),0)","v":{"$error":"#REF!"}},{"$f":"IF(Y$5>=$F23,IF(Y$5<=#REF!,$K23,0),0)","v":{"$error":"#REF!"}},{"$f":"IF(Z$5>=$F23,IF(Z$5<=#REF!,$K23,0),0)","v":{"$error":"#REF!"}},{"$f":"IF(AA$5>=$F23,IF(AA$5<=#REF!,$K23,0),0)","v":{"$error":"#REF!"}},{"$f":"IF(AB$5>=$F23,IF(AB$5<=#REF!,$K23,0),0)","v":{"$error":"#REF!"}},{"$f":"IF(AC$5>=$F23,IF(AC$5<=#REF!,$K23,0),0)","v":{"$error":"#REF!"}},{"$f":"IF(AD$5>=$F23,IF(AD$5<=#REF!,$K23,0),0)","v":{"$error":"#REF!"}},{"$f":"IF(AE$5>=$F23,IF(AE$5<=#REF!,$K23,0),0)","v":{"$error":"#REF!"}},{"$f":"IF(AF$5>=$F23,IF(AF$5<=#REF!,$K23,0),0)","v":{"$error":"#REF!"}},{"$f":"IF(AG$5>=$F23,IF(AG$5<=#REF!,$K23,0),0)","v":{"$error":"#REF!"}},{"$f":"IF(AH$5>=$F23,IF(AH$5<=#REF!,$K23,0),0)","v":{"$error":"#REF!"}},{"$f":"IF(AI$5>=$F23,IF(AI$5<=#REF!,$K23,0),0)","v":{"$error":"#REF!"}},{"$f":"IF(AJ$5>=$F23,IF(AJ$5<=#REF!,$K23,0),0)","v":{"$error":"#REF!"}},{"$f":"IF(AK$5>=$F23,IF(AK$5<=#REF!,$K23,0),0)","v":{"$error":"#REF!"}},{"$f":"IF(AL$5>=$F23,IF(AL$5<=#REF!,$K23,0),0)","v":{"$error":"#REF!"}},{"$f":"IF(AM$5>=$F23,IF(AM$5<=#REF!,$K23,0),0)","v":{"$error":"#REF!"}},{"$f":"IF(AN$5>=$F23,IF(AN$5<=#REF!,$K23,0),0)","v":{"$error":"#REF!"}},{"$f":"IF(AO$5>=$F23,IF(AO$5<=#REF!,$K23,0),0)","v":{"$error":"#REF!"}},{"$f":"IF(AP$5>=$F23,IF(AP$5<=#REF!,$K23,0),0)","v":{"$error":"#REF!"}},{"$f":"IF(AQ$5>=$F23,IF(AQ$5<=#REF!,$K23,0),0)","v":{"$error":"#REF!"}},{"$f":"IF(AR$5>=$F23,IF(AR$5<=#REF!,$K23,0),0)","v":{"$error":"#REF!"}},{"$f":"IF(AS$5>=$F23,IF(AS$5<=#REF!,$K23,0),0)","v":{"$error":"#REF!"}},{"$f":"IF(AT$5>=$F23,IF(AT$5<=#REF!,$K23,0),0)","v":{"$error":"#REF!"}},{"$f":"IF(AU$5>=$F23,IF(AU$5<=#REF!,$K23,0),0)","v":{"$error":"#REF!"}},{"$f":"IF(AV$5>=$F23,IF(AV$5<=#REF!,$K23,0),0)","v":{"$error":"#REF!"}},{"$f":"IF(AW$5>=$F23,IF(AW$5<=#REF!,$K23,0),0)","v":{"$error":"#REF!"}},{"$f":"IF(AX$5>=$F23,IF(AX$5<=#REF!,$K23,0),0)","v":{"$error":"#REF!"}},{"$f":"IF(AY$5>=$F23,IF(AY$5<=#REF!,$K23,0),0)","v":{"$error":"#REF!"}},{"$f":"IF(AZ$5>=$F23,IF(AZ$5<=#REF!,$K23,0),0)","v":{"$error":"#REF!"}},{"$f":"IF(BA$5>=$F23,IF(BA$5<=#REF!,$K23,0),0)","v":{"$error":"#REF!"}},{"$f":"IF(BB$5>=$F23,IF(BB$5<=#REF!,$K23,0),0)","v":{"$error":"#REF!"}},{"$f":"IF(BC$5>=$F23,IF(BC$5<=#REF!,$K23,0),0)","v":{"$error":"#REF!"}},{"$f":"IF(BD$5>=$F23,IF(BD$5<=#REF!,$K23,0),0)","v":{"$error":"#REF!"}},{"$f":"IF(BE$5>=$F23,IF(BE$5<=#REF!,$K23,0),0)","v":{"$error":"#REF!"}},{"$f":"IF(BF$5>=$F23,IF(BF$5<=#REF!,$K23,0),0)","v":{"$error":"#REF!"}},{"$f":"IF(BG$5>=$F23,IF(BG$5<=#REF!,$K23,0),0)","v":{"$error":"#REF!"}},{"$f":"IF(BH$5>=$F23,IF(BH$5<=#REF!,$K23,0),0)","v":{"$error":"#REF!"}},{"$f":"IF(BI$5>=$F23,IF(BI$5<=#REF!,$K23,0),0)","v":{"$error":"#REF!"}},{"$f":"IF(BJ$5>=$F23,IF(BJ$5<=#REF!,$K23,0),0)","v":{"$error":"#REF!"}},{"$f":"IF(BK$5>=$F23,IF(BK$5<=#REF!,$K23,0),0)","v":{"$error":"#REF!"}},{"$f":"IF(BL$5>=$F23,IF(BL$5<=#REF!,$K23,0),0)","v":{"$error":"#REF!"}},{"$f":"IF(BM$5>=$F23,IF(BM$5<=#REF!,$K23,0),0)","v":{"$error":"#REF!"}},{"$f":"IF(BN$5>=$F23,IF(BN$5<=#REF!,$K23,0),0)","v":{"$error":"#REF!"}},{"$f":"IF(BO$5>=$F23,IF(BO$5<=#REF!,$K23,0),0)","v":{"$error":"#REF!"}},{"$f":"IF(BP$5>=$F23,IF(BP$5<=#REF!,$K23,0),0)","v":{"$error":"#REF!"}},{"$f":"IF(BQ$5>=$F23,IF(BQ$5<=#REF!,$K23,0),0)","v":{"$error":"#REF!"}},{"$f":"IF(BR$5>=$F23,IF(BR$5<=#REF!,$K23,0),0)","v":{"$error":"#REF!"}},{"$f":"IF(BS$5>=$F23,IF(BS$5<=#REF!,$K23,0),0)","v":{"$error":"#REF!"}},{"$f":"IF(BT$5>=$F23,IF(BT$5<=#REF!,$K23,0),0)","v":{"$error":"#REF!"}},{"$f":"IF(BU$5>=$F23,IF(BU$5<=#REF!,$K23,0),0)","v":{"$error":"#REF!"}},{"$f":"IF(BV$5>=$F23,IF(BV$5<=#REF!,$K23,0),0)","v":{"$error":"#REF!"}},{"$f":"IF(BW$5>=$F23,IF(BW$5<=#REF!,$K23,0),0)","v":{"$error":"#REF!"}},{"$f":"IF(BX$5>=$F23,IF(BX$5<=#REF!,$K23,0),0)","v":{"$error":"#REF!"}},{"$f":"IF(BY$5>=$F23,IF(BY$5<=#REF!,$K23,0),0)","v":{"$error":"#REF!"}},{"$f":"IF(BZ$5>=$F23,IF(BZ$5<=#REF!,$K23,0),0)","v":{"$error":"#REF!"}},{"$f":"IF(CA$5>=$F23,IF(CA$5<=#REF!,$K23,0),0)","v":{"$error":"#REF!"}},{"$f":"IF(CB$5>=$F23,IF(CB$5<=#REF!,$K23,0),0)","v":{"$error":"#REF!"}},{"$f":"IF(CC$5>=$F23,IF(CC$5<=#REF!,$K23,0),0)","v":{"$error":"#REF!"}},{"$f":"IF(CD$5>=$F23,IF(CD$5<=#REF!,$K23,0),0)","v":{"$error":"#REF!"}},{"$f":"IF(CE$5>=$F23,IF(CE$5<=#REF!,$K23,0),0)","v":{"$error":"#REF!"}},{"$f":"IF(CF$5>=$F23,IF(CF$5<=#REF!,$K23,0),0)","v":{"$error":"#REF!"}},{"$f":"IF(CG$5>=$F23,IF(CG$5<=#REF!,$K23,0),0)","v":{"$error":"#REF!"}},{"$f":"IF(CH$5>=$F23,IF(CH$5<=#REF!,$K23,0),0)","v":{"$error":"#REF!"}},{"$f":"IF(CI$5>=$F23,IF(CI$5<=#REF!,$K23,0),0)","v":{"$error":"#REF!"}},{"$f":"IF(CJ$5>=$F23,IF(CJ$5<=#REF!,$K23,0),0)","v":{"$error":"#REF!"}},{"$f":"IF(CK$5>=$F23,IF(CK$5<=#REF!,$K23,0),0)","v":{"$error":"#REF!"}},{"$f":"IF(CL$5>=$F23,IF(CL$5<=#REF!,$K23,0),0)","v":{"$error":"#REF!"}},{"$f":"IF(CM$5>=$F23,IF(CM$5<=#REF!,$K23,0),0)","v":{"$error":"#REF!"}},{"$f":"IF(CN$5>=$F23,IF(CN$5<=#REF!,$K23,0),0)","v":{"$error":"#REF!"}},{"$f":"IF(CO$5>=$F23,IF(CO$5<=#REF!,$K23,0),0)","v":{"$error":"#REF!"}},{"$f":"IF(CP$5>=$F23,IF(CP$5<=#REF!,$K23,0),0)","v":{"$error":"#REF!"}},{"$f":"IF(CQ$5>=$F23,IF(CQ$5<=#REF!,$K23,0),0)","v":{"$error":"#REF!"}},{"$f":"IF(CR$5>=$F23,IF(CR$5<=#REF!,$K23,0),0)","v":{"$error":"#REF!"}},{"$f":"IF(CS$5>=$F23,IF(CS$5<=#REF!,$K23,0),0)","v":{"$error":"#REF!"}},{"$f":"IF(CT$5>=$F23,IF(CT$5<=#REF!,$K23,0),0)","v":{"$error":"#REF!"}},{"$f":"IF(CU$5>=$F23,IF(CU$5<=#REF!,$K23,0),0)","v":{"$error":"#REF!"}},{"$f":"IF(CV$5>=$F23,IF(CV$5<=#REF!,$K23,0),0)","v":{"$error":"#REF!"}},{"$f":"IF(CW$5>=$F23,IF(CW$5<=#REF!,$K23,0),0)","v":{"$error":"#REF!"}},{"$f":"IF(CX$5>=$F23,IF(CX$5<=#REF!,$K23,0),0)","v":{"$error":"#REF!"}},{"$f":"IF(CY$5>=$F23,IF(CY$5<=#REF!,$K23,0),0)","v":{"$error":"#REF!"}},{"$f":"IF(CZ$5>=$F23,IF(CZ$5<=#REF!,$K23,0),0)","v":{"$error":"#REF!"}},{"$f":"IF(DA$5>=$F23,IF(DA$5<=#REF!,$K23,0),0)","v":{"$error":"#REF!"}},{"$f":"IF(DB$5>=$F23,IF(DB$5<=#REF!,$K23,0),0)","v":{"$error":"#REF!"}},{"$f":"IF(DC$5>=$F23,IF(DC$5<=#REF!,$K23,0),0)","v":{"$error":"#REF!"}},{"$f":"IF(DD$5>=$F23,IF(DD$5<=#REF!,$K23,0),0)","v":{"$error":"#REF!"}},{"$f":"IF(DE$5>=$F23,IF(DE$5<=#REF!,$K23,0),0)","v":{"$error":"#REF!"}},{"$f":"IF(DF$5>=$F23,IF(DF$5<=#REF!,$K23,0),0)","v":{"$error":"#REF!"}},{"$f":"IF(DG$5>=$F23,IF(DG$5<=#REF!,$K23,0),0)","v":{"$error":"#REF!"}},{"$f":"IF(DH$5>=$F23,IF(DH$5<=#REF!,$K23,0),0)","v":{"$error":"#REF!"}},{"$f":"IF(DI$5>=$F23,IF(DI$5<=#REF!,$K23,0),0)","v":{"$error":"#REF!"}},{"$f":"IF(DJ$5>=$F23,IF(DJ$5<=#REF!,$K23,0),0)","v":{"$error":"#REF!"}},{"$f":"IF(DK$5>=$F23,IF(DK$5<=#REF!,$K23,0),0)","v":{"$error":"#REF!"}},{"$f":"IF(DL$5>=$F23,IF(DL$5<=#REF!,$K23,0),0)","v":{"$error":"#REF!"}},{"$f":"IF(DM$5>=$F23,IF(DM$5<=#REF!,$K23,0),0)","v":{"$error":"#REF!"}},{"$f":"IF(DN$5>=$F23,IF(DN$5<=#REF!,$K23,0),0)","v":{"$error":"#REF!"}},{"$f":"IF(DO$5>=$F23,IF(DO$5<=#REF!,$K23,0),0)","v":{"$error":"#REF!"}},{"$f":"IF(DP$5>=$F23,IF(DP$5<=#REF!,$K23,0),0)","v":{"$error":"#REF!"}},{"$f":"IF(DQ$5>=$F23,IF(DQ$5<=#REF!,$K23,0),0)","v":{"$error":"#REF!"}},{"$f":"IF(DR$5>=$F23,IF(DR$5<=#REF!,$K23,0),0)","v":{"$error":"#REF!"}},{"$error":"#REF!"},"","",null,null,null,"ポリエチレン管　（高密度、熱融着継手を有する） （m）","G1",600]
[null,null,null,null,null,null,{"$f":"IF($D24=\"\",0,VLOOKUP(($DU24&$C24&$D24),単価情報!$B$66:$C$932,2,FALSE))","v":0},0,0,0,{"$f":"IF(E24=0,0,ROUND(E24/#REF!,1))","v":0},{"$f":"IF(L$5>=$F24,IF(L$5<=#REF!,$K24,0),0)","v":{"$error":"#REF!"}},{"$f":"IF(M$5>=$F24,IF(M$5<=#REF!,$K24,0),0)","v":{"$error":"#REF!"}},{"$f":"IF(N$5>=$F24,IF(N$5<=#REF!,$K24,0),0)","v":{"$error":"#REF!"}},{"$f":"IF(O$5>=$F24,IF(O$5<=#REF!,$K24,0),0)","v":{"$error":"#REF!"}},{"$f":"IF(P$5>=$F24,IF(P$5<=#REF!,$K24,0),0)","v":{"$error":"#REF!"}},{"$f":"IF(Q$5>=$F24,IF(Q$5<=#REF!,$K24,0),0)","v":{"$error":"#REF!"}},{"$f":"IF(R$5>=$F24,IF(R$5<=#REF!,$K24,0),0)","v":{"$error":"#REF!"}},{"$f":"IF(S$5>=$F24,IF(S$5<=#REF!,$K24,0),0)","v":{"$error":"#REF!"}},{"$f":"IF(T$5>=$F24,IF(T$5<=#REF!,$K24,0),0)","v":{"$error":"#REF!"}},{"$f":"IF(U$5>=$F24,IF(U$5<=#REF!,$K24,0),0)","v":{"$error":"#REF!"}},{"$f":"IF(V$5>=$F24,IF(V$5<=#REF!,$K24,0),0)","v":{"$error":"#REF!"}},{"$f":"IF(W$5>=$F24,IF(W$5<=#REF!,$K24,0),0)","v":{"$error":"#REF!"}},{"$f":"IF(X$5>=$F24,IF(X$5<=#REF!,$K24,0),0)","v":{"$error":"#REF!"}},{"$f":"IF(Y$5>=$F24,IF(Y$5<=#REF!,$K24,0),0)","v":{"$error":"#REF!"}},{"$f":"IF(Z$5>=$F24,IF(Z$5<=#REF!,$K24,0),0)","v":{"$error":"#REF!"}},{"$f":"IF(AA$5>=$F24,IF(AA$5<=#REF!,$K24,0),0)","v":{"$error":"#REF!"}},{"$f":"IF(AB$5>=$F24,IF(AB$5<=#REF!,$K24,0),0)","v":{"$error":"#REF!"}},{"$f":"IF(AC$5>=$F24,IF(AC$5<=#REF!,$K24,0),0)","v":{"$error":"#REF!"}},{"$f":"IF(AD$5>=$F24,IF(AD$5<=#REF!,$K24,0),0)","v":{"$error":"#REF!"}},{"$f":"IF(AE$5>=$F24,IF(AE$5<=#REF!,$K24,0),0)","v":{"$error":"#REF!"}},{"$f":"IF(AF$5>=$F24,IF(AF$5<=#REF!,$K24,0),0)","v":{"$error":"#REF!"}},{"$f":"IF(AG$5>=$F24,IF(AG$5<=#REF!,$K24,0),0)","v":{"$error":"#REF!"}},{"$f":"IF(AH$5>=$F24,IF(AH$5<=#REF!,$K24,0),0)","v":{"$error":"#REF!"}},{"$f":"IF(AI$5>=$F24,IF(AI$5<=#REF!,$K24,0),0)","v":{"$error":"#REF!"}},{"$f":"IF(AJ$5>=$F24,IF(AJ$5<=#REF!,$K24,0),0)","v":{"$error":"#REF!"}},{"$f":"IF(AK$5>=$F24,IF(AK$5<=#REF!,$K24,0),0)","v":{"$error":"#REF!"}},{"$f":"IF(AL$5>=$F24,IF(AL$5<=#REF!,$K24,0),0)","v":{"$error":"#REF!"}},{"$f":"IF(AM$5>=$F24,IF(AM$5<=#REF!,$K24,0),0)","v":{"$error":"#REF!"}},{"$f":"IF(AN$5>=$F24,IF(AN$5<=#REF!,$K24,0),0)","v":{"$error":"#REF!"}},{"$f":"IF(AO$5>=$F24,IF(AO$5<=#REF!,$K24,0),0)","v":{"$error":"#REF!"}},{"$f":"IF(AP$5>=$F24,IF(AP$5<=#REF!,$K24,0),0)","v":{"$error":"#REF!"}},{"$f":"IF(AQ$5>=$F24,IF(AQ$5<=#REF!,$K24,0),0)","v":{"$error":"#REF!"}},{"$f":"IF(AR$5>=$F24,IF(AR$5<=#REF!,$K24,0),0)","v":{"$error":"#REF!"}},{"$f":"IF(AS$5>=$F24,IF(AS$5<=#REF!,$K24,0),0)","v":{"$error":"#REF!"}},{"$f":"IF(AT$5>=$F24,IF(AT$5<=#REF!,$K24,0),0)","v":{"$error":"#REF!"}},{"$f":"IF(AU$5>=$F24,IF(AU$5<=#REF!,$K24,0),0)","v":{"$error":"#REF!"}},{"$f":"IF(AV$5>=$F24,IF(AV$5<=#REF!,$K24,0),0)","v":{"$error":"#REF!"}},{"$f":"IF(AW$5>=$F24,IF(AW$5<=#REF!,$K24,0),0)","v":{"$error":"#REF!"}},{"$f":"IF(AX$5>=$F24,IF(AX$5<=#REF!,$K24,0),0)","v":{"$error":"#REF!"}},{"$f":"IF(AY$5>=$F24,IF(AY$5<=#REF!,$K24,0),0)","v":{"$error":"#REF!"}},{"$f":"IF(AZ$5>=$F24,IF(AZ$5<=#REF!,$K24,0),0)","v":{"$error":"#REF!"}},{"$f":"IF(BA$5>=$F24,IF(BA$5<=#REF!,$K24,0),0)","v":{"$error":"#REF!"}},{"$f":"IF(BB$5>=$F24,IF(BB$5<=#REF!,$K24,0),0)","v":{"$error":"#REF!"}},{"$f":"IF(BC$5>=$F24,IF(BC$5<=#REF!,$K24,0),0)","v":{"$error":"#REF!"}},{"$f":"IF(BD$5>=$F24,IF(BD$5<=#REF!,$K24,0),0)","v":{"$error":"#REF!"}},{"$f":"IF(BE$5>=$F24,IF(BE$5<=#REF!,$K24,0),0)","v":{"$error":"#REF!"}},{"$f":"IF(BF$5>=$F24,IF(BF$5<=#REF!,$K24,0),0)","v":{"$error":"#REF!"}},{"$f":"IF(BG$5>=$F24,IF(BG$5<=#REF!,$K24,0),0)","v":{"$error":"#REF!"}},{"$f":"IF(BH$5>=$F24,IF(BH$5<=#REF!,$K24,0),0)","v":{"$error":"#REF!"}},{"$f":"IF(BI$5>=$F24,IF(BI$5<=#REF!,$K24,0),0)","v":{"$error":"#REF!"}},{"$f":"IF(BJ$5>=$F24,IF(BJ$5<=#REF!,$K24,0),0)","v":{"$error":"#REF!"}},{"$f":"IF(BK$5>=$F24,IF(BK$5<=#REF!,$K24,0),0)","v":{"$error":"#REF!"}},{"$f":"IF(BL$5>=$F24,IF(BL$5<=#REF!,$K24,0),0)","v":{"$error":"#REF!"}},{"$f":"IF(BM$5>=$F24,IF(BM$5<=#REF!,$K24,0),0)","v":{"$error":"#REF!"}},{"$f":"IF(BN$5>=$F24,IF(BN$5<=#REF!,$K24,0),0)","v":{"$error":"#REF!"}},{"$f":"IF(BO$5>=$F24,IF(BO$5<=#REF!,$K24,0),0)","v":{"$error":"#REF!"}},{"$f":"IF(BP$5>=$F24,IF(BP$5<=#REF!,$K24,0),0)","v":{"$error":"#REF!"}},{"$f":"IF(BQ$5>=$F24,IF(BQ$5<=#REF!,$K24,0),0)","v":{"$error":"#REF!"}},{"$f":"IF(BR$5>=$F24,IF(BR$5<=#REF!,$K24,0),0)","v":{"$error":"#REF!"}},{"$f":"IF(BS$5>=$F24,IF(BS$5<=#REF!,$K24,0),0)","v":{"$error":"#REF!"}},{"$f":"IF(BT$5>=$F24,IF(BT$5<=#REF!,$K24,0),0)","v":{"$error":"#REF!"}},{"$f":"IF(BU$5>=$F24,IF(BU$5<=#REF!,$K24,0),0)","v":{"$error":"#REF!"}},{"$f":"IF(BV$5>=$F24,IF(BV$5<=#REF!,$K24,0),0)","v":{"$error":"#REF!"}},{"$f":"IF(BW$5>=$F24,IF(BW$5<=#REF!,$K24,0),0)","v":{"$error":"#REF!"}},{"$f":"IF(BX$5>=$F24,IF(BX$5<=#REF!,$K24,0),0)","v":{"$error":"#REF!"}},{"$f":"IF(BY$5>=$F24,IF(BY$5<=#REF!,$K24,0),0)","v":{"$error":"#REF!"}},{"$f":"IF(BZ$5>=$F24,IF(BZ$5<=#REF!,$K24,0),0)","v":{"$error":"#REF!"}},{"$f":"IF(CA$5>=$F24,IF(CA$5<=#REF!,$K24,0),0)","v":{"$error":"#REF!"}},{"$f":"IF(CB$5>=$F24,IF(CB$5<=#REF!,$K24,0),0)","v":{"$error":"#REF!"}},{"$f":"IF(CC$5>=$F24,IF(CC$5<=#REF!,$K24,0),0)","v":{"$error":"#REF!"}},{"$f":"IF(CD$5>=$F24,IF(CD$5<=#REF!,$K24,0),0)","v":{"$error":"#REF!"}},{"$f":"IF(CE$5>=$F24,IF(CE$5<=#REF!,$K24,0),0)","v":{"$error":"#REF!"}},{"$f":"IF(CF$5>=$F24,IF(CF$5<=#REF!,$K24,0),0)","v":{"$error":"#REF!"}},{"$f":"IF(CG$5>=$F24,IF(CG$5<=#REF!,$K24,0),0)","v":{"$error":"#REF!"}},{"$f":"IF(CH$5>=$F24,IF(CH$5<=#REF!,$K24,0),0)","v":{"$error":"#REF!"}},{"$f":"IF(CI$5>=$F24,IF(CI$5<=#REF!,$K24,0),0)","v":{"$error":"#REF!"}},{"$f":"IF(CJ$5>=$F24,IF(CJ$5<=#REF!,$K24,0),0)","v":{"$error":"#REF!"}},{"$f":"IF(CK$5>=$F24,IF(CK$5<=#REF!,$K24,0),0)","v":{"$error":"#REF!"}},{"$f":"IF(CL$5>=$F24,IF(CL$5<=#REF!,$K24,0),0)","v":{"$error":"#REF!"}},{"$f":"IF(CM$5>=$F24,IF(CM$5<=#REF!,$K24,0),0)","v":{"$error":"#REF!"}},{"$f":"IF(CN$5>=$F24,IF(CN$5<=#REF!,$K24,0),0)","v":{"$error":"#REF!"}},{"$f":"IF(CO$5>=$F24,IF(CO$5<=#REF!,$K24,0),0)","v":{"$error":"#REF!"}},{"$f":"IF(CP$5>=$F24,IF(CP$5<=#REF!,$K24,0),0)","v":{"$error":"#REF!"}},{"$f":"IF(CQ$5>=$F24,IF(CQ$5<=#REF!,$K24,0),0)","v":{"$error":"#REF!"}},{"$f":"IF(CR$5>=$F24,IF(CR$5<=#REF!,$K24,0),0)","v":{"$error":"#REF!"}},{"$f":"IF(CS$5>=$F24,IF(CS$5<=#REF!,$K24,0),0)","v":{"$error":"#REF!"}},{"$f":"IF(CT$5>=$F24,IF(CT$5<=#REF!,$K24,0),0)","v":{"$error":"#REF!"}},{"$f":"IF(CU$5>=$F24,IF(CU$5<=#REF!,$K24,0),0)","v":{"$error":"#REF!"}},{"$f":"IF(CV$5>=$F24,IF(CV$5<=#REF!,$K24,0),0)","v":{"$error":"#REF!"}},{"$f":"IF(CW$5>=$F24,IF(CW$5<=#REF!,$K24,0),0)","v":{"$error":"#REF!"}},{"$f":"IF(CX$5>=$F24,IF(CX$5<=#REF!,$K24,0),0)","v":{"$error":"#REF!"}},{"$f":"IF(CY$5>=$F24,IF(CY$5<=#REF!,$K24,0),0)","v":{"$error":"#REF!"}},{"$f":"IF(CZ$5>=$F24,IF(CZ$5<=#REF!,$K24,0),0)","v":{"$error":"#REF!"}},{"$f":"IF(DA$5>=$F24,IF(DA$5<=#REF!,$K24,0),0)","v":{"$error":"#REF!"}},{"$f":"IF(DB$5>=$F24,IF(DB$5<=#REF!,$K24,0),0)","v":{"$error":"#REF!"}},{"$f":"IF(DC$5>=$F24,IF(DC$5<=#REF!,$K24,0),0)","v":{"$error":"#REF!"}},{"$f":"IF(DD$5>=$F24,IF(DD$5<=#REF!,$K24,0),0)","v":{"$error":"#REF!"}},{"$f":"IF(DE$5>=$F24,IF(DE$5<=#REF!,$K24,0),0)","v":{"$error":"#REF!"}},{"$f":"IF(DF$5>=$F24,IF(DF$5<=#REF!,$K24,0),0)","v":{"$error":"#REF!"}},{"$f":"IF(DG$5>=$F24,IF(DG$5<=#REF!,$K24,0),0)","v":{"$error":"#REF!"}},{"$f":"IF(DH$5>=$F24,IF(DH$5<=#REF!,$K24,0),0)","v":{"$error":"#REF!"}},{"$f":"IF(DI$5>=$F24,IF(DI$5<=#REF!,$K24,0),0)","v":{"$error":"#REF!"}},{"$f":"IF(DJ$5>=$F24,IF(DJ$5<=#REF!,$K24,0),0)","v":{"$error":"#REF!"}},{"$f":"IF(DK$5>=$F24,IF(DK$5<=#REF!,$K24,0),0)","v":{"$error":"#REF!"}},{"$f":"IF(DL$5>=$F24,IF(DL$5<=#REF!,$K24,0),0)","v":{"$error":"#REF!"}},{"$f":"IF(DM$5>=$F24,IF(DM$5<=#REF!,$K24,0),0)","v":{"$error":"#REF!"}},{"$f":"IF(DN$5>=$F24,IF(DN$5<=#REF!,$K24,0),0)","v":{"$error":"#REF!"}},{"$f":"IF(DO$5>=$F24,IF(DO$5<=#REF!,$K24,0),0)","v":{"$error":"#REF!"}},{"$f":"IF(DP$5>=$F24,IF(DP$5<=#REF!,$K24,0),0)","v":{"$error":"#REF!"}},{"$f":"IF(DQ$5>=$F24,IF(DQ$5<=#REF!,$K24,0),0)","v":{"$error":"#REF!"}},{"$f":"IF(DR$5>=$F24,IF(DR$5<=#REF!,$K24,0),0)","v":{"$error":"#REF!"}},{"$error":"#REF!"},"","",null,null,null,"ポリエチレン管　（上記以外・不明なものを含む） （m）","G1",700]
[null,null,null,null,null,null,{"$f":"IF($D25=\"\",0,VLOOKUP(($DU25&$C25&$D25),単価情報!$B$66:$C$932,2,FALSE))","v":0},0,0,0,{"$f":"IF(E25=0,0,ROUND(E25/#REF!,1))","v":0},{"$f":"IF(L$5>=$F25,IF(L$5<=#REF!,$K25,0),0)","v":{"$error":"#REF!"}},{"$f":"IF(M$5>=$F25,IF(M$5<=#REF!,$K25,0),0)","v":{"$error":"#REF!"}},{"$f":"IF(N$5>=$F25,IF(N$5<=#REF!,$K25,0),0)","v":{"$error":"#REF!"}},{"$f":"IF(O$5>=$F25,IF(O$5<=#REF!,$K25,0),0)","v":{"$error":"#REF!"}},{"$f":"IF(P$5>=$F25,IF(P$5<=#REF!,$K25,0),0)","v":{"$error":"#REF!"}},{"$f":"IF(Q$5>=$F25,IF(Q$5<=#REF!,$K25,0),0)","v":{"$error":"#REF!"}},{"$f":"IF(R$5>=$F25,IF(R$5<=#REF!,$K25,0),0)","v":{"$error":"#REF!"}},{"$f":"IF(S$5>=$F25,IF(S$5<=#REF!,$K25,0),0)","v":{"$error":"#REF!"}},{"$f":"IF(T$5>=$F25,IF(T$5<=#REF!,$K25,0),0)","v":{"$error":"#REF!"}},{"$f":"IF(U$5>=$F25,IF(U$5<=#REF!,$K25,0),0)","v":{"$error":"#REF!"}},{"$f":"IF(V$5>=$F25,IF(V$5<=#REF!,$K25,0),0)","v":{"$error":"#REF!"}},{"$f":"IF(W$5>=$F25,IF(W$5<=#REF!,$K25,0),0)","v":{"$error":"#REF!"}},{"$f":"IF(X$5>=$F25,IF(X$5<=#REF!,$K25,0),0)","v":{"$error":"#REF!"}},{"$f":"IF(Y$5>=$F25,IF(Y$5<=#REF!,$K25,0),0)","v":{"$error":"#REF!"}},{"$f":"IF(Z$5>=$F25,IF(Z$5<=#REF!,$K25,0),0)","v":{"$error":"#REF!"}},{"$f":"IF(AA$5>=$F25,IF(AA$5<=#REF!,$K25,0),0)","v":{"$error":"#REF!"}},{"$f":"IF(AB$5>=$F25,IF(AB$5<=#REF!,$K25,0),0)","v":{"$error":"#REF!"}},{"$f":"IF(AC$5>=$F25,IF(AC$5<=#REF!,$K25,0),0)","v":{"$error":"#REF!"}},{"$f":"IF(AD$5>=$F25,IF(AD$5<=#REF!,$K25,0),0)","v":{"$error":"#REF!"}},{"$f":"IF(AE$5>=$F25,IF(AE$5<=#REF!,$K25,0),0)","v":{"$error":"#REF!"}},{"$f":"IF(AF$5>=$F25,IF(AF$5<=#REF!,$K25,0),0)","v":{"$error":"#REF!"}},{"$f":"IF(AG$5>=$F25,IF(AG$5<=#REF!,$K25,0),0)","v":{"$error":"#REF!"}},{"$f":"IF(AH$5>=$F25,IF(AH$5<=#REF!,$K25,0),0)","v":{"$error":"#REF!"}},{"$f":"IF(AI$5>=$F25,IF(AI$5<=#REF!,$K25,0),0)","v":{"$error":"#REF!"}},{"$f":"IF(AJ$5>=$F25,IF(AJ$5<=#REF!,$K25,0),0)","v":{"$error":"#REF!"}},{"$f":"IF(AK$5>=$F25,IF(AK$5<=#REF!,$K25,0),0)","v":{"$error":"#REF!"}},{"$f":"IF(AL$5>=$F25,IF(AL$5<=#REF!,$K25,0),0)","v":{"$error":"#REF!"}},{"$f":"IF(AM$5>=$F25,IF(AM$5<=#REF!,$K25,0),0)","v":{"$error":"#REF!"}},{"$f":"IF(AN$5>=$F25,IF(AN$5<=#REF!,$K25,0),0)","v":{"$error":"#REF!"}},{"$f":"IF(AO$5>=$F25,IF(AO$5<=#REF!,$K25,0),0)","v":{"$error":"#REF!"}},{"$f":"IF(AP$5>=$F25,IF(AP$5<=#REF!,$K25,0),0)","v":{"$error":"#REF!"}},{"$f":"IF(AQ$5>=$F25,IF(AQ$5<=#REF!,$K25,0),0)","v":{"$error":"#REF!"}},{"$f":"IF(AR$5>=$F25,IF(AR$5<=#REF!,$K25,0),0)","v":{"$error":"#REF!"}},{"$f":"IF(AS$5>=$F25,IF(AS$5<=#REF!,$K25,0),0)","v":{"$error":"#REF!"}},{"$f":"IF(AT$5>=$F25,IF(AT$5<=#REF!,$K25,0),0)","v":{"$error":"#REF!"}},{"$f":"IF(AU$5>=$F25,IF(AU$5<=#REF!,$K25,0),0)","v":{"$error":"#REF!"}},{"$f":"IF(AV$5>=$F25,IF(AV$5<=#REF!,$K25,0),0)","v":{"$error":"#REF!"}},{"$f":"IF(AW$5>=$F25,IF(AW$5<=#REF!,$K25,0),0)","v":{"$error":"#REF!"}},{"$f":"IF(AX$5>=$F25,IF(AX$5<=#REF!,$K25,0),0)","v":{"$error":"#REF!"}},{"$f":"IF(AY$5>=$F25,IF(AY$5<=#REF!,$K25,0),0)","v":{"$error":"#REF!"}},{"$f":"IF(AZ$5>=$F25,IF(AZ$5<=#REF!,$K25,0),0)","v":{"$error":"#REF!"}},{"$f":"IF(BA$5>=$F25,IF(BA$5<=#REF!,$K25,0),0)","v":{"$error":"#REF!"}},{"$f":"IF(BB$5>=$F25,IF(BB$5<=#REF!,$K25,0),0)","v":{"$error":"#REF!"}},{"$f":"IF(BC$5>=$F25,IF(BC$5<=#REF!,$K25,0),0)","v":{"$error":"#REF!"}},{"$f":"IF(BD$5>=$F25,IF(BD$5<=#REF!,$K25,0),0)","v":{"$error":"#REF!"}},{"$f":"IF(BE$5>=$F25,IF(BE$5<=#REF!,$K25,0),0)","v":{"$error":"#REF!"}},{"$f":"IF(BF$5>=$F25,IF(BF$5<=#REF!,$K25,0),0)","v":{"$error":"#REF!"}},{"$f":"IF(BG$5>=$F25,IF(BG$5<=#REF!,$K25,0),0)","v":{"$error":"#REF!"}},{"$f":"IF(BH$5>=$F25,IF(BH$5<=#REF!,$K25,0),0)","v":{"$error":"#REF!"}},{"$f":"IF(BI$5>=$F25,IF(BI$5<=#REF!,$K25,0),0)","v":{"$error":"#REF!"}},{"$f":"IF(BJ$5>=$F25,IF(BJ$5<=#REF!,$K25,0),0)","v":{"$error":"#REF!"}},{"$f":"IF(BK$5>=$F25,IF(BK$5<=#REF!,$K25,0),0)","v":{"$error":"#REF!"}},{"$f":"IF(BL$5>=$F25,IF(BL$5<=#REF!,$K25,0),0)","v":{"$error":"#REF!"}},{"$f":"IF(BM$5>=$F25,IF(BM$5<=#REF!,$K25,0),0)","v":{"$error":"#REF!"}},{"$f":"IF(BN$5>=$F25,IF(BN$5<=#REF!,$K25,0),0)","v":{"$error":"#REF!"}},{"$f":"IF(BO$5>=$F25,IF(BO$5<=#REF!,$K25,0),0)","v":{"$error":"#REF!"}},{"$f":"IF(BP$5>=$F25,IF(BP$5<=#REF!,$K25,0),0)","v":{"$error":"#REF!"}},{"$f":"IF(BQ$5>=$F25,IF(BQ$5<=#REF!,$K25,0),0)","v":{"$error":"#REF!"}},{"$f":"IF(BR$5>=$F25,IF(BR$5<=#REF!,$K25,0),0)","v":{"$error":"#REF!"}},{"$f":"IF(BS$5>=$F25,IF(BS$5<=#REF!,$K25,0),0)","v":{"$error":"#REF!"}},{"$f":"IF(BT$5>=$F25,IF(BT$5<=#REF!,$K25,0),0)","v":{"$error":"#REF!"}},{"$f":"IF(BU$5>=$F25,IF(BU$5<=#REF!,$K25,0),0)","v":{"$error":"#REF!"}},{"$f":"IF(BV$5>=$F25,IF(BV$5<=#REF!,$K25,0),0)","v":{"$error":"#REF!"}},{"$f":"IF(BW$5>=$F25,IF(BW$5<=#REF!,$K25,0),0)","v":{"$error":"#REF!"}},{"$f":"IF(BX$5>=$F25,IF(BX$5<=#REF!,$K25,0),0)","v":{"$error":"#REF!"}},{"$f":"IF(BY$5>=$F25,IF(BY$5<=#REF!,$K25,0),0)","v":{"$error":"#REF!"}},{"$f":"IF(BZ$5>=$F25,IF(BZ$5<=#REF!,$K25,0),0)","v":{"$error":"#REF!"}},{"$f":"IF(CA$5>=$F25,IF(CA$5<=#REF!,$K25,0),0)","v":{"$error":"#REF!"}},{"$f":"IF(CB$5>=$F25,IF(CB$5<=#REF!,$K25,0),0)","v":{"$error":"#REF!"}},{"$f":"IF(CC$5>=$F25,IF(CC$5<=#REF!,$K25,0),0)","v":{"$error":"#REF!"}},{"$f":"IF(CD$5>=$F25,IF(CD$5<=#REF!,$K25,0),0)","v":{"$error":"#REF!"}},{"$f":"IF(CE$5>=$F25,IF(CE$5<=#REF!,$K25,0),0)","v":{"$error":"#REF!"}},{"$f":"IF(CF$5>=$F25,IF(CF$5<=#REF!,$K25,0),0)","v":{"$error":"#REF!"}},{"$f":"IF(CG$5>=$F25,IF(CG$5<=#REF!,$K25,0),0)","v":{"$error":"#REF!"}},{"$f":"IF(CH$5>=$F25,IF(CH$5<=#REF!,$K25,0),0)","v":{"$error":"#REF!"}},{"$f":"IF(CI$5>=$F25,IF(CI$5<=#REF!,$K25,0),0)","v":{"$error":"#REF!"}},{"$f":"IF(CJ$5>=$F25,IF(CJ$5<=#REF!,$K25,0),0)","v":{"$error":"#REF!"}},{"$f":"IF(CK$5>=$F25,IF(CK$5<=#REF!,$K25,0),0)","v":{"$error":"#REF!"}},{"$f":"IF(CL$5>=$F25,IF(CL$5<=#REF!,$K25,0),0)","v":{"$error":"#REF!"}},{"$f":"IF(CM$5>=$F25,IF(CM$5<=#REF!,$K25,0),0)","v":{"$error":"#REF!"}},{"$f":"IF(CN$5>=$F25,IF(CN$5<=#REF!,$K25,0),0)","v":{"$error":"#REF!"}},{"$f":"IF(CO$5>=$F25,IF(CO$5<=#REF!,$K25,0),0)","v":{"$error":"#REF!"}},{"$f":"IF(CP$5>=$F25,IF(CP$5<=#REF!,$K25,0),0)","v":{"$error":"#REF!"}},{"$f":"IF(CQ$5>=$F25,IF(CQ$5<=#REF!,$K25,0),0)","v":{"$error":"#REF!"}},{"$f":"IF(CR$5>=$F25,IF(CR$5<=#REF!,$K25,0),0)","v":{"$error":"#REF!"}},{"$f":"IF(CS$5>=$F25,IF(CS$5<=#REF!,$K25,0),0)","v":{"$error":"#REF!"}},{"$f":"IF(CT$5>=$F25,IF(CT$5<=#REF!,$K25,0),0)","v":{"$error":"#REF!"}},{"$f":"IF(CU$5>=$F25,IF(CU$5<=#REF!,$K25,0),0)","v":{"$error":"#REF!"}},{"$f":"IF(CV$5>=$F25,IF(CV$5<=#REF!,$K25,0),0)","v":{"$error":"#REF!"}},{"$f":"IF(CW$5>=$F25,IF(CW$5<=#REF!,$K25,0),0)","v":{"$error":"#REF!"}},{"$f":"IF(CX$5>=$F25,IF(CX$5<=#REF!,$K25,0),0)","v":{"$error":"#REF!"}},{"$f":"IF(CY$5>=$F25,IF(CY$5<=#REF!,$K25,0),0)","v":{"$error":"#REF!"}},{"$f":"IF(CZ$5>=$F25,IF(CZ$5<=#REF!,$K25,0),0)","v":{"$error":"#REF!"}},{"$f":"IF(DA$5>=$F25,IF(DA$5<=#REF!,$K25,0),0)","v":{"$error":"#REF!"}},{"$f":"IF(DB$5>=$F25,IF(DB$5<=#REF!,$K25,0),0)","v":{"$error":"#REF!"}},{"$f":"IF(DC$5>=$F25,IF(DC$5<=#REF!,$K25,0),0)","v":{"$error":"#REF!"}},{"$f":"IF(DD$5>=$F25,IF(DD$5<=#REF!,$K25,0),0)","v":{"$error":"#REF!"}},{"$f":"IF(DE$5>=$F25,IF(DE$5<=#REF!,$K25,0),0)","v":{"$error":"#REF!"}},{"$f":"IF(DF$5>=$F25,IF(DF$5<=#REF!,$K25,0),0)","v":{"$error":"#REF!"}},{"$f":"IF(DG$5>=$F25,IF(DG$5<=#REF!,$K25,0),0)","v":{"$error":"#REF!"}},{"$f":"IF(DH$5>=$F25,IF(DH$5<=#REF!,$K25,0),0)","v":{"$error":"#REF!"}},{"$f":"IF(DI$5>=$F25,IF(DI$5<=#REF!,$K25,0),0)","v":{"$error":"#REF!"}},{"$f":"IF(DJ$5>=$F25,IF(DJ$5<=#REF!,$K25,0),0)","v":{"$error":"#REF!"}},{"$f":"IF(DK$5>=$F25,IF(DK$5<=#REF!,$K25,0),0)","v":{"$error":"#REF!"}},{"$f":"IF(DL$5>=$F25,IF(DL$5<=#REF!,$K25,0),0)","v":{"$error":"#REF!"}},{"$f":"IF(DM$5>=$F25,IF(DM$5<=#REF!,$K25,0),0)","v":{"$error":"#REF!"}},{"$f":"IF(DN$5>=$F25,IF(DN$5<=#REF!,$K25,0),0)","v":{"$error":"#REF!"}},{"$f":"IF(DO$5>=$F25,IF(DO$5<=#REF!,$K25,0),0)","v":{"$error":"#REF!"}},{"$f":"IF(DP$5>=$F25,IF(DP$5<=#REF!,$K25,0),0)","v":{"$error":"#REF!"}},{"$f":"IF(DQ$5>=$F25,IF(DQ$5<=#REF!,$K25,0),0)","v":{"$error":"#REF!"}},{"$f":"IF(DR$5>=$F25,IF(DR$5<=#REF!,$K25,0),0)","v":{"$error":"#REF!"}},{"$error":"#REF!"},"","",null,null,null,"ステンレス管　耐震型継手を有する (m)","H1",800]
[null,null,null,null,null,null,{"$f":"IF($D26=\"\",0,VLOOKUP(($DU26&$C26&$D26),単価情報!$B$66:$C$932,2,FALSE))","v":0},0,0,0,{"$f":"IF(E26=0,0,ROUND(E26/#REF!,1))","v":0},{"$f":"IF(L$5>=$F26,IF(L$5<=#REF!,$K26,0),0)","v":{"$error":"#REF!"}},{"$f":"IF(M$5>=$F26,IF(M$5<=#REF!,$K26,0),0)","v":{"$error":"#REF!"}},{"$f":"IF(N$5>=$F26,IF(N$5<=#REF!,$K26,0),0)","v":{"$error":"#REF!"}},{"$f":"IF(O$5>=$F26,IF(O$5<=#REF!,$K26,0),0)","v":{"$error":"#REF!"}},{"$f":"IF(P$5>=$F26,IF(P$5<=#REF!,$K26,0),0)","v":{"$error":"#REF!"}},{"$f":"IF(Q$5>=$F26,IF(Q$5<=#REF!,$K26,0),0)","v":{"$error":"#REF!"}},{"$f":"IF(R$5>=$F26,IF(R$5<=#REF!,$K26,0),0)","v":{"$error":"#REF!"}},{"$f":"IF(S$5>=$F26,IF(S$5<=#REF!,$K26,0),0)","v":{"$error":"#REF!"}},{"$f":"IF(T$5>=$F26,IF(T$5<=#REF!,$K26,0),0)","v":{"$error":"#REF!"}},{"$f":"IF(U$5>=$F26,IF(U$5<=#REF!,$K26,0),0)","v":{"$error":"#REF!"}},{"$f":"IF(V$5>=$F26,IF(V$5<=#REF!,$K26,0),0)","v":{"$error":"#REF!"}},{"$f":"IF(W$5>=$F26,IF(W$5<=#REF!,$K26,0),0)","v":{"$error":"#REF!"}},{"$f":"IF(X$5>=$F26,IF(X$5<=#REF!,$K26,0),0)","v":{"$error":"#REF!"}},{"$f":"IF(Y$5>=$F26,IF(Y$5<=#REF!,$K26,0),0)","v":{"$error":"#REF!"}},{"$f":"IF(Z$5>=$F26,IF(Z$5<=#REF!,$K26,0),0)","v":{"$error":"#REF!"}},{"$f":"IF(AA$5>=$F26,IF(AA$5<=#REF!,$K26,0),0)","v":{"$error":"#REF!"}},{"$f":"IF(AB$5>=$F26,IF(AB$5<=#REF!,$K26,0),0)","v":{"$error":"#REF!"}},{"$f":"IF(AC$5>=$F26,IF(AC$5<=#REF!,$K26,0),0)","v":{"$error":"#REF!"}},{"$f":"IF(AD$5>=$F26,IF(AD$5<=#REF!,$K26,0),0)","v":{"$error":"#REF!"}},{"$f":"IF(AE$5>=$F26,IF(AE$5<=#REF!,$K26,0),0)","v":{"$error":"#REF!"}},{"$f":"IF(AF$5>=$F26,IF(AF$5<=#REF!,$K26,0),0)","v":{"$error":"#REF!"}},{"$f":"IF(AG$5>=$F26,IF(AG$5<=#REF!,$K26,0),0)","v":{"$error":"#REF!"}},{"$f":"IF(AH$5>=$F26,IF(AH$5<=#REF!,$K26,0),0)","v":{"$error":"#REF!"}},{"$f":"IF(AI$5>=$F26,IF(AI$5<=#REF!,$K26,0),0)","v":{"$error":"#REF!"}},{"$f":"IF(AJ$5>=$F26,IF(AJ$5<=#REF!,$K26,0),0)","v":{"$error":"#REF!"}},{"$f":"IF(AK$5>=$F26,IF(AK$5<=#REF!,$K26,0),0)","v":{"$error":"#REF!"}},{"$f":"IF(AL$5>=$F26,IF(AL$5<=#REF!,$K26,0),0)","v":{"$error":"#REF!"}},{"$f":"IF(AM$5>=$F26,IF(AM$5<=#REF!,$K26,0),0)","v":{"$error":"#REF!"}},{"$f":"IF(AN$5>=$F26,IF(AN$5<=#REF!,$K26,0),0)","v":{"$error":"#REF!"}},{"$f":"IF(AO$5>=$F26,IF(AO$5<=#REF!,$K26,0),0)","v":{"$error":"#REF!"}},{"$f":"IF(AP$5>=$F26,IF(AP$5<=#REF!,$K26,0),0)","v":{"$error":"#REF!"}},{"$f":"IF(AQ$5>=$F26,IF(AQ$5<=#REF!,$K26,0),0)","v":{"$error":"#REF!"}},{"$f":"IF(AR$5>=$F26,IF(AR$5<=#REF!,$K26,0),0)","v":{"$error":"#REF!"}},{"$f":"IF(AS$5>=$F26,IF(AS$5<=#REF!,$K26,0),0)","v":{"$error":"#REF!"}},{"$f":"IF(AT$5>=$F26,IF(AT$5<=#REF!,$K26,0),0)","v":{"$error":"#REF!"}},{"$f":"IF(AU$5>=$F26,IF(AU$5<=#REF!,$K26,0),0)","v":{"$error":"#REF!"}},{"$f":"IF(AV$5>=$F26,IF(AV$5<=#REF!,$K26,0),0)","v":{"$error":"#REF!"}},{"$f":"IF(AW$5>=$F26,IF(AW$5<=#REF!,$K26,0),0)","v":{"$error":"#REF!"}},{"$f":"IF(AX$5>=$F26,IF(AX$5<=#REF!,$K26,0),0)","v":{"$error":"#REF!"}},{"$f":"IF(AY$5>=$F26,IF(AY$5<=#REF!,$K26,0),0)","v":{"$error":"#REF!"}},{"$f":"IF(AZ$5>=$F26,IF(AZ$5<=#REF!,$K26,0),0)","v":{"$error":"#REF!"}},{"$f":"IF(BA$5>=$F26,IF(BA$5<=#REF!,$K26,0),0)","v":{"$error":"#REF!"}},{"$f":"IF(BB$5>=$F26,IF(BB$5<=#REF!,$K26,0),0)","v":{"$error":"#REF!"}},{"$f":"IF(BC$5>=$F26,IF(BC$5<=#REF!,$K26,0),0)","v":{"$error":"#REF!"}},{"$f":"IF(BD$5>=$F26,IF(BD$5<=#REF!,$K26,0),0)","v":{"$error":"#REF!"}},{"$f":"IF(BE$5>=$F26,IF(BE$5<=#REF!,$K26,0),0)","v":{"$error":"#REF!"}},{"$f":"IF(BF$5>=$F26,IF(BF$5<=#REF!,$K26,0),0)","v":{"$error":"#REF!"}},{"$f":"IF(BG$5>=$F26,IF(BG$5<=#REF!,$K26,0),0)","v":{"$error":"#REF!"}},{"$f":"IF(BH$5>=$F26,IF(BH$5<=#REF!,$K26,0),0)","v":{"$error":"#REF!"}},{"$f":"IF(BI$5>=$F26,IF(BI$5<=#REF!,$K26,0),0)","v":{"$error":"#REF!"}},{"$f":"IF(BJ$5>=$F26,IF(BJ$5<=#REF!,$K26,0),0)","v":{"$error":"#REF!"}},{"$f":"IF(BK$5>=$F26,IF(BK$5<=#REF!,$K26,0),0)","v":{"$error":"#REF!"}},{"$f":"IF(BL$5>=$F26,IF(BL$5<=#REF!,$K26,0),0)","v":{"$error":"#REF!"}},{"$f":"IF(BM$5>=$F26,IF(BM$5<=#REF!,$K26,0),0)","v":{"$error":"#REF!"}},{"$f":"IF(BN$5>=$F26,IF(BN$5<=#REF!,$K26,0),0)","v":{"$error":"#REF!"}},{"$f":"IF(BO$5>=$F26,IF(BO$5<=#REF!,$K26,0),0)","v":{"$error":"#REF!"}},{"$f":"IF(BP$5>=$F26,IF(BP$5<=#REF!,$K26,0),0)","v":{"$error":"#REF!"}},{"$f":"IF(BQ$5>=$F26,IF(BQ$5<=#REF!,$K26,0),0)","v":{"$error":"#REF!"}},{"$f":"IF(BR$5>=$F26,IF(BR$5<=#REF!,$K26,0),0)","v":{"$error":"#REF!"}},{"$f":"IF(BS$5>=$F26,IF(BS$5<=#REF!,$K26,0),0)","v":{"$error":"#REF!"}},{"$f":"IF(BT$5>=$F26,IF(BT$5<=#REF!,$K26,0),0)","v":{"$error":"#REF!"}},{"$f":"IF(BU$5>=$F26,IF(BU$5<=#REF!,$K26,0),0)","v":{"$error":"#REF!"}},{"$f":"IF(BV$5>=$F26,IF(BV$5<=#REF!,$K26,0),0)","v":{"$error":"#REF!"}},{"$f":"IF(BW$5>=$F26,IF(BW$5<=#REF!,$K26,0),0)","v":{"$error":"#REF!"}},{"$f":"IF(BX$5>=$F26,IF(BX$5<=#REF!,$K26,0),0)","v":{"$error":"#REF!"}},{"$f":"IF(BY$5>=$F26,IF(BY$5<=#REF!,$K26,0),0)","v":{"$error":"#REF!"}},{"$f":"IF(BZ$5>=$F26,IF(BZ$5<=#REF!,$K26,0),0)","v":{"$error":"#REF!"}},{"$f":"IF(CA$5>=$F26,IF(CA$5<=#REF!,$K26,0),0)","v":{"$error":"#REF!"}},{"$f":"IF(CB$5>=$F26,IF(CB$5<=#REF!,$K26,0),0)","v":{"$error":"#REF!"}},{"$f":"IF(CC$5>=$F26,IF(CC$5<=#REF!,$K26,0),0)","v":{"$error":"#REF!"}},{"$f":"IF(CD$5>=$F26,IF(CD$5<=#REF!,$K26,0),0)","v":{"$error":"#REF!"}},{"$f":"IF(CE$5>=$F26,IF(CE$5<=#REF!,$K26,0),0)","v":{"$error":"#REF!"}},{"$f":"IF(CF$5>=$F26,IF(CF$5<=#REF!,$K26,0),0)","v":{"$error":"#REF!"}},{"$f":"IF(CG$5>=$F26,IF(CG$5<=#REF!,$K26,0),0)","v":{"$error":"#REF!"}},{"$f":"IF(CH$5>=$F26,IF(CH$5<=#REF!,$K26,0),0)","v":{"$error":"#REF!"}},{"$f":"IF(CI$5>=$F26,IF(CI$5<=#REF!,$K26,0),0)","v":{"$error":"#REF!"}},{"$f":"IF(CJ$5>=$F26,IF(CJ$5<=#REF!,$K26,0),0)","v":{"$error":"#REF!"}},{"$f":"IF(CK$5>=$F26,IF(CK$5<=#REF!,$K26,0),0)","v":{"$error":"#REF!"}},{"$f":"IF(CL$5>=$F26,IF(CL$5<=#REF!,$K26,0),0)","v":{"$error":"#REF!"}},{"$f":"IF(CM$5>=$F26,IF(CM$5<=#REF!,$K26,0),0)","v":{"$error":"#REF!"}},{"$f":"IF(CN$5>=$F26,IF(CN$5<=#REF!,$K26,0),0)","v":{"$error":"#REF!"}},{"$f":"IF(CO$5>=$F26,IF(CO$5<=#REF!,$K26,0),0)","v":{"$error":"#REF!"}},{"$f":"IF(CP$5>=$F26,IF(CP$5<=#REF!,$K26,0),0)","v":{"$error":"#REF!"}},{"$f":"IF(CQ$5>=$F26,IF(CQ$5<=#REF!,$K26,0),0)","v":{"$error":"#REF!"}},{"$f":"IF(CR$5>=$F26,IF(CR$5<=#REF!,$K26,0),0)","v":{"$error":"#REF!"}},{"$f":"IF(CS$5>=$F26,IF(CS$5<=#REF!,$K26,0),0)","v":{"$error":"#REF!"}},{"$f":"IF(CT$5>=$F26,IF(CT$5<=#REF!,$K26,0),0)","v":{"$error":"#REF!"}},{"$f":"IF(CU$5>=$F26,IF(CU$5<=#REF!,$K26,0),0)","v":{"$error":"#REF!"}},{"$f":"IF(CV$5>=$F26,IF(CV$5<=#REF!,$K26,0),0)","v":{"$error":"#REF!"}},{"$f":"IF(CW$5>=$F26,IF(CW$5<=#REF!,$K26,0),0)","v":{"$error":"#REF!"}},{"$f":"IF(CX$5>=$F26,IF(CX$5<=#REF!,$K26,0),0)","v":{"$error":"#REF!"}},{"$f":"IF(CY$5>=$F26,IF(CY$5<=#REF!,$K26,0),0)","v":{"$error":"#REF!"}},{"$f":"IF(CZ$5>=$F26,IF(CZ$5<=#REF!,$K26,0),0)","v":{"$error":"#REF!"}},{"$f":"IF(DA$5>=$F26,IF(DA$5<=#REF!,$K26,0),0)","v":{"$error":"#REF!"}},{"$f":"IF(DB$5>=$F26,IF(DB$5<=#REF!,$K26,0),0)","v":{"$error":"#REF!"}},{"$f":"IF(DC$5>=$F26,IF(DC$5<=#REF!,$K26,0),0)","v":{"$error":"#REF!"}},{"$f":"IF(DD$5>=$F26,IF(DD$5<=#REF!,$K26,0),0)","v":{"$error":"#REF!"}},{"$f":"IF(DE$5>=$F26,IF(DE$5<=#REF!,$K26,0),0)","v":{"$error":"#REF!"}},{"$f":"IF(DF$5>=$F26,IF(DF$5<=#REF!,$K26,0),0)","v":{"$error":"#REF!"}},{"$f":"IF(DG$5>=$F26,IF(DG$5<=#REF!,$K26,0),0)","v":{"$error":"#REF!"}},{"$f":"IF(DH$5>=$F26,IF(DH$5<=#REF!,$K26,0),0)","v":{"$error":"#REF!"}},{"$f":"IF(DI$5>=$F26,IF(DI$5<=#REF!,$K26,0),0)","v":{"$error":"#REF!"}},{"$f":"IF(DJ$5>=$F26,IF(DJ$5<=#REF!,$K26,0),0)","v":{"$error":"#REF!"}},{"$f":"IF(DK$5>=$F26,IF(DK$5<=#REF!,$K26,0),0)","v":{"$error":"#REF!"}},{"$f":"IF(DL$5>=$F26,IF(DL$5<=#REF!,$K26,0),0)","v":{"$error":"#REF!"}},{"$f":"IF(DM$5>=$F26,IF(DM$5<=#REF!,$K26,0),0)","v":{"$error":"#REF!"}},{"$f":"IF(DN$5>=$F26,IF(DN$5<=#REF!,$K26,0),0)","v":{"$error":"#REF!"}},{"$f":"IF(DO$5>=$F26,IF(DO$5<=#REF!,$K26,0),0)","v":{"$error":"#REF!"}},{"$f":"IF(DP$5>=$F26,IF(DP$5<=#REF!,$K26,0),0)","v":{"$error":"#REF!"}},{"$f":"IF(DQ$5>=$F26,IF(DQ$5<=#REF!,$K26,0),0)","v":{"$error":"#REF!"}},{"$f":"IF(DR$5>=$F26,IF(DR$5<=#REF!,$K26,0),0)","v":{"$error":"#REF!"}},{"$error":"#REF!"},"","",null,null,null,"ステンレス管　(上記以外・不明なものを含む） (m)","H9",900]
[null,null,null,null,null,null,{"$f":"IF($D27=\"\",0,VLOOKUP(($DU27&$C27&$D27),単価情報!$B$66:$C$932,2,FALSE))","v":0},0,0,0,{"$f":"IF(E27=0,0,ROUND(E27/#REF!,1))","v":0},{"$f":"IF(L$5>=$F27,IF(L$5<=#REF!,$K27,0),0)","v":{"$error":"#REF!"}},{"$f":"IF(M$5>=$F27,IF(M$5<=#REF!,$K27,0),0)","v":{"$error":"#REF!"}},{"$f":"IF(N$5>=$F27,IF(N$5<=#REF!,$K27,0),0)","v":{"$error":"#REF!"}},{"$f":"IF(O$5>=$F27,IF(O$5<=#REF!,$K27,0),0)","v":{"$error":"#REF!"}},{"$f":"IF(P$5>=$F27,IF(P$5<=#REF!,$K27,0),0)","v":{"$error":"#REF!"}},{"$f":"IF(Q$5>=$F27,IF(Q$5<=#REF!,$K27,0),0)","v":{"$error":"#REF!"}},{"$f":"IF(R$5>=$F27,IF(R$5<=#REF!,$K27,0),0)","v":{"$error":"#REF!"}},{"$f":"IF(S$5>=$F27,IF(S$5<=#REF!,$K27,0),0)","v":{"$error":"#REF!"}},{"$f":"IF(T$5>=$F27,IF(T$5<=#REF!,$K27,0),0)","v":{"$error":"#REF!"}},{"$f":"IF(U$5>=$F27,IF(U$5<=#REF!,$K27,0),0)","v":{"$error":"#REF!"}},{"$f":"IF(V$5>=$F27,IF(V$5<=#REF!,$K27,0),0)","v":{"$error":"#REF!"}},{"$f":"IF(W$5>=$F27,IF(W$5<=#REF!,$K27,0),0)","v":{"$error":"#REF!"}},{"$f":"IF(X$5>=$F27,IF(X$5<=#REF!,$K27,0),0)","v":{"$error":"#REF!"}},{"$f":"IF(Y$5>=$F27,IF(Y$5<=#REF!,$K27,0),0)","v":{"$error":"#REF!"}},{"$f":"IF(Z$5>=$F27,IF(Z$5<=#REF!,$K27,0),0)","v":{"$error":"#REF!"}},{"$f":"IF(AA$5>=$F27,IF(AA$5<=#REF!,$K27,0),0)","v":{"$error":"#REF!"}},{"$f":"IF(AB$5>=$F27,IF(AB$5<=#REF!,$K27,0),0)","v":{"$error":"#REF!"}},{"$f":"IF(AC$5>=$F27,IF(AC$5<=#REF!,$K27,0),0)","v":{"$error":"#REF!"}},{"$f":"IF(AD$5>=$F27,IF(AD$5<=#REF!,$K27,0),0)","v":{"$error":"#REF!"}},{"$f":"IF(AE$5>=$F27,IF(AE$5<=#REF!,$K27,0),0)","v":{"$error":"#REF!"}},{"$f":"IF(AF$5>=$F27,IF(AF$5<=#REF!,$K27,0),0)","v":{"$error":"#REF!"}},{"$f":"IF(AG$5>=$F27,IF(AG$5<=#REF!,$K27,0),0)","v":{"$error":"#REF!"}},{"$f":"IF(AH$5>=$F27,IF(AH$5<=#REF!,$K27,0),0)","v":{"$error":"#REF!"}},{"$f":"IF(AI$5>=$F27,IF(AI$5<=#REF!,$K27,0),0)","v":{"$error":"#REF!"}},{"$f":"IF(AJ$5>=$F27,IF(AJ$5<=#REF!,$K27,0),0)","v":{"$error":"#REF!"}},{"$f":"IF(AK$5>=$F27,IF(AK$5<=#REF!,$K27,0),0)","v":{"$error":"#REF!"}},{"$f":"IF(AL$5>=$F27,IF(AL$5<=#REF!,$K27,0),0)","v":{"$error":"#REF!"}},{"$f":"IF(AM$5>=$F27,IF(AM$5<=#REF!,$K27,0),0)","v":{"$error":"#REF!"}},{"$f":"IF(AN$5>=$F27,IF(AN$5<=#REF!,$K27,0),0)","v":{"$error":"#REF!"}},{"$f":"IF(AO$5>=$F27,IF(AO$5<=#REF!,$K27,0),0)","v":{"$error":"#REF!"}},{"$f":"IF(AP$5>=$F27,IF(AP$5<=#REF!,$K27,0),0)","v":{"$error":"#REF!"}},{"$f":"IF(AQ$5>=$F27,IF(AQ$5<=#REF!,$K27,0),0)","v":{"$error":"#REF!"}},{"$f":"IF(AR$5>=$F27,IF(AR$5<=#REF!,$K27,0),0)","v":{"$error":"#REF!"}},{"$f":"IF(AS$5>=$F27,IF(AS$5<=#REF!,$K27,0),0)","v":{"$error":"#REF!"}},{"$f":"IF(AT$5>=$F27,IF(AT$5<=#REF!,$K27,0),0)","v":{"$error":"#REF!"}},{"$f":"IF(AU$5>=$F27,IF(AU$5<=#REF!,$K27,0),0)","v":{"$error":"#REF!"}},{"$f":"IF(AV$5>=$F27,IF(AV$5<=#REF!,$K27,0),0)","v":{"$error":"#REF!"}},{"$f":"IF(AW$5>=$F27,IF(AW$5<=#REF!,$K27,0),0)","v":{"$error":"#REF!"}},{"$f":"IF(AX$5>=$F27,IF(AX$5<=#REF!,$K27,0),0)","v":{"$error":"#REF!"}},{"$f":"IF(AY$5>=$F27,IF(AY$5<=#REF!,$K27,0),0)","v":{"$error":"#REF!"}},{"$f":"IF(AZ$5>=$F27,IF(AZ$5<=#REF!,$K27,0),0)","v":{"$error":"#REF!"}},{"$f":"IF(BA$5>=$F27,IF(BA$5<=#REF!,$K27,0),0)","v":{"$error":"#REF!"}},{"$f":"IF(BB$5>=$F27,IF(BB$5<=#REF!,$K27,0),0)","v":{"$error":"#REF!"}},{"$f":"IF(BC$5>=$F27,IF(BC$5<=#REF!,$K27,0),0)","v":{"$error":"#REF!"}},{"$f":"IF(BD$5>=$F27,IF(BD$5<=#REF!,$K27,0),0)","v":{"$error":"#REF!"}},{"$f":"IF(BE$5>=$F27,IF(BE$5<=#REF!,$K27,0),0)","v":{"$error":"#REF!"}},{"$f":"IF(BF$5>=$F27,IF(BF$5<=#REF!,$K27,0),0)","v":{"$error":"#REF!"}},{"$f":"IF(BG$5>=$F27,IF(BG$5<=#REF!,$K27,0),0)","v":{"$error":"#REF!"}},{"$f":"IF(BH$5>=$F27,IF(BH$5<=#REF!,$K27,0),0)","v":{"$error":"#REF!"}},{"$f":"IF(BI$5>=$F27,IF(BI$5<=#REF!,$K27,0),0)","v":{"$error":"#REF!"}},{"$f":"IF(BJ$5>=$F27,IF(BJ$5<=#REF!,$K27,0),0)","v":{"$error":"#REF!"}},{"$f":"IF(BK$5>=$F27,IF(BK$5<=#REF!,$K27,0),0)","v":{"$error":"#REF!"}},{"$f":"IF(BL$5>=$F27,IF(BL$5<=#REF!,$K27,0),0)","v":{"$error":"#REF!"}},{"$f":"IF(BM$5>=$F27,IF(BM$5<=#REF!,$K27,0),0)","v":{"$error":"#REF!"}},{"$f":"IF(BN$5>=$F27,IF(BN$5<=#REF!,$K27,0),0)","v":{"$error":"#REF!"}},{"$f":"IF(BO$5>=$F27,IF(BO$5<=#REF!,$K27,0),0)","v":{"$error":"#REF!"}},{"$f":"IF(BP$5>=$F27,IF(BP$5<=#REF!,$K27,0),0)","v":{"$error":"#REF!"}},{"$f":"IF(BQ$5>=$F27,IF(BQ$5<=#REF!,$K27,0),0)","v":{"$error":"#REF!"}},{"$f":"IF(BR$5>=$F27,IF(BR$5<=#REF!,$K27,0),0)","v":{"$error":"#REF!"}},{"$f":"IF(BS$5>=$F27,IF(BS$5<=#REF!,$K27,0),0)","v":{"$error":"#REF!"}},{"$f":"IF(BT$5>=$F27,IF(BT$5<=#REF!,$K27,0),0)","v":{"$error":"#REF!"}},{"$f":"IF(BU$5>=$F27,IF(BU$5<=#REF!,$K27,0),0)","v":{"$error":"#REF!"}},{"$f":"IF(BV$5>=$F27,IF(BV$5<=#REF!,$K27,0),0)","v":{"$error":"#REF!"}},{"$f":"IF(BW$5>=$F27,IF(BW$5<=#REF!,$K27,0),0)","v":{"$error":"#REF!"}},{"$f":"IF(BX$5>=$F27,IF(BX$5<=#REF!,$K27,0),0)","v":{"$error":"#REF!"}},{"$f":"IF(BY$5>=$F27,IF(BY$5<=#REF!,$K27,0),0)","v":{"$error":"#REF!"}},{"$f":"IF(BZ$5>=$F27,IF(BZ$5<=#REF!,$K27,0),0)","v":{"$error":"#REF!"}},{"$f":"IF(CA$5>=$F27,IF(CA$5<=#REF!,$K27,0),0)","v":{"$error":"#REF!"}},{"$f":"IF(CB$5>=$F27,IF(CB$5<=#REF!,$K27,0),0)","v":{"$error":"#REF!"}},{"$f":"IF(CC$5>=$F27,IF(CC$5<=#REF!,$K27,0),0)","v":{"$error":"#REF!"}},{"$f":"IF(CD$5>=$F27,IF(CD$5<=#REF!,$K27,0),0)","v":{"$error":"#REF!"}},{"$f":"IF(CE$5>=$F27,IF(CE$5<=#REF!,$K27,0),0)","v":{"$error":"#REF!"}},{"$f":"IF(CF$5>=$F27,IF(CF$5<=#REF!,$K27,0),0)","v":{"$error":"#REF!"}},{"$f":"IF(CG$5>=$F27,IF(CG$5<=#REF!,$K27,0),0)","v":{"$error":"#REF!"}},{"$f":"IF(CH$5>=$F27,IF(CH$5<=#REF!,$K27,0),0)","v":{"$error":"#REF!"}},{"$f":"IF(CI$5>=$F27,IF(CI$5<=#REF!,$K27,0),0)","v":{"$error":"#REF!"}},{"$f":"IF(CJ$5>=$F27,IF(CJ$5<=#REF!,$K27,0),0)","v":{"$error":"#REF!"}},{"$f":"IF(CK$5>=$F27,IF(CK$5<=#REF!,$K27,0),0)","v":{"$error":"#REF!"}},{"$f":"IF(CL$5>=$F27,IF(CL$5<=#REF!,$K27,0),0)","v":{"$error":"#REF!"}},{"$f":"IF(CM$5>=$F27,IF(CM$5<=#REF!,$K27,0),0)","v":{"$error":"#REF!"}},{"$f":"IF(CN$5>=$F27,IF(CN$5<=#REF!,$K27,0),0)","v":{"$error":"#REF!"}},{"$f":"IF(CO$5>=$F27,IF(CO$5<=#REF!,$K27,0),0)","v":{"$error":"#REF!"}},{"$f":"IF(CP$5>=$F27,IF(CP$5<=#REF!,$K27,0),0)","v":{"$error":"#REF!"}},{"$f":"IF(CQ$5>=$F27,IF(CQ$5<=#REF!,$K27,0),0)","v":{"$error":"#REF!"}},{"$f":"IF(CR$5>=$F27,IF(CR$5<=#REF!,$K27,0),0)","v":{"$error":"#REF!"}},{"$f":"IF(CS$5>=$F27,IF(CS$5<=#REF!,$K27,0),0)","v":{"$error":"#REF!"}},{"$f":"IF(CT$5>=$F27,IF(CT$5<=#REF!,$K27,0),0)","v":{"$error":"#REF!"}},{"$f":"IF(CU$5>=$F27,IF(CU$5<=#REF!,$K27,0),0)","v":{"$error":"#REF!"}},{"$f":"IF(CV$5>=$F27,IF(CV$5<=#REF!,$K27,0),0)","v":{"$error":"#REF!"}},{"$f":"IF(CW$5>=$F27,IF(CW$5<=#REF!,$K27,0),0)","v":{"$error":"#REF!"}},{"$f":"IF(CX$5>=$F27,IF(CX$5<=#REF!,$K27,0),0)","v":{"$error":"#REF!"}},{"$f":"IF(CY$5>=$F27,IF(CY$5<=#REF!,$K27,0),0)","v":{"$error":"#REF!"}},{"$f":"IF(CZ$5>=$F27,IF(CZ$5<=#REF!,$K27,0),0)","v":{"$error":"#REF!"}},{"$f":"IF(DA$5>=$F27,IF(DA$5<=#REF!,$K27,0),0)","v":{"$error":"#REF!"}},{"$f":"IF(DB$5>=$F27,IF(DB$5<=#REF!,$K27,0),0)","v":{"$error":"#REF!"}},{"$f":"IF(DC$5>=$F27,IF(DC$5<=#REF!,$K27,0),0)","v":{"$error":"#REF!"}},{"$f":"IF(DD$5>=$F27,IF(DD$5<=#REF!,$K27,0),0)","v":{"$error":"#REF!"}},{"$f":"IF(DE$5>=$F27,IF(DE$5<=#REF!,$K27,0),0)","v":{"$error":"#REF!"}},{"$f":"IF(DF$5>=$F27,IF(DF$5<=#REF!,$K27,0),0)","v":{"$error":"#REF!"}},{"$f":"IF(DG$5>=$F27,IF(DG$5<=#REF!,$K27,0),0)","v":{"$error":"#REF!"}},{"$f":"IF(DH$5>=$F27,IF(DH$5<=#REF!,$K27,0),0)","v":{"$error":"#REF!"}},{"$f":"IF(DI$5>=$F27,IF(DI$5<=#REF!,$K27,0),0)","v":{"$error":"#REF!"}},{"$f":"IF(DJ$5>=$F27,IF(DJ$5<=#REF!,$K27,0),0)","v":{"$error":"#REF!"}},{"$f":"IF(DK$5>=$F27,IF(DK$5<=#REF!,$K27,0),0)","v":{"$error":"#REF!"}},{"$f":"IF(DL$5>=$F27,IF(DL$5<=#REF!,$K27,0),0)","v":{"$error":"#REF!"}},{"$f":"IF(DM$5>=$F27,IF(DM$5<=#REF!,$K27,0),0)","v":{"$error":"#REF!"}},{"$f":"IF(DN$5>=$F27,IF(DN$5<=#REF!,$K27,0),0)","v":{"$error":"#REF!"}},{"$f":"IF(DO$5>=$F27,IF(DO$5<=#REF!,$K27,0),0)","v":{"$error":"#REF!"}},{"$f":"IF(DP$5>=$F27,IF(DP$5<=#REF!,$K27,0),0)","v":{"$error":"#REF!"}},{"$f":"IF(DQ$5>=$F27,IF(DQ$5<=#REF!,$K27,0),0)","v":{"$error":"#REF!"}},{"$f":"IF(DR$5>=$F27,IF(DR$5<=#REF!,$K27,0),0)","v":{"$error":"#REF!"}},{"$error":"#REF!"},"","",null,null,null,"その他　（管種が不明のものを含む） (m)","Z9",1000]
[null,null,null,null,null,null,{"$f":"IF($D28=\"\",0,VLOOKUP(($DU28&$C28&$D28),単価情報!$B$66:$C$932,2,FALSE))","v":0},0,0,0,{"$f":"IF(E28=0,0,ROUND(E28/#REF!,1))","v":0},{"$f":"IF(L$5>=$F28,IF(L$5<=#REF!,$K28,0),0)","v":{"$error":"#REF!"}},{"$f":"IF(M$5>=$F28,IF(M$5<=#REF!,$K28,0),0)","v":{"$error":"#REF!"}},{"$f":"IF(N$5>=$F28,IF(N$5<=#REF!,$K28,0),0)","v":{"$error":"#REF!"}},{"$f":"IF(O$5>=$F28,IF(O$5<=#REF!,$K28,0),0)","v":{"$error":"#REF!"}},{"$f":"IF(P$5>=$F28,IF(P$5<=#REF!,$K28,0),0)","v":{"$error":"#REF!"}},{"$f":"IF(Q$5>=$F28,IF(Q$5<=#REF!,$K28,0),0)","v":{"$error":"#REF!"}},{"$f":"IF(R$5>=$F28,IF(R$5<=#REF!,$K28,0),0)","v":{"$error":"#REF!"}},{"$f":"IF(S$5>=$F28,IF(S$5<=#REF!,$K28,0),0)","v":{"$error":"#REF!"}},{"$f":"IF(T$5>=$F28,IF(T$5<=#REF!,$K28,0),0)","v":{"$error":"#REF!"}},{"$f":"IF(U$5>=$F28,IF(U$5<=#REF!,$K28,0),0)","v":{"$error":"#REF!"}},{"$f":"IF(V$5>=$F28,IF(V$5<=#REF!,$K28,0),0)","v":{"$error":"#REF!"}},{"$f":"IF(W$5>=$F28,IF(W$5<=#REF!,$K28,0),0)","v":{"$error":"#REF!"}},{"$f":"IF(X$5>=$F28,IF(X$5<=#REF!,$K28,0),0)","v":{"$error":"#REF!"}},{"$f":"IF(Y$5>=$F28,IF(Y$5<=#REF!,$K28,0),0)","v":{"$error":"#REF!"}},{"$f":"IF(Z$5>=$F28,IF(Z$5<=#REF!,$K28,0),0)","v":{"$error":"#REF!"}},{"$f":"IF(AA$5>=$F28,IF(AA$5<=#REF!,$K28,0),0)","v":{"$error":"#REF!"}},{"$f":"IF(AB$5>=$F28,IF(AB$5<=#REF!,$K28,0),0)","v":{"$error":"#REF!"}},{"$f":"IF(AC$5>=$F28,IF(AC$5<=#REF!,$K28,0),0)","v":{"$error":"#REF!"}},{"$f":"IF(AD$5>=$F28,IF(AD$5<=#REF!,$K28,0),0)","v":{"$error":"#REF!"}},{"$f":"IF(AE$5>=$F28,IF(AE$5<=#REF!,$K28,0),0)","v":{"$error":"#REF!"}},{"$f":"IF(AF$5>=$F28,IF(AF$5<=#REF!,$K28,0),0)","v":{"$error":"#REF!"}},{"$f":"IF(AG$5>=$F28,IF(AG$5<=#REF!,$K28,0),0)","v":{"$error":"#REF!"}},{"$f":"IF(AH$5>=$F28,IF(AH$5<=#REF!,$K28,0),0)","v":{"$error":"#REF!"}},{"$f":"IF(AI$5>=$F28,IF(AI$5<=#REF!,$K28,0),0)","v":{"$error":"#REF!"}},{"$f":"IF(AJ$5>=$F28,IF(AJ$5<=#REF!,$K28,0),0)","v":{"$error":"#REF!"}},{"$f":"IF(AK$5>=$F28,IF(AK$5<=#REF!,$K28,0),0)","v":{"$error":"#REF!"}},{"$f":"IF(AL$5>=$F28,IF(AL$5<=#REF!,$K28,0),0)","v":{"$error":"#REF!"}},{"$f":"IF(AM$5>=$F28,IF(AM$5<=#REF!,$K28,0),0)","v":{"$error":"#REF!"}},{"$f":"IF(AN$5>=$F28,IF(AN$5<=#REF!,$K28,0),0)","v":{"$error":"#REF!"}},{"$f":"IF(AO$5>=$F28,IF(AO$5<=#REF!,$K28,0),0)","v":{"$error":"#REF!"}},{"$f":"IF(AP$5>=$F28,IF(AP$5<=#REF!,$K28,0),0)","v":{"$error":"#REF!"}},{"$f":"IF(AQ$5>=$F28,IF(AQ$5<=#REF!,$K28,0),0)","v":{"$error":"#REF!"}},{"$f":"IF(AR$5>=$F28,IF(AR$5<=#REF!,$K28,0),0)","v":{"$error":"#REF!"}},{"$f":"IF(AS$5>=$F28,IF(AS$5<=#REF!,$K28,0),0)","v":{"$error":"#REF!"}},{"$f":"IF(AT$5>=$F28,IF(AT$5<=#REF!,$K28,0),0)","v":{"$error":"#REF!"}},{"$f":"IF(AU$5>=$F28,IF(AU$5<=#REF!,$K28,0),0)","v":{"$error":"#REF!"}},{"$f":"IF(AV$5>=$F28,IF(AV$5<=#REF!,$K28,0),0)","v":{"$error":"#REF!"}},{"$f":"IF(AW$5>=$F28,IF(AW$5<=#REF!,$K28,0),0)","v":{"$error":"#REF!"}},{"$f":"IF(AX$5>=$F28,IF(AX$5<=#REF!,$K28,0),0)","v":{"$error":"#REF!"}},{"$f":"IF(AY$5>=$F28,IF(AY$5<=#REF!,$K28,0),0)","v":{"$error":"#REF!"}},{"$f":"IF(AZ$5>=$F28,IF(AZ$5<=#REF!,$K28,0),0)","v":{"$error":"#REF!"}},{"$f":"IF(BA$5>=$F28,IF(BA$5<=#REF!,$K28,0),0)","v":{"$error":"#REF!"}},{"$f":"IF(BB$5>=$F28,IF(BB$5<=#REF!,$K28,0),0)","v":{"$error":"#REF!"}},{"$f":"IF(BC$5>=$F28,IF(BC$5<=#REF!,$K28,0),0)","v":{"$error":"#REF!"}},{"$f":"IF(BD$5>=$F28,IF(BD$5<=#REF!,$K28,0),0)","v":{"$error":"#REF!"}},{"$f":"IF(BE$5>=$F28,IF(BE$5<=#REF!,$K28,0),0)","v":{"$error":"#REF!"}},{"$f":"IF(BF$5>=$F28,IF(BF$5<=#REF!,$K28,0),0)","v":{"$error":"#REF!"}},{"$f":"IF(BG$5>=$F28,IF(BG$5<=#REF!,$K28,0),0)","v":{"$error":"#REF!"}},{"$f":"IF(BH$5>=$F28,IF(BH$5<=#REF!,$K28,0),0)","v":{"$error":"#REF!"}},{"$f":"IF(BI$5>=$F28,IF(BI$5<=#REF!,$K28,0),0)","v":{"$error":"#REF!"}},{"$f":"IF(BJ$5>=$F28,IF(BJ$5<=#REF!,$K28,0),0)","v":{"$error":"#REF!"}},{"$f":"IF(BK$5>=$F28,IF(BK$5<=#REF!,$K28,0),0)","v":{"$error":"#REF!"}},{"$f":"IF(BL$5>=$F28,IF(BL$5<=#REF!,$K28,0),0)","v":{"$error":"#REF!"}},{"$f":"IF(BM$5>=$F28,IF(BM$5<=#REF!,$K28,0),0)","v":{"$error":"#REF!"}},{"$f":"IF(BN$5>=$F28,IF(BN$5<=#REF!,$K28,0),0)","v":{"$error":"#REF!"}},{"$f":"IF(BO$5>=$F28,IF(BO$5<=#REF!,$K28,0),0)","v":{"$error":"#REF!"}},{"$f":"IF(BP$5>=$F28,IF(BP$5<=#REF!,$K28,0),0)","v":{"$error":"#REF!"}},{"$f":"IF(BQ$5>=$F28,IF(BQ$5<=#REF!,$K28,0),0)","v":{"$error":"#REF!"}},{"$f":"IF(BR$5>=$F28,IF(BR$5<=#REF!,$K28,0),0)","v":{"$error":"#REF!"}},{"$f":"IF(BS$5>=$F28,IF(BS$5<=#REF!,$K28,0),0)","v":{"$error":"#REF!"}},{"$f":"IF(BT$5>=$F28,IF(BT$5<=#REF!,$K28,0),0)","v":{"$error":"#REF!"}},{"$f":"IF(BU$5>=$F28,IF(BU$5<=#REF!,$K28,0),0)","v":{"$error":"#REF!"}},{"$f":"IF(BV$5>=$F28,IF(BV$5<=#REF!,$K28,0),0)","v":{"$error":"#REF!"}},{"$f":"IF(BW$5>=$F28,IF(BW$5<=#REF!,$K28,0),0)","v":{"$error":"#REF!"}},{"$f":"IF(BX$5>=$F28,IF(BX$5<=#REF!,$K28,0),0)","v":{"$error":"#REF!"}},{"$f":"IF(BY$5>=$F28,IF(BY$5<=#REF!,$K28,0),0)","v":{"$error":"#REF!"}},{"$f":"IF(BZ$5>=$F28,IF(BZ$5<=#REF!,$K28,0),0)","v":{"$error":"#REF!"}},{"$f":"IF(CA$5>=$F28,IF(CA$5<=#REF!,$K28,0),0)","v":{"$error":"#REF!"}},{"$f":"IF(CB$5>=$F28,IF(CB$5<=#REF!,$K28,0),0)","v":{"$error":"#REF!"}},{"$f":"IF(CC$5>=$F28,IF(CC$5<=#REF!,$K28,0),0)","v":{"$error":"#REF!"}},{"$f":"IF(CD$5>=$F28,IF(CD$5<=#REF!,$K28,0),0)","v":{"$error":"#REF!"}},{"$f":"IF(CE$5>=$F28,IF(CE$5<=#REF!,$K28,0),0)","v":{"$error":"#REF!"}},{"$f":"IF(CF$5>=$F28,IF(CF$5<=#REF!,$K28,0),0)","v":{"$error":"#REF!"}},{"$f":"IF(CG$5>=$F28,IF(CG$5<=#REF!,$K28,0),0)","v":{"$error":"#REF!"}},{"$f":"IF(CH$5>=$F28,IF(CH$5<=#REF!,$K28,0),0)","v":{"$error":"#REF!"}},{"$f":"IF(CI$5>=$F28,IF(CI$5<=#REF!,$K28,0),0)","v":{"$error":"#REF!"}},{"$f":"IF(CJ$5>=$F28,IF(CJ$5<=#REF!,$K28,0),0)","v":{"$error":"#REF!"}},{"$f":"IF(CK$5>=$F28,IF(CK$5<=#REF!,$K28,0),0)","v":{"$error":"#REF!"}},{"$f":"IF(CL$5>=$F28,IF(CL$5<=#REF!,$K28,0),0)","v":{"$error":"#REF!"}},{"$f":"IF(CM$5>=$F28,IF(CM$5<=#REF!,$K28,0),0)","v":{"$error":"#REF!"}},{"$f":"IF(CN$5>=$F28,IF(CN$5<=#REF!,$K28,0),0)","v":{"$error":"#REF!"}},{"$f":"IF(CO$5>=$F28,IF(CO$5<=#REF!,$K28,0),0)","v":{"$error":"#REF!"}},{"$f":"IF(CP$5>=$F28,IF(CP$5<=#REF!,$K28,0),0)","v":{"$error":"#REF!"}},{"$f":"IF(CQ$5>=$F28,IF(CQ$5<=#REF!,$K28,0),0)","v":{"$error":"#REF!"}},{"$f":"IF(CR$5>=$F28,IF(CR$5<=#REF!,$K28,0),0)","v":{"$error":"#REF!"}},{"$f":"IF(CS$5>=$F28,IF(CS$5<=#REF!,$K28,0),0)","v":{"$error":"#REF!"}},{"$f":"IF(CT$5>=$F28,IF(CT$5<=#REF!,$K28,0),0)","v":{"$error":"#REF!"}},{"$f":"IF(CU$5>=$F28,IF(CU$5<=#REF!,$K28,0),0)","v":{"$error":"#REF!"}},{"$f":"IF(CV$5>=$F28,IF(CV$5<=#REF!,$K28,0),0)","v":{"$error":"#REF!"}},{"$f":"IF(CW$5>=$F28,IF(CW$5<=#REF!,$K28,0),0)","v":{"$error":"#REF!"}},{"$f":"IF(CX$5>=$F28,IF(CX$5<=#REF!,$K28,0),0)","v":{"$error":"#REF!"}},{"$f":"IF(CY$5>=$F28,IF(CY$5<=#REF!,$K28,0),0)","v":{"$error":"#REF!"}},{"$f":"IF(CZ$5>=$F28,IF(CZ$5<=#REF!,$K28,0),0)","v":{"$error":"#REF!"}},{"$f":"IF(DA$5>=$F28,IF(DA$5<=#REF!,$K28,0),0)","v":{"$error":"#REF!"}},{"$f":"IF(DB$5>=$F28,IF(DB$5<=#REF!,$K28,0),0)","v":{"$error":"#REF!"}},{"$f":"IF(DC$5>=$F28,IF(DC$5<=#REF!,$K28,0),0)","v":{"$error":"#REF!"}},{"$f":"IF(DD$5>=$F28,IF(DD$5<=#REF!,$K28,0),0)","v":{"$error":"#REF!"}},{"$f":"IF(DE$5>=$F28,IF(DE$5<=#REF!,$K28,0),0)","v":{"$error":"#REF!"}},{"$f":"IF(DF$5>=$F28,IF(DF$5<=#REF!,$K28,0),0)","v":{"$error":"#REF!"}},{"$f":"IF(DG$5>=$F28,IF(DG$5<=#REF!,$K28,0),0)","v":{"$error":"#REF!"}},{"$f":"IF(DH$5>=$F28,IF(DH$5<=#REF!,$K28,0),0)","v":{"$error":"#REF!"}},{"$f":"IF(DI$5>=$F28,IF(DI$5<=#REF!,$K28,0),0)","v":{"$error":"#REF!"}},{"$f":"IF(DJ$5>=$F28,IF(DJ$5<=#REF!,$K28,0),0)","v":{"$error":"#REF!"}},{"$f":"IF(DK$5>=$F28,IF(DK$5<=#REF!,$K28,0),0)","v":{"$error":"#REF!"}},{"$f":"IF(DL$5>=$F28,IF(DL$5<=#REF!,$K28,0),0)","v":{"$error":"#REF!"}},{"$f":"IF(DM$5>=$F28,IF(DM$5<=#REF!,$K28,0),0)","v":{"$error":"#REF!"}},{"$f":"IF(DN$5>=$F28,IF(DN$5<=#REF!,$K28,0),0)","v":{"$error":"#REF!"}},{"$f":"IF(DO$5>=$F28,IF(DO$5<=#REF!,$K28,0),0)","v":{"$error":"#REF!"}},{"$f":"IF(DP$5>=$F28,IF(DP$5<=#REF!,$K28,0),0)","v":{"$error":"#REF!"}},{"$f":"IF(DQ$5>=$F28,IF(DQ$5<=#REF!,$K28,0),0)","v":{"$error":"#REF!"}},{"$f":"IF(DR$5>=$F28,IF(DR$5<=#REF!,$K28,0),0)","v":{"$error":"#REF!"}},{"$error":"#REF!"},"",""]
[null,null,null,null,null,null,{"$f":"IF($D29=\"\",0,VLOOKUP(($DU29&$C29&$D29),単価情報!$B$66:$C$932,2,FALSE))","v":0},0,0,0,{"$f":"IF(E29=0,0,ROUND(E29/#REF!,1))","v":0},{"$f":"IF(L$5>=$F29,IF(L$5<=#REF!,$K29,0),0)","v":{"$error":"#REF!"}},{"$f":"IF(M$5>=$F29,IF(M$5<=#REF!,$K29,0),0)","v":{"$error":"#REF!"}},{"$f":"IF(N$5>=$F29,IF(N$5<=#REF!,$K29,0),0)","v":{"$error":"#REF!"}},{"$f":"IF(O$5>=$F29,IF(O$5<=#REF!,$K29,0),0)","v":{"$error":"#REF!"}},{"$f":"IF(P$5>=$F29,IF(P$5<=#REF!,$K29,0),0)","v":{"$error":"#REF!"}},{"$f":"IF(Q$5>=$F29,IF(Q$5<=#REF!,$K29,0),0)","v":{"$error":"#REF!"}},{"$f":"IF(R$5>=$F29,IF(R$5<=#REF!,$K29,0),0)","v":{"$error":"#REF!"}},{"$f":"IF(S$5>=$F29,IF(S$5<=#REF!,$K29,0),0)","v":{"$error":"#REF!"}},{"$f":"IF(T$5>=$F29,IF(T$5<=#REF!,$K29,0),0)","v":{"$error":"#REF!"}},{"$f":"IF(U$5>=$F29,IF(U$5<=#REF!,$K29,0),0)","v":{"$error":"#REF!"}},{"$f":"IF(V$5>=$F29,IF(V$5<=#REF!,$K29,0),0)","v":{"$error":"#REF!"}},{"$f":"IF(W$5>=$F29,IF(W$5<=#REF!,$K29,0),0)","v":{"$error":"#REF!"}},{"$f":"IF(X$5>=$F29,IF(X$5<=#REF!,$K29,0),0)","v":{"$error":"#REF!"}},{"$f":"IF(Y$5>=$F29,IF(Y$5<=#REF!,$K29,0),0)","v":{"$error":"#REF!"}},{"$f":"IF(Z$5>=$F29,IF(Z$5<=#REF!,$K29,0),0)","v":{"$error":"#REF!"}},{"$f":"IF(AA$5>=$F29,IF(AA$5<=#REF!,$K29,0),0)","v":{"$error":"#REF!"}},{"$f":"IF(AB$5>=$F29,IF(AB$5<=#REF!,$K29,0),0)","v":{"$error":"#REF!"}},{"$f":"IF(AC$5>=$F29,IF(AC$5<=#REF!,$K29,0),0)","v":{"$error":"#REF!"}},{"$f":"IF(AD$5>=$F29,IF(AD$5<=#REF!,$K29,0),0)","v":{"$error":"#REF!"}},{"$f":"IF(AE$5>=$F29,IF(AE$5<=#REF!,$K29,0),0)","v":{"$error":"#REF!"}},{"$f":"IF(AF$5>=$F29,IF(AF$5<=#REF!,$K29,0),0)","v":{"$error":"#REF!"}},{"$f":"IF(AG$5>=$F29,IF(AG$5<=#REF!,$K29,0),0)","v":{"$error":"#REF!"}},{"$f":"IF(AH$5>=$F29,IF(AH$5<=#REF!,$K29,0),0)","v":{"$error":"#REF!"}},{"$f":"IF(AI$5>=$F29,IF(AI$5<=#REF!,$K29,0),0)","v":{"$error":"#REF!"}},{"$f":"IF(AJ$5>=$F29,IF(AJ$5<=#REF!,$K29,0),0)","v":{"$error":"#REF!"}},{"$f":"IF(AK$5>=$F29,IF(AK$5<=#REF!,$K29,0),0)","v":{"$error":"#REF!"}},{"$f":"IF(AL$5>=$F29,IF(AL$5<=#REF!,$K29,0),0)","v":{"$error":"#REF!"}},{"$f":"IF(AM$5>=$F29,IF(AM$5<=#REF!,$K29,0),0)","v":{"$error":"#REF!"}},{"$f":"IF(AN$5>=$F29,IF(AN$5<=#REF!,$K29,0),0)","v":{"$error":"#REF!"}},{"$f":"IF(AO$5>=$F29,IF(AO$5<=#REF!,$K29,0),0)","v":{"$error":"#REF!"}},{"$f":"IF(AP$5>=$F29,IF(AP$5<=#REF!,$K29,0),0)","v":{"$error":"#REF!"}},{"$f":"IF(AQ$5>=$F29,IF(AQ$5<=#REF!,$K29,0),0)","v":{"$error":"#REF!"}},{"$f":"IF(AR$5>=$F29,IF(AR$5<=#REF!,$K29,0),0)","v":{"$error":"#REF!"}},{"$f":"IF(AS$5>=$F29,IF(AS$5<=#REF!,$K29,0),0)","v":{"$error":"#REF!"}},{"$f":"IF(AT$5>=$F29,IF(AT$5<=#REF!,$K29,0),0)","v":{"$error":"#REF!"}},{"$f":"IF(AU$5>=$F29,IF(AU$5<=#REF!,$K29,0),0)","v":{"$error":"#REF!"}},{"$f":"IF(AV$5>=$F29,IF(AV$5<=#REF!,$K29,0),0)","v":{"$error":"#REF!"}},{"$f":"IF(AW$5>=$F29,IF(AW$5<=#REF!,$K29,0),0)","v":{"$error":"#REF!"}},{"$f":"IF(AX$5>=$F29,IF(AX$5<=#REF!,$K29,0),0)","v":{"$error":"#REF!"}},{"$f":"IF(AY$5>=$F29,IF(AY$5<=#REF!,$K29,0),0)","v":{"$error":"#REF!"}},{"$f":"IF(AZ$5>=$F29,IF(AZ$5<=#REF!,$K29,0),0)","v":{"$error":"#REF!"}},{"$f":"IF(BA$5>=$F29,IF(BA$5<=#REF!,$K29,0),0)","v":{"$error":"#REF!"}},{"$f":"IF(BB$5>=$F29,IF(BB$5<=#REF!,$K29,0),0)","v":{"$error":"#REF!"}},{"$f":"IF(BC$5>=$F29,IF(BC$5<=#REF!,$K29,0),0)","v":{"$error":"#REF!"}},{"$f":"IF(BD$5>=$F29,IF(BD$5<=#REF!,$K29,0),0)","v":{"$error":"#REF!"}},{"$f":"IF(BE$5>=$F29,IF(BE$5<=#REF!,$K29,0),0)","v":{"$error":"#REF!"}},{"$f":"IF(BF$5>=$F29,IF(BF$5<=#REF!,$K29,0),0)","v":{"$error":"#REF!"}},{"$f":"IF(BG$5>=$F29,IF(BG$5<=#REF!,$K29,0),0)","v":{"$error":"#REF!"}},{"$f":"IF(BH$5>=$F29,IF(BH$5<=#REF!,$K29,0),0)","v":{"$error":"#REF!"}},{"$f":"IF(BI$5>=$F29,IF(BI$5<=#REF!,$K29,0),0)","v":{"$error":"#REF!"}},{"$f":"IF(BJ$5>=$F29,IF(BJ$5<=#REF!,$K29,0),0)","v":{"$error":"#REF!"}},{"$f":"IF(BK$5>=$F29,IF(BK$5<=#REF!,$K29,0),0)","v":{"$error":"#REF!"}},{"$f":"IF(BL$5>=$F29,IF(BL$5<=#REF!,$K29,0),0)","v":{"$error":"#REF!"}},{"$f":"IF(BM$5>=$F29,IF(BM$5<=#REF!,$K29,0),0)","v":{"$error":"#REF!"}},{"$f":"IF(BN$5>=$F29,IF(BN$5<=#REF!,$K29,0),0)","v":{"$error":"#REF!"}},{"$f":"IF(BO$5>=$F29,IF(BO$5<=#REF!,$K29,0),0)","v":{"$error":"#REF!"}},{"$f":"IF(BP$5>=$F29,IF(BP$5<=#REF!,$K29,0),0)","v":{"$error":"#REF!"}},{"$f":"IF(BQ$5>=$F29,IF(BQ$5<=#REF!,$K29,0),0)","v":{"$error":"#REF!"}},{"$f":"IF(BR$5>=$F29,IF(BR$5<=#REF!,$K29,0),0)","v":{"$error":"#REF!"}},{"$f":"IF(BS$5>=$F29,IF(BS$5<=#REF!,$K29,0),0)","v":{"$error":"#REF!"}},{"$f":"IF(BT$5>=$F29,IF(BT$5<=#REF!,$K29,0),0)","v":{"$error":"#REF!"}},{"$f":"IF(BU$5>=$F29,IF(BU$5<=#REF!,$K29,0),0)","v":{"$error":"#REF!"}},{"$f":"IF(BV$5>=$F29,IF(BV$5<=#REF!,$K29,0),0)","v":{"$error":"#REF!"}},{"$f":"IF(BW$5>=$F29,IF(BW$5<=#REF!,$K29,0),0)","v":{"$error":"#REF!"}},{"$f":"IF(BX$5>=$F29,IF(BX$5<=#REF!,$K29,0),0)","v":{"$error":"#REF!"}},{"$f":"IF(BY$5>=$F29,IF(BY$5<=#REF!,$K29,0),0)","v":{"$error":"#REF!"}},{"$f":"IF(BZ$5>=$F29,IF(BZ$5<=#REF!,$K29,0),0)","v":{"$error":"#REF!"}},{"$f":"IF(CA$5>=$F29,IF(CA$5<=#REF!,$K29,0),0)","v":{"$error":"#REF!"}},{"$f":"IF(CB$5>=$F29,IF(CB$5<=#REF!,$K29,0),0)","v":{"$error":"#REF!"}},{"$f":"IF(CC$5>=$F29,IF(CC$5<=#REF!,$K29,0),0)","v":{"$error":"#REF!"}},{"$f":"IF(CD$5>=$F29,IF(CD$5<=#REF!,$K29,0),0)","v":{"$error":"#REF!"}},{"$f":"IF(CE$5>=$F29,IF(CE$5<=#REF!,$K29,0),0)","v":{"$error":"#REF!"}},{"$f":"IF(CF$5>=$F29,IF(CF$5<=#REF!,$K29,0),0)","v":{"$error":"#REF!"}},{"$f":"IF(CG$5>=$F29,IF(CG$5<=#REF!,$K29,0),0)","v":{"$error":"#REF!"}},{"$f":"IF(CH$5>=$F29,IF(CH$5<=#REF!,$K29,0),0)","v":{"$error":"#REF!"}},{"$f":"IF(CI$5>=$F29,IF(CI$5<=#REF!,$K29,0),0)","v":{"$error":"#REF!"}},{"$f":"IF(CJ$5>=$F29,IF(CJ$5<=#REF!,$K29,0),0)","v":{"$error":"#REF!"}},{"$f":"IF(CK$5>=$F29,IF(CK$5<=#REF!,$K29,0),0)","v":{"$error":"#REF!"}},{"$f":"IF(CL$5>=$F29,IF(CL$5<=#REF!,$K29,0),0)","v":{"$error":"#REF!"}},{"$f":"IF(CM$5>=$F29,IF(CM$5<=#REF!,$K29,0),0)","v":{"$error":"#REF!"}},{"$f":"IF(CN$5>=$F29,IF(CN$5<=#REF!,$K29,0),0)","v":{"$error":"#REF!"}},{"$f":"IF(CO$5>=$F29,IF(CO$5<=#REF!,$K29,0),0)","v":{"$error":"#REF!"}},{"$f":"IF(CP$5>=$F29,IF(CP$5<=#REF!,$K29,0),0)","v":{"$error":"#REF!"}},{"$f":"IF(CQ$5>=$F29,IF(CQ$5<=#REF!,$K29,0),0)","v":{"$error":"#REF!"}},{"$f":"IF(CR$5>=$F29,IF(CR$5<=#REF!,$K29,0),0)","v":{"$error":"#REF!"}},{"$f":"IF(CS$5>=$F29,IF(CS$5<=#REF!,$K29,0),0)","v":{"$error":"#REF!"}},{"$f":"IF(CT$5>=$F29,IF(CT$5<=#REF!,$K29,0),0)","v":{"$error":"#REF!"}},{"$f":"IF(CU$5>=$F29,IF(CU$5<=#REF!,$K29,0),0)","v":{"$error":"#REF!"}},{"$f":"IF(CV$5>=$F29,IF(CV$5<=#REF!,$K29,0),0)","v":{"$error":"#REF!"}},{"$f":"IF(CW$5>=$F29,IF(CW$5<=#REF!,$K29,0),0)","v":{"$error":"#REF!"}},{"$f":"IF(CX$5>=$F29,IF(CX$5<=#REF!,$K29,0),0)","v":{"$error":"#REF!"}},{"$f":"IF(CY$5>=$F29,IF(CY$5<=#REF!,$K29,0),0)","v":{"$error":"#REF!"}},{"$f":"IF(CZ$5>=$F29,IF(CZ$5<=#REF!,$K29,0),0)","v":{"$error":"#REF!"}},{"$f":"IF(DA$5>=$F29,IF(DA$5<=#REF!,$K29,0),0)","v":{"$error":"#REF!"}},{"$f":"IF(DB$5>=$F29,IF(DB$5<=#REF!,$K29,0),0)","v":{"$error":"#REF!"}},{"$f":"IF(DC$5>=$F29,IF(DC$5<=#REF!,$K29,0),0)","v":{"$error":"#REF!"}},{"$f":"IF(DD$5>=$F29,IF(DD$5<=#REF!,$K29,0),0)","v":{"$error":"#REF!"}},{"$f":"IF(DE$5>=$F29,IF(DE$5<=#REF!,$K29,0),0)","v":{"$error":"#REF!"}},{"$f":"IF(DF$5>=$F29,IF(DF$5<=#REF!,$K29,0),0)","v":{"$error":"#REF!"}},{"$f":"IF(DG$5>=$F29,IF(DG$5<=#REF!,$K29,0),0)","v":{"$error":"#REF!"}},{"$f":"IF(DH$5>=$F29,IF(DH$5<=#REF!,$K29,0),0)","v":{"$error":"#REF!"}},{"$f":"IF(DI$5>=$F29,IF(DI$5<=#REF!,$K29,0),0)","v":{"$error":"#REF!"}},{"$f":"IF(DJ$5>=$F29,IF(DJ$5<=#REF!,$K29,0),0)","v":{"$error":"#REF!"}},{"$f":"IF(DK$5>=$F29,IF(DK$5<=#REF!,$K29,0),0)","v":{"$error":"#REF!"}},{"$f":"IF(DL$5>=$F29,IF(DL$5<=#REF!,$K29,0),0)","v":{"$error":"#REF!"}},{"$f":"IF(DM$5>=$F29,IF(DM$5<=#REF!,$K29,0),0)","v":{"$error":"#REF!"}},{"$f":"IF(DN$5>=$F29,IF(DN$5<=#REF!,$K29,0),0)","v":{"$error":"#REF!"}},{"$f":"IF(DO$5>=$F29,IF(DO$5<=#REF!,$K29,0),0)","v":{"$error":"#REF!"}},{"$f":"IF(DP$5>=$F29,IF(DP$5<=#REF!,$K29,0),0)","v":{"$error":"#REF!"}},{"$f":"IF(DQ$5>=$F29,IF(DQ$5<=#REF!,$K29,0),0)","v":{"$error":"#REF!"}},{"$f":"IF(DR$5>=$F29,IF(DR$5<=#REF!,$K29,0),0)","v":{"$error":"#REF!"}},{"$error":"#REF!"},"","",null,null,null,"製造されていない管種"]
[null,null,null,null,null,null,{"$f":"IF($D30=\"\",0,VLOOKUP(($DU30&$C30&$D30),単価情報!$B$66:$C$932,2,FALSE))","v":0},0,0,0,{"$f":"IF(E30=0,0,ROUND(E30/#REF!,1))","v":0},{"$f":"IF(L$5>=$F30,IF(L$5<=#REF!,$K30,0),0)","v":{"$error":"#REF!"}},{"$f":"IF(M$5>=$F30,IF(M$5<=#REF!,$K30,0),0)","v":{"$error":"#REF!"}},{"$f":"IF(N$5>=$F30,IF(N$5<=#REF!,$K30,0),0)","v":{"$error":"#REF!"}},{"$f":"IF(O$5>=$F30,IF(O$5<=#REF!,$K30,0),0)","v":{"$error":"#REF!"}},{"$f":"IF(P$5>=$F30,IF(P$5<=#REF!,$K30,0),0)","v":{"$error":"#REF!"}},{"$f":"IF(Q$5>=$F30,IF(Q$5<=#REF!,$K30,0),0)","v":{"$error":"#REF!"}},{"$f":"IF(R$5>=$F30,IF(R$5<=#REF!,$K30,0),0)","v":{"$error":"#REF!"}},{"$f":"IF(S$5>=$F30,IF(S$5<=#REF!,$K30,0),0)","v":{"$error":"#REF!"}},{"$f":"IF(T$5>=$F30,IF(T$5<=#REF!,$K30,0),0)","v":{"$error":"#REF!"}},{"$f":"IF(U$5>=$F30,IF(U$5<=#REF!,$K30,0),0)","v":{"$error":"#REF!"}},{"$f":"IF(V$5>=$F30,IF(V$5<=#REF!,$K30,0),0)","v":{"$error":"#REF!"}},{"$f":"IF(W$5>=$F30,IF(W$5<=#REF!,$K30,0),0)","v":{"$error":"#REF!"}},{"$f":"IF(X$5>=$F30,IF(X$5<=#REF!,$K30,0),0)","v":{"$error":"#REF!"}},{"$f":"IF(Y$5>=$F30,IF(Y$5<=#REF!,$K30,0),0)","v":{"$error":"#REF!"}},{"$f":"IF(Z$5>=$F30,IF(Z$5<=#REF!,$K30,0),0)","v":{"$error":"#REF!"}},{"$f":"IF(AA$5>=$F30,IF(AA$5<=#REF!,$K30,0),0)","v":{"$error":"#REF!"}},{"$f":"IF(AB$5>=$F30,IF(AB$5<=#REF!,$K30,0),0)","v":{"$error":"#REF!"}},{"$f":"IF(AC$5>=$F30,IF(AC$5<=#REF!,$K30,0),0)","v":{"$error":"#REF!"}},{"$f":"IF(AD$5>=$F30,IF(AD$5<=#REF!,$K30,0),0)","v":{"$error":"#REF!"}},{"$f":"IF(AE$5>=$F30,IF(AE$5<=#REF!,$K30,0),0)","v":{"$error":"#REF!"}},{"$f":"IF(AF$5>=$F30,IF(AF$5<=#REF!,$K30,0),0)","v":{"$error":"#REF!"}},{"$f":"IF(AG$5>=$F30,IF(AG$5<=#REF!,$K30,0),0)","v":{"$error":"#REF!"}},{"$f":"IF(AH$5>=$F30,IF(AH$5<=#REF!,$K30,0),0)","v":{"$error":"#REF!"}},{"$f":"IF(AI$5>=$F30,IF(AI$5<=#REF!,$K30,0),0)","v":{"$error":"#REF!"}},{"$f":"IF(AJ$5>=$F30,IF(AJ$5<=#REF!,$K30,0),0)","v":{"$error":"#REF!"}},{"$f":"IF(AK$5>=$F30,IF(AK$5<=#REF!,$K30,0),0)","v":{"$error":"#REF!"}},{"$f":"IF(AL$5>=$F30,IF(AL$5<=#REF!,$K30,0),0)","v":{"$error":"#REF!"}},{"$f":"IF(AM$5>=$F30,IF(AM$5<=#REF!,$K30,0),0)","v":{"$error":"#REF!"}},{"$f":"IF(AN$5>=$F30,IF(AN$5<=#REF!,$K30,0),0)","v":{"$error":"#REF!"}},{"$f":"IF(AO$5>=$F30,IF(AO$5<=#REF!,$K30,0),0)","v":{"$error":"#REF!"}},{"$f":"IF(AP$5>=$F30,IF(AP$5<=#REF!,$K30,0),0)","v":{"$error":"#REF!"}},{"$f":"IF(AQ$5>=$F30,IF(AQ$5<=#REF!,$K30,0),0)","v":{"$error":"#REF!"}},{"$f":"IF(AR$5>=$F30,IF(AR$5<=#REF!,$K30,0),0)","v":{"$error":"#REF!"}},{"$f":"IF(AS$5>=$F30,IF(AS$5<=#REF!,$K30,0),0)","v":{"$error":"#REF!"}},{"$f":"IF(AT$5>=$F30,IF(AT$5<=#REF!,$K30,0),0)","v":{"$error":"#REF!"}},{"$f":"IF(AU$5>=$F30,IF(AU$5<=#REF!,$K30,0),0)","v":{"$error":"#REF!"}},{"$f":"IF(AV$5>=$F30,IF(AV$5<=#REF!,$K30,0),0)","v":{"$error":"#REF!"}},{"$f":"IF(AW$5>=$F30,IF(AW$5<=#REF!,$K30,0),0)","v":{"$error":"#REF!"}},{"$f":"IF(AX$5>=$F30,IF(AX$5<=#REF!,$K30,0),0)","v":{"$error":"#REF!"}},{"$f":"IF(AY$5>=$F30,IF(AY$5<=#REF!,$K30,0),0)","v":{"$error":"#REF!"}},{"$f":"IF(AZ$5>=$F30,IF(AZ$5<=#REF!,$K30,0),0)","v":{"$error":"#REF!"}},{"$f":"IF(BA$5>=$F30,IF(BA$5<=#REF!,$K30,0),0)","v":{"$error":"#REF!"}},{"$f":"IF(BB$5>=$F30,IF(BB$5<=#REF!,$K30,0),0)","v":{"$error":"#REF!"}},{"$f":"IF(BC$5>=$F30,IF(BC$5<=#REF!,$K30,0),0)","v":{"$error":"#REF!"}},{"$f":"IF(BD$5>=$F30,IF(BD$5<=#REF!,$K30,0),0)","v":{"$error":"#REF!"}},{"$f":"IF(BE$5>=$F30,IF(BE$5<=#REF!,$K30,0),0)","v":{"$error":"#REF!"}},{"$f":"IF(BF$5>=$F30,IF(BF$5<=#REF!,$K30,0),0)","v":{"$error":"#REF!"}},{"$f":"IF(BG$5>=$F30,IF(BG$5<=#REF!,$K30,0),0)","v":{"$error":"#REF!"}},{"$f":"IF(BH$5>=$F30,IF(BH$5<=#REF!,$K30,0),0)","v":{"$error":"#REF!"}},{"$f":"IF(BI$5>=$F30,IF(BI$5<=#REF!,$K30,0),0)","v":{"$error":"#REF!"}},{"$f":"IF(BJ$5>=$F30,IF(BJ$5<=#REF!,$K30,0),0)","v":{"$error":"#REF!"}},{"$f":"IF(BK$5>=$F30,IF(BK$5<=#REF!,$K30,0),0)","v":{"$error":"#REF!"}},{"$f":"IF(BL$5>=$F30,IF(BL$5<=#REF!,$K30,0),0)","v":{"$error":"#REF!"}},{"$f":"IF(BM$5>=$F30,IF(BM$5<=#REF!,$K30,0),0)","v":{"$error":"#REF!"}},{"$f":"IF(BN$5>=$F30,IF(BN$5<=#REF!,$K30,0),0)","v":{"$error":"#REF!"}},{"$f":"IF(BO$5>=$F30,IF(BO$5<=#REF!,$K30,0),0)","v":{"$error":"#REF!"}},{"$f":"IF(BP$5>=$F30,IF(BP$5<=#REF!,$K30,0),0)","v":{"$error":"#REF!"}},{"$f":"IF(BQ$5>=$F30,IF(BQ$5<=#REF!,$K30,0),0)","v":{"$error":"#REF!"}},{"$f":"IF(BR$5>=$F30,IF(BR$5<=#REF!,$K30,0),0)","v":{"$error":"#REF!"}},{"$f":"IF(BS$5>=$F30,IF(BS$5<=#REF!,$K30,0),0)","v":{"$error":"#REF!"}},{"$f":"IF(BT$5>=$F30,IF(BT$5<=#REF!,$K30,0),0)","v":{"$error":"#REF!"}},{"$f":"IF(BU$5>=$F30,IF(BU$5<=#REF!,$K30,0),0)","v":{"$error":"#REF!"}},{"$f":"IF(BV$5>=$F30,IF(BV$5<=#REF!,$K30,0),0)","v":{"$error":"#REF!"}},{"$f":"IF(BW$5>=$F30,IF(BW$5<=#REF!,$K30,0),0)","v":{"$error":"#REF!"}},{"$f":"IF(BX$5>=$F30,IF(BX$5<=#REF!,$K30,0),0)","v":{"$error":"#REF!"}},{"$f":"IF(BY$5>=$F30,IF(BY$5<=#REF!,$K30,0),0)","v":{"$error":"#REF!"}},{"$f":"IF(BZ$5>=$F30,IF(BZ$5<=#REF!,$K30,0),0)","v":{"$error":"#REF!"}},{"$f":"IF(CA$5>=$F30,IF(CA$5<=#REF!,$K30,0),0)","v":{"$error":"#REF!"}},{"$f":"IF(CB$5>=$F30,IF(CB$5<=#REF!,$K30,0),0)","v":{"$error":"#REF!"}},{"$f":"IF(CC$5>=$F30,IF(CC$5<=#REF!,$K30,0),0)","v":{"$error":"#REF!"}},{"$f":"IF(CD$5>=$F30,IF(CD$5<=#REF!,$K30,0),0)","v":{"$error":"#REF!"}},{"$f":"IF(CE$5>=$F30,IF(CE$5<=#REF!,$K30,0),0)","v":{"$error":"#REF!"}},{"$f":"IF(CF$5>=$F30,IF(CF$5<=#REF!,$K30,0),0)","v":{"$error":"#REF!"}},{"$f":"IF(CG$5>=$F30,IF(CG$5<=#REF!,$K30,0),0)","v":{"$error":"#REF!"}},{"$f":"IF(CH$5>=$F30,IF(CH$5<=#REF!,$K30,0),0)","v":{"$error":"#REF!"}},{"$f":"IF(CI$5>=$F30,IF(CI$5<=#REF!,$K30,0),0)","v":{"$error":"#REF!"}},{"$f":"IF(CJ$5>=$F30,IF(CJ$5<=#REF!,$K30,0),0)","v":{"$error":"#REF!"}},{"$f":"IF(CK$5>=$F30,IF(CK$5<=#REF!,$K30,0),0)","v":{"$error":"#REF!"}},{"$f":"IF(CL$5>=$F30,IF(CL$5<=#REF!,$K30,0),0)","v":{"$error":"#REF!"}},{"$f":"IF(CM$5>=$F30,IF(CM$5<=#REF!,$K30,0),0)","v":{"$error":"#REF!"}},{"$f":"IF(CN$5>=$F30,IF(CN$5<=#REF!,$K30,0),0)","v":{"$error":"#REF!"}},{"$f":"IF(CO$5>=$F30,IF(CO$5<=#REF!,$K30,0),0)","v":{"$error":"#REF!"}},{"$f":"IF(CP$5>=$F30,IF(CP$5<=#REF!,$K30,0),0)","v":{"$error":"#REF!"}},{"$f":"IF(CQ$5>=$F30,IF(CQ$5<=#REF!,$K30,0),0)","v":{"$error":"#REF!"}},{"$f":"IF(CR$5>=$F30,IF(CR$5<=#REF!,$K30,0),0)","v":{"$error":"#REF!"}},{"$f":"IF(CS$5>=$F30,IF(CS$5<=#REF!,$K30,0),0)","v":{"$error":"#REF!"}},{"$f":"IF(CT$5>=$F30,IF(CT$5<=#REF!,$K30,0),0)","v":{"$error":"#REF!"}},{"$f":"IF(CU$5>=$F30,IF(CU$5<=#REF!,$K30,0),0)","v":{"$error":"#REF!"}},{"$f":"IF(CV$5>=$F30,IF(CV$5<=#REF!,$K30,0),0)","v":{"$error":"#REF!"}},{"$f":"IF(CW$5>=$F30,IF(CW$5<=#REF!,$K30,0),0)","v":{"$error":"#REF!"}},{"$f":"IF(CX$5>=$F30,IF(CX$5<=#REF!,$K30,0),0)","v":{"$error":"#REF!"}},{"$f":"IF(CY$5>=$F30,IF(CY$5<=#REF!,$K30,0),0)","v":{"$error":"#REF!"}},{"$f":"IF(CZ$5>=$F30,IF(CZ$5<=#REF!,$K30,0),0)","v":{"$error":"#REF!"}},{"$f":"IF(DA$5>=$F30,IF(DA$5<=#REF!,$K30,0),0)","v":{"$error":"#REF!"}},{"$f":"IF(DB$5>=$F30,IF(DB$5<=#REF!,$K30,0),0)","v":{"$error":"#REF!"}},{"$f":"IF(DC$5>=$F30,IF(DC$5<=#REF!,$K30,0),0)","v":{"$error":"#REF!"}},{"$f":"IF(DD$5>=$F30,IF(DD$5<=#REF!,$K30,0),0)","v":{"$error":"#REF!"}},{"$f":"IF(DE$5>=$F30,IF(DE$5<=#REF!,$K30,0),0)","v":{"$error":"#REF!"}},{"$f":"IF(DF$5>=$F30,IF(DF$5<=#REF!,$K30,0),0)","v":{"$error":"#REF!"}},{"$f":"IF(DG$5>=$F30,IF(DG$5<=#REF!,$K30,0),0)","v":{"$error":"#REF!"}},{"$f":"IF(DH$5>=$F30,IF(DH$5<=#REF!,$K30,0),0)","v":{"$error":"#REF!"}},{"$f":"IF(DI$5>=$F30,IF(DI$5<=#REF!,$K30,0),0)","v":{"$error":"#REF!"}},{"$f":"IF(DJ$5>=$F30,IF(DJ$5<=#REF!,$K30,0),0)","v":{"$error":"#REF!"}},{"$f":"IF(DK$5>=$F30,IF(DK$5<=#REF!,$K30,0),0)","v":{"$error":"#REF!"}},{"$f":"IF(DL$5>=$F30,IF(DL$5<=#REF!,$K30,0),0)","v":{"$error":"#REF!"}},{"$f":"IF(DM$5>=$F30,IF(DM$5<=#REF!,$K30,0),0)","v":{"$error":"#REF!"}},{"$f":"IF(DN$5>=$F30,IF(DN$5<=#REF!,$K30,0),0)","v":{"$error":"#REF!"}},{"$f":"IF(DO$5>=$F30,IF(DO$5<=#REF!,$K30,0),0)","v":{"$error":"#REF!"}},{"$f":"IF(DP$5>=$F30,IF(DP$5<=#REF!,$K30,0),0)","v":{"$error":"#REF!"}},{"$f":"IF(DQ$5>=$F30,IF(DQ$5<=#REF!,$K30,0),0)","v":{"$error":"#REF!"}},{"$f":"IF(DR$5>=$F30,IF(DR$5<=#REF!,$K30,0),0)","v":{"$error":"#REF!"}},{"$error":"#REF!"},"","",null,null,null,"鋳鉄管　（ダクタイル鋳鉄管は含まない） (1970年)"]
[null,null,null,null,null,null,{"$f":"IF($D31=\"\",0,VLOOKUP(($DU31&$C31&$D31),単価情報!$B$66:$C$932,2,FALSE))","v":0},0,0,0,{"$f":"IF(E31=0,0,ROUND(E31/#REF!,1))","v":0},{"$f":"IF(L$5>=$F31,IF(L$5<=#REF!,$K31,0),0)","v":{"$error":"#REF!"}},{"$f":"IF(M$5>=$F31,IF(M$5<=#REF!,$K31,0),0)","v":{"$error":"#REF!"}},{"$f":"IF(N$5>=$F31,IF(N$5<=#REF!,$K31,0),0)","v":{"$error":"#REF!"}},{"$f":"IF(O$5>=$F31,IF(O$5<=#REF!,$K31,0),0)","v":{"$error":"#REF!"}},{"$f":"IF(P$5>=$F31,IF(P$5<=#REF!,$K31,0),0)","v":{"$error":"#REF!"}},{"$f":"IF(Q$5>=$F31,IF(Q$5<=#REF!,$K31,0),0)","v":{"$error":"#REF!"}},{"$f":"IF(R$5>=$F31,IF(R$5<=#REF!,$K31,0),0)","v":{"$error":"#REF!"}},{"$f":"IF(S$5>=$F31,IF(S$5<=#REF!,$K31,0),0)","v":{"$error":"#REF!"}},{"$f":"IF(T$5>=$F31,IF(T$5<=#REF!,$K31,0),0)","v":{"$error":"#REF!"}},{"$f":"IF(U$5>=$F31,IF(U$5<=#REF!,$K31,0),0)","v":{"$error":"#REF!"}},{"$f":"IF(V$5>=$F31,IF(V$5<=#REF!,$K31,0),0)","v":{"$error":"#REF!"}},{"$f":"IF(W$5>=$F31,IF(W$5<=#REF!,$K31,0),0)","v":{"$error":"#REF!"}},{"$f":"IF(X$5>=$F31,IF(X$5<=#REF!,$K31,0),0)","v":{"$error":"#REF!"}},{"$f":"IF(Y$5>=$F31,IF(Y$5<=#REF!,$K31,0),0)","v":{"$error":"#REF!"}},{"$f":"IF(Z$5>=$F31,IF(Z$5<=#REF!,$K31,0),0)","v":{"$error":"#REF!"}},{"$f":"IF(AA$5>=$F31,IF(AA$5<=#REF!,$K31,0),0)","v":{"$error":"#REF!"}},{"$f":"IF(AB$5>=$F31,IF(AB$5<=#REF!,$K31,0),0)","v":{"$error":"#REF!"}},{"$f":"IF(AC$5>=$F31,IF(AC$5<=#REF!,$K31,0),0)","v":{"$error":"#REF!"}},{"$f":"IF(AD$5>=$F31,IF(AD$5<=#REF!,$K31,0),0)","v":{"$error":"#REF!"}},{"$f":"IF(AE$5>=$F31,IF(AE$5<=#REF!,$K31,0),0)","v":{"$error":"#REF!"}},{"$f":"IF(AF$5>=$F31,IF(AF$5<=#REF!,$K31,0),0)","v":{"$error":"#REF!"}},{"$f":"IF(AG$5>=$F31,IF(AG$5<=#REF!,$K31,0),0)","v":{"$error":"#REF!"}},{"$f":"IF(AH$5>=$F31,IF(AH$5<=#REF!,$K31,0),0)","v":{"$error":"#REF!"}},{"$f":"IF(AI$5>=$F31,IF(AI$5<=#REF!,$K31,0),0)","v":{"$error":"#REF!"}},{"$f":"IF(AJ$5>=$F31,IF(AJ$5<=#REF!,$K31,0),0)","v":{"$error":"#REF!"}},{"$f":"IF(AK$5>=$F31,IF(AK$5<=#REF!,$K31,0),0)","v":{"$error":"#REF!"}},{"$f":"IF(AL$5>=$F31,IF(AL$5<=#REF!,$K31,0),0)","v":{"$error":"#REF!"}},{"$f":"IF(AM$5>=$F31,IF(AM$5<=#REF!,$K31,0),0)","v":{"$error":"#REF!"}},{"$f":"IF(AN$5>=$F31,IF(AN$5<=#REF!,$K31,0),0)","v":{"$error":"#REF!"}},{"$f":"IF(AO$5>=$F31,IF(AO$5<=#REF!,$K31,0),0)","v":{"$error":"#REF!"}},{"$f":"IF(AP$5>=$F31,IF(AP$5<=#REF!,$K31,0),0)","v":{"$error":"#REF!"}},{"$f":"IF(AQ$5>=$F31,IF(AQ$5<=#REF!,$K31,0),0)","v":{"$error":"#REF!"}},{"$f":"IF(AR$5>=$F31,IF(AR$5<=#REF!,$K31,0),0)","v":{"$error":"#REF!"}},{"$f":"IF(AS$5>=$F31,IF(AS$5<=#REF!,$K31,0),0)","v":{"$error":"#REF!"}},{"$f":"IF(AT$5>=$F31,IF(AT$5<=#REF!,$K31,0),0)","v":{"$error":"#REF!"}},{"$f":"IF(AU$5>=$F31,IF(AU$5<=#REF!,$K31,0),0)","v":{"$error":"#REF!"}},{"$f":"IF(AV$5>=$F31,IF(AV$5<=#REF!,$K31,0),0)","v":{"$error":"#REF!"}},{"$f":"IF(AW$5>=$F31,IF(AW$5<=#REF!,$K31,0),0)","v":{"$error":"#REF!"}},{"$f":"IF(AX$5>=$F31,IF(AX$5<=#REF!,$K31,0),0)","v":{"$error":"#REF!"}},{"$f":"IF(AY$5>=$F31,IF(AY$5<=#REF!,$K31,0),0)","v":{"$error":"#REF!"}},{"$f":"IF(AZ$5>=$F31,IF(AZ$5<=#REF!,$K31,0),0)","v":{"$error":"#REF!"}},{"$f":"IF(BA$5>=$F31,IF(BA$5<=#REF!,$K31,0),0)","v":{"$error":"#REF!"}},{"$f":"IF(BB$5>=$F31,IF(BB$5<=#REF!,$K31,0),0)","v":{"$error":"#REF!"}},{"$f":"IF(BC$5>=$F31,IF(BC$5<=#REF!,$K31,0),0)","v":{"$error":"#REF!"}},{"$f":"IF(BD$5>=$F31,IF(BD$5<=#REF!,$K31,0),0)","v":{"$error":"#REF!"}},{"$f":"IF(BE$5>=$F31,IF(BE$5<=#REF!,$K31,0),0)","v":{"$error":"#REF!"}},{"$f":"IF(BF$5>=$F31,IF(BF$5<=#REF!,$K31,0),0)","v":{"$error":"#REF!"}},{"$f":"IF(BG$5>=$F31,IF(BG$5<=#REF!,$K31,0),0)","v":{"$error":"#REF!"}},{"$f":"IF(BH$5>=$F31,IF(BH$5<=#REF!,$K31,0),0)","v":{"$error":"#REF!"}},{"$f":"IF(BI$5>=$F31,IF(BI$5<=#REF!,$K31,0),0)","v":{"$error":"#REF!"}},{"$f":"IF(BJ$5>=$F31,IF(BJ$5<=#REF!,$K31,0),0)","v":{"$error":"#REF!"}},{"$f":"IF(BK$5>=$F31,IF(BK$5<=#REF!,$K31,0),0)","v":{"$error":"#REF!"}},{"$f":"IF(BL$5>=$F31,IF(BL$5<=#REF!,$K31,0),0)","v":{"$error":"#REF!"}},{"$f":"IF(BM$5>=$F31,IF(BM$5<=#REF!,$K31,0),0)","v":{"$error":"#REF!"}},{"$f":"IF(BN$5>=$F31,IF(BN$5<=#REF!,$K31,0),0)","v":{"$error":"#REF!"}},{"$f":"IF(BO$5>=$F31,IF(BO$5<=#REF!,$K31,0),0)","v":{"$error":"#REF!"}},{"$f":"IF(BP$5>=$F31,IF(BP$5<=#REF!,$K31,0),0)","v":{"$error":"#REF!"}},{"$f":"IF(BQ$5>=$F31,IF(BQ$5<=#REF!,$K31,0),0)","v":{"$error":"#REF!"}},{"$f":"IF(BR$5>=$F31,IF(BR$5<=#REF!,$K31,0),0)","v":{"$error":"#REF!"}},{"$f":"IF(BS$5>=$F31,IF(BS$5<=#REF!,$K31,0),0)","v":{"$error":"#REF!"}},{"$f":"IF(BT$5>=$F31,IF(BT$5<=#REF!,$K31,0),0)","v":{"$error":"#REF!"}},{"$f":"IF(BU$5>=$F31,IF(BU$5<=#REF!,$K31,0),0)","v":{"$error":"#REF!"}},{"$f":"IF(BV$5>=$F31,IF(BV$5<=#REF!,$K31,0),0)","v":{"$error":"#REF!"}},{"$f":"IF(BW$5>=$F31,IF(BW$5<=#REF!,$K31,0),0)","v":{"$error":"#REF!"}},{"$f":"IF(BX$5>=$F31,IF(BX$5<=#REF!,$K31,0),0)","v":{"$error":"#REF!"}},{"$f":"IF(BY$5>=$F31,IF(BY$5<=#REF!,$K31,0),0)","v":{"$error":"#REF!"}},{"$f":"IF(BZ$5>=$F31,IF(BZ$5<=#REF!,$K31,0),0)","v":{"$error":"#REF!"}},{"$f":"IF(CA$5>=$F31,IF(CA$5<=#REF!,$K31,0),0)","v":{"$error":"#REF!"}},{"$f":"IF(CB$5>=$F31,IF(CB$5<=#REF!,$K31,0),0)","v":{"$error":"#REF!"}},{"$f":"IF(CC$5>=$F31,IF(CC$5<=#REF!,$K31,0),0)","v":{"$error":"#REF!"}},{"$f":"IF(CD$5>=$F31,IF(CD$5<=#REF!,$K31,0),0)","v":{"$error":"#REF!"}},{"$f":"IF(CE$5>=$F31,IF(CE$5<=#REF!,$K31,0),0)","v":{"$error":"#REF!"}},{"$f":"IF(CF$5>=$F31,IF(CF$5<=#REF!,$K31,0),0)","v":{"$error":"#REF!"}},{"$f":"IF(CG$5>=$F31,IF(CG$5<=#REF!,$K31,0),0)","v":{"$error":"#REF!"}},{"$f":"IF(CH$5>=$F31,IF(CH$5<=#REF!,$K31,0),0)","v":{"$error":"#REF!"}},{"$f":"IF(CI$5>=$F31,IF(CI$5<=#REF!,$K31,0),0)","v":{"$error":"#REF!"}},{"$f":"IF(CJ$5>=$F31,IF(CJ$5<=#REF!,$K31,0),0)","v":{"$error":"#REF!"}},{"$f":"IF(CK$5>=$F31,IF(CK$5<=#REF!,$K31,0),0)","v":{"$error":"#REF!"}},{"$f":"IF(CL$5>=$F31,IF(CL$5<=#REF!,$K31,0),0)","v":{"$error":"#REF!"}},{"$f":"IF(CM$5>=$F31,IF(CM$5<=#REF!,$K31,0),0)","v":{"$error":"#REF!"}},{"$f":"IF(CN$5>=$F31,IF(CN$5<=#REF!,$K31,0),0)","v":{"$error":"#REF!"}},{"$f":"IF(CO$5>=$F31,IF(CO$5<=#REF!,$K31,0),0)","v":{"$error":"#REF!"}},{"$f":"IF(CP$5>=$F31,IF(CP$5<=#REF!,$K31,0),0)","v":{"$error":"#REF!"}},{"$f":"IF(CQ$5>=$F31,IF(CQ$5<=#REF!,$K31,0),0)","v":{"$error":"#REF!"}},{"$f":"IF(CR$5>=$F31,IF(CR$5<=#REF!,$K31,0),0)","v":{"$error":"#REF!"}},{"$f":"IF(CS$5>=$F31,IF(CS$5<=#REF!,$K31,0),0)","v":{"$error":"#REF!"}},{"$f":"IF(CT$5>=$F31,IF(CT$5<=#REF!,$K31,0),0)","v":{"$error":"#REF!"}},{"$f":"IF(CU$5>=$F31,IF(CU$5<=#REF!,$K31,0),0)","v":{"$error":"#REF!"}},{"$f":"IF(CV$5>=$F31,IF(CV$5<=#REF!,$K31,0),0)","v":{"$error":"#REF!"}},{"$f":"IF(CW$5>=$F31,IF(CW$5<=#REF!,$K31,0),0)","v":{"$error":"#REF!"}},{"$f":"IF(CX$5>=$F31,IF(CX$5<=#REF!,$K31,0),0)","v":{"$error":"#REF!"}},{"$f":"IF(CY$5>=$F31,IF(CY$5<=#REF!,$K31,0),0)","v":{"$error":"#REF!"}},{"$f":"IF(CZ$5>=$F31,IF(CZ$5<=#REF!,$K31,0),0)","v":{"$error":"#REF!"}},{"$f":"IF(DA$5>=$F31,IF(DA$5<=#REF!,$K31,0),0)","v":{"$error":"#REF!"}},{"$f":"IF(DB$5>=$F31,IF(DB$5<=#REF!,$K31,0),0)","v":{"$error":"#REF!"}},{"$f":"IF(DC$5>=$F31,IF(DC$5<=#REF!,$K31,0),0)","v":{"$error":"#REF!"}},{"$f":"IF(DD$5>=$F31,IF(DD$5<=#REF!,$K31,0),0)","v":{"$error":"#REF!"}},{"$f":"IF(DE$5>=$F31,IF(DE$5<=#REF!,$K31,0),0)","v":{"$error":"#REF!"}},{"$f":"IF(DF$5>=$F31,IF(DF$5<=#REF!,$K31,0),0)","v":{"$error":"#REF!"}},{"$f":"IF(DG$5>=$F31,IF(DG$5<=#REF!,$K31,0),0)","v":{"$error":"#REF!"}},{"$f":"IF(DH$5>=$F31,IF(DH$5<=#REF!,$K31,0),0)","v":{"$error":"#REF!"}},{"$f":"IF(DI$5>=$F31,IF(DI$5<=#REF!,$K31,0),0)","v":{"$error":"#REF!"}},{"$f":"IF(DJ$5>=$F31,IF(DJ$5<=#REF!,$K31,0),0)","v":{"$error":"#REF!"}},{"$f":"IF(DK$5>=$F31,IF(DK$5<=#REF!,$K31,0),0)","v":{"$error":"#REF!"}},{"$f":"IF(DL$5>=$F31,IF(DL$5<=#REF!,$K31,0),0)","v":{"$error":"#REF!"}},{"$f":"IF(DM$5>=$F31,IF(DM$5<=#REF!,$K31,0),0)","v":{"$error":"#REF!"}},{"$f":"IF(DN$5>=$F31,IF(DN$5<=#REF!,$K31,0),0)","v":{"$error":"#REF!"}},{"$f":"IF(DO$5>=$F31,IF(DO$5<=#REF!,$K31,0),0)","v":{"$error":"#REF!"}},{"$f":"IF(DP$5>=$F31,IF(DP$5<=#REF!,$K31,0),0)","v":{"$error":"#REF!"}},{"$f":"IF(DQ$5>=$F31,IF(DQ$5<=#REF!,$K31,0),0)","v":{"$error":"#REF!"}},{"$f":"IF(DR$5>=$F31,IF(DR$5<=#REF!,$K31,0),0)","v":{"$error":"#REF!"}},{"$error":"#REF!"},"","",null,null,null,"石綿セメント管 (1985年)"]
[null,null,null,null,null,null,{"$f":"IF($D32=\"\",0,VLOOKUP(($DU32&$C32&$D32),単価情報!$B$66:$C$932,2,FALSE))","v":0},0,0,0,{"$f":"IF(E32=0,0,ROUND(E32/#REF!,1))","v":0},{"$f":"IF(L$5>=$F32,IF(L$5<=#REF!,$K32,0),0)","v":{"$error":"#REF!"}},{"$f":"IF(M$5>=$F32,IF(M$5<=#REF!,$K32,0),0)","v":{"$error":"#REF!"}},{"$f":"IF(N$5>=$F32,IF(N$5<=#REF!,$K32,0),0)","v":{"$error":"#REF!"}},{"$f":"IF(O$5>=$F32,IF(O$5<=#REF!,$K32,0),0)","v":{"$error":"#REF!"}},{"$f":"IF(P$5>=$F32,IF(P$5<=#REF!,$K32,0),0)","v":{"$error":"#REF!"}},{"$f":"IF(Q$5>=$F32,IF(Q$5<=#REF!,$K32,0),0)","v":{"$error":"#REF!"}},{"$f":"IF(R$5>=$F32,IF(R$5<=#REF!,$K32,0),0)","v":{"$error":"#REF!"}},{"$f":"IF(S$5>=$F32,IF(S$5<=#REF!,$K32,0),0)","v":{"$error":"#REF!"}},{"$f":"IF(T$5>=$F32,IF(T$5<=#REF!,$K32,0),0)","v":{"$error":"#REF!"}},{"$f":"IF(U$5>=$F32,IF(U$5<=#REF!,$K32,0),0)","v":{"$error":"#REF!"}},{"$f":"IF(V$5>=$F32,IF(V$5<=#REF!,$K32,0),0)","v":{"$error":"#REF!"}},{"$f":"IF(W$5>=$F32,IF(W$5<=#REF!,$K32,0),0)","v":{"$error":"#REF!"}},{"$f":"IF(X$5>=$F32,IF(X$5<=#REF!,$K32,0),0)","v":{"$error":"#REF!"}},{"$f":"IF(Y$5>=$F32,IF(Y$5<=#REF!,$K32,0),0)","v":{"$error":"#REF!"}},{"$f":"IF(Z$5>=$F32,IF(Z$5<=#REF!,$K32,0),0)","v":{"$error":"#REF!"}},{"$f":"IF(AA$5>=$F32,IF(AA$5<=#REF!,$K32,0),0)","v":{"$error":"#REF!"}},{"$f":"IF(AB$5>=$F32,IF(AB$5<=#REF!,$K32,0),0)","v":{"$error":"#REF!"}},{"$f":"IF(AC$5>=$F32,IF(AC$5<=#REF!,$K32,0),0)","v":{"$error":"#REF!"}},{"$f":"IF(AD$5>=$F32,IF(AD$5<=#REF!,$K32,0),0)","v":{"$error":"#REF!"}},{"$f":"IF(AE$5>=$F32,IF(AE$5<=#REF!,$K32,0),0)","v":{"$error":"#REF!"}},{"$f":"IF(AF$5>=$F32,IF(AF$5<=#REF!,$K32,0),0)","v":{"$error":"#REF!"}},{"$f":"IF(AG$5>=$F32,IF(AG$5<=#REF!,$K32,0),0)","v":{"$error":"#REF!"}},{"$f":"IF(AH$5>=$F32,IF(AH$5<=#REF!,$K32,0),0)","v":{"$error":"#REF!"}},{"$f":"IF(AI$5>=$F32,IF(AI$5<=#REF!,$K32,0),0)","v":{"$error":"#REF!"}},{"$f":"IF(AJ$5>=$F32,IF(AJ$5<=#REF!,$K32,0),0)","v":{"$error":"#REF!"}},{"$f":"IF(AK$5>=$F32,IF(AK$5<=#REF!,$K32,0),0)","v":{"$error":"#REF!"}},{"$f":"IF(AL$5>=$F32,IF(AL$5<=#REF!,$K32,0),0)","v":{"$error":"#REF!"}},{"$f":"IF(AM$5>=$F32,IF(AM$5<=#REF!,$K32,0),0)","v":{"$error":"#REF!"}},{"$f":"IF(AN$5>=$F32,IF(AN$5<=#REF!,$K32,0),0)","v":{"$error":"#REF!"}},{"$f":"IF(AO$5>=$F32,IF(AO$5<=#REF!,$K32,0),0)","v":{"$error":"#REF!"}},{"$f":"IF(AP$5>=$F32,IF(AP$5<=#REF!,$K32,0),0)","v":{"$error":"#REF!"}},{"$f":"IF(AQ$5>=$F32,IF(AQ$5<=#REF!,$K32,0),0)","v":{"$error":"#REF!"}},{"$f":"IF(AR$5>=$F32,IF(AR$5<=#REF!,$K32,0),0)","v":{"$error":"#REF!"}},{"$f":"IF(AS$5>=$F32,IF(AS$5<=#REF!,$K32,0),0)","v":{"$error":"#REF!"}},{"$f":"IF(AT$5>=$F32,IF(AT$5<=#REF!,$K32,0),0)","v":{"$error":"#REF!"}},{"$f":"IF(AU$5>=$F32,IF(AU$5<=#REF!,$K32,0),0)","v":{"$error":"#REF!"}},{"$f":"IF(AV$5>=$F32,IF(AV$5<=#REF!,$K32,0),0)","v":{"$error":"#REF!"}},{"$f":"IF(AW$5>=$F32,IF(AW$5<=#REF!,$K32,0),0)","v":{"$error":"#REF!"}},{"$f":"IF(AX$5>=$F32,IF(AX$5<=#REF!,$K32,0),0)","v":{"$error":"#REF!"}},{"$f":"IF(AY$5>=$F32,IF(AY$5<=#REF!,$K32,0),0)","v":{"$error":"#REF!"}},{"$f":"IF(AZ$5>=$F32,IF(AZ$5<=#REF!,$K32,0),0)","v":{"$error":"#REF!"}},{"$f":"IF(BA$5>=$F32,IF(BA$5<=#REF!,$K32,0),0)","v":{"$error":"#REF!"}},{"$f":"IF(BB$5>=$F32,IF(BB$5<=#REF!,$K32,0),0)","v":{"$error":"#REF!"}},{"$f":"IF(BC$5>=$F32,IF(BC$5<=#REF!,$K32,0),0)","v":{"$error":"#REF!"}},{"$f":"IF(BD$5>=$F32,IF(BD$5<=#REF!,$K32,0),0)","v":{"$error":"#REF!"}},{"$f":"IF(BE$5>=$F32,IF(BE$5<=#REF!,$K32,0),0)","v":{"$error":"#REF!"}},{"$f":"IF(BF$5>=$F32,IF(BF$5<=#REF!,$K32,0),0)","v":{"$error":"#REF!"}},{"$f":"IF(BG$5>=$F32,IF(BG$5<=#REF!,$K32,0),0)","v":{"$error":"#REF!"}},{"$f":"IF(BH$5>=$F32,IF(BH$5<=#REF!,$K32,0),0)","v":{"$error":"#REF!"}},{"$f":"IF(BI$5>=$F32,IF(BI$5<=#REF!,$K32,0),0)","v":{"$error":"#REF!"}},{"$f":"IF(BJ$5>=$F32,IF(BJ$5<=#REF!,$K32,0),0)","v":{"$error":"#REF!"}},{"$f":"IF(BK$5>=$F32,IF(BK$5<=#REF!,$K32,0),0)","v":{"$error":"#REF!"}},{"$f":"IF(BL$5>=$F32,IF(BL$5<=#REF!,$K32,0),0)","v":{"$error":"#REF!"}},{"$f":"IF(BM$5>=$F32,IF(BM$5<=#REF!,$K32,0),0)","v":{"$error":"#REF!"}},{"$f":"IF(BN$5>=$F32,IF(BN$5<=#REF!,$K32,0),0)","v":{"$error":"#REF!"}},{"$f":"IF(BO$5>=$F32,IF(BO$5<=#REF!,$K32,0),0)","v":{"$error":"#REF!"}},{"$f":"IF(BP$5>=$F32,IF(BP$5<=#REF!,$K32,0),0)","v":{"$error":"#REF!"}},{"$f":"IF(BQ$5>=$F32,IF(BQ$5<=#REF!,$K32,0),0)","v":{"$error":"#REF!"}},{"$f":"IF(BR$5>=$F32,IF(BR$5<=#REF!,$K32,0),0)","v":{"$error":"#REF!"}},{"$f":"IF(BS$5>=$F32,IF(BS$5<=#REF!,$K32,0),0)","v":{"$error":"#REF!"}},{"$f":"IF(BT$5>=$F32,IF(BT$5<=#REF!,$K32,0),0)","v":{"$error":"#REF!"}},{"$f":"IF(BU$5>=$F32,IF(BU$5<=#REF!,$K32,0),0)","v":{"$error":"#REF!"}},{"$f":"IF(BV$5>=$F32,IF(BV$5<=#REF!,$K32,0),0)","v":{"$error":"#REF!"}},{"$f":"IF(BW$5>=$F32,IF(BW$5<=#REF!,$K32,0),0)","v":{"$error":"#REF!"}},{"$f":"IF(BX$5>=$F32,IF(BX$5<=#REF!,$K32,0),0)","v":{"$error":"#REF!"}},{"$f":"IF(BY$5>=$F32,IF(BY$5<=#REF!,$K32,0),0)","v":{"$error":"#REF!"}},{"$f":"IF(BZ$5>=$F32,IF(BZ$5<=#REF!,$K32,0),0)","v":{"$error":"#REF!"}},{"$f":"IF(CA$5>=$F32,IF(CA$5<=#REF!,$K32,0),0)","v":{"$error":"#REF!"}},{"$f":"IF(CB$5>=$F32,IF(CB$5<=#REF!,$K32,0),0)","v":{"$error":"#REF!"}},{"$f":"IF(CC$5>=$F32,IF(CC$5<=#REF!,$K32,0),0)","v":{"$error":"#REF!"}},{"$f":"IF(CD$5>=$F32,IF(CD$5<=#REF!,$K32,0),0)","v":{"$error":"#REF!"}},{"$f":"IF(CE$5>=$F32,IF(CE$5<=#REF!,$K32,0),0)","v":{"$error":"#REF!"}},{"$f":"IF(CF$5>=$F32,IF(CF$5<=#REF!,$K32,0),0)","v":{"$error":"#REF!"}},{"$f":"IF(CG$5>=$F32,IF(CG$5<=#REF!,$K32,0),0)","v":{"$error":"#REF!"}},{"$f":"IF(CH$5>=$F32,IF(CH$5<=#REF!,$K32,0),0)","v":{"$error":"#REF!"}},{"$f":"IF(CI$5>=$F32,IF(CI$5<=#REF!,$K32,0),0)","v":{"$error":"#REF!"}},{"$f":"IF(CJ$5>=$F32,IF(CJ$5<=#REF!,$K32,0),0)","v":{"$error":"#REF!"}},{"$f":"IF(CK$5>=$F32,IF(CK$5<=#REF!,$K32,0),0)","v":{"$error":"#REF!"}},{"$f":"IF(CL$5>=$F32,IF(CL$5<=#REF!,$K32,0),0)","v":{"$error":"#REF!"}},{"$f":"IF(CM$5>=$F32,IF(CM$5<=#REF!,$K32,0),0)","v":{"$error":"#REF!"}},{"$f":"IF(CN$5>=$F32,IF(CN$5<=#REF!,$K32,0),0)","v":{"$error":"#REF!"}},{"$f":"IF(CO$5>=$F32,IF(CO$5<=#REF!,$K32,0),0)","v":{"$error":"#REF!"}},{"$f":"IF(CP$5>=$F32,IF(CP$5<=#REF!,$K32,0),0)","v":{"$error":"#REF!"}},{"$f":"IF(CQ$5>=$F32,IF(CQ$5<=#REF!,$K32,0),0)","v":{"$error":"#REF!"}},{"$f":"IF(CR$5>=$F32,IF(CR$5<=#REF!,$K32,0),0)","v":{"$error":"#REF!"}},{"$f":"IF(CS$5>=$F32,IF(CS$5<=#REF!,$K32,0),0)","v":{"$error":"#REF!"}},{"$f":"IF(CT$5>=$F32,IF(CT$5<=#REF!,$K32,0),0)","v":{"$error":"#REF!"}},{"$f":"IF(CU$5>=$F32,IF(CU$5<=#REF!,$K32,0),0)","v":{"$error":"#REF!"}},{"$f":"IF(CV$5>=$F32,IF(CV$5<=#REF!,$K32,0),0)","v":{"$error":"#REF!"}},{"$f":"IF(CW$5>=$F32,IF(CW$5<=#REF!,$K32,0),0)","v":{"$error":"#REF!"}},{"$f":"IF(CX$5>=$F32,IF(CX$5<=#REF!,$K32,0),0)","v":{"$error":"#REF!"}},{"$f":"IF(CY$5>=$F32,IF(CY$5<=#REF!,$K32,0),0)","v":{"$error":"#REF!"}},{"$f":"IF(CZ$5>=$F32,IF(CZ$5<=#REF!,$K32,0),0)","v":{"$error":"#REF!"}},{"$f":"IF(DA$5>=$F32,IF(DA$5<=#REF!,$K32,0),0)","v":{"$error":"#REF!"}},{"$f":"IF(DB$5>=$F32,IF(DB$5<=#REF!,$K32,0),0)","v":{"$error":"#REF!"}},{"$f":"IF(DC$5>=$F32,IF(DC$5<=#REF!,$K32,0),0)","v":{"$error":"#REF!"}},{"$f":"IF(DD$5>=$F32,IF(DD$5<=#REF!,$K32,0),0)","v":{"$error":"#REF!"}},{"$f":"IF(DE$5>=$F32,IF(DE$5<=#REF!,$K32,0),0)","v":{"$error":"#REF!"}},{"$f":"IF(DF$5>=$F32,IF(DF$5<=#REF!,$K32,0),0)","v":{"$error":"#REF!"}},{"$f":"IF(DG$5>=$F32,IF(DG$5<=#REF!,$K32,0),0)","v":{"$error":"#REF!"}},{"$f":"IF(DH$5>=$F32,IF(DH$5<=#REF!,$K32,0),0)","v":{"$error":"#REF!"}},{"$f":"IF(DI$5>=$F32,IF(DI$5<=#REF!,$K32,0),0)","v":{"$error":"#REF!"}},{"$f":"IF(DJ$5>=$F32,IF(DJ$5<=#REF!,$K32,0),0)","v":{"$error":"#REF!"}},{"$f":"IF(DK$5>=$F32,IF(DK$5<=#REF!,$K32,0),0)","v":{"$error":"#REF!"}},{"$f":"IF(DL$5>=$F32,IF(DL$5<=#REF!,$K32,0),0)","v":{"$error":"#REF!"}},{"$f":"IF(DM$5>=$F32,IF(DM$5<=#REF!,$K32,0),0)","v":{"$error":"#REF!"}},{"$f":"IF(DN$5>=$F32,IF(DN$5<=#REF!,$K32,0),0)","v":{"$error":"#REF!"}},{"$f":"IF(DO$5>=$F32,IF(DO$5<=#REF!,$K32,0),0)","v":{"$error":"#REF!"}},{"$f":"IF(DP$5>=$F32,IF(DP$5<=#REF!,$K32,0),0)","v":{"$error":"#REF!"}},{"$f":"IF(DQ$5>=$F32,IF(DQ$5<=#REF!,$K32,0),0)","v":{"$error":"#REF!"}},{"$f":"IF(DR$5>=$F32,IF(DR$5<=#REF!,$K32,0),0)","v":{"$error":"#REF!"}},{"$error":"#REF!"},"","",null,null,null,"コンクリート管 (1948年)"]
[null,null,null,null,null,null,{"$f":"IF($D33=\"\",0,VLOOKUP(($DU33&$C33&$D33),単価情報!$B$66:$C$932,2,FALSE))","v":0},0,0,0,{"$f":"IF(E33=0,0,ROUND(E33/#REF!,1))","v":0},{"$f":"IF(L$5>=$F33,IF(L$5<=#REF!,$K33,0),0)","v":{"$error":"#REF!"}},{"$f":"IF(M$5>=$F33,IF(M$5<=#REF!,$K33,0),0)","v":{"$error":"#REF!"}},{"$f":"IF(N$5>=$F33,IF(N$5<=#REF!,$K33,0),0)","v":{"$error":"#REF!"}},{"$f":"IF(O$5>=$F33,IF(O$5<=#REF!,$K33,0),0)","v":{"$error":"#REF!"}},{"$f":"IF(P$5>=$F33,IF(P$5<=#REF!,$K33,0),0)","v":{"$error":"#REF!"}},{"$f":"IF(Q$5>=$F33,IF(Q$5<=#REF!,$K33,0),0)","v":{"$error":"#REF!"}},{"$f":"IF(R$5>=$F33,IF(R$5<=#REF!,$K33,0),0)","v":{"$error":"#REF!"}},{"$f":"IF(S$5>=$F33,IF(S$5<=#REF!,$K33,0),0)","v":{"$error":"#REF!"}},{"$f":"IF(T$5>=$F33,IF(T$5<=#REF!,$K33,0),0)","v":{"$error":"#REF!"}},{"$f":"IF(U$5>=$F33,IF(U$5<=#REF!,$K33,0),0)","v":{"$error":"#REF!"}},{"$f":"IF(V$5>=$F33,IF(V$5<=#REF!,$K33,0),0)","v":{"$error":"#REF!"}},{"$f":"IF(W$5>=$F33,IF(W$5<=#REF!,$K33,0),0)","v":{"$error":"#REF!"}},{"$f":"IF(X$5>=$F33,IF(X$5<=#REF!,$K33,0),0)","v":{"$error":"#REF!"}},{"$f":"IF(Y$5>=$F33,IF(Y$5<=#REF!,$K33,0),0)","v":{"$error":"#REF!"}},{"$f":"IF(Z$5>=$F33,IF(Z$5<=#REF!,$K33,0),0)","v":{"$error":"#REF!"}},{"$f":"IF(AA$5>=$F33,IF(AA$5<=#REF!,$K33,0),0)","v":{"$error":"#REF!"}},{"$f":"IF(AB$5>=$F33,IF(AB$5<=#REF!,$K33,0),0)","v":{"$error":"#REF!"}},{"$f":"IF(AC$5>=$F33,IF(AC$5<=#REF!,$K33,0),0)","v":{"$error":"#REF!"}},{"$f":"IF(AD$5>=$F33,IF(AD$5<=#REF!,$K33,0),0)","v":{"$error":"#REF!"}},{"$f":"IF(AE$5>=$F33,IF(AE$5<=#REF!,$K33,0),0)","v":{"$error":"#REF!"}},{"$f":"IF(AF$5>=$F33,IF(AF$5<=#REF!,$K33,0),0)","v":{"$error":"#REF!"}},{"$f":"IF(AG$5>=$F33,IF(AG$5<=#REF!,$K33,0),0)","v":{"$error":"#REF!"}},{"$f":"IF(AH$5>=$F33,IF(AH$5<=#REF!,$K33,0),0)","v":{"$error":"#REF!"}},{"$f":"IF(AI$5>=$F33,IF(AI$5<=#REF!,$K33,0),0)","v":{"$error":"#REF!"}},{"$f":"IF(AJ$5>=$F33,IF(AJ$5<=#REF!,$K33,0),0)","v":{"$error":"#REF!"}},{"$f":"IF(AK$5>=$F33,IF(AK$5<=#REF!,$K33,0),0)","v":{"$error":"#REF!"}},{"$f":"IF(AL$5>=$F33,IF(AL$5<=#REF!,$K33,0),0)","v":{"$error":"#REF!"}},{"$f":"IF(AM$5>=$F33,IF(AM$5<=#REF!,$K33,0),0)","v":{"$error":"#REF!"}},{"$f":"IF(AN$5>=$F33,IF(AN$5<=#REF!,$K33,0),0)","v":{"$error":"#REF!"}},{"$f":"IF(AO$5>=$F33,IF(AO$5<=#REF!,$K33,0),0)","v":{"$error":"#REF!"}},{"$f":"IF(AP$5>=$F33,IF(AP$5<=#REF!,$K33,0),0)","v":{"$error":"#REF!"}},{"$f":"IF(AQ$5>=$F33,IF(AQ$5<=#REF!,$K33,0),0)","v":{"$error":"#REF!"}},{"$f":"IF(AR$5>=$F33,IF(AR$5<=#REF!,$K33,0),0)","v":{"$error":"#REF!"}},{"$f":"IF(AS$5>=$F33,IF(AS$5<=#REF!,$K33,0),0)","v":{"$error":"#REF!"}},{"$f":"IF(AT$5>=$F33,IF(AT$5<=#REF!,$K33,0),0)","v":{"$error":"#REF!"}},{"$f":"IF(AU$5>=$F33,IF(AU$5<=#REF!,$K33,0),0)","v":{"$error":"#REF!"}},{"$f":"IF(AV$5>=$F33,IF(AV$5<=#REF!,$K33,0),0)","v":{"$error":"#REF!"}},{"$f":"IF(AW$5>=$F33,IF(AW$5<=#REF!,$K33,0),0)","v":{"$error":"#REF!"}},{"$f":"IF(AX$5>=$F33,IF(AX$5<=#REF!,$K33,0),0)","v":{"$error":"#REF!"}},{"$f":"IF(AY$5>=$F33,IF(AY$5<=#REF!,$K33,0),0)","v":{"$error":"#REF!"}},{"$f":"IF(AZ$5>=$F33,IF(AZ$5<=#REF!,$K33,0),0)","v":{"$error":"#REF!"}},{"$f":"IF(BA$5>=$F33,IF(BA$5<=#REF!,$K33,0),0)","v":{"$error":"#REF!"}},{"$f":"IF(BB$5>=$F33,IF(BB$5<=#REF!,$K33,0),0)","v":{"$error":"#REF!"}},{"$f":"IF(BC$5>=$F33,IF(BC$5<=#REF!,$K33,0),0)","v":{"$error":"#REF!"}},{"$f":"IF(BD$5>=$F33,IF(BD$5<=#REF!,$K33,0),0)","v":{"$error":"#REF!"}},{"$f":"IF(BE$5>=$F33,IF(BE$5<=#REF!,$K33,0),0)","v":{"$error":"#REF!"}},{"$f":"IF(BF$5>=$F33,IF(BF$5<=#REF!,$K33,0),0)","v":{"$error":"#REF!"}},{"$f":"IF(BG$5>=$F33,IF(BG$5<=#REF!,$K33,0),0)","v":{"$error":"#REF!"}},{"$f":"IF(BH$5>=$F33,IF(BH$5<=#REF!,$K33,0),0)","v":{"$error":"#REF!"}},{"$f":"IF(BI$5>=$F33,IF(BI$5<=#REF!,$K33,0),0)","v":{"$error":"#REF!"}},{"$f":"IF(BJ$5>=$F33,IF(BJ$5<=#REF!,$K33,0),0)","v":{"$error":"#REF!"}},{"$f":"IF(BK$5>=$F33,IF(BK$5<=#REF!,$K33,0),0)","v":{"$error":"#REF!"}},{"$f":"IF(BL$5>=$F33,IF(BL$5<=#REF!,$K33,0),0)","v":{"$error":"#REF!"}},{"$f":"IF(BM$5>=$F33,IF(BM$5<=#REF!,$K33,0),0)","v":{"$error":"#REF!"}},{"$f":"IF(BN$5>=$F33,IF(BN$5<=#REF!,$K33,0),0)","v":{"$error":"#REF!"}},{"$f":"IF(BO$5>=$F33,IF(BO$5<=#REF!,$K33,0),0)","v":{"$error":"#REF!"}},{"$f":"IF(BP$5>=$F33,IF(BP$5<=#REF!,$K33,0),0)","v":{"$error":"#REF!"}},{"$f":"IF(BQ$5>=$F33,IF(BQ$5<=#REF!,$K33,0),0)","v":{"$error":"#REF!"}},{"$f":"IF(BR$5>=$F33,IF(BR$5<=#REF!,$K33,0),0)","v":{"$error":"#REF!"}},{"$f":"IF(BS$5>=$F33,IF(BS$5<=#REF!,$K33,0),0)","v":{"$error":"#REF!"}},{"$f":"IF(BT$5>=$F33,IF(BT$5<=#REF!,$K33,0),0)","v":{"$error":"#REF!"}},{"$f":"IF(BU$5>=$F33,IF(BU$5<=#REF!,$K33,0),0)","v":{"$error":"#REF!"}},{"$f":"IF(BV$5>=$F33,IF(BV$5<=#REF!,$K33,0),0)","v":{"$error":"#REF!"}},{"$f":"IF(BW$5>=$F33,IF(BW$5<=#REF!,$K33,0),0)","v":{"$error":"#REF!"}},{"$f":"IF(BX$5>=$F33,IF(BX$5<=#REF!,$K33,0),0)","v":{"$error":"#REF!"}},{"$f":"IF(BY$5>=$F33,IF(BY$5<=#REF!,$K33,0),0)","v":{"$error":"#REF!"}},{"$f":"IF(BZ$5>=$F33,IF(BZ$5<=#REF!,$K33,0),0)","v":{"$error":"#REF!"}},{"$f":"IF(CA$5>=$F33,IF(CA$5<=#REF!,$K33,0),0)","v":{"$error":"#REF!"}},{"$f":"IF(CB$5>=$F33,IF(CB$5<=#REF!,$K33,0),0)","v":{"$error":"#REF!"}},{"$f":"IF(CC$5>=$F33,IF(CC$5<=#REF!,$K33,0),0)","v":{"$error":"#REF!"}},{"$f":"IF(CD$5>=$F33,IF(CD$5<=#REF!,$K33,0),0)","v":{"$error":"#REF!"}},{"$f":"IF(CE$5>=$F33,IF(CE$5<=#REF!,$K33,0),0)","v":{"$error":"#REF!"}},{"$f":"IF(CF$5>=$F33,IF(CF$5<=#REF!,$K33,0),0)","v":{"$error":"#REF!"}},{"$f":"IF(CG$5>=$F33,IF(CG$5<=#REF!,$K33,0),0)","v":{"$error":"#REF!"}},{"$f":"IF(CH$5>=$F33,IF(CH$5<=#REF!,$K33,0),0)","v":{"$error":"#REF!"}},{"$f":"IF(CI$5>=$F33,IF(CI$5<=#REF!,$K33,0),0)","v":{"$error":"#REF!"}},{"$f":"IF(CJ$5>=$F33,IF(CJ$5<=#REF!,$K33,0),0)","v":{"$error":"#REF!"}},{"$f":"IF(CK$5>=$F33,IF(CK$5<=#REF!,$K33,0),0)","v":{"$error":"#REF!"}},{"$f":"IF(CL$5>=$F33,IF(CL$5<=#REF!,$K33,0),0)","v":{"$error":"#REF!"}},{"$f":"IF(CM$5>=$F33,IF(CM$5<=#REF!,$K33,0),0)","v":{"$error":"#REF!"}},{"$f":"IF(CN$5>=$F33,IF(CN$5<=#REF!,$K33,0),0)","v":{"$error":"#REF!"}},{"$f":"IF(CO$5>=$F33,IF(CO$5<=#REF!,$K33,0),0)","v":{"$error":"#REF!"}},{"$f":"IF(CP$5>=$F33,IF(CP$5<=#REF!,$K33,0),0)","v":{"$error":"#REF!"}},{"$f":"IF(CQ$5>=$F33,IF(CQ$5<=#REF!,$K33,0),0)","v":{"$error":"#REF!"}},{"$f":"IF(CR$5>=$F33,IF(CR$5<=#REF!,$K33,0),0)","v":{"$error":"#REF!"}},{"$f":"IF(CS$5>=$F33,IF(CS$5<=#REF!,$K33,0),0)","v":{"$error":"#REF!"}},{"$f":"IF(CT$5>=$F33,IF(CT$5<=#REF!,$K33,0),0)","v":{"$error":"#REF!"}},{"$f":"IF(CU$5>=$F33,IF(CU$5<=#REF!,$K33,0),0)","v":{"$error":"#REF!"}},{"$f":"IF(CV$5>=$F33,IF(CV$5<=#REF!,$K33,0),0)","v":{"$error":"#REF!"}},{"$f":"IF(CW$5>=$F33,IF(CW$5<=#REF!,$K33,0),0)","v":{"$error":"#REF!"}},{"$f":"IF(CX$5>=$F33,IF(CX$5<=#REF!,$K33,0),0)","v":{"$error":"#REF!"}},{"$f":"IF(CY$5>=$F33,IF(CY$5<=#REF!,$K33,0),0)","v":{"$error":"#REF!"}},{"$f":"IF(CZ$5>=$F33,IF(CZ$5<=#REF!,$K33,0),0)","v":{"$error":"#REF!"}},{"$f":"IF(DA$5>=$F33,IF(DA$5<=#REF!,$K33,0),0)","v":{"$error":"#REF!"}},{"$f":"IF(DB$5>=$F33,IF(DB$5<=#REF!,$K33,0),0)","v":{"$error":"#REF!"}},{"$f":"IF(DC$5>=$F33,IF(DC$5<=#REF!,$K33,0),0)","v":{"$error":"#REF!"}},{"$f":"IF(DD$5>=$F33,IF(DD$5<=#REF!,$K33,0),0)","v":{"$error":"#REF!"}},{"$f":"IF(DE$5>=$F33,IF(DE$5<=#REF!,$K33,0),0)","v":{"$error":"#REF!"}},{"$f":"IF(DF$5>=$F33,IF(DF$5<=#REF!,$K33,0),0)","v":{"$error":"#REF!"}},{"$f":"IF(DG$5>=$F33,IF(DG$5<=#REF!,$K33,0),0)","v":{"$error":"#REF!"}},{"$f":"IF(DH$5>=$F33,IF(DH$5<=#REF!,$K33,0),0)","v":{"$error":"#REF!"}},{"$f":"IF(DI$5>=$F33,IF(DI$5<=#REF!,$K33,0),0)","v":{"$error":"#REF!"}},{"$f":"IF(DJ$5>=$F33,IF(DJ$5<=#REF!,$K33,0),0)","v":{"$error":"#REF!"}},{"$f":"IF(DK$5>=$F33,IF(DK$5<=#REF!,$K33,0),0)","v":{"$error":"#REF!"}},{"$f":"IF(DL$5>=$F33,IF(DL$5<=#REF!,$K33,0),0)","v":{"$error":"#REF!"}},{"$f":"IF(DM$5>=$F33,IF(DM$5<=#REF!,$K33,0),0)","v":{"$error":"#REF!"}},{"$f":"IF(DN$5>=$F33,IF(DN$5<=#REF!,$K33,0),0)","v":{"$error":"#REF!"}},{"$f":"IF(DO$5>=$F33,IF(DO$5<=#REF!,$K33,0),0)","v":{"$error":"#REF!"}},{"$f":"IF(DP$5>=$F33,IF(DP$5<=#REF!,$K33,0),0)","v":{"$error":"#REF!"}},{"$f":"IF(DQ$5>=$F33,IF(DQ$5<=#REF!,$K33,0),0)","v":{"$error":"#REF!"}},{"$f":"IF(DR$5>=$F33,IF(DR$5<=#REF!,$K33,0),0)","v":{"$error":"#REF!"}},{"$error":"#REF!"},"","",null,null,null,"鉛管 (1988年)"]
[null,null,null,null,null,null,{"$f":"IF($D34=\"\",0,VLOOKUP(($DU34&$C34&$D34),単価情報!$B$66:$C$932,2,FALSE))","v":0},0,0,0,{"$f":"IF(E34=0,0,ROUND(E34/#REF!,1))","v":0},{"$f":"IF(L$5>=$F34,IF(L$5<=#REF!,$K34,0),0)","v":{"$error":"#REF!"}},{"$f":"IF(M$5>=$F34,IF(M$5<=#REF!,$K34,0),0)","v":{"$error":"#REF!"}},{"$f":"IF(N$5>=$F34,IF(N$5<=#REF!,$K34,0),0)","v":{"$error":"#REF!"}},{"$f":"IF(O$5>=$F34,IF(O$5<=#REF!,$K34,0),0)","v":{"$error":"#REF!"}},{"$f":"IF(P$5>=$F34,IF(P$5<=#REF!,$K34,0),0)","v":{"$error":"#REF!"}},{"$f":"IF(Q$5>=$F34,IF(Q$5<=#REF!,$K34,0),0)","v":{"$error":"#REF!"}},{"$f":"IF(R$5>=$F34,IF(R$5<=#REF!,$K34,0),0)","v":{"$error":"#REF!"}},{"$f":"IF(S$5>=$F34,IF(S$5<=#REF!,$K34,0),0)","v":{"$error":"#REF!"}},{"$f":"IF(T$5>=$F34,IF(T$5<=#REF!,$K34,0),0)","v":{"$error":"#REF!"}},{"$f":"IF(U$5>=$F34,IF(U$5<=#REF!,$K34,0),0)","v":{"$error":"#REF!"}},{"$f":"IF(V$5>=$F34,IF(V$5<=#REF!,$K34,0),0)","v":{"$error":"#REF!"}},{"$f":"IF(W$5>=$F34,IF(W$5<=#REF!,$K34,0),0)","v":{"$error":"#REF!"}},{"$f":"IF(X$5>=$F34,IF(X$5<=#REF!,$K34,0),0)","v":{"$error":"#REF!"}},{"$f":"IF(Y$5>=$F34,IF(Y$5<=#REF!,$K34,0),0)","v":{"$error":"#REF!"}},{"$f":"IF(Z$5>=$F34,IF(Z$5<=#REF!,$K34,0),0)","v":{"$error":"#REF!"}},{"$f":"IF(AA$5>=$F34,IF(AA$5<=#REF!,$K34,0),0)","v":{"$error":"#REF!"}},{"$f":"IF(AB$5>=$F34,IF(AB$5<=#REF!,$K34,0),0)","v":{"$error":"#REF!"}},{"$f":"IF(AC$5>=$F34,IF(AC$5<=#REF!,$K34,0),0)","v":{"$error":"#REF!"}},{"$f":"IF(AD$5>=$F34,IF(AD$5<=#REF!,$K34,0),0)","v":{"$error":"#REF!"}},{"$f":"IF(AE$5>=$F34,IF(AE$5<=#REF!,$K34,0),0)","v":{"$error":"#REF!"}},{"$f":"IF(AF$5>=$F34,IF(AF$5<=#REF!,$K34,0),0)","v":{"$error":"#REF!"}},{"$f":"IF(AG$5>=$F34,IF(AG$5<=#REF!,$K34,0),0)","v":{"$error":"#REF!"}},{"$f":"IF(AH$5>=$F34,IF(AH$5<=#REF!,$K34,0),0)","v":{"$error":"#REF!"}},{"$f":"IF(AI$5>=$F34,IF(AI$5<=#REF!,$K34,0),0)","v":{"$error":"#REF!"}},{"$f":"IF(AJ$5>=$F34,IF(AJ$5<=#REF!,$K34,0),0)","v":{"$error":"#REF!"}},{"$f":"IF(AK$5>=$F34,IF(AK$5<=#REF!,$K34,0),0)","v":{"$error":"#REF!"}},{"$f":"IF(AL$5>=$F34,IF(AL$5<=#REF!,$K34,0),0)","v":{"$error":"#REF!"}},{"$f":"IF(AM$5>=$F34,IF(AM$5<=#REF!,$K34,0),0)","v":{"$error":"#REF!"}},{"$f":"IF(AN$5>=$F34,IF(AN$5<=#REF!,$K34,0),0)","v":{"$error":"#REF!"}},{"$f":"IF(AO$5>=$F34,IF(AO$5<=#REF!,$K34,0),0)","v":{"$error":"#REF!"}},{"$f":"IF(AP$5>=$F34,IF(AP$5<=#REF!,$K34,0),0)","v":{"$error":"#REF!"}},{"$f":"IF(AQ$5>=$F34,IF(AQ$5<=#REF!,$K34,0),0)","v":{"$error":"#REF!"}},{"$f":"IF(AR$5>=$F34,IF(AR$5<=#REF!,$K34,0),0)","v":{"$error":"#REF!"}},{"$f":"IF(AS$5>=$F34,IF(AS$5<=#REF!,$K34,0),0)","v":{"$error":"#REF!"}},{"$f":"IF(AT$5>=$F34,IF(AT$5<=#REF!,$K34,0),0)","v":{"$error":"#REF!"}},{"$f":"IF(AU$5>=$F34,IF(AU$5<=#REF!,$K34,0),0)","v":{"$error":"#REF!"}},{"$f":"IF(AV$5>=$F34,IF(AV$5<=#REF!,$K34,0),0)","v":{"$error":"#REF!"}},{"$f":"IF(AW$5>=$F34,IF(AW$5<=#REF!,$K34,0),0)","v":{"$error":"#REF!"}},{"$f":"IF(AX$5>=$F34,IF(AX$5<=#REF!,$K34,0),0)","v":{"$error":"#REF!"}},{"$f":"IF(AY$5>=$F34,IF(AY$5<=#REF!,$K34,0),0)","v":{"$error":"#REF!"}},{"$f":"IF(AZ$5>=$F34,IF(AZ$5<=#REF!,$K34,0),0)","v":{"$error":"#REF!"}},{"$f":"IF(BA$5>=$F34,IF(BA$5<=#REF!,$K34,0),0)","v":{"$error":"#REF!"}},{"$f":"IF(BB$5>=$F34,IF(BB$5<=#REF!,$K34,0),0)","v":{"$error":"#REF!"}},{"$f":"IF(BC$5>=$F34,IF(BC$5<=#REF!,$K34,0),0)","v":{"$error":"#REF!"}},{"$f":"IF(BD$5>=$F34,IF(BD$5<=#REF!,$K34,0),0)","v":{"$error":"#REF!"}},{"$f":"IF(BE$5>=$F34,IF(BE$5<=#REF!,$K34,0),0)","v":{"$error":"#REF!"}},{"$f":"IF(BF$5>=$F34,IF(BF$5<=#REF!,$K34,0),0)","v":{"$error":"#REF!"}},{"$f":"IF(BG$5>=$F34,IF(BG$5<=#REF!,$K34,0),0)","v":{"$error":"#REF!"}},{"$f":"IF(BH$5>=$F34,IF(BH$5<=#REF!,$K34,0),0)","v":{"$error":"#REF!"}},{"$f":"IF(BI$5>=$F34,IF(BI$5<=#REF!,$K34,0),0)","v":{"$error":"#REF!"}},{"$f":"IF(BJ$5>=$F34,IF(BJ$5<=#REF!,$K34,0),0)","v":{"$error":"#REF!"}},{"$f":"IF(BK$5>=$F34,IF(BK$5<=#REF!,$K34,0),0)","v":{"$error":"#REF!"}},{"$f":"IF(BL$5>=$F34,IF(BL$5<=#REF!,$K34,0),0)","v":{"$error":"#REF!"}},{"$f":"IF(BM$5>=$F34,IF(BM$5<=#REF!,$K34,0),0)","v":{"$error":"#REF!"}},{"$f":"IF(BN$5>=$F34,IF(BN$5<=#REF!,$K34,0),0)","v":{"$error":"#REF!"}},{"$f":"IF(BO$5>=$F34,IF(BO$5<=#REF!,$K34,0),0)","v":{"$error":"#REF!"}},{"$f":"IF(BP$5>=$F34,IF(BP$5<=#REF!,$K34,0),0)","v":{"$error":"#REF!"}},{"$f":"IF(BQ$5>=$F34,IF(BQ$5<=#REF!,$K34,0),0)","v":{"$error":"#REF!"}},{"$f":"IF(BR$5>=$F34,IF(BR$5<=#REF!,$K34,0),0)","v":{"$error":"#REF!"}},{"$f":"IF(BS$5>=$F34,IF(BS$5<=#REF!,$K34,0),0)","v":{"$error":"#REF!"}},{"$f":"IF(BT$5>=$F34,IF(BT$5<=#REF!,$K34,0),0)","v":{"$error":"#REF!"}},{"$f":"IF(BU$5>=$F34,IF(BU$5<=#REF!,$K34,0),0)","v":{"$error":"#REF!"}},{"$f":"IF(BV$5>=$F34,IF(BV$5<=#REF!,$K34,0),0)","v":{"$error":"#REF!"}},{"$f":"IF(BW$5>=$F34,IF(BW$5<=#REF!,$K34,0),0)","v":{"$error":"#REF!"}},{"$f":"IF(BX$5>=$F34,IF(BX$5<=#REF!,$K34,0),0)","v":{"$error":"#REF!"}},{"$f":"IF(BY$5>=$F34,IF(BY$5<=#REF!,$K34,0),0)","v":{"$error":"#REF!"}},{"$f":"IF(BZ$5>=$F34,IF(BZ$5<=#REF!,$K34,0),0)","v":{"$error":"#REF!"}},{"$f":"IF(CA$5>=$F34,IF(CA$5<=#REF!,$K34,0),0)","v":{"$error":"#REF!"}},{"$f":"IF(CB$5>=$F34,IF(CB$5<=#REF!,$K34,0),0)","v":{"$error":"#REF!"}},{"$f":"IF(CC$5>=$F34,IF(CC$5<=#REF!,$K34,0),0)","v":{"$error":"#REF!"}},{"$f":"IF(CD$5>=$F34,IF(CD$5<=#REF!,$K34,0),0)","v":{"$error":"#REF!"}},{"$f":"IF(CE$5>=$F34,IF(CE$5<=#REF!,$K34,0),0)","v":{"$error":"#REF!"}},{"$f":"IF(CF$5>=$F34,IF(CF$5<=#REF!,$K34,0),0)","v":{"$error":"#REF!"}},{"$f":"IF(CG$5>=$F34,IF(CG$5<=#REF!,$K34,0),0)","v":{"$error":"#REF!"}},{"$f":"IF(CH$5>=$F34,IF(CH$5<=#REF!,$K34,0),0)","v":{"$error":"#REF!"}},{"$f":"IF(CI$5>=$F34,IF(CI$5<=#REF!,$K34,0),0)","v":{"$error":"#REF!"}},{"$f":"IF(CJ$5>=$F34,IF(CJ$5<=#REF!,$K34,0),0)","v":{"$error":"#REF!"}},{"$f":"IF(CK$5>=$F34,IF(CK$5<=#REF!,$K34,0),0)","v":{"$error":"#REF!"}},{"$f":"IF(CL$5>=$F34,IF(CL$5<=#REF!,$K34,0),0)","v":{"$error":"#REF!"}},{"$f":"IF(CM$5>=$F34,IF(CM$5<=#REF!,$K34,0),0)","v":{"$error":"#REF!"}},{"$f":"IF(CN$5>=$F34,IF(CN$5<=#REF!,$K34,0),0)","v":{"$error":"#REF!"}},{"$f":"IF(CO$5>=$F34,IF(CO$5<=#REF!,$K34,0),0)","v":{"$error":"#REF!"}},{"$f":"IF(CP$5>=$F34,IF(CP$5<=#REF!,$K34,0),0)","v":{"$error":"#REF!"}},{"$f":"IF(CQ$5>=$F34,IF(CQ$5<=#REF!,$K34,0),0)","v":{"$error":"#REF!"}},{"$f":"IF(CR$5>=$F34,IF(CR$5<=#REF!,$K34,0),0)","v":{"$error":"#REF!"}},{"$f":"IF(CS$5>=$F34,IF(CS$5<=#REF!,$K34,0),0)","v":{"$error":"#REF!"}},{"$f":"IF(CT$5>=$F34,IF(CT$5<=#REF!,$K34,0),0)","v":{"$error":"#REF!"}},{"$f":"IF(CU$5>=$F34,IF(CU$5<=#REF!,$K34,0),0)","v":{"$error":"#REF!"}},{"$f":"IF(CV$5>=$F34,IF(CV$5<=#REF!,$K34,0),0)","v":{"$error":"#REF!"}},{"$f":"IF(CW$5>=$F34,IF(CW$5<=#REF!,$K34,0),0)","v":{"$error":"#REF!"}},{"$f":"IF(CX$5>=$F34,IF(CX$5<=#REF!,$K34,0),0)","v":{"$error":"#REF!"}},{"$f":"IF(CY$5>=$F34,IF(CY$5<=#REF!,$K34,0),0)","v":{"$error":"#REF!"}},{"$f":"IF(CZ$5>=$F34,IF(CZ$5<=#REF!,$K34,0),0)","v":{"$error":"#REF!"}},{"$f":"IF(DA$5>=$F34,IF(DA$5<=#REF!,$K34,0),0)","v":{"$error":"#REF!"}},{"$f":"IF(DB$5>=$F34,IF(DB$5<=#REF!,$K34,0),0)","v":{"$error":"#REF!"}},{"$f":"IF(DC$5>=$F34,IF(DC$5<=#REF!,$K34,0),0)","v":{"$error":"#REF!"}},{"$f":"IF(DD$5>=$F34,IF(DD$5<=#REF!,$K34,0),0)","v":{"$error":"#REF!"}},{"$f":"IF(DE$5>=$F34,IF(DE$5<=#REF!,$K34,0),0)","v":{"$error":"#REF!"}},{"$f":"IF(DF$5>=$F34,IF(DF$5<=#REF!,$K34,0),0)","v":{"$error":"#REF!"}},{"$f":"IF(DG$5>=$F34,IF(DG$5<=#REF!,$K34,0),0)","v":{"$error":"#REF!"}},{"$f":"IF(DH$5>=$F34,IF(DH$5<=#REF!,$K34,0),0)","v":{"$error":"#REF!"}},{"$f":"IF(DI$5>=$F34,IF(DI$5<=#REF!,$K34,0),0)","v":{"$error":"#REF!"}},{"$f":"IF(DJ$5>=$F34,IF(DJ$5<=#REF!,$K34,0),0)","v":{"$error":"#REF!"}},{"$f":"IF(DK$5>=$F34,IF(DK$5<=#REF!,$K34,0),0)","v":{"$error":"#REF!"}},{"$f":"IF(DL$5>=$F34,IF(DL$5<=#REF!,$K34,0),0)","v":{"$error":"#REF!"}},{"$f":"IF(DM$5>=$F34,IF(DM$5<=#REF!,$K34,0),0)","v":{"$error":"#REF!"}},{"$f":"IF(DN$5>=$F34,IF(DN$5<=#REF!,$K34,0),0)","v":{"$error":"#REF!"}},{"$f":"IF(DO$5>=$F34,IF(DO$5<=#REF!,$K34,0),0)","v":{"$error":"#REF!"}},{"$f":"IF(DP$5>=$F34,IF(DP$5<=#REF!,$K34,0),0)","v":{"$error":"#REF!"}},{"$f":"IF(DQ$5>=$F34,IF(DQ$5<=#REF!,$K34,0),0)","v":{"$error":"#REF!"}},{"$f":"IF(DR$5>=$F34,IF(DR$5<=#REF!,$K34,0),0)","v":{"$error":"#REF!"}},{"$error":"#REF!"},"","",null,null,null,"ポリエチレン管　（高密度、熱融着継手を有しない） (1994年)"]
[null,null,null,null,null,null,{"$f":"IF($D35=\"\",0,VLOOKUP(($DU35&$C35&$D35),単価情報!$B$66:$C$932,2,FALSE))","v":0},0,0,0,{"$f":"IF(E35=0,0,ROUND(E35/#REF!,1))","v":0},{"$f":"IF(L$5>=$F35,IF(L$5<=#REF!,$K35,0),0)","v":{"$error":"#REF!"}},{"$f":"IF(M$5>=$F35,IF(M$5<=#REF!,$K35,0),0)","v":{"$error":"#REF!"}},{"$f":"IF(N$5>=$F35,IF(N$5<=#REF!,$K35,0),0)","v":{"$error":"#REF!"}},{"$f":"IF(O$5>=$F35,IF(O$5<=#REF!,$K35,0),0)","v":{"$error":"#REF!"}},{"$f":"IF(P$5>=$F35,IF(P$5<=#REF!,$K35,0),0)","v":{"$error":"#REF!"}},{"$f":"IF(Q$5>=$F35,IF(Q$5<=#REF!,$K35,0),0)","v":{"$error":"#REF!"}},{"$f":"IF(R$5>=$F35,IF(R$5<=#REF!,$K35,0),0)","v":{"$error":"#REF!"}},{"$f":"IF(S$5>=$F35,IF(S$5<=#REF!,$K35,0),0)","v":{"$error":"#REF!"}},{"$f":"IF(T$5>=$F35,IF(T$5<=#REF!,$K35,0),0)","v":{"$error":"#REF!"}},{"$f":"IF(U$5>=$F35,IF(U$5<=#REF!,$K35,0),0)","v":{"$error":"#REF!"}},{"$f":"IF(V$5>=$F35,IF(V$5<=#REF!,$K35,0),0)","v":{"$error":"#REF!"}},{"$f":"IF(W$5>=$F35,IF(W$5<=#REF!,$K35,0),0)","v":{"$error":"#REF!"}},{"$f":"IF(X$5>=$F35,IF(X$5<=#REF!,$K35,0),0)","v":{"$error":"#REF!"}},{"$f":"IF(Y$5>=$F35,IF(Y$5<=#REF!,$K35,0),0)","v":{"$error":"#REF!"}},{"$f":"IF(Z$5>=$F35,IF(Z$5<=#REF!,$K35,0),0)","v":{"$error":"#REF!"}},{"$f":"IF(AA$5>=$F35,IF(AA$5<=#REF!,$K35,0),0)","v":{"$error":"#REF!"}},{"$f":"IF(AB$5>=$F35,IF(AB$5<=#REF!,$K35,0),0)","v":{"$error":"#REF!"}},{"$f":"IF(AC$5>=$F35,IF(AC$5<=#REF!,$K35,0),0)","v":{"$error":"#REF!"}},{"$f":"IF(AD$5>=$F35,IF(AD$5<=#REF!,$K35,0),0)","v":{"$error":"#REF!"}},{"$f":"IF(AE$5>=$F35,IF(AE$5<=#REF!,$K35,0),0)","v":{"$error":"#REF!"}},{"$f":"IF(AF$5>=$F35,IF(AF$5<=#REF!,$K35,0),0)","v":{"$error":"#REF!"}},{"$f":"IF(AG$5>=$F35,IF(AG$5<=#REF!,$K35,0),0)","v":{"$error":"#REF!"}},{"$f":"IF(AH$5>=$F35,IF(AH$5<=#REF!,$K35,0),0)","v":{"$error":"#REF!"}},{"$f":"IF(AI$5>=$F35,IF(AI$5<=#REF!,$K35,0),0)","v":{"$error":"#REF!"}},{"$f":"IF(AJ$5>=$F35,IF(AJ$5<=#REF!,$K35,0),0)","v":{"$error":"#REF!"}},{"$f":"IF(AK$5>=$F35,IF(AK$5<=#REF!,$K35,0),0)","v":{"$error":"#REF!"}},{"$f":"IF(AL$5>=$F35,IF(AL$5<=#REF!,$K35,0),0)","v":{"$error":"#REF!"}},{"$f":"IF(AM$5>=$F35,IF(AM$5<=#REF!,$K35,0),0)","v":{"$error":"#REF!"}},{"$f":"IF(AN$5>=$F35,IF(AN$5<=#REF!,$K35,0),0)","v":{"$error":"#REF!"}},{"$f":"IF(AO$5>=$F35,IF(AO$5<=#REF!,$K35,0),0)","v":{"$error":"#REF!"}},{"$f":"IF(AP$5>=$F35,IF(AP$5<=#REF!,$K35,0),0)","v":{"$error":"#REF!"}},{"$f":"IF(AQ$5>=$F35,IF(AQ$5<=#REF!,$K35,0),0)","v":{"$error":"#REF!"}},{"$f":"IF(AR$5>=$F35,IF(AR$5<=#REF!,$K35,0),0)","v":{"$error":"#REF!"}},{"$f":"IF(AS$5>=$F35,IF(AS$5<=#REF!,$K35,0),0)","v":{"$error":"#REF!"}},{"$f":"IF(AT$5>=$F35,IF(AT$5<=#REF!,$K35,0),0)","v":{"$error":"#REF!"}},{"$f":"IF(AU$5>=$F35,IF(AU$5<=#REF!,$K35,0),0)","v":{"$error":"#REF!"}},{"$f":"IF(AV$5>=$F35,IF(AV$5<=#REF!,$K35,0),0)","v":{"$error":"#REF!"}},{"$f":"IF(AW$5>=$F35,IF(AW$5<=#REF!,$K35,0),0)","v":{"$error":"#REF!"}},{"$f":"IF(AX$5>=$F35,IF(AX$5<=#REF!,$K35,0),0)","v":{"$error":"#REF!"}},{"$f":"IF(AY$5>=$F35,IF(AY$5<=#REF!,$K35,0),0)","v":{"$error":"#REF!"}},{"$f":"IF(AZ$5>=$F35,IF(AZ$5<=#REF!,$K35,0),0)","v":{"$error":"#REF!"}},{"$f":"IF(BA$5>=$F35,IF(BA$5<=#REF!,$K35,0),0)","v":{"$error":"#REF!"}},{"$f":"IF(BB$5>=$F35,IF(BB$5<=#REF!,$K35,0),0)","v":{"$error":"#REF!"}},{"$f":"IF(BC$5>=$F35,IF(BC$5<=#REF!,$K35,0),0)","v":{"$error":"#REF!"}},{"$f":"IF(BD$5>=$F35,IF(BD$5<=#REF!,$K35,0),0)","v":{"$error":"#REF!"}},{"$f":"IF(BE$5>=$F35,IF(BE$5<=#REF!,$K35,0),0)","v":{"$error":"#REF!"}},{"$f":"IF(BF$5>=$F35,IF(BF$5<=#REF!,$K35,0),0)","v":{"$error":"#REF!"}},{"$f":"IF(BG$5>=$F35,IF(BG$5<=#REF!,$K35,0),0)","v":{"$error":"#REF!"}},{"$f":"IF(BH$5>=$F35,IF(BH$5<=#REF!,$K35,0),0)","v":{"$error":"#REF!"}},{"$f":"IF(BI$5>=$F35,IF(BI$5<=#REF!,$K35,0),0)","v":{"$error":"#REF!"}},{"$f":"IF(BJ$5>=$F35,IF(BJ$5<=#REF!,$K35,0),0)","v":{"$error":"#REF!"}},{"$f":"IF(BK$5>=$F35,IF(BK$5<=#REF!,$K35,0),0)","v":{"$error":"#REF!"}},{"$f":"IF(BL$5>=$F35,IF(BL$5<=#REF!,$K35,0),0)","v":{"$error":"#REF!"}},{"$f":"IF(BM$5>=$F35,IF(BM$5<=#REF!,$K35,0),0)","v":{"$error":"#REF!"}},{"$f":"IF(BN$5>=$F35,IF(BN$5<=#REF!,$K35,0),0)","v":{"$error":"#REF!"}},{"$f":"IF(BO$5>=$F35,IF(BO$5<=#REF!,$K35,0),0)","v":{"$error":"#REF!"}},{"$f":"IF(BP$5>=$F35,IF(BP$5<=#REF!,$K35,0),0)","v":{"$error":"#REF!"}},{"$f":"IF(BQ$5>=$F35,IF(BQ$5<=#REF!,$K35,0),0)","v":{"$error":"#REF!"}},{"$f":"IF(BR$5>=$F35,IF(BR$5<=#REF!,$K35,0),0)","v":{"$error":"#REF!"}},{"$f":"IF(BS$5>=$F35,IF(BS$5<=#REF!,$K35,0),0)","v":{"$error":"#REF!"}},{"$f":"IF(BT$5>=$F35,IF(BT$5<=#REF!,$K35,0),0)","v":{"$error":"#REF!"}},{"$f":"IF(BU$5>=$F35,IF(BU$5<=#REF!,$K35,0),0)","v":{"$error":"#REF!"}},{"$f":"IF(BV$5>=$F35,IF(BV$5<=#REF!,$K35,0),0)","v":{"$error":"#REF!"}},{"$f":"IF(BW$5>=$F35,IF(BW$5<=#REF!,$K35,0),0)","v":{"$error":"#REF!"}},{"$f":"IF(BX$5>=$F35,IF(BX$5<=#REF!,$K35,0),0)","v":{"$error":"#REF!"}},{"$f":"IF(BY$5>=$F35,IF(BY$5<=#REF!,$K35,0),0)","v":{"$error":"#REF!"}},{"$f":"IF(BZ$5>=$F35,IF(BZ$5<=#REF!,$K35,0),0)","v":{"$error":"#REF!"}},{"$f":"IF(CA$5>=$F35,IF(CA$5<=#REF!,$K35,0),0)","v":{"$error":"#REF!"}},{"$f":"IF(CB$5>=$F35,IF(CB$5<=#REF!,$K35,0),0)","v":{"$error":"#REF!"}},{"$f":"IF(CC$5>=$F35,IF(CC$5<=#REF!,$K35,0),0)","v":{"$error":"#REF!"}},{"$f":"IF(CD$5>=$F35,IF(CD$5<=#REF!,$K35,0),0)","v":{"$error":"#REF!"}},{"$f":"IF(CE$5>=$F35,IF(CE$5<=#REF!,$K35,0),0)","v":{"$error":"#REF!"}},{"$f":"IF(CF$5>=$F35,IF(CF$5<=#REF!,$K35,0),0)","v":{"$error":"#REF!"}},{"$f":"IF(CG$5>=$F35,IF(CG$5<=#REF!,$K35,0),0)","v":{"$error":"#REF!"}},{"$f":"IF(CH$5>=$F35,IF(CH$5<=#REF!,$K35,0),0)","v":{"$error":"#REF!"}},{"$f":"IF(CI$5>=$F35,IF(CI$5<=#REF!,$K35,0),0)","v":{"$error":"#REF!"}},{"$f":"IF(CJ$5>=$F35,IF(CJ$5<=#REF!,$K35,0),0)","v":{"$error":"#REF!"}},{"$f":"IF(CK$5>=$F35,IF(CK$5<=#REF!,$K35,0),0)","v":{"$error":"#REF!"}},{"$f":"IF(CL$5>=$F35,IF(CL$5<=#REF!,$K35,0),0)","v":{"$error":"#REF!"}},{"$f":"IF(CM$5>=$F35,IF(CM$5<=#REF!,$K35,0),0)","v":{"$error":"#REF!"}},{"$f":"IF(CN$5>=$F35,IF(CN$5<=#REF!,$K35,0),0)","v":{"$error":"#REF!"}},{"$f":"IF(CO$5>=$F35,IF(CO$5<=#REF!,$K35,0),0)","v":{"$error":"#REF!"}},{"$f":"IF(CP$5>=$F35,IF(CP$5<=#REF!,$K35,0),0)","v":{"$error":"#REF!"}},{"$f":"IF(CQ$5>=$F35,IF(CQ$5<=#REF!,$K35,0),0)","v":{"$error":"#REF!"}},{"$f":"IF(CR$5>=$F35,IF(CR$5<=#REF!,$K35,0),0)","v":{"$error":"#REF!"}},{"$f":"IF(CS$5>=$F35,IF(CS$5<=#REF!,$K35,0),0)","v":{"$error":"#REF!"}},{"$f":"IF(CT$5>=$F35,IF(CT$5<=#REF!,$K35,0),0)","v":{"$error":"#REF!"}},{"$f":"IF(CU$5>=$F35,IF(CU$5<=#REF!,$K35,0),0)","v":{"$error":"#REF!"}},{"$f":"IF(CV$5>=$F35,IF(CV$5<=#REF!,$K35,0),0)","v":{"$error":"#REF!"}},{"$f":"IF(CW$5>=$F35,IF(CW$5<=#REF!,$K35,0),0)","v":{"$error":"#REF!"}},{"$f":"IF(CX$5>=$F35,IF(CX$5<=#REF!,$K35,0),0)","v":{"$error":"#REF!"}},{"$f":"IF(CY$5>=$F35,IF(CY$5<=#REF!,$K35,0),0)","v":{"$error":"#REF!"}},{"$f":"IF(CZ$5>=$F35,IF(CZ$5<=#REF!,$K35,0),0)","v":{"$error":"#REF!"}},{"$f":"IF(DA$5>=$F35,IF(DA$5<=#REF!,$K35,0),0)","v":{"$error":"#REF!"}},{"$f":"IF(DB$5>=$F35,IF(DB$5<=#REF!,$K35,0),0)","v":{"$error":"#REF!"}},{"$f":"IF(DC$5>=$F35,IF(DC$5<=#REF!,$K35,0),0)","v":{"$error":"#REF!"}},{"$f":"IF(DD$5>=$F35,IF(DD$5<=#REF!,$K35,0),0)","v":{"$error":"#REF!"}},{"$f":"IF(DE$5>=$F35,IF(DE$5<=#REF!,$K35,0),0)","v":{"$error":"#REF!"}},{"$f":"IF(DF$5>=$F35,IF(DF$5<=#REF!,$K35,0),0)","v":{"$error":"#REF!"}},{"$f":"IF(DG$5>=$F35,IF(DG$5<=#REF!,$K35,0),0)","v":{"$error":"#REF!"}},{"$f":"IF(DH$5>=$F35,IF(DH$5<=#REF!,$K35,0),0)","v":{"$error":"#REF!"}},{"$f":"IF(DI$5>=$F35,IF(DI$5<=#REF!,$K35,0),0)","v":{"$error":"#REF!"}},{"$f":"IF(DJ$5>=$F35,IF(DJ$5<=#REF!,$K35,0),0)","v":{"$error":"#REF!"}},{"$f":"IF(DK$5>=$F35,IF(DK$5<=#REF!,$K35,0),0)","v":{"$error":"#REF!"}},{"$f":"IF(DL$5>=$F35,IF(DL$5<=#REF!,$K35,0),0)","v":{"$error":"#REF!"}},{"$f":"IF(DM$5>=$F35,IF(DM$5<=#REF!,$K35,0),0)","v":{"$error":"#REF!"}},{"$f":"IF(DN$5>=$F35,IF(DN$5<=#REF!,$K35,0),0)","v":{"$error":"#REF!"}},{"$f":"IF(DO$5>=$F35,IF(DO$5<=#REF!,$K35,0),0)","v":{"$error":"#REF!"}},{"$f":"IF(DP$5>=$F35,IF(DP$5<=#REF!,$K35,0),0)","v":{"$error":"#REF!"}},{"$f":"IF(DQ$5>=$F35,IF(DQ$5<=#REF!,$K35,0),0)","v":{"$error":"#REF!"}},{"$f":"IF(DR$5>=$F35,IF(DR$5<=#REF!,$K35,0),0)","v":{"$error":"#REF!"}},{"$error":"#REF!"},"",""]
[null,null,null,null,null,null,{"$f":"IF($D36=\"\",0,VLOOKUP(($DU36&$C36&$D36),単価情報!$B$66:$C$932,2,FALSE))","v":0},0,0,0,{"$f":"IF(E36=0,0,ROUND(E36/#REF!,1))","v":0},{"$f":"IF(L$5>=$F36,IF(L$5<=#REF!,$K36,0),0)","v":{"$error":"#REF!"}},{"$f":"IF(M$5>=$F36,IF(M$5<=#REF!,$K36,0),0)","v":{"$error":"#REF!"}},{"$f":"IF(N$5>=$F36,IF(N$5<=#REF!,$K36,0),0)","v":{"$error":"#REF!"}},{"$f":"IF(O$5>=$F36,IF(O$5<=#REF!,$K36,0),0)","v":{"$error":"#REF!"}},{"$f":"IF(P$5>=$F36,IF(P$5<=#REF!,$K36,0),0)","v":{"$error":"#REF!"}},{"$f":"IF(Q$5>=$F36,IF(Q$5<=#REF!,$K36,0),0)","v":{"$error":"#REF!"}},{"$f":"IF(R$5>=$F36,IF(R$5<=#REF!,$K36,0),0)","v":{"$error":"#REF!"}},{"$f":"IF(S$5>=$F36,IF(S$5<=#REF!,$K36,0),0)","v":{"$error":"#REF!"}},{"$f":"IF(T$5>=$F36,IF(T$5<=#REF!,$K36,0),0)","v":{"$error":"#REF!"}},{"$f":"IF(U$5>=$F36,IF(U$5<=#REF!,$K36,0),0)","v":{"$error":"#REF!"}},{"$f":"IF(V$5>=$F36,IF(V$5<=#REF!,$K36,0),0)","v":{"$error":"#REF!"}},{"$f":"IF(W$5>=$F36,IF(W$5<=#REF!,$K36,0),0)","v":{"$error":"#REF!"}},{"$f":"IF(X$5>=$F36,IF(X$5<=#REF!,$K36,0),0)","v":{"$error":"#REF!"}},{"$f":"IF(Y$5>=$F36,IF(Y$5<=#REF!,$K36,0),0)","v":{"$error":"#REF!"}},{"$f":"IF(Z$5>=$F36,IF(Z$5<=#REF!,$K36,0),0)","v":{"$error":"#REF!"}},{"$f":"IF(AA$5>=$F36,IF(AA$5<=#REF!,$K36,0),0)","v":{"$error":"#REF!"}},{"$f":"IF(AB$5>=$F36,IF(AB$5<=#REF!,$K36,0),0)","v":{"$error":"#REF!"}},{"$f":"IF(AC$5>=$F36,IF(AC$5<=#REF!,$K36,0),0)","v":{"$error":"#REF!"}},{"$f":"IF(AD$5>=$F36,IF(AD$5<=#REF!,$K36,0),0)","v":{"$error":"#REF!"}},{"$f":"IF(AE$5>=$F36,IF(AE$5<=#REF!,$K36,0),0)","v":{"$error":"#REF!"}},{"$f":"IF(AF$5>=$F36,IF(AF$5<=#REF!,$K36,0),0)","v":{"$error":"#REF!"}},{"$f":"IF(AG$5>=$F36,IF(AG$5<=#REF!,$K36,0),0)","v":{"$error":"#REF!"}},{"$f":"IF(AH$5>=$F36,IF(AH$5<=#REF!,$K36,0),0)","v":{"$error":"#REF!"}},{"$f":"IF(AI$5>=$F36,IF(AI$5<=#REF!,$K36,0),0)","v":{"$error":"#REF!"}},{"$f":"IF(AJ$5>=$F36,IF(AJ$5<=#REF!,$K36,0),0)","v":{"$error":"#REF!"}},{"$f":"IF(AK$5>=$F36,IF(AK$5<=#REF!,$K36,0),0)","v":{"$error":"#REF!"}},{"$f":"IF(AL$5>=$F36,IF(AL$5<=#REF!,$K36,0),0)","v":{"$error":"#REF!"}},{"$f":"IF(AM$5>=$F36,IF(AM$5<=#REF!,$K36,0),0)","v":{"$error":"#REF!"}},{"$f":"IF(AN$5>=$F36,IF(AN$5<=#REF!,$K36,0),0)","v":{"$error":"#REF!"}},{"$f":"IF(AO$5>=$F36,IF(AO$5<=#REF!,$K36,0),0)","v":{"$error":"#REF!"}},{"$f":"IF(AP$5>=$F36,IF(AP$5<=#REF!,$K36,0),0)","v":{"$error":"#REF!"}},{"$f":"IF(AQ$5>=$F36,IF(AQ$5<=#REF!,$K36,0),0)","v":{"$error":"#REF!"}},{"$f":"IF(AR$5>=$F36,IF(AR$5<=#REF!,$K36,0),0)","v":{"$error":"#REF!"}},{"$f":"IF(AS$5>=$F36,IF(AS$5<=#REF!,$K36,0),0)","v":{"$error":"#REF!"}},{"$f":"IF(AT$5>=$F36,IF(AT$5<=#REF!,$K36,0),0)","v":{"$error":"#REF!"}},{"$f":"IF(AU$5>=$F36,IF(AU$5<=#REF!,$K36,0),0)","v":{"$error":"#REF!"}},{"$f":"IF(AV$5>=$F36,IF(AV$5<=#REF!,$K36,0),0)","v":{"$error":"#REF!"}},{"$f":"IF(AW$5>=$F36,IF(AW$5<=#REF!,$K36,0),0)","v":{"$error":"#REF!"}},{"$f":"IF(AX$5>=$F36,IF(AX$5<=#REF!,$K36,0),0)","v":{"$error":"#REF!"}},{"$f":"IF(AY$5>=$F36,IF(AY$5<=#REF!,$K36,0),0)","v":{"$error":"#REF!"}},{"$f":"IF(AZ$5>=$F36,IF(AZ$5<=#REF!,$K36,0),0)","v":{"$error":"#REF!"}},{"$f":"IF(BA$5>=$F36,IF(BA$5<=#REF!,$K36,0),0)","v":{"$error":"#REF!"}},{"$f":"IF(BB$5>=$F36,IF(BB$5<=#REF!,$K36,0),0)","v":{"$error":"#REF!"}},{"$f":"IF(BC$5>=$F36,IF(BC$5<=#REF!,$K36,0),0)","v":{"$error":"#REF!"}},{"$f":"IF(BD$5>=$F36,IF(BD$5<=#REF!,$K36,0),0)","v":{"$error":"#REF!"}},{"$f":"IF(BE$5>=$F36,IF(BE$5<=#REF!,$K36,0),0)","v":{"$error":"#REF!"}},{"$f":"IF(BF$5>=$F36,IF(BF$5<=#REF!,$K36,0),0)","v":{"$error":"#REF!"}},{"$f":"IF(BG$5>=$F36,IF(BG$5<=#REF!,$K36,0),0)","v":{"$error":"#REF!"}},{"$f":"IF(BH$5>=$F36,IF(BH$5<=#REF!,$K36,0),0)","v":{"$error":"#REF!"}},{"$f":"IF(BI$5>=$F36,IF(BI$5<=#REF!,$K36,0),0)","v":{"$error":"#REF!"}},{"$f":"IF(BJ$5>=$F36,IF(BJ$5<=#REF!,$K36,0),0)","v":{"$error":"#REF!"}},{"$f":"IF(BK$5>=$F36,IF(BK$5<=#REF!,$K36,0),0)","v":{"$error":"#REF!"}},{"$f":"IF(BL$5>=$F36,IF(BL$5<=#REF!,$K36,0),0)","v":{"$error":"#REF!"}},{"$f":"IF(BM$5>=$F36,IF(BM$5<=#REF!,$K36,0),0)","v":{"$error":"#REF!"}},{"$f":"IF(BN$5>=$F36,IF(BN$5<=#REF!,$K36,0),0)","v":{"$error":"#REF!"}},{"$f":"IF(BO$5>=$F36,IF(BO$5<=#REF!,$K36,0),0)","v":{"$error":"#REF!"}},{"$f":"IF(BP$5>=$F36,IF(BP$5<=#REF!,$K36,0),0)","v":{"$error":"#REF!"}},{"$f":"IF(BQ$5>=$F36,IF(BQ$5<=#REF!,$K36,0),0)","v":{"$error":"#REF!"}},{"$f":"IF(BR$5>=$F36,IF(BR$5<=#REF!,$K36,0),0)","v":{"$error":"#REF!"}},{"$f":"IF(BS$5>=$F36,IF(BS$5<=#REF!,$K36,0),0)","v":{"$error":"#REF!"}},{"$f":"IF(BT$5>=$F36,IF(BT$5<=#REF!,$K36,0),0)","v":{"$error":"#REF!"}},{"$f":"IF(BU$5>=$F36,IF(BU$5<=#REF!,$K36,0),0)","v":{"$error":"#REF!"}},{"$f":"IF(BV$5>=$F36,IF(BV$5<=#REF!,$K36,0),0)","v":{"$error":"#REF!"}},{"$f":"IF(BW$5>=$F36,IF(BW$5<=#REF!,$K36,0),0)","v":{"$error":"#REF!"}},{"$f":"IF(BX$5>=$F36,IF(BX$5<=#REF!,$K36,0),0)","v":{"$error":"#REF!"}},{"$f":"IF(BY$5>=$F36,IF(BY$5<=#REF!,$K36,0),0)","v":{"$error":"#REF!"}},{"$f":"IF(BZ$5>=$F36,IF(BZ$5<=#REF!,$K36,0),0)","v":{"$error":"#REF!"}},{"$f":"IF(CA$5>=$F36,IF(CA$5<=#REF!,$K36,0),0)","v":{"$error":"#REF!"}},{"$f":"IF(CB$5>=$F36,IF(CB$5<=#REF!,$K36,0),0)","v":{"$error":"#REF!"}},{"$f":"IF(CC$5>=$F36,IF(CC$5<=#REF!,$K36,0),0)","v":{"$error":"#REF!"}},{"$f":"IF(CD$5>=$F36,IF(CD$5<=#REF!,$K36,0),0)","v":{"$error":"#REF!"}},{"$f":"IF(CE$5>=$F36,IF(CE$5<=#REF!,$K36,0),0)","v":{"$error":"#REF!"}},{"$f":"IF(CF$5>=$F36,IF(CF$5<=#REF!,$K36,0),0)","v":{"$error":"#REF!"}},{"$f":"IF(CG$5>=$F36,IF(CG$5<=#REF!,$K36,0),0)","v":{"$error":"#REF!"}},{"$f":"IF(CH$5>=$F36,IF(CH$5<=#REF!,$K36,0),0)","v":{"$error":"#REF!"}},{"$f":"IF(CI$5>=$F36,IF(CI$5<=#REF!,$K36,0),0)","v":{"$error":"#REF!"}},{"$f":"IF(CJ$5>=$F36,IF(CJ$5<=#REF!,$K36,0),0)","v":{"$error":"#REF!"}},{"$f":"IF(CK$5>=$F36,IF(CK$5<=#REF!,$K36,0),0)","v":{"$error":"#REF!"}},{"$f":"IF(CL$5>=$F36,IF(CL$5<=#REF!,$K36,0),0)","v":{"$error":"#REF!"}},{"$f":"IF(CM$5>=$F36,IF(CM$5<=#REF!,$K36,0),0)","v":{"$error":"#REF!"}},{"$f":"IF(CN$5>=$F36,IF(CN$5<=#REF!,$K36,0),0)","v":{"$error":"#REF!"}},{"$f":"IF(CO$5>=$F36,IF(CO$5<=#REF!,$K36,0),0)","v":{"$error":"#REF!"}},{"$f":"IF(CP$5>=$F36,IF(CP$5<=#REF!,$K36,0),0)","v":{"$error":"#REF!"}},{"$f":"IF(CQ$5>=$F36,IF(CQ$5<=#REF!,$K36,0),0)","v":{"$error":"#REF!"}},{"$f":"IF(CR$5>=$F36,IF(CR$5<=#REF!,$K36,0),0)","v":{"$error":"#REF!"}},{"$f":"IF(CS$5>=$F36,IF(CS$5<=#REF!,$K36,0),0)","v":{"$error":"#REF!"}},{"$f":"IF(CT$5>=$F36,IF(CT$5<=#REF!,$K36,0),0)","v":{"$error":"#REF!"}},{"$f":"IF(CU$5>=$F36,IF(CU$5<=#REF!,$K36,0),0)","v":{"$error":"#REF!"}},{"$f":"IF(CV$5>=$F36,IF(CV$5<=#REF!,$K36,0),0)","v":{"$error":"#REF!"}},{"$f":"IF(CW$5>=$F36,IF(CW$5<=#REF!,$K36,0),0)","v":{"$error":"#REF!"}},{"$f":"IF(CX$5>=$F36,IF(CX$5<=#REF!,$K36,0),0)","v":{"$error":"#REF!"}},{"$f":"IF(CY$5>=$F36,IF(CY$5<=#REF!,$K36,0),0)","v":{"$error":"#REF!"}},{"$f":"IF(CZ$5>=$F36,IF(CZ$5<=#REF!,$K36,0),0)","v":{"$error":"#REF!"}},{"$f":"IF(DA$5>=$F36,IF(DA$5<=#REF!,$K36,0),0)","v":{"$error":"#REF!"}},{"$f":"IF(DB$5>=$F36,IF(DB$5<=#REF!,$K36,0),0)","v":{"$error":"#REF!"}},{"$f":"IF(DC$5>=$F36,IF(DC$5<=#REF!,$K36,0),0)","v":{"$error":"#REF!"}},{"$f":"IF(DD$5>=$F36,IF(DD$5<=#REF!,$K36,0),0)","v":{"$error":"#REF!"}},{"$f":"IF(DE$5>=$F36,IF(DE$5<=#REF!,$K36,0),0)","v":{"$error":"#REF!"}},{"$f":"IF(DF$5>=$F36,IF(DF$5<=#REF!,$K36,0),0)","v":{"$error":"#REF!"}},{"$f":"IF(DG$5>=$F36,IF(DG$5<=#REF!,$K36,0),0)","v":{"$error":"#REF!"}},{"$f":"IF(DH$5>=$F36,IF(DH$5<=#REF!,$K36,0),0)","v":{"$error":"#REF!"}},{"$f":"IF(DI$5>=$F36,IF(DI$5<=#REF!,$K36,0),0)","v":{"$error":"#REF!"}},{"$f":"IF(DJ$5>=$F36,IF(DJ$5<=#REF!,$K36,0),0)","v":{"$error":"#REF!"}},{"$f":"IF(DK$5>=$F36,IF(DK$5<=#REF!,$K36,0),0)","v":{"$error":"#REF!"}},{"$f":"IF(DL$5>=$F36,IF(DL$5<=#REF!,$K36,0),0)","v":{"$error":"#REF!"}},{"$f":"IF(DM$5>=$F36,IF(DM$5<=#REF!,$K36,0),0)","v":{"$error":"#REF!"}},{"$f":"IF(DN$5>=$F36,IF(DN$5<=#REF!,$K36,0),0)","v":{"$error":"#REF!"}},{"$f":"IF(DO$5>=$F36,IF(DO$5<=#REF!,$K36,0),0)","v":{"$error":"#REF!"}},{"$f":"IF(DP$5>=$F36,IF(DP$5<=#REF!,$K36,0),0)","v":{"$error":"#REF!"}},{"$f":"IF(DQ$5>=$F36,IF(DQ$5<=#REF!,$K36,0),0)","v":{"$error":"#REF!"}},{"$f":"IF(DR$5>=$F36,IF(DR$5<=#REF!,$K36,0),0)","v":{"$error":"#REF!"}},{"$error":"#REF!"},"",""]
[null,null,null,null,null,null,{"$f":"IF($D37=\"\",0,VLOOKUP(($DU37&$C37&$D37),単価情報!$B$66:$C$932,2,FALSE))","v":0},0,0,0,{"$f":"IF(E37=0,0,ROUND(E37/#REF!,1))","v":0},{"$f":"IF(L$5>=$F37,IF(L$5<=#REF!,$K37,0),0)","v":{"$error":"#REF!"}},{"$f":"IF(M$5>=$F37,IF(M$5<=#REF!,$K37,0),0)","v":{"$error":"#REF!"}},{"$f":"IF(N$5>=$F37,IF(N$5<=#REF!,$K37,0),0)","v":{"$error":"#REF!"}},{"$f":"IF(O$5>=$F37,IF(O$5<=#REF!,$K37,0),0)","v":{"$error":"#REF!"}},{"$f":"IF(P$5>=$F37,IF(P$5<=#REF!,$K37,0),0)","v":{"$error":"#REF!"}},{"$f":"IF(Q$5>=$F37,IF(Q$5<=#REF!,$K37,0),0)","v":{"$error":"#REF!"}},{"$f":"IF(R$5>=$F37,IF(R$5<=#REF!,$K37,0),0)","v":{"$error":"#REF!"}},{"$f":"IF(S$5>=$F37,IF(S$5<=#REF!,$K37,0),0)","v":{"$error":"#REF!"}},{"$f":"IF(T$5>=$F37,IF(T$5<=#REF!,$K37,0),0)","v":{"$error":"#REF!"}},{"$f":"IF(U$5>=$F37,IF(U$5<=#REF!,$K37,0),0)","v":{"$error":"#REF!"}},{"$f":"IF(V$5>=$F37,IF(V$5<=#REF!,$K37,0),0)","v":{"$error":"#REF!"}},{"$f":"IF(W$5>=$F37,IF(W$5<=#REF!,$K37,0),0)","v":{"$error":"#REF!"}},{"$f":"IF(X$5>=$F37,IF(X$5<=#REF!,$K37,0),0)","v":{"$error":"#REF!"}},{"$f":"IF(Y$5>=$F37,IF(Y$5<=#REF!,$K37,0),0)","v":{"$error":"#REF!"}},{"$f":"IF(Z$5>=$F37,IF(Z$5<=#REF!,$K37,0),0)","v":{"$error":"#REF!"}},{"$f":"IF(AA$5>=$F37,IF(AA$5<=#REF!,$K37,0),0)","v":{"$error":"#REF!"}},{"$f":"IF(AB$5>=$F37,IF(AB$5<=#REF!,$K37,0),0)","v":{"$error":"#REF!"}},{"$f":"IF(AC$5>=$F37,IF(AC$5<=#REF!,$K37,0),0)","v":{"$error":"#REF!"}},{"$f":"IF(AD$5>=$F37,IF(AD$5<=#REF!,$K37,0),0)","v":{"$error":"#REF!"}},{"$f":"IF(AE$5>=$F37,IF(AE$5<=#REF!,$K37,0),0)","v":{"$error":"#REF!"}},{"$f":"IF(AF$5>=$F37,IF(AF$5<=#REF!,$K37,0),0)","v":{"$error":"#REF!"}},{"$f":"IF(AG$5>=$F37,IF(AG$5<=#REF!,$K37,0),0)","v":{"$error":"#REF!"}},{"$f":"IF(AH$5>=$F37,IF(AH$5<=#REF!,$K37,0),0)","v":{"$error":"#REF!"}},{"$f":"IF(AI$5>=$F37,IF(AI$5<=#REF!,$K37,0),0)","v":{"$error":"#REF!"}},{"$f":"IF(AJ$5>=$F37,IF(AJ$5<=#REF!,$K37,0),0)","v":{"$error":"#REF!"}},{"$f":"IF(AK$5>=$F37,IF(AK$5<=#REF!,$K37,0),0)","v":{"$error":"#REF!"}},{"$f":"IF(AL$5>=$F37,IF(AL$5<=#REF!,$K37,0),0)","v":{"$error":"#REF!"}},{"$f":"IF(AM$5>=$F37,IF(AM$5<=#REF!,$K37,0),0)","v":{"$error":"#REF!"}},{"$f":"IF(AN$5>=$F37,IF(AN$5<=#REF!,$K37,0),0)","v":{"$error":"#REF!"}},{"$f":"IF(AO$5>=$F37,IF(AO$5<=#REF!,$K37,0),0)","v":{"$error":"#REF!"}},{"$f":"IF(AP$5>=$F37,IF(AP$5<=#REF!,$K37,0),0)","v":{"$error":"#REF!"}},{"$f":"IF(AQ$5>=$F37,IF(AQ$5<=#REF!,$K37,0),0)","v":{"$error":"#REF!"}},{"$f":"IF(AR$5>=$F37,IF(AR$5<=#REF!,$K37,0),0)","v":{"$error":"#REF!"}},{"$f":"IF(AS$5>=$F37,IF(AS$5<=#REF!,$K37,0),0)","v":{"$error":"#REF!"}},{"$f":"IF(AT$5>=$F37,IF(AT$5<=#REF!,$K37,0),0)","v":{"$error":"#REF!"}},{"$f":"IF(AU$5>=$F37,IF(AU$5<=#REF!,$K37,0),0)","v":{"$error":"#REF!"}},{"$f":"IF(AV$5>=$F37,IF(AV$5<=#REF!,$K37,0),0)","v":{"$error":"#REF!"}},{"$f":"IF(AW$5>=$F37,IF(AW$5<=#REF!,$K37,0),0)","v":{"$error":"#REF!"}},{"$f":"IF(AX$5>=$F37,IF(AX$5<=#REF!,$K37,0),0)","v":{"$error":"#REF!"}},{"$f":"IF(AY$5>=$F37,IF(AY$5<=#REF!,$K37,0),0)","v":{"$error":"#REF!"}},{"$f":"IF(AZ$5>=$F37,IF(AZ$5<=#REF!,$K37,0),0)","v":{"$error":"#REF!"}},{"$f":"IF(BA$5>=$F37,IF(BA$5<=#REF!,$K37,0),0)","v":{"$error":"#REF!"}},{"$f":"IF(BB$5>=$F37,IF(BB$5<=#REF!,$K37,0),0)","v":{"$error":"#REF!"}},{"$f":"IF(BC$5>=$F37,IF(BC$5<=#REF!,$K37,0),0)","v":{"$error":"#REF!"}},{"$f":"IF(BD$5>=$F37,IF(BD$5<=#REF!,$K37,0),0)","v":{"$error":"#REF!"}},{"$f":"IF(BE$5>=$F37,IF(BE$5<=#REF!,$K37,0),0)","v":{"$error":"#REF!"}},{"$f":"IF(BF$5>=$F37,IF(BF$5<=#REF!,$K37,0),0)","v":{"$error":"#REF!"}},{"$f":"IF(BG$5>=$F37,IF(BG$5<=#REF!,$K37,0),0)","v":{"$error":"#REF!"}},{"$f":"IF(BH$5>=$F37,IF(BH$5<=#REF!,$K37,0),0)","v":{"$error":"#REF!"}},{"$f":"IF(BI$5>=$F37,IF(BI$5<=#REF!,$K37,0),0)","v":{"$error":"#REF!"}},{"$f":"IF(BJ$5>=$F37,IF(BJ$5<=#REF!,$K37,0),0)","v":{"$error":"#REF!"}},{"$f":"IF(BK$5>=$F37,IF(BK$5<=#REF!,$K37,0),0)","v":{"$error":"#REF!"}},{"$f":"IF(BL$5>=$F37,IF(BL$5<=#REF!,$K37,0),0)","v":{"$error":"#REF!"}},{"$f":"IF(BM$5>=$F37,IF(BM$5<=#REF!,$K37,0),0)","v":{"$error":"#REF!"}},{"$f":"IF(BN$5>=$F37,IF(BN$5<=#REF!,$K37,0),0)","v":{"$error":"#REF!"}},{"$f":"IF(BO$5>=$F37,IF(BO$5<=#REF!,$K37,0),0)","v":{"$error":"#REF!"}},{"$f":"IF(BP$5>=$F37,IF(BP$5<=#REF!,$K37,0),0)","v":{"$error":"#REF!"}},{"$f":"IF(BQ$5>=$F37,IF(BQ$5<=#REF!,$K37,0),0)","v":{"$error":"#REF!"}},{"$f":"IF(BR$5>=$F37,IF(BR$5<=#REF!,$K37,0),0)","v":{"$error":"#REF!"}},{"$f":"IF(BS$5>=$F37,IF(BS$5<=#REF!,$K37,0),0)","v":{"$error":"#REF!"}},{"$f":"IF(BT$5>=$F37,IF(BT$5<=#REF!,$K37,0),0)","v":{"$error":"#REF!"}},{"$f":"IF(BU$5>=$F37,IF(BU$5<=#REF!,$K37,0),0)","v":{"$error":"#REF!"}},{"$f":"IF(BV$5>=$F37,IF(BV$5<=#REF!,$K37,0),0)","v":{"$error":"#REF!"}},{"$f":"IF(BW$5>=$F37,IF(BW$5<=#REF!,$K37,0),0)","v":{"$error":"#REF!"}},{"$f":"IF(BX$5>=$F37,IF(BX$5<=#REF!,$K37,0),0)","v":{"$error":"#REF!"}},{"$f":"IF(BY$5>=$F37,IF(BY$5<=#REF!,$K37,0),0)","v":{"$error":"#REF!"}},{"$f":"IF(BZ$5>=$F37,IF(BZ$5<=#REF!,$K37,0),0)","v":{"$error":"#REF!"}},{"$f":"IF(CA$5>=$F37,IF(CA$5<=#REF!,$K37,0),0)","v":{"$error":"#REF!"}},{"$f":"IF(CB$5>=$F37,IF(CB$5<=#REF!,$K37,0),0)","v":{"$error":"#REF!"}},{"$f":"IF(CC$5>=$F37,IF(CC$5<=#REF!,$K37,0),0)","v":{"$error":"#REF!"}},{"$f":"IF(CD$5>=$F37,IF(CD$5<=#REF!,$K37,0),0)","v":{"$error":"#REF!"}},{"$f":"IF(CE$5>=$F37,IF(CE$5<=#REF!,$K37,0),0)","v":{"$error":"#REF!"}},{"$f":"IF(CF$5>=$F37,IF(CF$5<=#REF!,$K37,0),0)","v":{"$error":"#REF!"}},{"$f":"IF(CG$5>=$F37,IF(CG$5<=#REF!,$K37,0),0)","v":{"$error":"#REF!"}},{"$f":"IF(CH$5>=$F37,IF(CH$5<=#REF!,$K37,0),0)","v":{"$error":"#REF!"}},{"$f":"IF(CI$5>=$F37,IF(CI$5<=#REF!,$K37,0),0)","v":{"$error":"#REF!"}},{"$f":"IF(CJ$5>=$F37,IF(CJ$5<=#REF!,$K37,0),0)","v":{"$error":"#REF!"}},{"$f":"IF(CK$5>=$F37,IF(CK$5<=#REF!,$K37,0),0)","v":{"$error":"#REF!"}},{"$f":"IF(CL$5>=$F37,IF(CL$5<=#REF!,$K37,0),0)","v":{"$error":"#REF!"}},{"$f":"IF(CM$5>=$F37,IF(CM$5<=#REF!,$K37,0),0)","v":{"$error":"#REF!"}},{"$f":"IF(CN$5>=$F37,IF(CN$5<=#REF!,$K37,0),0)","v":{"$error":"#REF!"}},{"$f":"IF(CO$5>=$F37,IF(CO$5<=#REF!,$K37,0),0)","v":{"$error":"#REF!"}},{"$f":"IF(CP$5>=$F37,IF(CP$5<=#REF!,$K37,0),0)","v":{"$error":"#REF!"}},{"$f":"IF(CQ$5>=$F37,IF(CQ$5<=#REF!,$K37,0),0)","v":{"$error":"#REF!"}},{"$f":"IF(CR$5>=$F37,IF(CR$5<=#REF!,$K37,0),0)","v":{"$error":"#REF!"}},{"$f":"IF(CS$5>=$F37,IF(CS$5<=#REF!,$K37,0),0)","v":{"$error":"#REF!"}},{"$f":"IF(CT$5>=$F37,IF(CT$5<=#REF!,$K37,0),0)","v":{"$error":"#REF!"}},{"$f":"IF(CU$5>=$F37,IF(CU$5<=#REF!,$K37,0),0)","v":{"$error":"#REF!"}},{"$f":"IF(CV$5>=$F37,IF(CV$5<=#REF!,$K37,0),0)","v":{"$error":"#REF!"}},{"$f":"IF(CW$5>=$F37,IF(CW$5<=#REF!,$K37,0),0)","v":{"$error":"#REF!"}},{"$f":"IF(CX$5>=$F37,IF(CX$5<=#REF!,$K37,0),0)","v":{"$error":"#REF!"}},{"$f":"IF(CY$5>=$F37,IF(CY$5<=#REF!,$K37,0),0)","v":{"$error":"#REF!"}},{"$f":"IF(CZ$5>=$F37,IF(CZ$5<=#REF!,$K37,0),0)","v":{"$error":"#REF!"}},{"$f":"IF(DA$5>=$F37,IF(DA$5<=#REF!,$K37,0),0)","v":{"$error":"#REF!"}},{"$f":"IF(DB$5>=$F37,IF(DB$5<=#REF!,$K37,0),0)","v":{"$error":"#REF!"}},{"$f":"IF(DC$5>=$F37,IF(DC$5<=#REF!,$K37,0),0)","v":{"$error":"#REF!"}},{"$f":"IF(DD$5>=$F37,IF(DD$5<=#REF!,$K37,0),0)","v":{"$error":"#REF!"}},{"$f":"IF(DE$5>=$F37,IF(DE$5<=#REF!,$K37,0),0)","v":{"$error":"#REF!"}},{"$f":"IF(DF$5>=$F37,IF(DF$5<=#REF!,$K37,0),0)","v":{"$error":"#REF!"}},{"$f":"IF(DG$5>=$F37,IF(DG$5<=#REF!,$K37,0),0)","v":{"$error":"#REF!"}},{"$f":"IF(DH$5>=$F37,IF(DH$5<=#REF!,$K37,0),0)","v":{"$error":"#REF!"}},{"$f":"IF(DI$5>=$F37,IF(DI$5<=#REF!,$K37,0),0)","v":{"$error":"#REF!"}},{"$f":"IF(DJ$5>=$F37,IF(DJ$5<=#REF!,$K37,0),0)","v":{"$error":"#REF!"}},{"$f":"IF(DK$5>=$F37,IF(DK$5<=#REF!,$K37,0),0)","v":{"$error":"#REF!"}},{"$f":"IF(DL$5>=$F37,IF(DL$5<=#REF!,$K37,0),0)","v":{"$error":"#REF!"}},{"$f":"IF(DM$5>=$F37,IF(DM$5<=#REF!,$K37,0),0)","v":{"$error":"#REF!"}},{"$f":"IF(DN$5>=$F37,IF(DN$5<=#REF!,$K37,0),0)","v":{"$error":"#REF!"}},{"$f":"IF(DO$5>=$F37,IF(DO$5<=#REF!,$K37,0),0)","v":{"$error":"#REF!"}},{"$f":"IF(DP$5>=$F37,IF(DP$5<=#REF!,$K37,0),0)","v":{"$error":"#REF!"}},{"$f":"IF(DQ$5>=$F37,IF(DQ$5<=#REF!,$K37,0),0)","v":{"$error":"#REF!"}},{"$f":"IF(DR$5>=$F37,IF(DR$5<=#REF!,$K37,0),0)","v":{"$error":"#REF!"}},{"$error":"#REF!"},"",""]
[null,null,null,null,null,null,{"$f":"IF($D38=\"\",0,VLOOKUP(($DU38&$C38&$D38),単価情報!$B$66:$C$932,2,FALSE))","v":0},0,0,0,{"$f":"IF(E38=0,0,ROUND(E38/#REF!,1))","v":0},{"$f":"IF(L$5>=$F38,IF(L$5<=#REF!,$K38,0),0)","v":{"$error":"#REF!"}},{"$f":"IF(M$5>=$F38,IF(M$5<=#REF!,$K38,0),0)","v":{"$error":"#REF!"}},{"$f":"IF(N$5>=$F38,IF(N$5<=#REF!,$K38,0),0)","v":{"$error":"#REF!"}},{"$f":"IF(O$5>=$F38,IF(O$5<=#REF!,$K38,0),0)","v":{"$error":"#REF!"}},{"$f":"IF(P$5>=$F38,IF(P$5<=#REF!,$K38,0),0)","v":{"$error":"#REF!"}},{"$f":"IF(Q$5>=$F38,IF(Q$5<=#REF!,$K38,0),0)","v":{"$error":"#REF!"}},{"$f":"IF(R$5>=$F38,IF(R$5<=#REF!,$K38,0),0)","v":{"$error":"#REF!"}},{"$f":"IF(S$5>=$F38,IF(S$5<=#REF!,$K38,0),0)","v":{"$error":"#REF!"}},{"$f":"IF(T$5>=$F38,IF(T$5<=#REF!,$K38,0),0)","v":{"$error":"#REF!"}},{"$f":"IF(U$5>=$F38,IF(U$5<=#REF!,$K38,0),0)","v":{"$error":"#REF!"}},{"$f":"IF(V$5>=$F38,IF(V$5<=#REF!,$K38,0),0)","v":{"$error":"#REF!"}},{"$f":"IF(W$5>=$F38,IF(W$5<=#REF!,$K38,0),0)","v":{"$error":"#REF!"}},{"$f":"IF(X$5>=$F38,IF(X$5<=#REF!,$K38,0),0)","v":{"$error":"#REF!"}},{"$f":"IF(Y$5>=$F38,IF(Y$5<=#REF!,$K38,0),0)","v":{"$error":"#REF!"}},{"$f":"IF(Z$5>=$F38,IF(Z$5<=#REF!,$K38,0),0)","v":{"$error":"#REF!"}},{"$f":"IF(AA$5>=$F38,IF(AA$5<=#REF!,$K38,0),0)","v":{"$error":"#REF!"}},{"$f":"IF(AB$5>=$F38,IF(AB$5<=#REF!,$K38,0),0)","v":{"$error":"#REF!"}},{"$f":"IF(AC$5>=$F38,IF(AC$5<=#REF!,$K38,0),0)","v":{"$error":"#REF!"}},{"$f":"IF(AD$5>=$F38,IF(AD$5<=#REF!,$K38,0),0)","v":{"$error":"#REF!"}},{"$f":"IF(AE$5>=$F38,IF(AE$5<=#REF!,$K38,0),0)","v":{"$error":"#REF!"}},{"$f":"IF(AF$5>=$F38,IF(AF$5<=#REF!,$K38,0),0)","v":{"$error":"#REF!"}},{"$f":"IF(AG$5>=$F38,IF(AG$5<=#REF!,$K38,0),0)","v":{"$error":"#REF!"}},{"$f":"IF(AH$5>=$F38,IF(AH$5<=#REF!,$K38,0),0)","v":{"$error":"#REF!"}},{"$f":"IF(AI$5>=$F38,IF(AI$5<=#REF!,$K38,0),0)","v":{"$error":"#REF!"}},{"$f":"IF(AJ$5>=$F38,IF(AJ$5<=#REF!,$K38,0),0)","v":{"$error":"#REF!"}},{"$f":"IF(AK$5>=$F38,IF(AK$5<=#REF!,$K38,0),0)","v":{"$error":"#REF!"}},{"$f":"IF(AL$5>=$F38,IF(AL$5<=#REF!,$K38,0),0)","v":{"$error":"#REF!"}},{"$f":"IF(AM$5>=$F38,IF(AM$5<=#REF!,$K38,0),0)","v":{"$error":"#REF!"}},{"$f":"IF(AN$5>=$F38,IF(AN$5<=#REF!,$K38,0),0)","v":{"$error":"#REF!"}},{"$f":"IF(AO$5>=$F38,IF(AO$5<=#REF!,$K38,0),0)","v":{"$error":"#REF!"}},{"$f":"IF(AP$5>=$F38,IF(AP$5<=#REF!,$K38,0),0)","v":{"$error":"#REF!"}},{"$f":"IF(AQ$5>=$F38,IF(AQ$5<=#REF!,$K38,0),0)","v":{"$error":"#REF!"}},{"$f":"IF(AR$5>=$F38,IF(AR$5<=#REF!,$K38,0),0)","v":{"$error":"#REF!"}},{"$f":"IF(AS$5>=$F38,IF(AS$5<=#REF!,$K38,0),0)","v":{"$error":"#REF!"}},{"$f":"IF(AT$5>=$F38,IF(AT$5<=#REF!,$K38,0),0)","v":{"$error":"#REF!"}},{"$f":"IF(AU$5>=$F38,IF(AU$5<=#REF!,$K38,0),0)","v":{"$error":"#REF!"}},{"$f":"IF(AV$5>=$F38,IF(AV$5<=#REF!,$K38,0),0)","v":{"$error":"#REF!"}},{"$f":"IF(AW$5>=$F38,IF(AW$5<=#REF!,$K38,0),0)","v":{"$error":"#REF!"}},{"$f":"IF(AX$5>=$F38,IF(AX$5<=#REF!,$K38,0),0)","v":{"$error":"#REF!"}},{"$f":"IF(AY$5>=$F38,IF(AY$5<=#REF!,$K38,0),0)","v":{"$error":"#REF!"}},{"$f":"IF(AZ$5>=$F38,IF(AZ$5<=#REF!,$K38,0),0)","v":{"$error":"#REF!"}},{"$f":"IF(BA$5>=$F38,IF(BA$5<=#REF!,$K38,0),0)","v":{"$error":"#REF!"}},{"$f":"IF(BB$5>=$F38,IF(BB$5<=#REF!,$K38,0),0)","v":{"$error":"#REF!"}},{"$f":"IF(BC$5>=$F38,IF(BC$5<=#REF!,$K38,0),0)","v":{"$error":"#REF!"}},{"$f":"IF(BD$5>=$F38,IF(BD$5<=#REF!,$K38,0),0)","v":{"$error":"#REF!"}},{"$f":"IF(BE$5>=$F38,IF(BE$5<=#REF!,$K38,0),0)","v":{"$error":"#REF!"}},{"$f":"IF(BF$5>=$F38,IF(BF$5<=#REF!,$K38,0),0)","v":{"$error":"#REF!"}},{"$f":"IF(BG$5>=$F38,IF(BG$5<=#REF!,$K38,0),0)","v":{"$error":"#REF!"}},{"$f":"IF(BH$5>=$F38,IF(BH$5<=#REF!,$K38,0),0)","v":{"$error":"#REF!"}},{"$f":"IF(BI$5>=$F38,IF(BI$5<=#REF!,$K38,0),0)","v":{"$error":"#REF!"}},{"$f":"IF(BJ$5>=$F38,IF(BJ$5<=#REF!,$K38,0),0)","v":{"$error":"#REF!"}},{"$f":"IF(BK$5>=$F38,IF(BK$5<=#REF!,$K38,0),0)","v":{"$error":"#REF!"}},{"$f":"IF(BL$5>=$F38,IF(BL$5<=#REF!,$K38,0),0)","v":{"$error":"#REF!"}},{"$f":"IF(BM$5>=$F38,IF(BM$5<=#REF!,$K38,0),0)","v":{"$error":"#REF!"}},{"$f":"IF(BN$5>=$F38,IF(BN$5<=#REF!,$K38,0),0)","v":{"$error":"#REF!"}},{"$f":"IF(BO$5>=$F38,IF(BO$5<=#REF!,$K38,0),0)","v":{"$error":"#REF!"}},{"$f":"IF(BP$5>=$F38,IF(BP$5<=#REF!,$K38,0),0)","v":{"$error":"#REF!"}},{"$f":"IF(BQ$5>=$F38,IF(BQ$5<=#REF!,$K38,0),0)","v":{"$error":"#REF!"}},{"$f":"IF(BR$5>=$F38,IF(BR$5<=#REF!,$K38,0),0)","v":{"$error":"#REF!"}},{"$f":"IF(BS$5>=$F38,IF(BS$5<=#REF!,$K38,0),0)","v":{"$error":"#REF!"}},{"$f":"IF(BT$5>=$F38,IF(BT$5<=#REF!,$K38,0),0)","v":{"$error":"#REF!"}},{"$f":"IF(BU$5>=$F38,IF(BU$5<=#REF!,$K38,0),0)","v":{"$error":"#REF!"}},{"$f":"IF(BV$5>=$F38,IF(BV$5<=#REF!,$K38,0),0)","v":{"$error":"#REF!"}},{"$f":"IF(BW$5>=$F38,IF(BW$5<=#REF!,$K38,0),0)","v":{"$error":"#REF!"}},{"$f":"IF(BX$5>=$F38,IF(BX$5<=#REF!,$K38,0),0)","v":{"$error":"#REF!"}},{"$f":"IF(BY$5>=$F38,IF(BY$5<=#REF!,$K38,0),0)","v":{"$error":"#REF!"}},{"$f":"IF(BZ$5>=$F38,IF(BZ$5<=#REF!,$K38,0),0)","v":{"$error":"#REF!"}},{"$f":"IF(CA$5>=$F38,IF(CA$5<=#REF!,$K38,0),0)","v":{"$error":"#REF!"}},{"$f":"IF(CB$5>=$F38,IF(CB$5<=#REF!,$K38,0),0)","v":{"$error":"#REF!"}},{"$f":"IF(CC$5>=$F38,IF(CC$5<=#REF!,$K38,0),0)","v":{"$error":"#REF!"}},{"$f":"IF(CD$5>=$F38,IF(CD$5<=#REF!,$K38,0),0)","v":{"$error":"#REF!"}},{"$f":"IF(CE$5>=$F38,IF(CE$5<=#REF!,$K38,0),0)","v":{"$error":"#REF!"}},{"$f":"IF(CF$5>=$F38,IF(CF$5<=#REF!,$K38,0),0)","v":{"$error":"#REF!"}},{"$f":"IF(CG$5>=$F38,IF(CG$5<=#REF!,$K38,0),0)","v":{"$error":"#REF!"}},{"$f":"IF(CH$5>=$F38,IF(CH$5<=#REF!,$K38,0),0)","v":{"$error":"#REF!"}},{"$f":"IF(CI$5>=$F38,IF(CI$5<=#REF!,$K38,0),0)","v":{"$error":"#REF!"}},{"$f":"IF(CJ$5>=$F38,IF(CJ$5<=#REF!,$K38,0),0)","v":{"$error":"#REF!"}},{"$f":"IF(CK$5>=$F38,IF(CK$5<=#REF!,$K38,0),0)","v":{"$error":"#REF!"}},{"$f":"IF(CL$5>=$F38,IF(CL$5<=#REF!,$K38,0),0)","v":{"$error":"#REF!"}},{"$f":"IF(CM$5>=$F38,IF(CM$5<=#REF!,$K38,0),0)","v":{"$error":"#REF!"}},{"$f":"IF(CN$5>=$F38,IF(CN$5<=#REF!,$K38,0),0)","v":{"$error":"#REF!"}},{"$f":"IF(CO$5>=$F38,IF(CO$5<=#REF!,$K38,0),0)","v":{"$error":"#REF!"}},{"$f":"IF(CP$5>=$F38,IF(CP$5<=#REF!,$K38,0),0)","v":{"$error":"#REF!"}},{"$f":"IF(CQ$5>=$F38,IF(CQ$5<=#REF!,$K38,0),0)","v":{"$error":"#REF!"}},{"$f":"IF(CR$5>=$F38,IF(CR$5<=#REF!,$K38,0),0)","v":{"$error":"#REF!"}},{"$f":"IF(CS$5>=$F38,IF(CS$5<=#REF!,$K38,0),0)","v":{"$error":"#REF!"}},{"$f":"IF(CT$5>=$F38,IF(CT$5<=#REF!,$K38,0),0)","v":{"$error":"#REF!"}},{"$f":"IF(CU$5>=$F38,IF(CU$5<=#REF!,$K38,0),0)","v":{"$error":"#REF!"}},{"$f":"IF(CV$5>=$F38,IF(CV$5<=#REF!,$K38,0),0)","v":{"$error":"#REF!"}},{"$f":"IF(CW$5>=$F38,IF(CW$5<=#REF!,$K38,0),0)","v":{"$error":"#REF!"}},{"$f":"IF(CX$5>=$F38,IF(CX$5<=#REF!,$K38,0),0)","v":{"$error":"#REF!"}},{"$f":"IF(CY$5>=$F38,IF(CY$5<=#REF!,$K38,0),0)","v":{"$error":"#REF!"}},{"$f":"IF(CZ$5>=$F38,IF(CZ$5<=#REF!,$K38,0),0)","v":{"$error":"#REF!"}},{"$f":"IF(DA$5>=$F38,IF(DA$5<=#REF!,$K38,0),0)","v":{"$error":"#REF!"}},{"$f":"IF(DB$5>=$F38,IF(DB$5<=#REF!,$K38,0),0)","v":{"$error":"#REF!"}},{"$f":"IF(DC$5>=$F38,IF(DC$5<=#REF!,$K38,0),0)","v":{"$error":"#REF!"}},{"$f":"IF(DD$5>=$F38,IF(DD$5<=#REF!,$K38,0),0)","v":{"$error":"#REF!"}},{"$f":"IF(DE$5>=$F38,IF(DE$5<=#REF!,$K38,0),0)","v":{"$error":"#REF!"}},{"$f":"IF(DF$5>=$F38,IF(DF$5<=#REF!,$K38,0),0)","v":{"$error":"#REF!"}},{"$f":"IF(DG$5>=$F38,IF(DG$5<=#REF!,$K38,0),0)","v":{"$error":"#REF!"}},{"$f":"IF(DH$5>=$F38,IF(DH$5<=#REF!,$K38,0),0)","v":{"$error":"#REF!"}},{"$f":"IF(DI$5>=$F38,IF(DI$5<=#REF!,$K38,0),0)","v":{"$error":"#REF!"}},{"$f":"IF(DJ$5>=$F38,IF(DJ$5<=#REF!,$K38,0),0)","v":{"$error":"#REF!"}},{"$f":"IF(DK$5>=$F38,IF(DK$5<=#REF!,$K38,0),0)","v":{"$error":"#REF!"}},{"$f":"IF(DL$5>=$F38,IF(DL$5<=#REF!,$K38,0),0)","v":{"$error":"#REF!"}},{"$f":"IF(DM$5>=$F38,IF(DM$5<=#REF!,$K38,0),0)","v":{"$error":"#REF!"}},{"$f":"IF(DN$5>=$F38,IF(DN$5<=#REF!,$K38,0),0)","v":{"$error":"#REF!"}},{"$f":"IF(DO$5>=$F38,IF(DO$5<=#REF!,$K38,0),0)","v":{"$error":"#REF!"}},{"$f":"IF(DP$5>=$F38,IF(DP$5<=#REF!,$K38,0),0)","v":{"$error":"#REF!"}},{"$f":"IF(DQ$5>=$F38,IF(DQ$5<=#REF!,$K38,0),0)","v":{"$error":"#REF!"}},{"$f":"IF(DR$5>=$F38,IF(DR$5<=#REF!,$K38,0),0)","v":{"$error":"#REF!"}},{"$error":"#REF!"},"",""]
[null,null,null,null,null,null,{"$f":"IF($D39=\"\",0,VLOOKUP(($DU39&$C39&$D39),単価情報!$B$66:$C$932,2,FALSE))","v":0},0,0,0,{"$f":"IF(E39=0,0,ROUND(E39/#REF!,1))","v":0},{"$f":"IF(L$5>=$F39,IF(L$5<=#REF!,$K39,0),0)","v":{"$error":"#REF!"}},{"$f":"IF(M$5>=$F39,IF(M$5<=#REF!,$K39,0),0)","v":{"$error":"#REF!"}},{"$f":"IF(N$5>=$F39,IF(N$5<=#REF!,$K39,0),0)","v":{"$error":"#REF!"}},{"$f":"IF(O$5>=$F39,IF(O$5<=#REF!,$K39,0),0)","v":{"$error":"#REF!"}},{"$f":"IF(P$5>=$F39,IF(P$5<=#REF!,$K39,0),0)","v":{"$error":"#REF!"}},{"$f":"IF(Q$5>=$F39,IF(Q$5<=#REF!,$K39,0),0)","v":{"$error":"#REF!"}},{"$f":"IF(R$5>=$F39,IF(R$5<=#REF!,$K39,0),0)","v":{"$error":"#REF!"}},{"$f":"IF(S$5>=$F39,IF(S$5<=#REF!,$K39,0),0)","v":{"$error":"#REF!"}},{"$f":"IF(T$5>=$F39,IF(T$5<=#REF!,$K39,0),0)","v":{"$error":"#REF!"}},{"$f":"IF(U$5>=$F39,IF(U$5<=#REF!,$K39,0),0)","v":{"$error":"#REF!"}},{"$f":"IF(V$5>=$F39,IF(V$5<=#REF!,$K39,0),0)","v":{"$error":"#REF!"}},{"$f":"IF(W$5>=$F39,IF(W$5<=#REF!,$K39,0),0)","v":{"$error":"#REF!"}},{"$f":"IF(X$5>=$F39,IF(X$5<=#REF!,$K39,0),0)","v":{"$error":"#REF!"}},{"$f":"IF(Y$5>=$F39,IF(Y$5<=#REF!,$K39,0),0)","v":{"$error":"#REF!"}},{"$f":"IF(Z$5>=$F39,IF(Z$5<=#REF!,$K39,0),0)","v":{"$error":"#REF!"}},{"$f":"IF(AA$5>=$F39,IF(AA$5<=#REF!,$K39,0),0)","v":{"$error":"#REF!"}},{"$f":"IF(AB$5>=$F39,IF(AB$5<=#REF!,$K39,0),0)","v":{"$error":"#REF!"}},{"$f":"IF(AC$5>=$F39,IF(AC$5<=#REF!,$K39,0),0)","v":{"$error":"#REF!"}},{"$f":"IF(AD$5>=$F39,IF(AD$5<=#REF!,$K39,0),0)","v":{"$error":"#REF!"}},{"$f":"IF(AE$5>=$F39,IF(AE$5<=#REF!,$K39,0),0)","v":{"$error":"#REF!"}},{"$f":"IF(AF$5>=$F39,IF(AF$5<=#REF!,$K39,0),0)","v":{"$error":"#REF!"}},{"$f":"IF(AG$5>=$F39,IF(AG$5<=#REF!,$K39,0),0)","v":{"$error":"#REF!"}},{"$f":"IF(AH$5>=$F39,IF(AH$5<=#REF!,$K39,0),0)","v":{"$error":"#REF!"}},{"$f":"IF(AI$5>=$F39,IF(AI$5<=#REF!,$K39,0),0)","v":{"$error":"#REF!"}},{"$f":"IF(AJ$5>=$F39,IF(AJ$5<=#REF!,$K39,0),0)","v":{"$error":"#REF!"}},{"$f":"IF(AK$5>=$F39,IF(AK$5<=#REF!,$K39,0),0)","v":{"$error":"#REF!"}},{"$f":"IF(AL$5>=$F39,IF(AL$5<=#REF!,$K39,0),0)","v":{"$error":"#REF!"}},{"$f":"IF(AM$5>=$F39,IF(AM$5<=#REF!,$K39,0),0)","v":{"$error":"#REF!"}},{"$f":"IF(AN$5>=$F39,IF(AN$5<=#REF!,$K39,0),0)","v":{"$error":"#REF!"}},{"$f":"IF(AO$5>=$F39,IF(AO$5<=#REF!,$K39,0),0)","v":{"$error":"#REF!"}},{"$f":"IF(AP$5>=$F39,IF(AP$5<=#REF!,$K39,0),0)","v":{"$error":"#REF!"}},{"$f":"IF(AQ$5>=$F39,IF(AQ$5<=#REF!,$K39,0),0)","v":{"$error":"#REF!"}},{"$f":"IF(AR$5>=$F39,IF(AR$5<=#REF!,$K39,0),0)","v":{"$error":"#REF!"}},{"$f":"IF(AS$5>=$F39,IF(AS$5<=#REF!,$K39,0),0)","v":{"$error":"#REF!"}},{"$f":"IF(AT$5>=$F39,IF(AT$5<=#REF!,$K39,0),0)","v":{"$error":"#REF!"}},{"$f":"IF(AU$5>=$F39,IF(AU$5<=#REF!,$K39,0),0)","v":{"$error":"#REF!"}},{"$f":"IF(AV$5>=$F39,IF(AV$5<=#REF!,$K39,0),0)","v":{"$error":"#REF!"}},{"$f":"IF(AW$5>=$F39,IF(AW$5<=#REF!,$K39,0),0)","v":{"$error":"#REF!"}},{"$f":"IF(AX$5>=$F39,IF(AX$5<=#REF!,$K39,0),0)","v":{"$error":"#REF!"}},{"$f":"IF(AY$5>=$F39,IF(AY$5<=#REF!,$K39,0),0)","v":{"$error":"#REF!"}},{"$f":"IF(AZ$5>=$F39,IF(AZ$5<=#REF!,$K39,0),0)","v":{"$error":"#REF!"}},{"$f":"IF(BA$5>=$F39,IF(BA$5<=#REF!,$K39,0),0)","v":{"$error":"#REF!"}},{"$f":"IF(BB$5>=$F39,IF(BB$5<=#REF!,$K39,0),0)","v":{"$error":"#REF!"}},{"$f":"IF(BC$5>=$F39,IF(BC$5<=#REF!,$K39,0),0)","v":{"$error":"#REF!"}},{"$f":"IF(BD$5>=$F39,IF(BD$5<=#REF!,$K39,0),0)","v":{"$error":"#REF!"}},{"$f":"IF(BE$5>=$F39,IF(BE$5<=#REF!,$K39,0),0)","v":{"$error":"#REF!"}},{"$f":"IF(BF$5>=$F39,IF(BF$5<=#REF!,$K39,0),0)","v":{"$error":"#REF!"}},{"$f":"IF(BG$5>=$F39,IF(BG$5<=#REF!,$K39,0),0)","v":{"$error":"#REF!"}},{"$f":"IF(BH$5>=$F39,IF(BH$5<=#REF!,$K39,0),0)","v":{"$error":"#REF!"}},{"$f":"IF(BI$5>=$F39,IF(BI$5<=#REF!,$K39,0),0)","v":{"$error":"#REF!"}},{"$f":"IF(BJ$5>=$F39,IF(BJ$5<=#REF!,$K39,0),0)","v":{"$error":"#REF!"}},{"$f":"IF(BK$5>=$F39,IF(BK$5<=#REF!,$K39,0),0)","v":{"$error":"#REF!"}},{"$f":"IF(BL$5>=$F39,IF(BL$5<=#REF!,$K39,0),0)","v":{"$error":"#REF!"}},{"$f":"IF(BM$5>=$F39,IF(BM$5<=#REF!,$K39,0),0)","v":{"$error":"#REF!"}},{"$f":"IF(BN$5>=$F39,IF(BN$5<=#REF!,$K39,0),0)","v":{"$error":"#REF!"}},{"$f":"IF(BO$5>=$F39,IF(BO$5<=#REF!,$K39,0),0)","v":{"$error":"#REF!"}},{"$f":"IF(BP$5>=$F39,IF(BP$5<=#REF!,$K39,0),0)","v":{"$error":"#REF!"}},{"$f":"IF(BQ$5>=$F39,IF(BQ$5<=#REF!,$K39,0),0)","v":{"$error":"#REF!"}},{"$f":"IF(BR$5>=$F39,IF(BR$5<=#REF!,$K39,0),0)","v":{"$error":"#REF!"}},{"$f":"IF(BS$5>=$F39,IF(BS$5<=#REF!,$K39,0),0)","v":{"$error":"#REF!"}},{"$f":"IF(BT$5>=$F39,IF(BT$5<=#REF!,$K39,0),0)","v":{"$error":"#REF!"}},{"$f":"IF(BU$5>=$F39,IF(BU$5<=#REF!,$K39,0),0)","v":{"$error":"#REF!"}},{"$f":"IF(BV$5>=$F39,IF(BV$5<=#REF!,$K39,0),0)","v":{"$error":"#REF!"}},{"$f":"IF(BW$5>=$F39,IF(BW$5<=#REF!,$K39,0),0)","v":{"$error":"#REF!"}},{"$f":"IF(BX$5>=$F39,IF(BX$5<=#REF!,$K39,0),0)","v":{"$error":"#REF!"}},{"$f":"IF(BY$5>=$F39,IF(BY$5<=#REF!,$K39,0),0)","v":{"$error":"#REF!"}},{"$f":"IF(BZ$5>=$F39,IF(BZ$5<=#REF!,$K39,0),0)","v":{"$error":"#REF!"}},{"$f":"IF(CA$5>=$F39,IF(CA$5<=#REF!,$K39,0),0)","v":{"$error":"#REF!"}},{"$f":"IF(CB$5>=$F39,IF(CB$5<=#REF!,$K39,0),0)","v":{"$error":"#REF!"}},{"$f":"IF(CC$5>=$F39,IF(CC$5<=#REF!,$K39,0),0)","v":{"$error":"#REF!"}},{"$f":"IF(CD$5>=$F39,IF(CD$5<=#REF!,$K39,0),0)","v":{"$error":"#REF!"}},{"$f":"IF(CE$5>=$F39,IF(CE$5<=#REF!,$K39,0),0)","v":{"$error":"#REF!"}},{"$f":"IF(CF$5>=$F39,IF(CF$5<=#REF!,$K39,0),0)","v":{"$error":"#REF!"}},{"$f":"IF(CG$5>=$F39,IF(CG$5<=#REF!,$K39,0),0)","v":{"$error":"#REF!"}},{"$f":"IF(CH$5>=$F39,IF(CH$5<=#REF!,$K39,0),0)","v":{"$error":"#REF!"}},{"$f":"IF(CI$5>=$F39,IF(CI$5<=#REF!,$K39,0),0)","v":{"$error":"#REF!"}},{"$f":"IF(CJ$5>=$F39,IF(CJ$5<=#REF!,$K39,0),0)","v":{"$error":"#REF!"}},{"$f":"IF(CK$5>=$F39,IF(CK$5<=#REF!,$K39,0),0)","v":{"$error":"#REF!"}},{"$f":"IF(CL$5>=$F39,IF(CL$5<=#REF!,$K39,0),0)","v":{"$error":"#REF!"}},{"$f":"IF(CM$5>=$F39,IF(CM$5<=#REF!,$K39,0),0)","v":{"$error":"#REF!"}},{"$f":"IF(CN$5>=$F39,IF(CN$5<=#REF!,$K39,0),0)","v":{"$error":"#REF!"}},{"$f":"IF(CO$5>=$F39,IF(CO$5<=#REF!,$K39,0),0)","v":{"$error":"#REF!"}},{"$f":"IF(CP$5>=$F39,IF(CP$5<=#REF!,$K39,0),0)","v":{"$error":"#REF!"}},{"$f":"IF(CQ$5>=$F39,IF(CQ$5<=#REF!,$K39,0),0)","v":{"$error":"#REF!"}},{"$f":"IF(CR$5>=$F39,IF(CR$5<=#REF!,$K39,0),0)","v":{"$error":"#REF!"}},{"$f":"IF(CS$5>=$F39,IF(CS$5<=#REF!,$K39,0),0)","v":{"$error":"#REF!"}},{"$f":"IF(CT$5>=$F39,IF(CT$5<=#REF!,$K39,0),0)","v":{"$error":"#REF!"}},{"$f":"IF(CU$5>=$F39,IF(CU$5<=#REF!,$K39,0),0)","v":{"$error":"#REF!"}},{"$f":"IF(CV$5>=$F39,IF(CV$5<=#REF!,$K39,0),0)","v":{"$error":"#REF!"}},{"$f":"IF(CW$5>=$F39,IF(CW$5<=#REF!,$K39,0),0)","v":{"$error":"#REF!"}},{"$f":"IF(CX$5>=$F39,IF(CX$5<=#REF!,$K39,0),0)","v":{"$error":"#REF!"}},{"$f":"IF(CY$5>=$F39,IF(CY$5<=#REF!,$K39,0),0)","v":{"$error":"#REF!"}},{"$f":"IF(CZ$5>=$F39,IF(CZ$5<=#REF!,$K39,0),0)","v":{"$error":"#REF!"}},{"$f":"IF(DA$5>=$F39,IF(DA$5<=#REF!,$K39,0),0)","v":{"$error":"#REF!"}},{"$f":"IF(DB$5>=$F39,IF(DB$5<=#REF!,$K39,0),0)","v":{"$error":"#REF!"}},{"$f":"IF(DC$5>=$F39,IF(DC$5<=#REF!,$K39,0),0)","v":{"$error":"#REF!"}},{"$f":"IF(DD$5>=$F39,IF(DD$5<=#REF!,$K39,0),0)","v":{"$error":"#REF!"}},{"$f":"IF(DE$5>=$F39,IF(DE$5<=#REF!,$K39,0),0)","v":{"$error":"#REF!"}},{"$f":"IF(DF$5>=$F39,IF(DF$5<=#REF!,$K39,0),0)","v":{"$error":"#REF!"}},{"$f":"IF(DG$5>=$F39,IF(DG$5<=#REF!,$K39,0),0)","v":{"$error":"#REF!"}},{"$f":"IF(DH$5>=$F39,IF(DH$5<=#REF!,$K39,0),0)","v":{"$error":"#REF!"}},{"$f":"IF(DI$5>=$F39,IF(DI$5<=#REF!,$K39,0),0)","v":{"$error":"#REF!"}},{"$f":"IF(DJ$5>=$F39,IF(DJ$5<=#REF!,$K39,0),0)","v":{"$error":"#REF!"}},{"$f":"IF(DK$5>=$F39,IF(DK$5<=#REF!,$K39,0),0)","v":{"$error":"#REF!"}},{"$f":"IF(DL$5>=$F39,IF(DL$5<=#REF!,$K39,0),0)","v":{"$error":"#REF!"}},{"$f":"IF(DM$5>=$F39,IF(DM$5<=#REF!,$K39,0),0)","v":{"$error":"#REF!"}},{"$f":"IF(DN$5>=$F39,IF(DN$5<=#REF!,$K39,0),0)","v":{"$error":"#REF!"}},{"$f":"IF(DO$5>=$F39,IF(DO$5<=#REF!,$K39,0),0)","v":{"$error":"#REF!"}},{"$f":"IF(DP$5>=$F39,IF(DP$5<=#REF!,$K39,0),0)","v":{"$error":"#REF!"}},{"$f":"IF(DQ$5>=$F39,IF(DQ$5<=#REF!,$K39,0),0)","v":{"$error":"#REF!"}},{"$f":"IF(DR$5>=$F39,IF(DR$5<=#REF!,$K39,0),0)","v":{"$error":"#REF!"}},{"$error":"#REF!"},"",""]
[null,null,null,null,null,null,{"$f":"IF($D40=\"\",0,VLOOKUP(($DU40&$C40&$D40),単価情報!$B$66:$C$932,2,FALSE))","v":0},0,0,0,{"$f":"IF(E40=0,0,ROUND(E40/#REF!,1))","v":0},{"$f":"IF(L$5>=$F40,IF(L$5<=#REF!,$K40,0),0)","v":{"$error":"#REF!"}},{"$f":"IF(M$5>=$F40,IF(M$5<=#REF!,$K40,0),0)","v":{"$error":"#REF!"}},{"$f":"IF(N$5>=$F40,IF(N$5<=#REF!,$K40,0),0)","v":{"$error":"#REF!"}},{"$f":"IF(O$5>=$F40,IF(O$5<=#REF!,$K40,0),0)","v":{"$error":"#REF!"}},{"$f":"IF(P$5>=$F40,IF(P$5<=#REF!,$K40,0),0)","v":{"$error":"#REF!"}},{"$f":"IF(Q$5>=$F40,IF(Q$5<=#REF!,$K40,0),0)","v":{"$error":"#REF!"}},{"$f":"IF(R$5>=$F40,IF(R$5<=#REF!,$K40,0),0)","v":{"$error":"#REF!"}},{"$f":"IF(S$5>=$F40,IF(S$5<=#REF!,$K40,0),0)","v":{"$error":"#REF!"}},{"$f":"IF(T$5>=$F40,IF(T$5<=#REF!,$K40,0),0)","v":{"$error":"#REF!"}},{"$f":"IF(U$5>=$F40,IF(U$5<=#REF!,$K40,0),0)","v":{"$error":"#REF!"}},{"$f":"IF(V$5>=$F40,IF(V$5<=#REF!,$K40,0),0)","v":{"$error":"#REF!"}},{"$f":"IF(W$5>=$F40,IF(W$5<=#REF!,$K40,0),0)","v":{"$error":"#REF!"}},{"$f":"IF(X$5>=$F40,IF(X$5<=#REF!,$K40,0),0)","v":{"$error":"#REF!"}},{"$f":"IF(Y$5>=$F40,IF(Y$5<=#REF!,$K40,0),0)","v":{"$error":"#REF!"}},{"$f":"IF(Z$5>=$F40,IF(Z$5<=#REF!,$K40,0),0)","v":{"$error":"#REF!"}},{"$f":"IF(AA$5>=$F40,IF(AA$5<=#REF!,$K40,0),0)","v":{"$error":"#REF!"}},{"$f":"IF(AB$5>=$F40,IF(AB$5<=#REF!,$K40,0),0)","v":{"$error":"#REF!"}},{"$f":"IF(AC$5>=$F40,IF(AC$5<=#REF!,$K40,0),0)","v":{"$error":"#REF!"}},{"$f":"IF(AD$5>=$F40,IF(AD$5<=#REF!,$K40,0),0)","v":{"$error":"#REF!"}},{"$f":"IF(AE$5>=$F40,IF(AE$5<=#REF!,$K40,0),0)","v":{"$error":"#REF!"}},{"$f":"IF(AF$5>=$F40,IF(AF$5<=#REF!,$K40,0),0)","v":{"$error":"#REF!"}},{"$f":"IF(AG$5>=$F40,IF(AG$5<=#REF!,$K40,0),0)","v":{"$error":"#REF!"}},{"$f":"IF(AH$5>=$F40,IF(AH$5<=#REF!,$K40,0),0)","v":{"$error":"#REF!"}},{"$f":"IF(AI$5>=$F40,IF(AI$5<=#REF!,$K40,0),0)","v":{"$error":"#REF!"}},{"$f":"IF(AJ$5>=$F40,IF(AJ$5<=#REF!,$K40,0),0)","v":{"$error":"#REF!"}},{"$f":"IF(AK$5>=$F40,IF(AK$5<=#REF!,$K40,0),0)","v":{"$error":"#REF!"}},{"$f":"IF(AL$5>=$F40,IF(AL$5<=#REF!,$K40,0),0)","v":{"$error":"#REF!"}},{"$f":"IF(AM$5>=$F40,IF(AM$5<=#REF!,$K40,0),0)","v":{"$error":"#REF!"}},{"$f":"IF(AN$5>=$F40,IF(AN$5<=#REF!,$K40,0),0)","v":{"$error":"#REF!"}},{"$f":"IF(AO$5>=$F40,IF(AO$5<=#REF!,$K40,0),0)","v":{"$error":"#REF!"}},{"$f":"IF(AP$5>=$F40,IF(AP$5<=#REF!,$K40,0),0)","v":{"$error":"#REF!"}},{"$f":"IF(AQ$5>=$F40,IF(AQ$5<=#REF!,$K40,0),0)","v":{"$error":"#REF!"}},{"$f":"IF(AR$5>=$F40,IF(AR$5<=#REF!,$K40,0),0)","v":{"$error":"#REF!"}},{"$f":"IF(AS$5>=$F40,IF(AS$5<=#REF!,$K40,0),0)","v":{"$error":"#REF!"}},{"$f":"IF(AT$5>=$F40,IF(AT$5<=#REF!,$K40,0),0)","v":{"$error":"#REF!"}},{"$f":"IF(AU$5>=$F40,IF(AU$5<=#REF!,$K40,0),0)","v":{"$error":"#REF!"}},{"$f":"IF(AV$5>=$F40,IF(AV$5<=#REF!,$K40,0),0)","v":{"$error":"#REF!"}},{"$f":"IF(AW$5>=$F40,IF(AW$5<=#REF!,$K40,0),0)","v":{"$error":"#REF!"}},{"$f":"IF(AX$5>=$F40,IF(AX$5<=#REF!,$K40,0),0)","v":{"$error":"#REF!"}},{"$f":"IF(AY$5>=$F40,IF(AY$5<=#REF!,$K40,0),0)","v":{"$error":"#REF!"}},{"$f":"IF(AZ$5>=$F40,IF(AZ$5<=#REF!,$K40,0),0)","v":{"$error":"#REF!"}},{"$f":"IF(BA$5>=$F40,IF(BA$5<=#REF!,$K40,0),0)","v":{"$error":"#REF!"}},{"$f":"IF(BB$5>=$F40,IF(BB$5<=#REF!,$K40,0),0)","v":{"$error":"#REF!"}},{"$f":"IF(BC$5>=$F40,IF(BC$5<=#REF!,$K40,0),0)","v":{"$error":"#REF!"}},{"$f":"IF(BD$5>=$F40,IF(BD$5<=#REF!,$K40,0),0)","v":{"$error":"#REF!"}},{"$f":"IF(BE$5>=$F40,IF(BE$5<=#REF!,$K40,0),0)","v":{"$error":"#REF!"}},{"$f":"IF(BF$5>=$F40,IF(BF$5<=#REF!,$K40,0),0)","v":{"$error":"#REF!"}},{"$f":"IF(BG$5>=$F40,IF(BG$5<=#REF!,$K40,0),0)","v":{"$error":"#REF!"}},{"$f":"IF(BH$5>=$F40,IF(BH$5<=#REF!,$K40,0),0)","v":{"$error":"#REF!"}},{"$f":"IF(BI$5>=$F40,IF(BI$5<=#REF!,$K40,0),0)","v":{"$error":"#REF!"}},{"$f":"IF(BJ$5>=$F40,IF(BJ$5<=#REF!,$K40,0),0)","v":{"$error":"#REF!"}},{"$f":"IF(BK$5>=$F40,IF(BK$5<=#REF!,$K40,0),0)","v":{"$error":"#REF!"}},{"$f":"IF(BL$5>=$F40,IF(BL$5<=#REF!,$K40,0),0)","v":{"$error":"#REF!"}},{"$f":"IF(BM$5>=$F40,IF(BM$5<=#REF!,$K40,0),0)","v":{"$error":"#REF!"}},{"$f":"IF(BN$5>=$F40,IF(BN$5<=#REF!,$K40,0),0)","v":{"$error":"#REF!"}},{"$f":"IF(BO$5>=$F40,IF(BO$5<=#REF!,$K40,0),0)","v":{"$error":"#REF!"}},{"$f":"IF(BP$5>=$F40,IF(BP$5<=#REF!,$K40,0),0)","v":{"$error":"#REF!"}},{"$f":"IF(BQ$5>=$F40,IF(BQ$5<=#REF!,$K40,0),0)","v":{"$error":"#REF!"}},{"$f":"IF(BR$5>=$F40,IF(BR$5<=#REF!,$K40,0),0)","v":{"$error":"#REF!"}},{"$f":"IF(BS$5>=$F40,IF(BS$5<=#REF!,$K40,0),0)","v":{"$error":"#REF!"}},{"$f":"IF(BT$5>=$F40,IF(BT$5<=#REF!,$K40,0),0)","v":{"$error":"#REF!"}},{"$f":"IF(BU$5>=$F40,IF(BU$5<=#REF!,$K40,0),0)","v":{"$error":"#REF!"}},{"$f":"IF(BV$5>=$F40,IF(BV$5<=#REF!,$K40,0),0)","v":{"$error":"#REF!"}},{"$f":"IF(BW$5>=$F40,IF(BW$5<=#REF!,$K40,0),0)","v":{"$error":"#REF!"}},{"$f":"IF(BX$5>=$F40,IF(BX$5<=#REF!,$K40,0),0)","v":{"$error":"#REF!"}},{"$f":"IF(BY$5>=$F40,IF(BY$5<=#REF!,$K40,0),0)","v":{"$error":"#REF!"}},{"$f":"IF(BZ$5>=$F40,IF(BZ$5<=#REF!,$K40,0),0)","v":{"$error":"#REF!"}},{"$f":"IF(CA$5>=$F40,IF(CA$5<=#REF!,$K40,0),0)","v":{"$error":"#REF!"}},{"$f":"IF(CB$5>=$F40,IF(CB$5<=#REF!,$K40,0),0)","v":{"$error":"#REF!"}},{"$f":"IF(CC$5>=$F40,IF(CC$5<=#REF!,$K40,0),0)","v":{"$error":"#REF!"}},{"$f":"IF(CD$5>=$F40,IF(CD$5<=#REF!,$K40,0),0)","v":{"$error":"#REF!"}},{"$f":"IF(CE$5>=$F40,IF(CE$5<=#REF!,$K40,0),0)","v":{"$error":"#REF!"}},{"$f":"IF(CF$5>=$F40,IF(CF$5<=#REF!,$K40,0),0)","v":{"$error":"#REF!"}},{"$f":"IF(CG$5>=$F40,IF(CG$5<=#REF!,$K40,0),0)","v":{"$error":"#REF!"}},{"$f":"IF(CH$5>=$F40,IF(CH$5<=#REF!,$K40,0),0)","v":{"$error":"#REF!"}},{"$f":"IF(CI$5>=$F40,IF(CI$5<=#REF!,$K40,0),0)","v":{"$error":"#REF!"}},{"$f":"IF(CJ$5>=$F40,IF(CJ$5<=#REF!,$K40,0),0)","v":{"$error":"#REF!"}},{"$f":"IF(CK$5>=$F40,IF(CK$5<=#REF!,$K40,0),0)","v":{"$error":"#REF!"}},{"$f":"IF(CL$5>=$F40,IF(CL$5<=#REF!,$K40,0),0)","v":{"$error":"#REF!"}},{"$f":"IF(CM$5>=$F40,IF(CM$5<=#REF!,$K40,0),0)","v":{"$error":"#REF!"}},{"$f":"IF(CN$5>=$F40,IF(CN$5<=#REF!,$K40,0),0)","v":{"$error":"#REF!"}},{"$f":"IF(CO$5>=$F40,IF(CO$5<=#REF!,$K40,0),0)","v":{"$error":"#REF!"}},{"$f":"IF(CP$5>=$F40,IF(CP$5<=#REF!,$K40,0),0)","v":{"$error":"#REF!"}},{"$f":"IF(CQ$5>=$F40,IF(CQ$5<=#REF!,$K40,0),0)","v":{"$error":"#REF!"}},{"$f":"IF(CR$5>=$F40,IF(CR$5<=#REF!,$K40,0),0)","v":{"$error":"#REF!"}},{"$f":"IF(CS$5>=$F40,IF(CS$5<=#REF!,$K40,0),0)","v":{"$error":"#REF!"}},{"$f":"IF(CT$5>=$F40,IF(CT$5<=#REF!,$K40,0),0)","v":{"$error":"#REF!"}},{"$f":"IF(CU$5>=$F40,IF(CU$5<=#REF!,$K40,0),0)","v":{"$error":"#REF!"}},{"$f":"IF(CV$5>=$F40,IF(CV$5<=#REF!,$K40,0),0)","v":{"$error":"#REF!"}},{"$f":"IF(CW$5>=$F40,IF(CW$5<=#REF!,$K40,0),0)","v":{"$error":"#REF!"}},{"$f":"IF(CX$5>=$F40,IF(CX$5<=#REF!,$K40,0),0)","v":{"$error":"#REF!"}},{"$f":"IF(CY$5>=$F40,IF(CY$5<=#REF!,$K40,0),0)","v":{"$error":"#REF!"}},{"$f":"IF(CZ$5>=$F40,IF(CZ$5<=#REF!,$K40,0),0)","v":{"$error":"#REF!"}},{"$f":"IF(DA$5>=$F40,IF(DA$5<=#REF!,$K40,0),0)","v":{"$error":"#REF!"}},{"$f":"IF(DB$5>=$F40,IF(DB$5<=#REF!,$K40,0),0)","v":{"$error":"#REF!"}},{"$f":"IF(DC$5>=$F40,IF(DC$5<=#REF!,$K40,0),0)","v":{"$error":"#REF!"}},{"$f":"IF(DD$5>=$F40,IF(DD$5<=#REF!,$K40,0),0)","v":{"$error":"#REF!"}},{"$f":"IF(DE$5>=$F40,IF(DE$5<=#REF!,$K40,0),0)","v":{"$error":"#REF!"}},{"$f":"IF(DF$5>=$F40,IF(DF$5<=#REF!,$K40,0),0)","v":{"$error":"#REF!"}},{"$f":"IF(DG$5>=$F40,IF(DG$5<=#REF!,$K40,0),0)","v":{"$error":"#REF!"}},{"$f":"IF(DH$5>=$F40,IF(DH$5<=#REF!,$K40,0),0)","v":{"$error":"#REF!"}},{"$f":"IF(DI$5>=$F40,IF(DI$5<=#REF!,$K40,0),0)","v":{"$error":"#REF!"}},{"$f":"IF(DJ$5>=$F40,IF(DJ$5<=#REF!,$K40,0),0)","v":{"$error":"#REF!"}},{"$f":"IF(DK$5>=$F40,IF(DK$5<=#REF!,$K40,0),0)","v":{"$error":"#REF!"}},{"$f":"IF(DL$5>=$F40,IF(DL$5<=#REF!,$K40,0),0)","v":{"$error":"#REF!"}},{"$f":"IF(DM$5>=$F40,IF(DM$5<=#REF!,$K40,0),0)","v":{"$error":"#REF!"}},{"$f":"IF(DN$5>=$F40,IF(DN$5<=#REF!,$K40,0),0)","v":{"$error":"#REF!"}},{"$f":"IF(DO$5>=$F40,IF(DO$5<=#REF!,$K40,0),0)","v":{"$error":"#REF!"}},{"$f":"IF(DP$5>=$F40,IF(DP$5<=#REF!,$K40,0),0)","v":{"$error":"#REF!"}},{"$f":"IF(DQ$5>=$F40,IF(DQ$5<=#REF!,$K40,0),0)","v":{"$error":"#REF!"}},{"$f":"IF(DR$5>=$F40,IF(DR$5<=#REF!,$K40,0),0)","v":{"$error":"#REF!"}},{"$error":"#REF!"},"",""]
[null,null,null,null,null,null,{"$f":"IF($D41=\"\",0,VLOOKUP(($DU41&$C41&$D41),単価情報!$B$66:$C$932,2,FALSE))","v":0},0,0,0,{"$f":"IF(E41=0,0,ROUND(E41/#REF!,1))","v":0},{"$f":"IF(L$5>=$F41,IF(L$5<=#REF!,$K41,0),0)","v":{"$error":"#REF!"}},{"$f":"IF(M$5>=$F41,IF(M$5<=#REF!,$K41,0),0)","v":{"$error":"#REF!"}},{"$f":"IF(N$5>=$F41,IF(N$5<=#REF!,$K41,0),0)","v":{"$error":"#REF!"}},{"$f":"IF(O$5>=$F41,IF(O$5<=#REF!,$K41,0),0)","v":{"$error":"#REF!"}},{"$f":"IF(P$5>=$F41,IF(P$5<=#REF!,$K41,0),0)","v":{"$error":"#REF!"}},{"$f":"IF(Q$5>=$F41,IF(Q$5<=#REF!,$K41,0),0)","v":{"$error":"#REF!"}},{"$f":"IF(R$5>=$F41,IF(R$5<=#REF!,$K41,0),0)","v":{"$error":"#REF!"}},{"$f":"IF(S$5>=$F41,IF(S$5<=#REF!,$K41,0),0)","v":{"$error":"#REF!"}},{"$f":"IF(T$5>=$F41,IF(T$5<=#REF!,$K41,0),0)","v":{"$error":"#REF!"}},{"$f":"IF(U$5>=$F41,IF(U$5<=#REF!,$K41,0),0)","v":{"$error":"#REF!"}},{"$f":"IF(V$5>=$F41,IF(V$5<=#REF!,$K41,0),0)","v":{"$error":"#REF!"}},{"$f":"IF(W$5>=$F41,IF(W$5<=#REF!,$K41,0),0)","v":{"$error":"#REF!"}},{"$f":"IF(X$5>=$F41,IF(X$5<=#REF!,$K41,0),0)","v":{"$error":"#REF!"}},{"$f":"IF(Y$5>=$F41,IF(Y$5<=#REF!,$K41,0),0)","v":{"$error":"#REF!"}},{"$f":"IF(Z$5>=$F41,IF(Z$5<=#REF!,$K41,0),0)","v":{"$error":"#REF!"}},{"$f":"IF(AA$5>=$F41,IF(AA$5<=#REF!,$K41,0),0)","v":{"$error":"#REF!"}},{"$f":"IF(AB$5>=$F41,IF(AB$5<=#REF!,$K41,0),0)","v":{"$error":"#REF!"}},{"$f":"IF(AC$5>=$F41,IF(AC$5<=#REF!,$K41,0),0)","v":{"$error":"#REF!"}},{"$f":"IF(AD$5>=$F41,IF(AD$5<=#REF!,$K41,0),0)","v":{"$error":"#REF!"}},{"$f":"IF(AE$5>=$F41,IF(AE$5<=#REF!,$K41,0),0)","v":{"$error":"#REF!"}},{"$f":"IF(AF$5>=$F41,IF(AF$5<=#REF!,$K41,0),0)","v":{"$error":"#REF!"}},{"$f":"IF(AG$5>=$F41,IF(AG$5<=#REF!,$K41,0),0)","v":{"$error":"#REF!"}},{"$f":"IF(AH$5>=$F41,IF(AH$5<=#REF!,$K41,0),0)","v":{"$error":"#REF!"}},{"$f":"IF(AI$5>=$F41,IF(AI$5<=#REF!,$K41,0),0)","v":{"$error":"#REF!"}},{"$f":"IF(AJ$5>=$F41,IF(AJ$5<=#REF!,$K41,0),0)","v":{"$error":"#REF!"}},{"$f":"IF(AK$5>=$F41,IF(AK$5<=#REF!,$K41,0),0)","v":{"$error":"#REF!"}},{"$f":"IF(AL$5>=$F41,IF(AL$5<=#REF!,$K41,0),0)","v":{"$error":"#REF!"}},{"$f":"IF(AM$5>=$F41,IF(AM$5<=#REF!,$K41,0),0)","v":{"$error":"#REF!"}},{"$f":"IF(AN$5>=$F41,IF(AN$5<=#REF!,$K41,0),0)","v":{"$error":"#REF!"}},{"$f":"IF(AO$5>=$F41,IF(AO$5<=#REF!,$K41,0),0)","v":{"$error":"#REF!"}},{"$f":"IF(AP$5>=$F41,IF(AP$5<=#REF!,$K41,0),0)","v":{"$error":"#REF!"}},{"$f":"IF(AQ$5>=$F41,IF(AQ$5<=#REF!,$K41,0),0)","v":{"$error":"#REF!"}},{"$f":"IF(AR$5>=$F41,IF(AR$5<=#REF!,$K41,0),0)","v":{"$error":"#REF!"}},{"$f":"IF(AS$5>=$F41,IF(AS$5<=#REF!,$K41,0),0)","v":{"$error":"#REF!"}},{"$f":"IF(AT$5>=$F41,IF(AT$5<=#REF!,$K41,0),0)","v":{"$error":"#REF!"}},{"$f":"IF(AU$5>=$F41,IF(AU$5<=#REF!,$K41,0),0)","v":{"$error":"#REF!"}},{"$f":"IF(AV$5>=$F41,IF(AV$5<=#REF!,$K41,0),0)","v":{"$error":"#REF!"}},{"$f":"IF(AW$5>=$F41,IF(AW$5<=#REF!,$K41,0),0)","v":{"$error":"#REF!"}},{"$f":"IF(AX$5>=$F41,IF(AX$5<=#REF!,$K41,0),0)","v":{"$error":"#REF!"}},{"$f":"IF(AY$5>=$F41,IF(AY$5<=#REF!,$K41,0),0)","v":{"$error":"#REF!"}},{"$f":"IF(AZ$5>=$F41,IF(AZ$5<=#REF!,$K41,0),0)","v":{"$error":"#REF!"}},{"$f":"IF(BA$5>=$F41,IF(BA$5<=#REF!,$K41,0),0)","v":{"$error":"#REF!"}},{"$f":"IF(BB$5>=$F41,IF(BB$5<=#REF!,$K41,0),0)","v":{"$error":"#REF!"}},{"$f":"IF(BC$5>=$F41,IF(BC$5<=#REF!,$K41,0),0)","v":{"$error":"#REF!"}},{"$f":"IF(BD$5>=$F41,IF(BD$5<=#REF!,$K41,0),0)","v":{"$error":"#REF!"}},{"$f":"IF(BE$5>=$F41,IF(BE$5<=#REF!,$K41,0),0)","v":{"$error":"#REF!"}},{"$f":"IF(BF$5>=$F41,IF(BF$5<=#REF!,$K41,0),0)","v":{"$error":"#REF!"}},{"$f":"IF(BG$5>=$F41,IF(BG$5<=#REF!,$K41,0),0)","v":{"$error":"#REF!"}},{"$f":"IF(BH$5>=$F41,IF(BH$5<=#REF!,$K41,0),0)","v":{"$error":"#REF!"}},{"$f":"IF(BI$5>=$F41,IF(BI$5<=#REF!,$K41,0),0)","v":{"$error":"#REF!"}},{"$f":"IF(BJ$5>=$F41,IF(BJ$5<=#REF!,$K41,0),0)","v":{"$error":"#REF!"}},{"$f":"IF(BK$5>=$F41,IF(BK$5<=#REF!,$K41,0),0)","v":{"$error":"#REF!"}},{"$f":"IF(BL$5>=$F41,IF(BL$5<=#REF!,$K41,0),0)","v":{"$error":"#REF!"}},{"$f":"IF(BM$5>=$F41,IF(BM$5<=#REF!,$K41,0),0)","v":{"$error":"#REF!"}},{"$f":"IF(BN$5>=$F41,IF(BN$5<=#REF!,$K41,0),0)","v":{"$error":"#REF!"}},{"$f":"IF(BO$5>=$F41,IF(BO$5<=#REF!,$K41,0),0)","v":{"$error":"#REF!"}},{"$f":"IF(BP$5>=$F41,IF(BP$5<=#REF!,$K41,0),0)","v":{"$error":"#REF!"}},{"$f":"IF(BQ$5>=$F41,IF(BQ$5<=#REF!,$K41,0),0)","v":{"$error":"#REF!"}},{"$f":"IF(BR$5>=$F41,IF(BR$5<=#REF!,$K41,0),0)","v":{"$error":"#REF!"}},{"$f":"IF(BS$5>=$F41,IF(BS$5<=#REF!,$K41,0),0)","v":{"$error":"#REF!"}},{"$f":"IF(BT$5>=$F41,IF(BT$5<=#REF!,$K41,0),0)","v":{"$error":"#REF!"}},{"$f":"IF(BU$5>=$F41,IF(BU$5<=#REF!,$K41,0),0)","v":{"$error":"#REF!"}},{"$f":"IF(BV$5>=$F41,IF(BV$5<=#REF!,$K41,0),0)","v":{"$error":"#REF!"}},{"$f":"IF(BW$5>=$F41,IF(BW$5<=#REF!,$K41,0),0)","v":{"$error":"#REF!"}},{"$f":"IF(BX$5>=$F41,IF(BX$5<=#REF!,$K41,0),0)","v":{"$error":"#REF!"}},{"$f":"IF(BY$5>=$F41,IF(BY$5<=#REF!,$K41,0),0)","v":{"$error":"#REF!"}},{"$f":"IF(BZ$5>=$F41,IF(BZ$5<=#REF!,$K41,0),0)","v":{"$error":"#REF!"}},{"$f":"IF(CA$5>=$F41,IF(CA$5<=#REF!,$K41,0),0)","v":{"$error":"#REF!"}},{"$f":"IF(CB$5>=$F41,IF(CB$5<=#REF!,$K41,0),0)","v":{"$error":"#REF!"}},{"$f":"IF(CC$5>=$F41,IF(CC$5<=#REF!,$K41,0),0)","v":{"$error":"#REF!"}},{"$f":"IF(CD$5>=$F41,IF(CD$5<=#REF!,$K41,0),0)","v":{"$error":"#REF!"}},{"$f":"IF(CE$5>=$F41,IF(CE$5<=#REF!,$K41,0),0)","v":{"$error":"#REF!"}},{"$f":"IF(CF$5>=$F41,IF(CF$5<=#REF!,$K41,0),0)","v":{"$error":"#REF!"}},{"$f":"IF(CG$5>=$F41,IF(CG$5<=#REF!,$K41,0),0)","v":{"$error":"#REF!"}},{"$f":"IF(CH$5>=$F41,IF(CH$5<=#REF!,$K41,0),0)","v":{"$error":"#REF!"}},{"$f":"IF(CI$5>=$F41,IF(CI$5<=#REF!,$K41,0),0)","v":{"$error":"#REF!"}},{"$f":"IF(CJ$5>=$F41,IF(CJ$5<=#REF!,$K41,0),0)","v":{"$error":"#REF!"}},{"$f":"IF(CK$5>=$F41,IF(CK$5<=#REF!,$K41,0),0)","v":{"$error":"#REF!"}},{"$f":"IF(CL$5>=$F41,IF(CL$5<=#REF!,$K41,0),0)","v":{"$error":"#REF!"}},{"$f":"IF(CM$5>=$F41,IF(CM$5<=#REF!,$K41,0),0)","v":{"$error":"#REF!"}},{"$f":"IF(CN$5>=$F41,IF(CN$5<=#REF!,$K41,0),0)","v":{"$error":"#REF!"}},{"$f":"IF(CO$5>=$F41,IF(CO$5<=#REF!,$K41,0),0)","v":{"$error":"#REF!"}},{"$f":"IF(CP$5>=$F41,IF(CP$5<=#REF!,$K41,0),0)","v":{"$error":"#REF!"}},{"$f":"IF(CQ$5>=$F41,IF(CQ$5<=#REF!,$K41,0),0)","v":{"$error":"#REF!"}},{"$f":"IF(CR$5>=$F41,IF(CR$5<=#REF!,$K41,0),0)","v":{"$error":"#REF!"}},{"$f":"IF(CS$5>=$F41,IF(CS$5<=#REF!,$K41,0),0)","v":{"$error":"#REF!"}},{"$f":"IF(CT$5>=$F41,IF(CT$5<=#REF!,$K41,0),0)","v":{"$error":"#REF!"}},{"$f":"IF(CU$5>=$F41,IF(CU$5<=#REF!,$K41,0),0)","v":{"$error":"#REF!"}},{"$f":"IF(CV$5>=$F41,IF(CV$5<=#REF!,$K41,0),0)","v":{"$error":"#REF!"}},{"$f":"IF(CW$5>=$F41,IF(CW$5<=#REF!,$K41,0),0)","v":{"$error":"#REF!"}},{"$f":"IF(CX$5>=$F41,IF(CX$5<=#REF!,$K41,0),0)","v":{"$error":"#REF!"}},{"$f":"IF(CY$5>=$F41,IF(CY$5<=#REF!,$K41,0),0)","v":{"$error":"#REF!"}},{"$f":"IF(CZ$5>=$F41,IF(CZ$5<=#REF!,$K41,0),0)","v":{"$error":"#REF!"}},{"$f":"IF(DA$5>=$F41,IF(DA$5<=#REF!,$K41,0),0)","v":{"$error":"#REF!"}},{"$f":"IF(DB$5>=$F41,IF(DB$5<=#REF!,$K41,0),0)","v":{"$error":"#REF!"}},{"$f":"IF(DC$5>=$F41,IF(DC$5<=#REF!,$K41,0),0)","v":{"$error":"#REF!"}},{"$f":"IF(DD$5>=$F41,IF(DD$5<=#REF!,$K41,0),0)","v":{"$error":"#REF!"}},{"$f":"IF(DE$5>=$F41,IF(DE$5<=#REF!,$K41,0),0)","v":{"$error":"#REF!"}},{"$f":"IF(DF$5>=$F41,IF(DF$5<=#REF!,$K41,0),0)","v":{"$error":"#REF!"}},{"$f":"IF(DG$5>=$F41,IF(DG$5<=#REF!,$K41,0),0)","v":{"$error":"#REF!"}},{"$f":"IF(DH$5>=$F41,IF(DH$5<=#REF!,$K41,0),0)","v":{"$error":"#REF!"}},{"$f":"IF(DI$5>=$F41,IF(DI$5<=#REF!,$K41,0),0)","v":{"$error":"#REF!"}},{"$f":"IF(DJ$5>=$F41,IF(DJ$5<=#REF!,$K41,0),0)","v":{"$error":"#REF!"}},{"$f":"IF(DK$5>=$F41,IF(DK$5<=#REF!,$K41,0),0)","v":{"$error":"#REF!"}},{"$f":"IF(DL$5>=$F41,IF(DL$5<=#REF!,$K41,0),0)","v":{"$error":"#REF!"}},{"$f":"IF(DM$5>=$F41,IF(DM$5<=#REF!,$K41,0),0)","v":{"$error":"#REF!"}},{"$f":"IF(DN$5>=$F41,IF(DN$5<=#REF!,$K41,0),0)","v":{"$error":"#REF!"}},{"$f":"IF(DO$5>=$F41,IF(DO$5<=#REF!,$K41,0),0)","v":{"$error":"#REF!"}},{"$f":"IF(DP$5>=$F41,IF(DP$5<=#REF!,$K41,0),0)","v":{"$error":"#REF!"}},{"$f":"IF(DQ$5>=$F41,IF(DQ$5<=#REF!,$K41,0),0)","v":{"$error":"#REF!"}},{"$f":"IF(DR$5>=$F41,IF(DR$5<=#REF!,$K41,0),0)","v":{"$error":"#REF!"}},{"$error":"#REF!"},"",""]
[null,null,null,null,null,null,{"$f":"IF($D42=\"\",0,VLOOKUP(($DU42&$C42&$D42),単価情報!$B$66:$C$932,2,FALSE))","v":0},0,0,0,{"$f":"IF(E42=0,0,ROUND(E42/#REF!,1))","v":0},{"$f":"IF(L$5>=$F42,IF(L$5<=#REF!,$K42,0),0)","v":{"$error":"#REF!"}},{"$f":"IF(M$5>=$F42,IF(M$5<=#REF!,$K42,0),0)","v":{"$error":"#REF!"}},{"$f":"IF(N$5>=$F42,IF(N$5<=#REF!,$K42,0),0)","v":{"$error":"#REF!"}},{"$f":"IF(O$5>=$F42,IF(O$5<=#REF!,$K42,0),0)","v":{"$error":"#REF!"}},{"$f":"IF(P$5>=$F42,IF(P$5<=#REF!,$K42,0),0)","v":{"$error":"#REF!"}},{"$f":"IF(Q$5>=$F42,IF(Q$5<=#REF!,$K42,0),0)","v":{"$error":"#REF!"}},{"$f":"IF(R$5>=$F42,IF(R$5<=#REF!,$K42,0),0)","v":{"$error":"#REF!"}},{"$f":"IF(S$5>=$F42,IF(S$5<=#REF!,$K42,0),0)","v":{"$error":"#REF!"}},{"$f":"IF(T$5>=$F42,IF(T$5<=#REF!,$K42,0),0)","v":{"$error":"#REF!"}},{"$f":"IF(U$5>=$F42,IF(U$5<=#REF!,$K42,0),0)","v":{"$error":"#REF!"}},{"$f":"IF(V$5>=$F42,IF(V$5<=#REF!,$K42,0),0)","v":{"$error":"#REF!"}},{"$f":"IF(W$5>=$F42,IF(W$5<=#REF!,$K42,0),0)","v":{"$error":"#REF!"}},{"$f":"IF(X$5>=$F42,IF(X$5<=#REF!,$K42,0),0)","v":{"$error":"#REF!"}},{"$f":"IF(Y$5>=$F42,IF(Y$5<=#REF!,$K42,0),0)","v":{"$error":"#REF!"}},{"$f":"IF(Z$5>=$F42,IF(Z$5<=#REF!,$K42,0),0)","v":{"$error":"#REF!"}},{"$f":"IF(AA$5>=$F42,IF(AA$5<=#REF!,$K42,0),0)","v":{"$error":"#REF!"}},{"$f":"IF(AB$5>=$F42,IF(AB$5<=#REF!,$K42,0),0)","v":{"$error":"#REF!"}},{"$f":"IF(AC$5>=$F42,IF(AC$5<=#REF!,$K42,0),0)","v":{"$error":"#REF!"}},{"$f":"IF(AD$5>=$F42,IF(AD$5<=#REF!,$K42,0),0)","v":{"$error":"#REF!"}},{"$f":"IF(AE$5>=$F42,IF(AE$5<=#REF!,$K42,0),0)","v":{"$error":"#REF!"}},{"$f":"IF(AF$5>=$F42,IF(AF$5<=#REF!,$K42,0),0)","v":{"$error":"#REF!"}},{"$f":"IF(AG$5>=$F42,IF(AG$5<=#REF!,$K42,0),0)","v":{"$error":"#REF!"}},{"$f":"IF(AH$5>=$F42,IF(AH$5<=#REF!,$K42,0),0)","v":{"$error":"#REF!"}},{"$f":"IF(AI$5>=$F42,IF(AI$5<=#REF!,$K42,0),0)","v":{"$error":"#REF!"}},{"$f":"IF(AJ$5>=$F42,IF(AJ$5<=#REF!,$K42,0),0)","v":{"$error":"#REF!"}},{"$f":"IF(AK$5>=$F42,IF(AK$5<=#REF!,$K42,0),0)","v":{"$error":"#REF!"}},{"$f":"IF(AL$5>=$F42,IF(AL$5<=#REF!,$K42,0),0)","v":{"$error":"#REF!"}},{"$f":"IF(AM$5>=$F42,IF(AM$5<=#REF!,$K42,0),0)","v":{"$error":"#REF!"}},{"$f":"IF(AN$5>=$F42,IF(AN$5<=#REF!,$K42,0),0)","v":{"$error":"#REF!"}},{"$f":"IF(AO$5>=$F42,IF(AO$5<=#REF!,$K42,0),0)","v":{"$error":"#REF!"}},{"$f":"IF(AP$5>=$F42,IF(AP$5<=#REF!,$K42,0),0)","v":{"$error":"#REF!"}},{"$f":"IF(AQ$5>=$F42,IF(AQ$5<=#REF!,$K42,0),0)","v":{"$error":"#REF!"}},{"$f":"IF(AR$5>=$F42,IF(AR$5<=#REF!,$K42,0),0)","v":{"$error":"#REF!"}},{"$f":"IF(AS$5>=$F42,IF(AS$5<=#REF!,$K42,0),0)","v":{"$error":"#REF!"}},{"$f":"IF(AT$5>=$F42,IF(AT$5<=#REF!,$K42,0),0)","v":{"$error":"#REF!"}},{"$f":"IF(AU$5>=$F42,IF(AU$5<=#REF!,$K42,0),0)","v":{"$error":"#REF!"}},{"$f":"IF(AV$5>=$F42,IF(AV$5<=#REF!,$K42,0),0)","v":{"$error":"#REF!"}},{"$f":"IF(AW$5>=$F42,IF(AW$5<=#REF!,$K42,0),0)","v":{"$error":"#REF!"}},{"$f":"IF(AX$5>=$F42,IF(AX$5<=#REF!,$K42,0),0)","v":{"$error":"#REF!"}},{"$f":"IF(AY$5>=$F42,IF(AY$5<=#REF!,$K42,0),0)","v":{"$error":"#REF!"}},{"$f":"IF(AZ$5>=$F42,IF(AZ$5<=#REF!,$K42,0),0)","v":{"$error":"#REF!"}},{"$f":"IF(BA$5>=$F42,IF(BA$5<=#REF!,$K42,0),0)","v":{"$error":"#REF!"}},{"$f":"IF(BB$5>=$F42,IF(BB$5<=#REF!,$K42,0),0)","v":{"$error":"#REF!"}},{"$f":"IF(BC$5>=$F42,IF(BC$5<=#REF!,$K42,0),0)","v":{"$error":"#REF!"}},{"$f":"IF(BD$5>=$F42,IF(BD$5<=#REF!,$K42,0),0)","v":{"$error":"#REF!"}},{"$f":"IF(BE$5>=$F42,IF(BE$5<=#REF!,$K42,0),0)","v":{"$error":"#REF!"}},{"$f":"IF(BF$5>=$F42,IF(BF$5<=#REF!,$K42,0),0)","v":{"$error":"#REF!"}},{"$f":"IF(BG$5>=$F42,IF(BG$5<=#REF!,$K42,0),0)","v":{"$error":"#REF!"}},{"$f":"IF(BH$5>=$F42,IF(BH$5<=#REF!,$K42,0),0)","v":{"$error":"#REF!"}},{"$f":"IF(BI$5>=$F42,IF(BI$5<=#REF!,$K42,0),0)","v":{"$error":"#REF!"}},{"$f":"IF(BJ$5>=$F42,IF(BJ$5<=#REF!,$K42,0),0)","v":{"$error":"#REF!"}},{"$f":"IF(BK$5>=$F42,IF(BK$5<=#REF!,$K42,0),0)","v":{"$error":"#REF!"}},{"$f":"IF(BL$5>=$F42,IF(BL$5<=#REF!,$K42,0),0)","v":{"$error":"#REF!"}},{"$f":"IF(BM$5>=$F42,IF(BM$5<=#REF!,$K42,0),0)","v":{"$error":"#REF!"}},{"$f":"IF(BN$5>=$F42,IF(BN$5<=#REF!,$K42,0),0)","v":{"$error":"#REF!"}},{"$f":"IF(BO$5>=$F42,IF(BO$5<=#REF!,$K42,0),0)","v":{"$error":"#REF!"}},{"$f":"IF(BP$5>=$F42,IF(BP$5<=#REF!,$K42,0),0)","v":{"$error":"#REF!"}},{"$f":"IF(BQ$5>=$F42,IF(BQ$5<=#REF!,$K42,0),0)","v":{"$error":"#REF!"}},{"$f":"IF(BR$5>=$F42,IF(BR$5<=#REF!,$K42,0),0)","v":{"$error":"#REF!"}},{"$f":"IF(BS$5>=$F42,IF(BS$5<=#REF!,$K42,0),0)","v":{"$error":"#REF!"}},{"$f":"IF(BT$5>=$F42,IF(BT$5<=#REF!,$K42,0),0)","v":{"$error":"#REF!"}},{"$f":"IF(BU$5>=$F42,IF(BU$5<=#REF!,$K42,0),0)","v":{"$error":"#REF!"}},{"$f":"IF(BV$5>=$F42,IF(BV$5<=#REF!,$K42,0),0)","v":{"$error":"#REF!"}},{"$f":"IF(BW$5>=$F42,IF(BW$5<=#REF!,$K42,0),0)","v":{"$error":"#REF!"}},{"$f":"IF(BX$5>=$F42,IF(BX$5<=#REF!,$K42,0),0)","v":{"$error":"#REF!"}},{"$f":"IF(BY$5>=$F42,IF(BY$5<=#REF!,$K42,0),0)","v":{"$error":"#REF!"}},{"$f":"IF(BZ$5>=$F42,IF(BZ$5<=#REF!,$K42,0),0)","v":{"$error":"#REF!"}},{"$f":"IF(CA$5>=$F42,IF(CA$5<=#REF!,$K42,0),0)","v":{"$error":"#REF!"}},{"$f":"IF(CB$5>=$F42,IF(CB$5<=#REF!,$K42,0),0)","v":{"$error":"#REF!"}},{"$f":"IF(CC$5>=$F42,IF(CC$5<=#REF!,$K42,0),0)","v":{"$error":"#REF!"}},{"$f":"IF(CD$5>=$F42,IF(CD$5<=#REF!,$K42,0),0)","v":{"$error":"#REF!"}},{"$f":"IF(CE$5>=$F42,IF(CE$5<=#REF!,$K42,0),0)","v":{"$error":"#REF!"}},{"$f":"IF(CF$5>=$F42,IF(CF$5<=#REF!,$K42,0),0)","v":{"$error":"#REF!"}},{"$f":"IF(CG$5>=$F42,IF(CG$5<=#REF!,$K42,0),0)","v":{"$error":"#REF!"}},{"$f":"IF(CH$5>=$F42,IF(CH$5<=#REF!,$K42,0),0)","v":{"$error":"#REF!"}},{"$f":"IF(CI$5>=$F42,IF(CI$5<=#REF!,$K42,0),0)","v":{"$error":"#REF!"}},{"$f":"IF(CJ$5>=$F42,IF(CJ$5<=#REF!,$K42,0),0)","v":{"$error":"#REF!"}},{"$f":"IF(CK$5>=$F42,IF(CK$5<=#REF!,$K42,0),0)","v":{"$error":"#REF!"}},{"$f":"IF(CL$5>=$F42,IF(CL$5<=#REF!,$K42,0),0)","v":{"$error":"#REF!"}},{"$f":"IF(CM$5>=$F42,IF(CM$5<=#REF!,$K42,0),0)","v":{"$error":"#REF!"}},{"$f":"IF(CN$5>=$F42,IF(CN$5<=#REF!,$K42,0),0)","v":{"$error":"#REF!"}},{"$f":"IF(CO$5>=$F42,IF(CO$5<=#REF!,$K42,0),0)","v":{"$error":"#REF!"}},{"$f":"IF(CP$5>=$F42,IF(CP$5<=#REF!,$K42,0),0)","v":{"$error":"#REF!"}},{"$f":"IF(CQ$5>=$F42,IF(CQ$5<=#REF!,$K42,0),0)","v":{"$error":"#REF!"}},{"$f":"IF(CR$5>=$F42,IF(CR$5<=#REF!,$K42,0),0)","v":{"$error":"#REF!"}},{"$f":"IF(CS$5>=$F42,IF(CS$5<=#REF!,$K42,0),0)","v":{"$error":"#REF!"}},{"$f":"IF(CT$5>=$F42,IF(CT$5<=#REF!,$K42,0),0)","v":{"$error":"#REF!"}},{"$f":"IF(CU$5>=$F42,IF(CU$5<=#REF!,$K42,0),0)","v":{"$error":"#REF!"}},{"$f":"IF(CV$5>=$F42,IF(CV$5<=#REF!,$K42,0),0)","v":{"$error":"#REF!"}},{"$f":"IF(CW$5>=$F42,IF(CW$5<=#REF!,$K42,0),0)","v":{"$error":"#REF!"}},{"$f":"IF(CX$5>=$F42,IF(CX$5<=#REF!,$K42,0),0)","v":{"$error":"#REF!"}},{"$f":"IF(CY$5>=$F42,IF(CY$5<=#REF!,$K42,0),0)","v":{"$error":"#REF!"}},{"$f":"IF(CZ$5>=$F42,IF(CZ$5<=#REF!,$K42,0),0)","v":{"$error":"#REF!"}},{"$f":"IF(DA$5>=$F42,IF(DA$5<=#REF!,$K42,0),0)","v":{"$error":"#REF!"}},{"$f":"IF(DB$5>=$F42,IF(DB$5<=#REF!,$K42,0),0)","v":{"$error":"#REF!"}},{"$f":"IF(DC$5>=$F42,IF(DC$5<=#REF!,$K42,0),0)","v":{"$error":"#REF!"}},{"$f":"IF(DD$5>=$F42,IF(DD$5<=#REF!,$K42,0),0)","v":{"$error":"#REF!"}},{"$f":"IF(DE$5>=$F42,IF(DE$5<=#REF!,$K42,0),0)","v":{"$error":"#REF!"}},{"$f":"IF(DF$5>=$F42,IF(DF$5<=#REF!,$K42,0),0)","v":{"$error":"#REF!"}},{"$f":"IF(DG$5>=$F42,IF(DG$5<=#REF!,$K42,0),0)","v":{"$error":"#REF!"}},{"$f":"IF(DH$5>=$F42,IF(DH$5<=#REF!,$K42,0),0)","v":{"$error":"#REF!"}},{"$f":"IF(DI$5>=$F42,IF(DI$5<=#REF!,$K42,0),0)","v":{"$error":"#REF!"}},{"$f":"IF(DJ$5>=$F42,IF(DJ$5<=#REF!,$K42,0),0)","v":{"$error":"#REF!"}},{"$f":"IF(DK$5>=$F42,IF(DK$5<=#REF!,$K42,0),0)","v":{"$error":"#REF!"}},{"$f":"IF(DL$5>=$F42,IF(DL$5<=#REF!,$K42,0),0)","v":{"$error":"#REF!"}},{"$f":"IF(DM$5>=$F42,IF(DM$5<=#REF!,$K42,0),0)","v":{"$error":"#REF!"}},{"$f":"IF(DN$5>=$F42,IF(DN$5<=#REF!,$K42,0),0)","v":{"$error":"#REF!"}},{"$f":"IF(DO$5>=$F42,IF(DO$5<=#REF!,$K42,0),0)","v":{"$error":"#REF!"}},{"$f":"IF(DP$5>=$F42,IF(DP$5<=#REF!,$K42,0),0)","v":{"$error":"#REF!"}},{"$f":"IF(DQ$5>=$F42,IF(DQ$5<=#REF!,$K42,0),0)","v":{"$error":"#REF!"}},{"$f":"IF(DR$5>=$F42,IF(DR$5<=#REF!,$K42,0),0)","v":{"$error":"#REF!"}},{"$error":"#REF!"},"",""]
[null,null,null,null,null,null,{"$f":"IF($D43=\"\",0,VLOOKUP(($DU43&$C43&$D43),単価情報!$B$66:$C$932,2,FALSE))","v":0},0,{"$f":"E43*G43","v":0},{"$f":"E43*H43","v":0},{"$f":"IF(E43=0,0,ROUND(E43/#REF!,1))","v":0},{"$f":"IF(L$5>=$F43,IF(L$5<=#REF!,$K43,0),0)","v":{"$error":"#REF!"}},{"$f":"IF(M$5>=$F43,IF(M$5<=#REF!,$K43,0),0)","v":{"$error":"#REF!"}},{"$f":"IF(N$5>=$F43,IF(N$5<=#REF!,$K43,0),0)","v":{"$error":"#REF!"}},{"$f":"IF(O$5>=$F43,IF(O$5<=#REF!,$K43,0),0)","v":{"$error":"#REF!"}},{"$f":"IF(P$5>=$F43,IF(P$5<=#REF!,$K43,0),0)","v":{"$error":"#REF!"}},{"$f":"IF(Q$5>=$F43,IF(Q$5<=#REF!,$K43,0),0)","v":{"$error":"#REF!"}},{"$f":"IF(R$5>=$F43,IF(R$5<=#REF!,$K43,0),0)","v":{"$error":"#REF!"}},{"$f":"IF(S$5>=$F43,IF(S$5<=#REF!,$K43,0),0)","v":{"$error":"#REF!"}},{"$f":"IF(T$5>=$F43,IF(T$5<=#REF!,$K43,0),0)","v":{"$error":"#REF!"}},{"$f":"IF(U$5>=$F43,IF(U$5<=#REF!,$K43,0),0)","v":{"$error":"#REF!"}},{"$f":"IF(V$5>=$F43,IF(V$5<=#REF!,$K43,0),0)","v":{"$error":"#REF!"}},{"$f":"IF(W$5>=$F43,IF(W$5<=#REF!,$K43,0),0)","v":{"$error":"#REF!"}},{"$f":"IF(X$5>=$F43,IF(X$5<=#REF!,$K43,0),0)","v":{"$error":"#REF!"}},{"$f":"IF(Y$5>=$F43,IF(Y$5<=#REF!,$K43,0),0)","v":{"$error":"#REF!"}},{"$f":"IF(Z$5>=$F43,IF(Z$5<=#REF!,$K43,0),0)","v":{"$error":"#REF!"}},{"$f":"IF(AA$5>=$F43,IF(AA$5<=#REF!,$K43,0),0)","v":{"$error":"#REF!"}},{"$f":"IF(AB$5>=$F43,IF(AB$5<=#REF!,$K43,0),0)","v":{"$error":"#REF!"}},{"$f":"IF(AC$5>=$F43,IF(AC$5<=#REF!,$K43,0),0)","v":{"$error":"#REF!"}},{"$f":"IF(AD$5>=$F43,IF(AD$5<=#REF!,$K43,0),0)","v":{"$error":"#REF!"}},{"$f":"IF(AE$5>=$F43,IF(AE$5<=#REF!,$K43,0),0)","v":{"$error":"#REF!"}},{"$f":"IF(AF$5>=$F43,IF(AF$5<=#REF!,$K43,0),0)","v":{"$error":"#REF!"}},{"$f":"IF(AG$5>=$F43,IF(AG$5<=#REF!,$K43,0),0)","v":{"$error":"#REF!"}},{"$f":"IF(AH$5>=$F43,IF(AH$5<=#REF!,$K43,0),0)","v":{"$error":"#REF!"}},{"$f":"IF(AI$5>=$F43,IF(AI$5<=#REF!,$K43,0),0)","v":{"$error":"#REF!"}},{"$f":"IF(AJ$5>=$F43,IF(AJ$5<=#REF!,$K43,0),0)","v":{"$error":"#REF!"}},{"$f":"IF(AK$5>=$F43,IF(AK$5<=#REF!,$K43,0),0)","v":{"$error":"#REF!"}},{"$f":"IF(AL$5>=$F43,IF(AL$5<=#REF!,$K43,0),0)","v":{"$error":"#REF!"}},{"$f":"IF(AM$5>=$F43,IF(AM$5<=#REF!,$K43,0),0)","v":{"$error":"#REF!"}},{"$f":"IF(AN$5>=$F43,IF(AN$5<=#REF!,$K43,0),0)","v":{"$error":"#REF!"}},{"$f":"IF(AO$5>=$F43,IF(AO$5<=#REF!,$K43,0),0)","v":{"$error":"#REF!"}},{"$f":"IF(AP$5>=$F43,IF(AP$5<=#REF!,$K43,0),0)","v":{"$error":"#REF!"}},{"$f":"IF(AQ$5>=$F43,IF(AQ$5<=#REF!,$K43,0),0)","v":{"$error":"#REF!"}},{"$f":"IF(AR$5>=$F43,IF(AR$5<=#REF!,$K43,0),0)","v":{"$error":"#REF!"}},{"$f":"IF(AS$5>=$F43,IF(AS$5<=#REF!,$K43,0),0)","v":{"$error":"#REF!"}},{"$f":"IF(AT$5>=$F43,IF(AT$5<=#REF!,$K43,0),0)","v":{"$error":"#REF!"}},{"$f":"IF(AU$5>=$F43,IF(AU$5<=#REF!,$K43,0),0)","v":{"$error":"#REF!"}},{"$f":"IF(AV$5>=$F43,IF(AV$5<=#REF!,$K43,0),0)","v":{"$error":"#REF!"}},{"$f":"IF(AW$5>=$F43,IF(AW$5<=#REF!,$K43,0),0)","v":{"$error":"#REF!"}},{"$f":"IF(AX$5>=$F43,IF(AX$5<=#REF!,$K43,0),0)","v":{"$error":"#REF!"}},{"$f":"IF(AY$5>=$F43,IF(AY$5<=#REF!,$K43,0),0)","v":{"$error":"#REF!"}},{"$f":"IF(AZ$5>=$F43,IF(AZ$5<=#REF!,$K43,0),0)","v":{"$error":"#REF!"}},{"$f":"IF(BA$5>=$F43,IF(BA$5<=#REF!,$K43,0),0)","v":{"$error":"#REF!"}},{"$f":"IF(BB$5>=$F43,IF(BB$5<=#REF!,$K43,0),0)","v":{"$error":"#REF!"}},{"$f":"IF(BC$5>=$F43,IF(BC$5<=#REF!,$K43,0),0)","v":{"$error":"#REF!"}},{"$f":"IF(BD$5>=$F43,IF(BD$5<=#REF!,$K43,0),0)","v":{"$error":"#REF!"}},{"$f":"IF(BE$5>=$F43,IF(BE$5<=#REF!,$K43,0),0)","v":{"$error":"#REF!"}},{"$f":"IF(BF$5>=$F43,IF(BF$5<=#REF!,$K43,0),0)","v":{"$error":"#REF!"}},{"$f":"IF(BG$5>=$F43,IF(BG$5<=#REF!,$K43,0),0)","v":{"$error":"#REF!"}},{"$f":"IF(BH$5>=$F43,IF(BH$5<=#REF!,$K43,0),0)","v":{"$error":"#REF!"}},{"$f":"IF(BI$5>=$F43,IF(BI$5<=#REF!,$K43,0),0)","v":{"$error":"#REF!"}},{"$f":"IF(BJ$5>=$F43,IF(BJ$5<=#REF!,$K43,0),0)","v":{"$error":"#REF!"}},{"$f":"IF(BK$5>=$F43,IF(BK$5<=#REF!,$K43,0),0)","v":{"$error":"#REF!"}},{"$f":"IF(BL$5>=$F43,IF(BL$5<=#REF!,$K43,0),0)","v":{"$error":"#REF!"}},{"$f":"IF(BM$5>=$F43,IF(BM$5<=#REF!,$K43,0),0)","v":{"$error":"#REF!"}},{"$f":"IF(BN$5>=$F43,IF(BN$5<=#REF!,$K43,0),0)","v":{"$error":"#REF!"}},{"$f":"IF(BO$5>=$F43,IF(BO$5<=#REF!,$K43,0),0)","v":{"$error":"#REF!"}},{"$f":"IF(BP$5>=$F43,IF(BP$5<=#REF!,$K43,0),0)","v":{"$error":"#REF!"}},{"$f":"IF(BQ$5>=$F43,IF(BQ$5<=#REF!,$K43,0),0)","v":{"$error":"#REF!"}},{"$f":"IF(BR$5>=$F43,IF(BR$5<=#REF!,$K43,0),0)","v":{"$error":"#REF!"}},{"$f":"IF(BS$5>=$F43,IF(BS$5<=#REF!,$K43,0),0)","v":{"$error":"#REF!"}},{"$f":"IF(BT$5>=$F43,IF(BT$5<=#REF!,$K43,0),0)","v":{"$error":"#REF!"}},{"$f":"IF(BU$5>=$F43,IF(BU$5<=#REF!,$K43,0),0)","v":{"$error":"#REF!"}},{"$f":"IF(BV$5>=$F43,IF(BV$5<=#REF!,$K43,0),0)","v":{"$error":"#REF!"}},{"$f":"IF(BW$5>=$F43,IF(BW$5<=#REF!,$K43,0),0)","v":{"$error":"#REF!"}},{"$f":"IF(BX$5>=$F43,IF(BX$5<=#REF!,$K43,0),0)","v":{"$error":"#REF!"}},{"$f":"IF(BY$5>=$F43,IF(BY$5<=#REF!,$K43,0),0)","v":{"$error":"#REF!"}},{"$f":"IF(BZ$5>=$F43,IF(BZ$5<=#REF!,$K43,0),0)","v":{"$error":"#REF!"}},{"$f":"IF(CA$5>=$F43,IF(CA$5<=#REF!,$K43,0),0)","v":{"$error":"#REF!"}},{"$f":"IF(CB$5>=$F43,IF(CB$5<=#REF!,$K43,0),0)","v":{"$error":"#REF!"}},{"$f":"IF(CC$5>=$F43,IF(CC$5<=#REF!,$K43,0),0)","v":{"$error":"#REF!"}},{"$f":"IF(CD$5>=$F43,IF(CD$5<=#REF!,$K43,0),0)","v":{"$error":"#REF!"}},{"$f":"IF(CE$5>=$F43,IF(CE$5<=#REF!,$K43,0),0)","v":{"$error":"#REF!"}},{"$f":"IF(CF$5>=$F43,IF(CF$5<=#REF!,$K43,0),0)","v":{"$error":"#REF!"}},{"$f":"IF(CG$5>=$F43,IF(CG$5<=#REF!,$K43,0),0)","v":{"$error":"#REF!"}},{"$f":"IF(CH$5>=$F43,IF(CH$5<=#REF!,$K43,0),0)","v":{"$error":"#REF!"}},{"$f":"IF(CI$5>=$F43,IF(CI$5<=#REF!,$K43,0),0)","v":{"$error":"#REF!"}},{"$f":"IF(CJ$5>=$F43,IF(CJ$5<=#REF!,$K43,0),0)","v":{"$error":"#REF!"}},{"$f":"IF(CK$5>=$F43,IF(CK$5<=#REF!,$K43,0),0)","v":{"$error":"#REF!"}},{"$f":"IF(CL$5>=$F43,IF(CL$5<=#REF!,$K43,0),0)","v":{"$error":"#REF!"}},{"$f":"IF(CM$5>=$F43,IF(CM$5<=#REF!,$K43,0),0)","v":{"$error":"#REF!"}},{"$f":"IF(CN$5>=$F43,IF(CN$5<=#REF!,$K43,0),0)","v":{"$error":"#REF!"}},{"$f":"IF(CO$5>=$F43,IF(CO$5<=#REF!,$K43,0),0)","v":{"$error":"#REF!"}},{"$f":"IF(CP$5>=$F43,IF(CP$5<=#REF!,$K43,0),0)","v":{"$error":"#REF!"}},{"$f":"IF(CQ$5>=$F43,IF(CQ$5<=#REF!,$K43,0),0)","v":{"$error":"#REF!"}},{"$f":"IF(CR$5>=$F43,IF(CR$5<=#REF!,$K43,0),0)","v":{"$error":"#REF!"}},{"$f":"IF(CS$5>=$F43,IF(CS$5<=#REF!,$K43,0),0)","v":{"$error":"#REF!"}},{"$f":"IF(CT$5>=$F43,IF(CT$5<=#REF!,$K43,0),0)","v":{"$error":"#REF!"}},{"$f":"IF(CU$5>=$F43,IF(CU$5<=#REF!,$K43,0),0)","v":{"$error":"#REF!"}},{"$f":"IF(CV$5>=$F43,IF(CV$5<=#REF!,$K43,0),0)","v":{"$error":"#REF!"}},{"$f":"IF(CW$5>=$F43,IF(CW$5<=#REF!,$K43,0),0)","v":{"$error":"#REF!"}},{"$f":"IF(CX$5>=$F43,IF(CX$5<=#REF!,$K43,0),0)","v":{"$error":"#REF!"}},{"$f":"IF(CY$5>=$F43,IF(CY$5<=#REF!,$K43,0),0)","v":{"$error":"#REF!"}},{"$f":"IF(CZ$5>=$F43,IF(CZ$5<=#REF!,$K43,0),0)","v":{"$error":"#REF!"}},{"$f":"IF(DA$5>=$F43,IF(DA$5<=#REF!,$K43,0),0)","v":{"$error":"#REF!"}},{"$f":"IF(DB$5>=$F43,IF(DB$5<=#REF!,$K43,0),0)","v":{"$error":"#REF!"}},{"$f":"IF(DC$5>=$F43,IF(DC$5<=#REF!,$K43,0),0)","v":{"$error":"#REF!"}},{"$f":"IF(DD$5>=$F43,IF(DD$5<=#REF!,$K43,0),0)","v":{"$error":"#REF!"}},{"$f":"IF(DE$5>=$F43,IF(DE$5<=#REF!,$K43,0),0)","v":{"$error":"#REF!"}},{"$f":"IF(DF$5>=$F43,IF(DF$5<=#REF!,$K43,0),0)","v":{"$error":"#REF!"}},{"$f":"IF(DG$5>=$F43,IF(DG$5<=#REF!,$K43,0),0)","v":{"$error":"#REF!"}},{"$f":"IF(DH$5>=$F43,IF(DH$5<=#REF!,$K43,0),0)","v":{"$error":"#REF!"}},{"$f":"IF(DI$5>=$F43,IF(DI$5<=#REF!,$K43,0),0)","v":{"$error":"#REF!"}},{"$f":"IF(DJ$5>=$F43,IF(DJ$5<=#REF!,$K43,0),0)","v":{"$error":"#REF!"}},{"$f":"IF(DK$5>=$F43,IF(DK$5<=#REF!,$K43,0),0)","v":{"$error":"#REF!"}},{"$f":"IF(DL$5>=$F43,IF(DL$5<=#REF!,$K43,0),0)","v":{"$error":"#REF!"}},{"$f":"IF(DM$5>=$F43,IF(DM$5<=#REF!,$K43,0),0)","v":{"$error":"#REF!"}},{"$f":"IF(DN$5>=$F43,IF(DN$5<=#REF!,$K43,0),0)","v":{"$error":"#REF!"}},{"$f":"IF(DO$5>=$F43,IF(DO$5<=#REF!,$K43,0),0)","v":{"$error":"#REF!"}},{"$f":"IF(DP$5>=$F43,IF(DP$5<=#REF!,$K43,0),0)","v":{"$error":"#REF!"}},{"$f":"IF(DQ$5>=$F43,IF(DQ$5<=#REF!,$K43,0),0)","v":{"$error":"#REF!"}},{"$f":"IF(DR$5>=$F43,IF(DR$5<=#REF!,$K43,0),0)","v":{"$error":"#REF!"}},{"$error":"#REF!"},{"$f":"IF($B43=\"\",\"\",VLOOKUP($A43,$DW$11:$DX$18,2,FALSE))","v":""},{"$f":"IF($B43=\"\",\"\",VLOOKUP($B43,$DY$11:$DZ$27,2,FALSE))","v":""}]
[null,null,null,null,null,null,{"$f":"IF($D44=\"\",0,VLOOKUP(($DU44&$C44&$D44),単価情報!$B$66:$C$932,2,FALSE))","v":0},0,0,0,{"$f":"IF(E44=0,0,ROUND(E44/#REF!,1))","v":0},{"$f":"IF(L$5>=$F44,IF(L$5<=#REF!,$K44,0),0)","v":{"$error":"#REF!"}},{"$f":"IF(M$5>=$F44,IF(M$5<=#REF!,$K44,0),0)","v":{"$error":"#REF!"}},{"$f":"IF(N$5>=$F44,IF(N$5<=#REF!,$K44,0),0)","v":{"$error":"#REF!"}},{"$f":"IF(O$5>=$F44,IF(O$5<=#REF!,$K44,0),0)","v":{"$error":"#REF!"}},{"$f":"IF(P$5>=$F44,IF(P$5<=#REF!,$K44,0),0)","v":{"$error":"#REF!"}},{"$f":"IF(Q$5>=$F44,IF(Q$5<=#REF!,$K44,0),0)","v":{"$error":"#REF!"}},{"$f":"IF(R$5>=$F44,IF(R$5<=#REF!,$K44,0),0)","v":{"$error":"#REF!"}},{"$f":"IF(S$5>=$F44,IF(S$5<=#REF!,$K44,0),0)","v":{"$error":"#REF!"}},{"$f":"IF(T$5>=$F44,IF(T$5<=#REF!,$K44,0),0)","v":{"$error":"#REF!"}},{"$f":"IF(U$5>=$F44,IF(U$5<=#REF!,$K44,0),0)","v":{"$error":"#REF!"}},{"$f":"IF(V$5>=$F44,IF(V$5<=#REF!,$K44,0),0)","v":{"$error":"#REF!"}},{"$f":"IF(W$5>=$F44,IF(W$5<=#REF!,$K44,0),0)","v":{"$error":"#REF!"}},{"$f":"IF(X$5>=$F44,IF(X$5<=#REF!,$K44,0),0)","v":{"$error":"#REF!"}},{"$f":"IF(Y$5>=$F44,IF(Y$5<=#REF!,$K44,0),0)","v":{"$error":"#REF!"}},{"$f":"IF(Z$5>=$F44,IF(Z$5<=#REF!,$K44,0),0)","v":{"$error":"#REF!"}},{"$f":"IF(AA$5>=$F44,IF(AA$5<=#REF!,$K44,0),0)","v":{"$error":"#REF!"}},{"$f":"IF(AB$5>=$F44,IF(AB$5<=#REF!,$K44,0),0)","v":{"$error":"#REF!"}},{"$f":"IF(AC$5>=$F44,IF(AC$5<=#REF!,$K44,0),0)","v":{"$error":"#REF!"}},{"$f":"IF(AD$5>=$F44,IF(AD$5<=#REF!,$K44,0),0)","v":{"$error":"#REF!"}},{"$f":"IF(AE$5>=$F44,IF(AE$5<=#REF!,$K44,0),0)","v":{"$error":"#REF!"}},{"$f":"IF(AF$5>=$F44,IF(AF$5<=#REF!,$K44,0),0)","v":{"$error":"#REF!"}},{"$f":"IF(AG$5>=$F44,IF(AG$5<=#REF!,$K44,0),0)","v":{"$error":"#REF!"}},{"$f":"IF(AH$5>=$F44,IF(AH$5<=#REF!,$K44,0),0)","v":{"$error":"#REF!"}},{"$f":"IF(AI$5>=$F44,IF(AI$5<=#REF!,$K44,0),0)","v":{"$error":"#REF!"}},{"$f":"IF(AJ$5>=$F44,IF(AJ$5<=#REF!,$K44,0),0)","v":{"$error":"#REF!"}},{"$f":"IF(AK$5>=$F44,IF(AK$5<=#REF!,$K44,0),0)","v":{"$error":"#REF!"}},{"$f":"IF(AL$5>=$F44,IF(AL$5<=#REF!,$K44,0),0)","v":{"$error":"#REF!"}},{"$f":"IF(AM$5>=$F44,IF(AM$5<=#REF!,$K44,0),0)","v":{"$error":"#REF!"}},{"$f":"IF(AN$5>=$F44,IF(AN$5<=#REF!,$K44,0),0)","v":{"$error":"#REF!"}},{"$f":"IF(AO$5>=$F44,IF(AO$5<=#REF!,$K44,0),0)","v":{"$error":"#REF!"}},{"$f":"IF(AP$5>=$F44,IF(AP$5<=#REF!,$K44,0),0)","v":{"$error":"#REF!"}},{"$f":"IF(AQ$5>=$F44,IF(AQ$5<=#REF!,$K44,0),0)","v":{"$error":"#REF!"}},{"$f":"IF(AR$5>=$F44,IF(AR$5<=#REF!,$K44,0),0)","v":{"$error":"#REF!"}},{"$f":"IF(AS$5>=$F44,IF(AS$5<=#REF!,$K44,0),0)","v":{"$error":"#REF!"}},{"$f":"IF(AT$5>=$F44,IF(AT$5<=#REF!,$K44,0),0)","v":{"$error":"#REF!"}},{"$f":"IF(AU$5>=$F44,IF(AU$5<=#REF!,$K44,0),0)","v":{"$error":"#REF!"}},{"$f":"IF(AV$5>=$F44,IF(AV$5<=#REF!,$K44,0),0)","v":{"$error":"#REF!"}},{"$f":"IF(AW$5>=$F44,IF(AW$5<=#REF!,$K44,0),0)","v":{"$error":"#REF!"}},{"$f":"IF(AX$5>=$F44,IF(AX$5<=#REF!,$K44,0),0)","v":{"$error":"#REF!"}},{"$f":"IF(AY$5>=$F44,IF(AY$5<=#REF!,$K44,0),0)","v":{"$error":"#REF!"}},{"$f":"IF(AZ$5>=$F44,IF(AZ$5<=#REF!,$K44,0),0)","v":{"$error":"#REF!"}},{"$f":"IF(BA$5>=$F44,IF(BA$5<=#REF!,$K44,0),0)","v":{"$error":"#REF!"}},{"$f":"IF(BB$5>=$F44,IF(BB$5<=#REF!,$K44,0),0)","v":{"$error":"#REF!"}},{"$f":"IF(BC$5>=$F44,IF(BC$5<=#REF!,$K44,0),0)","v":{"$error":"#REF!"}},{"$f":"IF(BD$5>=$F44,IF(BD$5<=#REF!,$K44,0),0)","v":{"$error":"#REF!"}},{"$f":"IF(BE$5>=$F44,IF(BE$5<=#REF!,$K44,0),0)","v":{"$error":"#REF!"}},{"$f":"IF(BF$5>=$F44,IF(BF$5<=#REF!,$K44,0),0)","v":{"$error":"#REF!"}},{"$f":"IF(BG$5>=$F44,IF(BG$5<=#REF!,$K44,0),0)","v":{"$error":"#REF!"}},{"$f":"IF(BH$5>=$F44,IF(BH$5<=#REF!,$K44,0),0)","v":{"$error":"#REF!"}},{"$f":"IF(BI$5>=$F44,IF(BI$5<=#REF!,$K44,0),0)","v":{"$error":"#REF!"}},{"$f":"IF(BJ$5>=$F44,IF(BJ$5<=#REF!,$K44,0),0)","v":{"$error":"#REF!"}},{"$f":"IF(BK$5>=$F44,IF(BK$5<=#REF!,$K44,0),0)","v":{"$error":"#REF!"}},{"$f":"IF(BL$5>=$F44,IF(BL$5<=#REF!,$K44,0),0)","v":{"$error":"#REF!"}},{"$f":"IF(BM$5>=$F44,IF(BM$5<=#REF!,$K44,0),0)","v":{"$error":"#REF!"}},{"$f":"IF(BN$5>=$F44,IF(BN$5<=#REF!,$K44,0),0)","v":{"$error":"#REF!"}},{"$f":"IF(BO$5>=$F44,IF(BO$5<=#REF!,$K44,0),0)","v":{"$error":"#REF!"}},{"$f":"IF(BP$5>=$F44,IF(BP$5<=#REF!,$K44,0),0)","v":{"$error":"#REF!"}},{"$f":"IF(BQ$5>=$F44,IF(BQ$5<=#REF!,$K44,0),0)","v":{"$error":"#REF!"}},{"$f":"IF(BR$5>=$F44,IF(BR$5<=#REF!,$K44,0),0)","v":{"$error":"#REF!"}},{"$f":"IF(BS$5>=$F44,IF(BS$5<=#REF!,$K44,0),0)","v":{"$error":"#REF!"}},{"$f":"IF(BT$5>=$F44,IF(BT$5<=#REF!,$K44,0),0)","v":{"$error":"#REF!"}},{"$f":"IF(BU$5>=$F44,IF(BU$5<=#REF!,$K44,0),0)","v":{"$error":"#REF!"}},{"$f":"IF(BV$5>=$F44,IF(BV$5<=#REF!,$K44,0),0)","v":{"$error":"#REF!"}},{"$f":"IF(BW$5>=$F44,IF(BW$5<=#REF!,$K44,0),0)","v":{"$error":"#REF!"}},{"$f":"IF(BX$5>=$F44,IF(BX$5<=#REF!,$K44,0),0)","v":{"$error":"#REF!"}},{"$f":"IF(BY$5>=$F44,IF(BY$5<=#REF!,$K44,0),0)","v":{"$error":"#REF!"}},{"$f":"IF(BZ$5>=$F44,IF(BZ$5<=#REF!,$K44,0),0)","v":{"$error":"#REF!"}},{"$f":"IF(CA$5>=$F44,IF(CA$5<=#REF!,$K44,0),0)","v":{"$error":"#REF!"}},{"$f":"IF(CB$5>=$F44,IF(CB$5<=#REF!,$K44,0),0)","v":{"$error":"#REF!"}},{"$f":"IF(CC$5>=$F44,IF(CC$5<=#REF!,$K44,0),0)","v":{"$error":"#REF!"}},{"$f":"IF(CD$5>=$F44,IF(CD$5<=#REF!,$K44,0),0)","v":{"$error":"#REF!"}},{"$f":"IF(CE$5>=$F44,IF(CE$5<=#REF!,$K44,0),0)","v":{"$error":"#REF!"}},{"$f":"IF(CF$5>=$F44,IF(CF$5<=#REF!,$K44,0),0)","v":{"$error":"#REF!"}},{"$f":"IF(CG$5>=$F44,IF(CG$5<=#REF!,$K44,0),0)","v":{"$error":"#REF!"}},{"$f":"IF(CH$5>=$F44,IF(CH$5<=#REF!,$K44,0),0)","v":{"$error":"#REF!"}},{"$f":"IF(CI$5>=$F44,IF(CI$5<=#REF!,$K44,0),0)","v":{"$error":"#REF!"}},{"$f":"IF(CJ$5>=$F44,IF(CJ$5<=#REF!,$K44,0),0)","v":{"$error":"#REF!"}},{"$f":"IF(CK$5>=$F44,IF(CK$5<=#REF!,$K44,0),0)","v":{"$error":"#REF!"}},{"$f":"IF(CL$5>=$F44,IF(CL$5<=#REF!,$K44,0),0)","v":{"$error":"#REF!"}},{"$f":"IF(CM$5>=$F44,IF(CM$5<=#REF!,$K44,0),0)","v":{"$error":"#REF!"}},{"$f":"IF(CN$5>=$F44,IF(CN$5<=#REF!,$K44,0),0)","v":{"$error":"#REF!"}},{"$f":"IF(CO$5>=$F44,IF(CO$5<=#REF!,$K44,0),0)","v":{"$error":"#REF!"}},{"$f":"IF(CP$5>=$F44,IF(CP$5<=#REF!,$K44,0),0)","v":{"$error":"#REF!"}},{"$f":"IF(CQ$5>=$F44,IF(CQ$5<=#REF!,$K44,0),0)","v":{"$error":"#REF!"}},{"$f":"IF(CR$5>=$F44,IF(CR$5<=#REF!,$K44,0),0)","v":{"$error":"#REF!"}},{"$f":"IF(CS$5>=$F44,IF(CS$5<=#REF!,$K44,0),0)","v":{"$error":"#REF!"}},{"$f":"IF(CT$5>=$F44,IF(CT$5<=#REF!,$K44,0),0)","v":{"$error":"#REF!"}},{"$f":"IF(CU$5>=$F44,IF(CU$5<=#REF!,$K44,0),0)","v":{"$error":"#REF!"}},{"$f":"IF(CV$5>=$F44,IF(CV$5<=#REF!,$K44,0),0)","v":{"$error":"#REF!"}},{"$f":"IF(CW$5>=$F44,IF(CW$5<=#REF!,$K44,0),0)","v":{"$error":"#REF!"}},{"$f":"IF(CX$5>=$F44,IF(CX$5<=#REF!,$K44,0),0)","v":{"$error":"#REF!"}},{"$f":"IF(CY$5>=$F44,IF(CY$5<=#REF!,$K44,0),0)","v":{"$error":"#REF!"}},{"$f":"IF(CZ$5>=$F44,IF(CZ$5<=#REF!,$K44,0),0)","v":{"$error":"#REF!"}},{"$f":"IF(DA$5>=$F44,IF(DA$5<=#REF!,$K44,0),0)","v":{"$error":"#REF!"}},{"$f":"IF(DB$5>=$F44,IF(DB$5<=#REF!,$K44,0),0)","v":{"$error":"#REF!"}},{"$f":"IF(DC$5>=$F44,IF(DC$5<=#REF!,$K44,0),0)","v":{"$error":"#REF!"}},{"$f":"IF(DD$5>=$F44,IF(DD$5<=#REF!,$K44,0),0)","v":{"$error":"#REF!"}},{"$f":"IF(DE$5>=$F44,IF(DE$5<=#REF!,$K44,0),0)","v":{"$error":"#REF!"}},{"$f":"IF(DF$5>=$F44,IF(DF$5<=#REF!,$K44,0),0)","v":{"$error":"#REF!"}},{"$f":"IF(DG$5>=$F44,IF(DG$5<=#REF!,$K44,0),0)","v":{"$error":"#REF!"}},{"$f":"IF(DH$5>=$F44,IF(DH$5<=#REF!,$K44,0),0)","v":{"$error":"#REF!"}},{"$f":"IF(DI$5>=$F44,IF(DI$5<=#REF!,$K44,0),0)","v":{"$error":"#REF!"}},{"$f":"IF(DJ$5>=$F44,IF(DJ$5<=#REF!,$K44,0),0)","v":{"$error":"#REF!"}},{"$f":"IF(DK$5>=$F44,IF(DK$5<=#REF!,$K44,0),0)","v":{"$error":"#REF!"}},{"$f":"IF(DL$5>=$F44,IF(DL$5<=#REF!,$K44,0),0)","v":{"$error":"#REF!"}},{"$f":"IF(DM$5>=$F44,IF(DM$5<=#REF!,$K44,0),0)","v":{"$error":"#REF!"}},{"$f":"IF(DN$5>=$F44,IF(DN$5<=#REF!,$K44,0),0)","v":{"$error":"#REF!"}},{"$f":"IF(DO$5>=$F44,IF(DO$5<=#REF!,$K44,0),0)","v":{"$error":"#REF!"}},{"$f":"IF(DP$5>=$F44,IF(DP$5<=#REF!,$K44,0),0)","v":{"$error":"#REF!"}},{"$f":"IF(DQ$5>=$F44,IF(DQ$5<=#REF!,$K44,0),0)","v":{"$error":"#REF!"}},{"$f":"IF(DR$5>=$F44,IF(DR$5<=#REF!,$K44,0),0)","v":{"$error":"#REF!"}},{"$error":"#REF!"},"",""]
[null,null,null,null,null,null,{"$f":"IF($D45=\"\",0,VLOOKUP(($DU45&$C45&$D45),単価情報!$B$66:$C$932,2,FALSE))","v":0},0,0,0,{"$f":"IF(E45=0,0,ROUND(E45/#REF!,1))","v":0},{"$f":"IF(L$5>=$F45,IF(L$5<=#REF!,$K45,0),0)","v":{"$error":"#REF!"}},{"$f":"IF(M$5>=$F45,IF(M$5<=#REF!,$K45,0),0)","v":{"$error":"#REF!"}},{"$f":"IF(N$5>=$F45,IF(N$5<=#REF!,$K45,0),0)","v":{"$error":"#REF!"}},{"$f":"IF(O$5>=$F45,IF(O$5<=#REF!,$K45,0),0)","v":{"$error":"#REF!"}},{"$f":"IF(P$5>=$F45,IF(P$5<=#REF!,$K45,0),0)","v":{"$error":"#REF!"}},{"$f":"IF(Q$5>=$F45,IF(Q$5<=#REF!,$K45,0),0)","v":{"$error":"#REF!"}},{"$f":"IF(R$5>=$F45,IF(R$5<=#REF!,$K45,0),0)","v":{"$error":"#REF!"}},{"$f":"IF(S$5>=$F45,IF(S$5<=#REF!,$K45,0),0)","v":{"$error":"#REF!"}},{"$f":"IF(T$5>=$F45,IF(T$5<=#REF!,$K45,0),0)","v":{"$error":"#REF!"}},{"$f":"IF(U$5>=$F45,IF(U$5<=#REF!,$K45,0),0)","v":{"$error":"#REF!"}},{"$f":"IF(V$5>=$F45,IF(V$5<=#REF!,$K45,0),0)","v":{"$error":"#REF!"}},{"$f":"IF(W$5>=$F45,IF(W$5<=#REF!,$K45,0),0)","v":{"$error":"#REF!"}},{"$f":"IF(X$5>=$F45,IF(X$5<=#REF!,$K45,0),0)","v":{"$error":"#REF!"}},{"$f":"IF(Y$5>=$F45,IF(Y$5<=#REF!,$K45,0),0)","v":{"$error":"#REF!"}},{"$f":"IF(Z$5>=$F45,IF(Z$5<=#REF!,$K45,0),0)","v":{"$error":"#REF!"}},{"$f":"IF(AA$5>=$F45,IF(AA$5<=#REF!,$K45,0),0)","v":{"$error":"#REF!"}},{"$f":"IF(AB$5>=$F45,IF(AB$5<=#REF!,$K45,0),0)","v":{"$error":"#REF!"}},{"$f":"IF(AC$5>=$F45,IF(AC$5<=#REF!,$K45,0),0)","v":{"$error":"#REF!"}},{"$f":"IF(AD$5>=$F45,IF(AD$5<=#REF!,$K45,0),0)","v":{"$error":"#REF!"}},{"$f":"IF(AE$5>=$F45,IF(AE$5<=#REF!,$K45,0),0)","v":{"$error":"#REF!"}},{"$f":"IF(AF$5>=$F45,IF(AF$5<=#REF!,$K45,0),0)","v":{"$error":"#REF!"}},{"$f":"IF(AG$5>=$F45,IF(AG$5<=#REF!,$K45,0),0)","v":{"$error":"#REF!"}},{"$f":"IF(AH$5>=$F45,IF(AH$5<=#REF!,$K45,0),0)","v":{"$error":"#REF!"}},{"$f":"IF(AI$5>=$F45,IF(AI$5<=#REF!,$K45,0),0)","v":{"$error":"#REF!"}},{"$f":"IF(AJ$5>=$F45,IF(AJ$5<=#REF!,$K45,0),0)","v":{"$error":"#REF!"}},{"$f":"IF(AK$5>=$F45,IF(AK$5<=#REF!,$K45,0),0)","v":{"$error":"#REF!"}},{"$f":"IF(AL$5>=$F45,IF(AL$5<=#REF!,$K45,0),0)","v":{"$error":"#REF!"}},{"$f":"IF(AM$5>=$F45,IF(AM$5<=#REF!,$K45,0),0)","v":{"$error":"#REF!"}},{"$f":"IF(AN$5>=$F45,IF(AN$5<=#REF!,$K45,0),0)","v":{"$error":"#REF!"}},{"$f":"IF(AO$5>=$F45,IF(AO$5<=#REF!,$K45,0),0)","v":{"$error":"#REF!"}},{"$f":"IF(AP$5>=$F45,IF(AP$5<=#REF!,$K45,0),0)","v":{"$error":"#REF!"}},{"$f":"IF(AQ$5>=$F45,IF(AQ$5<=#REF!,$K45,0),0)","v":{"$error":"#REF!"}},{"$f":"IF(AR$5>=$F45,IF(AR$5<=#REF!,$K45,0),0)","v":{"$error":"#REF!"}},{"$f":"IF(AS$5>=$F45,IF(AS$5<=#REF!,$K45,0),0)","v":{"$error":"#REF!"}},{"$f":"IF(AT$5>=$F45,IF(AT$5<=#REF!,$K45,0),0)","v":{"$error":"#REF!"}},{"$f":"IF(AU$5>=$F45,IF(AU$5<=#REF!,$K45,0),0)","v":{"$error":"#REF!"}},{"$f":"IF(AV$5>=$F45,IF(AV$5<=#REF!,$K45,0),0)","v":{"$error":"#REF!"}},{"$f":"IF(AW$5>=$F45,IF(AW$5<=#REF!,$K45,0),0)","v":{"$error":"#REF!"}},{"$f":"IF(AX$5>=$F45,IF(AX$5<=#REF!,$K45,0),0)","v":{"$error":"#REF!"}},{"$f":"IF(AY$5>=$F45,IF(AY$5<=#REF!,$K45,0),0)","v":{"$error":"#REF!"}},{"$f":"IF(AZ$5>=$F45,IF(AZ$5<=#REF!,$K45,0),0)","v":{"$error":"#REF!"}},{"$f":"IF(BA$5>=$F45,IF(BA$5<=#REF!,$K45,0),0)","v":{"$error":"#REF!"}},{"$f":"IF(BB$5>=$F45,IF(BB$5<=#REF!,$K45,0),0)","v":{"$error":"#REF!"}},{"$f":"IF(BC$5>=$F45,IF(BC$5<=#REF!,$K45,0),0)","v":{"$error":"#REF!"}},{"$f":"IF(BD$5>=$F45,IF(BD$5<=#REF!,$K45,0),0)","v":{"$error":"#REF!"}},{"$f":"IF(BE$5>=$F45,IF(BE$5<=#REF!,$K45,0),0)","v":{"$error":"#REF!"}},{"$f":"IF(BF$5>=$F45,IF(BF$5<=#REF!,$K45,0),0)","v":{"$error":"#REF!"}},{"$f":"IF(BG$5>=$F45,IF(BG$5<=#REF!,$K45,0),0)","v":{"$error":"#REF!"}},{"$f":"IF(BH$5>=$F45,IF(BH$5<=#REF!,$K45,0),0)","v":{"$error":"#REF!"}},{"$f":"IF(BI$5>=$F45,IF(BI$5<=#REF!,$K45,0),0)","v":{"$error":"#REF!"}},{"$f":"IF(BJ$5>=$F45,IF(BJ$5<=#REF!,$K45,0),0)","v":{"$error":"#REF!"}},{"$f":"IF(BK$5>=$F45,IF(BK$5<=#REF!,$K45,0),0)","v":{"$error":"#REF!"}},{"$f":"IF(BL$5>=$F45,IF(BL$5<=#REF!,$K45,0),0)","v":{"$error":"#REF!"}},{"$f":"IF(BM$5>=$F45,IF(BM$5<=#REF!,$K45,0),0)","v":{"$error":"#REF!"}},{"$f":"IF(BN$5>=$F45,IF(BN$5<=#REF!,$K45,0),0)","v":{"$error":"#REF!"}},{"$f":"IF(BO$5>=$F45,IF(BO$5<=#REF!,$K45,0),0)","v":{"$error":"#REF!"}},{"$f":"IF(BP$5>=$F45,IF(BP$5<=#REF!,$K45,0),0)","v":{"$error":"#REF!"}},{"$f":"IF(BQ$5>=$F45,IF(BQ$5<=#REF!,$K45,0),0)","v":{"$error":"#REF!"}},{"$f":"IF(BR$5>=$F45,IF(BR$5<=#REF!,$K45,0),0)","v":{"$error":"#REF!"}},{"$f":"IF(BS$5>=$F45,IF(BS$5<=#REF!,$K45,0),0)","v":{"$error":"#REF!"}},{"$f":"IF(BT$5>=$F45,IF(BT$5<=#REF!,$K45,0),0)","v":{"$error":"#REF!"}},{"$f":"IF(BU$5>=$F45,IF(BU$5<=#REF!,$K45,0),0)","v":{"$error":"#REF!"}},{"$f":"IF(BV$5>=$F45,IF(BV$5<=#REF!,$K45,0),0)","v":{"$error":"#REF!"}},{"$f":"IF(BW$5>=$F45,IF(BW$5<=#REF!,$K45,0),0)","v":{"$error":"#REF!"}},{"$f":"IF(BX$5>=$F45,IF(BX$5<=#REF!,$K45,0),0)","v":{"$error":"#REF!"}},{"$f":"IF(BY$5>=$F45,IF(BY$5<=#REF!,$K45,0),0)","v":{"$error":"#REF!"}},{"$f":"IF(BZ$5>=$F45,IF(BZ$5<=#REF!,$K45,0),0)","v":{"$error":"#REF!"}},{"$f":"IF(CA$5>=$F45,IF(CA$5<=#REF!,$K45,0),0)","v":{"$error":"#REF!"}},{"$f":"IF(CB$5>=$F45,IF(CB$5<=#REF!,$K45,0),0)","v":{"$error":"#REF!"}},{"$f":"IF(CC$5>=$F45,IF(CC$5<=#REF!,$K45,0),0)","v":{"$error":"#REF!"}},{"$f":"IF(CD$5>=$F45,IF(CD$5<=#REF!,$K45,0),0)","v":{"$error":"#REF!"}},{"$f":"IF(CE$5>=$F45,IF(CE$5<=#REF!,$K45,0),0)","v":{"$error":"#REF!"}},{"$f":"IF(CF$5>=$F45,IF(CF$5<=#REF!,$K45,0),0)","v":{"$error":"#REF!"}},{"$f":"IF(CG$5>=$F45,IF(CG$5<=#REF!,$K45,0),0)","v":{"$error":"#REF!"}},{"$f":"IF(CH$5>=$F45,IF(CH$5<=#REF!,$K45,0),0)","v":{"$error":"#REF!"}},{"$f":"IF(CI$5>=$F45,IF(CI$5<=#REF!,$K45,0),0)","v":{"$error":"#REF!"}},{"$f":"IF(CJ$5>=$F45,IF(CJ$5<=#REF!,$K45,0),0)","v":{"$error":"#REF!"}},{"$f":"IF(CK$5>=$F45,IF(CK$5<=#REF!,$K45,0),0)","v":{"$error":"#REF!"}},{"$f":"IF(CL$5>=$F45,IF(CL$5<=#REF!,$K45,0),0)","v":{"$error":"#REF!"}},{"$f":"IF(CM$5>=$F45,IF(CM$5<=#REF!,$K45,0),0)","v":{"$error":"#REF!"}},{"$f":"IF(CN$5>=$F45,IF(CN$5<=#REF!,$K45,0),0)","v":{"$error":"#REF!"}},{"$f":"IF(CO$5>=$F45,IF(CO$5<=#REF!,$K45,0),0)","v":{"$error":"#REF!"}},{"$f":"IF(CP$5>=$F45,IF(CP$5<=#REF!,$K45,0),0)","v":{"$error":"#REF!"}},{"$f":"IF(CQ$5>=$F45,IF(CQ$5<=#REF!,$K45,0),0)","v":{"$error":"#REF!"}},{"$f":"IF(CR$5>=$F45,IF(CR$5<=#REF!,$K45,0),0)","v":{"$error":"#REF!"}},{"$f":"IF(CS$5>=$F45,IF(CS$5<=#REF!,$K45,0),0)","v":{"$error":"#REF!"}},{"$f":"IF(CT$5>=$F45,IF(CT$5<=#REF!,$K45,0),0)","v":{"$error":"#REF!"}},{"$f":"IF(CU$5>=$F45,IF(CU$5<=#REF!,$K45,0),0)","v":{"$error":"#REF!"}},{"$f":"IF(CV$5>=$F45,IF(CV$5<=#REF!,$K45,0),0)","v":{"$error":"#REF!"}},{"$f":"IF(CW$5>=$F45,IF(CW$5<=#REF!,$K45,0),0)","v":{"$error":"#REF!"}},{"$f":"IF(CX$5>=$F45,IF(CX$5<=#REF!,$K45,0),0)","v":{"$error":"#REF!"}},{"$f":"IF(CY$5>=$F45,IF(CY$5<=#REF!,$K45,0),0)","v":{"$error":"#REF!"}},{"$f":"IF(CZ$5>=$F45,IF(CZ$5<=#REF!,$K45,0),0)","v":{"$error":"#REF!"}},{"$f":"IF(DA$5>=$F45,IF(DA$5<=#REF!,$K45,0),0)","v":{"$error":"#REF!"}},{"$f":"IF(DB$5>=$F45,IF(DB$5<=#REF!,$K45,0),0)","v":{"$error":"#REF!"}},{"$f":"IF(DC$5>=$F45,IF(DC$5<=#REF!,$K45,0),0)","v":{"$error":"#REF!"}},{"$f":"IF(DD$5>=$F45,IF(DD$5<=#REF!,$K45,0),0)","v":{"$error":"#REF!"}},{"$f":"IF(DE$5>=$F45,IF(DE$5<=#REF!,$K45,0),0)","v":{"$error":"#REF!"}},{"$f":"IF(DF$5>=$F45,IF(DF$5<=#REF!,$K45,0),0)","v":{"$error":"#REF!"}},{"$f":"IF(DG$5>=$F45,IF(DG$5<=#REF!,$K45,0),0)","v":{"$error":"#REF!"}},{"$f":"IF(DH$5>=$F45,IF(DH$5<=#REF!,$K45,0),0)","v":{"$error":"#REF!"}},{"$f":"IF(DI$5>=$F45,IF(DI$5<=#REF!,$K45,0),0)","v":{"$error":"#REF!"}},{"$f":"IF(DJ$5>=$F45,IF(DJ$5<=#REF!,$K45,0),0)","v":{"$error":"#REF!"}},{"$f":"IF(DK$5>=$F45,IF(DK$5<=#REF!,$K45,0),0)","v":{"$error":"#REF!"}},{"$f":"IF(DL$5>=$F45,IF(DL$5<=#REF!,$K45,0),0)","v":{"$error":"#REF!"}},{"$f":"IF(DM$5>=$F45,IF(DM$5<=#REF!,$K45,0),0)","v":{"$error":"#REF!"}},{"$f":"IF(DN$5>=$F45,IF(DN$5<=#REF!,$K45,0),0)","v":{"$error":"#REF!"}},{"$f":"IF(DO$5>=$F45,IF(DO$5<=#REF!,$K45,0),0)","v":{"$error":"#REF!"}},{"$f":"IF(DP$5>=$F45,IF(DP$5<=#REF!,$K45,0),0)","v":{"$error":"#REF!"}},{"$f":"IF(DQ$5>=$F45,IF(DQ$5<=#REF!,$K45,0),0)","v":{"$error":"#REF!"}},{"$f":"IF(DR$5>=$F45,IF(DR$5<=#REF!,$K45,0),0)","v":{"$error":"#REF!"}},{"$error":"#REF!"},"",""]
[null,null,null,null,null,null,{"$f":"IF($D46=\"\",0,VLOOKUP(($DU46&$C46&$D46),単価情報!$B$66:$C$932,2,FALSE))","v":0},0,0,0,{"$f":"IF(E46=0,0,ROUND(E46/#REF!,1))","v":0},{"$f":"IF(L$5>=$F46,IF(L$5<=#REF!,$K46,0),0)","v":{"$error":"#REF!"}},{"$f":"IF(M$5>=$F46,IF(M$5<=#REF!,$K46,0),0)","v":{"$error":"#REF!"}},{"$f":"IF(N$5>=$F46,IF(N$5<=#REF!,$K46,0),0)","v":{"$error":"#REF!"}},{"$f":"IF(O$5>=$F46,IF(O$5<=#REF!,$K46,0),0)","v":{"$error":"#REF!"}},{"$f":"IF(P$5>=$F46,IF(P$5<=#REF!,$K46,0),0)","v":{"$error":"#REF!"}},{"$f":"IF(Q$5>=$F46,IF(Q$5<=#REF!,$K46,0),0)","v":{"$error":"#REF!"}},{"$f":"IF(R$5>=$F46,IF(R$5<=#REF!,$K46,0),0)","v":{"$error":"#REF!"}},{"$f":"IF(S$5>=$F46,IF(S$5<=#REF!,$K46,0),0)","v":{"$error":"#REF!"}},{"$f":"IF(T$5>=$F46,IF(T$5<=#REF!,$K46,0),0)","v":{"$error":"#REF!"}},{"$f":"IF(U$5>=$F46,IF(U$5<=#REF!,$K46,0),0)","v":{"$error":"#REF!"}},{"$f":"IF(V$5>=$F46,IF(V$5<=#REF!,$K46,0),0)","v":{"$error":"#REF!"}},{"$f":"IF(W$5>=$F46,IF(W$5<=#REF!,$K46,0),0)","v":{"$error":"#REF!"}},{"$f":"IF(X$5>=$F46,IF(X$5<=#REF!,$K46,0),0)","v":{"$error":"#REF!"}},{"$f":"IF(Y$5>=$F46,IF(Y$5<=#REF!,$K46,0),0)","v":{"$error":"#REF!"}},{"$f":"IF(Z$5>=$F46,IF(Z$5<=#REF!,$K46,0),0)","v":{"$error":"#REF!"}},{"$f":"IF(AA$5>=$F46,IF(AA$5<=#REF!,$K46,0),0)","v":{"$error":"#REF!"}},{"$f":"IF(AB$5>=$F46,IF(AB$5<=#REF!,$K46,0),0)","v":{"$error":"#REF!"}},{"$f":"IF(AC$5>=$F46,IF(AC$5<=#REF!,$K46,0),0)","v":{"$error":"#REF!"}},{"$f":"IF(AD$5>=$F46,IF(AD$5<=#REF!,$K46,0),0)","v":{"$error":"#REF!"}},{"$f":"IF(AE$5>=$F46,IF(AE$5<=#REF!,$K46,0),0)","v":{"$error":"#REF!"}},{"$f":"IF(AF$5>=$F46,IF(AF$5<=#REF!,$K46,0),0)","v":{"$error":"#REF!"}},{"$f":"IF(AG$5>=$F46,IF(AG$5<=#REF!,$K46,0),0)","v":{"$error":"#REF!"}},{"$f":"IF(AH$5>=$F46,IF(AH$5<=#REF!,$K46,0),0)","v":{"$error":"#REF!"}},{"$f":"IF(AI$5>=$F46,IF(AI$5<=#REF!,$K46,0),0)","v":{"$error":"#REF!"}},{"$f":"IF(AJ$5>=$F46,IF(AJ$5<=#REF!,$K46,0),0)","v":{"$error":"#REF!"}},{"$f":"IF(AK$5>=$F46,IF(AK$5<=#REF!,$K46,0),0)","v":{"$error":"#REF!"}},{"$f":"IF(AL$5>=$F46,IF(AL$5<=#REF!,$K46,0),0)","v":{"$error":"#REF!"}},{"$f":"IF(AM$5>=$F46,IF(AM$5<=#REF!,$K46,0),0)","v":{"$error":"#REF!"}},{"$f":"IF(AN$5>=$F46,IF(AN$5<=#REF!,$K46,0),0)","v":{"$error":"#REF!"}},{"$f":"IF(AO$5>=$F46,IF(AO$5<=#REF!,$K46,0),0)","v":{"$error":"#REF!"}},{"$f":"IF(AP$5>=$F46,IF(AP$5<=#REF!,$K46,0),0)","v":{"$error":"#REF!"}},{"$f":"IF(AQ$5>=$F46,IF(AQ$5<=#REF!,$K46,0),0)","v":{"$error":"#REF!"}},{"$f":"IF(AR$5>=$F46,IF(AR$5<=#REF!,$K46,0),0)","v":{"$error":"#REF!"}},{"$f":"IF(AS$5>=$F46,IF(AS$5<=#REF!,$K46,0),0)","v":{"$error":"#REF!"}},{"$f":"IF(AT$5>=$F46,IF(AT$5<=#REF!,$K46,0),0)","v":{"$error":"#REF!"}},{"$f":"IF(AU$5>=$F46,IF(AU$5<=#REF!,$K46,0),0)","v":{"$error":"#REF!"}},{"$f":"IF(AV$5>=$F46,IF(AV$5<=#REF!,$K46,0),0)","v":{"$error":"#REF!"}},{"$f":"IF(AW$5>=$F46,IF(AW$5<=#REF!,$K46,0),0)","v":{"$error":"#REF!"}},{"$f":"IF(AX$5>=$F46,IF(AX$5<=#REF!,$K46,0),0)","v":{"$error":"#REF!"}},{"$f":"IF(AY$5>=$F46,IF(AY$5<=#REF!,$K46,0),0)","v":{"$error":"#REF!"}},{"$f":"IF(AZ$5>=$F46,IF(AZ$5<=#REF!,$K46,0),0)","v":{"$error":"#REF!"}},{"$f":"IF(BA$5>=$F46,IF(BA$5<=#REF!,$K46,0),0)","v":{"$error":"#REF!"}},{"$f":"IF(BB$5>=$F46,IF(BB$5<=#REF!,$K46,0),0)","v":{"$error":"#REF!"}},{"$f":"IF(BC$5>=$F46,IF(BC$5<=#REF!,$K46,0),0)","v":{"$error":"#REF!"}},{"$f":"IF(BD$5>=$F46,IF(BD$5<=#REF!,$K46,0),0)","v":{"$error":"#REF!"}},{"$f":"IF(BE$5>=$F46,IF(BE$5<=#REF!,$K46,0),0)","v":{"$error":"#REF!"}},{"$f":"IF(BF$5>=$F46,IF(BF$5<=#REF!,$K46,0),0)","v":{"$error":"#REF!"}},{"$f":"IF(BG$5>=$F46,IF(BG$5<=#REF!,$K46,0),0)","v":{"$error":"#REF!"}},{"$f":"IF(BH$5>=$F46,IF(BH$5<=#REF!,$K46,0),0)","v":{"$error":"#REF!"}},{"$f":"IF(BI$5>=$F46,IF(BI$5<=#REF!,$K46,0),0)","v":{"$error":"#REF!"}},{"$f":"IF(BJ$5>=$F46,IF(BJ$5<=#REF!,$K46,0),0)","v":{"$error":"#REF!"}},{"$f":"IF(BK$5>=$F46,IF(BK$5<=#REF!,$K46,0),0)","v":{"$error":"#REF!"}},{"$f":"IF(BL$5>=$F46,IF(BL$5<=#REF!,$K46,0),0)","v":{"$error":"#REF!"}},{"$f":"IF(BM$5>=$F46,IF(BM$5<=#REF!,$K46,0),0)","v":{"$error":"#REF!"}},{"$f":"IF(BN$5>=$F46,IF(BN$5<=#REF!,$K46,0),0)","v":{"$error":"#REF!"}},{"$f":"IF(BO$5>=$F46,IF(BO$5<=#REF!,$K46,0),0)","v":{"$error":"#REF!"}},{"$f":"IF(BP$5>=$F46,IF(BP$5<=#REF!,$K46,0),0)","v":{"$error":"#REF!"}},{"$f":"IF(BQ$5>=$F46,IF(BQ$5<=#REF!,$K46,0),0)","v":{"$error":"#REF!"}},{"$f":"IF(BR$5>=$F46,IF(BR$5<=#REF!,$K46,0),0)","v":{"$error":"#REF!"}},{"$f":"IF(BS$5>=$F46,IF(BS$5<=#REF!,$K46,0),0)","v":{"$error":"#REF!"}},{"$f":"IF(BT$5>=$F46,IF(BT$5<=#REF!,$K46,0),0)","v":{"$error":"#REF!"}},{"$f":"IF(BU$5>=$F46,IF(BU$5<=#REF!,$K46,0),0)","v":{"$error":"#REF!"}},{"$f":"IF(BV$5>=$F46,IF(BV$5<=#REF!,$K46,0),0)","v":{"$error":"#REF!"}},{"$f":"IF(BW$5>=$F46,IF(BW$5<=#REF!,$K46,0),0)","v":{"$error":"#REF!"}},{"$f":"IF(BX$5>=$F46,IF(BX$5<=#REF!,$K46,0),0)","v":{"$error":"#REF!"}},{"$f":"IF(BY$5>=$F46,IF(BY$5<=#REF!,$K46,0),0)","v":{"$error":"#REF!"}},{"$f":"IF(BZ$5>=$F46,IF(BZ$5<=#REF!,$K46,0),0)","v":{"$error":"#REF!"}},{"$f":"IF(CA$5>=$F46,IF(CA$5<=#REF!,$K46,0),0)","v":{"$error":"#REF!"}},{"$f":"IF(CB$5>=$F46,IF(CB$5<=#REF!,$K46,0),0)","v":{"$error":"#REF!"}},{"$f":"IF(CC$5>=$F46,IF(CC$5<=#REF!,$K46,0),0)","v":{"$error":"#REF!"}},{"$f":"IF(CD$5>=$F46,IF(CD$5<=#REF!,$K46,0),0)","v":{"$error":"#REF!"}},{"$f":"IF(CE$5>=$F46,IF(CE$5<=#REF!,$K46,0),0)","v":{"$error":"#REF!"}},{"$f":"IF(CF$5>=$F46,IF(CF$5<=#REF!,$K46,0),0)","v":{"$error":"#REF!"}},{"$f":"IF(CG$5>=$F46,IF(CG$5<=#REF!,$K46,0),0)","v":{"$error":"#REF!"}},{"$f":"IF(CH$5>=$F46,IF(CH$5<=#REF!,$K46,0),0)","v":{"$error":"#REF!"}},{"$f":"IF(CI$5>=$F46,IF(CI$5<=#REF!,$K46,0),0)","v":{"$error":"#REF!"}},{"$f":"IF(CJ$5>=$F46,IF(CJ$5<=#REF!,$K46,0),0)","v":{"$error":"#REF!"}},{"$f":"IF(CK$5>=$F46,IF(CK$5<=#REF!,$K46,0),0)","v":{"$error":"#REF!"}},{"$f":"IF(CL$5>=$F46,IF(CL$5<=#REF!,$K46,0),0)","v":{"$error":"#REF!"}},{"$f":"IF(CM$5>=$F46,IF(CM$5<=#REF!,$K46,0),0)","v":{"$error":"#REF!"}},{"$f":"IF(CN$5>=$F46,IF(CN$5<=#REF!,$K46,0),0)","v":{"$error":"#REF!"}},{"$f":"IF(CO$5>=$F46,IF(CO$5<=#REF!,$K46,0),0)","v":{"$error":"#REF!"}},{"$f":"IF(CP$5>=$F46,IF(CP$5<=#REF!,$K46,0),0)","v":{"$error":"#REF!"}},{"$f":"IF(CQ$5>=$F46,IF(CQ$5<=#REF!,$K46,0),0)","v":{"$error":"#REF!"}},{"$f":"IF(CR$5>=$F46,IF(CR$5<=#REF!,$K46,0),0)","v":{"$error":"#REF!"}},{"$f":"IF(CS$5>=$F46,IF(CS$5<=#REF!,$K46,0),0)","v":{"$error":"#REF!"}},{"$f":"IF(CT$5>=$F46,IF(CT$5<=#REF!,$K46,0),0)","v":{"$error":"#REF!"}},{"$f":"IF(CU$5>=$F46,IF(CU$5<=#REF!,$K46,0),0)","v":{"$error":"#REF!"}},{"$f":"IF(CV$5>=$F46,IF(CV$5<=#REF!,$K46,0),0)","v":{"$error":"#REF!"}},{"$f":"IF(CW$5>=$F46,IF(CW$5<=#REF!,$K46,0),0)","v":{"$error":"#REF!"}},{"$f":"IF(CX$5>=$F46,IF(CX$5<=#REF!,$K46,0),0)","v":{"$error":"#REF!"}},{"$f":"IF(CY$5>=$F46,IF(CY$5<=#REF!,$K46,0),0)","v":{"$error":"#REF!"}},{"$f":"IF(CZ$5>=$F46,IF(CZ$5<=#REF!,$K46,0),0)","v":{"$error":"#REF!"}},{"$f":"IF(DA$5>=$F46,IF(DA$5<=#REF!,$K46,0),0)","v":{"$error":"#REF!"}},{"$f":"IF(DB$5>=$F46,IF(DB$5<=#REF!,$K46,0),0)","v":{"$error":"#REF!"}},{"$f":"IF(DC$5>=$F46,IF(DC$5<=#REF!,$K46,0),0)","v":{"$error":"#REF!"}},{"$f":"IF(DD$5>=$F46,IF(DD$5<=#REF!,$K46,0),0)","v":{"$error":"#REF!"}},{"$f":"IF(DE$5>=$F46,IF(DE$5<=#REF!,$K46,0),0)","v":{"$error":"#REF!"}},{"$f":"IF(DF$5>=$F46,IF(DF$5<=#REF!,$K46,0),0)","v":{"$error":"#REF!"}},{"$f":"IF(DG$5>=$F46,IF(DG$5<=#REF!,$K46,0),0)","v":{"$error":"#REF!"}},{"$f":"IF(DH$5>=$F46,IF(DH$5<=#REF!,$K46,0),0)","v":{"$error":"#REF!"}},{"$f":"IF(DI$5>=$F46,IF(DI$5<=#REF!,$K46,0),0)","v":{"$error":"#REF!"}},{"$f":"IF(DJ$5>=$F46,IF(DJ$5<=#REF!,$K46,0),0)","v":{"$error":"#REF!"}},{"$f":"IF(DK$5>=$F46,IF(DK$5<=#REF!,$K46,0),0)","v":{"$error":"#REF!"}},{"$f":"IF(DL$5>=$F46,IF(DL$5<=#REF!,$K46,0),0)","v":{"$error":"#REF!"}},{"$f":"IF(DM$5>=$F46,IF(DM$5<=#REF!,$K46,0),0)","v":{"$error":"#REF!"}},{"$f":"IF(DN$5>=$F46,IF(DN$5<=#REF!,$K46,0),0)","v":{"$error":"#REF!"}},{"$f":"IF(DO$5>=$F46,IF(DO$5<=#REF!,$K46,0),0)","v":{"$error":"#REF!"}},{"$f":"IF(DP$5>=$F46,IF(DP$5<=#REF!,$K46,0),0)","v":{"$error":"#REF!"}},{"$f":"IF(DQ$5>=$F46,IF(DQ$5<=#REF!,$K46,0),0)","v":{"$error":"#REF!"}},{"$f":"IF(DR$5>=$F46,IF(DR$5<=#REF!,$K46,0),0)","v":{"$error":"#REF!"}},{"$error":"#REF!"},"",""]
[null,null,null,null,null,null,{"$f":"IF($D47=\"\",0,VLOOKUP(($DU47&$C47&$D47),単価情報!$B$66:$C$932,2,FALSE))","v":0},0,0,0,{"$f":"IF(E47=0,0,ROUND(E47/#REF!,1))","v":0},{"$f":"IF(L$5>=$F47,IF(L$5<=#REF!,$K47,0),0)","v":{"$error":"#REF!"}},{"$f":"IF(M$5>=$F47,IF(M$5<=#REF!,$K47,0),0)","v":{"$error":"#REF!"}},{"$f":"IF(N$5>=$F47,IF(N$5<=#REF!,$K47,0),0)","v":{"$error":"#REF!"}},{"$f":"IF(O$5>=$F47,IF(O$5<=#REF!,$K47,0),0)","v":{"$error":"#REF!"}},{"$f":"IF(P$5>=$F47,IF(P$5<=#REF!,$K47,0),0)","v":{"$error":"#REF!"}},{"$f":"IF(Q$5>=$F47,IF(Q$5<=#REF!,$K47,0),0)","v":{"$error":"#REF!"}},{"$f":"IF(R$5>=$F47,IF(R$5<=#REF!,$K47,0),0)","v":{"$error":"#REF!"}},{"$f":"IF(S$5>=$F47,IF(S$5<=#REF!,$K47,0),0)","v":{"$error":"#REF!"}},{"$f":"IF(T$5>=$F47,IF(T$5<=#REF!,$K47,0),0)","v":{"$error":"#REF!"}},{"$f":"IF(U$5>=$F47,IF(U$5<=#REF!,$K47,0),0)","v":{"$error":"#REF!"}},{"$f":"IF(V$5>=$F47,IF(V$5<=#REF!,$K47,0),0)","v":{"$error":"#REF!"}},{"$f":"IF(W$5>=$F47,IF(W$5<=#REF!,$K47,0),0)","v":{"$error":"#REF!"}},{"$f":"IF(X$5>=$F47,IF(X$5<=#REF!,$K47,0),0)","v":{"$error":"#REF!"}},{"$f":"IF(Y$5>=$F47,IF(Y$5<=#REF!,$K47,0),0)","v":{"$error":"#REF!"}},{"$f":"IF(Z$5>=$F47,IF(Z$5<=#REF!,$K47,0),0)","v":{"$error":"#REF!"}},{"$f":"IF(AA$5>=$F47,IF(AA$5<=#REF!,$K47,0),0)","v":{"$error":"#REF!"}},{"$f":"IF(AB$5>=$F47,IF(AB$5<=#REF!,$K47,0),0)","v":{"$error":"#REF!"}},{"$f":"IF(AC$5>=$F47,IF(AC$5<=#REF!,$K47,0),0)","v":{"$error":"#REF!"}},{"$f":"IF(AD$5>=$F47,IF(AD$5<=#REF!,$K47,0),0)","v":{"$error":"#REF!"}},{"$f":"IF(AE$5>=$F47,IF(AE$5<=#REF!,$K47,0),0)","v":{"$error":"#REF!"}},{"$f":"IF(AF$5>=$F47,IF(AF$5<=#REF!,$K47,0),0)","v":{"$error":"#REF!"}},{"$f":"IF(AG$5>=$F47,IF(AG$5<=#REF!,$K47,0),0)","v":{"$error":"#REF!"}},{"$f":"IF(AH$5>=$F47,IF(AH$5<=#REF!,$K47,0),0)","v":{"$error":"#REF!"}},{"$f":"IF(AI$5>=$F47,IF(AI$5<=#REF!,$K47,0),0)","v":{"$error":"#REF!"}},{"$f":"IF(AJ$5>=$F47,IF(AJ$5<=#REF!,$K47,0),0)","v":{"$error":"#REF!"}},{"$f":"IF(AK$5>=$F47,IF(AK$5<=#REF!,$K47,0),0)","v":{"$error":"#REF!"}},{"$f":"IF(AL$5>=$F47,IF(AL$5<=#REF!,$K47,0),0)","v":{"$error":"#REF!"}},{"$f":"IF(AM$5>=$F47,IF(AM$5<=#REF!,$K47,0),0)","v":{"$error":"#REF!"}},{"$f":"IF(AN$5>=$F47,IF(AN$5<=#REF!,$K47,0),0)","v":{"$error":"#REF!"}},{"$f":"IF(AO$5>=$F47,IF(AO$5<=#REF!,$K47,0),0)","v":{"$error":"#REF!"}},{"$f":"IF(AP$5>=$F47,IF(AP$5<=#REF!,$K47,0),0)","v":{"$error":"#REF!"}},{"$f":"IF(AQ$5>=$F47,IF(AQ$5<=#REF!,$K47,0),0)","v":{"$error":"#REF!"}},{"$f":"IF(AR$5>=$F47,IF(AR$5<=#REF!,$K47,0),0)","v":{"$error":"#REF!"}},{"$f":"IF(AS$5>=$F47,IF(AS$5<=#REF!,$K47,0),0)","v":{"$error":"#REF!"}},{"$f":"IF(AT$5>=$F47,IF(AT$5<=#REF!,$K47,0),0)","v":{"$error":"#REF!"}},{"$f":"IF(AU$5>=$F47,IF(AU$5<=#REF!,$K47,0),0)","v":{"$error":"#REF!"}},{"$f":"IF(AV$5>=$F47,IF(AV$5<=#REF!,$K47,0),0)","v":{"$error":"#REF!"}},{"$f":"IF(AW$5>=$F47,IF(AW$5<=#REF!,$K47,0),0)","v":{"$error":"#REF!"}},{"$f":"IF(AX$5>=$F47,IF(AX$5<=#REF!,$K47,0),0)","v":{"$error":"#REF!"}},{"$f":"IF(AY$5>=$F47,IF(AY$5<=#REF!,$K47,0),0)","v":{"$error":"#REF!"}},{"$f":"IF(AZ$5>=$F47,IF(AZ$5<=#REF!,$K47,0),0)","v":{"$error":"#REF!"}},{"$f":"IF(BA$5>=$F47,IF(BA$5<=#REF!,$K47,0),0)","v":{"$error":"#REF!"}},{"$f":"IF(BB$5>=$F47,IF(BB$5<=#REF!,$K47,0),0)","v":{"$error":"#REF!"}},{"$f":"IF(BC$5>=$F47,IF(BC$5<=#REF!,$K47,0),0)","v":{"$error":"#REF!"}},{"$f":"IF(BD$5>=$F47,IF(BD$5<=#REF!,$K47,0),0)","v":{"$error":"#REF!"}},{"$f":"IF(BE$5>=$F47,IF(BE$5<=#REF!,$K47,0),0)","v":{"$error":"#REF!"}},{"$f":"IF(BF$5>=$F47,IF(BF$5<=#REF!,$K47,0),0)","v":{"$error":"#REF!"}},{"$f":"IF(BG$5>=$F47,IF(BG$5<=#REF!,$K47,0),0)","v":{"$error":"#REF!"}},{"$f":"IF(BH$5>=$F47,IF(BH$5<=#REF!,$K47,0),0)","v":{"$error":"#REF!"}},{"$f":"IF(BI$5>=$F47,IF(BI$5<=#REF!,$K47,0),0)","v":{"$error":"#REF!"}},{"$f":"IF(BJ$5>=$F47,IF(BJ$5<=#REF!,$K47,0),0)","v":{"$error":"#REF!"}},{"$f":"IF(BK$5>=$F47,IF(BK$5<=#REF!,$K47,0),0)","v":{"$error":"#REF!"}},{"$f":"IF(BL$5>=$F47,IF(BL$5<=#REF!,$K47,0),0)","v":{"$error":"#REF!"}},{"$f":"IF(BM$5>=$F47,IF(BM$5<=#REF!,$K47,0),0)","v":{"$error":"#REF!"}},{"$f":"IF(BN$5>=$F47,IF(BN$5<=#REF!,$K47,0),0)","v":{"$error":"#REF!"}},{"$f":"IF(BO$5>=$F47,IF(BO$5<=#REF!,$K47,0),0)","v":{"$error":"#REF!"}},{"$f":"IF(BP$5>=$F47,IF(BP$5<=#REF!,$K47,0),0)","v":{"$error":"#REF!"}},{"$f":"IF(BQ$5>=$F47,IF(BQ$5<=#REF!,$K47,0),0)","v":{"$error":"#REF!"}},{"$f":"IF(BR$5>=$F47,IF(BR$5<=#REF!,$K47,0),0)","v":{"$error":"#REF!"}},{"$f":"IF(BS$5>=$F47,IF(BS$5<=#REF!,$K47,0),0)","v":{"$error":"#REF!"}},{"$f":"IF(BT$5>=$F47,IF(BT$5<=#REF!,$K47,0),0)","v":{"$error":"#REF!"}},{"$f":"IF(BU$5>=$F47,IF(BU$5<=#REF!,$K47,0),0)","v":{"$error":"#REF!"}},{"$f":"IF(BV$5>=$F47,IF(BV$5<=#REF!,$K47,0),0)","v":{"$error":"#REF!"}},{"$f":"IF(BW$5>=$F47,IF(BW$5<=#REF!,$K47,0),0)","v":{"$error":"#REF!"}},{"$f":"IF(BX$5>=$F47,IF(BX$5<=#REF!,$K47,0),0)","v":{"$error":"#REF!"}},{"$f":"IF(BY$5>=$F47,IF(BY$5<=#REF!,$K47,0),0)","v":{"$error":"#REF!"}},{"$f":"IF(BZ$5>=$F47,IF(BZ$5<=#REF!,$K47,0),0)","v":{"$error":"#REF!"}},{"$f":"IF(CA$5>=$F47,IF(CA$5<=#REF!,$K47,0),0)","v":{"$error":"#REF!"}},{"$f":"IF(CB$5>=$F47,IF(CB$5<=#REF!,$K47,0),0)","v":{"$error":"#REF!"}},{"$f":"IF(CC$5>=$F47,IF(CC$5<=#REF!,$K47,0),0)","v":{"$error":"#REF!"}},{"$f":"IF(CD$5>=$F47,IF(CD$5<=#REF!,$K47,0),0)","v":{"$error":"#REF!"}},{"$f":"IF(CE$5>=$F47,IF(CE$5<=#REF!,$K47,0),0)","v":{"$error":"#REF!"}},{"$f":"IF(CF$5>=$F47,IF(CF$5<=#REF!,$K47,0),0)","v":{"$error":"#REF!"}},{"$f":"IF(CG$5>=$F47,IF(CG$5<=#REF!,$K47,0),0)","v":{"$error":"#REF!"}},{"$f":"IF(CH$5>=$F47,IF(CH$5<=#REF!,$K47,0),0)","v":{"$error":"#REF!"}},{"$f":"IF(CI$5>=$F47,IF(CI$5<=#REF!,$K47,0),0)","v":{"$error":"#REF!"}},{"$f":"IF(CJ$5>=$F47,IF(CJ$5<=#REF!,$K47,0),0)","v":{"$error":"#REF!"}},{"$f":"IF(CK$5>=$F47,IF(CK$5<=#REF!,$K47,0),0)","v":{"$error":"#REF!"}},{"$f":"IF(CL$5>=$F47,IF(CL$5<=#REF!,$K47,0),0)","v":{"$error":"#REF!"}},{"$f":"IF(CM$5>=$F47,IF(CM$5<=#REF!,$K47,0),0)","v":{"$error":"#REF!"}},{"$f":"IF(CN$5>=$F47,IF(CN$5<=#REF!,$K47,0),0)","v":{"$error":"#REF!"}},{"$f":"IF(CO$5>=$F47,IF(CO$5<=#REF!,$K47,0),0)","v":{"$error":"#REF!"}},{"$f":"IF(CP$5>=$F47,IF(CP$5<=#REF!,$K47,0),0)","v":{"$error":"#REF!"}},{"$f":"IF(CQ$5>=$F47,IF(CQ$5<=#REF!,$K47,0),0)","v":{"$error":"#REF!"}},{"$f":"IF(CR$5>=$F47,IF(CR$5<=#REF!,$K47,0),0)","v":{"$error":"#REF!"}},{"$f":"IF(CS$5>=$F47,IF(CS$5<=#REF!,$K47,0),0)","v":{"$error":"#REF!"}},{"$f":"IF(CT$5>=$F47,IF(CT$5<=#REF!,$K47,0),0)","v":{"$error":"#REF!"}},{"$f":"IF(CU$5>=$F47,IF(CU$5<=#REF!,$K47,0),0)","v":{"$error":"#REF!"}},{"$f":"IF(CV$5>=$F47,IF(CV$5<=#REF!,$K47,0),0)","v":{"$error":"#REF!"}},{"$f":"IF(CW$5>=$F47,IF(CW$5<=#REF!,$K47,0),0)","v":{"$error":"#REF!"}},{"$f":"IF(CX$5>=$F47,IF(CX$5<=#REF!,$K47,0),0)","v":{"$error":"#REF!"}},{"$f":"IF(CY$5>=$F47,IF(CY$5<=#REF!,$K47,0),0)","v":{"$error":"#REF!"}},{"$f":"IF(CZ$5>=$F47,IF(CZ$5<=#REF!,$K47,0),0)","v":{"$error":"#REF!"}},{"$f":"IF(DA$5>=$F47,IF(DA$5<=#REF!,$K47,0),0)","v":{"$error":"#REF!"}},{"$f":"IF(DB$5>=$F47,IF(DB$5<=#REF!,$K47,0),0)","v":{"$error":"#REF!"}},{"$f":"IF(DC$5>=$F47,IF(DC$5<=#REF!,$K47,0),0)","v":{"$error":"#REF!"}},{"$f":"IF(DD$5>=$F47,IF(DD$5<=#REF!,$K47,0),0)","v":{"$error":"#REF!"}},{"$f":"IF(DE$5>=$F47,IF(DE$5<=#REF!,$K47,0),0)","v":{"$error":"#REF!"}},{"$f":"IF(DF$5>=$F47,IF(DF$5<=#REF!,$K47,0),0)","v":{"$error":"#REF!"}},{"$f":"IF(DG$5>=$F47,IF(DG$5<=#REF!,$K47,0),0)","v":{"$error":"#REF!"}},{"$f":"IF(DH$5>=$F47,IF(DH$5<=#REF!,$K47,0),0)","v":{"$error":"#REF!"}},{"$f":"IF(DI$5>=$F47,IF(DI$5<=#REF!,$K47,0),0)","v":{"$error":"#REF!"}},{"$f":"IF(DJ$5>=$F47,IF(DJ$5<=#REF!,$K47,0),0)","v":{"$error":"#REF!"}},{"$f":"IF(DK$5>=$F47,IF(DK$5<=#REF!,$K47,0),0)","v":{"$error":"#REF!"}},{"$f":"IF(DL$5>=$F47,IF(DL$5<=#REF!,$K47,0),0)","v":{"$error":"#REF!"}},{"$f":"IF(DM$5>=$F47,IF(DM$5<=#REF!,$K47,0),0)","v":{"$error":"#REF!"}},{"$f":"IF(DN$5>=$F47,IF(DN$5<=#REF!,$K47,0),0)","v":{"$error":"#REF!"}},{"$f":"IF(DO$5>=$F47,IF(DO$5<=#REF!,$K47,0),0)","v":{"$error":"#REF!"}},{"$f":"IF(DP$5>=$F47,IF(DP$5<=#REF!,$K47,0),0)","v":{"$error":"#REF!"}},{"$f":"IF(DQ$5>=$F47,IF(DQ$5<=#REF!,$K47,0),0)","v":{"$error":"#REF!"}},{"$f":"IF(DR$5>=$F47,IF(DR$5<=#REF!,$K47,0),0)","v":{"$error":"#REF!"}},{"$error":"#REF!"},"",""]
[null,null,null,null,null,null,{"$f":"IF($D48=\"\",0,VLOOKUP(($DU48&$C48&$D48),単価情報!$B$66:$C$932,2,FALSE))","v":0},0,0,0,{"$f":"IF(E48=0,0,ROUND(E48/#REF!,1))","v":0},{"$f":"IF(L$5>=$F48,IF(L$5<=#REF!,$K48,0),0)","v":{"$error":"#REF!"}},{"$f":"IF(M$5>=$F48,IF(M$5<=#REF!,$K48,0),0)","v":{"$error":"#REF!"}},{"$f":"IF(N$5>=$F48,IF(N$5<=#REF!,$K48,0),0)","v":{"$error":"#REF!"}},{"$f":"IF(O$5>=$F48,IF(O$5<=#REF!,$K48,0),0)","v":{"$error":"#REF!"}},{"$f":"IF(P$5>=$F48,IF(P$5<=#REF!,$K48,0),0)","v":{"$error":"#REF!"}},{"$f":"IF(Q$5>=$F48,IF(Q$5<=#REF!,$K48,0),0)","v":{"$error":"#REF!"}},{"$f":"IF(R$5>=$F48,IF(R$5<=#REF!,$K48,0),0)","v":{"$error":"#REF!"}},{"$f":"IF(S$5>=$F48,IF(S$5<=#REF!,$K48,0),0)","v":{"$error":"#REF!"}},{"$f":"IF(T$5>=$F48,IF(T$5<=#REF!,$K48,0),0)","v":{"$error":"#REF!"}},{"$f":"IF(U$5>=$F48,IF(U$5<=#REF!,$K48,0),0)","v":{"$error":"#REF!"}},{"$f":"IF(V$5>=$F48,IF(V$5<=#REF!,$K48,0),0)","v":{"$error":"#REF!"}},{"$f":"IF(W$5>=$F48,IF(W$5<=#REF!,$K48,0),0)","v":{"$error":"#REF!"}},{"$f":"IF(X$5>=$F48,IF(X$5<=#REF!,$K48,0),0)","v":{"$error":"#REF!"}},{"$f":"IF(Y$5>=$F48,IF(Y$5<=#REF!,$K48,0),0)","v":{"$error":"#REF!"}},{"$f":"IF(Z$5>=$F48,IF(Z$5<=#REF!,$K48,0),0)","v":{"$error":"#REF!"}},{"$f":"IF(AA$5>=$F48,IF(AA$5<=#REF!,$K48,0),0)","v":{"$error":"#REF!"}},{"$f":"IF(AB$5>=$F48,IF(AB$5<=#REF!,$K48,0),0)","v":{"$error":"#REF!"}},{"$f":"IF(AC$5>=$F48,IF(AC$5<=#REF!,$K48,0),0)","v":{"$error":"#REF!"}},{"$f":"IF(AD$5>=$F48,IF(AD$5<=#REF!,$K48,0),0)","v":{"$error":"#REF!"}},{"$f":"IF(AE$5>=$F48,IF(AE$5<=#REF!,$K48,0),0)","v":{"$error":"#REF!"}},{"$f":"IF(AF$5>=$F48,IF(AF$5<=#REF!,$K48,0),0)","v":{"$error":"#REF!"}},{"$f":"IF(AG$5>=$F48,IF(AG$5<=#REF!,$K48,0),0)","v":{"$error":"#REF!"}},{"$f":"IF(AH$5>=$F48,IF(AH$5<=#REF!,$K48,0),0)","v":{"$error":"#REF!"}},{"$f":"IF(AI$5>=$F48,IF(AI$5<=#REF!,$K48,0),0)","v":{"$error":"#REF!"}},{"$f":"IF(AJ$5>=$F48,IF(AJ$5<=#REF!,$K48,0),0)","v":{"$error":"#REF!"}},{"$f":"IF(AK$5>=$F48,IF(AK$5<=#REF!,$K48,0),0)","v":{"$error":"#REF!"}},{"$f":"IF(AL$5>=$F48,IF(AL$5<=#REF!,$K48,0),0)","v":{"$error":"#REF!"}},{"$f":"IF(AM$5>=$F48,IF(AM$5<=#REF!,$K48,0),0)","v":{"$error":"#REF!"}},{"$f":"IF(AN$5>=$F48,IF(AN$5<=#REF!,$K48,0),0)","v":{"$error":"#REF!"}},{"$f":"IF(AO$5>=$F48,IF(AO$5<=#REF!,$K48,0),0)","v":{"$error":"#REF!"}},{"$f":"IF(AP$5>=$F48,IF(AP$5<=#REF!,$K48,0),0)","v":{"$error":"#REF!"}},{"$f":"IF(AQ$5>=$F48,IF(AQ$5<=#REF!,$K48,0),0)","v":{"$error":"#REF!"}},{"$f":"IF(AR$5>=$F48,IF(AR$5<=#REF!,$K48,0),0)","v":{"$error":"#REF!"}},{"$f":"IF(AS$5>=$F48,IF(AS$5<=#REF!,$K48,0),0)","v":{"$error":"#REF!"}},{"$f":"IF(AT$5>=$F48,IF(AT$5<=#REF!,$K48,0),0)","v":{"$error":"#REF!"}},{"$f":"IF(AU$5>=$F48,IF(AU$5<=#REF!,$K48,0),0)","v":{"$error":"#REF!"}},{"$f":"IF(AV$5>=$F48,IF(AV$5<=#REF!,$K48,0),0)","v":{"$error":"#REF!"}},{"$f":"IF(AW$5>=$F48,IF(AW$5<=#REF!,$K48,0),0)","v":{"$error":"#REF!"}},{"$f":"IF(AX$5>=$F48,IF(AX$5<=#REF!,$K48,0),0)","v":{"$error":"#REF!"}},{"$f":"IF(AY$5>=$F48,IF(AY$5<=#REF!,$K48,0),0)","v":{"$error":"#REF!"}},{"$f":"IF(AZ$5>=$F48,IF(AZ$5<=#REF!,$K48,0),0)","v":{"$error":"#REF!"}},{"$f":"IF(BA$5>=$F48,IF(BA$5<=#REF!,$K48,0),0)","v":{"$error":"#REF!"}},{"$f":"IF(BB$5>=$F48,IF(BB$5<=#REF!,$K48,0),0)","v":{"$error":"#REF!"}},{"$f":"IF(BC$5>=$F48,IF(BC$5<=#REF!,$K48,0),0)","v":{"$error":"#REF!"}},{"$f":"IF(BD$5>=$F48,IF(BD$5<=#REF!,$K48,0),0)","v":{"$error":"#REF!"}},{"$f":"IF(BE$5>=$F48,IF(BE$5<=#REF!,$K48,0),0)","v":{"$error":"#REF!"}},{"$f":"IF(BF$5>=$F48,IF(BF$5<=#REF!,$K48,0),0)","v":{"$error":"#REF!"}},{"$f":"IF(BG$5>=$F48,IF(BG$5<=#REF!,$K48,0),0)","v":{"$error":"#REF!"}},{"$f":"IF(BH$5>=$F48,IF(BH$5<=#REF!,$K48,0),0)","v":{"$error":"#REF!"}},{"$f":"IF(BI$5>=$F48,IF(BI$5<=#REF!,$K48,0),0)","v":{"$error":"#REF!"}},{"$f":"IF(BJ$5>=$F48,IF(BJ$5<=#REF!,$K48,0),0)","v":{"$error":"#REF!"}},{"$f":"IF(BK$5>=$F48,IF(BK$5<=#REF!,$K48,0),0)","v":{"$error":"#REF!"}},{"$f":"IF(BL$5>=$F48,IF(BL$5<=#REF!,$K48,0),0)","v":{"$error":"#REF!"}},{"$f":"IF(BM$5>=$F48,IF(BM$5<=#REF!,$K48,0),0)","v":{"$error":"#REF!"}},{"$f":"IF(BN$5>=$F48,IF(BN$5<=#REF!,$K48,0),0)","v":{"$error":"#REF!"}},{"$f":"IF(BO$5>=$F48,IF(BO$5<=#REF!,$K48,0),0)","v":{"$error":"#REF!"}},{"$f":"IF(BP$5>=$F48,IF(BP$5<=#REF!,$K48,0),0)","v":{"$error":"#REF!"}},{"$f":"IF(BQ$5>=$F48,IF(BQ$5<=#REF!,$K48,0),0)","v":{"$error":"#REF!"}},{"$f":"IF(BR$5>=$F48,IF(BR$5<=#REF!,$K48,0),0)","v":{"$error":"#REF!"}},{"$f":"IF(BS$5>=$F48,IF(BS$5<=#REF!,$K48,0),0)","v":{"$error":"#REF!"}},{"$f":"IF(BT$5>=$F48,IF(BT$5<=#REF!,$K48,0),0)","v":{"$error":"#REF!"}},{"$f":"IF(BU$5>=$F48,IF(BU$5<=#REF!,$K48,0),0)","v":{"$error":"#REF!"}},{"$f":"IF(BV$5>=$F48,IF(BV$5<=#REF!,$K48,0),0)","v":{"$error":"#REF!"}},{"$f":"IF(BW$5>=$F48,IF(BW$5<=#REF!,$K48,0),0)","v":{"$error":"#REF!"}},{"$f":"IF(BX$5>=$F48,IF(BX$5<=#REF!,$K48,0),0)","v":{"$error":"#REF!"}},{"$f":"IF(BY$5>=$F48,IF(BY$5<=#REF!,$K48,0),0)","v":{"$error":"#REF!"}},{"$f":"IF(BZ$5>=$F48,IF(BZ$5<=#REF!,$K48,0),0)","v":{"$error":"#REF!"}},{"$f":"IF(CA$5>=$F48,IF(CA$5<=#REF!,$K48,0),0)","v":{"$error":"#REF!"}},{"$f":"IF(CB$5>=$F48,IF(CB$5<=#REF!,$K48,0),0)","v":{"$error":"#REF!"}},{"$f":"IF(CC$5>=$F48,IF(CC$5<=#REF!,$K48,0),0)","v":{"$error":"#REF!"}},{"$f":"IF(CD$5>=$F48,IF(CD$5<=#REF!,$K48,0),0)","v":{"$error":"#REF!"}},{"$f":"IF(CE$5>=$F48,IF(CE$5<=#REF!,$K48,0),0)","v":{"$error":"#REF!"}},{"$f":"IF(CF$5>=$F48,IF(CF$5<=#REF!,$K48,0),0)","v":{"$error":"#REF!"}},{"$f":"IF(CG$5>=$F48,IF(CG$5<=#REF!,$K48,0),0)","v":{"$error":"#REF!"}},{"$f":"IF(CH$5>=$F48,IF(CH$5<=#REF!,$K48,0),0)","v":{"$error":"#REF!"}},{"$f":"IF(CI$5>=$F48,IF(CI$5<=#REF!,$K48,0),0)","v":{"$error":"#REF!"}},{"$f":"IF(CJ$5>=$F48,IF(CJ$5<=#REF!,$K48,0),0)","v":{"$error":"#REF!"}},{"$f":"IF(CK$5>=$F48,IF(CK$5<=#REF!,$K48,0),0)","v":{"$error":"#REF!"}},{"$f":"IF(CL$5>=$F48,IF(CL$5<=#REF!,$K48,0),0)","v":{"$error":"#REF!"}},{"$f":"IF(CM$5>=$F48,IF(CM$5<=#REF!,$K48,0),0)","v":{"$error":"#REF!"}},{"$f":"IF(CN$5>=$F48,IF(CN$5<=#REF!,$K48,0),0)","v":{"$error":"#REF!"}},{"$f":"IF(CO$5>=$F48,IF(CO$5<=#REF!,$K48,0),0)","v":{"$error":"#REF!"}},{"$f":"IF(CP$5>=$F48,IF(CP$5<=#REF!,$K48,0),0)","v":{"$error":"#REF!"}},{"$f":"IF(CQ$5>=$F48,IF(CQ$5<=#REF!,$K48,0),0)","v":{"$error":"#REF!"}},{"$f":"IF(CR$5>=$F48,IF(CR$5<=#REF!,$K48,0),0)","v":{"$error":"#REF!"}},{"$f":"IF(CS$5>=$F48,IF(CS$5<=#REF!,$K48,0),0)","v":{"$error":"#REF!"}},{"$f":"IF(CT$5>=$F48,IF(CT$5<=#REF!,$K48,0),0)","v":{"$error":"#REF!"}},{"$f":"IF(CU$5>=$F48,IF(CU$5<=#REF!,$K48,0),0)","v":{"$error":"#REF!"}},{"$f":"IF(CV$5>=$F48,IF(CV$5<=#REF!,$K48,0),0)","v":{"$error":"#REF!"}},{"$f":"IF(CW$5>=$F48,IF(CW$5<=#REF!,$K48,0),0)","v":{"$error":"#REF!"}},{"$f":"IF(CX$5>=$F48,IF(CX$5<=#REF!,$K48,0),0)","v":{"$error":"#REF!"}},{"$f":"IF(CY$5>=$F48,IF(CY$5<=#REF!,$K48,0),0)","v":{"$error":"#REF!"}},{"$f":"IF(CZ$5>=$F48,IF(CZ$5<=#REF!,$K48,0),0)","v":{"$error":"#REF!"}},{"$f":"IF(DA$5>=$F48,IF(DA$5<=#REF!,$K48,0),0)","v":{"$error":"#REF!"}},{"$f":"IF(DB$5>=$F48,IF(DB$5<=#REF!,$K48,0),0)","v":{"$error":"#REF!"}},{"$f":"IF(DC$5>=$F48,IF(DC$5<=#REF!,$K48,0),0)","v":{"$error":"#REF!"}},{"$f":"IF(DD$5>=$F48,IF(DD$5<=#REF!,$K48,0),0)","v":{"$error":"#REF!"}},{"$f":"IF(DE$5>=$F48,IF(DE$5<=#REF!,$K48,0),0)","v":{"$error":"#REF!"}},{"$f":"IF(DF$5>=$F48,IF(DF$5<=#REF!,$K48,0),0)","v":{"$error":"#REF!"}},{"$f":"IF(DG$5>=$F48,IF(DG$5<=#REF!,$K48,0),0)","v":{"$error":"#REF!"}},{"$f":"IF(DH$5>=$F48,IF(DH$5<=#REF!,$K48,0),0)","v":{"$error":"#REF!"}},{"$f":"IF(DI$5>=$F48,IF(DI$5<=#REF!,$K48,0),0)","v":{"$error":"#REF!"}},{"$f":"IF(DJ$5>=$F48,IF(DJ$5<=#REF!,$K48,0),0)","v":{"$error":"#REF!"}},{"$f":"IF(DK$5>=$F48,IF(DK$5<=#REF!,$K48,0),0)","v":{"$error":"#REF!"}},{"$f":"IF(DL$5>=$F48,IF(DL$5<=#REF!,$K48,0),0)","v":{"$error":"#REF!"}},{"$f":"IF(DM$5>=$F48,IF(DM$5<=#REF!,$K48,0),0)","v":{"$error":"#REF!"}},{"$f":"IF(DN$5>=$F48,IF(DN$5<=#REF!,$K48,0),0)","v":{"$error":"#REF!"}},{"$f":"IF(DO$5>=$F48,IF(DO$5<=#REF!,$K48,0),0)","v":{"$error":"#REF!"}},{"$f":"IF(DP$5>=$F48,IF(DP$5<=#REF!,$K48,0),0)","v":{"$error":"#REF!"}},{"$f":"IF(DQ$5>=$F48,IF(DQ$5<=#REF!,$K48,0),0)","v":{"$error":"#REF!"}},{"$f":"IF(DR$5>=$F48,IF(DR$5<=#REF!,$K48,0),0)","v":{"$error":"#REF!"}},{"$error":"#REF!"},"",""]
[null,null,null,null,null,null,{"$f":"IF($D49=\"\",0,VLOOKUP(($DU49&$C49&$D49),単価情報!$B$66:$C$932,2,FALSE))","v":0},0,0,0,{"$f":"IF(E49=0,0,ROUND(E49/#REF!,1))","v":0},{"$f":"IF(L$5>=$F49,IF(L$5<=#REF!,$K49,0),0)","v":{"$error":"#REF!"}},{"$f":"IF(M$5>=$F49,IF(M$5<=#REF!,$K49,0),0)","v":{"$error":"#REF!"}},{"$f":"IF(N$5>=$F49,IF(N$5<=#REF!,$K49,0),0)","v":{"$error":"#REF!"}},{"$f":"IF(O$5>=$F49,IF(O$5<=#REF!,$K49,0),0)","v":{"$error":"#REF!"}},{"$f":"IF(P$5>=$F49,IF(P$5<=#REF!,$K49,0),0)","v":{"$error":"#REF!"}},{"$f":"IF(Q$5>=$F49,IF(Q$5<=#REF!,$K49,0),0)","v":{"$error":"#REF!"}},{"$f":"IF(R$5>=$F49,IF(R$5<=#REF!,$K49,0),0)","v":{"$error":"#REF!"}},{"$f":"IF(S$5>=$F49,IF(S$5<=#REF!,$K49,0),0)","v":{"$error":"#REF!"}},{"$f":"IF(T$5>=$F49,IF(T$5<=#REF!,$K49,0),0)","v":{"$error":"#REF!"}},{"$f":"IF(U$5>=$F49,IF(U$5<=#REF!,$K49,0),0)","v":{"$error":"#REF!"}},{"$f":"IF(V$5>=$F49,IF(V$5<=#REF!,$K49,0),0)","v":{"$error":"#REF!"}},{"$f":"IF(W$5>=$F49,IF(W$5<=#REF!,$K49,0),0)","v":{"$error":"#REF!"}},{"$f":"IF(X$5>=$F49,IF(X$5<=#REF!,$K49,0),0)","v":{"$error":"#REF!"}},{"$f":"IF(Y$5>=$F49,IF(Y$5<=#REF!,$K49,0),0)","v":{"$error":"#REF!"}},{"$f":"IF(Z$5>=$F49,IF(Z$5<=#REF!,$K49,0),0)","v":{"$error":"#REF!"}},{"$f":"IF(AA$5>=$F49,IF(AA$5<=#REF!,$K49,0),0)","v":{"$error":"#REF!"}},{"$f":"IF(AB$5>=$F49,IF(AB$5<=#REF!,$K49,0),0)","v":{"$error":"#REF!"}},{"$f":"IF(AC$5>=$F49,IF(AC$5<=#REF!,$K49,0),0)","v":{"$error":"#REF!"}},{"$f":"IF(AD$5>=$F49,IF(AD$5<=#REF!,$K49,0),0)","v":{"$error":"#REF!"}},{"$f":"IF(AE$5>=$F49,IF(AE$5<=#REF!,$K49,0),0)","v":{"$error":"#REF!"}},{"$f":"IF(AF$5>=$F49,IF(AF$5<=#REF!,$K49,0),0)","v":{"$error":"#REF!"}},{"$f":"IF(AG$5>=$F49,IF(AG$5<=#REF!,$K49,0),0)","v":{"$error":"#REF!"}},{"$f":"IF(AH$5>=$F49,IF(AH$5<=#REF!,$K49,0),0)","v":{"$error":"#REF!"}},{"$f":"IF(AI$5>=$F49,IF(AI$5<=#REF!,$K49,0),0)","v":{"$error":"#REF!"}},{"$f":"IF(AJ$5>=$F49,IF(AJ$5<=#REF!,$K49,0),0)","v":{"$error":"#REF!"}},{"$f":"IF(AK$5>=$F49,IF(AK$5<=#REF!,$K49,0),0)","v":{"$error":"#REF!"}},{"$f":"IF(AL$5>=$F49,IF(AL$5<=#REF!,$K49,0),0)","v":{"$error":"#REF!"}},{"$f":"IF(AM$5>=$F49,IF(AM$5<=#REF!,$K49,0),0)","v":{"$error":"#REF!"}},{"$f":"IF(AN$5>=$F49,IF(AN$5<=#REF!,$K49,0),0)","v":{"$error":"#REF!"}},{"$f":"IF(AO$5>=$F49,IF(AO$5<=#REF!,$K49,0),0)","v":{"$error":"#REF!"}},{"$f":"IF(AP$5>=$F49,IF(AP$5<=#REF!,$K49,0),0)","v":{"$error":"#REF!"}},{"$f":"IF(AQ$5>=$F49,IF(AQ$5<=#REF!,$K49,0),0)","v":{"$error":"#REF!"}},{"$f":"IF(AR$5>=$F49,IF(AR$5<=#REF!,$K49,0),0)","v":{"$error":"#REF!"}},{"$f":"IF(AS$5>=$F49,IF(AS$5<=#REF!,$K49,0),0)","v":{"$error":"#REF!"}},{"$f":"IF(AT$5>=$F49,IF(AT$5<=#REF!,$K49,0),0)","v":{"$error":"#REF!"}},{"$f":"IF(AU$5>=$F49,IF(AU$5<=#REF!,$K49,0),0)","v":{"$error":"#REF!"}},{"$f":"IF(AV$5>=$F49,IF(AV$5<=#REF!,$K49,0),0)","v":{"$error":"#REF!"}},{"$f":"IF(AW$5>=$F49,IF(AW$5<=#REF!,$K49,0),0)","v":{"$error":"#REF!"}},{"$f":"IF(AX$5>=$F49,IF(AX$5<=#REF!,$K49,0),0)","v":{"$error":"#REF!"}},{"$f":"IF(AY$5>=$F49,IF(AY$5<=#REF!,$K49,0),0)","v":{"$error":"#REF!"}},{"$f":"IF(AZ$5>=$F49,IF(AZ$5<=#REF!,$K49,0),0)","v":{"$error":"#REF!"}},{"$f":"IF(BA$5>=$F49,IF(BA$5<=#REF!,$K49,0),0)","v":{"$error":"#REF!"}},{"$f":"IF(BB$5>=$F49,IF(BB$5<=#REF!,$K49,0),0)","v":{"$error":"#REF!"}},{"$f":"IF(BC$5>=$F49,IF(BC$5<=#REF!,$K49,0),0)","v":{"$error":"#REF!"}},{"$f":"IF(BD$5>=$F49,IF(BD$5<=#REF!,$K49,0),0)","v":{"$error":"#REF!"}},{"$f":"IF(BE$5>=$F49,IF(BE$5<=#REF!,$K49,0),0)","v":{"$error":"#REF!"}},{"$f":"IF(BF$5>=$F49,IF(BF$5<=#REF!,$K49,0),0)","v":{"$error":"#REF!"}},{"$f":"IF(BG$5>=$F49,IF(BG$5<=#REF!,$K49,0),0)","v":{"$error":"#REF!"}},{"$f":"IF(BH$5>=$F49,IF(BH$5<=#REF!,$K49,0),0)","v":{"$error":"#REF!"}},{"$f":"IF(BI$5>=$F49,IF(BI$5<=#REF!,$K49,0),0)","v":{"$error":"#REF!"}},{"$f":"IF(BJ$5>=$F49,IF(BJ$5<=#REF!,$K49,0),0)","v":{"$error":"#REF!"}},{"$f":"IF(BK$5>=$F49,IF(BK$5<=#REF!,$K49,0),0)","v":{"$error":"#REF!"}},{"$f":"IF(BL$5>=$F49,IF(BL$5<=#REF!,$K49,0),0)","v":{"$error":"#REF!"}},{"$f":"IF(BM$5>=$F49,IF(BM$5<=#REF!,$K49,0),0)","v":{"$error":"#REF!"}},{"$f":"IF(BN$5>=$F49,IF(BN$5<=#REF!,$K49,0),0)","v":{"$error":"#REF!"}},{"$f":"IF(BO$5>=$F49,IF(BO$5<=#REF!,$K49,0),0)","v":{"$error":"#REF!"}},{"$f":"IF(BP$5>=$F49,IF(BP$5<=#REF!,$K49,0),0)","v":{"$error":"#REF!"}},{"$f":"IF(BQ$5>=$F49,IF(BQ$5<=#REF!,$K49,0),0)","v":{"$error":"#REF!"}},{"$f":"IF(BR$5>=$F49,IF(BR$5<=#REF!,$K49,0),0)","v":{"$error":"#REF!"}},{"$f":"IF(BS$5>=$F49,IF(BS$5<=#REF!,$K49,0),0)","v":{"$error":"#REF!"}},{"$f":"IF(BT$5>=$F49,IF(BT$5<=#REF!,$K49,0),0)","v":{"$error":"#REF!"}},{"$f":"IF(BU$5>=$F49,IF(BU$5<=#REF!,$K49,0),0)","v":{"$error":"#REF!"}},{"$f":"IF(BV$5>=$F49,IF(BV$5<=#REF!,$K49,0),0)","v":{"$error":"#REF!"}},{"$f":"IF(BW$5>=$F49,IF(BW$5<=#REF!,$K49,0),0)","v":{"$error":"#REF!"}},{"$f":"IF(BX$5>=$F49,IF(BX$5<=#REF!,$K49,0),0)","v":{"$error":"#REF!"}},{"$f":"IF(BY$5>=$F49,IF(BY$5<=#REF!,$K49,0),0)","v":{"$error":"#REF!"}},{"$f":"IF(BZ$5>=$F49,IF(BZ$5<=#REF!,$K49,0),0)","v":{"$error":"#REF!"}},{"$f":"IF(CA$5>=$F49,IF(CA$5<=#REF!,$K49,0),0)","v":{"$error":"#REF!"}},{"$f":"IF(CB$5>=$F49,IF(CB$5<=#REF!,$K49,0),0)","v":{"$error":"#REF!"}},{"$f":"IF(CC$5>=$F49,IF(CC$5<=#REF!,$K49,0),0)","v":{"$error":"#REF!"}},{"$f":"IF(CD$5>=$F49,IF(CD$5<=#REF!,$K49,0),0)","v":{"$error":"#REF!"}},{"$f":"IF(CE$5>=$F49,IF(CE$5<=#REF!,$K49,0),0)","v":{"$error":"#REF!"}},{"$f":"IF(CF$5>=$F49,IF(CF$5<=#REF!,$K49,0),0)","v":{"$error":"#REF!"}},{"$f":"IF(CG$5>=$F49,IF(CG$5<=#REF!,$K49,0),0)","v":{"$error":"#REF!"}},{"$f":"IF(CH$5>=$F49,IF(CH$5<=#REF!,$K49,0),0)","v":{"$error":"#REF!"}},{"$f":"IF(CI$5>=$F49,IF(CI$5<=#REF!,$K49,0),0)","v":{"$error":"#REF!"}},{"$f":"IF(CJ$5>=$F49,IF(CJ$5<=#REF!,$K49,0),0)","v":{"$error":"#REF!"}},{"$f":"IF(CK$5>=$F49,IF(CK$5<=#REF!,$K49,0),0)","v":{"$error":"#REF!"}},{"$f":"IF(CL$5>=$F49,IF(CL$5<=#REF!,$K49,0),0)","v":{"$error":"#REF!"}},{"$f":"IF(CM$5>=$F49,IF(CM$5<=#REF!,$K49,0),0)","v":{"$error":"#REF!"}},{"$f":"IF(CN$5>=$F49,IF(CN$5<=#REF!,$K49,0),0)","v":{"$error":"#REF!"}},{"$f":"IF(CO$5>=$F49,IF(CO$5<=#REF!,$K49,0),0)","v":{"$error":"#REF!"}},{"$f":"IF(CP$5>=$F49,IF(CP$5<=#REF!,$K49,0),0)","v":{"$error":"#REF!"}},{"$f":"IF(CQ$5>=$F49,IF(CQ$5<=#REF!,$K49,0),0)","v":{"$error":"#REF!"}},{"$f":"IF(CR$5>=$F49,IF(CR$5<=#REF!,$K49,0),0)","v":{"$error":"#REF!"}},{"$f":"IF(CS$5>=$F49,IF(CS$5<=#REF!,$K49,0),0)","v":{"$error":"#REF!"}},{"$f":"IF(CT$5>=$F49,IF(CT$5<=#REF!,$K49,0),0)","v":{"$error":"#REF!"}},{"$f":"IF(CU$5>=$F49,IF(CU$5<=#REF!,$K49,0),0)","v":{"$error":"#REF!"}},{"$f":"IF(CV$5>=$F49,IF(CV$5<=#REF!,$K49,0),0)","v":{"$error":"#REF!"}},{"$f":"IF(CW$5>=$F49,IF(CW$5<=#REF!,$K49,0),0)","v":{"$error":"#REF!"}},{"$f":"IF(CX$5>=$F49,IF(CX$5<=#REF!,$K49,0),0)","v":{"$error":"#REF!"}},{"$f":"IF(CY$5>=$F49,IF(CY$5<=#REF!,$K49,0),0)","v":{"$error":"#REF!"}},{"$f":"IF(CZ$5>=$F49,IF(CZ$5<=#REF!,$K49,0),0)","v":{"$error":"#REF!"}},{"$f":"IF(DA$5>=$F49,IF(DA$5<=#REF!,$K49,0),0)","v":{"$error":"#REF!"}},{"$f":"IF(DB$5>=$F49,IF(DB$5<=#REF!,$K49,0),0)","v":{"$error":"#REF!"}},{"$f":"IF(DC$5>=$F49,IF(DC$5<=#REF!,$K49,0),0)","v":{"$error":"#REF!"}},{"$f":"IF(DD$5>=$F49,IF(DD$5<=#REF!,$K49,0),0)","v":{"$error":"#REF!"}},{"$f":"IF(DE$5>=$F49,IF(DE$5<=#REF!,$K49,0),0)","v":{"$error":"#REF!"}},{"$f":"IF(DF$5>=$F49,IF(DF$5<=#REF!,$K49,0),0)","v":{"$error":"#REF!"}},{"$f":"IF(DG$5>=$F49,IF(DG$5<=#REF!,$K49,0),0)","v":{"$error":"#REF!"}},{"$f":"IF(DH$5>=$F49,IF(DH$5<=#REF!,$K49,0),0)","v":{"$error":"#REF!"}},{"$f":"IF(DI$5>=$F49,IF(DI$5<=#REF!,$K49,0),0)","v":{"$error":"#REF!"}},{"$f":"IF(DJ$5>=$F49,IF(DJ$5<=#REF!,$K49,0),0)","v":{"$error":"#REF!"}},{"$f":"IF(DK$5>=$F49,IF(DK$5<=#REF!,$K49,0),0)","v":{"$error":"#REF!"}},{"$f":"IF(DL$5>=$F49,IF(DL$5<=#REF!,$K49,0),0)","v":{"$error":"#REF!"}},{"$f":"IF(DM$5>=$F49,IF(DM$5<=#REF!,$K49,0),0)","v":{"$error":"#REF!"}},{"$f":"IF(DN$5>=$F49,IF(DN$5<=#REF!,$K49,0),0)","v":{"$error":"#REF!"}},{"$f":"IF(DO$5>=$F49,IF(DO$5<=#REF!,$K49,0),0)","v":{"$error":"#REF!"}},{"$f":"IF(DP$5>=$F49,IF(DP$5<=#REF!,$K49,0),0)","v":{"$error":"#REF!"}},{"$f":"IF(DQ$5>=$F49,IF(DQ$5<=#REF!,$K49,0),0)","v":{"$error":"#REF!"}},{"$f":"IF(DR$5>=$F49,IF(DR$5<=#REF!,$K49,0),0)","v":{"$error":"#REF!"}},{"$error":"#REF!"},"",""]
[null,null,null,null,null,null,{"$f":"IF($D50=\"\",0,VLOOKUP(($DU50&$C50&$D50),単価情報!$B$66:$C$932,2,FALSE))","v":0},0,0,0,{"$f":"IF(E50=0,0,ROUND(E50/#REF!,1))","v":0},{"$f":"IF(L$5>=$F50,IF(L$5<=#REF!,$K50,0),0)","v":{"$error":"#REF!"}},{"$f":"IF(M$5>=$F50,IF(M$5<=#REF!,$K50,0),0)","v":{"$error":"#REF!"}},{"$f":"IF(N$5>=$F50,IF(N$5<=#REF!,$K50,0),0)","v":{"$error":"#REF!"}},{"$f":"IF(O$5>=$F50,IF(O$5<=#REF!,$K50,0),0)","v":{"$error":"#REF!"}},{"$f":"IF(P$5>=$F50,IF(P$5<=#REF!,$K50,0),0)","v":{"$error":"#REF!"}},{"$f":"IF(Q$5>=$F50,IF(Q$5<=#REF!,$K50,0),0)","v":{"$error":"#REF!"}},{"$f":"IF(R$5>=$F50,IF(R$5<=#REF!,$K50,0),0)","v":{"$error":"#REF!"}},{"$f":"IF(S$5>=$F50,IF(S$5<=#REF!,$K50,0),0)","v":{"$error":"#REF!"}},{"$f":"IF(T$5>=$F50,IF(T$5<=#REF!,$K50,0),0)","v":{"$error":"#REF!"}},{"$f":"IF(U$5>=$F50,IF(U$5<=#REF!,$K50,0),0)","v":{"$error":"#REF!"}},{"$f":"IF(V$5>=$F50,IF(V$5<=#REF!,$K50,0),0)","v":{"$error":"#REF!"}},{"$f":"IF(W$5>=$F50,IF(W$5<=#REF!,$K50,0),0)","v":{"$error":"#REF!"}},{"$f":"IF(X$5>=$F50,IF(X$5<=#REF!,$K50,0),0)","v":{"$error":"#REF!"}},{"$f":"IF(Y$5>=$F50,IF(Y$5<=#REF!,$K50,0),0)","v":{"$error":"#REF!"}},{"$f":"IF(Z$5>=$F50,IF(Z$5<=#REF!,$K50,0),0)","v":{"$error":"#REF!"}},{"$f":"IF(AA$5>=$F50,IF(AA$5<=#REF!,$K50,0),0)","v":{"$error":"#REF!"}},{"$f":"IF(AB$5>=$F50,IF(AB$5<=#REF!,$K50,0),0)","v":{"$error":"#REF!"}},{"$f":"IF(AC$5>=$F50,IF(AC$5<=#REF!,$K50,0),0)","v":{"$error":"#REF!"}},{"$f":"IF(AD$5>=$F50,IF(AD$5<=#REF!,$K50,0),0)","v":{"$error":"#REF!"}},{"$f":"IF(AE$5>=$F50,IF(AE$5<=#REF!,$K50,0),0)","v":{"$error":"#REF!"}},{"$f":"IF(AF$5>=$F50,IF(AF$5<=#REF!,$K50,0),0)","v":{"$error":"#REF!"}},{"$f":"IF(AG$5>=$F50,IF(AG$5<=#REF!,$K50,0),0)","v":{"$error":"#REF!"}},{"$f":"IF(AH$5>=$F50,IF(AH$5<=#REF!,$K50,0),0)","v":{"$error":"#REF!"}},{"$f":"IF(AI$5>=$F50,IF(AI$5<=#REF!,$K50,0),0)","v":{"$error":"#REF!"}},{"$f":"IF(AJ$5>=$F50,IF(AJ$5<=#REF!,$K50,0),0)","v":{"$error":"#REF!"}},{"$f":"IF(AK$5>=$F50,IF(AK$5<=#REF!,$K50,0),0)","v":{"$error":"#REF!"}},{"$f":"IF(AL$5>=$F50,IF(AL$5<=#REF!,$K50,0),0)","v":{"$error":"#REF!"}},{"$f":"IF(AM$5>=$F50,IF(AM$5<=#REF!,$K50,0),0)","v":{"$error":"#REF!"}},{"$f":"IF(AN$5>=$F50,IF(AN$5<=#REF!,$K50,0),0)","v":{"$error":"#REF!"}},{"$f":"IF(AO$5>=$F50,IF(AO$5<=#REF!,$K50,0),0)","v":{"$error":"#REF!"}},{"$f":"IF(AP$5>=$F50,IF(AP$5<=#REF!,$K50,0),0)","v":{"$error":"#REF!"}},{"$f":"IF(AQ$5>=$F50,IF(AQ$5<=#REF!,$K50,0),0)","v":{"$error":"#REF!"}},{"$f":"IF(AR$5>=$F50,IF(AR$5<=#REF!,$K50,0),0)","v":{"$error":"#REF!"}},{"$f":"IF(AS$5>=$F50,IF(AS$5<=#REF!,$K50,0),0)","v":{"$error":"#REF!"}},{"$f":"IF(AT$5>=$F50,IF(AT$5<=#REF!,$K50,0),0)","v":{"$error":"#REF!"}},{"$f":"IF(AU$5>=$F50,IF(AU$5<=#REF!,$K50,0),0)","v":{"$error":"#REF!"}},{"$f":"IF(AV$5>=$F50,IF(AV$5<=#REF!,$K50,0),0)","v":{"$error":"#REF!"}},{"$f":"IF(AW$5>=$F50,IF(AW$5<=#REF!,$K50,0),0)","v":{"$error":"#REF!"}},{"$f":"IF(AX$5>=$F50,IF(AX$5<=#REF!,$K50,0),0)","v":{"$error":"#REF!"}},{"$f":"IF(AY$5>=$F50,IF(AY$5<=#REF!,$K50,0),0)","v":{"$error":"#REF!"}},{"$f":"IF(AZ$5>=$F50,IF(AZ$5<=#REF!,$K50,0),0)","v":{"$error":"#REF!"}},{"$f":"IF(BA$5>=$F50,IF(BA$5<=#REF!,$K50,0),0)","v":{"$error":"#REF!"}},{"$f":"IF(BB$5>=$F50,IF(BB$5<=#REF!,$K50,0),0)","v":{"$error":"#REF!"}},{"$f":"IF(BC$5>=$F50,IF(BC$5<=#REF!,$K50,0),0)","v":{"$error":"#REF!"}},{"$f":"IF(BD$5>=$F50,IF(BD$5<=#REF!,$K50,0),0)","v":{"$error":"#REF!"}},{"$f":"IF(BE$5>=$F50,IF(BE$5<=#REF!,$K50,0),0)","v":{"$error":"#REF!"}},{"$f":"IF(BF$5>=$F50,IF(BF$5<=#REF!,$K50,0),0)","v":{"$error":"#REF!"}},{"$f":"IF(BG$5>=$F50,IF(BG$5<=#REF!,$K50,0),0)","v":{"$error":"#REF!"}},{"$f":"IF(BH$5>=$F50,IF(BH$5<=#REF!,$K50,0),0)","v":{"$error":"#REF!"}},{"$f":"IF(BI$5>=$F50,IF(BI$5<=#REF!,$K50,0),0)","v":{"$error":"#REF!"}},{"$f":"IF(BJ$5>=$F50,IF(BJ$5<=#REF!,$K50,0),0)","v":{"$error":"#REF!"}},{"$f":"IF(BK$5>=$F50,IF(BK$5<=#REF!,$K50,0),0)","v":{"$error":"#REF!"}},{"$f":"IF(BL$5>=$F50,IF(BL$5<=#REF!,$K50,0),0)","v":{"$error":"#REF!"}},{"$f":"IF(BM$5>=$F50,IF(BM$5<=#REF!,$K50,0),0)","v":{"$error":"#REF!"}},{"$f":"IF(BN$5>=$F50,IF(BN$5<=#REF!,$K50,0),0)","v":{"$error":"#REF!"}},{"$f":"IF(BO$5>=$F50,IF(BO$5<=#REF!,$K50,0),0)","v":{"$error":"#REF!"}},{"$f":"IF(BP$5>=$F50,IF(BP$5<=#REF!,$K50,0),0)","v":{"$error":"#REF!"}},{"$f":"IF(BQ$5>=$F50,IF(BQ$5<=#REF!,$K50,0),0)","v":{"$error":"#REF!"}},{"$f":"IF(BR$5>=$F50,IF(BR$5<=#REF!,$K50,0),0)","v":{"$error":"#REF!"}},{"$f":"IF(BS$5>=$F50,IF(BS$5<=#REF!,$K50,0),0)","v":{"$error":"#REF!"}},{"$f":"IF(BT$5>=$F50,IF(BT$5<=#REF!,$K50,0),0)","v":{"$error":"#REF!"}},{"$f":"IF(BU$5>=$F50,IF(BU$5<=#REF!,$K50,0),0)","v":{"$error":"#REF!"}},{"$f":"IF(BV$5>=$F50,IF(BV$5<=#REF!,$K50,0),0)","v":{"$error":"#REF!"}},{"$f":"IF(BW$5>=$F50,IF(BW$5<=#REF!,$K50,0),0)","v":{"$error":"#REF!"}},{"$f":"IF(BX$5>=$F50,IF(BX$5<=#REF!,$K50,0),0)","v":{"$error":"#REF!"}},{"$f":"IF(BY$5>=$F50,IF(BY$5<=#REF!,$K50,0),0)","v":{"$error":"#REF!"}},{"$f":"IF(BZ$5>=$F50,IF(BZ$5<=#REF!,$K50,0),0)","v":{"$error":"#REF!"}},{"$f":"IF(CA$5>=$F50,IF(CA$5<=#REF!,$K50,0),0)","v":{"$error":"#REF!"}},{"$f":"IF(CB$5>=$F50,IF(CB$5<=#REF!,$K50,0),0)","v":{"$error":"#REF!"}},{"$f":"IF(CC$5>=$F50,IF(CC$5<=#REF!,$K50,0),0)","v":{"$error":"#REF!"}},{"$f":"IF(CD$5>=$F50,IF(CD$5<=#REF!,$K50,0),0)","v":{"$error":"#REF!"}},{"$f":"IF(CE$5>=$F50,IF(CE$5<=#REF!,$K50,0),0)","v":{"$error":"#REF!"}},{"$f":"IF(CF$5>=$F50,IF(CF$5<=#REF!,$K50,0),0)","v":{"$error":"#REF!"}},{"$f":"IF(CG$5>=$F50,IF(CG$5<=#REF!,$K50,0),0)","v":{"$error":"#REF!"}},{"$f":"IF(CH$5>=$F50,IF(CH$5<=#REF!,$K50,0),0)","v":{"$error":"#REF!"}},{"$f":"IF(CI$5>=$F50,IF(CI$5<=#REF!,$K50,0),0)","v":{"$error":"#REF!"}},{"$f":"IF(CJ$5>=$F50,IF(CJ$5<=#REF!,$K50,0),0)","v":{"$error":"#REF!"}},{"$f":"IF(CK$5>=$F50,IF(CK$5<=#REF!,$K50,0),0)","v":{"$error":"#REF!"}},{"$f":"IF(CL$5>=$F50,IF(CL$5<=#REF!,$K50,0),0)","v":{"$error":"#REF!"}},{"$f":"IF(CM$5>=$F50,IF(CM$5<=#REF!,$K50,0),0)","v":{"$error":"#REF!"}},{"$f":"IF(CN$5>=$F50,IF(CN$5<=#REF!,$K50,0),0)","v":{"$error":"#REF!"}},{"$f":"IF(CO$5>=$F50,IF(CO$5<=#REF!,$K50,0),0)","v":{"$error":"#REF!"}},{"$f":"IF(CP$5>=$F50,IF(CP$5<=#REF!,$K50,0),0)","v":{"$error":"#REF!"}},{"$f":"IF(CQ$5>=$F50,IF(CQ$5<=#REF!,$K50,0),0)","v":{"$error":"#REF!"}},{"$f":"IF(CR$5>=$F50,IF(CR$5<=#REF!,$K50,0),0)","v":{"$error":"#REF!"}},{"$f":"IF(CS$5>=$F50,IF(CS$5<=#REF!,$K50,0),0)","v":{"$error":"#REF!"}},{"$f":"IF(CT$5>=$F50,IF(CT$5<=#REF!,$K50,0),0)","v":{"$error":"#REF!"}},{"$f":"IF(CU$5>=$F50,IF(CU$5<=#REF!,$K50,0),0)","v":{"$error":"#REF!"}},{"$f":"IF(CV$5>=$F50,IF(CV$5<=#REF!,$K50,0),0)","v":{"$error":"#REF!"}},{"$f":"IF(CW$5>=$F50,IF(CW$5<=#REF!,$K50,0),0)","v":{"$error":"#REF!"}},{"$f":"IF(CX$5>=$F50,IF(CX$5<=#REF!,$K50,0),0)","v":{"$error":"#REF!"}},{"$f":"IF(CY$5>=$F50,IF(CY$5<=#REF!,$K50,0),0)","v":{"$error":"#REF!"}},{"$f":"IF(CZ$5>=$F50,IF(CZ$5<=#REF!,$K50,0),0)","v":{"$error":"#REF!"}},{"$f":"IF(DA$5>=$F50,IF(DA$5<=#REF!,$K50,0),0)","v":{"$error":"#REF!"}},{"$f":"IF(DB$5>=$F50,IF(DB$5<=#REF!,$K50,0),0)","v":{"$error":"#REF!"}},{"$f":"IF(DC$5>=$F50,IF(DC$5<=#REF!,$K50,0),0)","v":{"$error":"#REF!"}},{"$f":"IF(DD$5>=$F50,IF(DD$5<=#REF!,$K50,0),0)","v":{"$error":"#REF!"}},{"$f":"IF(DE$5>=$F50,IF(DE$5<=#REF!,$K50,0),0)","v":{"$error":"#REF!"}},{"$f":"IF(DF$5>=$F50,IF(DF$5<=#REF!,$K50,0),0)","v":{"$error":"#REF!"}},{"$f":"IF(DG$5>=$F50,IF(DG$5<=#REF!,$K50,0),0)","v":{"$error":"#REF!"}},{"$f":"IF(DH$5>=$F50,IF(DH$5<=#REF!,$K50,0),0)","v":{"$error":"#REF!"}},{"$f":"IF(DI$5>=$F50,IF(DI$5<=#REF!,$K50,0),0)","v":{"$error":"#REF!"}},{"$f":"IF(DJ$5>=$F50,IF(DJ$5<=#REF!,$K50,0),0)","v":{"$error":"#REF!"}},{"$f":"IF(DK$5>=$F50,IF(DK$5<=#REF!,$K50,0),0)","v":{"$error":"#REF!"}},{"$f":"IF(DL$5>=$F50,IF(DL$5<=#REF!,$K50,0),0)","v":{"$error":"#REF!"}},{"$f":"IF(DM$5>=$F50,IF(DM$5<=#REF!,$K50,0),0)","v":{"$error":"#REF!"}},{"$f":"IF(DN$5>=$F50,IF(DN$5<=#REF!,$K50,0),0)","v":{"$error":"#REF!"}},{"$f":"IF(DO$5>=$F50,IF(DO$5<=#REF!,$K50,0),0)","v":{"$error":"#REF!"}},{"$f":"IF(DP$5>=$F50,IF(DP$5<=#REF!,$K50,0),0)","v":{"$error":"#REF!"}},{"$f":"IF(DQ$5>=$F50,IF(DQ$5<=#REF!,$K50,0),0)","v":{"$error":"#REF!"}},{"$f":"IF(DR$5>=$F50,IF(DR$5<=#REF!,$K50,0),0)","v":{"$error":"#REF!"}},{"$error":"#REF!"},"",""]
[null,null,null,null,null,null,{"$f":"IF($D51=\"\",0,VLOOKUP(($DU51&$C51&$D51),単価情報!$B$66:$C$932,2,FALSE))","v":0},0,0,0,{"$f":"IF(E51=0,0,ROUND(E51/#REF!,1))","v":0},{"$f":"IF(L$5>=$F51,IF(L$5<=#REF!,$K51,0),0)","v":{"$error":"#REF!"}},{"$f":"IF(M$5>=$F51,IF(M$5<=#REF!,$K51,0),0)","v":{"$error":"#REF!"}},{"$f":"IF(N$5>=$F51,IF(N$5<=#REF!,$K51,0),0)","v":{"$error":"#REF!"}},{"$f":"IF(O$5>=$F51,IF(O$5<=#REF!,$K51,0),0)","v":{"$error":"#REF!"}},{"$f":"IF(P$5>=$F51,IF(P$5<=#REF!,$K51,0),0)","v":{"$error":"#REF!"}},{"$f":"IF(Q$5>=$F51,IF(Q$5<=#REF!,$K51,0),0)","v":{"$error":"#REF!"}},{"$f":"IF(R$5>=$F51,IF(R$5<=#REF!,$K51,0),0)","v":{"$error":"#REF!"}},{"$f":"IF(S$5>=$F51,IF(S$5<=#REF!,$K51,0),0)","v":{"$error":"#REF!"}},{"$f":"IF(T$5>=$F51,IF(T$5<=#REF!,$K51,0),0)","v":{"$error":"#REF!"}},{"$f":"IF(U$5>=$F51,IF(U$5<=#REF!,$K51,0),0)","v":{"$error":"#REF!"}},{"$f":"IF(V$5>=$F51,IF(V$5<=#REF!,$K51,0),0)","v":{"$error":"#REF!"}},{"$f":"IF(W$5>=$F51,IF(W$5<=#REF!,$K51,0),0)","v":{"$error":"#REF!"}},{"$f":"IF(X$5>=$F51,IF(X$5<=#REF!,$K51,0),0)","v":{"$error":"#REF!"}},{"$f":"IF(Y$5>=$F51,IF(Y$5<=#REF!,$K51,0),0)","v":{"$error":"#REF!"}},{"$f":"IF(Z$5>=$F51,IF(Z$5<=#REF!,$K51,0),0)","v":{"$error":"#REF!"}},{"$f":"IF(AA$5>=$F51,IF(AA$5<=#REF!,$K51,0),0)","v":{"$error":"#REF!"}},{"$f":"IF(AB$5>=$F51,IF(AB$5<=#REF!,$K51,0),0)","v":{"$error":"#REF!"}},{"$f":"IF(AC$5>=$F51,IF(AC$5<=#REF!,$K51,0),0)","v":{"$error":"#REF!"}},{"$f":"IF(AD$5>=$F51,IF(AD$5<=#REF!,$K51,0),0)","v":{"$error":"#REF!"}},{"$f":"IF(AE$5>=$F51,IF(AE$5<=#REF!,$K51,0),0)","v":{"$error":"#REF!"}},{"$f":"IF(AF$5>=$F51,IF(AF$5<=#REF!,$K51,0),0)","v":{"$error":"#REF!"}},{"$f":"IF(AG$5>=$F51,IF(AG$5<=#REF!,$K51,0),0)","v":{"$error":"#REF!"}},{"$f":"IF(AH$5>=$F51,IF(AH$5<=#REF!,$K51,0),0)","v":{"$error":"#REF!"}},{"$f":"IF(AI$5>=$F51,IF(AI$5<=#REF!,$K51,0),0)","v":{"$error":"#REF!"}},{"$f":"IF(AJ$5>=$F51,IF(AJ$5<=#REF!,$K51,0),0)","v":{"$error":"#REF!"}},{"$f":"IF(AK$5>=$F51,IF(AK$5<=#REF!,$K51,0),0)","v":{"$error":"#REF!"}},{"$f":"IF(AL$5>=$F51,IF(AL$5<=#REF!,$K51,0),0)","v":{"$error":"#REF!"}},{"$f":"IF(AM$5>=$F51,IF(AM$5<=#REF!,$K51,0),0)","v":{"$error":"#REF!"}},{"$f":"IF(AN$5>=$F51,IF(AN$5<=#REF!,$K51,0),0)","v":{"$error":"#REF!"}},{"$f":"IF(AO$5>=$F51,IF(AO$5<=#REF!,$K51,0),0)","v":{"$error":"#REF!"}},{"$f":"IF(AP$5>=$F51,IF(AP$5<=#REF!,$K51,0),0)","v":{"$error":"#REF!"}},{"$f":"IF(AQ$5>=$F51,IF(AQ$5<=#REF!,$K51,0),0)","v":{"$error":"#REF!"}},{"$f":"IF(AR$5>=$F51,IF(AR$5<=#REF!,$K51,0),0)","v":{"$error":"#REF!"}},{"$f":"IF(AS$5>=$F51,IF(AS$5<=#REF!,$K51,0),0)","v":{"$error":"#REF!"}},{"$f":"IF(AT$5>=$F51,IF(AT$5<=#REF!,$K51,0),0)","v":{"$error":"#REF!"}},{"$f":"IF(AU$5>=$F51,IF(AU$5<=#REF!,$K51,0),0)","v":{"$error":"#REF!"}},{"$f":"IF(AV$5>=$F51,IF(AV$5<=#REF!,$K51,0),0)","v":{"$error":"#REF!"}},{"$f":"IF(AW$5>=$F51,IF(AW$5<=#REF!,$K51,0),0)","v":{"$error":"#REF!"}},{"$f":"IF(AX$5>=$F51,IF(AX$5<=#REF!,$K51,0),0)","v":{"$error":"#REF!"}},{"$f":"IF(AY$5>=$F51,IF(AY$5<=#REF!,$K51,0),0)","v":{"$error":"#REF!"}},{"$f":"IF(AZ$5>=$F51,IF(AZ$5<=#REF!,$K51,0),0)","v":{"$error":"#REF!"}},{"$f":"IF(BA$5>=$F51,IF(BA$5<=#REF!,$K51,0),0)","v":{"$error":"#REF!"}},{"$f":"IF(BB$5>=$F51,IF(BB$5<=#REF!,$K51,0),0)","v":{"$error":"#REF!"}},{"$f":"IF(BC$5>=$F51,IF(BC$5<=#REF!,$K51,0),0)","v":{"$error":"#REF!"}},{"$f":"IF(BD$5>=$F51,IF(BD$5<=#REF!,$K51,0),0)","v":{"$error":"#REF!"}},{"$f":"IF(BE$5>=$F51,IF(BE$5<=#REF!,$K51,0),0)","v":{"$error":"#REF!"}},{"$f":"IF(BF$5>=$F51,IF(BF$5<=#REF!,$K51,0),0)","v":{"$error":"#REF!"}},{"$f":"IF(BG$5>=$F51,IF(BG$5<=#REF!,$K51,0),0)","v":{"$error":"#REF!"}},{"$f":"IF(BH$5>=$F51,IF(BH$5<=#REF!,$K51,0),0)","v":{"$error":"#REF!"}},{"$f":"IF(BI$5>=$F51,IF(BI$5<=#REF!,$K51,0),0)","v":{"$error":"#REF!"}},{"$f":"IF(BJ$5>=$F51,IF(BJ$5<=#REF!,$K51,0),0)","v":{"$error":"#REF!"}},{"$f":"IF(BK$5>=$F51,IF(BK$5<=#REF!,$K51,0),0)","v":{"$error":"#REF!"}},{"$f":"IF(BL$5>=$F51,IF(BL$5<=#REF!,$K51,0),0)","v":{"$error":"#REF!"}},{"$f":"IF(BM$5>=$F51,IF(BM$5<=#REF!,$K51,0),0)","v":{"$error":"#REF!"}},{"$f":"IF(BN$5>=$F51,IF(BN$5<=#REF!,$K51,0),0)","v":{"$error":"#REF!"}},{"$f":"IF(BO$5>=$F51,IF(BO$5<=#REF!,$K51,0),0)","v":{"$error":"#REF!"}},{"$f":"IF(BP$5>=$F51,IF(BP$5<=#REF!,$K51,0),0)","v":{"$error":"#REF!"}},{"$f":"IF(BQ$5>=$F51,IF(BQ$5<=#REF!,$K51,0),0)","v":{"$error":"#REF!"}},{"$f":"IF(BR$5>=$F51,IF(BR$5<=#REF!,$K51,0),0)","v":{"$error":"#REF!"}},{"$f":"IF(BS$5>=$F51,IF(BS$5<=#REF!,$K51,0),0)","v":{"$error":"#REF!"}},{"$f":"IF(BT$5>=$F51,IF(BT$5<=#REF!,$K51,0),0)","v":{"$error":"#REF!"}},{"$f":"IF(BU$5>=$F51,IF(BU$5<=#REF!,$K51,0),0)","v":{"$error":"#REF!"}},{"$f":"IF(BV$5>=$F51,IF(BV$5<=#REF!,$K51,0),0)","v":{"$error":"#REF!"}},{"$f":"IF(BW$5>=$F51,IF(BW$5<=#REF!,$K51,0),0)","v":{"$error":"#REF!"}},{"$f":"IF(BX$5>=$F51,IF(BX$5<=#REF!,$K51,0),0)","v":{"$error":"#REF!"}},{"$f":"IF(BY$5>=$F51,IF(BY$5<=#REF!,$K51,0),0)","v":{"$error":"#REF!"}},{"$f":"IF(BZ$5>=$F51,IF(BZ$5<=#REF!,$K51,0),0)","v":{"$error":"#REF!"}},{"$f":"IF(CA$5>=$F51,IF(CA$5<=#REF!,$K51,0),0)","v":{"$error":"#REF!"}},{"$f":"IF(CB$5>=$F51,IF(CB$5<=#REF!,$K51,0),0)","v":{"$error":"#REF!"}},{"$f":"IF(CC$5>=$F51,IF(CC$5<=#REF!,$K51,0),0)","v":{"$error":"#REF!"}},{"$f":"IF(CD$5>=$F51,IF(CD$5<=#REF!,$K51,0),0)","v":{"$error":"#REF!"}},{"$f":"IF(CE$5>=$F51,IF(CE$5<=#REF!,$K51,0),0)","v":{"$error":"#REF!"}},{"$f":"IF(CF$5>=$F51,IF(CF$5<=#REF!,$K51,0),0)","v":{"$error":"#REF!"}},{"$f":"IF(CG$5>=$F51,IF(CG$5<=#REF!,$K51,0),0)","v":{"$error":"#REF!"}},{"$f":"IF(CH$5>=$F51,IF(CH$5<=#REF!,$K51,0),0)","v":{"$error":"#REF!"}},{"$f":"IF(CI$5>=$F51,IF(CI$5<=#REF!,$K51,0),0)","v":{"$error":"#REF!"}},{"$f":"IF(CJ$5>=$F51,IF(CJ$5<=#REF!,$K51,0),0)","v":{"$error":"#REF!"}},{"$f":"IF(CK$5>=$F51,IF(CK$5<=#REF!,$K51,0),0)","v":{"$error":"#REF!"}},{"$f":"IF(CL$5>=$F51,IF(CL$5<=#REF!,$K51,0),0)","v":{"$error":"#REF!"}},{"$f":"IF(CM$5>=$F51,IF(CM$5<=#REF!,$K51,0),0)","v":{"$error":"#REF!"}},{"$f":"IF(CN$5>=$F51,IF(CN$5<=#REF!,$K51,0),0)","v":{"$error":"#REF!"}},{"$f":"IF(CO$5>=$F51,IF(CO$5<=#REF!,$K51,0),0)","v":{"$error":"#REF!"}},{"$f":"IF(CP$5>=$F51,IF(CP$5<=#REF!,$K51,0),0)","v":{"$error":"#REF!"}},{"$f":"IF(CQ$5>=$F51,IF(CQ$5<=#REF!,$K51,0),0)","v":{"$error":"#REF!"}},{"$f":"IF(CR$5>=$F51,IF(CR$5<=#REF!,$K51,0),0)","v":{"$error":"#REF!"}},{"$f":"IF(CS$5>=$F51,IF(CS$5<=#REF!,$K51,0),0)","v":{"$error":"#REF!"}},{"$f":"IF(CT$5>=$F51,IF(CT$5<=#REF!,$K51,0),0)","v":{"$error":"#REF!"}},{"$f":"IF(CU$5>=$F51,IF(CU$5<=#REF!,$K51,0),0)","v":{"$error":"#REF!"}},{"$f":"IF(CV$5>=$F51,IF(CV$5<=#REF!,$K51,0),0)","v":{"$error":"#REF!"}},{"$f":"IF(CW$5>=$F51,IF(CW$5<=#REF!,$K51,0),0)","v":{"$error":"#REF!"}},{"$f":"IF(CX$5>=$F51,IF(CX$5<=#REF!,$K51,0),0)","v":{"$error":"#REF!"}},{"$f":"IF(CY$5>=$F51,IF(CY$5<=#REF!,$K51,0),0)","v":{"$error":"#REF!"}},{"$f":"IF(CZ$5>=$F51,IF(CZ$5<=#REF!,$K51,0),0)","v":{"$error":"#REF!"}},{"$f":"IF(DA$5>=$F51,IF(DA$5<=#REF!,$K51,0),0)","v":{"$error":"#REF!"}},{"$f":"IF(DB$5>=$F51,IF(DB$5<=#REF!,$K51,0),0)","v":{"$error":"#REF!"}},{"$f":"IF(DC$5>=$F51,IF(DC$5<=#REF!,$K51,0),0)","v":{"$error":"#REF!"}},{"$f":"IF(DD$5>=$F51,IF(DD$5<=#REF!,$K51,0),0)","v":{"$error":"#REF!"}},{"$f":"IF(DE$5>=$F51,IF(DE$5<=#REF!,$K51,0),0)","v":{"$error":"#REF!"}},{"$f":"IF(DF$5>=$F51,IF(DF$5<=#REF!,$K51,0),0)","v":{"$error":"#REF!"}},{"$f":"IF(DG$5>=$F51,IF(DG$5<=#REF!,$K51,0),0)","v":{"$error":"#REF!"}},{"$f":"IF(DH$5>=$F51,IF(DH$5<=#REF!,$K51,0),0)","v":{"$error":"#REF!"}},{"$f":"IF(DI$5>=$F51,IF(DI$5<=#REF!,$K51,0),0)","v":{"$error":"#REF!"}},{"$f":"IF(DJ$5>=$F51,IF(DJ$5<=#REF!,$K51,0),0)","v":{"$error":"#REF!"}},{"$f":"IF(DK$5>=$F51,IF(DK$5<=#REF!,$K51,0),0)","v":{"$error":"#REF!"}},{"$f":"IF(DL$5>=$F51,IF(DL$5<=#REF!,$K51,0),0)","v":{"$error":"#REF!"}},{"$f":"IF(DM$5>=$F51,IF(DM$5<=#REF!,$K51,0),0)","v":{"$error":"#REF!"}},{"$f":"IF(DN$5>=$F51,IF(DN$5<=#REF!,$K51,0),0)","v":{"$error":"#REF!"}},{"$f":"IF(DO$5>=$F51,IF(DO$5<=#REF!,$K51,0),0)","v":{"$error":"#REF!"}},{"$f":"IF(DP$5>=$F51,IF(DP$5<=#REF!,$K51,0),0)","v":{"$error":"#REF!"}},{"$f":"IF(DQ$5>=$F51,IF(DQ$5<=#REF!,$K51,0),0)","v":{"$error":"#REF!"}},{"$f":"IF(DR$5>=$F51,IF(DR$5<=#REF!,$K51,0),0)","v":{"$error":"#REF!"}},{"$error":"#REF!"},"",""]
[null,null,null,null,null,null,{"$f":"IF($D52=\"\",0,VLOOKUP(($DU52&$C52&$D52),単価情報!$B$66:$C$932,2,FALSE))","v":0},0,0,0,{"$f":"IF(E52=0,0,ROUND(E52/#REF!,1))","v":0},{"$f":"IF(L$5>=$F52,IF(L$5<=#REF!,$K52,0),0)","v":{"$error":"#REF!"}},{"$f":"IF(M$5>=$F52,IF(M$5<=#REF!,$K52,0),0)","v":{"$error":"#REF!"}},{"$f":"IF(N$5>=$F52,IF(N$5<=#REF!,$K52,0),0)","v":{"$error":"#REF!"}},{"$f":"IF(O$5>=$F52,IF(O$5<=#REF!,$K52,0),0)","v":{"$error":"#REF!"}},{"$f":"IF(P$5>=$F52,IF(P$5<=#REF!,$K52,0),0)","v":{"$error":"#REF!"}},{"$f":"IF(Q$5>=$F52,IF(Q$5<=#REF!,$K52,0),0)","v":{"$error":"#REF!"}},{"$f":"IF(R$5>=$F52,IF(R$5<=#REF!,$K52,0),0)","v":{"$error":"#REF!"}},{"$f":"IF(S$5>=$F52,IF(S$5<=#REF!,$K52,0),0)","v":{"$error":"#REF!"}},{"$f":"IF(T$5>=$F52,IF(T$5<=#REF!,$K52,0),0)","v":{"$error":"#REF!"}},{"$f":"IF(U$5>=$F52,IF(U$5<=#REF!,$K52,0),0)","v":{"$error":"#REF!"}},{"$f":"IF(V$5>=$F52,IF(V$5<=#REF!,$K52,0),0)","v":{"$error":"#REF!"}},{"$f":"IF(W$5>=$F52,IF(W$5<=#REF!,$K52,0),0)","v":{"$error":"#REF!"}},{"$f":"IF(X$5>=$F52,IF(X$5<=#REF!,$K52,0),0)","v":{"$error":"#REF!"}},{"$f":"IF(Y$5>=$F52,IF(Y$5<=#REF!,$K52,0),0)","v":{"$error":"#REF!"}},{"$f":"IF(Z$5>=$F52,IF(Z$5<=#REF!,$K52,0),0)","v":{"$error":"#REF!"}},{"$f":"IF(AA$5>=$F52,IF(AA$5<=#REF!,$K52,0),0)","v":{"$error":"#REF!"}},{"$f":"IF(AB$5>=$F52,IF(AB$5<=#REF!,$K52,0),0)","v":{"$error":"#REF!"}},{"$f":"IF(AC$5>=$F52,IF(AC$5<=#REF!,$K52,0),0)","v":{"$error":"#REF!"}},{"$f":"IF(AD$5>=$F52,IF(AD$5<=#REF!,$K52,0),0)","v":{"$error":"#REF!"}},{"$f":"IF(AE$5>=$F52,IF(AE$5<=#REF!,$K52,0),0)","v":{"$error":"#REF!"}},{"$f":"IF(AF$5>=$F52,IF(AF$5<=#REF!,$K52,0),0)","v":{"$error":"#REF!"}},{"$f":"IF(AG$5>=$F52,IF(AG$5<=#REF!,$K52,0),0)","v":{"$error":"#REF!"}},{"$f":"IF(AH$5>=$F52,IF(AH$5<=#REF!,$K52,0),0)","v":{"$error":"#REF!"}},{"$f":"IF(AI$5>=$F52,IF(AI$5<=#REF!,$K52,0),0)","v":{"$error":"#REF!"}},{"$f":"IF(AJ$5>=$F52,IF(AJ$5<=#REF!,$K52,0),0)","v":{"$error":"#REF!"}},{"$f":"IF(AK$5>=$F52,IF(AK$5<=#REF!,$K52,0),0)","v":{"$error":"#REF!"}},{"$f":"IF(AL$5>=$F52,IF(AL$5<=#REF!,$K52,0),0)","v":{"$error":"#REF!"}},{"$f":"IF(AM$5>=$F52,IF(AM$5<=#REF!,$K52,0),0)","v":{"$error":"#REF!"}},{"$f":"IF(AN$5>=$F52,IF(AN$5<=#REF!,$K52,0),0)","v":{"$error":"#REF!"}},{"$f":"IF(AO$5>=$F52,IF(AO$5<=#REF!,$K52,0),0)","v":{"$error":"#REF!"}},{"$f":"IF(AP$5>=$F52,IF(AP$5<=#REF!,$K52,0),0)","v":{"$error":"#REF!"}},{"$f":"IF(AQ$5>=$F52,IF(AQ$5<=#REF!,$K52,0),0)","v":{"$error":"#REF!"}},{"$f":"IF(AR$5>=$F52,IF(AR$5<=#REF!,$K52,0),0)","v":{"$error":"#REF!"}},{"$f":"IF(AS$5>=$F52,IF(AS$5<=#REF!,$K52,0),0)","v":{"$error":"#REF!"}},{"$f":"IF(AT$5>=$F52,IF(AT$5<=#REF!,$K52,0),0)","v":{"$error":"#REF!"}},{"$f":"IF(AU$5>=$F52,IF(AU$5<=#REF!,$K52,0),0)","v":{"$error":"#REF!"}},{"$f":"IF(AV$5>=$F52,IF(AV$5<=#REF!,$K52,0),0)","v":{"$error":"#REF!"}},{"$f":"IF(AW$5>=$F52,IF(AW$5<=#REF!,$K52,0),0)","v":{"$error":"#REF!"}},{"$f":"IF(AX$5>=$F52,IF(AX$5<=#REF!,$K52,0),0)","v":{"$error":"#REF!"}},{"$f":"IF(AY$5>=$F52,IF(AY$5<=#REF!,$K52,0),0)","v":{"$error":"#REF!"}},{"$f":"IF(AZ$5>=$F52,IF(AZ$5<=#REF!,$K52,0),0)","v":{"$error":"#REF!"}},{"$f":"IF(BA$5>=$F52,IF(BA$5<=#REF!,$K52,0),0)","v":{"$error":"#REF!"}},{"$f":"IF(BB$5>=$F52,IF(BB$5<=#REF!,$K52,0),0)","v":{"$error":"#REF!"}},{"$f":"IF(BC$5>=$F52,IF(BC$5<=#REF!,$K52,0),0)","v":{"$error":"#REF!"}},{"$f":"IF(BD$5>=$F52,IF(BD$5<=#REF!,$K52,0),0)","v":{"$error":"#REF!"}},{"$f":"IF(BE$5>=$F52,IF(BE$5<=#REF!,$K52,0),0)","v":{"$error":"#REF!"}},{"$f":"IF(BF$5>=$F52,IF(BF$5<=#REF!,$K52,0),0)","v":{"$error":"#REF!"}},{"$f":"IF(BG$5>=$F52,IF(BG$5<=#REF!,$K52,0),0)","v":{"$error":"#REF!"}},{"$f":"IF(BH$5>=$F52,IF(BH$5<=#REF!,$K52,0),0)","v":{"$error":"#REF!"}},{"$f":"IF(BI$5>=$F52,IF(BI$5<=#REF!,$K52,0),0)","v":{"$error":"#REF!"}},{"$f":"IF(BJ$5>=$F52,IF(BJ$5<=#REF!,$K52,0),0)","v":{"$error":"#REF!"}},{"$f":"IF(BK$5>=$F52,IF(BK$5<=#REF!,$K52,0),0)","v":{"$error":"#REF!"}},{"$f":"IF(BL$5>=$F52,IF(BL$5<=#REF!,$K52,0),0)","v":{"$error":"#REF!"}},{"$f":"IF(BM$5>=$F52,IF(BM$5<=#REF!,$K52,0),0)","v":{"$error":"#REF!"}},{"$f":"IF(BN$5>=$F52,IF(BN$5<=#REF!,$K52,0),0)","v":{"$error":"#REF!"}},{"$f":"IF(BO$5>=$F52,IF(BO$5<=#REF!,$K52,0),0)","v":{"$error":"#REF!"}},{"$f":"IF(BP$5>=$F52,IF(BP$5<=#REF!,$K52,0),0)","v":{"$error":"#REF!"}},{"$f":"IF(BQ$5>=$F52,IF(BQ$5<=#REF!,$K52,0),0)","v":{"$error":"#REF!"}},{"$f":"IF(BR$5>=$F52,IF(BR$5<=#REF!,$K52,0),0)","v":{"$error":"#REF!"}},{"$f":"IF(BS$5>=$F52,IF(BS$5<=#REF!,$K52,0),0)","v":{"$error":"#REF!"}},{"$f":"IF(BT$5>=$F52,IF(BT$5<=#REF!,$K52,0),0)","v":{"$error":"#REF!"}},{"$f":"IF(BU$5>=$F52,IF(BU$5<=#REF!,$K52,0),0)","v":{"$error":"#REF!"}},{"$f":"IF(BV$5>=$F52,IF(BV$5<=#REF!,$K52,0),0)","v":{"$error":"#REF!"}},{"$f":"IF(BW$5>=$F52,IF(BW$5<=#REF!,$K52,0),0)","v":{"$error":"#REF!"}},{"$f":"IF(BX$5>=$F52,IF(BX$5<=#REF!,$K52,0),0)","v":{"$error":"#REF!"}},{"$f":"IF(BY$5>=$F52,IF(BY$5<=#REF!,$K52,0),0)","v":{"$error":"#REF!"}},{"$f":"IF(BZ$5>=$F52,IF(BZ$5<=#REF!,$K52,0),0)","v":{"$error":"#REF!"}},{"$f":"IF(CA$5>=$F52,IF(CA$5<=#REF!,$K52,0),0)","v":{"$error":"#REF!"}},{"$f":"IF(CB$5>=$F52,IF(CB$5<=#REF!,$K52,0),0)","v":{"$error":"#REF!"}},{"$f":"IF(CC$5>=$F52,IF(CC$5<=#REF!,$K52,0),0)","v":{"$error":"#REF!"}},{"$f":"IF(CD$5>=$F52,IF(CD$5<=#REF!,$K52,0),0)","v":{"$error":"#REF!"}},{"$f":"IF(CE$5>=$F52,IF(CE$5<=#REF!,$K52,0),0)","v":{"$error":"#REF!"}},{"$f":"IF(CF$5>=$F52,IF(CF$5<=#REF!,$K52,0),0)","v":{"$error":"#REF!"}},{"$f":"IF(CG$5>=$F52,IF(CG$5<=#REF!,$K52,0),0)","v":{"$error":"#REF!"}},{"$f":"IF(CH$5>=$F52,IF(CH$5<=#REF!,$K52,0),0)","v":{"$error":"#REF!"}},{"$f":"IF(CI$5>=$F52,IF(CI$5<=#REF!,$K52,0),0)","v":{"$error":"#REF!"}},{"$f":"IF(CJ$5>=$F52,IF(CJ$5<=#REF!,$K52,0),0)","v":{"$error":"#REF!"}},{"$f":"IF(CK$5>=$F52,IF(CK$5<=#REF!,$K52,0),0)","v":{"$error":"#REF!"}},{"$f":"IF(CL$5>=$F52,IF(CL$5<=#REF!,$K52,0),0)","v":{"$error":"#REF!"}},{"$f":"IF(CM$5>=$F52,IF(CM$5<=#REF!,$K52,0),0)","v":{"$error":"#REF!"}},{"$f":"IF(CN$5>=$F52,IF(CN$5<=#REF!,$K52,0),0)","v":{"$error":"#REF!"}},{"$f":"IF(CO$5>=$F52,IF(CO$5<=#REF!,$K52,0),0)","v":{"$error":"#REF!"}},{"$f":"IF(CP$5>=$F52,IF(CP$5<=#REF!,$K52,0),0)","v":{"$error":"#REF!"}},{"$f":"IF(CQ$5>=$F52,IF(CQ$5<=#REF!,$K52,0),0)","v":{"$error":"#REF!"}},{"$f":"IF(CR$5>=$F52,IF(CR$5<=#REF!,$K52,0),0)","v":{"$error":"#REF!"}},{"$f":"IF(CS$5>=$F52,IF(CS$5<=#REF!,$K52,0),0)","v":{"$error":"#REF!"}},{"$f":"IF(CT$5>=$F52,IF(CT$5<=#REF!,$K52,0),0)","v":{"$error":"#REF!"}},{"$f":"IF(CU$5>=$F52,IF(CU$5<=#REF!,$K52,0),0)","v":{"$error":"#REF!"}},{"$f":"IF(CV$5>=$F52,IF(CV$5<=#REF!,$K52,0),0)","v":{"$error":"#REF!"}},{"$f":"IF(CW$5>=$F52,IF(CW$5<=#REF!,$K52,0),0)","v":{"$error":"#REF!"}},{"$f":"IF(CX$5>=$F52,IF(CX$5<=#REF!,$K52,0),0)","v":{"$error":"#REF!"}},{"$f":"IF(CY$5>=$F52,IF(CY$5<=#REF!,$K52,0),0)","v":{"$error":"#REF!"}},{"$f":"IF(CZ$5>=$F52,IF(CZ$5<=#REF!,$K52,0),0)","v":{"$error":"#REF!"}},{"$f":"IF(DA$5>=$F52,IF(DA$5<=#REF!,$K52,0),0)","v":{"$error":"#REF!"}},{"$f":"IF(DB$5>=$F52,IF(DB$5<=#REF!,$K52,0),0)","v":{"$error":"#REF!"}},{"$f":"IF(DC$5>=$F52,IF(DC$5<=#REF!,$K52,0),0)","v":{"$error":"#REF!"}},{"$f":"IF(DD$5>=$F52,IF(DD$5<=#REF!,$K52,0),0)","v":{"$error":"#REF!"}},{"$f":"IF(DE$5>=$F52,IF(DE$5<=#REF!,$K52,0),0)","v":{"$error":"#REF!"}},{"$f":"IF(DF$5>=$F52,IF(DF$5<=#REF!,$K52,0),0)","v":{"$error":"#REF!"}},{"$f":"IF(DG$5>=$F52,IF(DG$5<=#REF!,$K52,0),0)","v":{"$error":"#REF!"}},{"$f":"IF(DH$5>=$F52,IF(DH$5<=#REF!,$K52,0),0)","v":{"$error":"#REF!"}},{"$f":"IF(DI$5>=$F52,IF(DI$5<=#REF!,$K52,0),0)","v":{"$error":"#REF!"}},{"$f":"IF(DJ$5>=$F52,IF(DJ$5<=#REF!,$K52,0),0)","v":{"$error":"#REF!"}},{"$f":"IF(DK$5>=$F52,IF(DK$5<=#REF!,$K52,0),0)","v":{"$error":"#REF!"}},{"$f":"IF(DL$5>=$F52,IF(DL$5<=#REF!,$K52,0),0)","v":{"$error":"#REF!"}},{"$f":"IF(DM$5>=$F52,IF(DM$5<=#REF!,$K52,0),0)","v":{"$error":"#REF!"}},{"$f":"IF(DN$5>=$F52,IF(DN$5<=#REF!,$K52,0),0)","v":{"$error":"#REF!"}},{"$f":"IF(DO$5>=$F52,IF(DO$5<=#REF!,$K52,0),0)","v":{"$error":"#REF!"}},{"$f":"IF(DP$5>=$F52,IF(DP$5<=#REF!,$K52,0),0)","v":{"$error":"#REF!"}},{"$f":"IF(DQ$5>=$F52,IF(DQ$5<=#REF!,$K52,0),0)","v":{"$error":"#REF!"}},{"$f":"IF(DR$5>=$F52,IF(DR$5<=#REF!,$K52,0),0)","v":{"$error":"#REF!"}},{"$error":"#REF!"},"",""]
[null,null,null,null,null,null,{"$f":"IF($D53=\"\",0,VLOOKUP(($DU53&$C53&$D53),単価情報!$B$66:$C$932,2,FALSE))","v":0},0,0,0,{"$f":"IF(E53=0,0,ROUND(E53/#REF!,1))","v":0},{"$f":"IF(L$5>=$F53,IF(L$5<=#REF!,$K53,0),0)","v":{"$error":"#REF!"}},{"$f":"IF(M$5>=$F53,IF(M$5<=#REF!,$K53,0),0)","v":{"$error":"#REF!"}},{"$f":"IF(N$5>=$F53,IF(N$5<=#REF!,$K53,0),0)","v":{"$error":"#REF!"}},{"$f":"IF(O$5>=$F53,IF(O$5<=#REF!,$K53,0),0)","v":{"$error":"#REF!"}},{"$f":"IF(P$5>=$F53,IF(P$5<=#REF!,$K53,0),0)","v":{"$error":"#REF!"}},{"$f":"IF(Q$5>=$F53,IF(Q$5<=#REF!,$K53,0),0)","v":{"$error":"#REF!"}},{"$f":"IF(R$5>=$F53,IF(R$5<=#REF!,$K53,0),0)","v":{"$error":"#REF!"}},{"$f":"IF(S$5>=$F53,IF(S$5<=#REF!,$K53,0),0)","v":{"$error":"#REF!"}},{"$f":"IF(T$5>=$F53,IF(T$5<=#REF!,$K53,0),0)","v":{"$error":"#REF!"}},{"$f":"IF(U$5>=$F53,IF(U$5<=#REF!,$K53,0),0)","v":{"$error":"#REF!"}},{"$f":"IF(V$5>=$F53,IF(V$5<=#REF!,$K53,0),0)","v":{"$error":"#REF!"}},{"$f":"IF(W$5>=$F53,IF(W$5<=#REF!,$K53,0),0)","v":{"$error":"#REF!"}},{"$f":"IF(X$5>=$F53,IF(X$5<=#REF!,$K53,0),0)","v":{"$error":"#REF!"}},{"$f":"IF(Y$5>=$F53,IF(Y$5<=#REF!,$K53,0),0)","v":{"$error":"#REF!"}},{"$f":"IF(Z$5>=$F53,IF(Z$5<=#REF!,$K53,0),0)","v":{"$error":"#REF!"}},{"$f":"IF(AA$5>=$F53,IF(AA$5<=#REF!,$K53,0),0)","v":{"$error":"#REF!"}},{"$f":"IF(AB$5>=$F53,IF(AB$5<=#REF!,$K53,0),0)","v":{"$error":"#REF!"}},{"$f":"IF(AC$5>=$F53,IF(AC$5<=#REF!,$K53,0),0)","v":{"$error":"#REF!"}},{"$f":"IF(AD$5>=$F53,IF(AD$5<=#REF!,$K53,0),0)","v":{"$error":"#REF!"}},{"$f":"IF(AE$5>=$F53,IF(AE$5<=#REF!,$K53,0),0)","v":{"$error":"#REF!"}},{"$f":"IF(AF$5>=$F53,IF(AF$5<=#REF!,$K53,0),0)","v":{"$error":"#REF!"}},{"$f":"IF(AG$5>=$F53,IF(AG$5<=#REF!,$K53,0),0)","v":{"$error":"#REF!"}},{"$f":"IF(AH$5>=$F53,IF(AH$5<=#REF!,$K53,0),0)","v":{"$error":"#REF!"}},{"$f":"IF(AI$5>=$F53,IF(AI$5<=#REF!,$K53,0),0)","v":{"$error":"#REF!"}},{"$f":"IF(AJ$5>=$F53,IF(AJ$5<=#REF!,$K53,0),0)","v":{"$error":"#REF!"}},{"$f":"IF(AK$5>=$F53,IF(AK$5<=#REF!,$K53,0),0)","v":{"$error":"#REF!"}},{"$f":"IF(AL$5>=$F53,IF(AL$5<=#REF!,$K53,0),0)","v":{"$error":"#REF!"}},{"$f":"IF(AM$5>=$F53,IF(AM$5<=#REF!,$K53,0),0)","v":{"$error":"#REF!"}},{"$f":"IF(AN$5>=$F53,IF(AN$5<=#REF!,$K53,0),0)","v":{"$error":"#REF!"}},{"$f":"IF(AO$5>=$F53,IF(AO$5<=#REF!,$K53,0),0)","v":{"$error":"#REF!"}},{"$f":"IF(AP$5>=$F53,IF(AP$5<=#REF!,$K53,0),0)","v":{"$error":"#REF!"}},{"$f":"IF(AQ$5>=$F53,IF(AQ$5<=#REF!,$K53,0),0)","v":{"$error":"#REF!"}},{"$f":"IF(AR$5>=$F53,IF(AR$5<=#REF!,$K53,0),0)","v":{"$error":"#REF!"}},{"$f":"IF(AS$5>=$F53,IF(AS$5<=#REF!,$K53,0),0)","v":{"$error":"#REF!"}},{"$f":"IF(AT$5>=$F53,IF(AT$5<=#REF!,$K53,0),0)","v":{"$error":"#REF!"}},{"$f":"IF(AU$5>=$F53,IF(AU$5<=#REF!,$K53,0),0)","v":{"$error":"#REF!"}},{"$f":"IF(AV$5>=$F53,IF(AV$5<=#REF!,$K53,0),0)","v":{"$error":"#REF!"}},{"$f":"IF(AW$5>=$F53,IF(AW$5<=#REF!,$K53,0),0)","v":{"$error":"#REF!"}},{"$f":"IF(AX$5>=$F53,IF(AX$5<=#REF!,$K53,0),0)","v":{"$error":"#REF!"}},{"$f":"IF(AY$5>=$F53,IF(AY$5<=#REF!,$K53,0),0)","v":{"$error":"#REF!"}},{"$f":"IF(AZ$5>=$F53,IF(AZ$5<=#REF!,$K53,0),0)","v":{"$error":"#REF!"}},{"$f":"IF(BA$5>=$F53,IF(BA$5<=#REF!,$K53,0),0)","v":{"$error":"#REF!"}},{"$f":"IF(BB$5>=$F53,IF(BB$5<=#REF!,$K53,0),0)","v":{"$error":"#REF!"}},{"$f":"IF(BC$5>=$F53,IF(BC$5<=#REF!,$K53,0),0)","v":{"$error":"#REF!"}},{"$f":"IF(BD$5>=$F53,IF(BD$5<=#REF!,$K53,0),0)","v":{"$error":"#REF!"}},{"$f":"IF(BE$5>=$F53,IF(BE$5<=#REF!,$K53,0),0)","v":{"$error":"#REF!"}},{"$f":"IF(BF$5>=$F53,IF(BF$5<=#REF!,$K53,0),0)","v":{"$error":"#REF!"}},{"$f":"IF(BG$5>=$F53,IF(BG$5<=#REF!,$K53,0),0)","v":{"$error":"#REF!"}},{"$f":"IF(BH$5>=$F53,IF(BH$5<=#REF!,$K53,0),0)","v":{"$error":"#REF!"}},{"$f":"IF(BI$5>=$F53,IF(BI$5<=#REF!,$K53,0),0)","v":{"$error":"#REF!"}},{"$f":"IF(BJ$5>=$F53,IF(BJ$5<=#REF!,$K53,0),0)","v":{"$error":"#REF!"}},{"$f":"IF(BK$5>=$F53,IF(BK$5<=#REF!,$K53,0),0)","v":{"$error":"#REF!"}},{"$f":"IF(BL$5>=$F53,IF(BL$5<=#REF!,$K53,0),0)","v":{"$error":"#REF!"}},{"$f":"IF(BM$5>=$F53,IF(BM$5<=#REF!,$K53,0),0)","v":{"$error":"#REF!"}},{"$f":"IF(BN$5>=$F53,IF(BN$5<=#REF!,$K53,0),0)","v":{"$error":"#REF!"}},{"$f":"IF(BO$5>=$F53,IF(BO$5<=#REF!,$K53,0),0)","v":{"$error":"#REF!"}},{"$f":"IF(BP$5>=$F53,IF(BP$5<=#REF!,$K53,0),0)","v":{"$error":"#REF!"}},{"$f":"IF(BQ$5>=$F53,IF(BQ$5<=#REF!,$K53,0),0)","v":{"$error":"#REF!"}},{"$f":"IF(BR$5>=$F53,IF(BR$5<=#REF!,$K53,0),0)","v":{"$error":"#REF!"}},{"$f":"IF(BS$5>=$F53,IF(BS$5<=#REF!,$K53,0),0)","v":{"$error":"#REF!"}},{"$f":"IF(BT$5>=$F53,IF(BT$5<=#REF!,$K53,0),0)","v":{"$error":"#REF!"}},{"$f":"IF(BU$5>=$F53,IF(BU$5<=#REF!,$K53,0),0)","v":{"$error":"#REF!"}},{"$f":"IF(BV$5>=$F53,IF(BV$5<=#REF!,$K53,0),0)","v":{"$error":"#REF!"}},{"$f":"IF(BW$5>=$F53,IF(BW$5<=#REF!,$K53,0),0)","v":{"$error":"#REF!"}},{"$f":"IF(BX$5>=$F53,IF(BX$5<=#REF!,$K53,0),0)","v":{"$error":"#REF!"}},{"$f":"IF(BY$5>=$F53,IF(BY$5<=#REF!,$K53,0),0)","v":{"$error":"#REF!"}},{"$f":"IF(BZ$5>=$F53,IF(BZ$5<=#REF!,$K53,0),0)","v":{"$error":"#REF!"}},{"$f":"IF(CA$5>=$F53,IF(CA$5<=#REF!,$K53,0),0)","v":{"$error":"#REF!"}},{"$f":"IF(CB$5>=$F53,IF(CB$5<=#REF!,$K53,0),0)","v":{"$error":"#REF!"}},{"$f":"IF(CC$5>=$F53,IF(CC$5<=#REF!,$K53,0),0)","v":{"$error":"#REF!"}},{"$f":"IF(CD$5>=$F53,IF(CD$5<=#REF!,$K53,0),0)","v":{"$error":"#REF!"}},{"$f":"IF(CE$5>=$F53,IF(CE$5<=#REF!,$K53,0),0)","v":{"$error":"#REF!"}},{"$f":"IF(CF$5>=$F53,IF(CF$5<=#REF!,$K53,0),0)","v":{"$error":"#REF!"}},{"$f":"IF(CG$5>=$F53,IF(CG$5<=#REF!,$K53,0),0)","v":{"$error":"#REF!"}},{"$f":"IF(CH$5>=$F53,IF(CH$5<=#REF!,$K53,0),0)","v":{"$error":"#REF!"}},{"$f":"IF(CI$5>=$F53,IF(CI$5<=#REF!,$K53,0),0)","v":{"$error":"#REF!"}},{"$f":"IF(CJ$5>=$F53,IF(CJ$5<=#REF!,$K53,0),0)","v":{"$error":"#REF!"}},{"$f":"IF(CK$5>=$F53,IF(CK$5<=#REF!,$K53,0),0)","v":{"$error":"#REF!"}},{"$f":"IF(CL$5>=$F53,IF(CL$5<=#REF!,$K53,0),0)","v":{"$error":"#REF!"}},{"$f":"IF(CM$5>=$F53,IF(CM$5<=#REF!,$K53,0),0)","v":{"$error":"#REF!"}},{"$f":"IF(CN$5>=$F53,IF(CN$5<=#REF!,$K53,0),0)","v":{"$error":"#REF!"}},{"$f":"IF(CO$5>=$F53,IF(CO$5<=#REF!,$K53,0),0)","v":{"$error":"#REF!"}},{"$f":"IF(CP$5>=$F53,IF(CP$5<=#REF!,$K53,0),0)","v":{"$error":"#REF!"}},{"$f":"IF(CQ$5>=$F53,IF(CQ$5<=#REF!,$K53,0),0)","v":{"$error":"#REF!"}},{"$f":"IF(CR$5>=$F53,IF(CR$5<=#REF!,$K53,0),0)","v":{"$error":"#REF!"}},{"$f":"IF(CS$5>=$F53,IF(CS$5<=#REF!,$K53,0),0)","v":{"$error":"#REF!"}},{"$f":"IF(CT$5>=$F53,IF(CT$5<=#REF!,$K53,0),0)","v":{"$error":"#REF!"}},{"$f":"IF(CU$5>=$F53,IF(CU$5<=#REF!,$K53,0),0)","v":{"$error":"#REF!"}},{"$f":"IF(CV$5>=$F53,IF(CV$5<=#REF!,$K53,0),0)","v":{"$error":"#REF!"}},{"$f":"IF(CW$5>=$F53,IF(CW$5<=#REF!,$K53,0),0)","v":{"$error":"#REF!"}},{"$f":"IF(CX$5>=$F53,IF(CX$5<=#REF!,$K53,0),0)","v":{"$error":"#REF!"}},{"$f":"IF(CY$5>=$F53,IF(CY$5<=#REF!,$K53,0),0)","v":{"$error":"#REF!"}},{"$f":"IF(CZ$5>=$F53,IF(CZ$5<=#REF!,$K53,0),0)","v":{"$error":"#REF!"}},{"$f":"IF(DA$5>=$F53,IF(DA$5<=#REF!,$K53,0),0)","v":{"$error":"#REF!"}},{"$f":"IF(DB$5>=$F53,IF(DB$5<=#REF!,$K53,0),0)","v":{"$error":"#REF!"}},{"$f":"IF(DC$5>=$F53,IF(DC$5<=#REF!,$K53,0),0)","v":{"$error":"#REF!"}},{"$f":"IF(DD$5>=$F53,IF(DD$5<=#REF!,$K53,0),0)","v":{"$error":"#REF!"}},{"$f":"IF(DE$5>=$F53,IF(DE$5<=#REF!,$K53,0),0)","v":{"$error":"#REF!"}},{"$f":"IF(DF$5>=$F53,IF(DF$5<=#REF!,$K53,0),0)","v":{"$error":"#REF!"}},{"$f":"IF(DG$5>=$F53,IF(DG$5<=#REF!,$K53,0),0)","v":{"$error":"#REF!"}},{"$f":"IF(DH$5>=$F53,IF(DH$5<=#REF!,$K53,0),0)","v":{"$error":"#REF!"}},{"$f":"IF(DI$5>=$F53,IF(DI$5<=#REF!,$K53,0),0)","v":{"$error":"#REF!"}},{"$f":"IF(DJ$5>=$F53,IF(DJ$5<=#REF!,$K53,0),0)","v":{"$error":"#REF!"}},{"$f":"IF(DK$5>=$F53,IF(DK$5<=#REF!,$K53,0),0)","v":{"$error":"#REF!"}},{"$f":"IF(DL$5>=$F53,IF(DL$5<=#REF!,$K53,0),0)","v":{"$error":"#REF!"}},{"$f":"IF(DM$5>=$F53,IF(DM$5<=#REF!,$K53,0),0)","v":{"$error":"#REF!"}},{"$f":"IF(DN$5>=$F53,IF(DN$5<=#REF!,$K53,0),0)","v":{"$error":"#REF!"}},{"$f":"IF(DO$5>=$F53,IF(DO$5<=#REF!,$K53,0),0)","v":{"$error":"#REF!"}},{"$f":"IF(DP$5>=$F53,IF(DP$5<=#REF!,$K53,0),0)","v":{"$error":"#REF!"}},{"$f":"IF(DQ$5>=$F53,IF(DQ$5<=#REF!,$K53,0),0)","v":{"$error":"#REF!"}},{"$f":"IF(DR$5>=$F53,IF(DR$5<=#REF!,$K53,0),0)","v":{"$error":"#REF!"}},{"$error":"#REF!"},"",""]
[null,null,null,null,null,null,{"$f":"IF($D54=\"\",0,VLOOKUP(($DU54&$C54&$D54),単価情報!$B$66:$C$932,2,FALSE))","v":0},0,0,0,{"$f":"IF(E54=0,0,ROUND(E54/#REF!,1))","v":0},{"$f":"IF(L$5>=$F54,IF(L$5<=#REF!,$K54,0),0)","v":{"$error":"#REF!"}},{"$f":"IF(M$5>=$F54,IF(M$5<=#REF!,$K54,0),0)","v":{"$error":"#REF!"}},{"$f":"IF(N$5>=$F54,IF(N$5<=#REF!,$K54,0),0)","v":{"$error":"#REF!"}},{"$f":"IF(O$5>=$F54,IF(O$5<=#REF!,$K54,0),0)","v":{"$error":"#REF!"}},{"$f":"IF(P$5>=$F54,IF(P$5<=#REF!,$K54,0),0)","v":{"$error":"#REF!"}},{"$f":"IF(Q$5>=$F54,IF(Q$5<=#REF!,$K54,0),0)","v":{"$error":"#REF!"}},{"$f":"IF(R$5>=$F54,IF(R$5<=#REF!,$K54,0),0)","v":{"$error":"#REF!"}},{"$f":"IF(S$5>=$F54,IF(S$5<=#REF!,$K54,0),0)","v":{"$error":"#REF!"}},{"$f":"IF(T$5>=$F54,IF(T$5<=#REF!,$K54,0),0)","v":{"$error":"#REF!"}},{"$f":"IF(U$5>=$F54,IF(U$5<=#REF!,$K54,0),0)","v":{"$error":"#REF!"}},{"$f":"IF(V$5>=$F54,IF(V$5<=#REF!,$K54,0),0)","v":{"$error":"#REF!"}},{"$f":"IF(W$5>=$F54,IF(W$5<=#REF!,$K54,0),0)","v":{"$error":"#REF!"}},{"$f":"IF(X$5>=$F54,IF(X$5<=#REF!,$K54,0),0)","v":{"$error":"#REF!"}},{"$f":"IF(Y$5>=$F54,IF(Y$5<=#REF!,$K54,0),0)","v":{"$error":"#REF!"}},{"$f":"IF(Z$5>=$F54,IF(Z$5<=#REF!,$K54,0),0)","v":{"$error":"#REF!"}},{"$f":"IF(AA$5>=$F54,IF(AA$5<=#REF!,$K54,0),0)","v":{"$error":"#REF!"}},{"$f":"IF(AB$5>=$F54,IF(AB$5<=#REF!,$K54,0),0)","v":{"$error":"#REF!"}},{"$f":"IF(AC$5>=$F54,IF(AC$5<=#REF!,$K54,0),0)","v":{"$error":"#REF!"}},{"$f":"IF(AD$5>=$F54,IF(AD$5<=#REF!,$K54,0),0)","v":{"$error":"#REF!"}},{"$f":"IF(AE$5>=$F54,IF(AE$5<=#REF!,$K54,0),0)","v":{"$error":"#REF!"}},{"$f":"IF(AF$5>=$F54,IF(AF$5<=#REF!,$K54,0),0)","v":{"$error":"#REF!"}},{"$f":"IF(AG$5>=$F54,IF(AG$5<=#REF!,$K54,0),0)","v":{"$error":"#REF!"}},{"$f":"IF(AH$5>=$F54,IF(AH$5<=#REF!,$K54,0),0)","v":{"$error":"#REF!"}},{"$f":"IF(AI$5>=$F54,IF(AI$5<=#REF!,$K54,0),0)","v":{"$error":"#REF!"}},{"$f":"IF(AJ$5>=$F54,IF(AJ$5<=#REF!,$K54,0),0)","v":{"$error":"#REF!"}},{"$f":"IF(AK$5>=$F54,IF(AK$5<=#REF!,$K54,0),0)","v":{"$error":"#REF!"}},{"$f":"IF(AL$5>=$F54,IF(AL$5<=#REF!,$K54,0),0)","v":{"$error":"#REF!"}},{"$f":"IF(AM$5>=$F54,IF(AM$5<=#REF!,$K54,0),0)","v":{"$error":"#REF!"}},{"$f":"IF(AN$5>=$F54,IF(AN$5<=#REF!,$K54,0),0)","v":{"$error":"#REF!"}},{"$f":"IF(AO$5>=$F54,IF(AO$5<=#REF!,$K54,0),0)","v":{"$error":"#REF!"}},{"$f":"IF(AP$5>=$F54,IF(AP$5<=#REF!,$K54,0),0)","v":{"$error":"#REF!"}},{"$f":"IF(AQ$5>=$F54,IF(AQ$5<=#REF!,$K54,0),0)","v":{"$error":"#REF!"}},{"$f":"IF(AR$5>=$F54,IF(AR$5<=#REF!,$K54,0),0)","v":{"$error":"#REF!"}},{"$f":"IF(AS$5>=$F54,IF(AS$5<=#REF!,$K54,0),0)","v":{"$error":"#REF!"}},{"$f":"IF(AT$5>=$F54,IF(AT$5<=#REF!,$K54,0),0)","v":{"$error":"#REF!"}},{"$f":"IF(AU$5>=$F54,IF(AU$5<=#REF!,$K54,0),0)","v":{"$error":"#REF!"}},{"$f":"IF(AV$5>=$F54,IF(AV$5<=#REF!,$K54,0),0)","v":{"$error":"#REF!"}},{"$f":"IF(AW$5>=$F54,IF(AW$5<=#REF!,$K54,0),0)","v":{"$error":"#REF!"}},{"$f":"IF(AX$5>=$F54,IF(AX$5<=#REF!,$K54,0),0)","v":{"$error":"#REF!"}},{"$f":"IF(AY$5>=$F54,IF(AY$5<=#REF!,$K54,0),0)","v":{"$error":"#REF!"}},{"$f":"IF(AZ$5>=$F54,IF(AZ$5<=#REF!,$K54,0),0)","v":{"$error":"#REF!"}},{"$f":"IF(BA$5>=$F54,IF(BA$5<=#REF!,$K54,0),0)","v":{"$error":"#REF!"}},{"$f":"IF(BB$5>=$F54,IF(BB$5<=#REF!,$K54,0),0)","v":{"$error":"#REF!"}},{"$f":"IF(BC$5>=$F54,IF(BC$5<=#REF!,$K54,0),0)","v":{"$error":"#REF!"}},{"$f":"IF(BD$5>=$F54,IF(BD$5<=#REF!,$K54,0),0)","v":{"$error":"#REF!"}},{"$f":"IF(BE$5>=$F54,IF(BE$5<=#REF!,$K54,0),0)","v":{"$error":"#REF!"}},{"$f":"IF(BF$5>=$F54,IF(BF$5<=#REF!,$K54,0),0)","v":{"$error":"#REF!"}},{"$f":"IF(BG$5>=$F54,IF(BG$5<=#REF!,$K54,0),0)","v":{"$error":"#REF!"}},{"$f":"IF(BH$5>=$F54,IF(BH$5<=#REF!,$K54,0),0)","v":{"$error":"#REF!"}},{"$f":"IF(BI$5>=$F54,IF(BI$5<=#REF!,$K54,0),0)","v":{"$error":"#REF!"}},{"$f":"IF(BJ$5>=$F54,IF(BJ$5<=#REF!,$K54,0),0)","v":{"$error":"#REF!"}},{"$f":"IF(BK$5>=$F54,IF(BK$5<=#REF!,$K54,0),0)","v":{"$error":"#REF!"}},{"$f":"IF(BL$5>=$F54,IF(BL$5<=#REF!,$K54,0),0)","v":{"$error":"#REF!"}},{"$f":"IF(BM$5>=$F54,IF(BM$5<=#REF!,$K54,0),0)","v":{"$error":"#REF!"}},{"$f":"IF(BN$5>=$F54,IF(BN$5<=#REF!,$K54,0),0)","v":{"$error":"#REF!"}},{"$f":"IF(BO$5>=$F54,IF(BO$5<=#REF!,$K54,0),0)","v":{"$error":"#REF!"}},{"$f":"IF(BP$5>=$F54,IF(BP$5<=#REF!,$K54,0),0)","v":{"$error":"#REF!"}},{"$f":"IF(BQ$5>=$F54,IF(BQ$5<=#REF!,$K54,0),0)","v":{"$error":"#REF!"}},{"$f":"IF(BR$5>=$F54,IF(BR$5<=#REF!,$K54,0),0)","v":{"$error":"#REF!"}},{"$f":"IF(BS$5>=$F54,IF(BS$5<=#REF!,$K54,0),0)","v":{"$error":"#REF!"}},{"$f":"IF(BT$5>=$F54,IF(BT$5<=#REF!,$K54,0),0)","v":{"$error":"#REF!"}},{"$f":"IF(BU$5>=$F54,IF(BU$5<=#REF!,$K54,0),0)","v":{"$error":"#REF!"}},{"$f":"IF(BV$5>=$F54,IF(BV$5<=#REF!,$K54,0),0)","v":{"$error":"#REF!"}},{"$f":"IF(BW$5>=$F54,IF(BW$5<=#REF!,$K54,0),0)","v":{"$error":"#REF!"}},{"$f":"IF(BX$5>=$F54,IF(BX$5<=#REF!,$K54,0),0)","v":{"$error":"#REF!"}},{"$f":"IF(BY$5>=$F54,IF(BY$5<=#REF!,$K54,0),0)","v":{"$error":"#REF!"}},{"$f":"IF(BZ$5>=$F54,IF(BZ$5<=#REF!,$K54,0),0)","v":{"$error":"#REF!"}},{"$f":"IF(CA$5>=$F54,IF(CA$5<=#REF!,$K54,0),0)","v":{"$error":"#REF!"}},{"$f":"IF(CB$5>=$F54,IF(CB$5<=#REF!,$K54,0),0)","v":{"$error":"#REF!"}},{"$f":"IF(CC$5>=$F54,IF(CC$5<=#REF!,$K54,0),0)","v":{"$error":"#REF!"}},{"$f":"IF(CD$5>=$F54,IF(CD$5<=#REF!,$K54,0),0)","v":{"$error":"#REF!"}},{"$f":"IF(CE$5>=$F54,IF(CE$5<=#REF!,$K54,0),0)","v":{"$error":"#REF!"}},{"$f":"IF(CF$5>=$F54,IF(CF$5<=#REF!,$K54,0),0)","v":{"$error":"#REF!"}},{"$f":"IF(CG$5>=$F54,IF(CG$5<=#REF!,$K54,0),0)","v":{"$error":"#REF!"}},{"$f":"IF(CH$5>=$F54,IF(CH$5<=#REF!,$K54,0),0)","v":{"$error":"#REF!"}},{"$f":"IF(CI$5>=$F54,IF(CI$5<=#REF!,$K54,0),0)","v":{"$error":"#REF!"}},{"$f":"IF(CJ$5>=$F54,IF(CJ$5<=#REF!,$K54,0),0)","v":{"$error":"#REF!"}},{"$f":"IF(CK$5>=$F54,IF(CK$5<=#REF!,$K54,0),0)","v":{"$error":"#REF!"}},{"$f":"IF(CL$5>=$F54,IF(CL$5<=#REF!,$K54,0),0)","v":{"$error":"#REF!"}},{"$f":"IF(CM$5>=$F54,IF(CM$5<=#REF!,$K54,0),0)","v":{"$error":"#REF!"}},{"$f":"IF(CN$5>=$F54,IF(CN$5<=#REF!,$K54,0),0)","v":{"$error":"#REF!"}},{"$f":"IF(CO$5>=$F54,IF(CO$5<=#REF!,$K54,0),0)","v":{"$error":"#REF!"}},{"$f":"IF(CP$5>=$F54,IF(CP$5<=#REF!,$K54,0),0)","v":{"$error":"#REF!"}},{"$f":"IF(CQ$5>=$F54,IF(CQ$5<=#REF!,$K54,0),0)","v":{"$error":"#REF!"}},{"$f":"IF(CR$5>=$F54,IF(CR$5<=#REF!,$K54,0),0)","v":{"$error":"#REF!"}},{"$f":"IF(CS$5>=$F54,IF(CS$5<=#REF!,$K54,0),0)","v":{"$error":"#REF!"}},{"$f":"IF(CT$5>=$F54,IF(CT$5<=#REF!,$K54,0),0)","v":{"$error":"#REF!"}},{"$f":"IF(CU$5>=$F54,IF(CU$5<=#REF!,$K54,0),0)","v":{"$error":"#REF!"}},{"$f":"IF(CV$5>=$F54,IF(CV$5<=#REF!,$K54,0),0)","v":{"$error":"#REF!"}},{"$f":"IF(CW$5>=$F54,IF(CW$5<=#REF!,$K54,0),0)","v":{"$error":"#REF!"}},{"$f":"IF(CX$5>=$F54,IF(CX$5<=#REF!,$K54,0),0)","v":{"$error":"#REF!"}},{"$f":"IF(CY$5>=$F54,IF(CY$5<=#REF!,$K54,0),0)","v":{"$error":"#REF!"}},{"$f":"IF(CZ$5>=$F54,IF(CZ$5<=#REF!,$K54,0),0)","v":{"$error":"#REF!"}},{"$f":"IF(DA$5>=$F54,IF(DA$5<=#REF!,$K54,0),0)","v":{"$error":"#REF!"}},{"$f":"IF(DB$5>=$F54,IF(DB$5<=#REF!,$K54,0),0)","v":{"$error":"#REF!"}},{"$f":"IF(DC$5>=$F54,IF(DC$5<=#REF!,$K54,0),0)","v":{"$error":"#REF!"}},{"$f":"IF(DD$5>=$F54,IF(DD$5<=#REF!,$K54,0),0)","v":{"$error":"#REF!"}},{"$f":"IF(DE$5>=$F54,IF(DE$5<=#REF!,$K54,0),0)","v":{"$error":"#REF!"}},{"$f":"IF(DF$5>=$F54,IF(DF$5<=#REF!,$K54,0),0)","v":{"$error":"#REF!"}},{"$f":"IF(DG$5>=$F54,IF(DG$5<=#REF!,$K54,0),0)","v":{"$error":"#REF!"}},{"$f":"IF(DH$5>=$F54,IF(DH$5<=#REF!,$K54,0),0)","v":{"$error":"#REF!"}},{"$f":"IF(DI$5>=$F54,IF(DI$5<=#REF!,$K54,0),0)","v":{"$error":"#REF!"}},{"$f":"IF(DJ$5>=$F54,IF(DJ$5<=#REF!,$K54,0),0)","v":{"$error":"#REF!"}},{"$f":"IF(DK$5>=$F54,IF(DK$5<=#REF!,$K54,0),0)","v":{"$error":"#REF!"}},{"$f":"IF(DL$5>=$F54,IF(DL$5<=#REF!,$K54,0),0)","v":{"$error":"#REF!"}},{"$f":"IF(DM$5>=$F54,IF(DM$5<=#REF!,$K54,0),0)","v":{"$error":"#REF!"}},{"$f":"IF(DN$5>=$F54,IF(DN$5<=#REF!,$K54,0),0)","v":{"$error":"#REF!"}},{"$f":"IF(DO$5>=$F54,IF(DO$5<=#REF!,$K54,0),0)","v":{"$error":"#REF!"}},{"$f":"IF(DP$5>=$F54,IF(DP$5<=#REF!,$K54,0),0)","v":{"$error":"#REF!"}},{"$f":"IF(DQ$5>=$F54,IF(DQ$5<=#REF!,$K54,0),0)","v":{"$error":"#REF!"}},{"$f":"IF(DR$5>=$F54,IF(DR$5<=#REF!,$K54,0),0)","v":{"$error":"#REF!"}},{"$error":"#REF!"},"",""]
[null,null,null,null,null,null,{"$f":"IF($D55=\"\",0,VLOOKUP(($DU55&$C55&$D55),単価情報!$B$66:$C$932,2,FALSE))","v":0},0,0,0,{"$f":"IF(E55=0,0,ROUND(E55/#REF!,1))","v":0},{"$f":"IF(L$5>=$F55,IF(L$5<=#REF!,$K55,0),0)","v":{"$error":"#REF!"}},{"$f":"IF(M$5>=$F55,IF(M$5<=#REF!,$K55,0),0)","v":{"$error":"#REF!"}},{"$f":"IF(N$5>=$F55,IF(N$5<=#REF!,$K55,0),0)","v":{"$error":"#REF!"}},{"$f":"IF(O$5>=$F55,IF(O$5<=#REF!,$K55,0),0)","v":{"$error":"#REF!"}},{"$f":"IF(P$5>=$F55,IF(P$5<=#REF!,$K55,0),0)","v":{"$error":"#REF!"}},{"$f":"IF(Q$5>=$F55,IF(Q$5<=#REF!,$K55,0),0)","v":{"$error":"#REF!"}},{"$f":"IF(R$5>=$F55,IF(R$5<=#REF!,$K55,0),0)","v":{"$error":"#REF!"}},{"$f":"IF(S$5>=$F55,IF(S$5<=#REF!,$K55,0),0)","v":{"$error":"#REF!"}},{"$f":"IF(T$5>=$F55,IF(T$5<=#REF!,$K55,0),0)","v":{"$error":"#REF!"}},{"$f":"IF(U$5>=$F55,IF(U$5<=#REF!,$K55,0),0)","v":{"$error":"#REF!"}},{"$f":"IF(V$5>=$F55,IF(V$5<=#REF!,$K55,0),0)","v":{"$error":"#REF!"}},{"$f":"IF(W$5>=$F55,IF(W$5<=#REF!,$K55,0),0)","v":{"$error":"#REF!"}},{"$f":"IF(X$5>=$F55,IF(X$5<=#REF!,$K55,0),0)","v":{"$error":"#REF!"}},{"$f":"IF(Y$5>=$F55,IF(Y$5<=#REF!,$K55,0),0)","v":{"$error":"#REF!"}},{"$f":"IF(Z$5>=$F55,IF(Z$5<=#REF!,$K55,0),0)","v":{"$error":"#REF!"}},{"$f":"IF(AA$5>=$F55,IF(AA$5<=#REF!,$K55,0),0)","v":{"$error":"#REF!"}},{"$f":"IF(AB$5>=$F55,IF(AB$5<=#REF!,$K55,0),0)","v":{"$error":"#REF!"}},{"$f":"IF(AC$5>=$F55,IF(AC$5<=#REF!,$K55,0),0)","v":{"$error":"#REF!"}},{"$f":"IF(AD$5>=$F55,IF(AD$5<=#REF!,$K55,0),0)","v":{"$error":"#REF!"}},{"$f":"IF(AE$5>=$F55,IF(AE$5<=#REF!,$K55,0),0)","v":{"$error":"#REF!"}},{"$f":"IF(AF$5>=$F55,IF(AF$5<=#REF!,$K55,0),0)","v":{"$error":"#REF!"}},{"$f":"IF(AG$5>=$F55,IF(AG$5<=#REF!,$K55,0),0)","v":{"$error":"#REF!"}},{"$f":"IF(AH$5>=$F55,IF(AH$5<=#REF!,$K55,0),0)","v":{"$error":"#REF!"}},{"$f":"IF(AI$5>=$F55,IF(AI$5<=#REF!,$K55,0),0)","v":{"$error":"#REF!"}},{"$f":"IF(AJ$5>=$F55,IF(AJ$5<=#REF!,$K55,0),0)","v":{"$error":"#REF!"}},{"$f":"IF(AK$5>=$F55,IF(AK$5<=#REF!,$K55,0),0)","v":{"$error":"#REF!"}},{"$f":"IF(AL$5>=$F55,IF(AL$5<=#REF!,$K55,0),0)","v":{"$error":"#REF!"}},{"$f":"IF(AM$5>=$F55,IF(AM$5<=#REF!,$K55,0),0)","v":{"$error":"#REF!"}},{"$f":"IF(AN$5>=$F55,IF(AN$5<=#REF!,$K55,0),0)","v":{"$error":"#REF!"}},{"$f":"IF(AO$5>=$F55,IF(AO$5<=#REF!,$K55,0),0)","v":{"$error":"#REF!"}},{"$f":"IF(AP$5>=$F55,IF(AP$5<=#REF!,$K55,0),0)","v":{"$error":"#REF!"}},{"$f":"IF(AQ$5>=$F55,IF(AQ$5<=#REF!,$K55,0),0)","v":{"$error":"#REF!"}},{"$f":"IF(AR$5>=$F55,IF(AR$5<=#REF!,$K55,0),0)","v":{"$error":"#REF!"}},{"$f":"IF(AS$5>=$F55,IF(AS$5<=#REF!,$K55,0),0)","v":{"$error":"#REF!"}},{"$f":"IF(AT$5>=$F55,IF(AT$5<=#REF!,$K55,0),0)","v":{"$error":"#REF!"}},{"$f":"IF(AU$5>=$F55,IF(AU$5<=#REF!,$K55,0),0)","v":{"$error":"#REF!"}},{"$f":"IF(AV$5>=$F55,IF(AV$5<=#REF!,$K55,0),0)","v":{"$error":"#REF!"}},{"$f":"IF(AW$5>=$F55,IF(AW$5<=#REF!,$K55,0),0)","v":{"$error":"#REF!"}},{"$f":"IF(AX$5>=$F55,IF(AX$5<=#REF!,$K55,0),0)","v":{"$error":"#REF!"}},{"$f":"IF(AY$5>=$F55,IF(AY$5<=#REF!,$K55,0),0)","v":{"$error":"#REF!"}},{"$f":"IF(AZ$5>=$F55,IF(AZ$5<=#REF!,$K55,0),0)","v":{"$error":"#REF!"}},{"$f":"IF(BA$5>=$F55,IF(BA$5<=#REF!,$K55,0),0)","v":{"$error":"#REF!"}},{"$f":"IF(BB$5>=$F55,IF(BB$5<=#REF!,$K55,0),0)","v":{"$error":"#REF!"}},{"$f":"IF(BC$5>=$F55,IF(BC$5<=#REF!,$K55,0),0)","v":{"$error":"#REF!"}},{"$f":"IF(BD$5>=$F55,IF(BD$5<=#REF!,$K55,0),0)","v":{"$error":"#REF!"}},{"$f":"IF(BE$5>=$F55,IF(BE$5<=#REF!,$K55,0),0)","v":{"$error":"#REF!"}},{"$f":"IF(BF$5>=$F55,IF(BF$5<=#REF!,$K55,0),0)","v":{"$error":"#REF!"}},{"$f":"IF(BG$5>=$F55,IF(BG$5<=#REF!,$K55,0),0)","v":{"$error":"#REF!"}},{"$f":"IF(BH$5>=$F55,IF(BH$5<=#REF!,$K55,0),0)","v":{"$error":"#REF!"}},{"$f":"IF(BI$5>=$F55,IF(BI$5<=#REF!,$K55,0),0)","v":{"$error":"#REF!"}},{"$f":"IF(BJ$5>=$F55,IF(BJ$5<=#REF!,$K55,0),0)","v":{"$error":"#REF!"}},{"$f":"IF(BK$5>=$F55,IF(BK$5<=#REF!,$K55,0),0)","v":{"$error":"#REF!"}},{"$f":"IF(BL$5>=$F55,IF(BL$5<=#REF!,$K55,0),0)","v":{"$error":"#REF!"}},{"$f":"IF(BM$5>=$F55,IF(BM$5<=#REF!,$K55,0),0)","v":{"$error":"#REF!"}},{"$f":"IF(BN$5>=$F55,IF(BN$5<=#REF!,$K55,0),0)","v":{"$error":"#REF!"}},{"$f":"IF(BO$5>=$F55,IF(BO$5<=#REF!,$K55,0),0)","v":{"$error":"#REF!"}},{"$f":"IF(BP$5>=$F55,IF(BP$5<=#REF!,$K55,0),0)","v":{"$error":"#REF!"}},{"$f":"IF(BQ$5>=$F55,IF(BQ$5<=#REF!,$K55,0),0)","v":{"$error":"#REF!"}},{"$f":"IF(BR$5>=$F55,IF(BR$5<=#REF!,$K55,0),0)","v":{"$error":"#REF!"}},{"$f":"IF(BS$5>=$F55,IF(BS$5<=#REF!,$K55,0),0)","v":{"$error":"#REF!"}},{"$f":"IF(BT$5>=$F55,IF(BT$5<=#REF!,$K55,0),0)","v":{"$error":"#REF!"}},{"$f":"IF(BU$5>=$F55,IF(BU$5<=#REF!,$K55,0),0)","v":{"$error":"#REF!"}},{"$f":"IF(BV$5>=$F55,IF(BV$5<=#REF!,$K55,0),0)","v":{"$error":"#REF!"}},{"$f":"IF(BW$5>=$F55,IF(BW$5<=#REF!,$K55,0),0)","v":{"$error":"#REF!"}},{"$f":"IF(BX$5>=$F55,IF(BX$5<=#REF!,$K55,0),0)","v":{"$error":"#REF!"}},{"$f":"IF(BY$5>=$F55,IF(BY$5<=#REF!,$K55,0),0)","v":{"$error":"#REF!"}},{"$f":"IF(BZ$5>=$F55,IF(BZ$5<=#REF!,$K55,0),0)","v":{"$error":"#REF!"}},{"$f":"IF(CA$5>=$F55,IF(CA$5<=#REF!,$K55,0),0)","v":{"$error":"#REF!"}},{"$f":"IF(CB$5>=$F55,IF(CB$5<=#REF!,$K55,0),0)","v":{"$error":"#REF!"}},{"$f":"IF(CC$5>=$F55,IF(CC$5<=#REF!,$K55,0),0)","v":{"$error":"#REF!"}},{"$f":"IF(CD$5>=$F55,IF(CD$5<=#REF!,$K55,0),0)","v":{"$error":"#REF!"}},{"$f":"IF(CE$5>=$F55,IF(CE$5<=#REF!,$K55,0),0)","v":{"$error":"#REF!"}},{"$f":"IF(CF$5>=$F55,IF(CF$5<=#REF!,$K55,0),0)","v":{"$error":"#REF!"}},{"$f":"IF(CG$5>=$F55,IF(CG$5<=#REF!,$K55,0),0)","v":{"$error":"#REF!"}},{"$f":"IF(CH$5>=$F55,IF(CH$5<=#REF!,$K55,0),0)","v":{"$error":"#REF!"}},{"$f":"IF(CI$5>=$F55,IF(CI$5<=#REF!,$K55,0),0)","v":{"$error":"#REF!"}},{"$f":"IF(CJ$5>=$F55,IF(CJ$5<=#REF!,$K55,0),0)","v":{"$error":"#REF!"}},{"$f":"IF(CK$5>=$F55,IF(CK$5<=#REF!,$K55,0),0)","v":{"$error":"#REF!"}},{"$f":"IF(CL$5>=$F55,IF(CL$5<=#REF!,$K55,0),0)","v":{"$error":"#REF!"}},{"$f":"IF(CM$5>=$F55,IF(CM$5<=#REF!,$K55,0),0)","v":{"$error":"#REF!"}},{"$f":"IF(CN$5>=$F55,IF(CN$5<=#REF!,$K55,0),0)","v":{"$error":"#REF!"}},{"$f":"IF(CO$5>=$F55,IF(CO$5<=#REF!,$K55,0),0)","v":{"$error":"#REF!"}},{"$f":"IF(CP$5>=$F55,IF(CP$5<=#REF!,$K55,0),0)","v":{"$error":"#REF!"}},{"$f":"IF(CQ$5>=$F55,IF(CQ$5<=#REF!,$K55,0),0)","v":{"$error":"#REF!"}},{"$f":"IF(CR$5>=$F55,IF(CR$5<=#REF!,$K55,0),0)","v":{"$error":"#REF!"}},{"$f":"IF(CS$5>=$F55,IF(CS$5<=#REF!,$K55,0),0)","v":{"$error":"#REF!"}},{"$f":"IF(CT$5>=$F55,IF(CT$5<=#REF!,$K55,0),0)","v":{"$error":"#REF!"}},{"$f":"IF(CU$5>=$F55,IF(CU$5<=#REF!,$K55,0),0)","v":{"$error":"#REF!"}},{"$f":"IF(CV$5>=$F55,IF(CV$5<=#REF!,$K55,0),0)","v":{"$error":"#REF!"}},{"$f":"IF(CW$5>=$F55,IF(CW$5<=#REF!,$K55,0),0)","v":{"$error":"#REF!"}},{"$f":"IF(CX$5>=$F55,IF(CX$5<=#REF!,$K55,0),0)","v":{"$error":"#REF!"}},{"$f":"IF(CY$5>=$F55,IF(CY$5<=#REF!,$K55,0),0)","v":{"$error":"#REF!"}},{"$f":"IF(CZ$5>=$F55,IF(CZ$5<=#REF!,$K55,0),0)","v":{"$error":"#REF!"}},{"$f":"IF(DA$5>=$F55,IF(DA$5<=#REF!,$K55,0),0)","v":{"$error":"#REF!"}},{"$f":"IF(DB$5>=$F55,IF(DB$5<=#REF!,$K55,0),0)","v":{"$error":"#REF!"}},{"$f":"IF(DC$5>=$F55,IF(DC$5<=#REF!,$K55,0),0)","v":{"$error":"#REF!"}},{"$f":"IF(DD$5>=$F55,IF(DD$5<=#REF!,$K55,0),0)","v":{"$error":"#REF!"}},{"$f":"IF(DE$5>=$F55,IF(DE$5<=#REF!,$K55,0),0)","v":{"$error":"#REF!"}},{"$f":"IF(DF$5>=$F55,IF(DF$5<=#REF!,$K55,0),0)","v":{"$error":"#REF!"}},{"$f":"IF(DG$5>=$F55,IF(DG$5<=#REF!,$K55,0),0)","v":{"$error":"#REF!"}},{"$f":"IF(DH$5>=$F55,IF(DH$5<=#REF!,$K55,0),0)","v":{"$error":"#REF!"}},{"$f":"IF(DI$5>=$F55,IF(DI$5<=#REF!,$K55,0),0)","v":{"$error":"#REF!"}},{"$f":"IF(DJ$5>=$F55,IF(DJ$5<=#REF!,$K55,0),0)","v":{"$error":"#REF!"}},{"$f":"IF(DK$5>=$F55,IF(DK$5<=#REF!,$K55,0),0)","v":{"$error":"#REF!"}},{"$f":"IF(DL$5>=$F55,IF(DL$5<=#REF!,$K55,0),0)","v":{"$error":"#REF!"}},{"$f":"IF(DM$5>=$F55,IF(DM$5<=#REF!,$K55,0),0)","v":{"$error":"#REF!"}},{"$f":"IF(DN$5>=$F55,IF(DN$5<=#REF!,$K55,0),0)","v":{"$error":"#REF!"}},{"$f":"IF(DO$5>=$F55,IF(DO$5<=#REF!,$K55,0),0)","v":{"$error":"#REF!"}},{"$f":"IF(DP$5>=$F55,IF(DP$5<=#REF!,$K55,0),0)","v":{"$error":"#REF!"}},{"$f":"IF(DQ$5>=$F55,IF(DQ$5<=#REF!,$K55,0),0)","v":{"$error":"#REF!"}},{"$f":"IF(DR$5>=$F55,IF(DR$5<=#REF!,$K55,0),0)","v":{"$error":"#REF!"}},{"$error":"#REF!"},"",""]
[null,null,null,null,null,null,{"$f":"IF($D56=\"\",0,VLOOKUP(($DU56&$C56&$D56),単価情報!$B$66:$C$932,2,FALSE))","v":0},0,0,0,{"$f":"IF(E56=0,0,ROUND(E56/#REF!,1))","v":0},{"$f":"IF(L$5>=$F56,IF(L$5<=#REF!,$K56,0),0)","v":{"$error":"#REF!"}},{"$f":"IF(M$5>=$F56,IF(M$5<=#REF!,$K56,0),0)","v":{"$error":"#REF!"}},{"$f":"IF(N$5>=$F56,IF(N$5<=#REF!,$K56,0),0)","v":{"$error":"#REF!"}},{"$f":"IF(O$5>=$F56,IF(O$5<=#REF!,$K56,0),0)","v":{"$error":"#REF!"}},{"$f":"IF(P$5>=$F56,IF(P$5<=#REF!,$K56,0),0)","v":{"$error":"#REF!"}},{"$f":"IF(Q$5>=$F56,IF(Q$5<=#REF!,$K56,0),0)","v":{"$error":"#REF!"}},{"$f":"IF(R$5>=$F56,IF(R$5<=#REF!,$K56,0),0)","v":{"$error":"#REF!"}},{"$f":"IF(S$5>=$F56,IF(S$5<=#REF!,$K56,0),0)","v":{"$error":"#REF!"}},{"$f":"IF(T$5>=$F56,IF(T$5<=#REF!,$K56,0),0)","v":{"$error":"#REF!"}},{"$f":"IF(U$5>=$F56,IF(U$5<=#REF!,$K56,0),0)","v":{"$error":"#REF!"}},{"$f":"IF(V$5>=$F56,IF(V$5<=#REF!,$K56,0),0)","v":{"$error":"#REF!"}},{"$f":"IF(W$5>=$F56,IF(W$5<=#REF!,$K56,0),0)","v":{"$error":"#REF!"}},{"$f":"IF(X$5>=$F56,IF(X$5<=#REF!,$K56,0),0)","v":{"$error":"#REF!"}},{"$f":"IF(Y$5>=$F56,IF(Y$5<=#REF!,$K56,0),0)","v":{"$error":"#REF!"}},{"$f":"IF(Z$5>=$F56,IF(Z$5<=#REF!,$K56,0),0)","v":{"$error":"#REF!"}},{"$f":"IF(AA$5>=$F56,IF(AA$5<=#REF!,$K56,0),0)","v":{"$error":"#REF!"}},{"$f":"IF(AB$5>=$F56,IF(AB$5<=#REF!,$K56,0),0)","v":{"$error":"#REF!"}},{"$f":"IF(AC$5>=$F56,IF(AC$5<=#REF!,$K56,0),0)","v":{"$error":"#REF!"}},{"$f":"IF(AD$5>=$F56,IF(AD$5<=#REF!,$K56,0),0)","v":{"$error":"#REF!"}},{"$f":"IF(AE$5>=$F56,IF(AE$5<=#REF!,$K56,0),0)","v":{"$error":"#REF!"}},{"$f":"IF(AF$5>=$F56,IF(AF$5<=#REF!,$K56,0),0)","v":{"$error":"#REF!"}},{"$f":"IF(AG$5>=$F56,IF(AG$5<=#REF!,$K56,0),0)","v":{"$error":"#REF!"}},{"$f":"IF(AH$5>=$F56,IF(AH$5<=#REF!,$K56,0),0)","v":{"$error":"#REF!"}},{"$f":"IF(AI$5>=$F56,IF(AI$5<=#REF!,$K56,0),0)","v":{"$error":"#REF!"}},{"$f":"IF(AJ$5>=$F56,IF(AJ$5<=#REF!,$K56,0),0)","v":{"$error":"#REF!"}},{"$f":"IF(AK$5>=$F56,IF(AK$5<=#REF!,$K56,0),0)","v":{"$error":"#REF!"}},{"$f":"IF(AL$5>=$F56,IF(AL$5<=#REF!,$K56,0),0)","v":{"$error":"#REF!"}},{"$f":"IF(AM$5>=$F56,IF(AM$5<=#REF!,$K56,0),0)","v":{"$error":"#REF!"}},{"$f":"IF(AN$5>=$F56,IF(AN$5<=#REF!,$K56,0),0)","v":{"$error":"#REF!"}},{"$f":"IF(AO$5>=$F56,IF(AO$5<=#REF!,$K56,0),0)","v":{"$error":"#REF!"}},{"$f":"IF(AP$5>=$F56,IF(AP$5<=#REF!,$K56,0),0)","v":{"$error":"#REF!"}},{"$f":"IF(AQ$5>=$F56,IF(AQ$5<=#REF!,$K56,0),0)","v":{"$error":"#REF!"}},{"$f":"IF(AR$5>=$F56,IF(AR$5<=#REF!,$K56,0),0)","v":{"$error":"#REF!"}},{"$f":"IF(AS$5>=$F56,IF(AS$5<=#REF!,$K56,0),0)","v":{"$error":"#REF!"}},{"$f":"IF(AT$5>=$F56,IF(AT$5<=#REF!,$K56,0),0)","v":{"$error":"#REF!"}},{"$f":"IF(AU$5>=$F56,IF(AU$5<=#REF!,$K56,0),0)","v":{"$error":"#REF!"}},{"$f":"IF(AV$5>=$F56,IF(AV$5<=#REF!,$K56,0),0)","v":{"$error":"#REF!"}},{"$f":"IF(AW$5>=$F56,IF(AW$5<=#REF!,$K56,0),0)","v":{"$error":"#REF!"}},{"$f":"IF(AX$5>=$F56,IF(AX$5<=#REF!,$K56,0),0)","v":{"$error":"#REF!"}},{"$f":"IF(AY$5>=$F56,IF(AY$5<=#REF!,$K56,0),0)","v":{"$error":"#REF!"}},{"$f":"IF(AZ$5>=$F56,IF(AZ$5<=#REF!,$K56,0),0)","v":{"$error":"#REF!"}},{"$f":"IF(BA$5>=$F56,IF(BA$5<=#REF!,$K56,0),0)","v":{"$error":"#REF!"}},{"$f":"IF(BB$5>=$F56,IF(BB$5<=#REF!,$K56,0),0)","v":{"$error":"#REF!"}},{"$f":"IF(BC$5>=$F56,IF(BC$5<=#REF!,$K56,0),0)","v":{"$error":"#REF!"}},{"$f":"IF(BD$5>=$F56,IF(BD$5<=#REF!,$K56,0),0)","v":{"$error":"#REF!"}},{"$f":"IF(BE$5>=$F56,IF(BE$5<=#REF!,$K56,0),0)","v":{"$error":"#REF!"}},{"$f":"IF(BF$5>=$F56,IF(BF$5<=#REF!,$K56,0),0)","v":{"$error":"#REF!"}},{"$f":"IF(BG$5>=$F56,IF(BG$5<=#REF!,$K56,0),0)","v":{"$error":"#REF!"}},{"$f":"IF(BH$5>=$F56,IF(BH$5<=#REF!,$K56,0),0)","v":{"$error":"#REF!"}},{"$f":"IF(BI$5>=$F56,IF(BI$5<=#REF!,$K56,0),0)","v":{"$error":"#REF!"}},{"$f":"IF(BJ$5>=$F56,IF(BJ$5<=#REF!,$K56,0),0)","v":{"$error":"#REF!"}},{"$f":"IF(BK$5>=$F56,IF(BK$5<=#REF!,$K56,0),0)","v":{"$error":"#REF!"}},{"$f":"IF(BL$5>=$F56,IF(BL$5<=#REF!,$K56,0),0)","v":{"$error":"#REF!"}},{"$f":"IF(BM$5>=$F56,IF(BM$5<=#REF!,$K56,0),0)","v":{"$error":"#REF!"}},{"$f":"IF(BN$5>=$F56,IF(BN$5<=#REF!,$K56,0),0)","v":{"$error":"#REF!"}},{"$f":"IF(BO$5>=$F56,IF(BO$5<=#REF!,$K56,0),0)","v":{"$error":"#REF!"}},{"$f":"IF(BP$5>=$F56,IF(BP$5<=#REF!,$K56,0),0)","v":{"$error":"#REF!"}},{"$f":"IF(BQ$5>=$F56,IF(BQ$5<=#REF!,$K56,0),0)","v":{"$error":"#REF!"}},{"$f":"IF(BR$5>=$F56,IF(BR$5<=#REF!,$K56,0),0)","v":{"$error":"#REF!"}},{"$f":"IF(BS$5>=$F56,IF(BS$5<=#REF!,$K56,0),0)","v":{"$error":"#REF!"}},{"$f":"IF(BT$5>=$F56,IF(BT$5<=#REF!,$K56,0),0)","v":{"$error":"#REF!"}},{"$f":"IF(BU$5>=$F56,IF(BU$5<=#REF!,$K56,0),0)","v":{"$error":"#REF!"}},{"$f":"IF(BV$5>=$F56,IF(BV$5<=#REF!,$K56,0),0)","v":{"$error":"#REF!"}},{"$f":"IF(BW$5>=$F56,IF(BW$5<=#REF!,$K56,0),0)","v":{"$error":"#REF!"}},{"$f":"IF(BX$5>=$F56,IF(BX$5<=#REF!,$K56,0),0)","v":{"$error":"#REF!"}},{"$f":"IF(BY$5>=$F56,IF(BY$5<=#REF!,$K56,0),0)","v":{"$error":"#REF!"}},{"$f":"IF(BZ$5>=$F56,IF(BZ$5<=#REF!,$K56,0),0)","v":{"$error":"#REF!"}},{"$f":"IF(CA$5>=$F56,IF(CA$5<=#REF!,$K56,0),0)","v":{"$error":"#REF!"}},{"$f":"IF(CB$5>=$F56,IF(CB$5<=#REF!,$K56,0),0)","v":{"$error":"#REF!"}},{"$f":"IF(CC$5>=$F56,IF(CC$5<=#REF!,$K56,0),0)","v":{"$error":"#REF!"}},{"$f":"IF(CD$5>=$F56,IF(CD$5<=#REF!,$K56,0),0)","v":{"$error":"#REF!"}},{"$f":"IF(CE$5>=$F56,IF(CE$5<=#REF!,$K56,0),0)","v":{"$error":"#REF!"}},{"$f":"IF(CF$5>=$F56,IF(CF$5<=#REF!,$K56,0),0)","v":{"$error":"#REF!"}},{"$f":"IF(CG$5>=$F56,IF(CG$5<=#REF!,$K56,0),0)","v":{"$error":"#REF!"}},{"$f":"IF(CH$5>=$F56,IF(CH$5<=#REF!,$K56,0),0)","v":{"$error":"#REF!"}},{"$f":"IF(CI$5>=$F56,IF(CI$5<=#REF!,$K56,0),0)","v":{"$error":"#REF!"}},{"$f":"IF(CJ$5>=$F56,IF(CJ$5<=#REF!,$K56,0),0)","v":{"$error":"#REF!"}},{"$f":"IF(CK$5>=$F56,IF(CK$5<=#REF!,$K56,0),0)","v":{"$error":"#REF!"}},{"$f":"IF(CL$5>=$F56,IF(CL$5<=#REF!,$K56,0),0)","v":{"$error":"#REF!"}},{"$f":"IF(CM$5>=$F56,IF(CM$5<=#REF!,$K56,0),0)","v":{"$error":"#REF!"}},{"$f":"IF(CN$5>=$F56,IF(CN$5<=#REF!,$K56,0),0)","v":{"$error":"#REF!"}},{"$f":"IF(CO$5>=$F56,IF(CO$5<=#REF!,$K56,0),0)","v":{"$error":"#REF!"}},{"$f":"IF(CP$5>=$F56,IF(CP$5<=#REF!,$K56,0),0)","v":{"$error":"#REF!"}},{"$f":"IF(CQ$5>=$F56,IF(CQ$5<=#REF!,$K56,0),0)","v":{"$error":"#REF!"}},{"$f":"IF(CR$5>=$F56,IF(CR$5<=#REF!,$K56,0),0)","v":{"$error":"#REF!"}},{"$f":"IF(CS$5>=$F56,IF(CS$5<=#REF!,$K56,0),0)","v":{"$error":"#REF!"}},{"$f":"IF(CT$5>=$F56,IF(CT$5<=#REF!,$K56,0),0)","v":{"$error":"#REF!"}},{"$f":"IF(CU$5>=$F56,IF(CU$5<=#REF!,$K56,0),0)","v":{"$error":"#REF!"}},{"$f":"IF(CV$5>=$F56,IF(CV$5<=#REF!,$K56,0),0)","v":{"$error":"#REF!"}},{"$f":"IF(CW$5>=$F56,IF(CW$5<=#REF!,$K56,0),0)","v":{"$error":"#REF!"}},{"$f":"IF(CX$5>=$F56,IF(CX$5<=#REF!,$K56,0),0)","v":{"$error":"#REF!"}},{"$f":"IF(CY$5>=$F56,IF(CY$5<=#REF!,$K56,0),0)","v":{"$error":"#REF!"}},{"$f":"IF(CZ$5>=$F56,IF(CZ$5<=#REF!,$K56,0),0)","v":{"$error":"#REF!"}},{"$f":"IF(DA$5>=$F56,IF(DA$5<=#REF!,$K56,0),0)","v":{"$error":"#REF!"}},{"$f":"IF(DB$5>=$F56,IF(DB$5<=#REF!,$K56,0),0)","v":{"$error":"#REF!"}},{"$f":"IF(DC$5>=$F56,IF(DC$5<=#REF!,$K56,0),0)","v":{"$error":"#REF!"}},{"$f":"IF(DD$5>=$F56,IF(DD$5<=#REF!,$K56,0),0)","v":{"$error":"#REF!"}},{"$f":"IF(DE$5>=$F56,IF(DE$5<=#REF!,$K56,0),0)","v":{"$error":"#REF!"}},{"$f":"IF(DF$5>=$F56,IF(DF$5<=#REF!,$K56,0),0)","v":{"$error":"#REF!"}},{"$f":"IF(DG$5>=$F56,IF(DG$5<=#REF!,$K56,0),0)","v":{"$error":"#REF!"}},{"$f":"IF(DH$5>=$F56,IF(DH$5<=#REF!,$K56,0),0)","v":{"$error":"#REF!"}},{"$f":"IF(DI$5>=$F56,IF(DI$5<=#REF!,$K56,0),0)","v":{"$error":"#REF!"}},{"$f":"IF(DJ$5>=$F56,IF(DJ$5<=#REF!,$K56,0),0)","v":{"$error":"#REF!"}},{"$f":"IF(DK$5>=$F56,IF(DK$5<=#REF!,$K56,0),0)","v":{"$error":"#REF!"}},{"$f":"IF(DL$5>=$F56,IF(DL$5<=#REF!,$K56,0),0)","v":{"$error":"#REF!"}},{"$f":"IF(DM$5>=$F56,IF(DM$5<=#REF!,$K56,0),0)","v":{"$error":"#REF!"}},{"$f":"IF(DN$5>=$F56,IF(DN$5<=#REF!,$K56,0),0)","v":{"$error":"#REF!"}},{"$f":"IF(DO$5>=$F56,IF(DO$5<=#REF!,$K56,0),0)","v":{"$error":"#REF!"}},{"$f":"IF(DP$5>=$F56,IF(DP$5<=#REF!,$K56,0),0)","v":{"$error":"#REF!"}},{"$f":"IF(DQ$5>=$F56,IF(DQ$5<=#REF!,$K56,0),0)","v":{"$error":"#REF!"}},{"$f":"IF(DR$5>=$F56,IF(DR$5<=#REF!,$K56,0),0)","v":{"$error":"#REF!"}},{"$error":"#REF!"},"",""]
[null,null,null,null,null,null,{"$f":"IF($D57=\"\",0,VLOOKUP(($DU57&$C57&$D57),単価情報!$B$66:$C$932,2,FALSE))","v":0},0,0,0,{"$f":"IF(E57=0,0,ROUND(E57/#REF!,1))","v":0},{"$f":"IF(L$5>=$F57,IF(L$5<=#REF!,$K57,0),0)","v":{"$error":"#REF!"}},{"$f":"IF(M$5>=$F57,IF(M$5<=#REF!,$K57,0),0)","v":{"$error":"#REF!"}},{"$f":"IF(N$5>=$F57,IF(N$5<=#REF!,$K57,0),0)","v":{"$error":"#REF!"}},{"$f":"IF(O$5>=$F57,IF(O$5<=#REF!,$K57,0),0)","v":{"$error":"#REF!"}},{"$f":"IF(P$5>=$F57,IF(P$5<=#REF!,$K57,0),0)","v":{"$error":"#REF!"}},{"$f":"IF(Q$5>=$F57,IF(Q$5<=#REF!,$K57,0),0)","v":{"$error":"#REF!"}},{"$f":"IF(R$5>=$F57,IF(R$5<=#REF!,$K57,0),0)","v":{"$error":"#REF!"}},{"$f":"IF(S$5>=$F57,IF(S$5<=#REF!,$K57,0),0)","v":{"$error":"#REF!"}},{"$f":"IF(T$5>=$F57,IF(T$5<=#REF!,$K57,0),0)","v":{"$error":"#REF!"}},{"$f":"IF(U$5>=$F57,IF(U$5<=#REF!,$K57,0),0)","v":{"$error":"#REF!"}},{"$f":"IF(V$5>=$F57,IF(V$5<=#REF!,$K57,0),0)","v":{"$error":"#REF!"}},{"$f":"IF(W$5>=$F57,IF(W$5<=#REF!,$K57,0),0)","v":{"$error":"#REF!"}},{"$f":"IF(X$5>=$F57,IF(X$5<=#REF!,$K57,0),0)","v":{"$error":"#REF!"}},{"$f":"IF(Y$5>=$F57,IF(Y$5<=#REF!,$K57,0),0)","v":{"$error":"#REF!"}},{"$f":"IF(Z$5>=$F57,IF(Z$5<=#REF!,$K57,0),0)","v":{"$error":"#REF!"}},{"$f":"IF(AA$5>=$F57,IF(AA$5<=#REF!,$K57,0),0)","v":{"$error":"#REF!"}},{"$f":"IF(AB$5>=$F57,IF(AB$5<=#REF!,$K57,0),0)","v":{"$error":"#REF!"}},{"$f":"IF(AC$5>=$F57,IF(AC$5<=#REF!,$K57,0),0)","v":{"$error":"#REF!"}},{"$f":"IF(AD$5>=$F57,IF(AD$5<=#REF!,$K57,0),0)","v":{"$error":"#REF!"}},{"$f":"IF(AE$5>=$F57,IF(AE$5<=#REF!,$K57,0),0)","v":{"$error":"#REF!"}},{"$f":"IF(AF$5>=$F57,IF(AF$5<=#REF!,$K57,0),0)","v":{"$error":"#REF!"}},{"$f":"IF(AG$5>=$F57,IF(AG$5<=#REF!,$K57,0),0)","v":{"$error":"#REF!"}},{"$f":"IF(AH$5>=$F57,IF(AH$5<=#REF!,$K57,0),0)","v":{"$error":"#REF!"}},{"$f":"IF(AI$5>=$F57,IF(AI$5<=#REF!,$K57,0),0)","v":{"$error":"#REF!"}},{"$f":"IF(AJ$5>=$F57,IF(AJ$5<=#REF!,$K57,0),0)","v":{"$error":"#REF!"}},{"$f":"IF(AK$5>=$F57,IF(AK$5<=#REF!,$K57,0),0)","v":{"$error":"#REF!"}},{"$f":"IF(AL$5>=$F57,IF(AL$5<=#REF!,$K57,0),0)","v":{"$error":"#REF!"}},{"$f":"IF(AM$5>=$F57,IF(AM$5<=#REF!,$K57,0),0)","v":{"$error":"#REF!"}},{"$f":"IF(AN$5>=$F57,IF(AN$5<=#REF!,$K57,0),0)","v":{"$error":"#REF!"}},{"$f":"IF(AO$5>=$F57,IF(AO$5<=#REF!,$K57,0),0)","v":{"$error":"#REF!"}},{"$f":"IF(AP$5>=$F57,IF(AP$5<=#REF!,$K57,0),0)","v":{"$error":"#REF!"}},{"$f":"IF(AQ$5>=$F57,IF(AQ$5<=#REF!,$K57,0),0)","v":{"$error":"#REF!"}},{"$f":"IF(AR$5>=$F57,IF(AR$5<=#REF!,$K57,0),0)","v":{"$error":"#REF!"}},{"$f":"IF(AS$5>=$F57,IF(AS$5<=#REF!,$K57,0),0)","v":{"$error":"#REF!"}},{"$f":"IF(AT$5>=$F57,IF(AT$5<=#REF!,$K57,0),0)","v":{"$error":"#REF!"}},{"$f":"IF(AU$5>=$F57,IF(AU$5<=#REF!,$K57,0),0)","v":{"$error":"#REF!"}},{"$f":"IF(AV$5>=$F57,IF(AV$5<=#REF!,$K57,0),0)","v":{"$error":"#REF!"}},{"$f":"IF(AW$5>=$F57,IF(AW$5<=#REF!,$K57,0),0)","v":{"$error":"#REF!"}},{"$f":"IF(AX$5>=$F57,IF(AX$5<=#REF!,$K57,0),0)","v":{"$error":"#REF!"}},{"$f":"IF(AY$5>=$F57,IF(AY$5<=#REF!,$K57,0),0)","v":{"$error":"#REF!"}},{"$f":"IF(AZ$5>=$F57,IF(AZ$5<=#REF!,$K57,0),0)","v":{"$error":"#REF!"}},{"$f":"IF(BA$5>=$F57,IF(BA$5<=#REF!,$K57,0),0)","v":{"$error":"#REF!"}},{"$f":"IF(BB$5>=$F57,IF(BB$5<=#REF!,$K57,0),0)","v":{"$error":"#REF!"}},{"$f":"IF(BC$5>=$F57,IF(BC$5<=#REF!,$K57,0),0)","v":{"$error":"#REF!"}},{"$f":"IF(BD$5>=$F57,IF(BD$5<=#REF!,$K57,0),0)","v":{"$error":"#REF!"}},{"$f":"IF(BE$5>=$F57,IF(BE$5<=#REF!,$K57,0),0)","v":{"$error":"#REF!"}},{"$f":"IF(BF$5>=$F57,IF(BF$5<=#REF!,$K57,0),0)","v":{"$error":"#REF!"}},{"$f":"IF(BG$5>=$F57,IF(BG$5<=#REF!,$K57,0),0)","v":{"$error":"#REF!"}},{"$f":"IF(BH$5>=$F57,IF(BH$5<=#REF!,$K57,0),0)","v":{"$error":"#REF!"}},{"$f":"IF(BI$5>=$F57,IF(BI$5<=#REF!,$K57,0),0)","v":{"$error":"#REF!"}},{"$f":"IF(BJ$5>=$F57,IF(BJ$5<=#REF!,$K57,0),0)","v":{"$error":"#REF!"}},{"$f":"IF(BK$5>=$F57,IF(BK$5<=#REF!,$K57,0),0)","v":{"$error":"#REF!"}},{"$f":"IF(BL$5>=$F57,IF(BL$5<=#REF!,$K57,0),0)","v":{"$error":"#REF!"}},{"$f":"IF(BM$5>=$F57,IF(BM$5<=#REF!,$K57,0),0)","v":{"$error":"#REF!"}},{"$f":"IF(BN$5>=$F57,IF(BN$5<=#REF!,$K57,0),0)","v":{"$error":"#REF!"}},{"$f":"IF(BO$5>=$F57,IF(BO$5<=#REF!,$K57,0),0)","v":{"$error":"#REF!"}},{"$f":"IF(BP$5>=$F57,IF(BP$5<=#REF!,$K57,0),0)","v":{"$error":"#REF!"}},{"$f":"IF(BQ$5>=$F57,IF(BQ$5<=#REF!,$K57,0),0)","v":{"$error":"#REF!"}},{"$f":"IF(BR$5>=$F57,IF(BR$5<=#REF!,$K57,0),0)","v":{"$error":"#REF!"}},{"$f":"IF(BS$5>=$F57,IF(BS$5<=#REF!,$K57,0),0)","v":{"$error":"#REF!"}},{"$f":"IF(BT$5>=$F57,IF(BT$5<=#REF!,$K57,0),0)","v":{"$error":"#REF!"}},{"$f":"IF(BU$5>=$F57,IF(BU$5<=#REF!,$K57,0),0)","v":{"$error":"#REF!"}},{"$f":"IF(BV$5>=$F57,IF(BV$5<=#REF!,$K57,0),0)","v":{"$error":"#REF!"}},{"$f":"IF(BW$5>=$F57,IF(BW$5<=#REF!,$K57,0),0)","v":{"$error":"#REF!"}},{"$f":"IF(BX$5>=$F57,IF(BX$5<=#REF!,$K57,0),0)","v":{"$error":"#REF!"}},{"$f":"IF(BY$5>=$F57,IF(BY$5<=#REF!,$K57,0),0)","v":{"$error":"#REF!"}},{"$f":"IF(BZ$5>=$F57,IF(BZ$5<=#REF!,$K57,0),0)","v":{"$error":"#REF!"}},{"$f":"IF(CA$5>=$F57,IF(CA$5<=#REF!,$K57,0),0)","v":{"$error":"#REF!"}},{"$f":"IF(CB$5>=$F57,IF(CB$5<=#REF!,$K57,0),0)","v":{"$error":"#REF!"}},{"$f":"IF(CC$5>=$F57,IF(CC$5<=#REF!,$K57,0),0)","v":{"$error":"#REF!"}},{"$f":"IF(CD$5>=$F57,IF(CD$5<=#REF!,$K57,0),0)","v":{"$error":"#REF!"}},{"$f":"IF(CE$5>=$F57,IF(CE$5<=#REF!,$K57,0),0)","v":{"$error":"#REF!"}},{"$f":"IF(CF$5>=$F57,IF(CF$5<=#REF!,$K57,0),0)","v":{"$error":"#REF!"}},{"$f":"IF(CG$5>=$F57,IF(CG$5<=#REF!,$K57,0),0)","v":{"$error":"#REF!"}},{"$f":"IF(CH$5>=$F57,IF(CH$5<=#REF!,$K57,0),0)","v":{"$error":"#REF!"}},{"$f":"IF(CI$5>=$F57,IF(CI$5<=#REF!,$K57,0),0)","v":{"$error":"#REF!"}},{"$f":"IF(CJ$5>=$F57,IF(CJ$5<=#REF!,$K57,0),0)","v":{"$error":"#REF!"}},{"$f":"IF(CK$5>=$F57,IF(CK$5<=#REF!,$K57,0),0)","v":{"$error":"#REF!"}},{"$f":"IF(CL$5>=$F57,IF(CL$5<=#REF!,$K57,0),0)","v":{"$error":"#REF!"}},{"$f":"IF(CM$5>=$F57,IF(CM$5<=#REF!,$K57,0),0)","v":{"$error":"#REF!"}},{"$f":"IF(CN$5>=$F57,IF(CN$5<=#REF!,$K57,0),0)","v":{"$error":"#REF!"}},{"$f":"IF(CO$5>=$F57,IF(CO$5<=#REF!,$K57,0),0)","v":{"$error":"#REF!"}},{"$f":"IF(CP$5>=$F57,IF(CP$5<=#REF!,$K57,0),0)","v":{"$error":"#REF!"}},{"$f":"IF(CQ$5>=$F57,IF(CQ$5<=#REF!,$K57,0),0)","v":{"$error":"#REF!"}},{"$f":"IF(CR$5>=$F57,IF(CR$5<=#REF!,$K57,0),0)","v":{"$error":"#REF!"}},{"$f":"IF(CS$5>=$F57,IF(CS$5<=#REF!,$K57,0),0)","v":{"$error":"#REF!"}},{"$f":"IF(CT$5>=$F57,IF(CT$5<=#REF!,$K57,0),0)","v":{"$error":"#REF!"}},{"$f":"IF(CU$5>=$F57,IF(CU$5<=#REF!,$K57,0),0)","v":{"$error":"#REF!"}},{"$f":"IF(CV$5>=$F57,IF(CV$5<=#REF!,$K57,0),0)","v":{"$error":"#REF!"}},{"$f":"IF(CW$5>=$F57,IF(CW$5<=#REF!,$K57,0),0)","v":{"$error":"#REF!"}},{"$f":"IF(CX$5>=$F57,IF(CX$5<=#REF!,$K57,0),0)","v":{"$error":"#REF!"}},{"$f":"IF(CY$5>=$F57,IF(CY$5<=#REF!,$K57,0),0)","v":{"$error":"#REF!"}},{"$f":"IF(CZ$5>=$F57,IF(CZ$5<=#REF!,$K57,0),0)","v":{"$error":"#REF!"}},{"$f":"IF(DA$5>=$F57,IF(DA$5<=#REF!,$K57,0),0)","v":{"$error":"#REF!"}},{"$f":"IF(DB$5>=$F57,IF(DB$5<=#REF!,$K57,0),0)","v":{"$error":"#REF!"}},{"$f":"IF(DC$5>=$F57,IF(DC$5<=#REF!,$K57,0),0)","v":{"$error":"#REF!"}},{"$f":"IF(DD$5>=$F57,IF(DD$5<=#REF!,$K57,0),0)","v":{"$error":"#REF!"}},{"$f":"IF(DE$5>=$F57,IF(DE$5<=#REF!,$K57,0),0)","v":{"$error":"#REF!"}},{"$f":"IF(DF$5>=$F57,IF(DF$5<=#REF!,$K57,0),0)","v":{"$error":"#REF!"}},{"$f":"IF(DG$5>=$F57,IF(DG$5<=#REF!,$K57,0),0)","v":{"$error":"#REF!"}},{"$f":"IF(DH$5>=$F57,IF(DH$5<=#REF!,$K57,0),0)","v":{"$error":"#REF!"}},{"$f":"IF(DI$5>=$F57,IF(DI$5<=#REF!,$K57,0),0)","v":{"$error":"#REF!"}},{"$f":"IF(DJ$5>=$F57,IF(DJ$5<=#REF!,$K57,0),0)","v":{"$error":"#REF!"}},{"$f":"IF(DK$5>=$F57,IF(DK$5<=#REF!,$K57,0),0)","v":{"$error":"#REF!"}},{"$f":"IF(DL$5>=$F57,IF(DL$5<=#REF!,$K57,0),0)","v":{"$error":"#REF!"}},{"$f":"IF(DM$5>=$F57,IF(DM$5<=#REF!,$K57,0),0)","v":{"$error":"#REF!"}},{"$f":"IF(DN$5>=$F57,IF(DN$5<=#REF!,$K57,0),0)","v":{"$error":"#REF!"}},{"$f":"IF(DO$5>=$F57,IF(DO$5<=#REF!,$K57,0),0)","v":{"$error":"#REF!"}},{"$f":"IF(DP$5>=$F57,IF(DP$5<=#REF!,$K57,0),0)","v":{"$error":"#REF!"}},{"$f":"IF(DQ$5>=$F57,IF(DQ$5<=#REF!,$K57,0),0)","v":{"$error":"#REF!"}},{"$f":"IF(DR$5>=$F57,IF(DR$5<=#REF!,$K57,0),0)","v":{"$error":"#REF!"}},{"$error":"#REF!"},"",""]
[null,null,null,null,null,null,{"$f":"IF($D58=\"\",0,VLOOKUP(($DU58&$C58&$D58),単価情報!$B$66:$C$932,2,FALSE))","v":0},0,0,0,{"$f":"IF(E58=0,0,ROUND(E58/#REF!,1))","v":0},{"$f":"IF(L$5>=$F58,IF(L$5<=#REF!,$K58,0),0)","v":{"$error":"#REF!"}},{"$f":"IF(M$5>=$F58,IF(M$5<=#REF!,$K58,0),0)","v":{"$error":"#REF!"}},{"$f":"IF(N$5>=$F58,IF(N$5<=#REF!,$K58,0),0)","v":{"$error":"#REF!"}},{"$f":"IF(O$5>=$F58,IF(O$5<=#REF!,$K58,0),0)","v":{"$error":"#REF!"}},{"$f":"IF(P$5>=$F58,IF(P$5<=#REF!,$K58,0),0)","v":{"$error":"#REF!"}},{"$f":"IF(Q$5>=$F58,IF(Q$5<=#REF!,$K58,0),0)","v":{"$error":"#REF!"}},{"$f":"IF(R$5>=$F58,IF(R$5<=#REF!,$K58,0),0)","v":{"$error":"#REF!"}},{"$f":"IF(S$5>=$F58,IF(S$5<=#REF!,$K58,0),0)","v":{"$error":"#REF!"}},{"$f":"IF(T$5>=$F58,IF(T$5<=#REF!,$K58,0),0)","v":{"$error":"#REF!"}},{"$f":"IF(U$5>=$F58,IF(U$5<=#REF!,$K58,0),0)","v":{"$error":"#REF!"}},{"$f":"IF(V$5>=$F58,IF(V$5<=#REF!,$K58,0),0)","v":{"$error":"#REF!"}},{"$f":"IF(W$5>=$F58,IF(W$5<=#REF!,$K58,0),0)","v":{"$error":"#REF!"}},{"$f":"IF(X$5>=$F58,IF(X$5<=#REF!,$K58,0),0)","v":{"$error":"#REF!"}},{"$f":"IF(Y$5>=$F58,IF(Y$5<=#REF!,$K58,0),0)","v":{"$error":"#REF!"}},{"$f":"IF(Z$5>=$F58,IF(Z$5<=#REF!,$K58,0),0)","v":{"$error":"#REF!"}},{"$f":"IF(AA$5>=$F58,IF(AA$5<=#REF!,$K58,0),0)","v":{"$error":"#REF!"}},{"$f":"IF(AB$5>=$F58,IF(AB$5<=#REF!,$K58,0),0)","v":{"$error":"#REF!"}},{"$f":"IF(AC$5>=$F58,IF(AC$5<=#REF!,$K58,0),0)","v":{"$error":"#REF!"}},{"$f":"IF(AD$5>=$F58,IF(AD$5<=#REF!,$K58,0),0)","v":{"$error":"#REF!"}},{"$f":"IF(AE$5>=$F58,IF(AE$5<=#REF!,$K58,0),0)","v":{"$error":"#REF!"}},{"$f":"IF(AF$5>=$F58,IF(AF$5<=#REF!,$K58,0),0)","v":{"$error":"#REF!"}},{"$f":"IF(AG$5>=$F58,IF(AG$5<=#REF!,$K58,0),0)","v":{"$error":"#REF!"}},{"$f":"IF(AH$5>=$F58,IF(AH$5<=#REF!,$K58,0),0)","v":{"$error":"#REF!"}},{"$f":"IF(AI$5>=$F58,IF(AI$5<=#REF!,$K58,0),0)","v":{"$error":"#REF!"}},{"$f":"IF(AJ$5>=$F58,IF(AJ$5<=#REF!,$K58,0),0)","v":{"$error":"#REF!"}},{"$f":"IF(AK$5>=$F58,IF(AK$5<=#REF!,$K58,0),0)","v":{"$error":"#REF!"}},{"$f":"IF(AL$5>=$F58,IF(AL$5<=#REF!,$K58,0),0)","v":{"$error":"#REF!"}},{"$f":"IF(AM$5>=$F58,IF(AM$5<=#REF!,$K58,0),0)","v":{"$error":"#REF!"}},{"$f":"IF(AN$5>=$F58,IF(AN$5<=#REF!,$K58,0),0)","v":{"$error":"#REF!"}},{"$f":"IF(AO$5>=$F58,IF(AO$5<=#REF!,$K58,0),0)","v":{"$error":"#REF!"}},{"$f":"IF(AP$5>=$F58,IF(AP$5<=#REF!,$K58,0),0)","v":{"$error":"#REF!"}},{"$f":"IF(AQ$5>=$F58,IF(AQ$5<=#REF!,$K58,0),0)","v":{"$error":"#REF!"}},{"$f":"IF(AR$5>=$F58,IF(AR$5<=#REF!,$K58,0),0)","v":{"$error":"#REF!"}},{"$f":"IF(AS$5>=$F58,IF(AS$5<=#REF!,$K58,0),0)","v":{"$error":"#REF!"}},{"$f":"IF(AT$5>=$F58,IF(AT$5<=#REF!,$K58,0),0)","v":{"$error":"#REF!"}},{"$f":"IF(AU$5>=$F58,IF(AU$5<=#REF!,$K58,0),0)","v":{"$error":"#REF!"}},{"$f":"IF(AV$5>=$F58,IF(AV$5<=#REF!,$K58,0),0)","v":{"$error":"#REF!"}},{"$f":"IF(AW$5>=$F58,IF(AW$5<=#REF!,$K58,0),0)","v":{"$error":"#REF!"}},{"$f":"IF(AX$5>=$F58,IF(AX$5<=#REF!,$K58,0),0)","v":{"$error":"#REF!"}},{"$f":"IF(AY$5>=$F58,IF(AY$5<=#REF!,$K58,0),0)","v":{"$error":"#REF!"}},{"$f":"IF(AZ$5>=$F58,IF(AZ$5<=#REF!,$K58,0),0)","v":{"$error":"#REF!"}},{"$f":"IF(BA$5>=$F58,IF(BA$5<=#REF!,$K58,0),0)","v":{"$error":"#REF!"}},{"$f":"IF(BB$5>=$F58,IF(BB$5<=#REF!,$K58,0),0)","v":{"$error":"#REF!"}},{"$f":"IF(BC$5>=$F58,IF(BC$5<=#REF!,$K58,0),0)","v":{"$error":"#REF!"}},{"$f":"IF(BD$5>=$F58,IF(BD$5<=#REF!,$K58,0),0)","v":{"$error":"#REF!"}},{"$f":"IF(BE$5>=$F58,IF(BE$5<=#REF!,$K58,0),0)","v":{"$error":"#REF!"}},{"$f":"IF(BF$5>=$F58,IF(BF$5<=#REF!,$K58,0),0)","v":{"$error":"#REF!"}},{"$f":"IF(BG$5>=$F58,IF(BG$5<=#REF!,$K58,0),0)","v":{"$error":"#REF!"}},{"$f":"IF(BH$5>=$F58,IF(BH$5<=#REF!,$K58,0),0)","v":{"$error":"#REF!"}},{"$f":"IF(BI$5>=$F58,IF(BI$5<=#REF!,$K58,0),0)","v":{"$error":"#REF!"}},{"$f":"IF(BJ$5>=$F58,IF(BJ$5<=#REF!,$K58,0),0)","v":{"$error":"#REF!"}},{"$f":"IF(BK$5>=$F58,IF(BK$5<=#REF!,$K58,0),0)","v":{"$error":"#REF!"}},{"$f":"IF(BL$5>=$F58,IF(BL$5<=#REF!,$K58,0),0)","v":{"$error":"#REF!"}},{"$f":"IF(BM$5>=$F58,IF(BM$5<=#REF!,$K58,0),0)","v":{"$error":"#REF!"}},{"$f":"IF(BN$5>=$F58,IF(BN$5<=#REF!,$K58,0),0)","v":{"$error":"#REF!"}},{"$f":"IF(BO$5>=$F58,IF(BO$5<=#REF!,$K58,0),0)","v":{"$error":"#REF!"}},{"$f":"IF(BP$5>=$F58,IF(BP$5<=#REF!,$K58,0),0)","v":{"$error":"#REF!"}},{"$f":"IF(BQ$5>=$F58,IF(BQ$5<=#REF!,$K58,0),0)","v":{"$error":"#REF!"}},{"$f":"IF(BR$5>=$F58,IF(BR$5<=#REF!,$K58,0),0)","v":{"$error":"#REF!"}},{"$f":"IF(BS$5>=$F58,IF(BS$5<=#REF!,$K58,0),0)","v":{"$error":"#REF!"}},{"$f":"IF(BT$5>=$F58,IF(BT$5<=#REF!,$K58,0),0)","v":{"$error":"#REF!"}},{"$f":"IF(BU$5>=$F58,IF(BU$5<=#REF!,$K58,0),0)","v":{"$error":"#REF!"}},{"$f":"IF(BV$5>=$F58,IF(BV$5<=#REF!,$K58,0),0)","v":{"$error":"#REF!"}},{"$f":"IF(BW$5>=$F58,IF(BW$5<=#REF!,$K58,0),0)","v":{"$error":"#REF!"}},{"$f":"IF(BX$5>=$F58,IF(BX$5<=#REF!,$K58,0),0)","v":{"$error":"#REF!"}},{"$f":"IF(BY$5>=$F58,IF(BY$5<=#REF!,$K58,0),0)","v":{"$error":"#REF!"}},{"$f":"IF(BZ$5>=$F58,IF(BZ$5<=#REF!,$K58,0),0)","v":{"$error":"#REF!"}},{"$f":"IF(CA$5>=$F58,IF(CA$5<=#REF!,$K58,0),0)","v":{"$error":"#REF!"}},{"$f":"IF(CB$5>=$F58,IF(CB$5<=#REF!,$K58,0),0)","v":{"$error":"#REF!"}},{"$f":"IF(CC$5>=$F58,IF(CC$5<=#REF!,$K58,0),0)","v":{"$error":"#REF!"}},{"$f":"IF(CD$5>=$F58,IF(CD$5<=#REF!,$K58,0),0)","v":{"$error":"#REF!"}},{"$f":"IF(CE$5>=$F58,IF(CE$5<=#REF!,$K58,0),0)","v":{"$error":"#REF!"}},{"$f":"IF(CF$5>=$F58,IF(CF$5<=#REF!,$K58,0),0)","v":{"$error":"#REF!"}},{"$f":"IF(CG$5>=$F58,IF(CG$5<=#REF!,$K58,0),0)","v":{"$error":"#REF!"}},{"$f":"IF(CH$5>=$F58,IF(CH$5<=#REF!,$K58,0),0)","v":{"$error":"#REF!"}},{"$f":"IF(CI$5>=$F58,IF(CI$5<=#REF!,$K58,0),0)","v":{"$error":"#REF!"}},{"$f":"IF(CJ$5>=$F58,IF(CJ$5<=#REF!,$K58,0),0)","v":{"$error":"#REF!"}},{"$f":"IF(CK$5>=$F58,IF(CK$5<=#REF!,$K58,0),0)","v":{"$error":"#REF!"}},{"$f":"IF(CL$5>=$F58,IF(CL$5<=#REF!,$K58,0),0)","v":{"$error":"#REF!"}},{"$f":"IF(CM$5>=$F58,IF(CM$5<=#REF!,$K58,0),0)","v":{"$error":"#REF!"}},{"$f":"IF(CN$5>=$F58,IF(CN$5<=#REF!,$K58,0),0)","v":{"$error":"#REF!"}},{"$f":"IF(CO$5>=$F58,IF(CO$5<=#REF!,$K58,0),0)","v":{"$error":"#REF!"}},{"$f":"IF(CP$5>=$F58,IF(CP$5<=#REF!,$K58,0),0)","v":{"$error":"#REF!"}},{"$f":"IF(CQ$5>=$F58,IF(CQ$5<=#REF!,$K58,0),0)","v":{"$error":"#REF!"}},{"$f":"IF(CR$5>=$F58,IF(CR$5<=#REF!,$K58,0),0)","v":{"$error":"#REF!"}},{"$f":"IF(CS$5>=$F58,IF(CS$5<=#REF!,$K58,0),0)","v":{"$error":"#REF!"}},{"$f":"IF(CT$5>=$F58,IF(CT$5<=#REF!,$K58,0),0)","v":{"$error":"#REF!"}},{"$f":"IF(CU$5>=$F58,IF(CU$5<=#REF!,$K58,0),0)","v":{"$error":"#REF!"}},{"$f":"IF(CV$5>=$F58,IF(CV$5<=#REF!,$K58,0),0)","v":{"$error":"#REF!"}},{"$f":"IF(CW$5>=$F58,IF(CW$5<=#REF!,$K58,0),0)","v":{"$error":"#REF!"}},{"$f":"IF(CX$5>=$F58,IF(CX$5<=#REF!,$K58,0),0)","v":{"$error":"#REF!"}},{"$f":"IF(CY$5>=$F58,IF(CY$5<=#REF!,$K58,0),0)","v":{"$error":"#REF!"}},{"$f":"IF(CZ$5>=$F58,IF(CZ$5<=#REF!,$K58,0),0)","v":{"$error":"#REF!"}},{"$f":"IF(DA$5>=$F58,IF(DA$5<=#REF!,$K58,0),0)","v":{"$error":"#REF!"}},{"$f":"IF(DB$5>=$F58,IF(DB$5<=#REF!,$K58,0),0)","v":{"$error":"#REF!"}},{"$f":"IF(DC$5>=$F58,IF(DC$5<=#REF!,$K58,0),0)","v":{"$error":"#REF!"}},{"$f":"IF(DD$5>=$F58,IF(DD$5<=#REF!,$K58,0),0)","v":{"$error":"#REF!"}},{"$f":"IF(DE$5>=$F58,IF(DE$5<=#REF!,$K58,0),0)","v":{"$error":"#REF!"}},{"$f":"IF(DF$5>=$F58,IF(DF$5<=#REF!,$K58,0),0)","v":{"$error":"#REF!"}},{"$f":"IF(DG$5>=$F58,IF(DG$5<=#REF!,$K58,0),0)","v":{"$error":"#REF!"}},{"$f":"IF(DH$5>=$F58,IF(DH$5<=#REF!,$K58,0),0)","v":{"$error":"#REF!"}},{"$f":"IF(DI$5>=$F58,IF(DI$5<=#REF!,$K58,0),0)","v":{"$error":"#REF!"}},{"$f":"IF(DJ$5>=$F58,IF(DJ$5<=#REF!,$K58,0),0)","v":{"$error":"#REF!"}},{"$f":"IF(DK$5>=$F58,IF(DK$5<=#REF!,$K58,0),0)","v":{"$error":"#REF!"}},{"$f":"IF(DL$5>=$F58,IF(DL$5<=#REF!,$K58,0),0)","v":{"$error":"#REF!"}},{"$f":"IF(DM$5>=$F58,IF(DM$5<=#REF!,$K58,0),0)","v":{"$error":"#REF!"}},{"$f":"IF(DN$5>=$F58,IF(DN$5<=#REF!,$K58,0),0)","v":{"$error":"#REF!"}},{"$f":"IF(DO$5>=$F58,IF(DO$5<=#REF!,$K58,0),0)","v":{"$error":"#REF!"}},{"$f":"IF(DP$5>=$F58,IF(DP$5<=#REF!,$K58,0),0)","v":{"$error":"#REF!"}},{"$f":"IF(DQ$5>=$F58,IF(DQ$5<=#REF!,$K58,0),0)","v":{"$error":"#REF!"}},{"$f":"IF(DR$5>=$F58,IF(DR$5<=#REF!,$K58,0),0)","v":{"$error":"#REF!"}},{"$error":"#REF!"},"",""]
[null,null,null,null,null,null,{"$f":"IF($D59=\"\",0,VLOOKUP(($DU59&$C59&$D59),単価情報!$B$66:$C$932,2,FALSE))","v":0},0,0,0,{"$f":"IF(E59=0,0,ROUND(E59/#REF!,1))","v":0},{"$f":"IF(L$5>=$F59,IF(L$5<=#REF!,$K59,0),0)","v":{"$error":"#REF!"}},{"$f":"IF(M$5>=$F59,IF(M$5<=#REF!,$K59,0),0)","v":{"$error":"#REF!"}},{"$f":"IF(N$5>=$F59,IF(N$5<=#REF!,$K59,0),0)","v":{"$error":"#REF!"}},{"$f":"IF(O$5>=$F59,IF(O$5<=#REF!,$K59,0),0)","v":{"$error":"#REF!"}},{"$f":"IF(P$5>=$F59,IF(P$5<=#REF!,$K59,0),0)","v":{"$error":"#REF!"}},{"$f":"IF(Q$5>=$F59,IF(Q$5<=#REF!,$K59,0),0)","v":{"$error":"#REF!"}},{"$f":"IF(R$5>=$F59,IF(R$5<=#REF!,$K59,0),0)","v":{"$error":"#REF!"}},{"$f":"IF(S$5>=$F59,IF(S$5<=#REF!,$K59,0),0)","v":{"$error":"#REF!"}},{"$f":"IF(T$5>=$F59,IF(T$5<=#REF!,$K59,0),0)","v":{"$error":"#REF!"}},{"$f":"IF(U$5>=$F59,IF(U$5<=#REF!,$K59,0),0)","v":{"$error":"#REF!"}},{"$f":"IF(V$5>=$F59,IF(V$5<=#REF!,$K59,0),0)","v":{"$error":"#REF!"}},{"$f":"IF(W$5>=$F59,IF(W$5<=#REF!,$K59,0),0)","v":{"$error":"#REF!"}},{"$f":"IF(X$5>=$F59,IF(X$5<=#REF!,$K59,0),0)","v":{"$error":"#REF!"}},{"$f":"IF(Y$5>=$F59,IF(Y$5<=#REF!,$K59,0),0)","v":{"$error":"#REF!"}},{"$f":"IF(Z$5>=$F59,IF(Z$5<=#REF!,$K59,0),0)","v":{"$error":"#REF!"}},{"$f":"IF(AA$5>=$F59,IF(AA$5<=#REF!,$K59,0),0)","v":{"$error":"#REF!"}},{"$f":"IF(AB$5>=$F59,IF(AB$5<=#REF!,$K59,0),0)","v":{"$error":"#REF!"}},{"$f":"IF(AC$5>=$F59,IF(AC$5<=#REF!,$K59,0),0)","v":{"$error":"#REF!"}},{"$f":"IF(AD$5>=$F59,IF(AD$5<=#REF!,$K59,0),0)","v":{"$error":"#REF!"}},{"$f":"IF(AE$5>=$F59,IF(AE$5<=#REF!,$K59,0),0)","v":{"$error":"#REF!"}},{"$f":"IF(AF$5>=$F59,IF(AF$5<=#REF!,$K59,0),0)","v":{"$error":"#REF!"}},{"$f":"IF(AG$5>=$F59,IF(AG$5<=#REF!,$K59,0),0)","v":{"$error":"#REF!"}},{"$f":"IF(AH$5>=$F59,IF(AH$5<=#REF!,$K59,0),0)","v":{"$error":"#REF!"}},{"$f":"IF(AI$5>=$F59,IF(AI$5<=#REF!,$K59,0),0)","v":{"$error":"#REF!"}},{"$f":"IF(AJ$5>=$F59,IF(AJ$5<=#REF!,$K59,0),0)","v":{"$error":"#REF!"}},{"$f":"IF(AK$5>=$F59,IF(AK$5<=#REF!,$K59,0),0)","v":{"$error":"#REF!"}},{"$f":"IF(AL$5>=$F59,IF(AL$5<=#REF!,$K59,0),0)","v":{"$error":"#REF!"}},{"$f":"IF(AM$5>=$F59,IF(AM$5<=#REF!,$K59,0),0)","v":{"$error":"#REF!"}},{"$f":"IF(AN$5>=$F59,IF(AN$5<=#REF!,$K59,0),0)","v":{"$error":"#REF!"}},{"$f":"IF(AO$5>=$F59,IF(AO$5<=#REF!,$K59,0),0)","v":{"$error":"#REF!"}},{"$f":"IF(AP$5>=$F59,IF(AP$5<=#REF!,$K59,0),0)","v":{"$error":"#REF!"}},{"$f":"IF(AQ$5>=$F59,IF(AQ$5<=#REF!,$K59,0),0)","v":{"$error":"#REF!"}},{"$f":"IF(AR$5>=$F59,IF(AR$5<=#REF!,$K59,0),0)","v":{"$error":"#REF!"}},{"$f":"IF(AS$5>=$F59,IF(AS$5<=#REF!,$K59,0),0)","v":{"$error":"#REF!"}},{"$f":"IF(AT$5>=$F59,IF(AT$5<=#REF!,$K59,0),0)","v":{"$error":"#REF!"}},{"$f":"IF(AU$5>=$F59,IF(AU$5<=#REF!,$K59,0),0)","v":{"$error":"#REF!"}},{"$f":"IF(AV$5>=$F59,IF(AV$5<=#REF!,$K59,0),0)","v":{"$error":"#REF!"}},{"$f":"IF(AW$5>=$F59,IF(AW$5<=#REF!,$K59,0),0)","v":{"$error":"#REF!"}},{"$f":"IF(AX$5>=$F59,IF(AX$5<=#REF!,$K59,0),0)","v":{"$error":"#REF!"}},{"$f":"IF(AY$5>=$F59,IF(AY$5<=#REF!,$K59,0),0)","v":{"$error":"#REF!"}},{"$f":"IF(AZ$5>=$F59,IF(AZ$5<=#REF!,$K59,0),0)","v":{"$error":"#REF!"}},{"$f":"IF(BA$5>=$F59,IF(BA$5<=#REF!,$K59,0),0)","v":{"$error":"#REF!"}},{"$f":"IF(BB$5>=$F59,IF(BB$5<=#REF!,$K59,0),0)","v":{"$error":"#REF!"}},{"$f":"IF(BC$5>=$F59,IF(BC$5<=#REF!,$K59,0),0)","v":{"$error":"#REF!"}},{"$f":"IF(BD$5>=$F59,IF(BD$5<=#REF!,$K59,0),0)","v":{"$error":"#REF!"}},{"$f":"IF(BE$5>=$F59,IF(BE$5<=#REF!,$K59,0),0)","v":{"$error":"#REF!"}},{"$f":"IF(BF$5>=$F59,IF(BF$5<=#REF!,$K59,0),0)","v":{"$error":"#REF!"}},{"$f":"IF(BG$5>=$F59,IF(BG$5<=#REF!,$K59,0),0)","v":{"$error":"#REF!"}},{"$f":"IF(BH$5>=$F59,IF(BH$5<=#REF!,$K59,0),0)","v":{"$error":"#REF!"}},{"$f":"IF(BI$5>=$F59,IF(BI$5<=#REF!,$K59,0),0)","v":{"$error":"#REF!"}},{"$f":"IF(BJ$5>=$F59,IF(BJ$5<=#REF!,$K59,0),0)","v":{"$error":"#REF!"}},{"$f":"IF(BK$5>=$F59,IF(BK$5<=#REF!,$K59,0),0)","v":{"$error":"#REF!"}},{"$f":"IF(BL$5>=$F59,IF(BL$5<=#REF!,$K59,0),0)","v":{"$error":"#REF!"}},{"$f":"IF(BM$5>=$F59,IF(BM$5<=#REF!,$K59,0),0)","v":{"$error":"#REF!"}},{"$f":"IF(BN$5>=$F59,IF(BN$5<=#REF!,$K59,0),0)","v":{"$error":"#REF!"}},{"$f":"IF(BO$5>=$F59,IF(BO$5<=#REF!,$K59,0),0)","v":{"$error":"#REF!"}},{"$f":"IF(BP$5>=$F59,IF(BP$5<=#REF!,$K59,0),0)","v":{"$error":"#REF!"}},{"$f":"IF(BQ$5>=$F59,IF(BQ$5<=#REF!,$K59,0),0)","v":{"$error":"#REF!"}},{"$f":"IF(BR$5>=$F59,IF(BR$5<=#REF!,$K59,0),0)","v":{"$error":"#REF!"}},{"$f":"IF(BS$5>=$F59,IF(BS$5<=#REF!,$K59,0),0)","v":{"$error":"#REF!"}},{"$f":"IF(BT$5>=$F59,IF(BT$5<=#REF!,$K59,0),0)","v":{"$error":"#REF!"}},{"$f":"IF(BU$5>=$F59,IF(BU$5<=#REF!,$K59,0),0)","v":{"$error":"#REF!"}},{"$f":"IF(BV$5>=$F59,IF(BV$5<=#REF!,$K59,0),0)","v":{"$error":"#REF!"}},{"$f":"IF(BW$5>=$F59,IF(BW$5<=#REF!,$K59,0),0)","v":{"$error":"#REF!"}},{"$f":"IF(BX$5>=$F59,IF(BX$5<=#REF!,$K59,0),0)","v":{"$error":"#REF!"}},{"$f":"IF(BY$5>=$F59,IF(BY$5<=#REF!,$K59,0),0)","v":{"$error":"#REF!"}},{"$f":"IF(BZ$5>=$F59,IF(BZ$5<=#REF!,$K59,0),0)","v":{"$error":"#REF!"}},{"$f":"IF(CA$5>=$F59,IF(CA$5<=#REF!,$K59,0),0)","v":{"$error":"#REF!"}},{"$f":"IF(CB$5>=$F59,IF(CB$5<=#REF!,$K59,0),0)","v":{"$error":"#REF!"}},{"$f":"IF(CC$5>=$F59,IF(CC$5<=#REF!,$K59,0),0)","v":{"$error":"#REF!"}},{"$f":"IF(CD$5>=$F59,IF(CD$5<=#REF!,$K59,0),0)","v":{"$error":"#REF!"}},{"$f":"IF(CE$5>=$F59,IF(CE$5<=#REF!,$K59,0),0)","v":{"$error":"#REF!"}},{"$f":"IF(CF$5>=$F59,IF(CF$5<=#REF!,$K59,0),0)","v":{"$error":"#REF!"}},{"$f":"IF(CG$5>=$F59,IF(CG$5<=#REF!,$K59,0),0)","v":{"$error":"#REF!"}},{"$f":"IF(CH$5>=$F59,IF(CH$5<=#REF!,$K59,0),0)","v":{"$error":"#REF!"}},{"$f":"IF(CI$5>=$F59,IF(CI$5<=#REF!,$K59,0),0)","v":{"$error":"#REF!"}},{"$f":"IF(CJ$5>=$F59,IF(CJ$5<=#REF!,$K59,0),0)","v":{"$error":"#REF!"}},{"$f":"IF(CK$5>=$F59,IF(CK$5<=#REF!,$K59,0),0)","v":{"$error":"#REF!"}},{"$f":"IF(CL$5>=$F59,IF(CL$5<=#REF!,$K59,0),0)","v":{"$error":"#REF!"}},{"$f":"IF(CM$5>=$F59,IF(CM$5<=#REF!,$K59,0),0)","v":{"$error":"#REF!"}},{"$f":"IF(CN$5>=$F59,IF(CN$5<=#REF!,$K59,0),0)","v":{"$error":"#REF!"}},{"$f":"IF(CO$5>=$F59,IF(CO$5<=#REF!,$K59,0),0)","v":{"$error":"#REF!"}},{"$f":"IF(CP$5>=$F59,IF(CP$5<=#REF!,$K59,0),0)","v":{"$error":"#REF!"}},{"$f":"IF(CQ$5>=$F59,IF(CQ$5<=#REF!,$K59,0),0)","v":{"$error":"#REF!"}},{"$f":"IF(CR$5>=$F59,IF(CR$5<=#REF!,$K59,0),0)","v":{"$error":"#REF!"}},{"$f":"IF(CS$5>=$F59,IF(CS$5<=#REF!,$K59,0),0)","v":{"$error":"#REF!"}},{"$f":"IF(CT$5>=$F59,IF(CT$5<=#REF!,$K59,0),0)","v":{"$error":"#REF!"}},{"$f":"IF(CU$5>=$F59,IF(CU$5<=#REF!,$K59,0),0)","v":{"$error":"#REF!"}},{"$f":"IF(CV$5>=$F59,IF(CV$5<=#REF!,$K59,0),0)","v":{"$error":"#REF!"}},{"$f":"IF(CW$5>=$F59,IF(CW$5<=#REF!,$K59,0),0)","v":{"$error":"#REF!"}},{"$f":"IF(CX$5>=$F59,IF(CX$5<=#REF!,$K59,0),0)","v":{"$error":"#REF!"}},{"$f":"IF(CY$5>=$F59,IF(CY$5<=#REF!,$K59,0),0)","v":{"$error":"#REF!"}},{"$f":"IF(CZ$5>=$F59,IF(CZ$5<=#REF!,$K59,0),0)","v":{"$error":"#REF!"}},{"$f":"IF(DA$5>=$F59,IF(DA$5<=#REF!,$K59,0),0)","v":{"$error":"#REF!"}},{"$f":"IF(DB$5>=$F59,IF(DB$5<=#REF!,$K59,0),0)","v":{"$error":"#REF!"}},{"$f":"IF(DC$5>=$F59,IF(DC$5<=#REF!,$K59,0),0)","v":{"$error":"#REF!"}},{"$f":"IF(DD$5>=$F59,IF(DD$5<=#REF!,$K59,0),0)","v":{"$error":"#REF!"}},{"$f":"IF(DE$5>=$F59,IF(DE$5<=#REF!,$K59,0),0)","v":{"$error":"#REF!"}},{"$f":"IF(DF$5>=$F59,IF(DF$5<=#REF!,$K59,0),0)","v":{"$error":"#REF!"}},{"$f":"IF(DG$5>=$F59,IF(DG$5<=#REF!,$K59,0),0)","v":{"$error":"#REF!"}},{"$f":"IF(DH$5>=$F59,IF(DH$5<=#REF!,$K59,0),0)","v":{"$error":"#REF!"}},{"$f":"IF(DI$5>=$F59,IF(DI$5<=#REF!,$K59,0),0)","v":{"$error":"#REF!"}},{"$f":"IF(DJ$5>=$F59,IF(DJ$5<=#REF!,$K59,0),0)","v":{"$error":"#REF!"}},{"$f":"IF(DK$5>=$F59,IF(DK$5<=#REF!,$K59,0),0)","v":{"$error":"#REF!"}},{"$f":"IF(DL$5>=$F59,IF(DL$5<=#REF!,$K59,0),0)","v":{"$error":"#REF!"}},{"$f":"IF(DM$5>=$F59,IF(DM$5<=#REF!,$K59,0),0)","v":{"$error":"#REF!"}},{"$f":"IF(DN$5>=$F59,IF(DN$5<=#REF!,$K59,0),0)","v":{"$error":"#REF!"}},{"$f":"IF(DO$5>=$F59,IF(DO$5<=#REF!,$K59,0),0)","v":{"$error":"#REF!"}},{"$f":"IF(DP$5>=$F59,IF(DP$5<=#REF!,$K59,0),0)","v":{"$error":"#REF!"}},{"$f":"IF(DQ$5>=$F59,IF(DQ$5<=#REF!,$K59,0),0)","v":{"$error":"#REF!"}},{"$f":"IF(DR$5>=$F59,IF(DR$5<=#REF!,$K59,0),0)","v":{"$error":"#REF!"}},{"$error":"#REF!"},"",""]
[null,null,null,null,null,null,{"$f":"IF($D60=\"\",0,VLOOKUP(($DU60&$C60&$D60),単価情報!$B$66:$C$932,2,FALSE))","v":0},0,0,0,{"$f":"IF(E60=0,0,ROUND(E60/#REF!,1))","v":0},{"$f":"IF(L$5>=$F60,IF(L$5<=#REF!,$K60,0),0)","v":{"$error":"#REF!"}},{"$f":"IF(M$5>=$F60,IF(M$5<=#REF!,$K60,0),0)","v":{"$error":"#REF!"}},{"$f":"IF(N$5>=$F60,IF(N$5<=#REF!,$K60,0),0)","v":{"$error":"#REF!"}},{"$f":"IF(O$5>=$F60,IF(O$5<=#REF!,$K60,0),0)","v":{"$error":"#REF!"}},{"$f":"IF(P$5>=$F60,IF(P$5<=#REF!,$K60,0),0)","v":{"$error":"#REF!"}},{"$f":"IF(Q$5>=$F60,IF(Q$5<=#REF!,$K60,0),0)","v":{"$error":"#REF!"}},{"$f":"IF(R$5>=$F60,IF(R$5<=#REF!,$K60,0),0)","v":{"$error":"#REF!"}},{"$f":"IF(S$5>=$F60,IF(S$5<=#REF!,$K60,0),0)","v":{"$error":"#REF!"}},{"$f":"IF(T$5>=$F60,IF(T$5<=#REF!,$K60,0),0)","v":{"$error":"#REF!"}},{"$f":"IF(U$5>=$F60,IF(U$5<=#REF!,$K60,0),0)","v":{"$error":"#REF!"}},{"$f":"IF(V$5>=$F60,IF(V$5<=#REF!,$K60,0),0)","v":{"$error":"#REF!"}},{"$f":"IF(W$5>=$F60,IF(W$5<=#REF!,$K60,0),0)","v":{"$error":"#REF!"}},{"$f":"IF(X$5>=$F60,IF(X$5<=#REF!,$K60,0),0)","v":{"$error":"#REF!"}},{"$f":"IF(Y$5>=$F60,IF(Y$5<=#REF!,$K60,0),0)","v":{"$error":"#REF!"}},{"$f":"IF(Z$5>=$F60,IF(Z$5<=#REF!,$K60,0),0)","v":{"$error":"#REF!"}},{"$f":"IF(AA$5>=$F60,IF(AA$5<=#REF!,$K60,0),0)","v":{"$error":"#REF!"}},{"$f":"IF(AB$5>=$F60,IF(AB$5<=#REF!,$K60,0),0)","v":{"$error":"#REF!"}},{"$f":"IF(AC$5>=$F60,IF(AC$5<=#REF!,$K60,0),0)","v":{"$error":"#REF!"}},{"$f":"IF(AD$5>=$F60,IF(AD$5<=#REF!,$K60,0),0)","v":{"$error":"#REF!"}},{"$f":"IF(AE$5>=$F60,IF(AE$5<=#REF!,$K60,0),0)","v":{"$error":"#REF!"}},{"$f":"IF(AF$5>=$F60,IF(AF$5<=#REF!,$K60,0),0)","v":{"$error":"#REF!"}},{"$f":"IF(AG$5>=$F60,IF(AG$5<=#REF!,$K60,0),0)","v":{"$error":"#REF!"}},{"$f":"IF(AH$5>=$F60,IF(AH$5<=#REF!,$K60,0),0)","v":{"$error":"#REF!"}},{"$f":"IF(AI$5>=$F60,IF(AI$5<=#REF!,$K60,0),0)","v":{"$error":"#REF!"}},{"$f":"IF(AJ$5>=$F60,IF(AJ$5<=#REF!,$K60,0),0)","v":{"$error":"#REF!"}},{"$f":"IF(AK$5>=$F60,IF(AK$5<=#REF!,$K60,0),0)","v":{"$error":"#REF!"}},{"$f":"IF(AL$5>=$F60,IF(AL$5<=#REF!,$K60,0),0)","v":{"$error":"#REF!"}},{"$f":"IF(AM$5>=$F60,IF(AM$5<=#REF!,$K60,0),0)","v":{"$error":"#REF!"}},{"$f":"IF(AN$5>=$F60,IF(AN$5<=#REF!,$K60,0),0)","v":{"$error":"#REF!"}},{"$f":"IF(AO$5>=$F60,IF(AO$5<=#REF!,$K60,0),0)","v":{"$error":"#REF!"}},{"$f":"IF(AP$5>=$F60,IF(AP$5<=#REF!,$K60,0),0)","v":{"$error":"#REF!"}},{"$f":"IF(AQ$5>=$F60,IF(AQ$5<=#REF!,$K60,0),0)","v":{"$error":"#REF!"}},{"$f":"IF(AR$5>=$F60,IF(AR$5<=#REF!,$K60,0),0)","v":{"$error":"#REF!"}},{"$f":"IF(AS$5>=$F60,IF(AS$5<=#REF!,$K60,0),0)","v":{"$error":"#REF!"}},{"$f":"IF(AT$5>=$F60,IF(AT$5<=#REF!,$K60,0),0)","v":{"$error":"#REF!"}},{"$f":"IF(AU$5>=$F60,IF(AU$5<=#REF!,$K60,0),0)","v":{"$error":"#REF!"}},{"$f":"IF(AV$5>=$F60,IF(AV$5<=#REF!,$K60,0),0)","v":{"$error":"#REF!"}},{"$f":"IF(AW$5>=$F60,IF(AW$5<=#REF!,$K60,0),0)","v":{"$error":"#REF!"}},{"$f":"IF(AX$5>=$F60,IF(AX$5<=#REF!,$K60,0),0)","v":{"$error":"#REF!"}},{"$f":"IF(AY$5>=$F60,IF(AY$5<=#REF!,$K60,0),0)","v":{"$error":"#REF!"}},{"$f":"IF(AZ$5>=$F60,IF(AZ$5<=#REF!,$K60,0),0)","v":{"$error":"#REF!"}},{"$f":"IF(BA$5>=$F60,IF(BA$5<=#REF!,$K60,0),0)","v":{"$error":"#REF!"}},{"$f":"IF(BB$5>=$F60,IF(BB$5<=#REF!,$K60,0),0)","v":{"$error":"#REF!"}},{"$f":"IF(BC$5>=$F60,IF(BC$5<=#REF!,$K60,0),0)","v":{"$error":"#REF!"}},{"$f":"IF(BD$5>=$F60,IF(BD$5<=#REF!,$K60,0),0)","v":{"$error":"#REF!"}},{"$f":"IF(BE$5>=$F60,IF(BE$5<=#REF!,$K60,0),0)","v":{"$error":"#REF!"}},{"$f":"IF(BF$5>=$F60,IF(BF$5<=#REF!,$K60,0),0)","v":{"$error":"#REF!"}},{"$f":"IF(BG$5>=$F60,IF(BG$5<=#REF!,$K60,0),0)","v":{"$error":"#REF!"}},{"$f":"IF(BH$5>=$F60,IF(BH$5<=#REF!,$K60,0),0)","v":{"$error":"#REF!"}},{"$f":"IF(BI$5>=$F60,IF(BI$5<=#REF!,$K60,0),0)","v":{"$error":"#REF!"}},{"$f":"IF(BJ$5>=$F60,IF(BJ$5<=#REF!,$K60,0),0)","v":{"$error":"#REF!"}},{"$f":"IF(BK$5>=$F60,IF(BK$5<=#REF!,$K60,0),0)","v":{"$error":"#REF!"}},{"$f":"IF(BL$5>=$F60,IF(BL$5<=#REF!,$K60,0),0)","v":{"$error":"#REF!"}},{"$f":"IF(BM$5>=$F60,IF(BM$5<=#REF!,$K60,0),0)","v":{"$error":"#REF!"}},{"$f":"IF(BN$5>=$F60,IF(BN$5<=#REF!,$K60,0),0)","v":{"$error":"#REF!"}},{"$f":"IF(BO$5>=$F60,IF(BO$5<=#REF!,$K60,0),0)","v":{"$error":"#REF!"}},{"$f":"IF(BP$5>=$F60,IF(BP$5<=#REF!,$K60,0),0)","v":{"$error":"#REF!"}},{"$f":"IF(BQ$5>=$F60,IF(BQ$5<=#REF!,$K60,0),0)","v":{"$error":"#REF!"}},{"$f":"IF(BR$5>=$F60,IF(BR$5<=#REF!,$K60,0),0)","v":{"$error":"#REF!"}},{"$f":"IF(BS$5>=$F60,IF(BS$5<=#REF!,$K60,0),0)","v":{"$error":"#REF!"}},{"$f":"IF(BT$5>=$F60,IF(BT$5<=#REF!,$K60,0),0)","v":{"$error":"#REF!"}},{"$f":"IF(BU$5>=$F60,IF(BU$5<=#REF!,$K60,0),0)","v":{"$error":"#REF!"}},{"$f":"IF(BV$5>=$F60,IF(BV$5<=#REF!,$K60,0),0)","v":{"$error":"#REF!"}},{"$f":"IF(BW$5>=$F60,IF(BW$5<=#REF!,$K60,0),0)","v":{"$error":"#REF!"}},{"$f":"IF(BX$5>=$F60,IF(BX$5<=#REF!,$K60,0),0)","v":{"$error":"#REF!"}},{"$f":"IF(BY$5>=$F60,IF(BY$5<=#REF!,$K60,0),0)","v":{"$error":"#REF!"}},{"$f":"IF(BZ$5>=$F60,IF(BZ$5<=#REF!,$K60,0),0)","v":{"$error":"#REF!"}},{"$f":"IF(CA$5>=$F60,IF(CA$5<=#REF!,$K60,0),0)","v":{"$error":"#REF!"}},{"$f":"IF(CB$5>=$F60,IF(CB$5<=#REF!,$K60,0),0)","v":{"$error":"#REF!"}},{"$f":"IF(CC$5>=$F60,IF(CC$5<=#REF!,$K60,0),0)","v":{"$error":"#REF!"}},{"$f":"IF(CD$5>=$F60,IF(CD$5<=#REF!,$K60,0),0)","v":{"$error":"#REF!"}},{"$f":"IF(CE$5>=$F60,IF(CE$5<=#REF!,$K60,0),0)","v":{"$error":"#REF!"}},{"$f":"IF(CF$5>=$F60,IF(CF$5<=#REF!,$K60,0),0)","v":{"$error":"#REF!"}},{"$f":"IF(CG$5>=$F60,IF(CG$5<=#REF!,$K60,0),0)","v":{"$error":"#REF!"}},{"$f":"IF(CH$5>=$F60,IF(CH$5<=#REF!,$K60,0),0)","v":{"$error":"#REF!"}},{"$f":"IF(CI$5>=$F60,IF(CI$5<=#REF!,$K60,0),0)","v":{"$error":"#REF!"}},{"$f":"IF(CJ$5>=$F60,IF(CJ$5<=#REF!,$K60,0),0)","v":{"$error":"#REF!"}},{"$f":"IF(CK$5>=$F60,IF(CK$5<=#REF!,$K60,0),0)","v":{"$error":"#REF!"}},{"$f":"IF(CL$5>=$F60,IF(CL$5<=#REF!,$K60,0),0)","v":{"$error":"#REF!"}},{"$f":"IF(CM$5>=$F60,IF(CM$5<=#REF!,$K60,0),0)","v":{"$error":"#REF!"}},{"$f":"IF(CN$5>=$F60,IF(CN$5<=#REF!,$K60,0),0)","v":{"$error":"#REF!"}},{"$f":"IF(CO$5>=$F60,IF(CO$5<=#REF!,$K60,0),0)","v":{"$error":"#REF!"}},{"$f":"IF(CP$5>=$F60,IF(CP$5<=#REF!,$K60,0),0)","v":{"$error":"#REF!"}},{"$f":"IF(CQ$5>=$F60,IF(CQ$5<=#REF!,$K60,0),0)","v":{"$error":"#REF!"}},{"$f":"IF(CR$5>=$F60,IF(CR$5<=#REF!,$K60,0),0)","v":{"$error":"#REF!"}},{"$f":"IF(CS$5>=$F60,IF(CS$5<=#REF!,$K60,0),0)","v":{"$error":"#REF!"}},{"$f":"IF(CT$5>=$F60,IF(CT$5<=#REF!,$K60,0),0)","v":{"$error":"#REF!"}},{"$f":"IF(CU$5>=$F60,IF(CU$5<=#REF!,$K60,0),0)","v":{"$error":"#REF!"}},{"$f":"IF(CV$5>=$F60,IF(CV$5<=#REF!,$K60,0),0)","v":{"$error":"#REF!"}},{"$f":"IF(CW$5>=$F60,IF(CW$5<=#REF!,$K60,0),0)","v":{"$error":"#REF!"}},{"$f":"IF(CX$5>=$F60,IF(CX$5<=#REF!,$K60,0),0)","v":{"$error":"#REF!"}},{"$f":"IF(CY$5>=$F60,IF(CY$5<=#REF!,$K60,0),0)","v":{"$error":"#REF!"}},{"$f":"IF(CZ$5>=$F60,IF(CZ$5<=#REF!,$K60,0),0)","v":{"$error":"#REF!"}},{"$f":"IF(DA$5>=$F60,IF(DA$5<=#REF!,$K60,0),0)","v":{"$error":"#REF!"}},{"$f":"IF(DB$5>=$F60,IF(DB$5<=#REF!,$K60,0),0)","v":{"$error":"#REF!"}},{"$f":"IF(DC$5>=$F60,IF(DC$5<=#REF!,$K60,0),0)","v":{"$error":"#REF!"}},{"$f":"IF(DD$5>=$F60,IF(DD$5<=#REF!,$K60,0),0)","v":{"$error":"#REF!"}},{"$f":"IF(DE$5>=$F60,IF(DE$5<=#REF!,$K60,0),0)","v":{"$error":"#REF!"}},{"$f":"IF(DF$5>=$F60,IF(DF$5<=#REF!,$K60,0),0)","v":{"$error":"#REF!"}},{"$f":"IF(DG$5>=$F60,IF(DG$5<=#REF!,$K60,0),0)","v":{"$error":"#REF!"}},{"$f":"IF(DH$5>=$F60,IF(DH$5<=#REF!,$K60,0),0)","v":{"$error":"#REF!"}},{"$f":"IF(DI$5>=$F60,IF(DI$5<=#REF!,$K60,0),0)","v":{"$error":"#REF!"}},{"$f":"IF(DJ$5>=$F60,IF(DJ$5<=#REF!,$K60,0),0)","v":{"$error":"#REF!"}},{"$f":"IF(DK$5>=$F60,IF(DK$5<=#REF!,$K60,0),0)","v":{"$error":"#REF!"}},{"$f":"IF(DL$5>=$F60,IF(DL$5<=#REF!,$K60,0),0)","v":{"$error":"#REF!"}},{"$f":"IF(DM$5>=$F60,IF(DM$5<=#REF!,$K60,0),0)","v":{"$error":"#REF!"}},{"$f":"IF(DN$5>=$F60,IF(DN$5<=#REF!,$K60,0),0)","v":{"$error":"#REF!"}},{"$f":"IF(DO$5>=$F60,IF(DO$5<=#REF!,$K60,0),0)","v":{"$error":"#REF!"}},{"$f":"IF(DP$5>=$F60,IF(DP$5<=#REF!,$K60,0),0)","v":{"$error":"#REF!"}},{"$f":"IF(DQ$5>=$F60,IF(DQ$5<=#REF!,$K60,0),0)","v":{"$error":"#REF!"}},{"$f":"IF(DR$5>=$F60,IF(DR$5<=#REF!,$K60,0),0)","v":{"$error":"#REF!"}},{"$error":"#REF!"},"",""]
[null,null,null,null,null,null,{"$f":"IF($D61=\"\",0,VLOOKUP(($DU61&$C61&$D61),単価情報!$B$66:$C$932,2,FALSE))","v":0},0,0,0,{"$f":"IF(E61=0,0,ROUND(E61/#REF!,1))","v":0},{"$f":"IF(L$5>=$F61,IF(L$5<=#REF!,$K61,0),0)","v":{"$error":"#REF!"}},{"$f":"IF(M$5>=$F61,IF(M$5<=#REF!,$K61,0),0)","v":{"$error":"#REF!"}},{"$f":"IF(N$5>=$F61,IF(N$5<=#REF!,$K61,0),0)","v":{"$error":"#REF!"}},{"$f":"IF(O$5>=$F61,IF(O$5<=#REF!,$K61,0),0)","v":{"$error":"#REF!"}},{"$f":"IF(P$5>=$F61,IF(P$5<=#REF!,$K61,0),0)","v":{"$error":"#REF!"}},{"$f":"IF(Q$5>=$F61,IF(Q$5<=#REF!,$K61,0),0)","v":{"$error":"#REF!"}},{"$f":"IF(R$5>=$F61,IF(R$5<=#REF!,$K61,0),0)","v":{"$error":"#REF!"}},{"$f":"IF(S$5>=$F61,IF(S$5<=#REF!,$K61,0),0)","v":{"$error":"#REF!"}},{"$f":"IF(T$5>=$F61,IF(T$5<=#REF!,$K61,0),0)","v":{"$error":"#REF!"}},{"$f":"IF(U$5>=$F61,IF(U$5<=#REF!,$K61,0),0)","v":{"$error":"#REF!"}},{"$f":"IF(V$5>=$F61,IF(V$5<=#REF!,$K61,0),0)","v":{"$error":"#REF!"}},{"$f":"IF(W$5>=$F61,IF(W$5<=#REF!,$K61,0),0)","v":{"$error":"#REF!"}},{"$f":"IF(X$5>=$F61,IF(X$5<=#REF!,$K61,0),0)","v":{"$error":"#REF!"}},{"$f":"IF(Y$5>=$F61,IF(Y$5<=#REF!,$K61,0),0)","v":{"$error":"#REF!"}},{"$f":"IF(Z$5>=$F61,IF(Z$5<=#REF!,$K61,0),0)","v":{"$error":"#REF!"}},{"$f":"IF(AA$5>=$F61,IF(AA$5<=#REF!,$K61,0),0)","v":{"$error":"#REF!"}},{"$f":"IF(AB$5>=$F61,IF(AB$5<=#REF!,$K61,0),0)","v":{"$error":"#REF!"}},{"$f":"IF(AC$5>=$F61,IF(AC$5<=#REF!,$K61,0),0)","v":{"$error":"#REF!"}},{"$f":"IF(AD$5>=$F61,IF(AD$5<=#REF!,$K61,0),0)","v":{"$error":"#REF!"}},{"$f":"IF(AE$5>=$F61,IF(AE$5<=#REF!,$K61,0),0)","v":{"$error":"#REF!"}},{"$f":"IF(AF$5>=$F61,IF(AF$5<=#REF!,$K61,0),0)","v":{"$error":"#REF!"}},{"$f":"IF(AG$5>=$F61,IF(AG$5<=#REF!,$K61,0),0)","v":{"$error":"#REF!"}},{"$f":"IF(AH$5>=$F61,IF(AH$5<=#REF!,$K61,0),0)","v":{"$error":"#REF!"}},{"$f":"IF(AI$5>=$F61,IF(AI$5<=#REF!,$K61,0),0)","v":{"$error":"#REF!"}},{"$f":"IF(AJ$5>=$F61,IF(AJ$5<=#REF!,$K61,0),0)","v":{"$error":"#REF!"}},{"$f":"IF(AK$5>=$F61,IF(AK$5<=#REF!,$K61,0),0)","v":{"$error":"#REF!"}},{"$f":"IF(AL$5>=$F61,IF(AL$5<=#REF!,$K61,0),0)","v":{"$error":"#REF!"}},{"$f":"IF(AM$5>=$F61,IF(AM$5<=#REF!,$K61,0),0)","v":{"$error":"#REF!"}},{"$f":"IF(AN$5>=$F61,IF(AN$5<=#REF!,$K61,0),0)","v":{"$error":"#REF!"}},{"$f":"IF(AO$5>=$F61,IF(AO$5<=#REF!,$K61,0),0)","v":{"$error":"#REF!"}},{"$f":"IF(AP$5>=$F61,IF(AP$5<=#REF!,$K61,0),0)","v":{"$error":"#REF!"}},{"$f":"IF(AQ$5>=$F61,IF(AQ$5<=#REF!,$K61,0),0)","v":{"$error":"#REF!"}},{"$f":"IF(AR$5>=$F61,IF(AR$5<=#REF!,$K61,0),0)","v":{"$error":"#REF!"}},{"$f":"IF(AS$5>=$F61,IF(AS$5<=#REF!,$K61,0),0)","v":{"$error":"#REF!"}},{"$f":"IF(AT$5>=$F61,IF(AT$5<=#REF!,$K61,0),0)","v":{"$error":"#REF!"}},{"$f":"IF(AU$5>=$F61,IF(AU$5<=#REF!,$K61,0),0)","v":{"$error":"#REF!"}},{"$f":"IF(AV$5>=$F61,IF(AV$5<=#REF!,$K61,0),0)","v":{"$error":"#REF!"}},{"$f":"IF(AW$5>=$F61,IF(AW$5<=#REF!,$K61,0),0)","v":{"$error":"#REF!"}},{"$f":"IF(AX$5>=$F61,IF(AX$5<=#REF!,$K61,0),0)","v":{"$error":"#REF!"}},{"$f":"IF(AY$5>=$F61,IF(AY$5<=#REF!,$K61,0),0)","v":{"$error":"#REF!"}},{"$f":"IF(AZ$5>=$F61,IF(AZ$5<=#REF!,$K61,0),0)","v":{"$error":"#REF!"}},{"$f":"IF(BA$5>=$F61,IF(BA$5<=#REF!,$K61,0),0)","v":{"$error":"#REF!"}},{"$f":"IF(BB$5>=$F61,IF(BB$5<=#REF!,$K61,0),0)","v":{"$error":"#REF!"}},{"$f":"IF(BC$5>=$F61,IF(BC$5<=#REF!,$K61,0),0)","v":{"$error":"#REF!"}},{"$f":"IF(BD$5>=$F61,IF(BD$5<=#REF!,$K61,0),0)","v":{"$error":"#REF!"}},{"$f":"IF(BE$5>=$F61,IF(BE$5<=#REF!,$K61,0),0)","v":{"$error":"#REF!"}},{"$f":"IF(BF$5>=$F61,IF(BF$5<=#REF!,$K61,0),0)","v":{"$error":"#REF!"}},{"$f":"IF(BG$5>=$F61,IF(BG$5<=#REF!,$K61,0),0)","v":{"$error":"#REF!"}},{"$f":"IF(BH$5>=$F61,IF(BH$5<=#REF!,$K61,0),0)","v":{"$error":"#REF!"}},{"$f":"IF(BI$5>=$F61,IF(BI$5<=#REF!,$K61,0),0)","v":{"$error":"#REF!"}},{"$f":"IF(BJ$5>=$F61,IF(BJ$5<=#REF!,$K61,0),0)","v":{"$error":"#REF!"}},{"$f":"IF(BK$5>=$F61,IF(BK$5<=#REF!,$K61,0),0)","v":{"$error":"#REF!"}},{"$f":"IF(BL$5>=$F61,IF(BL$5<=#REF!,$K61,0),0)","v":{"$error":"#REF!"}},{"$f":"IF(BM$5>=$F61,IF(BM$5<=#REF!,$K61,0),0)","v":{"$error":"#REF!"}},{"$f":"IF(BN$5>=$F61,IF(BN$5<=#REF!,$K61,0),0)","v":{"$error":"#REF!"}},{"$f":"IF(BO$5>=$F61,IF(BO$5<=#REF!,$K61,0),0)","v":{"$error":"#REF!"}},{"$f":"IF(BP$5>=$F61,IF(BP$5<=#REF!,$K61,0),0)","v":{"$error":"#REF!"}},{"$f":"IF(BQ$5>=$F61,IF(BQ$5<=#REF!,$K61,0),0)","v":{"$error":"#REF!"}},{"$f":"IF(BR$5>=$F61,IF(BR$5<=#REF!,$K61,0),0)","v":{"$error":"#REF!"}},{"$f":"IF(BS$5>=$F61,IF(BS$5<=#REF!,$K61,0),0)","v":{"$error":"#REF!"}},{"$f":"IF(BT$5>=$F61,IF(BT$5<=#REF!,$K61,0),0)","v":{"$error":"#REF!"}},{"$f":"IF(BU$5>=$F61,IF(BU$5<=#REF!,$K61,0),0)","v":{"$error":"#REF!"}},{"$f":"IF(BV$5>=$F61,IF(BV$5<=#REF!,$K61,0),0)","v":{"$error":"#REF!"}},{"$f":"IF(BW$5>=$F61,IF(BW$5<=#REF!,$K61,0),0)","v":{"$error":"#REF!"}},{"$f":"IF(BX$5>=$F61,IF(BX$5<=#REF!,$K61,0),0)","v":{"$error":"#REF!"}},{"$f":"IF(BY$5>=$F61,IF(BY$5<=#REF!,$K61,0),0)","v":{"$error":"#REF!"}},{"$f":"IF(BZ$5>=$F61,IF(BZ$5<=#REF!,$K61,0),0)","v":{"$error":"#REF!"}},{"$f":"IF(CA$5>=$F61,IF(CA$5<=#REF!,$K61,0),0)","v":{"$error":"#REF!"}},{"$f":"IF(CB$5>=$F61,IF(CB$5<=#REF!,$K61,0),0)","v":{"$error":"#REF!"}},{"$f":"IF(CC$5>=$F61,IF(CC$5<=#REF!,$K61,0),0)","v":{"$error":"#REF!"}},{"$f":"IF(CD$5>=$F61,IF(CD$5<=#REF!,$K61,0),0)","v":{"$error":"#REF!"}},{"$f":"IF(CE$5>=$F61,IF(CE$5<=#REF!,$K61,0),0)","v":{"$error":"#REF!"}},{"$f":"IF(CF$5>=$F61,IF(CF$5<=#REF!,$K61,0),0)","v":{"$error":"#REF!"}},{"$f":"IF(CG$5>=$F61,IF(CG$5<=#REF!,$K61,0),0)","v":{"$error":"#REF!"}},{"$f":"IF(CH$5>=$F61,IF(CH$5<=#REF!,$K61,0),0)","v":{"$error":"#REF!"}},{"$f":"IF(CI$5>=$F61,IF(CI$5<=#REF!,$K61,0),0)","v":{"$error":"#REF!"}},{"$f":"IF(CJ$5>=$F61,IF(CJ$5<=#REF!,$K61,0),0)","v":{"$error":"#REF!"}},{"$f":"IF(CK$5>=$F61,IF(CK$5<=#REF!,$K61,0),0)","v":{"$error":"#REF!"}},{"$f":"IF(CL$5>=$F61,IF(CL$5<=#REF!,$K61,0),0)","v":{"$error":"#REF!"}},{"$f":"IF(CM$5>=$F61,IF(CM$5<=#REF!,$K61,0),0)","v":{"$error":"#REF!"}},{"$f":"IF(CN$5>=$F61,IF(CN$5<=#REF!,$K61,0),0)","v":{"$error":"#REF!"}},{"$f":"IF(CO$5>=$F61,IF(CO$5<=#REF!,$K61,0),0)","v":{"$error":"#REF!"}},{"$f":"IF(CP$5>=$F61,IF(CP$5<=#REF!,$K61,0),0)","v":{"$error":"#REF!"}},{"$f":"IF(CQ$5>=$F61,IF(CQ$5<=#REF!,$K61,0),0)","v":{"$error":"#REF!"}},{"$f":"IF(CR$5>=$F61,IF(CR$5<=#REF!,$K61,0),0)","v":{"$error":"#REF!"}},{"$f":"IF(CS$5>=$F61,IF(CS$5<=#REF!,$K61,0),0)","v":{"$error":"#REF!"}},{"$f":"IF(CT$5>=$F61,IF(CT$5<=#REF!,$K61,0),0)","v":{"$error":"#REF!"}},{"$f":"IF(CU$5>=$F61,IF(CU$5<=#REF!,$K61,0),0)","v":{"$error":"#REF!"}},{"$f":"IF(CV$5>=$F61,IF(CV$5<=#REF!,$K61,0),0)","v":{"$error":"#REF!"}},{"$f":"IF(CW$5>=$F61,IF(CW$5<=#REF!,$K61,0),0)","v":{"$error":"#REF!"}},{"$f":"IF(CX$5>=$F61,IF(CX$5<=#REF!,$K61,0),0)","v":{"$error":"#REF!"}},{"$f":"IF(CY$5>=$F61,IF(CY$5<=#REF!,$K61,0),0)","v":{"$error":"#REF!"}},{"$f":"IF(CZ$5>=$F61,IF(CZ$5<=#REF!,$K61,0),0)","v":{"$error":"#REF!"}},{"$f":"IF(DA$5>=$F61,IF(DA$5<=#REF!,$K61,0),0)","v":{"$error":"#REF!"}},{"$f":"IF(DB$5>=$F61,IF(DB$5<=#REF!,$K61,0),0)","v":{"$error":"#REF!"}},{"$f":"IF(DC$5>=$F61,IF(DC$5<=#REF!,$K61,0),0)","v":{"$error":"#REF!"}},{"$f":"IF(DD$5>=$F61,IF(DD$5<=#REF!,$K61,0),0)","v":{"$error":"#REF!"}},{"$f":"IF(DE$5>=$F61,IF(DE$5<=#REF!,$K61,0),0)","v":{"$error":"#REF!"}},{"$f":"IF(DF$5>=$F61,IF(DF$5<=#REF!,$K61,0),0)","v":{"$error":"#REF!"}},{"$f":"IF(DG$5>=$F61,IF(DG$5<=#REF!,$K61,0),0)","v":{"$error":"#REF!"}},{"$f":"IF(DH$5>=$F61,IF(DH$5<=#REF!,$K61,0),0)","v":{"$error":"#REF!"}},{"$f":"IF(DI$5>=$F61,IF(DI$5<=#REF!,$K61,0),0)","v":{"$error":"#REF!"}},{"$f":"IF(DJ$5>=$F61,IF(DJ$5<=#REF!,$K61,0),0)","v":{"$error":"#REF!"}},{"$f":"IF(DK$5>=$F61,IF(DK$5<=#REF!,$K61,0),0)","v":{"$error":"#REF!"}},{"$f":"IF(DL$5>=$F61,IF(DL$5<=#REF!,$K61,0),0)","v":{"$error":"#REF!"}},{"$f":"IF(DM$5>=$F61,IF(DM$5<=#REF!,$K61,0),0)","v":{"$error":"#REF!"}},{"$f":"IF(DN$5>=$F61,IF(DN$5<=#REF!,$K61,0),0)","v":{"$error":"#REF!"}},{"$f":"IF(DO$5>=$F61,IF(DO$5<=#REF!,$K61,0),0)","v":{"$error":"#REF!"}},{"$f":"IF(DP$5>=$F61,IF(DP$5<=#REF!,$K61,0),0)","v":{"$error":"#REF!"}},{"$f":"IF(DQ$5>=$F61,IF(DQ$5<=#REF!,$K61,0),0)","v":{"$error":"#REF!"}},{"$f":"IF(DR$5>=$F61,IF(DR$5<=#REF!,$K61,0),0)","v":{"$error":"#REF!"}},{"$error":"#REF!"},"",""]
[null,null,null,null,null,null,{"$f":"IF($D62=\"\",0,VLOOKUP(($DU62&$C62&$D62),単価情報!$B$66:$C$932,2,FALSE))","v":0},0,0,0,{"$f":"IF(E62=0,0,ROUND(E62/#REF!,1))","v":0},{"$f":"IF(L$5>=$F62,IF(L$5<=#REF!,$K62,0),0)","v":{"$error":"#REF!"}},{"$f":"IF(M$5>=$F62,IF(M$5<=#REF!,$K62,0),0)","v":{"$error":"#REF!"}},{"$f":"IF(N$5>=$F62,IF(N$5<=#REF!,$K62,0),0)","v":{"$error":"#REF!"}},{"$f":"IF(O$5>=$F62,IF(O$5<=#REF!,$K62,0),0)","v":{"$error":"#REF!"}},{"$f":"IF(P$5>=$F62,IF(P$5<=#REF!,$K62,0),0)","v":{"$error":"#REF!"}},{"$f":"IF(Q$5>=$F62,IF(Q$5<=#REF!,$K62,0),0)","v":{"$error":"#REF!"}},{"$f":"IF(R$5>=$F62,IF(R$5<=#REF!,$K62,0),0)","v":{"$error":"#REF!"}},{"$f":"IF(S$5>=$F62,IF(S$5<=#REF!,$K62,0),0)","v":{"$error":"#REF!"}},{"$f":"IF(T$5>=$F62,IF(T$5<=#REF!,$K62,0),0)","v":{"$error":"#REF!"}},{"$f":"IF(U$5>=$F62,IF(U$5<=#REF!,$K62,0),0)","v":{"$error":"#REF!"}},{"$f":"IF(V$5>=$F62,IF(V$5<=#REF!,$K62,0),0)","v":{"$error":"#REF!"}},{"$f":"IF(W$5>=$F62,IF(W$5<=#REF!,$K62,0),0)","v":{"$error":"#REF!"}},{"$f":"IF(X$5>=$F62,IF(X$5<=#REF!,$K62,0),0)","v":{"$error":"#REF!"}},{"$f":"IF(Y$5>=$F62,IF(Y$5<=#REF!,$K62,0),0)","v":{"$error":"#REF!"}},{"$f":"IF(Z$5>=$F62,IF(Z$5<=#REF!,$K62,0),0)","v":{"$error":"#REF!"}},{"$f":"IF(AA$5>=$F62,IF(AA$5<=#REF!,$K62,0),0)","v":{"$error":"#REF!"}},{"$f":"IF(AB$5>=$F62,IF(AB$5<=#REF!,$K62,0),0)","v":{"$error":"#REF!"}},{"$f":"IF(AC$5>=$F62,IF(AC$5<=#REF!,$K62,0),0)","v":{"$error":"#REF!"}},{"$f":"IF(AD$5>=$F62,IF(AD$5<=#REF!,$K62,0),0)","v":{"$error":"#REF!"}},{"$f":"IF(AE$5>=$F62,IF(AE$5<=#REF!,$K62,0),0)","v":{"$error":"#REF!"}},{"$f":"IF(AF$5>=$F62,IF(AF$5<=#REF!,$K62,0),0)","v":{"$error":"#REF!"}},{"$f":"IF(AG$5>=$F62,IF(AG$5<=#REF!,$K62,0),0)","v":{"$error":"#REF!"}},{"$f":"IF(AH$5>=$F62,IF(AH$5<=#REF!,$K62,0),0)","v":{"$error":"#REF!"}},{"$f":"IF(AI$5>=$F62,IF(AI$5<=#REF!,$K62,0),0)","v":{"$error":"#REF!"}},{"$f":"IF(AJ$5>=$F62,IF(AJ$5<=#REF!,$K62,0),0)","v":{"$error":"#REF!"}},{"$f":"IF(AK$5>=$F62,IF(AK$5<=#REF!,$K62,0),0)","v":{"$error":"#REF!"}},{"$f":"IF(AL$5>=$F62,IF(AL$5<=#REF!,$K62,0),0)","v":{"$error":"#REF!"}},{"$f":"IF(AM$5>=$F62,IF(AM$5<=#REF!,$K62,0),0)","v":{"$error":"#REF!"}},{"$f":"IF(AN$5>=$F62,IF(AN$5<=#REF!,$K62,0),0)","v":{"$error":"#REF!"}},{"$f":"IF(AO$5>=$F62,IF(AO$5<=#REF!,$K62,0),0)","v":{"$error":"#REF!"}},{"$f":"IF(AP$5>=$F62,IF(AP$5<=#REF!,$K62,0),0)","v":{"$error":"#REF!"}},{"$f":"IF(AQ$5>=$F62,IF(AQ$5<=#REF!,$K62,0),0)","v":{"$error":"#REF!"}},{"$f":"IF(AR$5>=$F62,IF(AR$5<=#REF!,$K62,0),0)","v":{"$error":"#REF!"}},{"$f":"IF(AS$5>=$F62,IF(AS$5<=#REF!,$K62,0),0)","v":{"$error":"#REF!"}},{"$f":"IF(AT$5>=$F62,IF(AT$5<=#REF!,$K62,0),0)","v":{"$error":"#REF!"}},{"$f":"IF(AU$5>=$F62,IF(AU$5<=#REF!,$K62,0),0)","v":{"$error":"#REF!"}},{"$f":"IF(AV$5>=$F62,IF(AV$5<=#REF!,$K62,0),0)","v":{"$error":"#REF!"}},{"$f":"IF(AW$5>=$F62,IF(AW$5<=#REF!,$K62,0),0)","v":{"$error":"#REF!"}},{"$f":"IF(AX$5>=$F62,IF(AX$5<=#REF!,$K62,0),0)","v":{"$error":"#REF!"}},{"$f":"IF(AY$5>=$F62,IF(AY$5<=#REF!,$K62,0),0)","v":{"$error":"#REF!"}},{"$f":"IF(AZ$5>=$F62,IF(AZ$5<=#REF!,$K62,0),0)","v":{"$error":"#REF!"}},{"$f":"IF(BA$5>=$F62,IF(BA$5<=#REF!,$K62,0),0)","v":{"$error":"#REF!"}},{"$f":"IF(BB$5>=$F62,IF(BB$5<=#REF!,$K62,0),0)","v":{"$error":"#REF!"}},{"$f":"IF(BC$5>=$F62,IF(BC$5<=#REF!,$K62,0),0)","v":{"$error":"#REF!"}},{"$f":"IF(BD$5>=$F62,IF(BD$5<=#REF!,$K62,0),0)","v":{"$error":"#REF!"}},{"$f":"IF(BE$5>=$F62,IF(BE$5<=#REF!,$K62,0),0)","v":{"$error":"#REF!"}},{"$f":"IF(BF$5>=$F62,IF(BF$5<=#REF!,$K62,0),0)","v":{"$error":"#REF!"}},{"$f":"IF(BG$5>=$F62,IF(BG$5<=#REF!,$K62,0),0)","v":{"$error":"#REF!"}},{"$f":"IF(BH$5>=$F62,IF(BH$5<=#REF!,$K62,0),0)","v":{"$error":"#REF!"}},{"$f":"IF(BI$5>=$F62,IF(BI$5<=#REF!,$K62,0),0)","v":{"$error":"#REF!"}},{"$f":"IF(BJ$5>=$F62,IF(BJ$5<=#REF!,$K62,0),0)","v":{"$error":"#REF!"}},{"$f":"IF(BK$5>=$F62,IF(BK$5<=#REF!,$K62,0),0)","v":{"$error":"#REF!"}},{"$f":"IF(BL$5>=$F62,IF(BL$5<=#REF!,$K62,0),0)","v":{"$error":"#REF!"}},{"$f":"IF(BM$5>=$F62,IF(BM$5<=#REF!,$K62,0),0)","v":{"$error":"#REF!"}},{"$f":"IF(BN$5>=$F62,IF(BN$5<=#REF!,$K62,0),0)","v":{"$error":"#REF!"}},{"$f":"IF(BO$5>=$F62,IF(BO$5<=#REF!,$K62,0),0)","v":{"$error":"#REF!"}},{"$f":"IF(BP$5>=$F62,IF(BP$5<=#REF!,$K62,0),0)","v":{"$error":"#REF!"}},{"$f":"IF(BQ$5>=$F62,IF(BQ$5<=#REF!,$K62,0),0)","v":{"$error":"#REF!"}},{"$f":"IF(BR$5>=$F62,IF(BR$5<=#REF!,$K62,0),0)","v":{"$error":"#REF!"}},{"$f":"IF(BS$5>=$F62,IF(BS$5<=#REF!,$K62,0),0)","v":{"$error":"#REF!"}},{"$f":"IF(BT$5>=$F62,IF(BT$5<=#REF!,$K62,0),0)","v":{"$error":"#REF!"}},{"$f":"IF(BU$5>=$F62,IF(BU$5<=#REF!,$K62,0),0)","v":{"$error":"#REF!"}},{"$f":"IF(BV$5>=$F62,IF(BV$5<=#REF!,$K62,0),0)","v":{"$error":"#REF!"}},{"$f":"IF(BW$5>=$F62,IF(BW$5<=#REF!,$K62,0),0)","v":{"$error":"#REF!"}},{"$f":"IF(BX$5>=$F62,IF(BX$5<=#REF!,$K62,0),0)","v":{"$error":"#REF!"}},{"$f":"IF(BY$5>=$F62,IF(BY$5<=#REF!,$K62,0),0)","v":{"$error":"#REF!"}},{"$f":"IF(BZ$5>=$F62,IF(BZ$5<=#REF!,$K62,0),0)","v":{"$error":"#REF!"}},{"$f":"IF(CA$5>=$F62,IF(CA$5<=#REF!,$K62,0),0)","v":{"$error":"#REF!"}},{"$f":"IF(CB$5>=$F62,IF(CB$5<=#REF!,$K62,0),0)","v":{"$error":"#REF!"}},{"$f":"IF(CC$5>=$F62,IF(CC$5<=#REF!,$K62,0),0)","v":{"$error":"#REF!"}},{"$f":"IF(CD$5>=$F62,IF(CD$5<=#REF!,$K62,0),0)","v":{"$error":"#REF!"}},{"$f":"IF(CE$5>=$F62,IF(CE$5<=#REF!,$K62,0),0)","v":{"$error":"#REF!"}},{"$f":"IF(CF$5>=$F62,IF(CF$5<=#REF!,$K62,0),0)","v":{"$error":"#REF!"}},{"$f":"IF(CG$5>=$F62,IF(CG$5<=#REF!,$K62,0),0)","v":{"$error":"#REF!"}},{"$f":"IF(CH$5>=$F62,IF(CH$5<=#REF!,$K62,0),0)","v":{"$error":"#REF!"}},{"$f":"IF(CI$5>=$F62,IF(CI$5<=#REF!,$K62,0),0)","v":{"$error":"#REF!"}},{"$f":"IF(CJ$5>=$F62,IF(CJ$5<=#REF!,$K62,0),0)","v":{"$error":"#REF!"}},{"$f":"IF(CK$5>=$F62,IF(CK$5<=#REF!,$K62,0),0)","v":{"$error":"#REF!"}},{"$f":"IF(CL$5>=$F62,IF(CL$5<=#REF!,$K62,0),0)","v":{"$error":"#REF!"}},{"$f":"IF(CM$5>=$F62,IF(CM$5<=#REF!,$K62,0),0)","v":{"$error":"#REF!"}},{"$f":"IF(CN$5>=$F62,IF(CN$5<=#REF!,$K62,0),0)","v":{"$error":"#REF!"}},{"$f":"IF(CO$5>=$F62,IF(CO$5<=#REF!,$K62,0),0)","v":{"$error":"#REF!"}},{"$f":"IF(CP$5>=$F62,IF(CP$5<=#REF!,$K62,0),0)","v":{"$error":"#REF!"}},{"$f":"IF(CQ$5>=$F62,IF(CQ$5<=#REF!,$K62,0),0)","v":{"$error":"#REF!"}},{"$f":"IF(CR$5>=$F62,IF(CR$5<=#REF!,$K62,0),0)","v":{"$error":"#REF!"}},{"$f":"IF(CS$5>=$F62,IF(CS$5<=#REF!,$K62,0),0)","v":{"$error":"#REF!"}},{"$f":"IF(CT$5>=$F62,IF(CT$5<=#REF!,$K62,0),0)","v":{"$error":"#REF!"}},{"$f":"IF(CU$5>=$F62,IF(CU$5<=#REF!,$K62,0),0)","v":{"$error":"#REF!"}},{"$f":"IF(CV$5>=$F62,IF(CV$5<=#REF!,$K62,0),0)","v":{"$error":"#REF!"}},{"$f":"IF(CW$5>=$F62,IF(CW$5<=#REF!,$K62,0),0)","v":{"$error":"#REF!"}},{"$f":"IF(CX$5>=$F62,IF(CX$5<=#REF!,$K62,0),0)","v":{"$error":"#REF!"}},{"$f":"IF(CY$5>=$F62,IF(CY$5<=#REF!,$K62,0),0)","v":{"$error":"#REF!"}},{"$f":"IF(CZ$5>=$F62,IF(CZ$5<=#REF!,$K62,0),0)","v":{"$error":"#REF!"}},{"$f":"IF(DA$5>=$F62,IF(DA$5<=#REF!,$K62,0),0)","v":{"$error":"#REF!"}},{"$f":"IF(DB$5>=$F62,IF(DB$5<=#REF!,$K62,0),0)","v":{"$error":"#REF!"}},{"$f":"IF(DC$5>=$F62,IF(DC$5<=#REF!,$K62,0),0)","v":{"$error":"#REF!"}},{"$f":"IF(DD$5>=$F62,IF(DD$5<=#REF!,$K62,0),0)","v":{"$error":"#REF!"}},{"$f":"IF(DE$5>=$F62,IF(DE$5<=#REF!,$K62,0),0)","v":{"$error":"#REF!"}},{"$f":"IF(DF$5>=$F62,IF(DF$5<=#REF!,$K62,0),0)","v":{"$error":"#REF!"}},{"$f":"IF(DG$5>=$F62,IF(DG$5<=#REF!,$K62,0),0)","v":{"$error":"#REF!"}},{"$f":"IF(DH$5>=$F62,IF(DH$5<=#REF!,$K62,0),0)","v":{"$error":"#REF!"}},{"$f":"IF(DI$5>=$F62,IF(DI$5<=#REF!,$K62,0),0)","v":{"$error":"#REF!"}},{"$f":"IF(DJ$5>=$F62,IF(DJ$5<=#REF!,$K62,0),0)","v":{"$error":"#REF!"}},{"$f":"IF(DK$5>=$F62,IF(DK$5<=#REF!,$K62,0),0)","v":{"$error":"#REF!"}},{"$f":"IF(DL$5>=$F62,IF(DL$5<=#REF!,$K62,0),0)","v":{"$error":"#REF!"}},{"$f":"IF(DM$5>=$F62,IF(DM$5<=#REF!,$K62,0),0)","v":{"$error":"#REF!"}},{"$f":"IF(DN$5>=$F62,IF(DN$5<=#REF!,$K62,0),0)","v":{"$error":"#REF!"}},{"$f":"IF(DO$5>=$F62,IF(DO$5<=#REF!,$K62,0),0)","v":{"$error":"#REF!"}},{"$f":"IF(DP$5>=$F62,IF(DP$5<=#REF!,$K62,0),0)","v":{"$error":"#REF!"}},{"$f":"IF(DQ$5>=$F62,IF(DQ$5<=#REF!,$K62,0),0)","v":{"$error":"#REF!"}},{"$f":"IF(DR$5>=$F62,IF(DR$5<=#REF!,$K62,0),0)","v":{"$error":"#REF!"}},{"$error":"#REF!"},"",""]
[null,null,null,null,null,null,{"$f":"IF($D63=\"\",0,VLOOKUP(($DU63&$C63&$D63),単価情報!$B$66:$C$932,2,FALSE))","v":0},0,0,0,{"$f":"IF(E63=0,0,ROUND(E63/#REF!,1))","v":0},{"$f":"IF(L$5>=$F63,IF(L$5<=#REF!,$K63,0),0)","v":{"$error":"#REF!"}},{"$f":"IF(M$5>=$F63,IF(M$5<=#REF!,$K63,0),0)","v":{"$error":"#REF!"}},{"$f":"IF(N$5>=$F63,IF(N$5<=#REF!,$K63,0),0)","v":{"$error":"#REF!"}},{"$f":"IF(O$5>=$F63,IF(O$5<=#REF!,$K63,0),0)","v":{"$error":"#REF!"}},{"$f":"IF(P$5>=$F63,IF(P$5<=#REF!,$K63,0),0)","v":{"$error":"#REF!"}},{"$f":"IF(Q$5>=$F63,IF(Q$5<=#REF!,$K63,0),0)","v":{"$error":"#REF!"}},{"$f":"IF(R$5>=$F63,IF(R$5<=#REF!,$K63,0),0)","v":{"$error":"#REF!"}},{"$f":"IF(S$5>=$F63,IF(S$5<=#REF!,$K63,0),0)","v":{"$error":"#REF!"}},{"$f":"IF(T$5>=$F63,IF(T$5<=#REF!,$K63,0),0)","v":{"$error":"#REF!"}},{"$f":"IF(U$5>=$F63,IF(U$5<=#REF!,$K63,0),0)","v":{"$error":"#REF!"}},{"$f":"IF(V$5>=$F63,IF(V$5<=#REF!,$K63,0),0)","v":{"$error":"#REF!"}},{"$f":"IF(W$5>=$F63,IF(W$5<=#REF!,$K63,0),0)","v":{"$error":"#REF!"}},{"$f":"IF(X$5>=$F63,IF(X$5<=#REF!,$K63,0),0)","v":{"$error":"#REF!"}},{"$f":"IF(Y$5>=$F63,IF(Y$5<=#REF!,$K63,0),0)","v":{"$error":"#REF!"}},{"$f":"IF(Z$5>=$F63,IF(Z$5<=#REF!,$K63,0),0)","v":{"$error":"#REF!"}},{"$f":"IF(AA$5>=$F63,IF(AA$5<=#REF!,$K63,0),0)","v":{"$error":"#REF!"}},{"$f":"IF(AB$5>=$F63,IF(AB$5<=#REF!,$K63,0),0)","v":{"$error":"#REF!"}},{"$f":"IF(AC$5>=$F63,IF(AC$5<=#REF!,$K63,0),0)","v":{"$error":"#REF!"}},{"$f":"IF(AD$5>=$F63,IF(AD$5<=#REF!,$K63,0),0)","v":{"$error":"#REF!"}},{"$f":"IF(AE$5>=$F63,IF(AE$5<=#REF!,$K63,0),0)","v":{"$error":"#REF!"}},{"$f":"IF(AF$5>=$F63,IF(AF$5<=#REF!,$K63,0),0)","v":{"$error":"#REF!"}},{"$f":"IF(AG$5>=$F63,IF(AG$5<=#REF!,$K63,0),0)","v":{"$error":"#REF!"}},{"$f":"IF(AH$5>=$F63,IF(AH$5<=#REF!,$K63,0),0)","v":{"$error":"#REF!"}},{"$f":"IF(AI$5>=$F63,IF(AI$5<=#REF!,$K63,0),0)","v":{"$error":"#REF!"}},{"$f":"IF(AJ$5>=$F63,IF(AJ$5<=#REF!,$K63,0),0)","v":{"$error":"#REF!"}},{"$f":"IF(AK$5>=$F63,IF(AK$5<=#REF!,$K63,0),0)","v":{"$error":"#REF!"}},{"$f":"IF(AL$5>=$F63,IF(AL$5<=#REF!,$K63,0),0)","v":{"$error":"#REF!"}},{"$f":"IF(AM$5>=$F63,IF(AM$5<=#REF!,$K63,0),0)","v":{"$error":"#REF!"}},{"$f":"IF(AN$5>=$F63,IF(AN$5<=#REF!,$K63,0),0)","v":{"$error":"#REF!"}},{"$f":"IF(AO$5>=$F63,IF(AO$5<=#REF!,$K63,0),0)","v":{"$error":"#REF!"}},{"$f":"IF(AP$5>=$F63,IF(AP$5<=#REF!,$K63,0),0)","v":{"$error":"#REF!"}},{"$f":"IF(AQ$5>=$F63,IF(AQ$5<=#REF!,$K63,0),0)","v":{"$error":"#REF!"}},{"$f":"IF(AR$5>=$F63,IF(AR$5<=#REF!,$K63,0),0)","v":{"$error":"#REF!"}},{"$f":"IF(AS$5>=$F63,IF(AS$5<=#REF!,$K63,0),0)","v":{"$error":"#REF!"}},{"$f":"IF(AT$5>=$F63,IF(AT$5<=#REF!,$K63,0),0)","v":{"$error":"#REF!"}},{"$f":"IF(AU$5>=$F63,IF(AU$5<=#REF!,$K63,0),0)","v":{"$error":"#REF!"}},{"$f":"IF(AV$5>=$F63,IF(AV$5<=#REF!,$K63,0),0)","v":{"$error":"#REF!"}},{"$f":"IF(AW$5>=$F63,IF(AW$5<=#REF!,$K63,0),0)","v":{"$error":"#REF!"}},{"$f":"IF(AX$5>=$F63,IF(AX$5<=#REF!,$K63,0),0)","v":{"$error":"#REF!"}},{"$f":"IF(AY$5>=$F63,IF(AY$5<=#REF!,$K63,0),0)","v":{"$error":"#REF!"}},{"$f":"IF(AZ$5>=$F63,IF(AZ$5<=#REF!,$K63,0),0)","v":{"$error":"#REF!"}},{"$f":"IF(BA$5>=$F63,IF(BA$5<=#REF!,$K63,0),0)","v":{"$error":"#REF!"}},{"$f":"IF(BB$5>=$F63,IF(BB$5<=#REF!,$K63,0),0)","v":{"$error":"#REF!"}},{"$f":"IF(BC$5>=$F63,IF(BC$5<=#REF!,$K63,0),0)","v":{"$error":"#REF!"}},{"$f":"IF(BD$5>=$F63,IF(BD$5<=#REF!,$K63,0),0)","v":{"$error":"#REF!"}},{"$f":"IF(BE$5>=$F63,IF(BE$5<=#REF!,$K63,0),0)","v":{"$error":"#REF!"}},{"$f":"IF(BF$5>=$F63,IF(BF$5<=#REF!,$K63,0),0)","v":{"$error":"#REF!"}},{"$f":"IF(BG$5>=$F63,IF(BG$5<=#REF!,$K63,0),0)","v":{"$error":"#REF!"}},{"$f":"IF(BH$5>=$F63,IF(BH$5<=#REF!,$K63,0),0)","v":{"$error":"#REF!"}},{"$f":"IF(BI$5>=$F63,IF(BI$5<=#REF!,$K63,0),0)","v":{"$error":"#REF!"}},{"$f":"IF(BJ$5>=$F63,IF(BJ$5<=#REF!,$K63,0),0)","v":{"$error":"#REF!"}},{"$f":"IF(BK$5>=$F63,IF(BK$5<=#REF!,$K63,0),0)","v":{"$error":"#REF!"}},{"$f":"IF(BL$5>=$F63,IF(BL$5<=#REF!,$K63,0),0)","v":{"$error":"#REF!"}},{"$f":"IF(BM$5>=$F63,IF(BM$5<=#REF!,$K63,0),0)","v":{"$error":"#REF!"}},{"$f":"IF(BN$5>=$F63,IF(BN$5<=#REF!,$K63,0),0)","v":{"$error":"#REF!"}},{"$f":"IF(BO$5>=$F63,IF(BO$5<=#REF!,$K63,0),0)","v":{"$error":"#REF!"}},{"$f":"IF(BP$5>=$F63,IF(BP$5<=#REF!,$K63,0),0)","v":{"$error":"#REF!"}},{"$f":"IF(BQ$5>=$F63,IF(BQ$5<=#REF!,$K63,0),0)","v":{"$error":"#REF!"}},{"$f":"IF(BR$5>=$F63,IF(BR$5<=#REF!,$K63,0),0)","v":{"$error":"#REF!"}},{"$f":"IF(BS$5>=$F63,IF(BS$5<=#REF!,$K63,0),0)","v":{"$error":"#REF!"}},{"$f":"IF(BT$5>=$F63,IF(BT$5<=#REF!,$K63,0),0)","v":{"$error":"#REF!"}},{"$f":"IF(BU$5>=$F63,IF(BU$5<=#REF!,$K63,0),0)","v":{"$error":"#REF!"}},{"$f":"IF(BV$5>=$F63,IF(BV$5<=#REF!,$K63,0),0)","v":{"$error":"#REF!"}},{"$f":"IF(BW$5>=$F63,IF(BW$5<=#REF!,$K63,0),0)","v":{"$error":"#REF!"}},{"$f":"IF(BX$5>=$F63,IF(BX$5<=#REF!,$K63,0),0)","v":{"$error":"#REF!"}},{"$f":"IF(BY$5>=$F63,IF(BY$5<=#REF!,$K63,0),0)","v":{"$error":"#REF!"}},{"$f":"IF(BZ$5>=$F63,IF(BZ$5<=#REF!,$K63,0),0)","v":{"$error":"#REF!"}},{"$f":"IF(CA$5>=$F63,IF(CA$5<=#REF!,$K63,0),0)","v":{"$error":"#REF!"}},{"$f":"IF(CB$5>=$F63,IF(CB$5<=#REF!,$K63,0),0)","v":{"$error":"#REF!"}},{"$f":"IF(CC$5>=$F63,IF(CC$5<=#REF!,$K63,0),0)","v":{"$error":"#REF!"}},{"$f":"IF(CD$5>=$F63,IF(CD$5<=#REF!,$K63,0),0)","v":{"$error":"#REF!"}},{"$f":"IF(CE$5>=$F63,IF(CE$5<=#REF!,$K63,0),0)","v":{"$error":"#REF!"}},{"$f":"IF(CF$5>=$F63,IF(CF$5<=#REF!,$K63,0),0)","v":{"$error":"#REF!"}},{"$f":"IF(CG$5>=$F63,IF(CG$5<=#REF!,$K63,0),0)","v":{"$error":"#REF!"}},{"$f":"IF(CH$5>=$F63,IF(CH$5<=#REF!,$K63,0),0)","v":{"$error":"#REF!"}},{"$f":"IF(CI$5>=$F63,IF(CI$5<=#REF!,$K63,0),0)","v":{"$error":"#REF!"}},{"$f":"IF(CJ$5>=$F63,IF(CJ$5<=#REF!,$K63,0),0)","v":{"$error":"#REF!"}},{"$f":"IF(CK$5>=$F63,IF(CK$5<=#REF!,$K63,0),0)","v":{"$error":"#REF!"}},{"$f":"IF(CL$5>=$F63,IF(CL$5<=#REF!,$K63,0),0)","v":{"$error":"#REF!"}},{"$f":"IF(CM$5>=$F63,IF(CM$5<=#REF!,$K63,0),0)","v":{"$error":"#REF!"}},{"$f":"IF(CN$5>=$F63,IF(CN$5<=#REF!,$K63,0),0)","v":{"$error":"#REF!"}},{"$f":"IF(CO$5>=$F63,IF(CO$5<=#REF!,$K63,0),0)","v":{"$error":"#REF!"}},{"$f":"IF(CP$5>=$F63,IF(CP$5<=#REF!,$K63,0),0)","v":{"$error":"#REF!"}},{"$f":"IF(CQ$5>=$F63,IF(CQ$5<=#REF!,$K63,0),0)","v":{"$error":"#REF!"}},{"$f":"IF(CR$5>=$F63,IF(CR$5<=#REF!,$K63,0),0)","v":{"$error":"#REF!"}},{"$f":"IF(CS$5>=$F63,IF(CS$5<=#REF!,$K63,0),0)","v":{"$error":"#REF!"}},{"$f":"IF(CT$5>=$F63,IF(CT$5<=#REF!,$K63,0),0)","v":{"$error":"#REF!"}},{"$f":"IF(CU$5>=$F63,IF(CU$5<=#REF!,$K63,0),0)","v":{"$error":"#REF!"}},{"$f":"IF(CV$5>=$F63,IF(CV$5<=#REF!,$K63,0),0)","v":{"$error":"#REF!"}},{"$f":"IF(CW$5>=$F63,IF(CW$5<=#REF!,$K63,0),0)","v":{"$error":"#REF!"}},{"$f":"IF(CX$5>=$F63,IF(CX$5<=#REF!,$K63,0),0)","v":{"$error":"#REF!"}},{"$f":"IF(CY$5>=$F63,IF(CY$5<=#REF!,$K63,0),0)","v":{"$error":"#REF!"}},{"$f":"IF(CZ$5>=$F63,IF(CZ$5<=#REF!,$K63,0),0)","v":{"$error":"#REF!"}},{"$f":"IF(DA$5>=$F63,IF(DA$5<=#REF!,$K63,0),0)","v":{"$error":"#REF!"}},{"$f":"IF(DB$5>=$F63,IF(DB$5<=#REF!,$K63,0),0)","v":{"$error":"#REF!"}},{"$f":"IF(DC$5>=$F63,IF(DC$5<=#REF!,$K63,0),0)","v":{"$error":"#REF!"}},{"$f":"IF(DD$5>=$F63,IF(DD$5<=#REF!,$K63,0),0)","v":{"$error":"#REF!"}},{"$f":"IF(DE$5>=$F63,IF(DE$5<=#REF!,$K63,0),0)","v":{"$error":"#REF!"}},{"$f":"IF(DF$5>=$F63,IF(DF$5<=#REF!,$K63,0),0)","v":{"$error":"#REF!"}},{"$f":"IF(DG$5>=$F63,IF(DG$5<=#REF!,$K63,0),0)","v":{"$error":"#REF!"}},{"$f":"IF(DH$5>=$F63,IF(DH$5<=#REF!,$K63,0),0)","v":{"$error":"#REF!"}},{"$f":"IF(DI$5>=$F63,IF(DI$5<=#REF!,$K63,0),0)","v":{"$error":"#REF!"}},{"$f":"IF(DJ$5>=$F63,IF(DJ$5<=#REF!,$K63,0),0)","v":{"$error":"#REF!"}},{"$f":"IF(DK$5>=$F63,IF(DK$5<=#REF!,$K63,0),0)","v":{"$error":"#REF!"}},{"$f":"IF(DL$5>=$F63,IF(DL$5<=#REF!,$K63,0),0)","v":{"$error":"#REF!"}},{"$f":"IF(DM$5>=$F63,IF(DM$5<=#REF!,$K63,0),0)","v":{"$error":"#REF!"}},{"$f":"IF(DN$5>=$F63,IF(DN$5<=#REF!,$K63,0),0)","v":{"$error":"#REF!"}},{"$f":"IF(DO$5>=$F63,IF(DO$5<=#REF!,$K63,0),0)","v":{"$error":"#REF!"}},{"$f":"IF(DP$5>=$F63,IF(DP$5<=#REF!,$K63,0),0)","v":{"$error":"#REF!"}},{"$f":"IF(DQ$5>=$F63,IF(DQ$5<=#REF!,$K63,0),0)","v":{"$error":"#REF!"}},{"$f":"IF(DR$5>=$F63,IF(DR$5<=#REF!,$K63,0),0)","v":{"$error":"#REF!"}},{"$error":"#REF!"},"",""]
[null,null,null,null,null,null,{"$f":"IF($D64=\"\",0,VLOOKUP(($DU64&$C64&$D64),単価情報!$B$66:$C$932,2,FALSE))","v":0},0,{"$f":"E64*G64","v":0},{"$f":"E64*H64","v":0},null,null,null,null,null,null,null,null,null,null,null,null,null,null,null,null,null,null,null,null,null,null,null,null,null,null,null,null,null,null,null,null,null,null,null,null,null,null,null,null,null,null,null,null,null,null,null,null,null,null,null,null,null,null,null,null,null,null,null,null,null,null,null,null,null,null,null,null,null,null,null,null,null,null,null,null,null,null,null,null,null,null,null,null,null,null,null,null,null,null,null,null,null,null,null,null,null,null,null,null,null,null,null,null,null,null,null,null,null,null,null,null,null,"",""]
[null,null,null,null,null,null,{"$f":"IF($D65=\"\",0,VLOOKUP(($DU65&$C65&$D65),単価情報!$B$66:$C$932,2,FALSE))","v":0},{"$f":"G65","v":0},{"$f":"E65*G65","v":0},{"$f":"E65*H65","v":0},null,null,null,null,null,null,null,null,null,null,null,null,null,null,null,null,null,null,null,null,null,null,null,null,null,null,null,null,null,null,null,null,null,null,null,null,null,null,null,null,null,null,null,null,null,null,null,null,null,null,null,null,null,null,null,null,null,null,null,null,null,null,null,null,null,null,null,null,null,null,null,null,null,null,null,null,null,null,null,null,null,null,null,null,null,null,null,null,null,null,null,null,null,null,null,null,null,null,null,null,null,null,null,null,null,null,null,null,null,null,null,null,null,"",""]
[null,null,null,null,null,null,{"$f":"IF($D66=\"\",0,VLOOKUP(($DU66&$C66&$D66),単価情報!$B$66:$C$932,2,FALSE))","v":0},0,0,0,null,null,null,null,null,null,null,null,null,null,null,null,null,null,null,null,null,null,null,null,null,null,null,null,null,null,null,null,null,null,null,null,null,null,null,null,null,null,null,null,null,null,null,null,null,null,null,null,null,null,null,null,null,null,null,null,null,null,null,null,null,null,null,null,null,null,null,null,null,null,null,null,null,null,null,null,null,null,null,null,null,null,null,null,null,null,null,null,null,null,null,null,null,null,null,null,null,null,null,null,null,null,null,null,null,null,null,null,null,null,null,null,null,"",""]
[null,null,null,null,null,null,{"$f":"IF($D67=\"\",0,VLOOKUP(($DU67&$C67&$D67),単価情報!$B$66:$C$932,2,FALSE))","v":0},0,0,0,null,null,null,null,null,null,null,null,null,null,null,null,null,null,null,null,null,null,null,null,null,null,null,null,null,null,null,null,null,null,null,null,null,null,null,null,null,null,null,null,null,null,null,null,null,null,null,null,null,null,null,null,null,null,null,null,null,null,null,null,null,null,null,null,null,null,null,null,null,null,null,null,null,null,null,null,null,null,null,null,null,null,null,null,null,null,null,null,null,null,null,null,null,null,null,null,null,null,null,null,null,null,null,null,null,null,null,null,null,null,null,null,null,"",""]
[null,null,null,null,null,null,{"$f":"IF($D68=\"\",0,VLOOKUP(($DU68&$C68&$D68),単価情報!$B$66:$C$932,2,FALSE))","v":0},0,0,0,null,null,null,null,null,null,null,null,null,null,null,null,null,null,null,null,null,null,null,null,null,null,null,null,null,null,null,null,null,null,null,null,null,null,null,null,null,null,null,null,null,null,null,null,null,null,null,null,null,null,null,null,null,null,null,null,null,null,null,null,null,null,null,null,null,null,null,null,null,null,null,null,null,null,null,null,null,null,null,null,null,null,null,null,null,null,null,null,null,null,null,null,null,null,null,null,null,null,null,null,null,null,null,null,null,null,null,null,null,null,null,null,null,"",""]
[null,null,null,null,null,null,{"$f":"IF($D69=\"\",0,VLOOKUP(($DU69&$C69&$D69),単価情報!$B$66:$C$932,2,FALSE))","v":0},0,0,0,null,null,null,null,null,null,null,null,null,null,null,null,null,null,null,null,null,null,null,null,null,null,null,null,null,null,null,null,null,null,null,null,null,null,null,null,null,null,null,null,null,null,null,null,null,null,null,null,null,null,null,null,null,null,null,null,null,null,null,null,null,null,null,null,null,null,null,null,null,null,null,null,null,null,null,null,null,null,null,null,null,null,null,null,null,null,null,null,null,null,null,null,null,null,null,null,null,null,null,null,null,null,null,null,null,null,null,null,null,null,null,null,null,"",""]
[null,null,null,null,null,null,{"$f":"IF($D70=\"\",0,VLOOKUP(($DU70&$C70&$D70),単価情報!$B$66:$C$932,2,FALSE))","v":0},0,0,0,null,null,null,null,null,null,null,null,null,null,null,null,null,null,null,null,null,null,null,null,null,null,null,null,null,null,null,null,null,null,null,null,null,null,null,null,null,null,null,null,null,null,null,null,null,null,null,null,null,null,null,null,null,null,null,null,null,null,null,null,null,null,null,null,null,null,null,null,null,null,null,null,null,null,null,null,null,null,null,null,null,null,null,null,null,null,null,null,null,null,null,null,null,null,null,null,null,null,null,null,null,null,null,null,null,null,null,null,null,null,null,null,null,"",""]
[null,null,null,null,null,null,{"$f":"IF($D71=\"\",0,VLOOKUP(($DU71&$C71&$D71),単価情報!$B$66:$C$932,2,FALSE))","v":0},0,0,0,null,null,null,null,null,null,null,null,null,null,null,null,null,null,null,null,null,null,null,null,null,null,null,null,null,null,null,null,null,null,null,null,null,null,null,null,null,null,null,null,null,null,null,null,null,null,null,null,null,null,null,null,null,null,null,null,null,null,null,null,null,null,null,null,null,null,null,null,null,null,null,null,null,null,null,null,null,null,null,null,null,null,null,null,null,null,null,null,null,null,null,null,null,null,null,null,null,null,null,null,null,null,null,null,null,null,null,null,null,null,null,null,null,"",""]
[null,null,null,null,null,null,{"$f":"IF($D72=\"\",0,VLOOKUP(($DU72&$C72&$D72),単価情報!$B$66:$C$932,2,FALSE))","v":0},0,0,0,null,null,null,null,null,null,null,null,null,null,null,null,null,null,null,null,null,null,null,null,null,null,null,null,null,null,null,null,null,null,null,null,null,null,null,null,null,null,null,null,null,null,null,null,null,null,null,null,null,null,null,null,null,null,null,null,null,null,null,null,null,null,null,null,null,null,null,null,null,null,null,null,null,null,null,null,null,null,null,null,null,null,null,null,null,null,null,null,null,null,null,null,null,null,null,null,null,null,null,null,null,null,null,null,null,null,null,null,null,null,null,null,null,"",""]
[null,null,null,null,null,null,{"$f":"IF($D73=\"\",0,VLOOKUP(($DU73&$C73&$D73),単価情報!$B$66:$C$932,2,FALSE))","v":0},0,0,0,null,null,null,null,null,null,null,null,null,null,null,null,null,null,null,null,null,null,null,null,null,null,null,null,null,null,null,null,null,null,null,null,null,null,null,null,null,null,null,null,null,null,null,null,null,null,null,null,null,null,null,null,null,null,null,null,null,null,null,null,null,null,null,null,null,null,null,null,null,null,null,null,null,null,null,null,null,null,null,null,null,null,null,null,null,null,null,null,null,null,null,null,null,null,null,null,null,null,null,null,null,null,null,null,null,null,null,null,null,null,null,null,null,"",""]
[null,null,null,null,null,null,{"$f":"IF($D74=\"\",0,VLOOKUP(($DU74&$C74&$D74),単価情報!$B$66:$C$932,2,FALSE))","v":0},0,0,0,null,null,null,null,null,null,null,null,null,null,null,null,null,null,null,null,null,null,null,null,null,null,null,null,null,null,null,null,null,null,null,null,null,null,null,null,null,null,null,null,null,null,null,null,null,null,null,null,null,null,null,null,null,null,null,null,null,null,null,null,null,null,null,null,null,null,null,null,null,null,null,null,null,null,null,null,null,null,null,null,null,null,null,null,null,null,null,null,null,null,null,null,null,null,null,null,null,null,null,null,null,null,null,null,null,null,null,null,null,null,null,null,null,"",""]
[null,null,null,null,null,null,{"$f":"IF($D75=\"\",0,VLOOKUP(($DU75&$C75&$D75),単価情報!$B$66:$C$932,2,FALSE))","v":0},0,0,0,null,null,null,null,null,null,null,null,null,null,null,null,null,null,null,null,null,null,null,null,null,null,null,null,null,null,null,null,null,null,null,null,null,null,null,null,null,null,null,null,null,null,null,null,null,null,null,null,null,null,null,null,null,null,null,null,null,null,null,null,null,null,null,null,null,null,null,null,null,null,null,null,null,null,null,null,null,null,null,null,null,null,null,null,null,null,null,null,null,null,null,null,null,null,null,null,null,null,null,null,null,null,null,null,null,null,null,null,null,null,null,null,null,"",""]
[null,null,null,null,null,null,{"$f":"IF($D76=\"\",0,VLOOKUP(($DU76&$C76&$D76),単価情報!$B$66:$C$932,2,FALSE))","v":0},0,0,0,null,null,null,null,null,null,null,null,null,null,null,null,null,null,null,null,null,null,null,null,null,null,null,null,null,null,null,null,null,null,null,null,null,null,null,null,null,null,null,null,null,null,null,null,null,null,null,null,null,null,null,null,null,null,null,null,null,null,null,null,null,null,null,null,null,null,null,null,null,null,null,null,null,null,null,null,null,null,null,null,null,null,null,null,null,null,null,null,null,null,null,null,null,null,null,null,null,null,null,null,null,null,null,null,null,null,null,null,null,null,null,null,null,"",""]
[null,null,null,null,null,null,{"$f":"IF($D77=\"\",0,VLOOKUP(($DU77&$C77&$D77),単価情報!$B$66:$C$932,2,FALSE))","v":0},0,0,0,null,null,null,null,null,null,null,null,null,null,null,null,null,null,null,null,null,null,null,null,null,null,null,null,null,null,null,null,null,null,null,null,null,null,null,null,null,null,null,null,null,null,null,null,null,null,null,null,null,null,null,null,null,null,null,null,null,null,null,null,null,null,null,null,null,null,null,null,null,null,null,null,null,null,null,null,null,null,null,null,null,null,null,null,null,null,null,null,null,null,null,null,null,null,null,null,null,null,null,null,null,null,null,null,null,null,null,null,null,null,null,null,null,"",""]
[null,null,null,null,null,null,{"$f":"IF($D78=\"\",0,VLOOKUP(($DU78&$C78&$D78),単価情報!$B$66:$C$932,2,FALSE))","v":0},0,0,0,null,null,null,null,null,null,null,null,null,null,null,null,null,null,null,null,null,null,null,null,null,null,null,null,null,null,null,null,null,null,null,null,null,null,null,null,null,null,null,null,null,null,null,null,null,null,null,null,null,null,null,null,null,null,null,null,null,null,null,null,null,null,null,null,null,null,null,null,null,null,null,null,null,null,null,null,null,null,null,null,null,null,null,null,null,null,null,null,null,null,null,null,null,null,null,null,null,null,null,null,null,null,null,null,null,null,null,null,null,null,null,null,null,"",""]
[null,null,null,null,null,null,{"$f":"IF($D79=\"\",0,VLOOKUP(($DU79&$C79&$D79),単価情報!$B$66:$C$932,2,FALSE))","v":0},0,0,0,null,null,null,null,null,null,null,null,null,null,null,null,null,null,null,null,null,null,null,null,null,null,null,null,null,null,null,null,null,null,null,null,null,null,null,null,null,null,null,null,null,null,null,null,null,null,null,null,null,null,null,null,null,null,null,null,null,null,null,null,null,null,null,null,null,null,null,null,null,null,null,null,null,null,null,null,null,null,null,null,null,null,null,null,null,null,null,null,null,null,null,null,null,null,null,null,null,null,null,null,null,null,null,null,null,null,null,null,null,null,null,null,null,"",""]
[null,null,null,null,null,null,{"$f":"IF($D80=\"\",0,VLOOKUP(($DU80&$C80&$D80),単価情報!$B$66:$C$932,2,FALSE))","v":0},0,0,0,null,null,null,null,null,null,null,null,null,null,null,null,null,null,null,null,null,null,null,null,null,null,null,null,null,null,null,null,null,null,null,null,null,null,null,null,null,null,null,null,null,null,null,null,null,null,null,null,null,null,null,null,null,null,null,null,null,null,null,null,null,null,null,null,null,null,null,null,null,null,null,null,null,null,null,null,null,null,null,null,null,null,null,null,null,null,null,null,null,null,null,null,null,null,null,null,null,null,null,null,null,null,null,null,null,null,null,null,null,null,null,null,null,"",""]
[null,null,null,null,null,null,{"$f":"IF($D81=\"\",0,VLOOKUP(($DU81&$C81&$D81),単価情報!$B$66:$C$932,2,FALSE))","v":0},0,0,0,null,null,null,null,null,null,null,null,null,null,null,null,null,null,null,null,null,null,null,null,null,null,null,null,null,null,null,null,null,null,null,null,null,null,null,null,null,null,null,null,null,null,null,null,null,null,null,null,null,null,null,null,null,null,null,null,null,null,null,null,null,null,null,null,null,null,null,null,null,null,null,null,null,null,null,null,null,null,null,null,null,null,null,null,null,null,null,null,null,null,null,null,null,null,null,null,null,null,null,null,null,null,null,null,null,null,null,null,null,null,null,null,null,"",""]
[null,null,null,null,null,null,{"$f":"IF($D82=\"\",0,VLOOKUP(($DU82&$C82&$D82),単価情報!$B$66:$C$932,2,FALSE))","v":0},0,0,0,null,null,null,null,null,null,null,null,null,null,null,null,null,null,null,null,null,null,null,null,null,null,null,null,null,null,null,null,null,null,null,null,null,null,null,null,null,null,null,null,null,null,null,null,null,null,null,null,null,null,null,null,null,null,null,null,null,null,null,null,null,null,null,null,null,null,null,null,null,null,null,null,null,null,null,null,null,null,null,null,null,null,null,null,null,null,null,null,null,null,null,null,null,null,null,null,null,null,null,null,null,null,null,null,null,null,null,null,null,null,null,null,null,"",""]
[null,null,null,null,null,null,{"$f":"IF($D83=\"\",0,VLOOKUP(($DU83&$C83&$D83),単価情報!$B$66:$C$932,2,FALSE))","v":0},0,0,0,null,null,null,null,null,null,null,null,null,null,null,null,null,null,null,null,null,null,null,null,null,null,null,null,null,null,null,null,null,null,null,null,null,null,null,null,null,null,null,null,null,null,null,null,null,null,null,null,null,null,null,null,null,null,null,null,null,null,null,null,null,null,null,null,null,null,null,null,null,null,null,null,null,null,null,null,null,null,null,null,null,null,null,null,null,null,null,null,null,null,null,null,null,null,null,null,null,null,null,null,null,null,null,null,null,null,null,null,null,null,null,null,null,"",""]
[null,null,null,null,null,null,{"$f":"IF($D84=\"\",0,VLOOKUP(($DU84&$C84&$D84),単価情報!$B$66:$C$932,2,FALSE))","v":0},0,0,0,null,null,null,null,null,null,null,null,null,null,null,null,null,null,null,null,null,null,null,null,null,null,null,null,null,null,null,null,null,null,null,null,null,null,null,null,null,null,null,null,null,null,null,null,null,null,null,null,null,null,null,null,null,null,null,null,null,null,null,null,null,null,null,null,null,null,null,null,null,null,null,null,null,null,null,null,null,null,null,null,null,null,null,null,null,null,null,null,null,null,null,null,null,null,null,null,null,null,null,null,null,null,null,null,null,null,null,null,null,null,null,null,null,"",""]
[null,null,null,null,null,null,{"$f":"IF($D85=\"\",0,VLOOKUP(($DU85&$C85&$D85),単価情報!$B$66:$C$932,2,FALSE))","v":0},0,0,0,null,null,null,null,null,null,null,null,null,null,null,null,null,null,null,null,null,null,null,null,null,null,null,null,null,null,null,null,null,null,null,null,null,null,null,null,null,null,null,null,null,null,null,null,null,null,null,null,null,null,null,null,null,null,null,null,null,null,null,null,null,null,null,null,null,null,null,null,null,null,null,null,null,null,null,null,null,null,null,null,null,null,null,null,null,null,null,null,null,null,null,null,null,null,null,null,null,null,null,null,null,null,null,null,null,null,null,null,null,null,null,null,null,"",""]
[null,null,null,null,null,null,{"$f":"IF($D86=\"\",0,VLOOKUP(($DU86&$C86&$D86),単価情報!$B$66:$C$932,2,FALSE))","v":0},0,0,0,null,null,null,null,null,null,null,null,null,null,null,null,null,null,null,null,null,null,null,null,null,null,null,null,null,null,null,null,null,null,null,null,null,null,null,null,null,null,null,null,null,null,null,null,null,null,null,null,null,null,null,null,null,null,null,null,null,null,null,null,null,null,null,null,null,null,null,null,null,null,null,null,null,null,null,null,null,null,null,null,null,null,null,null,null,null,null,null,null,null,null,null,null,null,null,null,null,null,null,null,null,null,null,null,null,null,null,null,null,null,null,null,null,"",""]
[null,null,null,null,null,null,{"$f":"IF($D87=\"\",0,VLOOKUP(($DU87&$C87&$D87),単価情報!$B$66:$C$932,2,FALSE))","v":0},0,0,0,null,null,null,null,null,null,null,null,null,null,null,null,null,null,null,null,null,null,null,null,null,null,null,null,null,null,null,null,null,null,null,null,null,null,null,null,null,null,null,null,null,null,null,null,null,null,null,null,null,null,null,null,null,null,null,null,null,null,null,null,null,null,null,null,null,null,null,null,null,null,null,null,null,null,null,null,null,null,null,null,null,null,null,null,null,null,null,null,null,null,null,null,null,null,null,null,null,null,null,null,null,null,null,null,null,null,null,null,null,null,null,null,null,"",""]
[null,null,null,null,null,null,{"$f":"IF($D88=\"\",0,VLOOKUP(($DU88&$C88&$D88),単価情報!$B$66:$C$932,2,FALSE))","v":0},0,0,0,null,null,null,null,null,null,null,null,null,null,null,null,null,null,null,null,null,null,null,null,null,null,null,null,null,null,null,null,null,null,null,null,null,null,null,null,null,null,null,null,null,null,null,null,null,null,null,null,null,null,null,null,null,null,null,null,null,null,null,null,null,null,null,null,null,null,null,null,null,null,null,null,null,null,null,null,null,null,null,null,null,null,null,null,null,null,null,null,null,null,null,null,null,null,null,null,null,null,null,null,null,null,null,null,null,null,null,null,null,null,null,null,null,"",""]
[null,null,null,null,null,null,{"$f":"IF($D89=\"\",0,VLOOKUP(($DU89&$C89&$D89),単価情報!$B$66:$C$932,2,FALSE))","v":0},0,0,0,null,null,null,null,null,null,null,null,null,null,null,null,null,null,null,null,null,null,null,null,null,null,null,null,null,null,null,null,null,null,null,null,null,null,null,null,null,null,null,null,null,null,null,null,null,null,null,null,null,null,null,null,null,null,null,null,null,null,null,null,null,null,null,null,null,null,null,null,null,null,null,null,null,null,null,null,null,null,null,null,null,null,null,null,null,null,null,null,null,null,null,null,null,null,null,null,null,null,null,null,null,null,null,null,null,null,null,null,null,null,null,null,null,"",""]
[null,null,null,null,null,null,{"$f":"IF($D90=\"\",0,VLOOKUP(($DU90&$C90&$D90),単価情報!$B$66:$C$932,2,FALSE))","v":0},0,0,0,null,null,null,null,null,null,null,null,null,null,null,null,null,null,null,null,null,null,null,null,null,null,null,null,null,null,null,null,null,null,null,null,null,null,null,null,null,null,null,null,null,null,null,null,null,null,null,null,null,null,null,null,null,null,null,null,null,null,null,null,null,null,null,null,null,null,null,null,null,null,null,null,null,null,null,null,null,null,null,null,null,null,null,null,null,null,null,null,null,null,null,null,null,null,null,null,null,null,null,null,null,null,null,null,null,null,null,null,null,null,null,null,null,"",""]
[null,null,null,null,null,null,{"$f":"IF($D91=\"\",0,VLOOKUP(($DU91&$C91&$D91),単価情報!$B$66:$C$932,2,FALSE))","v":0},0,0,0,null,null,null,null,null,null,null,null,null,null,null,null,null,null,null,null,null,null,null,null,null,null,null,null,null,null,null,null,null,null,null,null,null,null,null,null,null,null,null,null,null,null,null,null,null,null,null,null,null,null,null,null,null,null,null,null,null,null,null,null,null,null,null,null,null,null,null,null,null,null,null,null,null,null,null,null,null,null,null,null,null,null,null,null,null,null,null,null,null,null,null,null,null,null,null,null,null,null,null,null,null,null,null,null,null,null,null,null,null,null,null,null,null,"",""]
[null,null,null,null,null,null,{"$f":"IF($D92=\"\",0,VLOOKUP(($DU92&$C92&$D92),単価情報!$B$66:$C$932,2,FALSE))","v":0},0,0,0,null,null,null,null,null,null,null,null,null,null,null,null,null,null,null,null,null,null,null,null,null,null,null,null,null,null,null,null,null,null,null,null,null,null,null,null,null,null,null,null,null,null,null,null,null,null,null,null,null,null,null,null,null,null,null,null,null,null,null,null,null,null,null,null,null,null,null,null,null,null,null,null,null,null,null,null,null,null,null,null,null,null,null,null,null,null,null,null,null,null,null,null,null,null,null,null,null,null,null,null,null,null,null,null,null,null,null,null,null,null,null,null,null,"",""]
[null,null,null,null,null,null,{"$f":"IF($D93=\"\",0,VLOOKUP(($DU93&$C93&$D93),単価情報!$B$66:$C$932,2,FALSE))","v":0},0,0,0,null,null,null,null,null,null,null,null,null,null,null,null,null,null,null,null,null,null,null,null,null,null,null,null,null,null,null,null,null,null,null,null,null,null,null,null,null,null,null,null,null,null,null,null,null,null,null,null,null,null,null,null,null,null,null,null,null,null,null,null,null,null,null,null,null,null,null,null,null,null,null,null,null,null,null,null,null,null,null,null,null,null,null,null,null,null,null,null,null,null,null,null,null,null,null,null,null,null,null,null,null,null,null,null,null,null,null,null,null,null,null,null,null,"",""]
[null,null,null,null,null,null,{"$f":"IF($D94=\"\",0,VLOOKUP(($DU94&$C94&$D94),単価情報!$B$66:$C$932,2,FALSE))","v":0},0,0,0,null,null,null,null,null,null,null,null,null,null,null,null,null,null,null,null,null,null,null,null,null,null,null,null,null,null,null,null,null,null,null,null,null,null,null,null,null,null,null,null,null,null,null,null,null,null,null,null,null,null,null,null,null,null,null,null,null,null,null,null,null,null,null,null,null,null,null,null,null,null,null,null,null,null,null,null,null,null,null,null,null,null,null,null,null,null,null,null,null,null,null,null,null,null,null,null,null,null,null,null,null,null,null,null,null,null,null,null,null,null,null,null,null,"",""]
[null,null,null,null,null,null,{"$f":"IF($D95=\"\",0,VLOOKUP(($DU95&$C95&$D95),単価情報!$B$66:$C$932,2,FALSE))","v":0},0,0,0,null,null,null,null,null,null,null,null,null,null,null,null,null,null,null,null,null,null,null,null,null,null,null,null,null,null,null,null,null,null,null,null,null,null,null,null,null,null,null,null,null,null,null,null,null,null,null,null,null,null,null,null,null,null,null,null,null,null,null,null,null,null,null,null,null,null,null,null,null,null,null,null,null,null,null,null,null,null,null,null,null,null,null,null,null,null,null,null,null,null,null,null,null,null,null,null,null,null,null,null,null,null,null,null,null,null,null,null,null,null,null,null,null,"",""]
[null,null,null,null,null,null,{"$f":"IF($D96=\"\",0,VLOOKUP(($DU96&$C96&$D96),単価情報!$B$66:$C$932,2,FALSE))","v":0},0,0,0,null,null,null,null,null,null,null,null,null,null,null,null,null,null,null,null,null,null,null,null,null,null,null,null,null,null,null,null,null,null,null,null,null,null,null,null,null,null,null,null,null,null,null,null,null,null,null,null,null,null,null,null,null,null,null,null,null,null,null,null,null,null,null,null,null,null,null,null,null,null,null,null,null,null,null,null,null,null,null,null,null,null,null,null,null,null,null,null,null,null,null,null,null,null,null,null,null,null,null,null,null,null,null,null,null,null,null,null,null,null,null,null,null,"",""]
[null,null,null,null,null,null,{"$f":"IF($D97=\"\",0,VLOOKUP(($DU97&$C97&$D97),単価情報!$B$66:$C$932,2,FALSE))","v":0},0,0,0,null,null,null,null,null,null,null,null,null,null,null,null,null,null,null,null,null,null,null,null,null,null,null,null,null,null,null,null,null,null,null,null,null,null,null,null,null,null,null,null,null,null,null,null,null,null,null,null,null,null,null,null,null,null,null,null,null,null,null,null,null,null,null,null,null,null,null,null,null,null,null,null,null,null,null,null,null,null,null,null,null,null,null,null,null,null,null,null,null,null,null,null,null,null,null,null,null,null,null,null,null,null,null,null,null,null,null,null,null,null,null,null,null,"",""]
[null,null,null,null,null,null,{"$f":"IF($D98=\"\",0,VLOOKUP(($DU98&$C98&$D98),単価情報!$B$66:$C$932,2,FALSE))","v":0},0,0,0,null,null,null,null,null,null,null,null,null,null,null,null,null,null,null,null,null,null,null,null,null,null,null,null,null,null,null,null,null,null,null,null,null,null,null,null,null,null,null,null,null,null,null,null,null,null,null,null,null,null,null,null,null,null,null,null,null,null,null,null,null,null,null,null,null,null,null,null,null,null,null,null,null,null,null,null,null,null,null,null,null,null,null,null,null,null,null,null,null,null,null,null,null,null,null,null,null,null,null,null,null,null,null,null,null,null,null,null,null,null,null,null,null,"",""]
[null,null,null,null,null,null,{"$f":"IF($D99=\"\",0,VLOOKUP(($DU99&$C99&$D99),単価情報!$B$66:$C$932,2,FALSE))","v":0},0,0,0,null,null,null,null,null,null,null,null,null,null,null,null,null,null,null,null,null,null,null,null,null,null,null,null,null,null,null,null,null,null,null,null,null,null,null,null,null,null,null,null,null,null,null,null,null,null,null,null,null,null,null,null,null,null,null,null,null,null,null,null,null,null,null,null,null,null,null,null,null,null,null,null,null,null,null,null,null,null,null,null,null,null,null,null,null,null,null,null,null,null,null,null,null,null,null,null,null,null,null,null,null,null,null,null,null,null,null,null,null,null,null,null,null,"",""]
[null,null,null,null,null,null,{"$f":"IF($D100=\"\",0,VLOOKUP(($DU100&$C100&$D100),単価情報!$B$66:$C$932,2,FALSE))","v":0},0,0,0,null,null,null,null,null,null,null,null,null,null,null,null,null,null,null,null,null,null,null,null,null,null,null,null,null,null,null,null,null,null,null,null,null,null,null,null,null,null,null,null,null,null,null,null,null,null,null,null,null,null,null,null,null,null,null,null,null,null,null,null,null,null,null,null,null,null,null,null,null,null,null,null,null,null,null,null,null,null,null,null,null,null,null,null,null,null,null,null,null,null,null,null,null,null,null,null,null,null,null,null,null,null,null,null,null,null,null,null,null,null,null,null,null,"",""]
[null,null,null,null,null,null,{"$f":"IF($D101=\"\",0,VLOOKUP(($DU101&$C101&$D101),単価情報!$B$66:$C$932,2,FALSE))","v":0},0,0,0,null,null,null,null,null,null,null,null,null,null,null,null,null,null,null,null,null,null,null,null,null,null,null,null,null,null,null,null,null,null,null,null,null,null,null,null,null,null,null,null,null,null,null,null,null,null,null,null,null,null,null,null,null,null,null,null,null,null,null,null,null,null,null,null,null,null,null,null,null,null,null,null,null,null,null,null,null,null,null,null,null,null,null,null,null,null,null,null,null,null,null,null,null,null,null,null,null,null,null,null,null,null,null,null,null,null,null,null,null,null,null,null,null,"",""]
[null,null,null,null,null,null,{"$f":"IF($D102=\"\",0,VLOOKUP(($DU102&$C102&$D102),単価情報!$B$66:$C$932,2,FALSE))","v":0},0,0,0,null,null,null,null,null,null,null,null,null,null,null,null,null,null,null,null,null,null,null,null,null,null,null,null,null,null,null,null,null,null,null,null,null,null,null,null,null,null,null,null,null,null,null,null,null,null,null,null,null,null,null,null,null,null,null,null,null,null,null,null,null,null,null,null,null,null,null,null,null,null,null,null,null,null,null,null,null,null,null,null,null,null,null,null,null,null,null,null,null,null,null,null,null,null,null,null,null,null,null,null,null,null,null,null,null,null,null,null,null,null,null,null,null,"",""]
[null,null,null,null,null,null,{"$f":"IF($D103=\"\",0,VLOOKUP(($DU103&$C103&$D103),単価情報!$B$66:$C$932,2,FALSE))","v":0},0,0,0,null,null,null,null,null,null,null,null,null,null,null,null,null,null,null,null,null,null,null,null,null,null,null,null,null,null,null,null,null,null,null,null,null,null,null,null,null,null,null,null,null,null,null,null,null,null,null,null,null,null,null,null,null,null,null,null,null,null,null,null,null,null,null,null,null,null,null,null,null,null,null,null,null,null,null,null,null,null,null,null,null,null,null,null,null,null,null,null,null,null,null,null,null,null,null,null,null,null,null,null,null,null,null,null,null,null,null,null,null,null,null,null,null,"",""]
[null,null,null,null,null,null,{"$f":"IF($D104=\"\",0,VLOOKUP(($DU104&$C104&$D104),単価情報!$B$66:$C$932,2,FALSE))","v":0},0,0,0,null,null,null,null,null,null,null,null,null,null,null,null,null,null,null,null,null,null,null,null,null,null,null,null,null,null,null,null,null,null,null,null,null,null,null,null,null,null,null,null,null,null,null,null,null,null,null,null,null,null,null,null,null,null,null,null,null,null,null,null,null,null,null,null,null,null,null,null,null,null,null,null,null,null,null,null,null,null,null,null,null,null,null,null,null,null,null,null,null,null,null,null,null,null,null,null,null,null,null,null,null,null,null,null,null,null,null,null,null,null,null,null,null,"",""]
[null,null,null,null,null,null,{"$f":"IF($D105=\"\",0,VLOOKUP(($DU105&$C105&$D105),単価情報!$B$66:$C$932,2,FALSE))","v":0},0,0,0,null,null,null,null,null,null,null,null,null,null,null,null,null,null,null,null,null,null,null,null,null,null,null,null,null,null,null,null,null,null,null,null,null,null,null,null,null,null,null,null,null,null,null,null,null,null,null,null,null,null,null,null,null,null,null,null,null,null,null,null,null,null,null,null,null,null,null,null,null,null,null,null,null,null,null,null,null,null,null,null,null,null,null,null,null,null,null,null,null,null,null,null,null,null,null,null,null,null,null,null,null,null,null,null,null,null,null,null,null,null,null,null,null,"",""]
[null,null,null,null,null,null,{"$f":"IF($D106=\"\",0,VLOOKUP(($DU106&$C106&$D106),単価情報!$B$66:$C$932,2,FALSE))","v":0},0,0,0,null,null,null,null,null,null,null,null,null,null,null,null,null,null,null,null,null,null,null,null,null,null,null,null,null,null,null,null,null,null,null,null,null,null,null,null,null,null,null,null,null,null,null,null,null,null,null,null,null,null,null,null,null,null,null,null,null,null,null,null,null,null,null,null,null,null,null,null,null,null,null,null,null,null,null,null,null,null,null,null,null,null,null,null,null,null,null,null,null,null,null,null,null,null,null,null,null,null,null,null,null,null,null,null,null,null,null,null,null,null,null,null,null,"",""]
[null,null,null,null,null,null,{"$f":"IF($D107=\"\",0,VLOOKUP(($DU107&$C107&$D107),単価情報!$B$66:$C$932,2,FALSE))","v":0},0,0,0,null,null,null,null,null,null,null,null,null,null,null,null,null,null,null,null,null,null,null,null,null,null,null,null,null,null,null,null,null,null,null,null,null,null,null,null,null,null,null,null,null,null,null,null,null,null,null,null,null,null,null,null,null,null,null,null,null,null,null,null,null,null,null,null,null,null,null,null,null,null,null,null,null,null,null,null,null,null,null,null,null,null,null,null,null,null,null,null,null,null,null,null,null,null,null,null,null,null,null,null,null,null,null,null,null,null,null,null,null,null,null,null,null,"",""]
[null,null,null,null,null,null,{"$f":"IF($D108=\"\",0,VLOOKUP(($DU108&$C108&$D108),単価情報!$B$66:$C$932,2,FALSE))","v":0},0,0,0,null,null,null,null,null,null,null,null,null,null,null,null,null,null,null,null,null,null,null,null,null,null,null,null,null,null,null,null,null,null,null,null,null,null,null,null,null,null,null,null,null,null,null,null,null,null,null,null,null,null,null,null,null,null,null,null,null,null,null,null,null,null,null,null,null,null,null,null,null,null,null,null,null,null,null,null,null,null,null,null,null,null,null,null,null,null,null,null,null,null,null,null,null,null,null,null,null,null,null,null,null,null,null,null,null,null,null,null,null,null,null,null,null,"",""]
[null,null,null,null,null,null,{"$f":"IF($D109=\"\",0,VLOOKUP(($DU109&$C109&$D109),単価情報!$B$66:$C$932,2,FALSE))","v":0},0,0,0,null,null,null,null,null,null,null,null,null,null,null,null,null,null,null,null,null,null,null,null,null,null,null,null,null,null,null,null,null,null,null,null,null,null,null,null,null,null,null,null,null,null,null,null,null,null,null,null,null,null,null,null,null,null,null,null,null,null,null,null,null,null,null,null,null,null,null,null,null,null,null,null,null,null,null,null,null,null,null,null,null,null,null,null,null,null,null,null,null,null,null,null,null,null,null,null,null,null,null,null,null,null,null,null,null,null,null,null,null,null,null,null,null,"",""]
[null,null,null,null,null,null,{"$f":"IF($D110=\"\",0,VLOOKUP(($DU110&$C110&$D110),単価情報!$B$66:$C$932,2,FALSE))","v":0},0,0,0,null,null,null,null,null,null,null,null,null,null,null,null,null,null,null,null,null,null,null,null,null,null,null,null,null,null,null,null,null,null,null,null,null,null,null,null,null,null,null,null,null,null,null,null,null,null,null,null,null,null,null,null,null,null,null,null,null,null,null,null,null,null,null,null,null,null,null,null,null,null,null,null,null,null,null,null,null,null,null,null,null,null,null,null,null,null,null,null,null,null,null,null,null,null,null,null,null,null,null,null,null,null,null,null,null,null,null,null,null,null,null,null,null,"",""]
[null,null,null,null,null,null,{"$f":"IF($D111=\"\",0,VLOOKUP(($DU111&$C111&$D111),単価情報!$B$66:$C$932,2,FALSE))","v":0},0,0,0,null,null,null,null,null,null,null,null,null,null,null,null,null,null,null,null,null,null,null,null,null,null,null,null,null,null,null,null,null,null,null,null,null,null,null,null,null,null,null,null,null,null,null,null,null,null,null,null,null,null,null,null,null,null,null,null,null,null,null,null,null,null,null,null,null,null,null,null,null,null,null,null,null,null,null,null,null,null,null,null,null,null,null,null,null,null,null,null,null,null,null,null,null,null,null,null,null,null,null,null,null,null,null,null,null,null,null,null,null,null,null,null,null,"",""]
[null,null,null,null,null,null,{"$f":"IF($D112=\"\",0,VLOOKUP(($DU112&$C112&$D112),単価情報!$B$66:$C$932,2,FALSE))","v":0},0,0,0,null,null,null,null,null,null,null,null,null,null,null,null,null,null,null,null,null,null,null,null,null,null,null,null,null,null,null,null,null,null,null,null,null,null,null,null,null,null,null,null,null,null,null,null,null,null,null,null,null,null,null,null,null,null,null,null,null,null,null,null,null,null,null,null,null,null,null,null,null,null,null,null,null,null,null,null,null,null,null,null,null,null,null,null,null,null,null,null,null,null,null,null,null,null,null,null,null,null,null,null,null,null,null,null,null,null,null,null,null,null,null,null,null,"",""]
[null,null,null,null,null,null,{"$f":"IF($D113=\"\",0,VLOOKUP(($DU113&$C113&$D113),単価情報!$B$66:$C$932,2,FALSE))","v":0},0,0,0,null,null,null,null,null,null,null,null,null,null,null,null,null,null,null,null,null,null,null,null,null,null,null,null,null,null,null,null,null,null,null,null,null,null,null,null,null,null,null,null,null,null,null,null,null,null,null,null,null,null,null,null,null,null,null,null,null,null,null,null,null,null,null,null,null,null,null,null,null,null,null,null,null,null,null,null,null,null,null,null,null,null,null,null,null,null,null,null,null,null,null,null,null,null,null,null,null,null,null,null,null,null,null,null,null,null,null,null,null,null,null,null,null,"",""]
[null,null,null,null,null,null,{"$f":"IF($D114=\"\",0,VLOOKUP(($DU114&$C114&$D114),単価情報!$B$66:$C$932,2,FALSE))","v":0},0,0,0,null,null,null,null,null,null,null,null,null,null,null,null,null,null,null,null,null,null,null,null,null,null,null,null,null,null,null,null,null,null,null,null,null,null,null,null,null,null,null,null,null,null,null,null,null,null,null,null,null,null,null,null,null,null,null,null,null,null,null,null,null,null,null,null,null,null,null,null,null,null,null,null,null,null,null,null,null,null,null,null,null,null,null,null,null,null,null,null,null,null,null,null,null,null,null,null,null,null,null,null,null,null,null,null,null,null,null,null,null,null,null,null,null,"",""]
[null,null,null,null,null,null,{"$f":"IF($D115=\"\",0,VLOOKUP(($DU115&$C115&$D115),単価情報!$B$66:$C$932,2,FALSE))","v":0},0,0,0,null,null,null,null,null,null,null,null,null,null,null,null,null,null,null,null,null,null,null,null,null,null,null,null,null,null,null,null,null,null,null,null,null,null,null,null,null,null,null,null,null,null,null,null,null,null,null,null,null,null,null,null,null,null,null,null,null,null,null,null,null,null,null,null,null,null,null,null,null,null,null,null,null,null,null,null,null,null,null,null,null,null,null,null,null,null,null,null,null,null,null,null,null,null,null,null,null,null,null,null,null,null,null,null,null,null,null,null,null,null,null,null,null,"",""]
[null,null,null,null,null,null,{"$f":"IF($D116=\"\",0,VLOOKUP(($DU116&$C116&$D116),単価情報!$B$66:$C$932,2,FALSE))","v":0},0,0,0,null,null,null,null,null,null,null,null,null,null,null,null,null,null,null,null,null,null,null,null,null,null,null,null,null,null,null,null,null,null,null,null,null,null,null,null,null,null,null,null,null,null,null,null,null,null,null,null,null,null,null,null,null,null,null,null,null,null,null,null,null,null,null,null,null,null,null,null,null,null,null,null,null,null,null,null,null,null,null,null,null,null,null,null,null,null,null,null,null,null,null,null,null,null,null,null,null,null,null,null,null,null,null,null,null,null,null,null,null,null,null,null,null,"",""]
[null,null,null,null,null,null,{"$f":"IF($D117=\"\",0,VLOOKUP(($DU117&$C117&$D117),単価情報!$B$66:$C$932,2,FALSE))","v":0},0,0,0,null,null,null,null,null,null,null,null,null,null,null,null,null,null,null,null,null,null,null,null,null,null,null,null,null,null,null,null,null,null,null,null,null,null,null,null,null,null,null,null,null,null,null,null,null,null,null,null,null,null,null,null,null,null,null,null,null,null,null,null,null,null,null,null,null,null,null,null,null,null,null,null,null,null,null,null,null,null,null,null,null,null,null,null,null,null,null,null,null,null,null,null,null,null,null,null,null,null,null,null,null,null,null,null,null,null,null,null,null,null,null,null,null,"",""]
[null,null,null,null,null,null,{"$f":"IF($D118=\"\",0,VLOOKUP(($DU118&$C118&$D118),単価情報!$B$66:$C$932,2,FALSE))","v":0},0,0,0,null,null,null,null,null,null,null,null,null,null,null,null,null,null,null,null,null,null,null,null,null,null,null,null,null,null,null,null,null,null,null,null,null,null,null,null,null,null,null,null,null,null,null,null,null,null,null,null,null,null,null,null,null,null,null,null,null,null,null,null,null,null,null,null,null,null,null,null,null,null,null,null,null,null,null,null,null,null,null,null,null,null,null,null,null,null,null,null,null,null,null,null,null,null,null,null,null,null,null,null,null,null,null,null,null,null,null,null,null,null,null,null,null,"",""]
[null,null,null,null,null,null,{"$f":"IF($D119=\"\",0,VLOOKUP(($DU119&$C119&$D119),単価情報!$B$66:$C$932,2,FALSE))","v":0},0,0,0,null,null,null,null,null,null,null,null,null,null,null,null,null,null,null,null,null,null,null,null,null,null,null,null,null,null,null,null,null,null,null,null,null,null,null,null,null,null,null,null,null,null,null,null,null,null,null,null,null,null,null,null,null,null,null,null,null,null,null,null,null,null,null,null,null,null,null,null,null,null,null,null,null,null,null,null,null,null,null,null,null,null,null,null,null,null,null,null,null,null,null,null,null,null,null,null,null,null,null,null,null,null,null,null,null,null,null,null,null,null,null,null,null,"",""]
[null,null,null,null,null,null,{"$f":"IF($D120=\"\",0,VLOOKUP(($DU120&$C120&$D120),単価情報!$B$66:$C$932,2,FALSE))","v":0},0,0,0,null,null,null,null,null,null,null,null,null,null,null,null,null,null,null,null,null,null,null,null,null,null,null,null,null,null,null,null,null,null,null,null,null,null,null,null,null,null,null,null,null,null,null,null,null,null,null,null,null,null,null,null,null,null,null,null,null,null,null,null,null,null,null,null,null,null,null,null,null,null,null,null,null,null,null,null,null,null,null,null,null,null,null,null,null,null,null,null,null,null,null,null,null,null,null,null,null,null,null,null,null,null,null,null,null,null,null,null,null,null,null,null,null,"",""]
[null,null,null,null,null,null,{"$f":"IF($D121=\"\",0,VLOOKUP(($DU121&$C121&$D121),単価情報!$B$66:$C$932,2,FALSE))","v":0},0,0,0,null,null,null,null,null,null,null,null,null,null,null,null,null,null,null,null,null,null,null,null,null,null,null,null,null,null,null,null,null,null,null,null,null,null,null,null,null,null,null,null,null,null,null,null,null,null,null,null,null,null,null,null,null,null,null,null,null,null,null,null,null,null,null,null,null,null,null,null,null,null,null,null,null,null,null,null,null,null,null,null,null,null,null,null,null,null,null,null,null,null,null,null,null,null,null,null,null,null,null,null,null,null,null,null,null,null,null,null,null,null,null,null,null,"",""]
[null,null,null,null,null,null,{"$f":"IF($D122=\"\",0,VLOOKUP(($DU122&$C122&$D122),単価情報!$B$66:$C$932,2,FALSE))","v":0},0,0,0,null,null,null,null,null,null,null,null,null,null,null,null,null,null,null,null,null,null,null,null,null,null,null,null,null,null,null,null,null,null,null,null,null,null,null,null,null,null,null,null,null,null,null,null,null,null,null,null,null,null,null,null,null,null,null,null,null,null,null,null,null,null,null,null,null,null,null,null,null,null,null,null,null,null,null,null,null,null,null,null,null,null,null,null,null,null,null,null,null,null,null,null,null,null,null,null,null,null,null,null,null,null,null,null,null,null,null,null,null,null,null,null,null,"",""]
[null,null,null,null,null,null,{"$f":"IF($D123=\"\",0,VLOOKUP(($DU123&$C123&$D123),単価情報!$B$66:$C$932,2,FALSE))","v":0},0,0,0,null,null,null,null,null,null,null,null,null,null,null,null,null,null,null,null,null,null,null,null,null,null,null,null,null,null,null,null,null,null,null,null,null,null,null,null,null,null,null,null,null,null,null,null,null,null,null,null,null,null,null,null,null,null,null,null,null,null,null,null,null,null,null,null,null,null,null,null,null,null,null,null,null,null,null,null,null,null,null,null,null,null,null,null,null,null,null,null,null,null,null,null,null,null,null,null,null,null,null,null,null,null,null,null,null,null,null,null,null,null,null,null,null,"",""]
[null,null,null,null,null,null,{"$f":"IF($D124=\"\",0,VLOOKUP(($DU124&$C124&$D124),単価情報!$B$66:$C$932,2,FALSE))","v":0},0,0,0,null,null,null,null,null,null,null,null,null,null,null,null,null,null,null,null,null,null,null,null,null,null,null,null,null,null,null,null,null,null,null,null,null,null,null,null,null,null,null,null,null,null,null,null,null,null,null,null,null,null,null,null,null,null,null,null,null,null,null,null,null,null,null,null,null,null,null,null,null,null,null,null,null,null,null,null,null,null,null,null,null,null,null,null,null,null,null,null,null,null,null,null,null,null,null,null,null,null,null,null,null,null,null,null,null,null,null,null,null,null,null,null,null,"",""]
[null,null,null,null,null,null,{"$f":"IF($D125=\"\",0,VLOOKUP(($DU125&$C125&$D125),単価情報!$B$66:$C$932,2,FALSE))","v":0},0,0,0,null,null,null,null,null,null,null,null,null,null,null,null,null,null,null,null,null,null,null,null,null,null,null,null,null,null,null,null,null,null,null,null,null,null,null,null,null,null,null,null,null,null,null,null,null,null,null,null,null,null,null,null,null,null,null,null,null,null,null,null,null,null,null,null,null,null,null,null,null,null,null,null,null,null,null,null,null,null,null,null,null,null,null,null,null,null,null,null,null,null,null,null,null,null,null,null,null,null,null,null,null,null,null,null,null,null,null,null,null,null,null,null,null,"",""]
[null,null,null,null,null,null,{"$f":"IF($D126=\"\",0,VLOOKUP(($DU126&$C126&$D126),単価情報!$B$66:$C$932,2,FALSE))","v":0},0,0,0,null,null,null,null,null,null,null,null,null,null,null,null,null,null,null,null,null,null,null,null,null,null,null,null,null,null,null,null,null,null,null,null,null,null,null,null,null,null,null,null,null,null,null,null,null,null,null,null,null,null,null,null,null,null,null,null,null,null,null,null,null,null,null,null,null,null,null,null,null,null,null,null,null,null,null,null,null,null,null,null,null,null,null,null,null,null,null,null,null,null,null,null,null,null,null,null,null,null,null,null,null,null,null,null,null,null,null,null,null,null,null,null,null,"",""]
[null,null,null,null,null,null,{"$f":"IF($D127=\"\",0,VLOOKUP(($DU127&$C127&$D127),単価情報!$B$66:$C$932,2,FALSE))","v":0},0,0,0,null,null,null,null,null,null,null,null,null,null,null,null,null,null,null,null,null,null,null,null,null,null,null,null,null,null,null,null,null,null,null,null,null,null,null,null,null,null,null,null,null,null,null,null,null,null,null,null,null,null,null,null,null,null,null,null,null,null,null,null,null,null,null,null,null,null,null,null,null,null,null,null,null,null,null,null,null,null,null,null,null,null,null,null,null,null,null,null,null,null,null,null,null,null,null,null,null,null,null,null,null,null,null,null,null,null,null,null,null,null,null,null,null,"",""]
[null,null,null,null,null,null,{"$f":"IF($D128=\"\",0,VLOOKUP(($DU128&$C128&$D128),単価情報!$B$66:$C$932,2,FALSE))","v":0},0,0,0,null,null,null,null,null,null,null,null,null,null,null,null,null,null,null,null,null,null,null,null,null,null,null,null,null,null,null,null,null,null,null,null,null,null,null,null,null,null,null,null,null,null,null,null,null,null,null,null,null,null,null,null,null,null,null,null,null,null,null,null,null,null,null,null,null,null,null,null,null,null,null,null,null,null,null,null,null,null,null,null,null,null,null,null,null,null,null,null,null,null,null,null,null,null,null,null,null,null,null,null,null,null,null,null,null,null,null,null,null,null,null,null,null,"",""]
[null,null,null,null,null,null,{"$f":"IF($D129=\"\",0,VLOOKUP(($DU129&$C129&$D129),単価情報!$B$66:$C$932,2,FALSE))","v":0},{"$f":"G129","v":0},{"$f":"E129*G129","v":0},{"$f":"E129*H129","v":0},null,null,null,null,null,null,null,null,null,null,null,null,null,null,null,null,null,null,null,null,null,null,null,null,null,null,null,null,null,null,null,null,null,null,null,null,null,null,null,null,null,null,null,null,null,null,null,null,null,null,null,null,null,null,null,null,null,null,null,null,null,null,null,null,null,null,null,null,null,null,null,null,null,null,null,null,null,null,null,null,null,null,null,null,null,null,null,null,null,null,null,null,null,null,null,null,null,null,null,null,null,null,null,null,null,null,null,null,null,null,null,null,null,"",""]
[null,null,null,null,null,null,{"$f":"IF($D130=\"\",0,VLOOKUP(($DU130&$C130&$D130),単価情報!$B$66:$C$932,2,FALSE))","v":0},0,0,0,null,null,null,null,null,null,null,null,null,null,null,null,null,null,null,null,null,null,null,null,null,null,null,null,null,null,null,null,null,null,null,null,null,null,null,null,null,null,null,null,null,null,null,null,null,null,null,null,null,null,null,null,null,null,null,null,null,null,null,null,null,null,null,null,null,null,null,null,null,null,null,null,null,null,null,null,null,null,null,null,null,null,null,null,null,null,null,null,null,null,null,null,null,null,null,null,null,null,null,null,null,null,null,null,null,null,null,null,null,null,null,null,null,"",""]
[null,null,null,null,null,null,{"$f":"IF($D131=\"\",0,VLOOKUP(($DU131&$C131&$D131),単価情報!$B$66:$C$932,2,FALSE))","v":0},0,0,0,null,null,null,null,null,null,null,null,null,null,null,null,null,null,null,null,null,null,null,null,null,null,null,null,null,null,null,null,null,null,null,null,null,null,null,null,null,null,null,null,null,null,null,null,null,null,null,null,null,null,null,null,null,null,null,null,null,null,null,null,null,null,null,null,null,null,null,null,null,null,null,null,null,null,null,null,null,null,null,null,null,null,null,null,null,null,null,null,null,null,null,null,null,null,null,null,null,null,null,null,null,null,null,null,null,null,null,null,null,null,null,null,null,"",""]
[null,null,null,null,null,null,{"$f":"IF($D132=\"\",0,VLOOKUP(($DU132&$C132&$D132),単価情報!$B$66:$C$932,2,FALSE))","v":0},0,0,0,null,null,null,null,null,null,null,null,null,null,null,null,null,null,null,null,null,null,null,null,null,null,null,null,null,null,null,null,null,null,null,null,null,null,null,null,null,null,null,null,null,null,null,null,null,null,null,null,null,null,null,null,null,null,null,null,null,null,null,null,null,null,null,null,null,null,null,null,null,null,null,null,null,null,null,null,null,null,null,null,null,null,null,null,null,null,null,null,null,null,null,null,null,null,null,null,null,null,null,null,null,null,null,null,null,null,null,null,null,null,null,null,null,"",""]
[null,null,null,null,null,null,{"$f":"IF($D133=\"\",0,VLOOKUP(($DU133&$C133&$D133),単価情報!$B$66:$C$932,2,FALSE))","v":0},0,0,0,null,null,null,null,null,null,null,null,null,null,null,null,null,null,null,null,null,null,null,null,null,null,null,null,null,null,null,null,null,null,null,null,null,null,null,null,null,null,null,null,null,null,null,null,null,null,null,null,null,null,null,null,null,null,null,null,null,null,null,null,null,null,null,null,null,null,null,null,null,null,null,null,null,null,null,null,null,null,null,null,null,null,null,null,null,null,null,null,null,null,null,null,null,null,null,null,null,null,null,null,null,null,null,null,null,null,null,null,null,null,null,null,null,"",""]
[null,null,null,null,null,null,{"$f":"IF($D134=\"\",0,VLOOKUP(($DU134&$C134&$D134),単価情報!$B$66:$C$932,2,FALSE))","v":0},0,0,0,null,null,null,null,null,null,null,null,null,null,null,null,null,null,null,null,null,null,null,null,null,null,null,null,null,null,null,null,null,null,null,null,null,null,null,null,null,null,null,null,null,null,null,null,null,null,null,null,null,null,null,null,null,null,null,null,null,null,null,null,null,null,null,null,null,null,null,null,null,null,null,null,null,null,null,null,null,null,null,null,null,null,null,null,null,null,null,null,null,null,null,null,null,null,null,null,null,null,null,null,null,null,null,null,null,null,null,null,null,null,null,null,null,"",""]
[null,null,null,null,null,null,{"$f":"IF($D135=\"\",0,VLOOKUP(($DU135&$C135&$D135),単価情報!$B$66:$C$932,2,FALSE))","v":0},0,0,0,null,null,null,null,null,null,null,null,null,null,null,null,null,null,null,null,null,null,null,null,null,null,null,null,null,null,null,null,null,null,null,null,null,null,null,null,null,null,null,null,null,null,null,null,null,null,null,null,null,null,null,null,null,null,null,null,null,null,null,null,null,null,null,null,null,null,null,null,null,null,null,null,null,null,null,null,null,null,null,null,null,null,null,null,null,null,null,null,null,null,null,null,null,null,null,null,null,null,null,null,null,null,null,null,null,null,null,null,null,null,null,null,null,"",""]
[null,null,null,null,null,null,{"$f":"IF($D136=\"\",0,VLOOKUP(($DU136&$C136&$D136),単価情報!$B$66:$C$932,2,FALSE))","v":0},0,0,0,null,null,null,null,null,null,null,null,null,null,null,null,null,null,null,null,null,null,null,null,null,null,null,null,null,null,null,null,null,null,null,null,null,null,null,null,null,null,null,null,null,null,null,null,null,null,null,null,null,null,null,null,null,null,null,null,null,null,null,null,null,null,null,null,null,null,null,null,null,null,null,null,null,null,null,null,null,null,null,null,null,null,null,null,null,null,null,null,null,null,null,null,null,null,null,null,null,null,null,null,null,null,null,null,null,null,null,null,null,null,null,null,null,"",""]
[null,null,null,null,null,null,{"$f":"IF($D137=\"\",0,VLOOKUP(($DU137&$C137&$D137),単価情報!$B$66:$C$932,2,FALSE))","v":0},0,0,0,null,null,null,null,null,null,null,null,null,null,null,null,null,null,null,null,null,null,null,null,null,null,null,null,null,null,null,null,null,null,null,null,null,null,null,null,null,null,null,null,null,null,null,null,null,null,null,null,null,null,null,null,null,null,null,null,null,null,null,null,null,null,null,null,null,null,null,null,null,null,null,null,null,null,null,null,null,null,null,null,null,null,null,null,null,null,null,null,null,null,null,null,null,null,null,null,null,null,null,null,null,null,null,null,null,null,null,null,null,null,null,null,null,"",""]
[null,null,null,null,null,null,{"$f":"IF($D138=\"\",0,VLOOKUP(($DU138&$C138&$D138),単価情報!$B$66:$C$932,2,FALSE))","v":0},0,0,0,null,null,null,null,null,null,null,null,null,null,null,null,null,null,null,null,null,null,null,null,null,null,null,null,null,null,null,null,null,null,null,null,null,null,null,null,null,null,null,null,null,null,null,null,null,null,null,null,null,null,null,null,null,null,null,null,null,null,null,null,null,null,null,null,null,null,null,null,null,null,null,null,null,null,null,null,null,null,null,null,null,null,null,null,null,null,null,null,null,null,null,null,null,null,null,null,null,null,null,null,null,null,null,null,null,null,null,null,null,null,null,null,null,"",""]
[null,null,null,null,null,null,{"$f":"IF($D139=\"\",0,VLOOKUP(($DU139&$C139&$D139),単価情報!$B$66:$C$932,2,FALSE))","v":0},0,0,0,null,null,null,null,null,null,null,null,null,null,null,null,null,null,null,null,null,null,null,null,null,null,null,null,null,null,null,null,null,null,null,null,null,null,null,null,null,null,null,null,null,null,null,null,null,null,null,null,null,null,null,null,null,null,null,null,null,null,null,null,null,null,null,null,null,null,null,null,null,null,null,null,null,null,null,null,null,null,null,null,null,null,null,null,null,null,null,null,null,null,null,null,null,null,null,null,null,null,null,null,null,null,null,null,null,null,null,null,null,null,null,null,null,"",""]
[null,null,null,null,null,null,{"$f":"IF($D140=\"\",0,VLOOKUP(($DU140&$C140&$D140),単価情報!$B$66:$C$932,2,FALSE))","v":0},0,0,0,null,null,null,null,null,null,null,null,null,null,null,null,null,null,null,null,null,null,null,null,null,null,null,null,null,null,null,null,null,null,null,null,null,null,null,null,null,null,null,null,null,null,null,null,null,null,null,null,null,null,null,null,null,null,null,null,null,null,null,null,null,null,null,null,null,null,null,null,null,null,null,null,null,null,null,null,null,null,null,null,null,null,null,null,null,null,null,null,null,null,null,null,null,null,null,null,null,null,null,null,null,null,null,null,null,null,null,null,null,null,null,null,null,"",""]
[null,null,null,null,null,null,{"$f":"IF($D141=\"\",0,VLOOKUP(($DU141&$C141&$D141),単価情報!$B$66:$C$932,2,FALSE))","v":0},0,0,0,null,null,null,null,null,null,null,null,null,null,null,null,null,null,null,null,null,null,null,null,null,null,null,null,null,null,null,null,null,null,null,null,null,null,null,null,null,null,null,null,null,null,null,null,null,null,null,null,null,null,null,null,null,null,null,null,null,null,null,null,null,null,null,null,null,null,null,null,null,null,null,null,null,null,null,null,null,null,null,null,null,null,null,null,null,null,null,null,null,null,null,null,null,null,null,null,null,null,null,null,null,null,null,null,null,null,null,null,null,null,null,null,null,"",""]
[null,null,null,null,null,null,{"$f":"IF($D142=\"\",0,VLOOKUP(($DU142&$C142&$D142),単価情報!$B$66:$C$932,2,FALSE))","v":0},0,0,0,null,null,null,null,null,null,null,null,null,null,null,null,null,null,null,null,null,null,null,null,null,null,null,null,null,null,null,null,null,null,null,null,null,null,null,null,null,null,null,null,null,null,null,null,null,null,null,null,null,null,null,null,null,null,null,null,null,null,null,null,null,null,null,null,null,null,null,null,null,null,null,null,null,null,null,null,null,null,null,null,null,null,null,null,null,null,null,null,null,null,null,null,null,null,null,null,null,null,null,null,null,null,null,null,null,null,null,null,null,null,null,null,null,"",""]
[null,null,null,null,null,null,{"$f":"IF($D143=\"\",0,VLOOKUP(($DU143&$C143&$D143),単価情報!$B$66:$C$932,2,FALSE))","v":0},0,0,0,null,null,null,null,null,null,null,null,null,null,null,null,null,null,null,null,null,null,null,null,null,null,null,null,null,null,null,null,null,null,null,null,null,null,null,null,null,null,null,null,null,null,null,null,null,null,null,null,null,null,null,null,null,null,null,null,null,null,null,null,null,null,null,null,null,null,null,null,null,null,null,null,null,null,null,null,null,null,null,null,null,null,null,null,null,null,null,null,null,null,null,null,null,null,null,null,null,null,null,null,null,null,null,null,null,null,null,null,null,null,null,null,null,"",""]
[null,null,null,null,null,null,{"$f":"IF($D144=\"\",0,VLOOKUP(($DU144&$C144&$D144),単価情報!$B$66:$C$932,2,FALSE))","v":0},0,0,0,null,null,null,null,null,null,null,null,null,null,null,null,null,null,null,null,null,null,null,null,null,null,null,null,null,null,null,null,null,null,null,null,null,null,null,null,null,null,null,null,null,null,null,null,null,null,null,null,null,null,null,null,null,null,null,null,null,null,null,null,null,null,null,null,null,null,null,null,null,null,null,null,null,null,null,null,null,null,null,null,null,null,null,null,null,null,null,null,null,null,null,null,null,null,null,null,null,null,null,null,null,null,null,null,null,null,null,null,null,null,null,null,null,"",""]
[null,null,null,null,null,null,{"$f":"IF($D145=\"\",0,VLOOKUP(($DU145&$C145&$D145),単価情報!$B$66:$C$932,2,FALSE))","v":0},0,0,0,null,null,null,null,null,null,null,null,null,null,null,null,null,null,null,null,null,null,null,null,null,null,null,null,null,null,null,null,null,null,null,null,null,null,null,null,null,null,null,null,null,null,null,null,null,null,null,null,null,null,null,null,null,null,null,null,null,null,null,null,null,null,null,null,null,null,null,null,null,null,null,null,null,null,null,null,null,null,null,null,null,null,null,null,null,null,null,null,null,null,null,null,null,null,null,null,null,null,null,null,null,null,null,null,null,null,null,null,null,null,null,null,null,"",""]
[null,null,null,null,null,null,{"$f":"IF($D146=\"\",0,VLOOKUP(($DU146&$C146&$D146),単価情報!$B$66:$C$932,2,FALSE))","v":0},0,0,0,null,null,null,null,null,null,null,null,null,null,null,null,null,null,null,null,null,null,null,null,null,null,null,null,null,null,null,null,null,null,null,null,null,null,null,null,null,null,null,null,null,null,null,null,null,null,null,null,null,null,null,null,null,null,null,null,null,null,null,null,null,null,null,null,null,null,null,null,null,null,null,null,null,null,null,null,null,null,null,null,null,null,null,null,null,null,null,null,null,null,null,null,null,null,null,null,null,null,null,null,null,null,null,null,null,null,null,null,null,null,null,null,null,"",""]
[null,null,null,null,null,null,{"$f":"IF($D147=\"\",0,VLOOKUP(($DU147&$C147&$D147),単価情報!$B$66:$C$932,2,FALSE))","v":0},0,0,0,null,null,null,null,null,null,null,null,null,null,null,null,null,null,null,null,null,null,null,null,null,null,null,null,null,null,null,null,null,null,null,null,null,null,null,null,null,null,null,null,null,null,null,null,null,null,null,null,null,null,null,null,null,null,null,null,null,null,null,null,null,null,null,null,null,null,null,null,null,null,null,null,null,null,null,null,null,null,null,null,null,null,null,null,null,null,null,null,null,null,null,null,null,null,null,null,null,null,null,null,null,null,null,null,null,null,null,null,null,null,null,null,null,"",""]
[null,null,null,null,null,null,{"$f":"IF($D148=\"\",0,VLOOKUP(($DU148&$C148&$D148),単価情報!$B$66:$C$932,2,FALSE))","v":0},0,0,0,null,null,null,null,null,null,null,null,null,null,null,null,null,null,null,null,null,null,null,null,null,null,null,null,null,null,null,null,null,null,null,null,null,null,null,null,null,null,null,null,null,null,null,null,null,null,null,null,null,null,null,null,null,null,null,null,null,null,null,null,null,null,null,null,null,null,null,null,null,null,null,null,null,null,null,null,null,null,null,null,null,null,null,null,null,null,null,null,null,null,null,null,null,null,null,null,null,null,null,null,null,null,null,null,null,null,null,null,null,null,null,null,null,"",""]
[null,null,null,null,null,null,{"$f":"IF($D149=\"\",0,VLOOKUP(($DU149&$C149&$D149),単価情報!$B$66:$C$932,2,FALSE))","v":0},0,0,0,null,null,null,null,null,null,null,null,null,null,null,null,null,null,null,null,null,null,null,null,null,null,null,null,null,null,null,null,null,null,null,null,null,null,null,null,null,null,null,null,null,null,null,null,null,null,null,null,null,null,null,null,null,null,null,null,null,null,null,null,null,null,null,null,null,null,null,null,null,null,null,null,null,null,null,null,null,null,null,null,null,null,null,null,null,null,null,null,null,null,null,null,null,null,null,null,null,null,null,null,null,null,null,null,null,null,null,null,null,null,null,null,null,"",""]
[null,null,null,null,null,null,{"$f":"IF($D150=\"\",0,VLOOKUP(($DU150&$C150&$D150),単価情報!$B$66:$C$932,2,FALSE))","v":0},0,0,0,null,null,null,null,null,null,null,null,null,null,null,null,null,null,null,null,null,null,null,null,null,null,null,null,null,null,null,null,null,null,null,null,null,null,null,null,null,null,null,null,null,null,null,null,null,null,null,null,null,null,null,null,null,null,null,null,null,null,null,null,null,null,null,null,null,null,null,null,null,null,null,null,null,null,null,null,null,null,null,null,null,null,null,null,null,null,null,null,null,null,null,null,null,null,null,null,null,null,null,null,null,null,null,null,null,null,null,null,null,null,null,null,null,"",""]
[null,null,null,null,null,null,{"$f":"IF($D151=\"\",0,VLOOKUP(($DU151&$C151&$D151),単価情報!$B$66:$C$932,2,FALSE))","v":0},0,0,0,null,null,null,null,null,null,null,null,null,null,null,null,null,null,null,null,null,null,null,null,null,null,null,null,null,null,null,null,null,null,null,null,null,null,null,null,null,null,null,null,null,null,null,null,null,null,null,null,null,null,null,null,null,null,null,null,null,null,null,null,null,null,null,null,null,null,null,null,null,null,null,null,null,null,null,null,null,null,null,null,null,null,null,null,null,null,null,null,null,null,null,null,null,null,null,null,null,null,null,null,null,null,null,null,null,null,null,null,null,null,null,null,null,"",""]
[null,null,null,null,null,null,{"$f":"IF($D152=\"\",0,VLOOKUP(($DU152&$C152&$D152),単価情報!$B$66:$C$932,2,FALSE))","v":0},0,0,0,null,null,null,null,null,null,null,null,null,null,null,null,null,null,null,null,null,null,null,null,null,null,null,null,null,null,null,null,null,null,null,null,null,null,null,null,null,null,null,null,null,null,null,null,null,null,null,null,null,null,null,null,null,null,null,null,null,null,null,null,null,null,null,null,null,null,null,null,null,null,null,null,null,null,null,null,null,null,null,null,null,null,null,null,null,null,null,null,null,null,null,null,null,null,null,null,null,null,null,null,null,null,null,null,null,null,null,null,null,null,null,null,null,"",""]
[null,null,null,null,null,null,{"$f":"IF($D153=\"\",0,VLOOKUP(($DU153&$C153&$D153),単価情報!$B$66:$C$932,2,FALSE))","v":0},0,0,0,null,null,null,null,null,null,null,null,null,null,null,null,null,null,null,null,null,null,null,null,null,null,null,null,null,null,null,null,null,null,null,null,null,null,null,null,null,null,null,null,null,null,null,null,null,null,null,null,null,null,null,null,null,null,null,null,null,null,null,null,null,null,null,null,null,null,null,null,null,null,null,null,null,null,null,null,null,null,null,null,null,null,null,null,null,null,null,null,null,null,null,null,null,null,null,null,null,null,null,null,null,null,null,null,null,null,null,null,null,null,null,null,null,"",""]
[null,null,null,null,null,null,{"$f":"IF($D154=\"\",0,VLOOKUP(($DU154&$C154&$D154),単価情報!$B$66:$C$932,2,FALSE))","v":0},0,0,0,null,null,null,null,null,null,null,null,null,null,null,null,null,null,null,null,null,null,null,null,null,null,null,null,null,null,null,null,null,null,null,null,null,null,null,null,null,null,null,null,null,null,null,null,null,null,null,null,null,null,null,null,null,null,null,null,null,null,null,null,null,null,null,null,null,null,null,null,null,null,null,null,null,null,null,null,null,null,null,null,null,null,null,null,null,null,null,null,null,null,null,null,null,null,null,null,null,null,null,null,null,null,null,null,null,null,null,null,null,null,null,null,null,"",""]
[null,null,null,null,null,null,{"$f":"IF($D155=\"\",0,VLOOKUP(($DU155&$C155&$D155),単価情報!$B$66:$C$932,2,FALSE))","v":0},0,0,0,null,null,null,null,null,null,null,null,null,null,null,null,null,null,null,null,null,null,null,null,null,null,null,null,null,null,null,null,null,null,null,null,null,null,null,null,null,null,null,null,null,null,null,null,null,null,null,null,null,null,null,null,null,null,null,null,null,null,null,null,null,null,null,null,null,null,null,null,null,null,null,null,null,null,null,null,null,null,null,null,null,null,null,null,null,null,null,null,null,null,null,null,null,null,null,null,null,null,null,null,null,null,null,null,null,null,null,null,null,null,null,null,null,"",""]
[null,null,null,null,null,null,{"$f":"IF($D156=\"\",0,VLOOKUP(($DU156&$C156&$D156),単価情報!$B$66:$C$932,2,FALSE))","v":0},0,0,0,null,null,null,null,null,null,null,null,null,null,null,null,null,null,null,null,null,null,null,null,null,null,null,null,null,null,null,null,null,null,null,null,null,null,null,null,null,null,null,null,null,null,null,null,null,null,null,null,null,null,null,null,null,null,null,null,null,null,null,null,null,null,null,null,null,null,null,null,null,null,null,null,null,null,null,null,null,null,null,null,null,null,null,null,null,null,null,null,null,null,null,null,null,null,null,null,null,null,null,null,null,null,null,null,null,null,null,null,null,null,null,null,null,"",""]
[null,null,null,null,null,null,{"$f":"IF($D157=\"\",0,VLOOKUP(($DU157&$C157&$D157),単価情報!$B$66:$C$932,2,FALSE))","v":0},0,0,0,null,null,null,null,null,null,null,null,null,null,null,null,null,null,null,null,null,null,null,null,null,null,null,null,null,null,null,null,null,null,null,null,null,null,null,null,null,null,null,null,null,null,null,null,null,null,null,null,null,null,null,null,null,null,null,null,null,null,null,null,null,null,null,null,null,null,null,null,null,null,null,null,null,null,null,null,null,null,null,null,null,null,null,null,null,null,null,null,null,null,null,null,null,null,null,null,null,null,null,null,null,null,null,null,null,null,null,null,null,null,null,null,null,"",""]
[null,null,null,null,null,null,{"$f":"IF($D158=\"\",0,VLOOKUP(($DU158&$C158&$D158),単価情報!$B$66:$C$932,2,FALSE))","v":0},0,0,0,null,null,null,null,null,null,null,null,null,null,null,null,null,null,null,null,null,null,null,null,null,null,null,null,null,null,null,null,null,null,null,null,null,null,null,null,null,null,null,null,null,null,null,null,null,null,null,null,null,null,null,null,null,null,null,null,null,null,null,null,null,null,null,null,null,null,null,null,null,null,null,null,null,null,null,null,null,null,null,null,null,null,null,null,null,null,null,null,null,null,null,null,null,null,null,null,null,null,null,null,null,null,null,null,null,null,null,null,null,null,null,null,null,"",""]
[null,null,null,null,null,null,{"$f":"IF($D159=\"\",0,VLOOKUP(($DU159&$C159&$D159),単価情報!$B$66:$C$932,2,FALSE))","v":0},0,0,0,null,null,null,null,null,null,null,null,null,null,null,null,null,null,null,null,null,null,null,null,null,null,null,null,null,null,null,null,null,null,null,null,null,null,null,null,null,null,null,null,null,null,null,null,null,null,null,null,null,null,null,null,null,null,null,null,null,null,null,null,null,null,null,null,null,null,null,null,null,null,null,null,null,null,null,null,null,null,null,null,null,null,null,null,null,null,null,null,null,null,null,null,null,null,null,null,null,null,null,null,null,null,null,null,null,null,null,null,null,null,null,null,null,"",""]
[null,null,null,null,null,null,{"$f":"IF($D160=\"\",0,VLOOKUP(($DU160&$C160&$D160),単価情報!$B$66:$C$932,2,FALSE))","v":0},0,0,0,null,null,null,null,null,null,null,null,null,null,null,null,null,null,null,null,null,null,null,null,null,null,null,null,null,null,null,null,null,null,null,null,null,null,null,null,null,null,null,null,null,null,null,null,null,null,null,null,null,null,null,null,null,null,null,null,null,null,null,null,null,null,null,null,null,null,null,null,null,null,null,null,null,null,null,null,null,null,null,null,null,null,null,null,null,null,null,null,null,null,null,null,null,null,null,null,null,null,null,null,null,null,null,null,null,null,null,null,null,null,null,null,null,"",""]
[null,null,null,null,null,null,{"$f":"IF($D161=\"\",0,VLOOKUP(($DU161&$C161&$D161),単価情報!$B$66:$C$932,2,FALSE))","v":0},0,0,0,null,null,null,null,null,null,null,null,null,null,null,null,null,null,null,null,null,null,null,null,null,null,null,null,null,null,null,null,null,null,null,null,null,null,null,null,null,null,null,null,null,null,null,null,null,null,null,null,null,null,null,null,null,null,null,null,null,null,null,null,null,null,null,null,null,null,null,null,null,null,null,null,null,null,null,null,null,null,null,null,null,null,null,null,null,null,null,null,null,null,null,null,null,null,null,null,null,null,null,null,null,null,null,null,null,null,null,null,null,null,null,null,null,"",""]
[null,null,null,null,null,null,{"$f":"IF($D162=\"\",0,VLOOKUP(($DU162&$C162&$D162),単価情報!$B$66:$C$932,2,FALSE))","v":0},0,0,0,null,null,null,null,null,null,null,null,null,null,null,null,null,null,null,null,null,null,null,null,null,null,null,null,null,null,null,null,null,null,null,null,null,null,null,null,null,null,null,null,null,null,null,null,null,null,null,null,null,null,null,null,null,null,null,null,null,null,null,null,null,null,null,null,null,null,null,null,null,null,null,null,null,null,null,null,null,null,null,null,null,null,null,null,null,null,null,null,null,null,null,null,null,null,null,null,null,null,null,null,null,null,null,null,null,null,null,null,null,null,null,null,null,"",""]
[null,null,null,null,null,null,{"$f":"IF($D163=\"\",0,VLOOKUP(($DU163&$C163&$D163),単価情報!$B$66:$C$932,2,FALSE))","v":0},0,0,0,null,null,null,null,null,null,null,null,null,null,null,null,null,null,null,null,null,null,null,null,null,null,null,null,null,null,null,null,null,null,null,null,null,null,null,null,null,null,null,null,null,null,null,null,null,null,null,null,null,null,null,null,null,null,null,null,null,null,null,null,null,null,null,null,null,null,null,null,null,null,null,null,null,null,null,null,null,null,null,null,null,null,null,null,null,null,null,null,null,null,null,null,null,null,null,null,null,null,null,null,null,null,null,null,null,null,null,null,null,null,null,null,null,"",""]
[null,null,null,null,null,null,{"$f":"IF($D164=\"\",0,VLOOKUP(($DU164&$C164&$D164),単価情報!$B$66:$C$932,2,FALSE))","v":0},0,0,0,null,null,null,null,null,null,null,null,null,null,null,null,null,null,null,null,null,null,null,null,null,null,null,null,null,null,null,null,null,null,null,null,null,null,null,null,null,null,null,null,null,null,null,null,null,null,null,null,null,null,null,null,null,null,null,null,null,null,null,null,null,null,null,null,null,null,null,null,null,null,null,null,null,null,null,null,null,null,null,null,null,null,null,null,null,null,null,null,null,null,null,null,null,null,null,null,null,null,null,null,null,null,null,null,null,null,null,null,null,null,null,null,null,"",""]
[null,null,null,null,null,null,{"$f":"IF($D165=\"\",0,VLOOKUP(($DU165&$C165&$D165),単価情報!$B$66:$C$932,2,FALSE))","v":0},0,0,0,null,null,null,null,null,null,null,null,null,null,null,null,null,null,null,null,null,null,null,null,null,null,null,null,null,null,null,null,null,null,null,null,null,null,null,null,null,null,null,null,null,null,null,null,null,null,null,null,null,null,null,null,null,null,null,null,null,null,null,null,null,null,null,null,null,null,null,null,null,null,null,null,null,null,null,null,null,null,null,null,null,null,null,null,null,null,null,null,null,null,null,null,null,null,null,null,null,null,null,null,null,null,null,null,null,null,null,null,null,null,null,null,null,"",""]
[null,null,null,null,null,null,{"$f":"IF($D166=\"\",0,VLOOKUP(($DU166&$C166&$D166),単価情報!$B$66:$C$932,2,FALSE))","v":0},0,0,0,null,null,null,null,null,null,null,null,null,null,null,null,null,null,null,null,null,null,null,null,null,null,null,null,null,null,null,null,null,null,null,null,null,null,null,null,null,null,null,null,null,null,null,null,null,null,null,null,null,null,null,null,null,null,null,null,null,null,null,null,null,null,null,null,null,null,null,null,null,null,null,null,null,null,null,null,null,null,null,null,null,null,null,null,null,null,null,null,null,null,null,null,null,null,null,null,null,null,null,null,null,null,null,null,null,null,null,null,null,null,null,null,null,"",""]
[null,null,null,null,null,null,{"$f":"IF($D167=\"\",0,VLOOKUP(($DU167&$C167&$D167),単価情報!$B$66:$C$932,2,FALSE))","v":0},0,0,0,null,null,null,null,null,null,null,null,null,null,null,null,null,null,null,null,null,null,null,null,null,null,null,null,null,null,null,null,null,null,null,null,null,null,null,null,null,null,null,null,null,null,null,null,null,null,null,null,null,null,null,null,null,null,null,null,null,null,null,null,null,null,null,null,null,null,null,null,null,null,null,null,null,null,null,null,null,null,null,null,null,null,null,null,null,null,null,null,null,null,null,null,null,null,null,null,null,null,null,null,null,null,null,null,null,null,null,null,null,null,null,null,null,"",""]
[null,null,null,null,null,null,{"$f":"IF($D168=\"\",0,VLOOKUP(($DU168&$C168&$D168),単価情報!$B$66:$C$932,2,FALSE))","v":0},0,0,0,null,null,null,null,null,null,null,null,null,null,null,null,null,null,null,null,null,null,null,null,null,null,null,null,null,null,null,null,null,null,null,null,null,null,null,null,null,null,null,null,null,null,null,null,null,null,null,null,null,null,null,null,null,null,null,null,null,null,null,null,null,null,null,null,null,null,null,null,null,null,null,null,null,null,null,null,null,null,null,null,null,null,null,null,null,null,null,null,null,null,null,null,null,null,null,null,null,null,null,null,null,null,null,null,null,null,null,null,null,null,null,null,null,"",""]
[null,null,null,null,null,null,{"$f":"IF($D169=\"\",0,VLOOKUP(($DU169&$C169&$D169),単価情報!$B$66:$C$932,2,FALSE))","v":0},0,0,0,null,null,null,null,null,null,null,null,null,null,null,null,null,null,null,null,null,null,null,null,null,null,null,null,null,null,null,null,null,null,null,null,null,null,null,null,null,null,null,null,null,null,null,null,null,null,null,null,null,null,null,null,null,null,null,null,null,null,null,null,null,null,null,null,null,null,null,null,null,null,null,null,null,null,null,null,null,null,null,null,null,null,null,null,null,null,null,null,null,null,null,null,null,null,null,null,null,null,null,null,null,null,null,null,null,null,null,null,null,null,null,null,null,"",""]
[null,null,null,null,null,null,{"$f":"IF($D170=\"\",0,VLOOKUP(($DU170&$C170&$D170),単価情報!$B$66:$C$932,2,FALSE))","v":0},0,0,0,null,null,null,null,null,null,null,null,null,null,null,null,null,null,null,null,null,null,null,null,null,null,null,null,null,null,null,null,null,null,null,null,null,null,null,null,null,null,null,null,null,null,null,null,null,null,null,null,null,null,null,null,null,null,null,null,null,null,null,null,null,null,null,null,null,null,null,null,null,null,null,null,null,null,null,null,null,null,null,null,null,null,null,null,null,null,null,null,null,null,null,null,null,null,null,null,null,null,null,null,null,null,null,null,null,null,null,null,null,null,null,null,null,"",""]
[null,null,null,null,null,null,{"$f":"IF($D171=\"\",0,VLOOKUP(($DU171&$C171&$D171),単価情報!$B$66:$C$932,2,FALSE))","v":0},0,0,0,null,null,null,null,null,null,null,null,null,null,null,null,null,null,null,null,null,null,null,null,null,null,null,null,null,null,null,null,null,null,null,null,null,null,null,null,null,null,null,null,null,null,null,null,null,null,null,null,null,null,null,null,null,null,null,null,null,null,null,null,null,null,null,null,null,null,null,null,null,null,null,null,null,null,null,null,null,null,null,null,null,null,null,null,null,null,null,null,null,null,null,null,null,null,null,null,null,null,null,null,null,null,null,null,null,null,null,null,null,null,null,null,null,"",""]
[null,null,null,null,null,null,{"$f":"IF($D172=\"\",0,VLOOKUP(($DU172&$C172&$D172),単価情報!$B$66:$C$932,2,FALSE))","v":0},0,0,0,null,null,null,null,null,null,null,null,null,null,null,null,null,null,null,null,null,null,null,null,null,null,null,null,null,null,null,null,null,null,null,null,null,null,null,null,null,null,null,null,null,null,null,null,null,null,null,null,null,null,null,null,null,null,null,null,null,null,null,null,null,null,null,null,null,null,null,null,null,null,null,null,null,null,null,null,null,null,null,null,null,null,null,null,null,null,null,null,null,null,null,null,null,null,null,null,null,null,null,null,null,null,null,null,null,null,null,null,null,null,null,null,null,"",""]
[null,null,null,null,null,null,{"$f":"IF($D173=\"\",0,VLOOKUP(($DU173&$C173&$D173),単価情報!$B$66:$C$932,2,FALSE))","v":0},0,0,0,null,null,null,null,null,null,null,null,null,null,null,null,null,null,null,null,null,null,null,null,null,null,null,null,null,null,null,null,null,null,null,null,null,null,null,null,null,null,null,null,null,null,null,null,null,null,null,null,null,null,null,null,null,null,null,null,null,null,null,null,null,null,null,null,null,null,null,null,null,null,null,null,null,null,null,null,null,null,null,null,null,null,null,null,null,null,null,null,null,null,null,null,null,null,null,null,null,null,null,null,null,null,null,null,null,null,null,null,null,null,null,null,null,"",""]
[null,null,null,null,null,null,{"$f":"IF($D174=\"\",0,VLOOKUP(($DU174&$C174&$D174),単価情報!$B$66:$C$932,2,FALSE))","v":0},0,0,0,null,null,null,null,null,null,null,null,null,null,null,null,null,null,null,null,null,null,null,null,null,null,null,null,null,null,null,null,null,null,null,null,null,null,null,null,null,null,null,null,null,null,null,null,null,null,null,null,null,null,null,null,null,null,null,null,null,null,null,null,null,null,null,null,null,null,null,null,null,null,null,null,null,null,null,null,null,null,null,null,null,null,null,null,null,null,null,null,null,null,null,null,null,null,null,null,null,null,null,null,null,null,null,null,null,null,null,null,null,null,null,null,null,"",""]
[null,null,null,null,null,null,{"$f":"IF($D175=\"\",0,VLOOKUP(($DU175&$C175&$D175),単価情報!$B$66:$C$932,2,FALSE))","v":0},0,0,0,null,null,null,null,null,null,null,null,null,null,null,null,null,null,null,null,null,null,null,null,null,null,null,null,null,null,null,null,null,null,null,null,null,null,null,null,null,null,null,null,null,null,null,null,null,null,null,null,null,null,null,null,null,null,null,null,null,null,null,null,null,null,null,null,null,null,null,null,null,null,null,null,null,null,null,null,null,null,null,null,null,null,null,null,null,null,null,null,null,null,null,null,null,null,null,null,null,null,null,null,null,null,null,null,null,null,null,null,null,null,null,null,null,"",""]
[null,null,null,null,null,null,{"$f":"IF($D176=\"\",0,VLOOKUP(($DU176&$C176&$D176),単価情報!$B$66:$C$932,2,FALSE))","v":0},0,0,0,null,null,null,null,null,null,null,null,null,null,null,null,null,null,null,null,null,null,null,null,null,null,null,null,null,null,null,null,null,null,null,null,null,null,null,null,null,null,null,null,null,null,null,null,null,null,null,null,null,null,null,null,null,null,null,null,null,null,null,null,null,null,null,null,null,null,null,null,null,null,null,null,null,null,null,null,null,null,null,null,null,null,null,null,null,null,null,null,null,null,null,null,null,null,null,null,null,null,null,null,null,null,null,null,null,null,null,null,null,null,null,null,null,"",""]
[null,null,null,null,null,null,{"$f":"IF($D177=\"\",0,VLOOKUP(($DU177&$C177&$D177),単価情報!$B$66:$C$932,2,FALSE))","v":0},0,0,0,null,null,null,null,null,null,null,null,null,null,null,null,null,null,null,null,null,null,null,null,null,null,null,null,null,null,null,null,null,null,null,null,null,null,null,null,null,null,null,null,null,null,null,null,null,null,null,null,null,null,null,null,null,null,null,null,null,null,null,null,null,null,null,null,null,null,null,null,null,null,null,null,null,null,null,null,null,null,null,null,null,null,null,null,null,null,null,null,null,null,null,null,null,null,null,null,null,null,null,null,null,null,null,null,null,null,null,null,null,null,null,null,null,"",""]
[null,null,null,null,null,null,{"$f":"IF($D178=\"\",0,VLOOKUP(($DU178&$C178&$D178),単価情報!$B$66:$C$932,2,FALSE))","v":0},0,0,0,null,null,null,null,null,null,null,null,null,null,null,null,null,null,null,null,null,null,null,null,null,null,null,null,null,null,null,null,null,null,null,null,null,null,null,null,null,null,null,null,null,null,null,null,null,null,null,null,null,null,null,null,null,null,null,null,null,null,null,null,null,null,null,null,null,null,null,null,null,null,null,null,null,null,null,null,null,null,null,null,null,null,null,null,null,null,null,null,null,null,null,null,null,null,null,null,null,null,null,null,null,null,null,null,null,null,null,null,null,null,null,null,null,"",""]
[null,null,null,null,null,null,{"$f":"IF($D179=\"\",0,VLOOKUP(($DU179&$C179&$D179),単価情報!$B$66:$C$932,2,FALSE))","v":0},0,0,0,null,null,null,null,null,null,null,null,null,null,null,null,null,null,null,null,null,null,null,null,null,null,null,null,null,null,null,null,null,null,null,null,null,null,null,null,null,null,null,null,null,null,null,null,null,null,null,null,null,null,null,null,null,null,null,null,null,null,null,null,null,null,null,null,null,null,null,null,null,null,null,null,null,null,null,null,null,null,null,null,null,null,null,null,null,null,null,null,null,null,null,null,null,null,null,null,null,null,null,null,null,null,null,null,null,null,null,null,null,null,null,null,null,"",""]
[null,null,null,null,null,null,{"$f":"IF($D180=\"\",0,VLOOKUP(($DU180&$C180&$D180),単価情報!$B$66:$C$932,2,FALSE))","v":0},0,0,0,null,null,null,null,null,null,null,null,null,null,null,null,null,null,null,null,null,null,null,null,null,null,null,null,null,null,null,null,null,null,null,null,null,null,null,null,null,null,null,null,null,null,null,null,null,null,null,null,null,null,null,null,null,null,null,null,null,null,null,null,null,null,null,null,null,null,null,null,null,null,null,null,null,null,null,null,null,null,null,null,null,null,null,null,null,null,null,null,null,null,null,null,null,null,null,null,null,null,null,null,null,null,null,null,null,null,null,null,null,null,null,null,null,"",""]
[null,null,null,null,null,null,{"$f":"IF($D181=\"\",0,VLOOKUP(($DU181&$C181&$D181),単価情報!$B$66:$C$932,2,FALSE))","v":0},0,0,0,null,null,null,null,null,null,null,null,null,null,null,null,null,null,null,null,null,null,null,null,null,null,null,null,null,null,null,null,null,null,null,null,null,null,null,null,null,null,null,null,null,null,null,null,null,null,null,null,null,null,null,null,null,null,null,null,null,null,null,null,null,null,null,null,null,null,null,null,null,null,null,null,null,null,null,null,null,null,null,null,null,null,null,null,null,null,null,null,null,null,null,null,null,null,null,null,null,null,null,null,null,null,null,null,null,null,null,null,null,null,null,null,null,"",""]
[null,null,null,null,null,null,{"$f":"IF($D182=\"\",0,VLOOKUP(($DU182&$C182&$D182),単価情報!$B$66:$C$932,2,FALSE))","v":0},0,0,0,null,null,null,null,null,null,null,null,null,null,null,null,null,null,null,null,null,null,null,null,null,null,null,null,null,null,null,null,null,null,null,null,null,null,null,null,null,null,null,null,null,null,null,null,null,null,null,null,null,null,null,null,null,null,null,null,null,null,null,null,null,null,null,null,null,null,null,null,null,null,null,null,null,null,null,null,null,null,null,null,null,null,null,null,null,null,null,null,null,null,null,null,null,null,null,null,null,null,null,null,null,null,null,null,null,null,null,null,null,null,null,null,null,"",""]
[null,null,null,null,null,null,{"$f":"IF($D183=\"\",0,VLOOKUP(($DU183&$C183&$D183),単価情報!$B$66:$C$932,2,FALSE))","v":0},0,0,0,null,null,null,null,null,null,null,null,null,null,null,null,null,null,null,null,null,null,null,null,null,null,null,null,null,null,null,null,null,null,null,null,null,null,null,null,null,null,null,null,null,null,null,null,null,null,null,null,null,null,null,null,null,null,null,null,null,null,null,null,null,null,null,null,null,null,null,null,null,null,null,null,null,null,null,null,null,null,null,null,null,null,null,null,null,null,null,null,null,null,null,null,null,null,null,null,null,null,null,null,null,null,null,null,null,null,null,null,null,null,null,null,null,"",""]
[null,null,null,null,null,null,{"$f":"IF($D184=\"\",0,VLOOKUP(($DU184&$C184&$D184),単価情報!$B$66:$C$932,2,FALSE))","v":0},0,0,0,null,null,null,null,null,null,null,null,null,null,null,null,null,null,null,null,null,null,null,null,null,null,null,null,null,null,null,null,null,null,null,null,null,null,null,null,null,null,null,null,null,null,null,null,null,null,null,null,null,null,null,null,null,null,null,null,null,null,null,null,null,null,null,null,null,null,null,null,null,null,null,null,null,null,null,null,null,null,null,null,null,null,null,null,null,null,null,null,null,null,null,null,null,null,null,null,null,null,null,null,null,null,null,null,null,null,null,null,null,null,null,null,null,"",""]
[null,null,null,null,null,null,{"$f":"IF($D185=\"\",0,VLOOKUP(($DU185&$C185&$D185),単価情報!$B$66:$C$932,2,FALSE))","v":0},0,0,0,null,null,null,null,null,null,null,null,null,null,null,null,null,null,null,null,null,null,null,null,null,null,null,null,null,null,null,null,null,null,null,null,null,null,null,null,null,null,null,null,null,null,null,null,null,null,null,null,null,null,null,null,null,null,null,null,null,null,null,null,null,null,null,null,null,null,null,null,null,null,null,null,null,null,null,null,null,null,null,null,null,null,null,null,null,null,null,null,null,null,null,null,null,null,null,null,null,null,null,null,null,null,null,null,null,null,null,null,null,null,null,null,null,"",""]
[null,null,null,null,null,null,{"$f":"IF($D186=\"\",0,VLOOKUP(($DU186&$C186&$D186),単価情報!$B$66:$C$932,2,FALSE))","v":0},0,0,0,null,null,null,null,null,null,null,null,null,null,null,null,null,null,null,null,null,null,null,null,null,null,null,null,null,null,null,null,null,null,null,null,null,null,null,null,null,null,null,null,null,null,null,null,null,null,null,null,null,null,null,null,null,null,null,null,null,null,null,null,null,null,null,null,null,null,null,null,null,null,null,null,null,null,null,null,null,null,null,null,null,null,null,null,null,null,null,null,null,null,null,null,null,null,null,null,null,null,null,null,null,null,null,null,null,null,null,null,null,null,null,null,null,"",""]
[null,null,null,null,null,null,{"$f":"IF($D187=\"\",0,VLOOKUP(($DU187&$C187&$D187),単価情報!$B$66:$C$932,2,FALSE))","v":0},0,0,0,null,null,null,null,null,null,null,null,null,null,null,null,null,null,null,null,null,null,null,null,null,null,null,null,null,null,null,null,null,null,null,null,null,null,null,null,null,null,null,null,null,null,null,null,null,null,null,null,null,null,null,null,null,null,null,null,null,null,null,null,null,null,null,null,null,null,null,null,null,null,null,null,null,null,null,null,null,null,null,null,null,null,null,null,null,null,null,null,null,null,null,null,null,null,null,null,null,null,null,null,null,null,null,null,null,null,null,null,null,null,null,null,null,"",""]
[null,null,null,null,null,null,{"$f":"IF($D188=\"\",0,VLOOKUP(($DU188&$C188&$D188),単価情報!$B$66:$C$932,2,FALSE))","v":0},0,0,0,null,null,null,null,null,null,null,null,null,null,null,null,null,null,null,null,null,null,null,null,null,null,null,null,null,null,null,null,null,null,null,null,null,null,null,null,null,null,null,null,null,null,null,null,null,null,null,null,null,null,null,null,null,null,null,null,null,null,null,null,null,null,null,null,null,null,null,null,null,null,null,null,null,null,null,null,null,null,null,null,null,null,null,null,null,null,null,null,null,null,null,null,null,null,null,null,null,null,null,null,null,null,null,null,null,null,null,null,null,null,null,null,null,"",""]
[null,null,null,null,null,null,{"$f":"IF($D189=\"\",0,VLOOKUP(($DU189&$C189&$D189),単価情報!$B$66:$C$932,2,FALSE))","v":0},0,0,0,null,null,null,null,null,null,null,null,null,null,null,null,null,null,null,null,null,null,null,null,null,null,null,null,null,null,null,null,null,null,null,null,null,null,null,null,null,null,null,null,null,null,null,null,null,null,null,null,null,null,null,null,null,null,null,null,null,null,null,null,null,null,null,null,null,null,null,null,null,null,null,null,null,null,null,null,null,null,null,null,null,null,null,null,null,null,null,null,null,null,null,null,null,null,null,null,null,null,null,null,null,null,null,null,null,null,null,null,null,null,null,null,null,"",""]
[null,null,null,null,null,null,{"$f":"IF($D190=\"\",0,VLOOKUP(($DU190&$C190&$D190),単価情報!$B$66:$C$932,2,FALSE))","v":0},0,0,0,null,null,null,null,null,null,null,null,null,null,null,null,null,null,null,null,null,null,null,null,null,null,null,null,null,null,null,null,null,null,null,null,null,null,null,null,null,null,null,null,null,null,null,null,null,null,null,null,null,null,null,null,null,null,null,null,null,null,null,null,null,null,null,null,null,null,null,null,null,null,null,null,null,null,null,null,null,null,null,null,null,null,null,null,null,null,null,null,null,null,null,null,null,null,null,null,null,null,null,null,null,null,null,null,null,null,null,null,null,null,null,null,null,"",""]
[null,null,null,null,null,null,{"$f":"IF($D191=\"\",0,VLOOKUP(($DU191&$C191&$D191),単価情報!$B$66:$C$932,2,FALSE))","v":0},0,0,0,null,null,null,null,null,null,null,null,null,null,null,null,null,null,null,null,null,null,null,null,null,null,null,null,null,null,null,null,null,null,null,null,null,null,null,null,null,null,null,null,null,null,null,null,null,null,null,null,null,null,null,null,null,null,null,null,null,null,null,null,null,null,null,null,null,null,null,null,null,null,null,null,null,null,null,null,null,null,null,null,null,null,null,null,null,null,null,null,null,null,null,null,null,null,null,null,null,null,null,null,null,null,null,null,null,null,null,null,null,null,null,null,null,"",""]
[null,null,null,null,null,null,{"$f":"IF($D192=\"\",0,VLOOKUP(($DU192&$C192&$D192),単価情報!$B$66:$C$932,2,FALSE))","v":0},0,0,0,null,null,null,null,null,null,null,null,null,null,null,null,null,null,null,null,null,null,null,null,null,null,null,null,null,null,null,null,null,null,null,null,null,null,null,null,null,null,null,null,null,null,null,null,null,null,null,null,null,null,null,null,null,null,null,null,null,null,null,null,null,null,null,null,null,null,null,null,null,null,null,null,null,null,null,null,null,null,null,null,null,null,null,null,null,null,null,null,null,null,null,null,null,null,null,null,null,null,null,null,null,null,null,null,null,null,null,null,null,null,null,null,null,"",""]
[null,null,null,null,null,null,{"$f":"IF($D193=\"\",0,VLOOKUP(($DU193&$C193&$D193),単価情報!$B$66:$C$932,2,FALSE))","v":0},{"$f":"G193","v":0},{"$f":"E193*G193","v":0},{"$f":"E193*H193","v":0},null,null,null,null,null,null,null,null,null,null,null,null,null,null,null,null,null,null,null,null,null,null,null,null,null,null,null,null,null,null,null,null,null,null,null,null,null,null,null,null,null,null,null,null,null,null,null,null,null,null,null,null,null,null,null,null,null,null,null,null,null,null,null,null,null,null,null,null,null,null,null,null,null,null,null,null,null,null,null,null,null,null,null,null,null,null,null,null,null,null,null,null,null,null,null,null,null,null,null,null,null,null,null,null,null,null,null,null,null,null,null,null,null,"",""]
[null,null,null,null,null,null,{"$f":"IF($D194=\"\",0,VLOOKUP(($DU194&$C194&$D194),単価情報!$B$66:$C$932,2,FALSE))","v":0},0,0,0,null,null,null,null,null,null,null,null,null,null,null,null,null,null,null,null,null,null,null,null,null,null,null,null,null,null,null,null,null,null,null,null,null,null,null,null,null,null,null,null,null,null,null,null,null,null,null,null,null,null,null,null,null,null,null,null,null,null,null,null,null,null,null,null,null,null,null,null,null,null,null,null,null,null,null,null,null,null,null,null,null,null,null,null,null,null,null,null,null,null,null,null,null,null,null,null,null,null,null,null,null,null,null,null,null,null,null,null,null,null,null,null,null,"",""]
[null,null,null,null,null,null,{"$f":"IF($D195=\"\",0,VLOOKUP(($DU195&$C195&$D195),単価情報!$B$66:$C$932,2,FALSE))","v":0},0,0,0,null,null,null,null,null,null,null,null,null,null,null,null,null,null,null,null,null,null,null,null,null,null,null,null,null,null,null,null,null,null,null,null,null,null,null,null,null,null,null,null,null,null,null,null,null,null,null,null,null,null,null,null,null,null,null,null,null,null,null,null,null,null,null,null,null,null,null,null,null,null,null,null,null,null,null,null,null,null,null,null,null,null,null,null,null,null,null,null,null,null,null,null,null,null,null,null,null,null,null,null,null,null,null,null,null,null,null,null,null,null,null,null,null,"",""]
[null,null,null,null,null,null,{"$f":"IF($D196=\"\",0,VLOOKUP(($DU196&$C196&$D196),単価情報!$B$66:$C$932,2,FALSE))","v":0},0,0,0,null,null,null,null,null,null,null,null,null,null,null,null,null,null,null,null,null,null,null,null,null,null,null,null,null,null,null,null,null,null,null,null,null,null,null,null,null,null,null,null,null,null,null,null,null,null,null,null,null,null,null,null,null,null,null,null,null,null,null,null,null,null,null,null,null,null,null,null,null,null,null,null,null,null,null,null,null,null,null,null,null,null,null,null,null,null,null,null,null,null,null,null,null,null,null,null,null,null,null,null,null,null,null,null,null,null,null,null,null,null,null,null,null,"",""]
[null,null,null,null,null,null,{"$f":"IF($D197=\"\",0,VLOOKUP(($DU197&$C197&$D197),単価情報!$B$66:$C$932,2,FALSE))","v":0},0,0,0,null,null,null,null,null,null,null,null,null,null,null,null,null,null,null,null,null,null,null,null,null,null,null,null,null,null,null,null,null,null,null,null,null,null,null,null,null,null,null,null,null,null,null,null,null,null,null,null,null,null,null,null,null,null,null,null,null,null,null,null,null,null,null,null,null,null,null,null,null,null,null,null,null,null,null,null,null,null,null,null,null,null,null,null,null,null,null,null,null,null,null,null,null,null,null,null,null,null,null,null,null,null,null,null,null,null,null,null,null,null,null,null,null,"",""]
[null,null,null,null,null,null,{"$f":"IF($D198=\"\",0,VLOOKUP(($DU198&$C198&$D198),単価情報!$B$66:$C$932,2,FALSE))","v":0},0,0,0,null,null,null,null,null,null,null,null,null,null,null,null,null,null,null,null,null,null,null,null,null,null,null,null,null,null,null,null,null,null,null,null,null,null,null,null,null,null,null,null,null,null,null,null,null,null,null,null,null,null,null,null,null,null,null,null,null,null,null,null,null,null,null,null,null,null,null,null,null,null,null,null,null,null,null,null,null,null,null,null,null,null,null,null,null,null,null,null,null,null,null,null,null,null,null,null,null,null,null,null,null,null,null,null,null,null,null,null,null,null,null,null,null,"",""]
[null,null,null,null,null,null,{"$f":"IF($D199=\"\",0,VLOOKUP(($DU199&$C199&$D199),単価情報!$B$66:$C$932,2,FALSE))","v":0},0,0,0,null,null,null,null,null,null,null,null,null,null,null,null,null,null,null,null,null,null,null,null,null,null,null,null,null,null,null,null,null,null,null,null,null,null,null,null,null,null,null,null,null,null,null,null,null,null,null,null,null,null,null,null,null,null,null,null,null,null,null,null,null,null,null,null,null,null,null,null,null,null,null,null,null,null,null,null,null,null,null,null,null,null,null,null,null,null,null,null,null,null,null,null,null,null,null,null,null,null,null,null,null,null,null,null,null,null,null,null,null,null,null,null,null,"",""]
[null,null,null,null,null,null,{"$f":"IF($D200=\"\",0,VLOOKUP(($DU200&$C200&$D200),単価情報!$B$66:$C$932,2,FALSE))","v":0},0,0,0,null,null,null,null,null,null,null,null,null,null,null,null,null,null,null,null,null,null,null,null,null,null,null,null,null,null,null,null,null,null,null,null,null,null,null,null,null,null,null,null,null,null,null,null,null,null,null,null,null,null,null,null,null,null,null,null,null,null,null,null,null,null,null,null,null,null,null,null,null,null,null,null,null,null,null,null,null,null,null,null,null,null,null,null,null,null,null,null,null,null,null,null,null,null,null,null,null,null,null,null,null,null,null,null,null,null,null,null,null,null,null,null,null,"",""]
[null,null,null,null,null,null,{"$f":"IF($D201=\"\",0,VLOOKUP(($DU201&$C201&$D201),単価情報!$B$66:$C$932,2,FALSE))","v":0},0,0,0,null,null,null,null,null,null,null,null,null,null,null,null,null,null,null,null,null,null,null,null,null,null,null,null,null,null,null,null,null,null,null,null,null,null,null,null,null,null,null,null,null,null,null,null,null,null,null,null,null,null,null,null,null,null,null,null,null,null,null,null,null,null,null,null,null,null,null,null,null,null,null,null,null,null,null,null,null,null,null,null,null,null,null,null,null,null,null,null,null,null,null,null,null,null,null,null,null,null,null,null,null,null,null,null,null,null,null,null,null,null,null,null,null,"",""]
[null,null,null,null,null,null,{"$f":"IF($D202=\"\",0,VLOOKUP(($DU202&$C202&$D202),単価情報!$B$66:$C$932,2,FALSE))","v":0},0,0,0,null,null,null,null,null,null,null,null,null,null,null,null,null,null,null,null,null,null,null,null,null,null,null,null,null,null,null,null,null,null,null,null,null,null,null,null,null,null,null,null,null,null,null,null,null,null,null,null,null,null,null,null,null,null,null,null,null,null,null,null,null,null,null,null,null,null,null,null,null,null,null,null,null,null,null,null,null,null,null,null,null,null,null,null,null,null,null,null,null,null,null,null,null,null,null,null,null,null,null,null,null,null,null,null,null,null,null,null,null,null,null,null,null,"",""]
[null,null,null,null,null,null,{"$f":"IF($D203=\"\",0,VLOOKUP(($DU203&$C203&$D203),単価情報!$B$66:$C$932,2,FALSE))","v":0},0,0,0,null,null,null,null,null,null,null,null,null,null,null,null,null,null,null,null,null,null,null,null,null,null,null,null,null,null,null,null,null,null,null,null,null,null,null,null,null,null,null,null,null,null,null,null,null,null,null,null,null,null,null,null,null,null,null,null,null,null,null,null,null,null,null,null,null,null,null,null,null,null,null,null,null,null,null,null,null,null,null,null,null,null,null,null,null,null,null,null,null,null,null,null,null,null,null,null,null,null,null,null,null,null,null,null,null,null,null,null,null,null,null,null,null,"",""]
[null,null,null,null,null,null,{"$f":"IF($D204=\"\",0,VLOOKUP(($DU204&$C204&$D204),単価情報!$B$66:$C$932,2,FALSE))","v":0},0,0,0,null,null,null,null,null,null,null,null,null,null,null,null,null,null,null,null,null,null,null,null,null,null,null,null,null,null,null,null,null,null,null,null,null,null,null,null,null,null,null,null,null,null,null,null,null,null,null,null,null,null,null,null,null,null,null,null,null,null,null,null,null,null,null,null,null,null,null,null,null,null,null,null,null,null,null,null,null,null,null,null,null,null,null,null,null,null,null,null,null,null,null,null,null,null,null,null,null,null,null,null,null,null,null,null,null,null,null,null,null,null,null,null,null,"",""]
[null,null,null,null,null,null,{"$f":"IF($D205=\"\",0,VLOOKUP(($DU205&$C205&$D205),単価情報!$B$66:$C$932,2,FALSE))","v":0},0,0,0,null,null,null,null,null,null,null,null,null,null,null,null,null,null,null,null,null,null,null,null,null,null,null,null,null,null,null,null,null,null,null,null,null,null,null,null,null,null,null,null,null,null,null,null,null,null,null,null,null,null,null,null,null,null,null,null,null,null,null,null,null,null,null,null,null,null,null,null,null,null,null,null,null,null,null,null,null,null,null,null,null,null,null,null,null,null,null,null,null,null,null,null,null,null,null,null,null,null,null,null,null,null,null,null,null,null,null,null,null,null,null,null,null,"",""]
[null,null,null,null,null,null,{"$f":"IF($D206=\"\",0,VLOOKUP(($DU206&$C206&$D206),単価情報!$B$66:$C$932,2,FALSE))","v":0},0,0,0,null,null,null,null,null,null,null,null,null,null,null,null,null,null,null,null,null,null,null,null,null,null,null,null,null,null,null,null,null,null,null,null,null,null,null,null,null,null,null,null,null,null,null,null,null,null,null,null,null,null,null,null,null,null,null,null,null,null,null,null,null,null,null,null,null,null,null,null,null,null,null,null,null,null,null,null,null,null,null,null,null,null,null,null,null,null,null,null,null,null,null,null,null,null,null,null,null,null,null,null,null,null,null,null,null,null,null,null,null,null,null,null,null,"",""]
[null,null,null,null,null,null,{"$f":"IF($D207=\"\",0,VLOOKUP(($DU207&$C207&$D207),単価情報!$B$66:$C$932,2,FALSE))","v":0},0,0,0,null,null,null,null,null,null,null,null,null,null,null,null,null,null,null,null,null,null,null,null,null,null,null,null,null,null,null,null,null,null,null,null,null,null,null,null,null,null,null,null,null,null,null,null,null,null,null,null,null,null,null,null,null,null,null,null,null,null,null,null,null,null,null,null,null,null,null,null,null,null,null,null,null,null,null,null,null,null,null,null,null,null,null,null,null,null,null,null,null,null,null,null,null,null,null,null,null,null,null,null,null,null,null,null,null,null,null,null,null,null,null,null,null,"",""]
[null,null,null,null,null,null,{"$f":"IF($D208=\"\",0,VLOOKUP(($DU208&$C208&$D208),単価情報!$B$66:$C$932,2,FALSE))","v":0},0,0,0,null,null,null,null,null,null,null,null,null,null,null,null,null,null,null,null,null,null,null,null,null,null,null,null,null,null,null,null,null,null,null,null,null,null,null,null,null,null,null,null,null,null,null,null,null,null,null,null,null,null,null,null,null,null,null,null,null,null,null,null,null,null,null,null,null,null,null,null,null,null,null,null,null,null,null,null,null,null,null,null,null,null,null,null,null,null,null,null,null,null,null,null,null,null,null,null,null,null,null,null,null,null,null,null,null,null,null,null,null,null,null,null,null,"",""]
[null,null,null,null,null,null,{"$f":"IF($D209=\"\",0,VLOOKUP(($DU209&$C209&$D209),単価情報!$B$66:$C$932,2,FALSE))","v":0},0,0,0,null,null,null,null,null,null,null,null,null,null,null,null,null,null,null,null,null,null,null,null,null,null,null,null,null,null,null,null,null,null,null,null,null,null,null,null,null,null,null,null,null,null,null,null,null,null,null,null,null,null,null,null,null,null,null,null,null,null,null,null,null,null,null,null,null,null,null,null,null,null,null,null,null,null,null,null,null,null,null,null,null,null,null,null,null,null,null,null,null,null,null,null,null,null,null,null,null,null,null,null,null,null,null,null,null,null,null,null,null,null,null,null,null,"",""]
[null,null,null,null,null,null,{"$f":"IF($D210=\"\",0,VLOOKUP(($DU210&$C210&$D210),単価情報!$B$66:$C$932,2,FALSE))","v":0},0,0,0,null,null,null,null,null,null,null,null,null,null,null,null,null,null,null,null,null,null,null,null,null,null,null,null,null,null,null,null,null,null,null,null,null,null,null,null,null,null,null,null,null,null,null,null,null,null,null,null,null,null,null,null,null,null,null,null,null,null,null,null,null,null,null,null,null,null,null,null,null,null,null,null,null,null,null,null,null,null,null,null,null,null,null,null,null,null,null,null,null,null,null,null,null,null,null,null,null,null,null,null,null,null,null,null,null,null,null,null,null,null,null,null,null,"",""]
[null,null,null,null,null,null,{"$f":"IF($D211=\"\",0,VLOOKUP(($DU211&$C211&$D211),単価情報!$B$66:$C$932,2,FALSE))","v":0},0,0,0,null,null,null,null,null,null,null,null,null,null,null,null,null,null,null,null,null,null,null,null,null,null,null,null,null,null,null,null,null,null,null,null,null,null,null,null,null,null,null,null,null,null,null,null,null,null,null,null,null,null,null,null,null,null,null,null,null,null,null,null,null,null,null,null,null,null,null,null,null,null,null,null,null,null,null,null,null,null,null,null,null,null,null,null,null,null,null,null,null,null,null,null,null,null,null,null,null,null,null,null,null,null,null,null,null,null,null,null,null,null,null,null,null,"",""]
[null,null,null,null,null,null,{"$f":"IF($D212=\"\",0,VLOOKUP(($DU212&$C212&$D212),単価情報!$B$66:$C$932,2,FALSE))","v":0},0,0,0,null,null,null,null,null,null,null,null,null,null,null,null,null,null,null,null,null,null,null,null,null,null,null,null,null,null,null,null,null,null,null,null,null,null,null,null,null,null,null,null,null,null,null,null,null,null,null,null,null,null,null,null,null,null,null,null,null,null,null,null,null,null,null,null,null,null,null,null,null,null,null,null,null,null,null,null,null,null,null,null,null,null,null,null,null,null,null,null,null,null,null,null,null,null,null,null,null,null,null,null,null,null,null,null,null,null,null,null,null,null,null,null,null,"",""]
[null,null,null,null,null,null,{"$f":"IF($D213=\"\",0,VLOOKUP(($DU213&$C213&$D213),単価情報!$B$66:$C$932,2,FALSE))","v":0},0,0,0,null,null,null,null,null,null,null,null,null,null,null,null,null,null,null,null,null,null,null,null,null,null,null,null,null,null,null,null,null,null,null,null,null,null,null,null,null,null,null,null,null,null,null,null,null,null,null,null,null,null,null,null,null,null,null,null,null,null,null,null,null,null,null,null,null,null,null,null,null,null,null,null,null,null,null,null,null,null,null,null,null,null,null,null,null,null,null,null,null,null,null,null,null,null,null,null,null,null,null,null,null,null,null,null,null,null,null,null,null,null,null,null,null,"",""]
[null,null,null,null,null,null,{"$f":"IF($D214=\"\",0,VLOOKUP(($DU214&$C214&$D214),単価情報!$B$66:$C$932,2,FALSE))","v":0},0,0,0,null,null,null,null,null,null,null,null,null,null,null,null,null,null,null,null,null,null,null,null,null,null,null,null,null,null,null,null,null,null,null,null,null,null,null,null,null,null,null,null,null,null,null,null,null,null,null,null,null,null,null,null,null,null,null,null,null,null,null,null,null,null,null,null,null,null,null,null,null,null,null,null,null,null,null,null,null,null,null,null,null,null,null,null,null,null,null,null,null,null,null,null,null,null,null,null,null,null,null,null,null,null,null,null,null,null,null,null,null,null,null,null,null,"",""]
[null,null,null,null,null,null,{"$f":"IF($D215=\"\",0,VLOOKUP(($DU215&$C215&$D215),単価情報!$B$66:$C$932,2,FALSE))","v":0},0,0,0,null,null,null,null,null,null,null,null,null,null,null,null,null,null,null,null,null,null,null,null,null,null,null,null,null,null,null,null,null,null,null,null,null,null,null,null,null,null,null,null,null,null,null,null,null,null,null,null,null,null,null,null,null,null,null,null,null,null,null,null,null,null,null,null,null,null,null,null,null,null,null,null,null,null,null,null,null,null,null,null,null,null,null,null,null,null,null,null,null,null,null,null,null,null,null,null,null,null,null,null,null,null,null,null,null,null,null,null,null,null,null,null,null,"",""]
[null,null,null,null,null,null,{"$f":"IF($D216=\"\",0,VLOOKUP(($DU216&$C216&$D216),単価情報!$B$66:$C$932,2,FALSE))","v":0},0,0,0,null,null,null,null,null,null,null,null,null,null,null,null,null,null,null,null,null,null,null,null,null,null,null,null,null,null,null,null,null,null,null,null,null,null,null,null,null,null,null,null,null,null,null,null,null,null,null,null,null,null,null,null,null,null,null,null,null,null,null,null,null,null,null,null,null,null,null,null,null,null,null,null,null,null,null,null,null,null,null,null,null,null,null,null,null,null,null,null,null,null,null,null,null,null,null,null,null,null,null,null,null,null,null,null,null,null,null,null,null,null,null,null,null,"",""]
[null,null,null,null,null,null,{"$f":"IF($D217=\"\",0,VLOOKUP(($DU217&$C217&$D217),単価情報!$B$66:$C$932,2,FALSE))","v":0},0,0,0,null,null,null,null,null,null,null,null,null,null,null,null,null,null,null,null,null,null,null,null,null,null,null,null,null,null,null,null,null,null,null,null,null,null,null,null,null,null,null,null,null,null,null,null,null,null,null,null,null,null,null,null,null,null,null,null,null,null,null,null,null,null,null,null,null,null,null,null,null,null,null,null,null,null,null,null,null,null,null,null,null,null,null,null,null,null,null,null,null,null,null,null,null,null,null,null,null,null,null,null,null,null,null,null,null,null,null,null,null,null,null,null,null,"",""]
[null,null,null,null,null,null,{"$f":"IF($D218=\"\",0,VLOOKUP(($DU218&$C218&$D218),単価情報!$B$66:$C$932,2,FALSE))","v":0},0,0,0,null,null,null,null,null,null,null,null,null,null,null,null,null,null,null,null,null,null,null,null,null,null,null,null,null,null,null,null,null,null,null,null,null,null,null,null,null,null,null,null,null,null,null,null,null,null,null,null,null,null,null,null,null,null,null,null,null,null,null,null,null,null,null,null,null,null,null,null,null,null,null,null,null,null,null,null,null,null,null,null,null,null,null,null,null,null,null,null,null,null,null,null,null,null,null,null,null,null,null,null,null,null,null,null,null,null,null,null,null,null,null,null,null,"",""]
[null,null,null,null,null,null,{"$f":"IF($D219=\"\",0,VLOOKUP(($DU219&$C219&$D219),単価情報!$B$66:$C$932,2,FALSE))","v":0},0,0,0,null,null,null,null,null,null,null,null,null,null,null,null,null,null,null,null,null,null,null,null,null,null,null,null,null,null,null,null,null,null,null,null,null,null,null,null,null,null,null,null,null,null,null,null,null,null,null,null,null,null,null,null,null,null,null,null,null,null,null,null,null,null,null,null,null,null,null,null,null,null,null,null,null,null,null,null,null,null,null,null,null,null,null,null,null,null,null,null,null,null,null,null,null,null,null,null,null,null,null,null,null,null,null,null,null,null,null,null,null,null,null,null,null,"",""]
[null,null,null,null,null,null,{"$f":"IF($D220=\"\",0,VLOOKUP(($DU220&$C220&$D220),単価情報!$B$66:$C$932,2,FALSE))","v":0},0,0,0,null,null,null,null,null,null,null,null,null,null,null,null,null,null,null,null,null,null,null,null,null,null,null,null,null,null,null,null,null,null,null,null,null,null,null,null,null,null,null,null,null,null,null,null,null,null,null,null,null,null,null,null,null,null,null,null,null,null,null,null,null,null,null,null,null,null,null,null,null,null,null,null,null,null,null,null,null,null,null,null,null,null,null,null,null,null,null,null,null,null,null,null,null,null,null,null,null,null,null,null,null,null,null,null,null,null,null,null,null,null,null,null,null,"",""]
[null,null,null,null,null,null,{"$f":"IF($D221=\"\",0,VLOOKUP(($DU221&$C221&$D221),単価情報!$B$66:$C$932,2,FALSE))","v":0},0,0,0,null,null,null,null,null,null,null,null,null,null,null,null,null,null,null,null,null,null,null,null,null,null,null,null,null,null,null,null,null,null,null,null,null,null,null,null,null,null,null,null,null,null,null,null,null,null,null,null,null,null,null,null,null,null,null,null,null,null,null,null,null,null,null,null,null,null,null,null,null,null,null,null,null,null,null,null,null,null,null,null,null,null,null,null,null,null,null,null,null,null,null,null,null,null,null,null,null,null,null,null,null,null,null,null,null,null,null,null,null,null,null,null,null,"",""]
[null,null,null,null,null,null,{"$f":"IF($D222=\"\",0,VLOOKUP(($DU222&$C222&$D222),単価情報!$B$66:$C$932,2,FALSE))","v":0},0,0,0,null,null,null,null,null,null,null,null,null,null,null,null,null,null,null,null,null,null,null,null,null,null,null,null,null,null,null,null,null,null,null,null,null,null,null,null,null,null,null,null,null,null,null,null,null,null,null,null,null,null,null,null,null,null,null,null,null,null,null,null,null,null,null,null,null,null,null,null,null,null,null,null,null,null,null,null,null,null,null,null,null,null,null,null,null,null,null,null,null,null,null,null,null,null,null,null,null,null,null,null,null,null,null,null,null,null,null,null,null,null,null,null,null,"",""]
[null,null,null,null,null,null,{"$f":"IF($D223=\"\",0,VLOOKUP(($DU223&$C223&$D223),単価情報!$B$66:$C$932,2,FALSE))","v":0},0,0,0,null,null,null,null,null,null,null,null,null,null,null,null,null,null,null,null,null,null,null,null,null,null,null,null,null,null,null,null,null,null,null,null,null,null,null,null,null,null,null,null,null,null,null,null,null,null,null,null,null,null,null,null,null,null,null,null,null,null,null,null,null,null,null,null,null,null,null,null,null,null,null,null,null,null,null,null,null,null,null,null,null,null,null,null,null,null,null,null,null,null,null,null,null,null,null,null,null,null,null,null,null,null,null,null,null,null,null,null,null,null,null,null,null,"",""]
[null,null,null,null,null,null,{"$f":"IF($D224=\"\",0,VLOOKUP(($DU224&$C224&$D224),単価情報!$B$66:$C$932,2,FALSE))","v":0},0,0,0,null,null,null,null,null,null,null,null,null,null,null,null,null,null,null,null,null,null,null,null,null,null,null,null,null,null,null,null,null,null,null,null,null,null,null,null,null,null,null,null,null,null,null,null,null,null,null,null,null,null,null,null,null,null,null,null,null,null,null,null,null,null,null,null,null,null,null,null,null,null,null,null,null,null,null,null,null,null,null,null,null,null,null,null,null,null,null,null,null,null,null,null,null,null,null,null,null,null,null,null,null,null,null,null,null,null,null,null,null,null,null,null,null,"",""]
[null,null,null,null,null,null,{"$f":"IF($D225=\"\",0,VLOOKUP(($DU225&$C225&$D225),単価情報!$B$66:$C$932,2,FALSE))","v":0},0,0,0,null,null,null,null,null,null,null,null,null,null,null,null,null,null,null,null,null,null,null,null,null,null,null,null,null,null,null,null,null,null,null,null,null,null,null,null,null,null,null,null,null,null,null,null,null,null,null,null,null,null,null,null,null,null,null,null,null,null,null,null,null,null,null,null,null,null,null,null,null,null,null,null,null,null,null,null,null,null,null,null,null,null,null,null,null,null,null,null,null,null,null,null,null,null,null,null,null,null,null,null,null,null,null,null,null,null,null,null,null,null,null,null,null,"",""]
[null,null,null,null,null,null,{"$f":"IF($D226=\"\",0,VLOOKUP(($DU226&$C226&$D226),単価情報!$B$66:$C$932,2,FALSE))","v":0},0,0,0,null,null,null,null,null,null,null,null,null,null,null,null,null,null,null,null,null,null,null,null,null,null,null,null,null,null,null,null,null,null,null,null,null,null,null,null,null,null,null,null,null,null,null,null,null,null,null,null,null,null,null,null,null,null,null,null,null,null,null,null,null,null,null,null,null,null,null,null,null,null,null,null,null,null,null,null,null,null,null,null,null,null,null,null,null,null,null,null,null,null,null,null,null,null,null,null,null,null,null,null,null,null,null,null,null,null,null,null,null,null,null,null,null,"",""]
[null,null,null,null,null,null,{"$f":"IF($D227=\"\",0,VLOOKUP(($DU227&$C227&$D227),単価情報!$B$66:$C$932,2,FALSE))","v":0},0,0,0,null,null,null,null,null,null,null,null,null,null,null,null,null,null,null,null,null,null,null,null,null,null,null,null,null,null,null,null,null,null,null,null,null,null,null,null,null,null,null,null,null,null,null,null,null,null,null,null,null,null,null,null,null,null,null,null,null,null,null,null,null,null,null,null,null,null,null,null,null,null,null,null,null,null,null,null,null,null,null,null,null,null,null,null,null,null,null,null,null,null,null,null,null,null,null,null,null,null,null,null,null,null,null,null,null,null,null,null,null,null,null,null,null,"",""]
[null,null,null,null,null,null,{"$f":"IF($D228=\"\",0,VLOOKUP(($DU228&$C228&$D228),単価情報!$B$66:$C$932,2,FALSE))","v":0},0,0,0,null,null,null,null,null,null,null,null,null,null,null,null,null,null,null,null,null,null,null,null,null,null,null,null,null,null,null,null,null,null,null,null,null,null,null,null,null,null,null,null,null,null,null,null,null,null,null,null,null,null,null,null,null,null,null,null,null,null,null,null,null,null,null,null,null,null,null,null,null,null,null,null,null,null,null,null,null,null,null,null,null,null,null,null,null,null,null,null,null,null,null,null,null,null,null,null,null,null,null,null,null,null,null,null,null,null,null,null,null,null,null,null,null,"",""]
[null,null,null,null,null,null,{"$f":"IF($D229=\"\",0,VLOOKUP(($DU229&$C229&$D229),単価情報!$B$66:$C$932,2,FALSE))","v":0},0,0,0,null,null,null,null,null,null,null,null,null,null,null,null,null,null,null,null,null,null,null,null,null,null,null,null,null,null,null,null,null,null,null,null,null,null,null,null,null,null,null,null,null,null,null,null,null,null,null,null,null,null,null,null,null,null,null,null,null,null,null,null,null,null,null,null,null,null,null,null,null,null,null,null,null,null,null,null,null,null,null,null,null,null,null,null,null,null,null,null,null,null,null,null,null,null,null,null,null,null,null,null,null,null,null,null,null,null,null,null,null,null,null,null,null,"",""]
[null,null,null,null,null,null,{"$f":"IF($D230=\"\",0,VLOOKUP(($DU230&$C230&$D230),単価情報!$B$66:$C$932,2,FALSE))","v":0},0,0,0,null,null,null,null,null,null,null,null,null,null,null,null,null,null,null,null,null,null,null,null,null,null,null,null,null,null,null,null,null,null,null,null,null,null,null,null,null,null,null,null,null,null,null,null,null,null,null,null,null,null,null,null,null,null,null,null,null,null,null,null,null,null,null,null,null,null,null,null,null,null,null,null,null,null,null,null,null,null,null,null,null,null,null,null,null,null,null,null,null,null,null,null,null,null,null,null,null,null,null,null,null,null,null,null,null,null,null,null,null,null,null,null,null,"",""]
[null,null,null,null,null,null,{"$f":"IF($D231=\"\",0,VLOOKUP(($DU231&$C231&$D231),単価情報!$B$66:$C$932,2,FALSE))","v":0},0,0,0,null,null,null,null,null,null,null,null,null,null,null,null,null,null,null,null,null,null,null,null,null,null,null,null,null,null,null,null,null,null,null,null,null,null,null,null,null,null,null,null,null,null,null,null,null,null,null,null,null,null,null,null,null,null,null,null,null,null,null,null,null,null,null,null,null,null,null,null,null,null,null,null,null,null,null,null,null,null,null,null,null,null,null,null,null,null,null,null,null,null,null,null,null,null,null,null,null,null,null,null,null,null,null,null,null,null,null,null,null,null,null,null,null,"",""]
[null,null,null,null,null,null,{"$f":"IF($D232=\"\",0,VLOOKUP(($DU232&$C232&$D232),単価情報!$B$66:$C$932,2,FALSE))","v":0},0,0,0,null,null,null,null,null,null,null,null,null,null,null,null,null,null,null,null,null,null,null,null,null,null,null,null,null,null,null,null,null,null,null,null,null,null,null,null,null,null,null,null,null,null,null,null,null,null,null,null,null,null,null,null,null,null,null,null,null,null,null,null,null,null,null,null,null,null,null,null,null,null,null,null,null,null,null,null,null,null,null,null,null,null,null,null,null,null,null,null,null,null,null,null,null,null,null,null,null,null,null,null,null,null,null,null,null,null,null,null,null,null,null,null,null,"",""]
[null,null,null,null,null,null,{"$f":"IF($D233=\"\",0,VLOOKUP(($DU233&$C233&$D233),単価情報!$B$66:$C$932,2,FALSE))","v":0},0,0,0,null,null,null,null,null,null,null,null,null,null,null,null,null,null,null,null,null,null,null,null,null,null,null,null,null,null,null,null,null,null,null,null,null,null,null,null,null,null,null,null,null,null,null,null,null,null,null,null,null,null,null,null,null,null,null,null,null,null,null,null,null,null,null,null,null,null,null,null,null,null,null,null,null,null,null,null,null,null,null,null,null,null,null,null,null,null,null,null,null,null,null,null,null,null,null,null,null,null,null,null,null,null,null,null,null,null,null,null,null,null,null,null,null,"",""]
[null,null,null,null,null,null,{"$f":"IF($D234=\"\",0,VLOOKUP(($DU234&$C234&$D234),単価情報!$B$66:$C$932,2,FALSE))","v":0},0,0,0,null,null,null,null,null,null,null,null,null,null,null,null,null,null,null,null,null,null,null,null,null,null,null,null,null,null,null,null,null,null,null,null,null,null,null,null,null,null,null,null,null,null,null,null,null,null,null,null,null,null,null,null,null,null,null,null,null,null,null,null,null,null,null,null,null,null,null,null,null,null,null,null,null,null,null,null,null,null,null,null,null,null,null,null,null,null,null,null,null,null,null,null,null,null,null,null,null,null,null,null,null,null,null,null,null,null,null,null,null,null,null,null,null,"",""]
[null,null,null,null,null,null,{"$f":"IF($D235=\"\",0,VLOOKUP(($DU235&$C235&$D235),単価情報!$B$66:$C$932,2,FALSE))","v":0},0,0,0,null,null,null,null,null,null,null,null,null,null,null,null,null,null,null,null,null,null,null,null,null,null,null,null,null,null,null,null,null,null,null,null,null,null,null,null,null,null,null,null,null,null,null,null,null,null,null,null,null,null,null,null,null,null,null,null,null,null,null,null,null,null,null,null,null,null,null,null,null,null,null,null,null,null,null,null,null,null,null,null,null,null,null,null,null,null,null,null,null,null,null,null,null,null,null,null,null,null,null,null,null,null,null,null,null,null,null,null,null,null,null,null,null,"",""]
[null,null,null,null,null,null,{"$f":"IF($D236=\"\",0,VLOOKUP(($DU236&$C236&$D236),単価情報!$B$66:$C$932,2,FALSE))","v":0},0,0,0,null,null,null,null,null,null,null,null,null,null,null,null,null,null,null,null,null,null,null,null,null,null,null,null,null,null,null,null,null,null,null,null,null,null,null,null,null,null,null,null,null,null,null,null,null,null,null,null,null,null,null,null,null,null,null,null,null,null,null,null,null,null,null,null,null,null,null,null,null,null,null,null,null,null,null,null,null,null,null,null,null,null,null,null,null,null,null,null,null,null,null,null,null,null,null,null,null,null,null,null,null,null,null,null,null,null,null,null,null,null,null,null,null,"",""]
[null,null,null,null,null,null,{"$f":"IF($D237=\"\",0,VLOOKUP(($DU237&$C237&$D237),単価情報!$B$66:$C$932,2,FALSE))","v":0},0,0,0,null,null,null,null,null,null,null,null,null,null,null,null,null,null,null,null,null,null,null,null,null,null,null,null,null,null,null,null,null,null,null,null,null,null,null,null,null,null,null,null,null,null,null,null,null,null,null,null,null,null,null,null,null,null,null,null,null,null,null,null,null,null,null,null,null,null,null,null,null,null,null,null,null,null,null,null,null,null,null,null,null,null,null,null,null,null,null,null,null,null,null,null,null,null,null,null,null,null,null,null,null,null,null,null,null,null,null,null,null,null,null,null,null,"",""]
[null,null,null,null,null,null,{"$f":"IF($D238=\"\",0,VLOOKUP(($DU238&$C238&$D238),単価情報!$B$66:$C$932,2,FALSE))","v":0},0,0,0,null,null,null,null,null,null,null,null,null,null,null,null,null,null,null,null,null,null,null,null,null,null,null,null,null,null,null,null,null,null,null,null,null,null,null,null,null,null,null,null,null,null,null,null,null,null,null,null,null,null,null,null,null,null,null,null,null,null,null,null,null,null,null,null,null,null,null,null,null,null,null,null,null,null,null,null,null,null,null,null,null,null,null,null,null,null,null,null,null,null,null,null,null,null,null,null,null,null,null,null,null,null,null,null,null,null,null,null,null,null,null,null,null,"",""]
[null,null,null,null,null,null,{"$f":"IF($D239=\"\",0,VLOOKUP(($DU239&$C239&$D239),単価情報!$B$66:$C$932,2,FALSE))","v":0},0,0,0,null,null,null,null,null,null,null,null,null,null,null,null,null,null,null,null,null,null,null,null,null,null,null,null,null,null,null,null,null,null,null,null,null,null,null,null,null,null,null,null,null,null,null,null,null,null,null,null,null,null,null,null,null,null,null,null,null,null,null,null,null,null,null,null,null,null,null,null,null,null,null,null,null,null,null,null,null,null,null,null,null,null,null,null,null,null,null,null,null,null,null,null,null,null,null,null,null,null,null,null,null,null,null,null,null,null,null,null,null,null,null,null,null,"",""]
[null,null,null,null,null,null,{"$f":"IF($D240=\"\",0,VLOOKUP(($DU240&$C240&$D240),単価情報!$B$66:$C$932,2,FALSE))","v":0},0,0,0,null,null,null,null,null,null,null,null,null,null,null,null,null,null,null,null,null,null,null,null,null,null,null,null,null,null,null,null,null,null,null,null,null,null,null,null,null,null,null,null,null,null,null,null,null,null,null,null,null,null,null,null,null,null,null,null,null,null,null,null,null,null,null,null,null,null,null,null,null,null,null,null,null,null,null,null,null,null,null,null,null,null,null,null,null,null,null,null,null,null,null,null,null,null,null,null,null,null,null,null,null,null,null,null,null,null,null,null,null,null,null,null,null,"",""]
[null,null,null,null,null,null,{"$f":"IF($D241=\"\",0,VLOOKUP(($DU241&$C241&$D241),単価情報!$B$66:$C$932,2,FALSE))","v":0},0,0,0,null,null,null,null,null,null,null,null,null,null,null,null,null,null,null,null,null,null,null,null,null,null,null,null,null,null,null,null,null,null,null,null,null,null,null,null,null,null,null,null,null,null,null,null,null,null,null,null,null,null,null,null,null,null,null,null,null,null,null,null,null,null,null,null,null,null,null,null,null,null,null,null,null,null,null,null,null,null,null,null,null,null,null,null,null,null,null,null,null,null,null,null,null,null,null,null,null,null,null,null,null,null,null,null,null,null,null,null,null,null,null,null,null,"",""]
[null,null,null,null,null,null,{"$f":"IF($D242=\"\",0,VLOOKUP(($DU242&$C242&$D242),単価情報!$B$66:$C$932,2,FALSE))","v":0},0,0,0,null,null,null,null,null,null,null,null,null,null,null,null,null,null,null,null,null,null,null,null,null,null,null,null,null,null,null,null,null,null,null,null,null,null,null,null,null,null,null,null,null,null,null,null,null,null,null,null,null,null,null,null,null,null,null,null,null,null,null,null,null,null,null,null,null,null,null,null,null,null,null,null,null,null,null,null,null,null,null,null,null,null,null,null,null,null,null,null,null,null,null,null,null,null,null,null,null,null,null,null,null,null,null,null,null,null,null,null,null,null,null,null,null,"",""]
[null,null,null,null,null,null,{"$f":"IF($D243=\"\",0,VLOOKUP(($DU243&$C243&$D243),単価情報!$B$66:$C$932,2,FALSE))","v":0},0,0,0,null,null,null,null,null,null,null,null,null,null,null,null,null,null,null,null,null,null,null,null,null,null,null,null,null,null,null,null,null,null,null,null,null,null,null,null,null,null,null,null,null,null,null,null,null,null,null,null,null,null,null,null,null,null,null,null,null,null,null,null,null,null,null,null,null,null,null,null,null,null,null,null,null,null,null,null,null,null,null,null,null,null,null,null,null,null,null,null,null,null,null,null,null,null,null,null,null,null,null,null,null,null,null,null,null,null,null,null,null,null,null,null,null,"",""]
[null,null,null,null,null,null,{"$f":"IF($D244=\"\",0,VLOOKUP(($DU244&$C244&$D244),単価情報!$B$66:$C$932,2,FALSE))","v":0},0,0,0,null,null,null,null,null,null,null,null,null,null,null,null,null,null,null,null,null,null,null,null,null,null,null,null,null,null,null,null,null,null,null,null,null,null,null,null,null,null,null,null,null,null,null,null,null,null,null,null,null,null,null,null,null,null,null,null,null,null,null,null,null,null,null,null,null,null,null,null,null,null,null,null,null,null,null,null,null,null,null,null,null,null,null,null,null,null,null,null,null,null,null,null,null,null,null,null,null,null,null,null,null,null,null,null,null,null,null,null,null,null,null,null,null,"",""]
[null,null,null,null,null,null,{"$f":"IF($D245=\"\",0,VLOOKUP(($DU245&$C245&$D245),単価情報!$B$66:$C$932,2,FALSE))","v":0},0,0,0,null,null,null,null,null,null,null,null,null,null,null,null,null,null,null,null,null,null,null,null,null,null,null,null,null,null,null,null,null,null,null,null,null,null,null,null,null,null,null,null,null,null,null,null,null,null,null,null,null,null,null,null,null,null,null,null,null,null,null,null,null,null,null,null,null,null,null,null,null,null,null,null,null,null,null,null,null,null,null,null,null,null,null,null,null,null,null,null,null,null,null,null,null,null,null,null,null,null,null,null,null,null,null,null,null,null,null,null,null,null,null,null,null,"",""]
[null,null,null,null,null,null,{"$f":"IF($D246=\"\",0,VLOOKUP(($DU246&$C246&$D246),単価情報!$B$66:$C$932,2,FALSE))","v":0},0,0,0,null,null,null,null,null,null,null,null,null,null,null,null,null,null,null,null,null,null,null,null,null,null,null,null,null,null,null,null,null,null,null,null,null,null,null,null,null,null,null,null,null,null,null,null,null,null,null,null,null,null,null,null,null,null,null,null,null,null,null,null,null,null,null,null,null,null,null,null,null,null,null,null,null,null,null,null,null,null,null,null,null,null,null,null,null,null,null,null,null,null,null,null,null,null,null,null,null,null,null,null,null,null,null,null,null,null,null,null,null,null,null,null,null,"",""]
[null,null,null,null,null,null,{"$f":"IF($D247=\"\",0,VLOOKUP(($DU247&$C247&$D247),単価情報!$B$66:$C$932,2,FALSE))","v":0},0,0,0,null,null,null,null,null,null,null,null,null,null,null,null,null,null,null,null,null,null,null,null,null,null,null,null,null,null,null,null,null,null,null,null,null,null,null,null,null,null,null,null,null,null,null,null,null,null,null,null,null,null,null,null,null,null,null,null,null,null,null,null,null,null,null,null,null,null,null,null,null,null,null,null,null,null,null,null,null,null,null,null,null,null,null,null,null,null,null,null,null,null,null,null,null,null,null,null,null,null,null,null,null,null,null,null,null,null,null,null,null,null,null,null,null,"",""]
[null,null,null,null,null,null,{"$f":"IF($D248=\"\",0,VLOOKUP(($DU248&$C248&$D248),単価情報!$B$66:$C$932,2,FALSE))","v":0},0,0,0,null,null,null,null,null,null,null,null,null,null,null,null,null,null,null,null,null,null,null,null,null,null,null,null,null,null,null,null,null,null,null,null,null,null,null,null,null,null,null,null,null,null,null,null,null,null,null,null,null,null,null,null,null,null,null,null,null,null,null,null,null,null,null,null,null,null,null,null,null,null,null,null,null,null,null,null,null,null,null,null,null,null,null,null,null,null,null,null,null,null,null,null,null,null,null,null,null,null,null,null,null,null,null,null,null,null,null,null,null,null,null,null,null,"",""]
[null,null,null,null,null,null,{"$f":"IF($D249=\"\",0,VLOOKUP(($DU249&$C249&$D249),単価情報!$B$66:$C$932,2,FALSE))","v":0},0,0,0,null,null,null,null,null,null,null,null,null,null,null,null,null,null,null,null,null,null,null,null,null,null,null,null,null,null,null,null,null,null,null,null,null,null,null,null,null,null,null,null,null,null,null,null,null,null,null,null,null,null,null,null,null,null,null,null,null,null,null,null,null,null,null,null,null,null,null,null,null,null,null,null,null,null,null,null,null,null,null,null,null,null,null,null,null,null,null,null,null,null,null,null,null,null,null,null,null,null,null,null,null,null,null,null,null,null,null,null,null,null,null,null,null,"",""]
[null,null,null,null,null,null,{"$f":"IF($D250=\"\",0,VLOOKUP(($DU250&$C250&$D250),単価情報!$B$66:$C$932,2,FALSE))","v":0},0,0,0,null,null,null,null,null,null,null,null,null,null,null,null,null,null,null,null,null,null,null,null,null,null,null,null,null,null,null,null,null,null,null,null,null,null,null,null,null,null,null,null,null,null,null,null,null,null,null,null,null,null,null,null,null,null,null,null,null,null,null,null,null,null,null,null,null,null,null,null,null,null,null,null,null,null,null,null,null,null,null,null,null,null,null,null,null,null,null,null,null,null,null,null,null,null,null,null,null,null,null,null,null,null,null,null,null,null,null,null,null,null,null,null,null,"",""]
[null,null,null,null,null,null,{"$f":"IF($D251=\"\",0,VLOOKUP(($DU251&$C251&$D251),単価情報!$B$66:$C$932,2,FALSE))","v":0},0,0,0,null,null,null,null,null,null,null,null,null,null,null,null,null,null,null,null,null,null,null,null,null,null,null,null,null,null,null,null,null,null,null,null,null,null,null,null,null,null,null,null,null,null,null,null,null,null,null,null,null,null,null,null,null,null,null,null,null,null,null,null,null,null,null,null,null,null,null,null,null,null,null,null,null,null,null,null,null,null,null,null,null,null,null,null,null,null,null,null,null,null,null,null,null,null,null,null,null,null,null,null,null,null,null,null,null,null,null,null,null,null,null,null,null,"",""]
[null,null,null,null,null,null,{"$f":"IF($D252=\"\",0,VLOOKUP(($DU252&$C252&$D252),単価情報!$B$66:$C$932,2,FALSE))","v":0},0,0,0,null,null,null,null,null,null,null,null,null,null,null,null,null,null,null,null,null,null,null,null,null,null,null,null,null,null,null,null,null,null,null,null,null,null,null,null,null,null,null,null,null,null,null,null,null,null,null,null,null,null,null,null,null,null,null,null,null,null,null,null,null,null,null,null,null,null,null,null,null,null,null,null,null,null,null,null,null,null,null,null,null,null,null,null,null,null,null,null,null,null,null,null,null,null,null,null,null,null,null,null,null,null,null,null,null,null,null,null,null,null,null,null,null,"",""]
[null,null,null,null,null,null,{"$f":"IF($D253=\"\",0,VLOOKUP(($DU253&$C253&$D253),単価情報!$B$66:$C$932,2,FALSE))","v":0},0,0,0,null,null,null,null,null,null,null,null,null,null,null,null,null,null,null,null,null,null,null,null,null,null,null,null,null,null,null,null,null,null,null,null,null,null,null,null,null,null,null,null,null,null,null,null,null,null,null,null,null,null,null,null,null,null,null,null,null,null,null,null,null,null,null,null,null,null,null,null,null,null,null,null,null,null,null,null,null,null,null,null,null,null,null,null,null,null,null,null,null,null,null,null,null,null,null,null,null,null,null,null,null,null,null,null,null,null,null,null,null,null,null,null,null,"",""]
[null,null,null,null,null,null,{"$f":"IF($D254=\"\",0,VLOOKUP(($DU254&$C254&$D254),単価情報!$B$66:$C$932,2,FALSE))","v":0},0,0,0,null,null,null,null,null,null,null,null,null,null,null,null,null,null,null,null,null,null,null,null,null,null,null,null,null,null,null,null,null,null,null,null,null,null,null,null,null,null,null,null,null,null,null,null,null,null,null,null,null,null,null,null,null,null,null,null,null,null,null,null,null,null,null,null,null,null,null,null,null,null,null,null,null,null,null,null,null,null,null,null,null,null,null,null,null,null,null,null,null,null,null,null,null,null,null,null,null,null,null,null,null,null,null,null,null,null,null,null,null,null,null,null,null,"",""]
[null,null,null,null,null,null,{"$f":"IF($D255=\"\",0,VLOOKUP(($DU255&$C255&$D255),単価情報!$B$66:$C$932,2,FALSE))","v":0},0,0,0,null,null,null,null,null,null,null,null,null,null,null,null,null,null,null,null,null,null,null,null,null,null,null,null,null,null,null,null,null,null,null,null,null,null,null,null,null,null,null,null,null,null,null,null,null,null,null,null,null,null,null,null,null,null,null,null,null,null,null,null,null,null,null,null,null,null,null,null,null,null,null,null,null,null,null,null,null,null,null,null,null,null,null,null,null,null,null,null,null,null,null,null,null,null,null,null,null,null,null,null,null,null,null,null,null,null,null,null,null,null,null,null,null,"",""]
[null,null,null,null,null,null,{"$f":"IF($D256=\"\",0,VLOOKUP(($DU256&$C256&$D256),単価情報!$B$66:$C$932,2,FALSE))","v":0},0,0,0,null,null,null,null,null,null,null,null,null,null,null,null,null,null,null,null,null,null,null,null,null,null,null,null,null,null,null,null,null,null,null,null,null,null,null,null,null,null,null,null,null,null,null,null,null,null,null,null,null,null,null,null,null,null,null,null,null,null,null,null,null,null,null,null,null,null,null,null,null,null,null,null,null,null,null,null,null,null,null,null,null,null,null,null,null,null,null,null,null,null,null,null,null,null,null,null,null,null,null,null,null,null,null,null,null,null,null,null,null,null,null,null,null,"",""]
[null,null,null,null,null,null,{"$f":"IF($D257=\"\",0,VLOOKUP(($DU257&$C257&$D257),単価情報!$B$66:$C$932,2,FALSE))","v":0},{"$f":"G257","v":0},{"$f":"E257*G257","v":0},{"$f":"E257*H257","v":0},null,null,null,null,null,null,null,null,null,null,null,null,null,null,null,null,null,null,null,null,null,null,null,null,null,null,null,null,null,null,null,null,null,null,null,null,null,null,null,null,null,null,null,null,null,null,null,null,null,null,null,null,null,null,null,null,null,null,null,null,null,null,null,null,null,null,null,null,null,null,null,null,null,null,null,null,null,null,null,null,null,null,null,null,null,null,null,null,null,null,null,null,null,null,null,null,null,null,null,null,null,null,null,null,null,null,null,null,null,null,null,null,null,"",""]
[null,null,null,null,null,null,{"$f":"IF($D258=\"\",0,VLOOKUP(($DU258&$C258&$D258),単価情報!$B$66:$C$932,2,FALSE))","v":0},0,0,0,null,null,null,null,null,null,null,null,null,null,null,null,null,null,null,null,null,null,null,null,null,null,null,null,null,null,null,null,null,null,null,null,null,null,null,null,null,null,null,null,null,null,null,null,null,null,null,null,null,null,null,null,null,null,null,null,null,null,null,null,null,null,null,null,null,null,null,null,null,null,null,null,null,null,null,null,null,null,null,null,null,null,null,null,null,null,null,null,null,null,null,null,null,null,null,null,null,null,null,null,null,null,null,null,null,null,null,null,null,null,null,null,null,"",""]
[null,null,null,null,null,null,{"$f":"IF($D259=\"\",0,VLOOKUP(($DU259&$C259&$D259),単価情報!$B$66:$C$932,2,FALSE))","v":0},0,0,0,null,null,null,null,null,null,null,null,null,null,null,null,null,null,null,null,null,null,null,null,null,null,null,null,null,null,null,null,null,null,null,null,null,null,null,null,null,null,null,null,null,null,null,null,null,null,null,null,null,null,null,null,null,null,null,null,null,null,null,null,null,null,null,null,null,null,null,null,null,null,null,null,null,null,null,null,null,null,null,null,null,null,null,null,null,null,null,null,null,null,null,null,null,null,null,null,null,null,null,null,null,null,null,null,null,null,null,null,null,null,null,null,null,"",""]
[null,null,null,null,null,null,{"$f":"IF($D260=\"\",0,VLOOKUP(($DU260&$C260&$D260),単価情報!$B$66:$C$932,2,FALSE))","v":0},0,0,0,null,null,null,null,null,null,null,null,null,null,null,null,null,null,null,null,null,null,null,null,null,null,null,null,null,null,null,null,null,null,null,null,null,null,null,null,null,null,null,null,null,null,null,null,null,null,null,null,null,null,null,null,null,null,null,null,null,null,null,null,null,null,null,null,null,null,null,null,null,null,null,null,null,null,null,null,null,null,null,null,null,null,null,null,null,null,null,null,null,null,null,null,null,null,null,null,null,null,null,null,null,null,null,null,null,null,null,null,null,null,null,null,null,"",""]
[null,null,null,null,null,null,{"$f":"IF($D261=\"\",0,VLOOKUP(($DU261&$C261&$D261),単価情報!$B$66:$C$932,2,FALSE))","v":0},0,0,0,null,null,null,null,null,null,null,null,null,null,null,null,null,null,null,null,null,null,null,null,null,null,null,null,null,null,null,null,null,null,null,null,null,null,null,null,null,null,null,null,null,null,null,null,null,null,null,null,null,null,null,null,null,null,null,null,null,null,null,null,null,null,null,null,null,null,null,null,null,null,null,null,null,null,null,null,null,null,null,null,null,null,null,null,null,null,null,null,null,null,null,null,null,null,null,null,null,null,null,null,null,null,null,null,null,null,null,null,null,null,null,null,null,"",""]
[null,null,null,null,null,null,{"$f":"IF($D262=\"\",0,VLOOKUP(($DU262&$C262&$D262),単価情報!$B$66:$C$932,2,FALSE))","v":0},0,0,0,null,null,null,null,null,null,null,null,null,null,null,null,null,null,null,null,null,null,null,null,null,null,null,null,null,null,null,null,null,null,null,null,null,null,null,null,null,null,null,null,null,null,null,null,null,null,null,null,null,null,null,null,null,null,null,null,null,null,null,null,null,null,null,null,null,null,null,null,null,null,null,null,null,null,null,null,null,null,null,null,null,null,null,null,null,null,null,null,null,null,null,null,null,null,null,null,null,null,null,null,null,null,null,null,null,null,null,null,null,null,null,null,null,"",""]
[null,null,null,null,null,null,{"$f":"IF($D263=\"\",0,VLOOKUP(($DU263&$C263&$D263),単価情報!$B$66:$C$932,2,FALSE))","v":0},0,0,0,null,null,null,null,null,null,null,null,null,null,null,null,null,null,null,null,null,null,null,null,null,null,null,null,null,null,null,null,null,null,null,null,null,null,null,null,null,null,null,null,null,null,null,null,null,null,null,null,null,null,null,null,null,null,null,null,null,null,null,null,null,null,null,null,null,null,null,null,null,null,null,null,null,null,null,null,null,null,null,null,null,null,null,null,null,null,null,null,null,null,null,null,null,null,null,null,null,null,null,null,null,null,null,null,null,null,null,null,null,null,null,null,null,"",""]
[null,null,null,null,null,null,{"$f":"IF($D264=\"\",0,VLOOKUP(($DU264&$C264&$D264),単価情報!$B$66:$C$932,2,FALSE))","v":0},0,0,0,null,null,null,null,null,null,null,null,null,null,null,null,null,null,null,null,null,null,null,null,null,null,null,null,null,null,null,null,null,null,null,null,null,null,null,null,null,null,null,null,null,null,null,null,null,null,null,null,null,null,null,null,null,null,null,null,null,null,null,null,null,null,null,null,null,null,null,null,null,null,null,null,null,null,null,null,null,null,null,null,null,null,null,null,null,null,null,null,null,null,null,null,null,null,null,null,null,null,null,null,null,null,null,null,null,null,null,null,null,null,null,null,null,"",""]
[null,null,null,null,null,null,{"$f":"IF($D265=\"\",0,VLOOKUP(($DU265&$C265&$D265),単価情報!$B$66:$C$932,2,FALSE))","v":0},0,0,0,null,null,null,null,null,null,null,null,null,null,null,null,null,null,null,null,null,null,null,null,null,null,null,null,null,null,null,null,null,null,null,null,null,null,null,null,null,null,null,null,null,null,null,null,null,null,null,null,null,null,null,null,null,null,null,null,null,null,null,null,null,null,null,null,null,null,null,null,null,null,null,null,null,null,null,null,null,null,null,null,null,null,null,null,null,null,null,null,null,null,null,null,null,null,null,null,null,null,null,null,null,null,null,null,null,null,null,null,null,null,null,null,null,"",""]
[null,null,null,null,null,null,{"$f":"IF($D266=\"\",0,VLOOKUP(($DU266&$C266&$D266),単価情報!$B$66:$C$932,2,FALSE))","v":0},0,0,0,null,null,null,null,null,null,null,null,null,null,null,null,null,null,null,null,null,null,null,null,null,null,null,null,null,null,null,null,null,null,null,null,null,null,null,null,null,null,null,null,null,null,null,null,null,null,null,null,null,null,null,null,null,null,null,null,null,null,null,null,null,null,null,null,null,null,null,null,null,null,null,null,null,null,null,null,null,null,null,null,null,null,null,null,null,null,null,null,null,null,null,null,null,null,null,null,null,null,null,null,null,null,null,null,null,null,null,null,null,null,null,null,null,"",""]
[null,null,null,null,null,null,{"$f":"IF($D267=\"\",0,VLOOKUP(($DU267&$C267&$D267),単価情報!$B$66:$C$932,2,FALSE))","v":0},0,0,0,null,null,null,null,null,null,null,null,null,null,null,null,null,null,null,null,null,null,null,null,null,null,null,null,null,null,null,null,null,null,null,null,null,null,null,null,null,null,null,null,null,null,null,null,null,null,null,null,null,null,null,null,null,null,null,null,null,null,null,null,null,null,null,null,null,null,null,null,null,null,null,null,null,null,null,null,null,null,null,null,null,null,null,null,null,null,null,null,null,null,null,null,null,null,null,null,null,null,null,null,null,null,null,null,null,null,null,null,null,null,null,null,null,"",""]
[null,null,null,null,null,null,{"$f":"IF($D268=\"\",0,VLOOKUP(($DU268&$C268&$D268),単価情報!$B$66:$C$932,2,FALSE))","v":0},0,0,0,null,null,null,null,null,null,null,null,null,null,null,null,null,null,null,null,null,null,null,null,null,null,null,null,null,null,null,null,null,null,null,null,null,null,null,null,null,null,null,null,null,null,null,null,null,null,null,null,null,null,null,null,null,null,null,null,null,null,null,null,null,null,null,null,null,null,null,null,null,null,null,null,null,null,null,null,null,null,null,null,null,null,null,null,null,null,null,null,null,null,null,null,null,null,null,null,null,null,null,null,null,null,null,null,null,null,null,null,null,null,null,null,null,"",""]
[null,null,null,null,null,null,{"$f":"IF($D269=\"\",0,VLOOKUP(($DU269&$C269&$D269),単価情報!$B$66:$C$932,2,FALSE))","v":0},0,0,0,null,null,null,null,null,null,null,null,null,null,null,null,null,null,null,null,null,null,null,null,null,null,null,null,null,null,null,null,null,null,null,null,null,null,null,null,null,null,null,null,null,null,null,null,null,null,null,null,null,null,null,null,null,null,null,null,null,null,null,null,null,null,null,null,null,null,null,null,null,null,null,null,null,null,null,null,null,null,null,null,null,null,null,null,null,null,null,null,null,null,null,null,null,null,null,null,null,null,null,null,null,null,null,null,null,null,null,null,null,null,null,null,null,"",""]
[null,null,null,null,null,null,{"$f":"IF($D270=\"\",0,VLOOKUP(($DU270&$C270&$D270),単価情報!$B$66:$C$932,2,FALSE))","v":0},0,0,0,null,null,null,null,null,null,null,null,null,null,null,null,null,null,null,null,null,null,null,null,null,null,null,null,null,null,null,null,null,null,null,null,null,null,null,null,null,null,null,null,null,null,null,null,null,null,null,null,null,null,null,null,null,null,null,null,null,null,null,null,null,null,null,null,null,null,null,null,null,null,null,null,null,null,null,null,null,null,null,null,null,null,null,null,null,null,null,null,null,null,null,null,null,null,null,null,null,null,null,null,null,null,null,null,null,null,null,null,null,null,null,null,null,"",""]
[null,null,null,null,null,null,{"$f":"IF($D271=\"\",0,VLOOKUP(($DU271&$C271&$D271),単価情報!$B$66:$C$932,2,FALSE))","v":0},0,0,0,null,null,null,null,null,null,null,null,null,null,null,null,null,null,null,null,null,null,null,null,null,null,null,null,null,null,null,null,null,null,null,null,null,null,null,null,null,null,null,null,null,null,null,null,null,null,null,null,null,null,null,null,null,null,null,null,null,null,null,null,null,null,null,null,null,null,null,null,null,null,null,null,null,null,null,null,null,null,null,null,null,null,null,null,null,null,null,null,null,null,null,null,null,null,null,null,null,null,null,null,null,null,null,null,null,null,null,null,null,null,null,null,null,"",""]
[null,null,null,null,null,null,{"$f":"IF($D272=\"\",0,VLOOKUP(($DU272&$C272&$D272),単価情報!$B$66:$C$932,2,FALSE))","v":0},0,0,0,null,null,null,null,null,null,null,null,null,null,null,null,null,null,null,null,null,null,null,null,null,null,null,null,null,null,null,null,null,null,null,null,null,null,null,null,null,null,null,null,null,null,null,null,null,null,null,null,null,null,null,null,null,null,null,null,null,null,null,null,null,null,null,null,null,null,null,null,null,null,null,null,null,null,null,null,null,null,null,null,null,null,null,null,null,null,null,null,null,null,null,null,null,null,null,null,null,null,null,null,null,null,null,null,null,null,null,null,null,null,null,null,null,"",""]
[null,null,null,null,null,null,{"$f":"IF($D273=\"\",0,VLOOKUP(($DU273&$C273&$D273),単価情報!$B$66:$C$932,2,FALSE))","v":0},0,0,0,null,null,null,null,null,null,null,null,null,null,null,null,null,null,null,null,null,null,null,null,null,null,null,null,null,null,null,null,null,null,null,null,null,null,null,null,null,null,null,null,null,null,null,null,null,null,null,null,null,null,null,null,null,null,null,null,null,null,null,null,null,null,null,null,null,null,null,null,null,null,null,null,null,null,null,null,null,null,null,null,null,null,null,null,null,null,null,null,null,null,null,null,null,null,null,null,null,null,null,null,null,null,null,null,null,null,null,null,null,null,null,null,null,"",""]
[null,null,null,null,null,null,{"$f":"IF($D274=\"\",0,VLOOKUP(($DU274&$C274&$D274),単価情報!$B$66:$C$932,2,FALSE))","v":0},0,0,0,null,null,null,null,null,null,null,null,null,null,null,null,null,null,null,null,null,null,null,null,null,null,null,null,null,null,null,null,null,null,null,null,null,null,null,null,null,null,null,null,null,null,null,null,null,null,null,null,null,null,null,null,null,null,null,null,null,null,null,null,null,null,null,null,null,null,null,null,null,null,null,null,null,null,null,null,null,null,null,null,null,null,null,null,null,null,null,null,null,null,null,null,null,null,null,null,null,null,null,null,null,null,null,null,null,null,null,null,null,null,null,null,null,"",""]
[null,null,null,null,null,null,{"$f":"IF($D275=\"\",0,VLOOKUP(($DU275&$C275&$D275),単価情報!$B$66:$C$932,2,FALSE))","v":0},0,0,0,null,null,null,null,null,null,null,null,null,null,null,null,null,null,null,null,null,null,null,null,null,null,null,null,null,null,null,null,null,null,null,null,null,null,null,null,null,null,null,null,null,null,null,null,null,null,null,null,null,null,null,null,null,null,null,null,null,null,null,null,null,null,null,null,null,null,null,null,null,null,null,null,null,null,null,null,null,null,null,null,null,null,null,null,null,null,null,null,null,null,null,null,null,null,null,null,null,null,null,null,null,null,null,null,null,null,null,null,null,null,null,null,null,"",""]
[null,null,null,null,null,null,{"$f":"IF($D276=\"\",0,VLOOKUP(($DU276&$C276&$D276),単価情報!$B$66:$C$932,2,FALSE))","v":0},0,0,0,null,null,null,null,null,null,null,null,null,null,null,null,null,null,null,null,null,null,null,null,null,null,null,null,null,null,null,null,null,null,null,null,null,null,null,null,null,null,null,null,null,null,null,null,null,null,null,null,null,null,null,null,null,null,null,null,null,null,null,null,null,null,null,null,null,null,null,null,null,null,null,null,null,null,null,null,null,null,null,null,null,null,null,null,null,null,null,null,null,null,null,null,null,null,null,null,null,null,null,null,null,null,null,null,null,null,null,null,null,null,null,null,null,"",""]
[null,null,null,null,null,null,{"$f":"IF($D277=\"\",0,VLOOKUP(($DU277&$C277&$D277),単価情報!$B$66:$C$932,2,FALSE))","v":0},0,0,0,null,null,null,null,null,null,null,null,null,null,null,null,null,null,null,null,null,null,null,null,null,null,null,null,null,null,null,null,null,null,null,null,null,null,null,null,null,null,null,null,null,null,null,null,null,null,null,null,null,null,null,null,null,null,null,null,null,null,null,null,null,null,null,null,null,null,null,null,null,null,null,null,null,null,null,null,null,null,null,null,null,null,null,null,null,null,null,null,null,null,null,null,null,null,null,null,null,null,null,null,null,null,null,null,null,null,null,null,null,null,null,null,null,"",""]
[null,null,null,null,null,null,{"$f":"IF($D278=\"\",0,VLOOKUP(($DU278&$C278&$D278),単価情報!$B$66:$C$932,2,FALSE))","v":0},0,0,0,null,null,null,null,null,null,null,null,null,null,null,null,null,null,null,null,null,null,null,null,null,null,null,null,null,null,null,null,null,null,null,null,null,null,null,null,null,null,null,null,null,null,null,null,null,null,null,null,null,null,null,null,null,null,null,null,null,null,null,null,null,null,null,null,null,null,null,null,null,null,null,null,null,null,null,null,null,null,null,null,null,null,null,null,null,null,null,null,null,null,null,null,null,null,null,null,null,null,null,null,null,null,null,null,null,null,null,null,null,null,null,null,null,"",""]
[null,null,null,null,null,null,{"$f":"IF($D279=\"\",0,VLOOKUP(($DU279&$C279&$D279),単価情報!$B$66:$C$932,2,FALSE))","v":0},0,0,0,null,null,null,null,null,null,null,null,null,null,null,null,null,null,null,null,null,null,null,null,null,null,null,null,null,null,null,null,null,null,null,null,null,null,null,null,null,null,null,null,null,null,null,null,null,null,null,null,null,null,null,null,null,null,null,null,null,null,null,null,null,null,null,null,null,null,null,null,null,null,null,null,null,null,null,null,null,null,null,null,null,null,null,null,null,null,null,null,null,null,null,null,null,null,null,null,null,null,null,null,null,null,null,null,null,null,null,null,null,null,null,null,null,"",""]
[null,null,null,null,null,null,{"$f":"IF($D280=\"\",0,VLOOKUP(($DU280&$C280&$D280),単価情報!$B$66:$C$932,2,FALSE))","v":0},0,0,0,null,null,null,null,null,null,null,null,null,null,null,null,null,null,null,null,null,null,null,null,null,null,null,null,null,null,null,null,null,null,null,null,null,null,null,null,null,null,null,null,null,null,null,null,null,null,null,null,null,null,null,null,null,null,null,null,null,null,null,null,null,null,null,null,null,null,null,null,null,null,null,null,null,null,null,null,null,null,null,null,null,null,null,null,null,null,null,null,null,null,null,null,null,null,null,null,null,null,null,null,null,null,null,null,null,null,null,null,null,null,null,null,null,"",""]
[null,null,null,null,null,null,{"$f":"IF($D281=\"\",0,VLOOKUP(($DU281&$C281&$D281),単価情報!$B$66:$C$932,2,FALSE))","v":0},0,0,0,null,null,null,null,null,null,null,null,null,null,null,null,null,null,null,null,null,null,null,null,null,null,null,null,null,null,null,null,null,null,null,null,null,null,null,null,null,null,null,null,null,null,null,null,null,null,null,null,null,null,null,null,null,null,null,null,null,null,null,null,null,null,null,null,null,null,null,null,null,null,null,null,null,null,null,null,null,null,null,null,null,null,null,null,null,null,null,null,null,null,null,null,null,null,null,null,null,null,null,null,null,null,null,null,null,null,null,null,null,null,null,null,null,"",""]
[null,null,null,null,null,null,{"$f":"IF($D282=\"\",0,VLOOKUP(($DU282&$C282&$D282),単価情報!$B$66:$C$932,2,FALSE))","v":0},0,0,0,null,null,null,null,null,null,null,null,null,null,null,null,null,null,null,null,null,null,null,null,null,null,null,null,null,null,null,null,null,null,null,null,null,null,null,null,null,null,null,null,null,null,null,null,null,null,null,null,null,null,null,null,null,null,null,null,null,null,null,null,null,null,null,null,null,null,null,null,null,null,null,null,null,null,null,null,null,null,null,null,null,null,null,null,null,null,null,null,null,null,null,null,null,null,null,null,null,null,null,null,null,null,null,null,null,null,null,null,null,null,null,null,null,"",""]
[null,null,null,null,null,null,{"$f":"IF($D283=\"\",0,VLOOKUP(($DU283&$C283&$D283),単価情報!$B$66:$C$932,2,FALSE))","v":0},0,0,0,null,null,null,null,null,null,null,null,null,null,null,null,null,null,null,null,null,null,null,null,null,null,null,null,null,null,null,null,null,null,null,null,null,null,null,null,null,null,null,null,null,null,null,null,null,null,null,null,null,null,null,null,null,null,null,null,null,null,null,null,null,null,null,null,null,null,null,null,null,null,null,null,null,null,null,null,null,null,null,null,null,null,null,null,null,null,null,null,null,null,null,null,null,null,null,null,null,null,null,null,null,null,null,null,null,null,null,null,null,null,null,null,null,{"$f":"IF($B283=\"\",\"\",VLOOKUP($A283,$DW$11:$DX$18,2,FALSE))","v":""},{"$f":"IF($B283=\"\",\"\",VLOOKUP($B283,$DY$11:$DZ$27,2,FALSE))","v":""}]
[null,null,null,null,null,null,{"$f":"IF($D284=\"\",0,VLOOKUP(($DU284&$C284&$D284),単価情報!$B$66:$C$932,2,FALSE))","v":0},0,0,0,null,null,null,null,null,null,null,null,null,null,null,null,null,null,null,null,null,null,null,null,null,null,null,null,null,null,null,null,null,null,null,null,null,null,null,null,null,null,null,null,null,null,null,null,null,null,null,null,null,null,null,null,null,null,null,null,null,null,null,null,null,null,null,null,null,null,null,null,null,null,null,null,null,null,null,null,null,null,null,null,null,null,null,null,null,null,null,null,null,null,null,null,null,null,null,null,null,null,null,null,null,null,null,null,null,null,null,null,null,null,null,null,null,"",""]
[null,null,null,null,null,null,{"$f":"IF($D285=\"\",0,VLOOKUP(($DU285&$C285&$D285),単価情報!$B$66:$C$932,2,FALSE))","v":0},0,0,0,null,null,null,null,null,null,null,null,null,null,null,null,null,null,null,null,null,null,null,null,null,null,null,null,null,null,null,null,null,null,null,null,null,null,null,null,null,null,null,null,null,null,null,null,null,null,null,null,null,null,null,null,null,null,null,null,null,null,null,null,null,null,null,null,null,null,null,null,null,null,null,null,null,null,null,null,null,null,null,null,null,null,null,null,null,null,null,null,null,null,null,null,null,null,null,null,null,null,null,null,null,null,null,null,null,null,null,null,null,null,null,null,null,"",""]
[null,null,null,null,null,null,{"$f":"IF($D286=\"\",0,VLOOKUP(($DU286&$C286&$D286),単価情報!$B$66:$C$932,2,FALSE))","v":0},0,0,0,null,null,null,null,null,null,null,null,null,null,null,null,null,null,null,null,null,null,null,null,null,null,null,null,null,null,null,null,null,null,null,null,null,null,null,null,null,null,null,null,null,null,null,null,null,null,null,null,null,null,null,null,null,null,null,null,null,null,null,null,null,null,null,null,null,null,null,null,null,null,null,null,null,null,null,null,null,null,null,null,null,null,null,null,null,null,null,null,null,null,null,null,null,null,null,null,null,null,null,null,null,null,null,null,null,null,null,null,null,null,null,null,null,"",""]
[null,null,null,null,null,null,{"$f":"IF($D287=\"\",0,VLOOKUP(($DU287&$C287&$D287),単価情報!$B$66:$C$932,2,FALSE))","v":0},0,0,0,null,null,null,null,null,null,null,null,null,null,null,null,null,null,null,null,null,null,null,null,null,null,null,null,null,null,null,null,null,null,null,null,null,null,null,null,null,null,null,null,null,null,null,null,null,null,null,null,null,null,null,null,null,null,null,null,null,null,null,null,null,null,null,null,null,null,null,null,null,null,null,null,null,null,null,null,null,null,null,null,null,null,null,null,null,null,null,null,null,null,null,null,null,null,null,null,null,null,null,null,null,null,null,null,null,null,null,null,null,null,null,null,null,"",""]
[null,null,null,null,null,null,{"$f":"IF($D288=\"\",0,VLOOKUP(($DU288&$C288&$D288),単価情報!$B$66:$C$932,2,FALSE))","v":0},0,0,0,null,null,null,null,null,null,null,null,null,null,null,null,null,null,null,null,null,null,null,null,null,null,null,null,null,null,null,null,null,null,null,null,null,null,null,null,null,null,null,null,null,null,null,null,null,null,null,null,null,null,null,null,null,null,null,null,null,null,null,null,null,null,null,null,null,null,null,null,null,null,null,null,null,null,null,null,null,null,null,null,null,null,null,null,null,null,null,null,null,null,null,null,null,null,null,null,null,null,null,null,null,null,null,null,null,null,null,null,null,null,null,null,null,"",""]
[null,null,null,null,null,null,{"$f":"IF($D289=\"\",0,VLOOKUP(($DU289&$C289&$D289),単価情報!$B$66:$C$932,2,FALSE))","v":0},0,0,0,null,null,null,null,null,null,null,null,null,null,null,null,null,null,null,null,null,null,null,null,null,null,null,null,null,null,null,null,null,null,null,null,null,null,null,null,null,null,null,null,null,null,null,null,null,null,null,null,null,null,null,null,null,null,null,null,null,null,null,null,null,null,null,null,null,null,null,null,null,null,null,null,null,null,null,null,null,null,null,null,null,null,null,null,null,null,null,null,null,null,null,null,null,null,null,null,null,null,null,null,null,null,null,null,null,null,null,null,null,null,null,null,null,"",""]
[null,null,null,null,null,null,{"$f":"IF($D290=\"\",0,VLOOKUP(($DU290&$C290&$D290),単価情報!$B$66:$C$932,2,FALSE))","v":0},0,0,0,null,null,null,null,null,null,null,null,null,null,null,null,null,null,null,null,null,null,null,null,null,null,null,null,null,null,null,null,null,null,null,null,null,null,null,null,null,null,null,null,null,null,null,null,null,null,null,null,null,null,null,null,null,null,null,null,null,null,null,null,null,null,null,null,null,null,null,null,null,null,null,null,null,null,null,null,null,null,null,null,null,null,null,null,null,null,null,null,null,null,null,null,null,null,null,null,null,null,null,null,null,null,null,null,null,null,null,null,null,null,null,null,null,"",""]
[null,null,null,null,null,null,{"$f":"IF($D291=\"\",0,VLOOKUP(($DU291&$C291&$D291),単価情報!$B$66:$C$932,2,FALSE))","v":0},0,0,0,null,null,null,null,null,null,null,null,null,null,null,null,null,null,null,null,null,null,null,null,null,null,null,null,null,null,null,null,null,null,null,null,null,null,null,null,null,null,null,null,null,null,null,null,null,null,null,null,null,null,null,null,null,null,null,null,null,null,null,null,null,null,null,null,null,null,null,null,null,null,null,null,null,null,null,null,null,null,null,null,null,null,null,null,null,null,null,null,null,null,null,null,null,null,null,null,null,null,null,null,null,null,null,null,null,null,null,null,null,null,null,null,null,"",""]
[null,null,null,null,null,null,{"$f":"IF($D292=\"\",0,VLOOKUP(($DU292&$C292&$D292),単価情報!$B$66:$C$932,2,FALSE))","v":0},0,0,0,null,null,null,null,null,null,null,null,null,null,null,null,null,null,null,null,null,null,null,null,null,null,null,null,null,null,null,null,null,null,null,null,null,null,null,null,null,null,null,null,null,null,null,null,null,null,null,null,null,null,null,null,null,null,null,null,null,null,null,null,null,null,null,null,null,null,null,null,null,null,null,null,null,null,null,null,null,null,null,null,null,null,null,null,null,null,null,null,null,null,null,null,null,null,null,null,null,null,null,null,null,null,null,null,null,null,null,null,null,null,null,null,null,"",""]
[null,null,null,null,null,null,{"$f":"IF($D293=\"\",0,VLOOKUP(($DU293&$C293&$D293),単価情報!$B$66:$C$932,2,FALSE))","v":0},0,0,0,null,null,null,null,null,null,null,null,null,null,null,null,null,null,null,null,null,null,null,null,null,null,null,null,null,null,null,null,null,null,null,null,null,null,null,null,null,null,null,null,null,null,null,null,null,null,null,null,null,null,null,null,null,null,null,null,null,null,null,null,null,null,null,null,null,null,null,null,null,null,null,null,null,null,null,null,null,null,null,null,null,null,null,null,null,null,null,null,null,null,null,null,null,null,null,null,null,null,null,null,null,null,null,null,null,null,null,null,null,null,null,null,null,"",""]
[null,null,null,null,null,null,{"$f":"IF($D294=\"\",0,VLOOKUP(($DU294&$C294&$D294),単価情報!$B$66:$C$932,2,FALSE))","v":0},0,0,0,null,null,null,null,null,null,null,null,null,null,null,null,null,null,null,null,null,null,null,null,null,null,null,null,null,null,null,null,null,null,null,null,null,null,null,null,null,null,null,null,null,null,null,null,null,null,null,null,null,null,null,null,null,null,null,null,null,null,null,null,null,null,null,null,null,null,null,null,null,null,null,null,null,null,null,null,null,null,null,null,null,null,null,null,null,null,null,null,null,null,null,null,null,null,null,null,null,null,null,null,null,null,null,null,null,null,null,null,null,null,null,null,null,"",""]
[null,null,null,null,null,null,{"$f":"IF($D295=\"\",0,VLOOKUP(($DU295&$C295&$D295),単価情報!$B$66:$C$932,2,FALSE))","v":0},0,0,0,null,null,null,null,null,null,null,null,null,null,null,null,null,null,null,null,null,null,null,null,null,null,null,null,null,null,null,null,null,null,null,null,null,null,null,null,null,null,null,null,null,null,null,null,null,null,null,null,null,null,null,null,null,null,null,null,null,null,null,null,null,null,null,null,null,null,null,null,null,null,null,null,null,null,null,null,null,null,null,null,null,null,null,null,null,null,null,null,null,null,null,null,null,null,null,null,null,null,null,null,null,null,null,null,null,null,null,null,null,null,null,null,null,"",""]
[null,null,null,null,null,null,{"$f":"IF($D296=\"\",0,VLOOKUP(($DU296&$C296&$D296),単価情報!$B$66:$C$932,2,FALSE))","v":0},0,0,0,null,null,null,null,null,null,null,null,null,null,null,null,null,null,null,null,null,null,null,null,null,null,null,null,null,null,null,null,null,null,null,null,null,null,null,null,null,null,null,null,null,null,null,null,null,null,null,null,null,null,null,null,null,null,null,null,null,null,null,null,null,null,null,null,null,null,null,null,null,null,null,null,null,null,null,null,null,null,null,null,null,null,null,null,null,null,null,null,null,null,null,null,null,null,null,null,null,null,null,null,null,null,null,null,null,null,null,null,null,null,null,null,null,"",""]
[null,null,null,null,null,null,{"$f":"IF($D297=\"\",0,VLOOKUP(($DU297&$C297&$D297),単価情報!$B$66:$C$932,2,FALSE))","v":0},0,0,0,null,null,null,null,null,null,null,null,null,null,null,null,null,null,null,null,null,null,null,null,null,null,null,null,null,null,null,null,null,null,null,null,null,null,null,null,null,null,null,null,null,null,null,null,null,null,null,null,null,null,null,null,null,null,null,null,null,null,null,null,null,null,null,null,null,null,null,null,null,null,null,null,null,null,null,null,null,null,null,null,null,null,null,null,null,null,null,null,null,null,null,null,null,null,null,null,null,null,null,null,null,null,null,null,null,null,null,null,null,null,null,null,null,"",""]
[null,null,null,null,null,null,{"$f":"IF($D298=\"\",0,VLOOKUP(($DU298&$C298&$D298),単価情報!$B$66:$C$932,2,FALSE))","v":0},0,0,0,null,null,null,null,null,null,null,null,null,null,null,null,null,null,null,null,null,null,null,null,null,null,null,null,null,null,null,null,null,null,null,null,null,null,null,null,null,null,null,null,null,null,null,null,null,null,null,null,null,null,null,null,null,null,null,null,null,null,null,null,null,null,null,null,null,null,null,null,null,null,null,null,null,null,null,null,null,null,null,null,null,null,null,null,null,null,null,null,null,null,null,null,null,null,null,null,null,null,null,null,null,null,null,null,null,null,null,null,null,null,null,null,null,"",""]
[null,null,null,null,null,null,{"$f":"IF($D299=\"\",0,VLOOKUP(($DU299&$C299&$D299),単価情報!$B$66:$C$932,2,FALSE))","v":0},0,0,0,null,null,null,null,null,null,null,null,null,null,null,null,null,null,null,null,null,null,null,null,null,null,null,null,null,null,null,null,null,null,null,null,null,null,null,null,null,null,null,null,null,null,null,null,null,null,null,null,null,null,null,null,null,null,null,null,null,null,null,null,null,null,null,null,null,null,null,null,null,null,null,null,null,null,null,null,null,null,null,null,null,null,null,null,null,null,null,null,null,null,null,null,null,null,null,null,null,null,null,null,null,null,null,null,null,null,null,null,null,null,null,null,null,"",""]
[null,null,null,null,null,null,{"$f":"IF($D300=\"\",0,VLOOKUP(($DU300&$C300&$D300),単価情報!$B$66:$C$932,2,FALSE))","v":0},0,0,0,null,null,null,null,null,null,null,null,null,null,null,null,null,null,null,null,null,null,null,null,null,null,null,null,null,null,null,null,null,null,null,null,null,null,null,null,null,null,null,null,null,null,null,null,null,null,null,null,null,null,null,null,null,null,null,null,null,null,null,null,null,null,null,null,null,null,null,null,null,null,null,null,null,null,null,null,null,null,null,null,null,null,null,null,null,null,null,null,null,null,null,null,null,null,null,null,null,null,null,null,null,null,null,null,null,null,null,null,null,null,null,null,null,"",""]
[null,null,null,null,null,null,{"$f":"IF($D301=\"\",0,VLOOKUP(($DU301&$C301&$D301),単価情報!$B$66:$C$932,2,FALSE))","v":0},0,0,0,null,null,null,null,null,null,null,null,null,null,null,null,null,null,null,null,null,null,null,null,null,null,null,null,null,null,null,null,null,null,null,null,null,null,null,null,null,null,null,null,null,null,null,null,null,null,null,null,null,null,null,null,null,null,null,null,null,null,null,null,null,null,null,null,null,null,null,null,null,null,null,null,null,null,null,null,null,null,null,null,null,null,null,null,null,null,null,null,null,null,null,null,null,null,null,null,null,null,null,null,null,null,null,null,null,null,null,null,null,null,null,null,null,"",""]
[null,null,null,null,null,null,{"$f":"IF($D302=\"\",0,VLOOKUP(($DU302&$C302&$D302),単価情報!$B$66:$C$932,2,FALSE))","v":0},0,0,0,null,null,null,null,null,null,null,null,null,null,null,null,null,null,null,null,null,null,null,null,null,null,null,null,null,null,null,null,null,null,null,null,null,null,null,null,null,null,null,null,null,null,null,null,null,null,null,null,null,null,null,null,null,null,null,null,null,null,null,null,null,null,null,null,null,null,null,null,null,null,null,null,null,null,null,null,null,null,null,null,null,null,null,null,null,null,null,null,null,null,null,null,null,null,null,null,null,null,null,null,null,null,null,null,null,null,null,null,null,null,null,null,null,"",""]
[null,null,null,null,null,null,{"$f":"IF($D303=\"\",0,VLOOKUP(($DU303&$C303&$D303),単価情報!$B$66:$C$932,2,FALSE))","v":0},0,0,0,null,null,null,null,null,null,null,null,null,null,null,null,null,null,null,null,null,null,null,null,null,null,null,null,null,null,null,null,null,null,null,null,null,null,null,null,null,null,null,null,null,null,null,null,null,null,null,null,null,null,null,null,null,null,null,null,null,null,null,null,null,null,null,null,null,null,null,null,null,null,null,null,null,null,null,null,null,null,null,null,null,null,null,null,null,null,null,null,null,null,null,null,null,null,null,null,null,null,null,null,null,null,null,null,null,null,null,null,null,null,null,null,null,"",""]
[null,null,null,null,null,null,{"$f":"IF($D304=\"\",0,VLOOKUP(($DU304&$C304&$D304),単価情報!$B$66:$C$932,2,FALSE))","v":0},0,0,0,null,null,null,null,null,null,null,null,null,null,null,null,null,null,null,null,null,null,null,null,null,null,null,null,null,null,null,null,null,null,null,null,null,null,null,null,null,null,null,null,null,null,null,null,null,null,null,null,null,null,null,null,null,null,null,null,null,null,null,null,null,null,null,null,null,null,null,null,null,null,null,null,null,null,null,null,null,null,null,null,null,null,null,null,null,null,null,null,null,null,null,null,null,null,null,null,null,null,null,null,null,null,null,null,null,null,null,null,null,null,null,null,null,"",""]
[null,null,null,null,null,null,{"$f":"IF($D305=\"\",0,VLOOKUP(($DU305&$C305&$D305),単価情報!$B$66:$C$932,2,FALSE))","v":0},0,0,0,null,null,null,null,null,null,null,null,null,null,null,null,null,null,null,null,null,null,null,null,null,null,null,null,null,null,null,null,null,null,null,null,null,null,null,null,null,null,null,null,null,null,null,null,null,null,null,null,null,null,null,null,null,null,null,null,null,null,null,null,null,null,null,null,null,null,null,null,null,null,null,null,null,null,null,null,null,null,null,null,null,null,null,null,null,null,null,null,null,null,null,null,null,null,null,null,null,null,null,null,null,null,null,null,null,null,null,null,null,null,null,null,null,"",""]
[null,null,null,null,null,null,{"$f":"IF($D306=\"\",0,VLOOKUP(($DU306&$C306&$D306),単価情報!$B$66:$C$932,2,FALSE))","v":0},0,0,0,null,null,null,null,null,null,null,null,null,null,null,null,null,null,null,null,null,null,null,null,null,null,null,null,null,null,null,null,null,null,null,null,null,null,null,null,null,null,null,null,null,null,null,null,null,null,null,null,null,null,null,null,null,null,null,null,null,null,null,null,null,null,null,null,null,null,null,null,null,null,null,null,null,null,null,null,null,null,null,null,null,null,null,null,null,null,null,null,null,null,null,null,null,null,null,null,null,null,null,null,null,null,null,null,null,null,null,null,null,null,null,null,null,"",""]
[null,null,null,null,null,null,{"$f":"IF($D307=\"\",0,VLOOKUP(($DU307&$C307&$D307),単価情報!$B$66:$C$932,2,FALSE))","v":0},0,0,0,null,null,null,null,null,null,null,null,null,null,null,null,null,null,null,null,null,null,null,null,null,null,null,null,null,null,null,null,null,null,null,null,null,null,null,null,null,null,null,null,null,null,null,null,null,null,null,null,null,null,null,null,null,null,null,null,null,null,null,null,null,null,null,null,null,null,null,null,null,null,null,null,null,null,null,null,null,null,null,null,null,null,null,null,null,null,null,null,null,null,null,null,null,null,null,null,null,null,null,null,null,null,null,null,null,null,null,null,null,null,null,null,null,"",""]
[null,null,null,null,null,null,{"$f":"IF($D308=\"\",0,VLOOKUP(($DU308&$C308&$D308),単価情報!$B$66:$C$932,2,FALSE))","v":0},0,0,0,null,null,null,null,null,null,null,null,null,null,null,null,null,null,null,null,null,null,null,null,null,null,null,null,null,null,null,null,null,null,null,null,null,null,null,null,null,null,null,null,null,null,null,null,null,null,null,null,null,null,null,null,null,null,null,null,null,null,null,null,null,null,null,null,null,null,null,null,null,null,null,null,null,null,null,null,null,null,null,null,null,null,null,null,null,null,null,null,null,null,null,null,null,null,null,null,null,null,null,null,null,null,null,null,null,null,null,null,null,null,null,null,null,"",""]
[null,null,null,null,null,null,{"$f":"IF($D309=\"\",0,VLOOKUP(($DU309&$C309&$D309),単価情報!$B$66:$C$932,2,FALSE))","v":0},0,0,0,null,null,null,null,null,null,null,null,null,null,null,null,null,null,null,null,null,null,null,null,null,null,null,null,null,null,null,null,null,null,null,null,null,null,null,null,null,null,null,null,null,null,null,null,null,null,null,null,null,null,null,null,null,null,null,null,null,null,null,null,null,null,null,null,null,null,null,null,null,null,null,null,null,null,null,null,null,null,null,null,null,null,null,null,null,null,null,null,null,null,null,null,null,null,null,null,null,null,null,null,null,null,null,null,null,null,null,null,null,null,null,null,null,"",""]
[null,null,null,null,null,null,{"$f":"IF($D310=\"\",0,VLOOKUP(($DU310&$C310&$D310),単価情報!$B$66:$C$932,2,FALSE))","v":0},0,0,0,null,null,null,null,null,null,null,null,null,null,null,null,null,null,null,null,null,null,null,null,null,null,null,null,null,null,null,null,null,null,null,null,null,null,null,null,null,null,null,null,null,null,null,null,null,null,null,null,null,null,null,null,null,null,null,null,null,null,null,null,null,null,null,null,null,null,null,null,null,null,null,null,null,null,null,null,null,null,null,null,null,null,null,null,null,null,null,null,null,null,null,null,null,null,null,null,null,null,null,null,null,null,null,null,null,null,null,null,null,null,null,null,null,"",""]
[null,null,null,null,null,null,{"$f":"IF($D311=\"\",0,VLOOKUP(($DU311&$C311&$D311),単価情報!$B$66:$C$932,2,FALSE))","v":0},0,0,0,null,null,null,null,null,null,null,null,null,null,null,null,null,null,null,null,null,null,null,null,null,null,null,null,null,null,null,null,null,null,null,null,null,null,null,null,null,null,null,null,null,null,null,null,null,null,null,null,null,null,null,null,null,null,null,null,null,null,null,null,null,null,null,null,null,null,null,null,null,null,null,null,null,null,null,null,null,null,null,null,null,null,null,null,null,null,null,null,null,null,null,null,null,null,null,null,null,null,null,null,null,null,null,null,null,null,null,null,null,null,null,null,null,"",""]
[null,null,null,null,null,null,{"$f":"IF($D312=\"\",0,VLOOKUP(($DU312&$C312&$D312),単価情報!$B$66:$C$932,2,FALSE))","v":0},0,0,0,null,null,null,null,null,null,null,null,null,null,null,null,null,null,null,null,null,null,null,null,null,null,null,null,null,null,null,null,null,null,null,null,null,null,null,null,null,null,null,null,null,null,null,null,null,null,null,null,null,null,null,null,null,null,null,null,null,null,null,null,null,null,null,null,null,null,null,null,null,null,null,null,null,null,null,null,null,null,null,null,null,null,null,null,null,null,null,null,null,null,null,null,null,null,null,null,null,null,null,null,null,null,null,null,null,null,null,null,null,null,null,null,null,"",""]
[null,null,null,null,null,null,{"$f":"IF($D313=\"\",0,VLOOKUP(($DU313&$C313&$D313),単価情報!$B$66:$C$932,2,FALSE))","v":0},0,0,0,null,null,null,null,null,null,null,null,null,null,null,null,null,null,null,null,null,null,null,null,null,null,null,null,null,null,null,null,null,null,null,null,null,null,null,null,null,null,null,null,null,null,null,null,null,null,null,null,null,null,null,null,null,null,null,null,null,null,null,null,null,null,null,null,null,null,null,null,null,null,null,null,null,null,null,null,null,null,null,null,null,null,null,null,null,null,null,null,null,null,null,null,null,null,null,null,null,null,null,null,null,null,null,null,null,null,null,null,null,null,null,null,null,"",""]
[null,null,null,null,null,null,{"$f":"IF($D314=\"\",0,VLOOKUP(($DU314&$C314&$D314),単価情報!$B$66:$C$932,2,FALSE))","v":0},0,0,0,null,null,null,null,null,null,null,null,null,null,null,null,null,null,null,null,null,null,null,null,null,null,null,null,null,null,null,null,null,null,null,null,null,null,null,null,null,null,null,null,null,null,null,null,null,null,null,null,null,null,null,null,null,null,null,null,null,null,null,null,null,null,null,null,null,null,null,null,null,null,null,null,null,null,null,null,null,null,null,null,null,null,null,null,null,null,null,null,null,null,null,null,null,null,null,null,null,null,null,null,null,null,null,null,null,null,null,null,null,null,null,null,null,"",""]
[null,null,null,null,null,null,{"$f":"IF($D315=\"\",0,VLOOKUP(($DU315&$C315&$D315),単価情報!$B$66:$C$932,2,FALSE))","v":0},0,0,0,null,null,null,null,null,null,null,null,null,null,null,null,null,null,null,null,null,null,null,null,null,null,null,null,null,null,null,null,null,null,null,null,null,null,null,null,null,null,null,null,null,null,null,null,null,null,null,null,null,null,null,null,null,null,null,null,null,null,null,null,null,null,null,null,null,null,null,null,null,null,null,null,null,null,null,null,null,null,null,null,null,null,null,null,null,null,null,null,null,null,null,null,null,null,null,null,null,null,null,null,null,null,null,null,null,null,null,null,null,null,null,null,null,"",""]
[null,null,null,null,null,null,{"$f":"IF($D316=\"\",0,VLOOKUP(($DU316&$C316&$D316),単価情報!$B$66:$C$932,2,FALSE))","v":0},0,0,0,null,null,null,null,null,null,null,null,null,null,null,null,null,null,null,null,null,null,null,null,null,null,null,null,null,null,null,null,null,null,null,null,null,null,null,null,null,null,null,null,null,null,null,null,null,null,null,null,null,null,null,null,null,null,null,null,null,null,null,null,null,null,null,null,null,null,null,null,null,null,null,null,null,null,null,null,null,null,null,null,null,null,null,null,null,null,null,null,null,null,null,null,null,null,null,null,null,null,null,null,null,null,null,null,null,null,null,null,null,null,null,null,null,"",""]
[null,null,null,null,null,null,{"$f":"IF($D317=\"\",0,VLOOKUP(($DU317&$C317&$D317),単価情報!$B$66:$C$932,2,FALSE))","v":0},0,0,0,null,null,null,null,null,null,null,null,null,null,null,null,null,null,null,null,null,null,null,null,null,null,null,null,null,null,null,null,null,null,null,null,null,null,null,null,null,null,null,null,null,null,null,null,null,null,null,null,null,null,null,null,null,null,null,null,null,null,null,null,null,null,null,null,null,null,null,null,null,null,null,null,null,null,null,null,null,null,null,null,null,null,null,null,null,null,null,null,null,null,null,null,null,null,null,null,null,null,null,null,null,null,null,null,null,null,null,null,null,null,null,null,null,"",""]
[null,null,null,null,null,null,{"$f":"IF($D318=\"\",0,VLOOKUP(($DU318&$C318&$D318),単価情報!$B$66:$C$932,2,FALSE))","v":0},0,0,0,null,null,null,null,null,null,null,null,null,null,null,null,null,null,null,null,null,null,null,null,null,null,null,null,null,null,null,null,null,null,null,null,null,null,null,null,null,null,null,null,null,null,null,null,null,null,null,null,null,null,null,null,null,null,null,null,null,null,null,null,null,null,null,null,null,null,null,null,null,null,null,null,null,null,null,null,null,null,null,null,null,null,null,null,null,null,null,null,null,null,null,null,null,null,null,null,null,null,null,null,null,null,null,null,null,null,null,null,null,null,null,null,null,"",""]
[null,null,null,null,null,null,{"$f":"IF($D319=\"\",0,VLOOKUP(($DU319&$C319&$D319),単価情報!$B$66:$C$932,2,FALSE))","v":0},0,0,0,null,null,null,null,null,null,null,null,null,null,null,null,null,null,null,null,null,null,null,null,null,null,null,null,null,null,null,null,null,null,null,null,null,null,null,null,null,null,null,null,null,null,null,null,null,null,null,null,null,null,null,null,null,null,null,null,null,null,null,null,null,null,null,null,null,null,null,null,null,null,null,null,null,null,null,null,null,null,null,null,null,null,null,null,null,null,null,null,null,null,null,null,null,null,null,null,null,null,null,null,null,null,null,null,null,null,null,null,null,null,null,null,null,"",""]
[null,null,null,null,null,null,{"$f":"IF($D320=\"\",0,VLOOKUP(($DU320&$C320&$D320),単価情報!$B$66:$C$932,2,FALSE))","v":0},0,0,0,null,null,null,null,null,null,null,null,null,null,null,null,null,null,null,null,null,null,null,null,null,null,null,null,null,null,null,null,null,null,null,null,null,null,null,null,null,null,null,null,null,null,null,null,null,null,null,null,null,null,null,null,null,null,null,null,null,null,null,null,null,null,null,null,null,null,null,null,null,null,null,null,null,null,null,null,null,null,null,null,null,null,null,null,null,null,null,null,null,null,null,null,null,null,null,null,null,null,null,null,null,null,null,null,null,null,null,null,null,null,null,null,null,"",""]
[null,null,null,null,null,null,{"$f":"IF($D321=\"\",0,VLOOKUP(($DU321&$C321&$D321),単価情報!$B$66:$C$932,2,FALSE))","v":0},{"$f":"G321","v":0},{"$f":"E321*G321","v":0},{"$f":"E321*H321","v":0},null,null,null,null,null,null,null,null,null,null,null,null,null,null,null,null,null,null,null,null,null,null,null,null,null,null,null,null,null,null,null,null,null,null,null,null,null,null,null,null,null,null,null,null,null,null,null,null,null,null,null,null,null,null,null,null,null,null,null,null,null,null,null,null,null,null,null,null,null,null,null,null,null,null,null,null,null,null,null,null,null,null,null,null,null,null,null,null,null,null,null,null,null,null,null,null,null,null,null,null,null,null,null,null,null,null,null,null,null,null,null,null,null,"",""]
[null,null,null,null,null,null,{"$f":"IF($D322=\"\",0,VLOOKUP(($DU322&$C322&$D322),単価情報!$B$66:$C$932,2,FALSE))","v":0},0,0,0,null,null,null,null,null,null,null,null,null,null,null,null,null,null,null,null,null,null,null,null,null,null,null,null,null,null,null,null,null,null,null,null,null,null,null,null,null,null,null,null,null,null,null,null,null,null,null,null,null,null,null,null,null,null,null,null,null,null,null,null,null,null,null,null,null,null,null,null,null,null,null,null,null,null,null,null,null,null,null,null,null,null,null,null,null,null,null,null,null,null,null,null,null,null,null,null,null,null,null,null,null,null,null,null,null,null,null,null,null,null,null,null,null,"",""]
[null,null,null,null,null,null,{"$f":"IF($D323=\"\",0,VLOOKUP(($DU323&$C323&$D323),単価情報!$B$66:$C$932,2,FALSE))","v":0},0,0,0,null,null,null,null,null,null,null,null,null,null,null,null,null,null,null,null,null,null,null,null,null,null,null,null,null,null,null,null,null,null,null,null,null,null,null,null,null,null,null,null,null,null,null,null,null,null,null,null,null,null,null,null,null,null,null,null,null,null,null,null,null,null,null,null,null,null,null,null,null,null,null,null,null,null,null,null,null,null,null,null,null,null,null,null,null,null,null,null,null,null,null,null,null,null,null,null,null,null,null,null,null,null,null,null,null,null,null,null,null,null,null,null,null,"",""]
[null,null,null,null,null,null,{"$f":"IF($D324=\"\",0,VLOOKUP(($DU324&$C324&$D324),単価情報!$B$66:$C$932,2,FALSE))","v":0},0,0,0,null,null,null,null,null,null,null,null,null,null,null,null,null,null,null,null,null,null,null,null,null,null,null,null,null,null,null,null,null,null,null,null,null,null,null,null,null,null,null,null,null,null,null,null,null,null,null,null,null,null,null,null,null,null,null,null,null,null,null,null,null,null,null,null,null,null,null,null,null,null,null,null,null,null,null,null,null,null,null,null,null,null,null,null,null,null,null,null,null,null,null,null,null,null,null,null,null,null,null,null,null,null,null,null,null,null,null,null,null,null,null,null,null,"",""]
[null,null,null,null,null,null,{"$f":"IF($D325=\"\",0,VLOOKUP(($DU325&$C325&$D325),単価情報!$B$66:$C$932,2,FALSE))","v":0},0,0,0,null,null,null,null,null,null,null,null,null,null,null,null,null,null,null,null,null,null,null,null,null,null,null,null,null,null,null,null,null,null,null,null,null,null,null,null,null,null,null,null,null,null,null,null,null,null,null,null,null,null,null,null,null,null,null,null,null,null,null,null,null,null,null,null,null,null,null,null,null,null,null,null,null,null,null,null,null,null,null,null,null,null,null,null,null,null,null,null,null,null,null,null,null,null,null,null,null,null,null,null,null,null,null,null,null,null,null,null,null,null,null,null,null,"",""]
[null,null,null,null,null,null,{"$f":"IF($D326=\"\",0,VLOOKUP(($DU326&$C326&$D326),単価情報!$B$66:$C$932,2,FALSE))","v":0},0,0,0,null,null,null,null,null,null,null,null,null,null,null,null,null,null,null,null,null,null,null,null,null,null,null,null,null,null,null,null,null,null,null,null,null,null,null,null,null,null,null,null,null,null,null,null,null,null,null,null,null,null,null,null,null,null,null,null,null,null,null,null,null,null,null,null,null,null,null,null,null,null,null,null,null,null,null,null,null,null,null,null,null,null,null,null,null,null,null,null,null,null,null,null,null,null,null,null,null,null,null,null,null,null,null,null,null,null,null,null,null,null,null,null,null,"",""]
[null,null,null,null,null,null,{"$f":"IF($D327=\"\",0,VLOOKUP(($DU327&$C327&$D327),単価情報!$B$66:$C$932,2,FALSE))","v":0},0,0,0,null,null,null,null,null,null,null,null,null,null,null,null,null,null,null,null,null,null,null,null,null,null,null,null,null,null,null,null,null,null,null,null,null,null,null,null,null,null,null,null,null,null,null,null,null,null,null,null,null,null,null,null,null,null,null,null,null,null,null,null,null,null,null,null,null,null,null,null,null,null,null,null,null,null,null,null,null,null,null,null,null,null,null,null,null,null,null,null,null,null,null,null,null,null,null,null,null,null,null,null,null,null,null,null,null,null,null,null,null,null,null,null,null,"",""]
[null,null,null,null,null,null,{"$f":"IF($D328=\"\",0,VLOOKUP(($DU328&$C328&$D328),単価情報!$B$66:$C$932,2,FALSE))","v":0},0,0,0,null,null,null,null,null,null,null,null,null,null,null,null,null,null,null,null,null,null,null,null,null,null,null,null,null,null,null,null,null,null,null,null,null,null,null,null,null,null,null,null,null,null,null,null,null,null,null,null,null,null,null,null,null,null,null,null,null,null,null,null,null,null,null,null,null,null,null,null,null,null,null,null,null,null,null,null,null,null,null,null,null,null,null,null,null,null,null,null,null,null,null,null,null,null,null,null,null,null,null,null,null,null,null,null,null,null,null,null,null,null,null,null,null,"",""]
[null,null,null,null,null,null,{"$f":"IF($D329=\"\",0,VLOOKUP(($DU329&$C329&$D329),単価情報!$B$66:$C$932,2,FALSE))","v":0},0,0,0,null,null,null,null,null,null,null,null,null,null,null,null,null,null,null,null,null,null,null,null,null,null,null,null,null,null,null,null,null,null,null,null,null,null,null,null,null,null,null,null,null,null,null,null,null,null,null,null,null,null,null,null,null,null,null,null,null,null,null,null,null,null,null,null,null,null,null,null,null,null,null,null,null,null,null,null,null,null,null,null,null,null,null,null,null,null,null,null,null,null,null,null,null,null,null,null,null,null,null,null,null,null,null,null,null,null,null,null,null,null,null,null,null,"",""]
[null,null,null,null,null,null,{"$f":"IF($D330=\"\",0,VLOOKUP(($DU330&$C330&$D330),単価情報!$B$66:$C$932,2,FALSE))","v":0},0,0,0,null,null,null,null,null,null,null,null,null,null,null,null,null,null,null,null,null,null,null,null,null,null,null,null,null,null,null,null,null,null,null,null,null,null,null,null,null,null,null,null,null,null,null,null,null,null,null,null,null,null,null,null,null,null,null,null,null,null,null,null,null,null,null,null,null,null,null,null,null,null,null,null,null,null,null,null,null,null,null,null,null,null,null,null,null,null,null,null,null,null,null,null,null,null,null,null,null,null,null,null,null,null,null,null,null,null,null,null,null,null,null,null,null,"",""]
[null,null,null,null,null,null,{"$f":"IF($D331=\"\",0,VLOOKUP(($DU331&$C331&$D331),単価情報!$B$66:$C$932,2,FALSE))","v":0},0,0,0,null,null,null,null,null,null,null,null,null,null,null,null,null,null,null,null,null,null,null,null,null,null,null,null,null,null,null,null,null,null,null,null,null,null,null,null,null,null,null,null,null,null,null,null,null,null,null,null,null,null,null,null,null,null,null,null,null,null,null,null,null,null,null,null,null,null,null,null,null,null,null,null,null,null,null,null,null,null,null,null,null,null,null,null,null,null,null,null,null,null,null,null,null,null,null,null,null,null,null,null,null,null,null,null,null,null,null,null,null,null,null,null,null,"",""]
[null,null,null,null,null,null,{"$f":"IF($D332=\"\",0,VLOOKUP(($DU332&$C332&$D332),単価情報!$B$66:$C$932,2,FALSE))","v":0},0,0,0,null,null,null,null,null,null,null,null,null,null,null,null,null,null,null,null,null,null,null,null,null,null,null,null,null,null,null,null,null,null,null,null,null,null,null,null,null,null,null,null,null,null,null,null,null,null,null,null,null,null,null,null,null,null,null,null,null,null,null,null,null,null,null,null,null,null,null,null,null,null,null,null,null,null,null,null,null,null,null,null,null,null,null,null,null,null,null,null,null,null,null,null,null,null,null,null,null,null,null,null,null,null,null,null,null,null,null,null,null,null,null,null,null,"",""]
[null,null,null,null,null,null,{"$f":"IF($D333=\"\",0,VLOOKUP(($DU333&$C333&$D333),単価情報!$B$66:$C$932,2,FALSE))","v":0},0,0,0,null,null,null,null,null,null,null,null,null,null,null,null,null,null,null,null,null,null,null,null,null,null,null,null,null,null,null,null,null,null,null,null,null,null,null,null,null,null,null,null,null,null,null,null,null,null,null,null,null,null,null,null,null,null,null,null,null,null,null,null,null,null,null,null,null,null,null,null,null,null,null,null,null,null,null,null,null,null,null,null,null,null,null,null,null,null,null,null,null,null,null,null,null,null,null,null,null,null,null,null,null,null,null,null,null,null,null,null,null,null,null,null,null,"",""]
[null,null,null,null,null,null,{"$f":"IF($D334=\"\",0,VLOOKUP(($DU334&$C334&$D334),単価情報!$B$66:$C$932,2,FALSE))","v":0},0,0,0,null,null,null,null,null,null,null,null,null,null,null,null,null,null,null,null,null,null,null,null,null,null,null,null,null,null,null,null,null,null,null,null,null,null,null,null,null,null,null,null,null,null,null,null,null,null,null,null,null,null,null,null,null,null,null,null,null,null,null,null,null,null,null,null,null,null,null,null,null,null,null,null,null,null,null,null,null,null,null,null,null,null,null,null,null,null,null,null,null,null,null,null,null,null,null,null,null,null,null,null,null,null,null,null,null,null,null,null,null,null,null,null,null,"",""]
[null,null,null,null,null,null,{"$f":"IF($D335=\"\",0,VLOOKUP(($DU335&$C335&$D335),単価情報!$B$66:$C$932,2,FALSE))","v":0},0,0,0,null,null,null,null,null,null,null,null,null,null,null,null,null,null,null,null,null,null,null,null,null,null,null,null,null,null,null,null,null,null,null,null,null,null,null,null,null,null,null,null,null,null,null,null,null,null,null,null,null,null,null,null,null,null,null,null,null,null,null,null,null,null,null,null,null,null,null,null,null,null,null,null,null,null,null,null,null,null,null,null,null,null,null,null,null,null,null,null,null,null,null,null,null,null,null,null,null,null,null,null,null,null,null,null,null,null,null,null,null,null,null,null,null,"",""]
[null,null,null,null,null,null,{"$f":"IF($D336=\"\",0,VLOOKUP(($DU336&$C336&$D336),単価情報!$B$66:$C$932,2,FALSE))","v":0},0,0,0,null,null,null,null,null,null,null,null,null,null,null,null,null,null,null,null,null,null,null,null,null,null,null,null,null,null,null,null,null,null,null,null,null,null,null,null,null,null,null,null,null,null,null,null,null,null,null,null,null,null,null,null,null,null,null,null,null,null,null,null,null,null,null,null,null,null,null,null,null,null,null,null,null,null,null,null,null,null,null,null,null,null,null,null,null,null,null,null,null,null,null,null,null,null,null,null,null,null,null,null,null,null,null,null,null,null,null,null,null,null,null,null,null,"",""]
[null,null,null,null,null,null,{"$f":"IF($D337=\"\",0,VLOOKUP(($DU337&$C337&$D337),単価情報!$B$66:$C$932,2,FALSE))","v":0},0,0,0,null,null,null,null,null,null,null,null,null,null,null,null,null,null,null,null,null,null,null,null,null,null,null,null,null,null,null,null,null,null,null,null,null,null,null,null,null,null,null,null,null,null,null,null,null,null,null,null,null,null,null,null,null,null,null,null,null,null,null,null,null,null,null,null,null,null,null,null,null,null,null,null,null,null,null,null,null,null,null,null,null,null,null,null,null,null,null,null,null,null,null,null,null,null,null,null,null,null,null,null,null,null,null,null,null,null,null,null,null,null,null,null,null,"",""]
[null,null,null,null,null,null,{"$f":"IF($D338=\"\",0,VLOOKUP(($DU338&$C338&$D338),単価情報!$B$66:$C$932,2,FALSE))","v":0},0,0,0,null,null,null,null,null,null,null,null,null,null,null,null,null,null,null,null,null,null,null,null,null,null,null,null,null,null,null,null,null,null,null,null,null,null,null,null,null,null,null,null,null,null,null,null,null,null,null,null,null,null,null,null,null,null,null,null,null,null,null,null,null,null,null,null,null,null,null,null,null,null,null,null,null,null,null,null,null,null,null,null,null,null,null,null,null,null,null,null,null,null,null,null,null,null,null,null,null,null,null,null,null,null,null,null,null,null,null,null,null,null,null,null,null,"",""]
[null,null,null,null,null,null,{"$f":"IF($D339=\"\",0,VLOOKUP(($DU339&$C339&$D339),単価情報!$B$66:$C$932,2,FALSE))","v":0},0,0,0,null,null,null,null,null,null,null,null,null,null,null,null,null,null,null,null,null,null,null,null,null,null,null,null,null,null,null,null,null,null,null,null,null,null,null,null,null,null,null,null,null,null,null,null,null,null,null,null,null,null,null,null,null,null,null,null,null,null,null,null,null,null,null,null,null,null,null,null,null,null,null,null,null,null,null,null,null,null,null,null,null,null,null,null,null,null,null,null,null,null,null,null,null,null,null,null,null,null,null,null,null,null,null,null,null,null,null,null,null,null,null,null,null,"",""]
[null,null,null,null,null,null,{"$f":"IF($D340=\"\",0,VLOOKUP(($DU340&$C340&$D340),単価情報!$B$66:$C$932,2,FALSE))","v":0},0,0,0,null,null,null,null,null,null,null,null,null,null,null,null,null,null,null,null,null,null,null,null,null,null,null,null,null,null,null,null,null,null,null,null,null,null,null,null,null,null,null,null,null,null,null,null,null,null,null,null,null,null,null,null,null,null,null,null,null,null,null,null,null,null,null,null,null,null,null,null,null,null,null,null,null,null,null,null,null,null,null,null,null,null,null,null,null,null,null,null,null,null,null,null,null,null,null,null,null,null,null,null,null,null,null,null,null,null,null,null,null,null,null,null,null,"",""]
[null,null,null,null,null,null,{"$f":"IF($D341=\"\",0,VLOOKUP(($DU341&$C341&$D341),単価情報!$B$66:$C$932,2,FALSE))","v":0},0,0,0,null,null,null,null,null,null,null,null,null,null,null,null,null,null,null,null,null,null,null,null,null,null,null,null,null,null,null,null,null,null,null,null,null,null,null,null,null,null,null,null,null,null,null,null,null,null,null,null,null,null,null,null,null,null,null,null,null,null,null,null,null,null,null,null,null,null,null,null,null,null,null,null,null,null,null,null,null,null,null,null,null,null,null,null,null,null,null,null,null,null,null,null,null,null,null,null,null,null,null,null,null,null,null,null,null,null,null,null,null,null,null,null,null,"",""]
[null,null,null,null,null,null,{"$f":"IF($D342=\"\",0,VLOOKUP(($DU342&$C342&$D342),単価情報!$B$66:$C$932,2,FALSE))","v":0},0,0,0,null,null,null,null,null,null,null,null,null,null,null,null,null,null,null,null,null,null,null,null,null,null,null,null,null,null,null,null,null,null,null,null,null,null,null,null,null,null,null,null,null,null,null,null,null,null,null,null,null,null,null,null,null,null,null,null,null,null,null,null,null,null,null,null,null,null,null,null,null,null,null,null,null,null,null,null,null,null,null,null,null,null,null,null,null,null,null,null,null,null,null,null,null,null,null,null,null,null,null,null,null,null,null,null,null,null,null,null,null,null,null,null,null,"",""]
[null,null,null,null,null,null,{"$f":"IF($D343=\"\",0,VLOOKUP(($DU343&$C343&$D343),単価情報!$B$66:$C$932,2,FALSE))","v":0},0,0,0,null,null,null,null,null,null,null,null,null,null,null,null,null,null,null,null,null,null,null,null,null,null,null,null,null,null,null,null,null,null,null,null,null,null,null,null,null,null,null,null,null,null,null,null,null,null,null,null,null,null,null,null,null,null,null,null,null,null,null,null,null,null,null,null,null,null,null,null,null,null,null,null,null,null,null,null,null,null,null,null,null,null,null,null,null,null,null,null,null,null,null,null,null,null,null,null,null,null,null,null,null,null,null,null,null,null,null,null,null,null,null,null,null,"",""]
[null,null,null,null,null,null,{"$f":"IF($D344=\"\",0,VLOOKUP(($DU344&$C344&$D344),単価情報!$B$66:$C$932,2,FALSE))","v":0},0,0,0,null,null,null,null,null,null,null,null,null,null,null,null,null,null,null,null,null,null,null,null,null,null,null,null,null,null,null,null,null,null,null,null,null,null,null,null,null,null,null,null,null,null,null,null,null,null,null,null,null,null,null,null,null,null,null,null,null,null,null,null,null,null,null,null,null,null,null,null,null,null,null,null,null,null,null,null,null,null,null,null,null,null,null,null,null,null,null,null,null,null,null,null,null,null,null,null,null,null,null,null,null,null,null,null,null,null,null,null,null,null,null,null,null,"",""]
[null,null,null,null,null,null,{"$f":"IF($D345=\"\",0,VLOOKUP(($DU345&$C345&$D345),単価情報!$B$66:$C$932,2,FALSE))","v":0},0,0,0,null,null,null,null,null,null,null,null,null,null,null,null,null,null,null,null,null,null,null,null,null,null,null,null,null,null,null,null,null,null,null,null,null,null,null,null,null,null,null,null,null,null,null,null,null,null,null,null,null,null,null,null,null,null,null,null,null,null,null,null,null,null,null,null,null,null,null,null,null,null,null,null,null,null,null,null,null,null,null,null,null,null,null,null,null,null,null,null,null,null,null,null,null,null,null,null,null,null,null,null,null,null,null,null,null,null,null,null,null,null,null,null,null,"",""]
[null,null,null,null,null,null,{"$f":"IF($D346=\"\",0,VLOOKUP(($DU346&$C346&$D346),単価情報!$B$66:$C$932,2,FALSE))","v":0},0,0,0,null,null,null,null,null,null,null,null,null,null,null,null,null,null,null,null,null,null,null,null,null,null,null,null,null,null,null,null,null,null,null,null,null,null,null,null,null,null,null,null,null,null,null,null,null,null,null,null,null,null,null,null,null,null,null,null,null,null,null,null,null,null,null,null,null,null,null,null,null,null,null,null,null,null,null,null,null,null,null,null,null,null,null,null,null,null,null,null,null,null,null,null,null,null,null,null,null,null,null,null,null,null,null,null,null,null,null,null,null,null,null,null,null,"",""]
[null,null,null,null,null,null,{"$f":"IF($D347=\"\",0,VLOOKUP(($DU347&$C347&$D347),単価情報!$B$66:$C$932,2,FALSE))","v":0},0,0,0,null,null,null,null,null,null,null,null,null,null,null,null,null,null,null,null,null,null,null,null,null,null,null,null,null,null,null,null,null,null,null,null,null,null,null,null,null,null,null,null,null,null,null,null,null,null,null,null,null,null,null,null,null,null,null,null,null,null,null,null,null,null,null,null,null,null,null,null,null,null,null,null,null,null,null,null,null,null,null,null,null,null,null,null,null,null,null,null,null,null,null,null,null,null,null,null,null,null,null,null,null,null,null,null,null,null,null,null,null,null,null,null,null,{"$f":"IF($B347=\"\",\"\",VLOOKUP($A347,$DW$11:$DX$18,2,FALSE))","v":""},{"$f":"IF($B347=\"\",\"\",VLOOKUP($B347,$DY$11:$DZ$27,2,FALSE))","v":""}]
[null,null,null,null,null,null,{"$f":"IF($D348=\"\",0,VLOOKUP(($DU348&$C348&$D348),単価情報!$B$66:$C$932,2,FALSE))","v":0},0,0,0,null,null,null,null,null,null,null,null,null,null,null,null,null,null,null,null,null,null,null,null,null,null,null,null,null,null,null,null,null,null,null,null,null,null,null,null,null,null,null,null,null,null,null,null,null,null,null,null,null,null,null,null,null,null,null,null,null,null,null,null,null,null,null,null,null,null,null,null,null,null,null,null,null,null,null,null,null,null,null,null,null,null,null,null,null,null,null,null,null,null,null,null,null,null,null,null,null,null,null,null,null,null,null,null,null,null,null,null,null,null,null,null,null,"",""]
[null,null,null,null,null,null,{"$f":"IF($D349=\"\",0,VLOOKUP(($DU349&$C349&$D349),単価情報!$B$66:$C$932,2,FALSE))","v":0},0,0,0,null,null,null,null,null,null,null,null,null,null,null,null,null,null,null,null,null,null,null,null,null,null,null,null,null,null,null,null,null,null,null,null,null,null,null,null,null,null,null,null,null,null,null,null,null,null,null,null,null,null,null,null,null,null,null,null,null,null,null,null,null,null,null,null,null,null,null,null,null,null,null,null,null,null,null,null,null,null,null,null,null,null,null,null,null,null,null,null,null,null,null,null,null,null,null,null,null,null,null,null,null,null,null,null,null,null,null,null,null,null,null,null,null,"",""]
[null,null,null,null,null,null,{"$f":"IF($D350=\"\",0,VLOOKUP(($DU350&$C350&$D350),単価情報!$B$66:$C$932,2,FALSE))","v":0},0,0,0,null,null,null,null,null,null,null,null,null,null,null,null,null,null,null,null,null,null,null,null,null,null,null,null,null,null,null,null,null,null,null,null,null,null,null,null,null,null,null,null,null,null,null,null,null,null,null,null,null,null,null,null,null,null,null,null,null,null,null,null,null,null,null,null,null,null,null,null,null,null,null,null,null,null,null,null,null,null,null,null,null,null,null,null,null,null,null,null,null,null,null,null,null,null,null,null,null,null,null,null,null,null,null,null,null,null,null,null,null,null,null,null,null,"",""]
[null,null,null,null,null,null,{"$f":"IF($D351=\"\",0,VLOOKUP(($DU351&$C351&$D351),単価情報!$B$66:$C$932,2,FALSE))","v":0},0,0,0,null,null,null,null,null,null,null,null,null,null,null,null,null,null,null,null,null,null,null,null,null,null,null,null,null,null,null,null,null,null,null,null,null,null,null,null,null,null,null,null,null,null,null,null,null,null,null,null,null,null,null,null,null,null,null,null,null,null,null,null,null,null,null,null,null,null,null,null,null,null,null,null,null,null,null,null,null,null,null,null,null,null,null,null,null,null,null,null,null,null,null,null,null,null,null,null,null,null,null,null,null,null,null,null,null,null,null,null,null,null,null,null,null,"",""]
[null,null,null,null,null,null,{"$f":"IF($D352=\"\",0,VLOOKUP(($DU352&$C352&$D352),単価情報!$B$66:$C$932,2,FALSE))","v":0},0,0,0,null,null,null,null,null,null,null,null,null,null,null,null,null,null,null,null,null,null,null,null,null,null,null,null,null,null,null,null,null,null,null,null,null,null,null,null,null,null,null,null,null,null,null,null,null,null,null,null,null,null,null,null,null,null,null,null,null,null,null,null,null,null,null,null,null,null,null,null,null,null,null,null,null,null,null,null,null,null,null,null,null,null,null,null,null,null,null,null,null,null,null,null,null,null,null,null,null,null,null,null,null,null,null,null,null,null,null,null,null,null,null,null,null,"",""]
[null,null,null,null,null,null,{"$f":"IF($D353=\"\",0,VLOOKUP(($DU353&$C353&$D353),単価情報!$B$66:$C$932,2,FALSE))","v":0},0,0,0,null,null,null,null,null,null,null,null,null,null,null,null,null,null,null,null,null,null,null,null,null,null,null,null,null,null,null,null,null,null,null,null,null,null,null,null,null,null,null,null,null,null,null,null,null,null,null,null,null,null,null,null,null,null,null,null,null,null,null,null,null,null,null,null,null,null,null,null,null,null,null,null,null,null,null,null,null,null,null,null,null,null,null,null,null,null,null,null,null,null,null,null,null,null,null,null,null,null,null,null,null,null,null,null,null,null,null,null,null,null,null,null,null,"",""]
[null,null,null,null,null,null,{"$f":"IF($D354=\"\",0,VLOOKUP(($DU354&$C354&$D354),単価情報!$B$66:$C$932,2,FALSE))","v":0},0,0,0,null,null,null,null,null,null,null,null,null,null,null,null,null,null,null,null,null,null,null,null,null,null,null,null,null,null,null,null,null,null,null,null,null,null,null,null,null,null,null,null,null,null,null,null,null,null,null,null,null,null,null,null,null,null,null,null,null,null,null,null,null,null,null,null,null,null,null,null,null,null,null,null,null,null,null,null,null,null,null,null,null,null,null,null,null,null,null,null,null,null,null,null,null,null,null,null,null,null,null,null,null,null,null,null,null,null,null,null,null,null,null,null,null,"",""]
[null,null,null,null,null,null,{"$f":"IF($D355=\"\",0,VLOOKUP(($DU355&$C355&$D355),単価情報!$B$66:$C$932,2,FALSE))","v":0},0,0,0,null,null,null,null,null,null,null,null,null,null,null,null,null,null,null,null,null,null,null,null,null,null,null,null,null,null,null,null,null,null,null,null,null,null,null,null,null,null,null,null,null,null,null,null,null,null,null,null,null,null,null,null,null,null,null,null,null,null,null,null,null,null,null,null,null,null,null,null,null,null,null,null,null,null,null,null,null,null,null,null,null,null,null,null,null,null,null,null,null,null,null,null,null,null,null,null,null,null,null,null,null,null,null,null,null,null,null,null,null,null,null,null,null,"",""]
[null,null,null,null,null,null,{"$f":"IF($D356=\"\",0,VLOOKUP(($DU356&$C356&$D356),単価情報!$B$66:$C$932,2,FALSE))","v":0},0,0,0,null,null,null,null,null,null,null,null,null,null,null,null,null,null,null,null,null,null,null,null,null,null,null,null,null,null,null,null,null,null,null,null,null,null,null,null,null,null,null,null,null,null,null,null,null,null,null,null,null,null,null,null,null,null,null,null,null,null,null,null,null,null,null,null,null,null,null,null,null,null,null,null,null,null,null,null,null,null,null,null,null,null,null,null,null,null,null,null,null,null,null,null,null,null,null,null,null,null,null,null,null,null,null,null,null,null,null,null,null,null,null,null,null,"",""]
[null,null,null,null,null,null,{"$f":"IF($D357=\"\",0,VLOOKUP(($DU357&$C357&$D357),単価情報!$B$66:$C$932,2,FALSE))","v":0},0,0,0,null,null,null,null,null,null,null,null,null,null,null,null,null,null,null,null,null,null,null,null,null,null,null,null,null,null,null,null,null,null,null,null,null,null,null,null,null,null,null,null,null,null,null,null,null,null,null,null,null,null,null,null,null,null,null,null,null,null,null,null,null,null,null,null,null,null,null,null,null,null,null,null,null,null,null,null,null,null,null,null,null,null,null,null,null,null,null,null,null,null,null,null,null,null,null,null,null,null,null,null,null,null,null,null,null,null,null,null,null,null,null,null,null,"",""]
[null,null,null,null,null,null,{"$f":"IF($D358=\"\",0,VLOOKUP(($DU358&$C358&$D358),単価情報!$B$66:$C$932,2,FALSE))","v":0},0,0,0,null,null,null,null,null,null,null,null,null,null,null,null,null,null,null,null,null,null,null,null,null,null,null,null,null,null,null,null,null,null,null,null,null,null,null,null,null,null,null,null,null,null,null,null,null,null,null,null,null,null,null,null,null,null,null,null,null,null,null,null,null,null,null,null,null,null,null,null,null,null,null,null,null,null,null,null,null,null,null,null,null,null,null,null,null,null,null,null,null,null,null,null,null,null,null,null,null,null,null,null,null,null,null,null,null,null,null,null,null,null,null,null,null,"",""]
[null,null,null,null,null,null,{"$f":"IF($D359=\"\",0,VLOOKUP(($DU359&$C359&$D359),単価情報!$B$66:$C$932,2,FALSE))","v":0},0,0,0,null,null,null,null,null,null,null,null,null,null,null,null,null,null,null,null,null,null,null,null,null,null,null,null,null,null,null,null,null,null,null,null,null,null,null,null,null,null,null,null,null,null,null,null,null,null,null,null,null,null,null,null,null,null,null,null,null,null,null,null,null,null,null,null,null,null,null,null,null,null,null,null,null,null,null,null,null,null,null,null,null,null,null,null,null,null,null,null,null,null,null,null,null,null,null,null,null,null,null,null,null,null,null,null,null,null,null,null,null,null,null,null,null,"",""]
[null,null,null,null,null,null,{"$f":"IF($D360=\"\",0,VLOOKUP(($DU360&$C360&$D360),単価情報!$B$66:$C$932,2,FALSE))","v":0},0,0,0,null,null,null,null,null,null,null,null,null,null,null,null,null,null,null,null,null,null,null,null,null,null,null,null,null,null,null,null,null,null,null,null,null,null,null,null,null,null,null,null,null,null,null,null,null,null,null,null,null,null,null,null,null,null,null,null,null,null,null,null,null,null,null,null,null,null,null,null,null,null,null,null,null,null,null,null,null,null,null,null,null,null,null,null,null,null,null,null,null,null,null,null,null,null,null,null,null,null,null,null,null,null,null,null,null,null,null,null,null,null,null,null,null,"",""]
[null,null,null,null,null,null,{"$f":"IF($D361=\"\",0,VLOOKUP(($DU361&$C361&$D361),単価情報!$B$66:$C$932,2,FALSE))","v":0},0,0,0,null,null,null,null,null,null,null,null,null,null,null,null,null,null,null,null,null,null,null,null,null,null,null,null,null,null,null,null,null,null,null,null,null,null,null,null,null,null,null,null,null,null,null,null,null,null,null,null,null,null,null,null,null,null,null,null,null,null,null,null,null,null,null,null,null,null,null,null,null,null,null,null,null,null,null,null,null,null,null,null,null,null,null,null,null,null,null,null,null,null,null,null,null,null,null,null,null,null,null,null,null,null,null,null,null,null,null,null,null,null,null,null,null,"",""]
[null,null,null,null,null,null,{"$f":"IF($D362=\"\",0,VLOOKUP(($DU362&$C362&$D362),単価情報!$B$66:$C$932,2,FALSE))","v":0},0,0,0,null,null,null,null,null,null,null,null,null,null,null,null,null,null,null,null,null,null,null,null,null,null,null,null,null,null,null,null,null,null,null,null,null,null,null,null,null,null,null,null,null,null,null,null,null,null,null,null,null,null,null,null,null,null,null,null,null,null,null,null,null,null,null,null,null,null,null,null,null,null,null,null,null,null,null,null,null,null,null,null,null,null,null,null,null,null,null,null,null,null,null,null,null,null,null,null,null,null,null,null,null,null,null,null,null,null,null,null,null,null,null,null,null,"",""]
[null,null,null,null,null,null,{"$f":"IF($D363=\"\",0,VLOOKUP(($DU363&$C363&$D363),単価情報!$B$66:$C$932,2,FALSE))","v":0},0,0,0,null,null,null,null,null,null,null,null,null,null,null,null,null,null,null,null,null,null,null,null,null,null,null,null,null,null,null,null,null,null,null,null,null,null,null,null,null,null,null,null,null,null,null,null,null,null,null,null,null,null,null,null,null,null,null,null,null,null,null,null,null,null,null,null,null,null,null,null,null,null,null,null,null,null,null,null,null,null,null,null,null,null,null,null,null,null,null,null,null,null,null,null,null,null,null,null,null,null,null,null,null,null,null,null,null,null,null,null,null,null,null,null,null,"",""]
[null,null,null,null,null,null,{"$f":"IF($D364=\"\",0,VLOOKUP(($DU364&$C364&$D364),単価情報!$B$66:$C$932,2,FALSE))","v":0},0,0,0,null,null,null,null,null,null,null,null,null,null,null,null,null,null,null,null,null,null,null,null,null,null,null,null,null,null,null,null,null,null,null,null,null,null,null,null,null,null,null,null,null,null,null,null,null,null,null,null,null,null,null,null,null,null,null,null,null,null,null,null,null,null,null,null,null,null,null,null,null,null,null,null,null,null,null,null,null,null,null,null,null,null,null,null,null,null,null,null,null,null,null,null,null,null,null,null,null,null,null,null,null,null,null,null,null,null,null,null,null,null,null,null,null,"",""]
[null,null,null,null,null,null,{"$f":"IF($D365=\"\",0,VLOOKUP(($DU365&$C365&$D365),単価情報!$B$66:$C$932,2,FALSE))","v":0},0,0,0,null,null,null,null,null,null,null,null,null,null,null,null,null,null,null,null,null,null,null,null,null,null,null,null,null,null,null,null,null,null,null,null,null,null,null,null,null,null,null,null,null,null,null,null,null,null,null,null,null,null,null,null,null,null,null,null,null,null,null,null,null,null,null,null,null,null,null,null,null,null,null,null,null,null,null,null,null,null,null,null,null,null,null,null,null,null,null,null,null,null,null,null,null,null,null,null,null,null,null,null,null,null,null,null,null,null,null,null,null,null,null,null,null,"",""]
[null,null,null,null,null,null,{"$f":"IF($D366=\"\",0,VLOOKUP(($DU366&$C366&$D366),単価情報!$B$66:$C$932,2,FALSE))","v":0},0,0,0,null,null,null,null,null,null,null,null,null,null,null,null,null,null,null,null,null,null,null,null,null,null,null,null,null,null,null,null,null,null,null,null,null,null,null,null,null,null,null,null,null,null,null,null,null,null,null,null,null,null,null,null,null,null,null,null,null,null,null,null,null,null,null,null,null,null,null,null,null,null,null,null,null,null,null,null,null,null,null,null,null,null,null,null,null,null,null,null,null,null,null,null,null,null,null,null,null,null,null,null,null,null,null,null,null,null,null,null,null,null,null,null,null,"",""]
[null,null,null,null,null,null,{"$f":"IF($D367=\"\",0,VLOOKUP(($DU367&$C367&$D367),単価情報!$B$66:$C$932,2,FALSE))","v":0},0,0,0,null,null,null,null,null,null,null,null,null,null,null,null,null,null,null,null,null,null,null,null,null,null,null,null,null,null,null,null,null,null,null,null,null,null,null,null,null,null,null,null,null,null,null,null,null,null,null,null,null,null,null,null,null,null,null,null,null,null,null,null,null,null,null,null,null,null,null,null,null,null,null,null,null,null,null,null,null,null,null,null,null,null,null,null,null,null,null,null,null,null,null,null,null,null,null,null,null,null,null,null,null,null,null,null,null,null,null,null,null,null,null,null,null,"",""]
[null,null,null,null,null,null,{"$f":"IF($D368=\"\",0,VLOOKUP(($DU368&$C368&$D368),単価情報!$B$66:$C$932,2,FALSE))","v":0},0,0,0,null,null,null,null,null,null,null,null,null,null,null,null,null,null,null,null,null,null,null,null,null,null,null,null,null,null,null,null,null,null,null,null,null,null,null,null,null,null,null,null,null,null,null,null,null,null,null,null,null,null,null,null,null,null,null,null,null,null,null,null,null,null,null,null,null,null,null,null,null,null,null,null,null,null,null,null,null,null,null,null,null,null,null,null,null,null,null,null,null,null,null,null,null,null,null,null,null,null,null,null,null,null,null,null,null,null,null,null,null,null,null,null,null,"",""]
[null,null,null,null,null,null,{"$f":"IF($D369=\"\",0,VLOOKUP(($DU369&$C369&$D369),単価情報!$B$66:$C$932,2,FALSE))","v":0},0,0,0,null,null,null,null,null,null,null,null,null,null,null,null,null,null,null,null,null,null,null,null,null,null,null,null,null,null,null,null,null,null,null,null,null,null,null,null,null,null,null,null,null,null,null,null,null,null,null,null,null,null,null,null,null,null,null,null,null,null,null,null,null,null,null,null,null,null,null,null,null,null,null,null,null,null,null,null,null,null,null,null,null,null,null,null,null,null,null,null,null,null,null,null,null,null,null,null,null,null,null,null,null,null,null,null,null,null,null,null,null,null,null,null,null,"",""]
[null,null,null,null,null,null,{"$f":"IF($D370=\"\",0,VLOOKUP(($DU370&$C370&$D370),単価情報!$B$66:$C$932,2,FALSE))","v":0},0,0,0,null,null,null,null,null,null,null,null,null,null,null,null,null,null,null,null,null,null,null,null,null,null,null,null,null,null,null,null,null,null,null,null,null,null,null,null,null,null,null,null,null,null,null,null,null,null,null,null,null,null,null,null,null,null,null,null,null,null,null,null,null,null,null,null,null,null,null,null,null,null,null,null,null,null,null,null,null,null,null,null,null,null,null,null,null,null,null,null,null,null,null,null,null,null,null,null,null,null,null,null,null,null,null,null,null,null,null,null,null,null,null,null,null,"",""]
[null,null,null,null,null,null,{"$f":"IF($D371=\"\",0,VLOOKUP(($DU371&$C371&$D371),単価情報!$B$66:$C$932,2,FALSE))","v":0},0,0,0,null,null,null,null,null,null,null,null,null,null,null,null,null,null,null,null,null,null,null,null,null,null,null,null,null,null,null,null,null,null,null,null,null,null,null,null,null,null,null,null,null,null,null,null,null,null,null,null,null,null,null,null,null,null,null,null,null,null,null,null,null,null,null,null,null,null,null,null,null,null,null,null,null,null,null,null,null,null,null,null,null,null,null,null,null,null,null,null,null,null,null,null,null,null,null,null,null,null,null,null,null,null,null,null,null,null,null,null,null,null,null,null,null,"",""]
[null,null,null,null,null,null,{"$f":"IF($D372=\"\",0,VLOOKUP(($DU372&$C372&$D372),単価情報!$B$66:$C$932,2,FALSE))","v":0},0,0,0,null,null,null,null,null,null,null,null,null,null,null,null,null,null,null,null,null,null,null,null,null,null,null,null,null,null,null,null,null,null,null,null,null,null,null,null,null,null,null,null,null,null,null,null,null,null,null,null,null,null,null,null,null,null,null,null,null,null,null,null,null,null,null,null,null,null,null,null,null,null,null,null,null,null,null,null,null,null,null,null,null,null,null,null,null,null,null,null,null,null,null,null,null,null,null,null,null,null,null,null,null,null,null,null,null,null,null,null,null,null,null,null,null,"",""]
[null,null,null,null,null,null,{"$f":"IF($D373=\"\",0,VLOOKUP(($DU373&$C373&$D373),単価情報!$B$66:$C$932,2,FALSE))","v":0},0,0,0,null,null,null,null,null,null,null,null,null,null,null,null,null,null,null,null,null,null,null,null,null,null,null,null,null,null,null,null,null,null,null,null,null,null,null,null,null,null,null,null,null,null,null,null,null,null,null,null,null,null,null,null,null,null,null,null,null,null,null,null,null,null,null,null,null,null,null,null,null,null,null,null,null,null,null,null,null,null,null,null,null,null,null,null,null,null,null,null,null,null,null,null,null,null,null,null,null,null,null,null,null,null,null,null,null,null,null,null,null,null,null,null,null,"",""]
[null,null,null,null,null,null,{"$f":"IF($D374=\"\",0,VLOOKUP(($DU374&$C374&$D374),単価情報!$B$66:$C$932,2,FALSE))","v":0},0,0,0,null,null,null,null,null,null,null,null,null,null,null,null,null,null,null,null,null,null,null,null,null,null,null,null,null,null,null,null,null,null,null,null,null,null,null,null,null,null,null,null,null,null,null,null,null,null,null,null,null,null,null,null,null,null,null,null,null,null,null,null,null,null,null,null,null,null,null,null,null,null,null,null,null,null,null,null,null,null,null,null,null,null,null,null,null,null,null,null,null,null,null,null,null,null,null,null,null,null,null,null,null,null,null,null,null,null,null,null,null,null,null,null,null,"",""]
[null,null,null,null,null,null,{"$f":"IF($D375=\"\",0,VLOOKUP(($DU375&$C375&$D375),単価情報!$B$66:$C$932,2,FALSE))","v":0},0,0,0,null,null,null,null,null,null,null,null,null,null,null,null,null,null,null,null,null,null,null,null,null,null,null,null,null,null,null,null,null,null,null,null,null,null,null,null,null,null,null,null,null,null,null,null,null,null,null,null,null,null,null,null,null,null,null,null,null,null,null,null,null,null,null,null,null,null,null,null,null,null,null,null,null,null,null,null,null,null,null,null,null,null,null,null,null,null,null,null,null,null,null,null,null,null,null,null,null,null,null,null,null,null,null,null,null,null,null,null,null,null,null,null,null,"",""]
[null,null,null,null,null,null,{"$f":"IF($D376=\"\",0,VLOOKUP(($DU376&$C376&$D376),単価情報!$B$66:$C$932,2,FALSE))","v":0},0,0,0,null,null,null,null,null,null,null,null,null,null,null,null,null,null,null,null,null,null,null,null,null,null,null,null,null,null,null,null,null,null,null,null,null,null,null,null,null,null,null,null,null,null,null,null,null,null,null,null,null,null,null,null,null,null,null,null,null,null,null,null,null,null,null,null,null,null,null,null,null,null,null,null,null,null,null,null,null,null,null,null,null,null,null,null,null,null,null,null,null,null,null,null,null,null,null,null,null,null,null,null,null,null,null,null,null,null,null,null,null,null,null,null,null,"",""]
[null,null,null,null,null,null,{"$f":"IF($D377=\"\",0,VLOOKUP(($DU377&$C377&$D377),単価情報!$B$66:$C$932,2,FALSE))","v":0},0,0,0,null,null,null,null,null,null,null,null,null,null,null,null,null,null,null,null,null,null,null,null,null,null,null,null,null,null,null,null,null,null,null,null,null,null,null,null,null,null,null,null,null,null,null,null,null,null,null,null,null,null,null,null,null,null,null,null,null,null,null,null,null,null,null,null,null,null,null,null,null,null,null,null,null,null,null,null,null,null,null,null,null,null,null,null,null,null,null,null,null,null,null,null,null,null,null,null,null,null,null,null,null,null,null,null,null,null,null,null,null,null,null,null,null,"",""]
[null,null,null,null,null,null,{"$f":"IF($D378=\"\",0,VLOOKUP(($DU378&$C378&$D378),単価情報!$B$66:$C$932,2,FALSE))","v":0},0,0,0,null,null,null,null,null,null,null,null,null,null,null,null,null,null,null,null,null,null,null,null,null,null,null,null,null,null,null,null,null,null,null,null,null,null,null,null,null,null,null,null,null,null,null,null,null,null,null,null,null,null,null,null,null,null,null,null,null,null,null,null,null,null,null,null,null,null,null,null,null,null,null,null,null,null,null,null,null,null,null,null,null,null,null,null,null,null,null,null,null,null,null,null,null,null,null,null,null,null,null,null,null,null,null,null,null,null,null,null,null,null,null,null,null,"",""]
[null,null,null,null,null,null,{"$f":"IF($D379=\"\",0,VLOOKUP(($DU379&$C379&$D379),単価情報!$B$66:$C$932,2,FALSE))","v":0},0,0,0,null,null,null,null,null,null,null,null,null,null,null,null,null,null,null,null,null,null,null,null,null,null,null,null,null,null,null,null,null,null,null,null,null,null,null,null,null,null,null,null,null,null,null,null,null,null,null,null,null,null,null,null,null,null,null,null,null,null,null,null,null,null,null,null,null,null,null,null,null,null,null,null,null,null,null,null,null,null,null,null,null,null,null,null,null,null,null,null,null,null,null,null,null,null,null,null,null,null,null,null,null,null,null,null,null,null,null,null,null,null,null,null,null,"",""]
[null,null,null,null,null,null,{"$f":"IF($D380=\"\",0,VLOOKUP(($DU380&$C380&$D380),単価情報!$B$66:$C$932,2,FALSE))","v":0},0,0,0,null,null,null,null,null,null,null,null,null,null,null,null,null,null,null,null,null,null,null,null,null,null,null,null,null,null,null,null,null,null,null,null,null,null,null,null,null,null,null,null,null,null,null,null,null,null,null,null,null,null,null,null,null,null,null,null,null,null,null,null,null,null,null,null,null,null,null,null,null,null,null,null,null,null,null,null,null,null,null,null,null,null,null,null,null,null,null,null,null,null,null,null,null,null,null,null,null,null,null,null,null,null,null,null,null,null,null,null,null,null,null,null,null,"",""]
[null,null,null,null,null,null,{"$f":"IF($D381=\"\",0,VLOOKUP(($DU381&$C381&$D381),単価情報!$B$66:$C$932,2,FALSE))","v":0},0,0,0,null,null,null,null,null,null,null,null,null,null,null,null,null,null,null,null,null,null,null,null,null,null,null,null,null,null,null,null,null,null,null,null,null,null,null,null,null,null,null,null,null,null,null,null,null,null,null,null,null,null,null,null,null,null,null,null,null,null,null,null,null,null,null,null,null,null,null,null,null,null,null,null,null,null,null,null,null,null,null,null,null,null,null,null,null,null,null,null,null,null,null,null,null,null,null,null,null,null,null,null,null,null,null,null,null,null,null,null,null,null,null,null,null,"",""]
[null,null,null,null,null,null,{"$f":"IF($D382=\"\",0,VLOOKUP(($DU382&$C382&$D382),単価情報!$B$66:$C$932,2,FALSE))","v":0},0,0,0,null,null,null,null,null,null,null,null,null,null,null,null,null,null,null,null,null,null,null,null,null,null,null,null,null,null,null,null,null,null,null,null,null,null,null,null,null,null,null,null,null,null,null,null,null,null,null,null,null,null,null,null,null,null,null,null,null,null,null,null,null,null,null,null,null,null,null,null,null,null,null,null,null,null,null,null,null,null,null,null,null,null,null,null,null,null,null,null,null,null,null,null,null,null,null,null,null,null,null,null,null,null,null,null,null,null,null,null,null,null,null,null,null,"",""]
[null,null,null,null,null,null,{"$f":"IF($D383=\"\",0,VLOOKUP(($DU383&$C383&$D383),単価情報!$B$66:$C$932,2,FALSE))","v":0},0,0,0,null,null,null,null,null,null,null,null,null,null,null,null,null,null,null,null,null,null,null,null,null,null,null,null,null,null,null,null,null,null,null,null,null,null,null,null,null,null,null,null,null,null,null,null,null,null,null,null,null,null,null,null,null,null,null,null,null,null,null,null,null,null,null,null,null,null,null,null,null,null,null,null,null,null,null,null,null,null,null,null,null,null,null,null,null,null,null,null,null,null,null,null,null,null,null,null,null,null,null,null,null,null,null,null,null,null,null,null,null,null,null,null,null,"",""]
[null,null,null,null,null,null,{"$f":"IF($D384=\"\",0,VLOOKUP(($DU384&$C384&$D384),単価情報!$B$66:$C$932,2,FALSE))","v":0},0,0,0,null,null,null,null,null,null,null,null,null,null,null,null,null,null,null,null,null,null,null,null,null,null,null,null,null,null,null,null,null,null,null,null,null,null,null,null,null,null,null,null,null,null,null,null,null,null,null,null,null,null,null,null,null,null,null,null,null,null,null,null,null,null,null,null,null,null,null,null,null,null,null,null,null,null,null,null,null,null,null,null,null,null,null,null,null,null,null,null,null,null,null,null,null,null,null,null,null,null,null,null,null,null,null,null,null,null,null,null,null,null,null,null,null,"",""]
[null,null,null,null,null,null,{"$f":"IF($D385=\"\",0,VLOOKUP(($DU385&$C385&$D385),単価情報!$B$66:$C$932,2,FALSE))","v":0},{"$f":"G385","v":0},{"$f":"E385*G385","v":0},{"$f":"E385*H385","v":0},null,null,null,null,null,null,null,null,null,null,null,null,null,null,null,null,null,null,null,null,null,null,null,null,null,null,null,null,null,null,null,null,null,null,null,null,null,null,null,null,null,null,null,null,null,null,null,null,null,null,null,null,null,null,null,null,null,null,null,null,null,null,null,null,null,null,null,null,null,null,null,null,null,null,null,null,null,null,null,null,null,null,null,null,null,null,null,null,null,null,null,null,null,null,null,null,null,null,null,null,null,null,null,null,null,null,null,null,null,null,null,null,null,"",""]
[null,null,null,null,null,null,{"$f":"IF($D386=\"\",0,VLOOKUP(($DU386&$C386&$D386),単価情報!$B$66:$C$932,2,FALSE))","v":0},0,0,0,null,null,null,null,null,null,null,null,null,null,null,null,null,null,null,null,null,null,null,null,null,null,null,null,null,null,null,null,null,null,null,null,null,null,null,null,null,null,null,null,null,null,null,null,null,null,null,null,null,null,null,null,null,null,null,null,null,null,null,null,null,null,null,null,null,null,null,null,null,null,null,null,null,null,null,null,null,null,null,null,null,null,null,null,null,null,null,null,null,null,null,null,null,null,null,null,null,null,null,null,null,null,null,null,null,null,null,null,null,null,null,null,null,"",""]
[null,null,null,null,null,null,{"$f":"IF($D387=\"\",0,VLOOKUP(($DU387&$C387&$D387),単価情報!$B$66:$C$932,2,FALSE))","v":0},0,0,0,null,null,null,null,null,null,null,null,null,null,null,null,null,null,null,null,null,null,null,null,null,null,null,null,null,null,null,null,null,null,null,null,null,null,null,null,null,null,null,null,null,null,null,null,null,null,null,null,null,null,null,null,null,null,null,null,null,null,null,null,null,null,null,null,null,null,null,null,null,null,null,null,null,null,null,null,null,null,null,null,null,null,null,null,null,null,null,null,null,null,null,null,null,null,null,null,null,null,null,null,null,null,null,null,null,null,null,null,null,null,null,null,null,"",""]
[null,null,null,null,null,null,{"$f":"IF($D388=\"\",0,VLOOKUP(($DU388&$C388&$D388),単価情報!$B$66:$C$932,2,FALSE))","v":0},0,0,0,null,null,null,null,null,null,null,null,null,null,null,null,null,null,null,null,null,null,null,null,null,null,null,null,null,null,null,null,null,null,null,null,null,null,null,null,null,null,null,null,null,null,null,null,null,null,null,null,null,null,null,null,null,null,null,null,null,null,null,null,null,null,null,null,null,null,null,null,null,null,null,null,null,null,null,null,null,null,null,null,null,null,null,null,null,null,null,null,null,null,null,null,null,null,null,null,null,null,null,null,null,null,null,null,null,null,null,null,null,null,null,null,null,"",""]
[null,null,null,null,null,null,{"$f":"IF($D389=\"\",0,VLOOKUP(($DU389&$C389&$D389),単価情報!$B$66:$C$932,2,FALSE))","v":0},0,0,0,null,null,null,null,null,null,null,null,null,null,null,null,null,null,null,null,null,null,null,null,null,null,null,null,null,null,null,null,null,null,null,null,null,null,null,null,null,null,null,null,null,null,null,null,null,null,null,null,null,null,null,null,null,null,null,null,null,null,null,null,null,null,null,null,null,null,null,null,null,null,null,null,null,null,null,null,null,null,null,null,null,null,null,null,null,null,null,null,null,null,null,null,null,null,null,null,null,null,null,null,null,null,null,null,null,null,null,null,null,null,null,null,null,"",""]
[null,null,null,null,null,null,{"$f":"IF($D390=\"\",0,VLOOKUP(($DU390&$C390&$D390),単価情報!$B$66:$C$932,2,FALSE))","v":0},0,0,0,null,null,null,null,null,null,null,null,null,null,null,null,null,null,null,null,null,null,null,null,null,null,null,null,null,null,null,null,null,null,null,null,null,null,null,null,null,null,null,null,null,null,null,null,null,null,null,null,null,null,null,null,null,null,null,null,null,null,null,null,null,null,null,null,null,null,null,null,null,null,null,null,null,null,null,null,null,null,null,null,null,null,null,null,null,null,null,null,null,null,null,null,null,null,null,null,null,null,null,null,null,null,null,null,null,null,null,null,null,null,null,null,null,"",""]
[null,null,null,null,null,null,{"$f":"IF($D391=\"\",0,VLOOKUP(($DU391&$C391&$D391),単価情報!$B$66:$C$932,2,FALSE))","v":0},0,0,0,null,null,null,null,null,null,null,null,null,null,null,null,null,null,null,null,null,null,null,null,null,null,null,null,null,null,null,null,null,null,null,null,null,null,null,null,null,null,null,null,null,null,null,null,null,null,null,null,null,null,null,null,null,null,null,null,null,null,null,null,null,null,null,null,null,null,null,null,null,null,null,null,null,null,null,null,null,null,null,null,null,null,null,null,null,null,null,null,null,null,null,null,null,null,null,null,null,null,null,null,null,null,null,null,null,null,null,null,null,null,null,null,null,"",""]
[null,null,null,null,null,null,{"$f":"IF($D392=\"\",0,VLOOKUP(($DU392&$C392&$D392),単価情報!$B$66:$C$932,2,FALSE))","v":0},0,0,0,null,null,null,null,null,null,null,null,null,null,null,null,null,null,null,null,null,null,null,null,null,null,null,null,null,null,null,null,null,null,null,null,null,null,null,null,null,null,null,null,null,null,null,null,null,null,null,null,null,null,null,null,null,null,null,null,null,null,null,null,null,null,null,null,null,null,null,null,null,null,null,null,null,null,null,null,null,null,null,null,null,null,null,null,null,null,null,null,null,null,null,null,null,null,null,null,null,null,null,null,null,null,null,null,null,null,null,null,null,null,null,null,null,"",""]
[null,null,null,null,null,null,{"$f":"IF($D393=\"\",0,VLOOKUP(($DU393&$C393&$D393),単価情報!$B$66:$C$932,2,FALSE))","v":0},0,0,0,null,null,null,null,null,null,null,null,null,null,null,null,null,null,null,null,null,null,null,null,null,null,null,null,null,null,null,null,null,null,null,null,null,null,null,null,null,null,null,null,null,null,null,null,null,null,null,null,null,null,null,null,null,null,null,null,null,null,null,null,null,null,null,null,null,null,null,null,null,null,null,null,null,null,null,null,null,null,null,null,null,null,null,null,null,null,null,null,null,null,null,null,null,null,null,null,null,null,null,null,null,null,null,null,null,null,null,null,null,null,null,null,null,"",""]
[null,null,null,null,null,null,{"$f":"IF($D394=\"\",0,VLOOKUP(($DU394&$C394&$D394),単価情報!$B$66:$C$932,2,FALSE))","v":0},0,0,0,null,null,null,null,null,null,null,null,null,null,null,null,null,null,null,null,null,null,null,null,null,null,null,null,null,null,null,null,null,null,null,null,null,null,null,null,null,null,null,null,null,null,null,null,null,null,null,null,null,null,null,null,null,null,null,null,null,null,null,null,null,null,null,null,null,null,null,null,null,null,null,null,null,null,null,null,null,null,null,null,null,null,null,null,null,null,null,null,null,null,null,null,null,null,null,null,null,null,null,null,null,null,null,null,null,null,null,null,null,null,null,null,null,"",""]
[null,null,null,null,null,null,{"$f":"IF($D395=\"\",0,VLOOKUP(($DU395&$C395&$D395),単価情報!$B$66:$C$932,2,FALSE))","v":0},0,0,0,null,null,null,null,null,null,null,null,null,null,null,null,null,null,null,null,null,null,null,null,null,null,null,null,null,null,null,null,null,null,null,null,null,null,null,null,null,null,null,null,null,null,null,null,null,null,null,null,null,null,null,null,null,null,null,null,null,null,null,null,null,null,null,null,null,null,null,null,null,null,null,null,null,null,null,null,null,null,null,null,null,null,null,null,null,null,null,null,null,null,null,null,null,null,null,null,null,null,null,null,null,null,null,null,null,null,null,null,null,null,null,null,null,"",""]
[null,null,null,null,null,null,{"$f":"IF($D396=\"\",0,VLOOKUP(($DU396&$C396&$D396),単価情報!$B$66:$C$932,2,FALSE))","v":0},0,0,0,null,null,null,null,null,null,null,null,null,null,null,null,null,null,null,null,null,null,null,null,null,null,null,null,null,null,null,null,null,null,null,null,null,null,null,null,null,null,null,null,null,null,null,null,null,null,null,null,null,null,null,null,null,null,null,null,null,null,null,null,null,null,null,null,null,null,null,null,null,null,null,null,null,null,null,null,null,null,null,null,null,null,null,null,null,null,null,null,null,null,null,null,null,null,null,null,null,null,null,null,null,null,null,null,null,null,null,null,null,null,null,null,null,"",""]
[null,null,null,null,null,null,{"$f":"IF($D397=\"\",0,VLOOKUP(($DU397&$C397&$D397),単価情報!$B$66:$C$932,2,FALSE))","v":0},0,0,0,null,null,null,null,null,null,null,null,null,null,null,null,null,null,null,null,null,null,null,null,null,null,null,null,null,null,null,null,null,null,null,null,null,null,null,null,null,null,null,null,null,null,null,null,null,null,null,null,null,null,null,null,null,null,null,null,null,null,null,null,null,null,null,null,null,null,null,null,null,null,null,null,null,null,null,null,null,null,null,null,null,null,null,null,null,null,null,null,null,null,null,null,null,null,null,null,null,null,null,null,null,null,null,null,null,null,null,null,null,null,null,null,null,"",""]
[null,null,null,null,null,null,{"$f":"IF($D398=\"\",0,VLOOKUP(($DU398&$C398&$D398),単価情報!$B$66:$C$932,2,FALSE))","v":0},0,0,0,null,null,null,null,null,null,null,null,null,null,null,null,null,null,null,null,null,null,null,null,null,null,null,null,null,null,null,null,null,null,null,null,null,null,null,null,null,null,null,null,null,null,null,null,null,null,null,null,null,null,null,null,null,null,null,null,null,null,null,null,null,null,null,null,null,null,null,null,null,null,null,null,null,null,null,null,null,null,null,null,null,null,null,null,null,null,null,null,null,null,null,null,null,null,null,null,null,null,null,null,null,null,null,null,null,null,null,null,null,null,null,null,null,"",""]
[null,null,null,null,null,null,{"$f":"IF($D399=\"\",0,VLOOKUP(($DU399&$C399&$D399),単価情報!$B$66:$C$932,2,FALSE))","v":0},0,0,0,null,null,null,null,null,null,null,null,null,null,null,null,null,null,null,null,null,null,null,null,null,null,null,null,null,null,null,null,null,null,null,null,null,null,null,null,null,null,null,null,null,null,null,null,null,null,null,null,null,null,null,null,null,null,null,null,null,null,null,null,null,null,null,null,null,null,null,null,null,null,null,null,null,null,null,null,null,null,null,null,null,null,null,null,null,null,null,null,null,null,null,null,null,null,null,null,null,null,null,null,null,null,null,null,null,null,null,null,null,null,null,null,null,"",""]
[null,null,null,null,null,null,{"$f":"IF($D400=\"\",0,VLOOKUP(($DU400&$C400&$D400),単価情報!$B$66:$C$932,2,FALSE))","v":0},0,0,0,null,null,null,null,null,null,null,null,null,null,null,null,null,null,null,null,null,null,null,null,null,null,null,null,null,null,null,null,null,null,null,null,null,null,null,null,null,null,null,null,null,null,null,null,null,null,null,null,null,null,null,null,null,null,null,null,null,null,null,null,null,null,null,null,null,null,null,null,null,null,null,null,null,null,null,null,null,null,null,null,null,null,null,null,null,null,null,null,null,null,null,null,null,null,null,null,null,null,null,null,null,null,null,null,null,null,null,null,null,null,null,null,null,"",""]
[null,null,null,null,null,null,{"$f":"IF($D401=\"\",0,VLOOKUP(($DU401&$C401&$D401),単価情報!$B$66:$C$932,2,FALSE))","v":0},0,0,0,null,null,null,null,null,null,null,null,null,null,null,null,null,null,null,null,null,null,null,null,null,null,null,null,null,null,null,null,null,null,null,null,null,null,null,null,null,null,null,null,null,null,null,null,null,null,null,null,null,null,null,null,null,null,null,null,null,null,null,null,null,null,null,null,null,null,null,null,null,null,null,null,null,null,null,null,null,null,null,null,null,null,null,null,null,null,null,null,null,null,null,null,null,null,null,null,null,null,null,null,null,null,null,null,null,null,null,null,null,null,null,null,null,"",""]
[null,null,null,null,null,null,{"$f":"IF($D402=\"\",0,VLOOKUP(($DU402&$C402&$D402),単価情報!$B$66:$C$932,2,FALSE))","v":0},0,0,0,null,null,null,null,null,null,null,null,null,null,null,null,null,null,null,null,null,null,null,null,null,null,null,null,null,null,null,null,null,null,null,null,null,null,null,null,null,null,null,null,null,null,null,null,null,null,null,null,null,null,null,null,null,null,null,null,null,null,null,null,null,null,null,null,null,null,null,null,null,null,null,null,null,null,null,null,null,null,null,null,null,null,null,null,null,null,null,null,null,null,null,null,null,null,null,null,null,null,null,null,null,null,null,null,null,null,null,null,null,null,null,null,null,"",""]
[null,null,null,null,null,null,{"$f":"IF($D403=\"\",0,VLOOKUP(($DU403&$C403&$D403),単価情報!$B$66:$C$932,2,FALSE))","v":0},0,0,0,null,null,null,null,null,null,null,null,null,null,null,null,null,null,null,null,null,null,null,null,null,null,null,null,null,null,null,null,null,null,null,null,null,null,null,null,null,null,null,null,null,null,null,null,null,null,null,null,null,null,null,null,null,null,null,null,null,null,null,null,null,null,null,null,null,null,null,null,null,null,null,null,null,null,null,null,null,null,null,null,null,null,null,null,null,null,null,null,null,null,null,null,null,null,null,null,null,null,null,null,null,null,null,null,null,null,null,null,null,null,null,null,null,"",""]
[null,null,null,null,null,null,{"$f":"IF($D404=\"\",0,VLOOKUP(($DU404&$C404&$D404),単価情報!$B$66:$C$932,2,FALSE))","v":0},0,0,0,null,null,null,null,null,null,null,null,null,null,null,null,null,null,null,null,null,null,null,null,null,null,null,null,null,null,null,null,null,null,null,null,null,null,null,null,null,null,null,null,null,null,null,null,null,null,null,null,null,null,null,null,null,null,null,null,null,null,null,null,null,null,null,null,null,null,null,null,null,null,null,null,null,null,null,null,null,null,null,null,null,null,null,null,null,null,null,null,null,null,null,null,null,null,null,null,null,null,null,null,null,null,null,null,null,null,null,null,null,null,null,null,null,"",""]
[null,null,null,null,null,null,{"$f":"IF($D405=\"\",0,VLOOKUP(($DU405&$C405&$D405),単価情報!$B$66:$C$932,2,FALSE))","v":0},0,0,0,null,null,null,null,null,null,null,null,null,null,null,null,null,null,null,null,null,null,null,null,null,null,null,null,null,null,null,null,null,null,null,null,null,null,null,null,null,null,null,null,null,null,null,null,null,null,null,null,null,null,null,null,null,null,null,null,null,null,null,null,null,null,null,null,null,null,null,null,null,null,null,null,null,null,null,null,null,null,null,null,null,null,null,null,null,null,null,null,null,null,null,null,null,null,null,null,null,null,null,null,null,null,null,null,null,null,null,null,null,null,null,null,null,"",""]
[null,null,null,null,null,null,{"$f":"IF($D406=\"\",0,VLOOKUP(($DU406&$C406&$D406),単価情報!$B$66:$C$932,2,FALSE))","v":0},0,0,0,null,null,null,null,null,null,null,null,null,null,null,null,null,null,null,null,null,null,null,null,null,null,null,null,null,null,null,null,null,null,null,null,null,null,null,null,null,null,null,null,null,null,null,null,null,null,null,null,null,null,null,null,null,null,null,null,null,null,null,null,null,null,null,null,null,null,null,null,null,null,null,null,null,null,null,null,null,null,null,null,null,null,null,null,null,null,null,null,null,null,null,null,null,null,null,null,null,null,null,null,null,null,null,null,null,null,null,null,null,null,null,null,null,"",""]
[null,null,null,null,null,null,{"$f":"IF($D407=\"\",0,VLOOKUP(($DU407&$C407&$D407),単価情報!$B$66:$C$932,2,FALSE))","v":0},0,0,0,null,null,null,null,null,null,null,null,null,null,null,null,null,null,null,null,null,null,null,null,null,null,null,null,null,null,null,null,null,null,null,null,null,null,null,null,null,null,null,null,null,null,null,null,null,null,null,null,null,null,null,null,null,null,null,null,null,null,null,null,null,null,null,null,null,null,null,null,null,null,null,null,null,null,null,null,null,null,null,null,null,null,null,null,null,null,null,null,null,null,null,null,null,null,null,null,null,null,null,null,null,null,null,null,null,null,null,null,null,null,null,null,null,"",""]
[null,null,null,null,null,null,{"$f":"IF($D408=\"\",0,VLOOKUP(($DU408&$C408&$D408),単価情報!$B$66:$C$932,2,FALSE))","v":0},0,0,0,null,null,null,null,null,null,null,null,null,null,null,null,null,null,null,null,null,null,null,null,null,null,null,null,null,null,null,null,null,null,null,null,null,null,null,null,null,null,null,null,null,null,null,null,null,null,null,null,null,null,null,null,null,null,null,null,null,null,null,null,null,null,null,null,null,null,null,null,null,null,null,null,null,null,null,null,null,null,null,null,null,null,null,null,null,null,null,null,null,null,null,null,null,null,null,null,null,null,null,null,null,null,null,null,null,null,null,null,null,null,null,null,null,"",""]
[null,null,null,null,null,null,{"$f":"IF($D409=\"\",0,VLOOKUP(($DU409&$C409&$D409),単価情報!$B$66:$C$932,2,FALSE))","v":0},0,0,0,null,null,null,null,null,null,null,null,null,null,null,null,null,null,null,null,null,null,null,null,null,null,null,null,null,null,null,null,null,null,null,null,null,null,null,null,null,null,null,null,null,null,null,null,null,null,null,null,null,null,null,null,null,null,null,null,null,null,null,null,null,null,null,null,null,null,null,null,null,null,null,null,null,null,null,null,null,null,null,null,null,null,null,null,null,null,null,null,null,null,null,null,null,null,null,null,null,null,null,null,null,null,null,null,null,null,null,null,null,null,null,null,null,"",""]
[null,null,null,null,null,null,{"$f":"IF($D410=\"\",0,VLOOKUP(($DU410&$C410&$D410),単価情報!$B$66:$C$932,2,FALSE))","v":0},0,0,0,null,null,null,null,null,null,null,null,null,null,null,null,null,null,null,null,null,null,null,null,null,null,null,null,null,null,null,null,null,null,null,null,null,null,null,null,null,null,null,null,null,null,null,null,null,null,null,null,null,null,null,null,null,null,null,null,null,null,null,null,null,null,null,null,null,null,null,null,null,null,null,null,null,null,null,null,null,null,null,null,null,null,null,null,null,null,null,null,null,null,null,null,null,null,null,null,null,null,null,null,null,null,null,null,null,null,null,null,null,null,null,null,null,"",""]
[null,null,null,null,null,null,{"$f":"IF($D411=\"\",0,VLOOKUP(($DU411&$C411&$D411),単価情報!$B$66:$C$932,2,FALSE))","v":0},0,0,0,null,null,null,null,null,null,null,null,null,null,null,null,null,null,null,null,null,null,null,null,null,null,null,null,null,null,null,null,null,null,null,null,null,null,null,null,null,null,null,null,null,null,null,null,null,null,null,null,null,null,null,null,null,null,null,null,null,null,null,null,null,null,null,null,null,null,null,null,null,null,null,null,null,null,null,null,null,null,null,null,null,null,null,null,null,null,null,null,null,null,null,null,null,null,null,null,null,null,null,null,null,null,null,null,null,null,null,null,null,null,null,null,null,{"$f":"IF($B411=\"\",\"\",VLOOKUP($A411,$DW$11:$DX$18,2,FALSE))","v":""},{"$f":"IF($B411=\"\",\"\",VLOOKUP($B411,$DY$11:$DZ$27,2,FALSE))","v":""}]
[null,null,null,null,null,null,{"$f":"IF($D412=\"\",0,VLOOKUP(($DU412&$C412&$D412),単価情報!$B$66:$C$932,2,FALSE))","v":0},0,0,0,null,null,null,null,null,null,null,null,null,null,null,null,null,null,null,null,null,null,null,null,null,null,null,null,null,null,null,null,null,null,null,null,null,null,null,null,null,null,null,null,null,null,null,null,null,null,null,null,null,null,null,null,null,null,null,null,null,null,null,null,null,null,null,null,null,null,null,null,null,null,null,null,null,null,null,null,null,null,null,null,null,null,null,null,null,null,null,null,null,null,null,null,null,null,null,null,null,null,null,null,null,null,null,null,null,null,null,null,null,null,null,null,null,"",""]
[null,null,null,null,null,null,{"$f":"IF($D413=\"\",0,VLOOKUP(($DU413&$C413&$D413),単価情報!$B$66:$C$932,2,FALSE))","v":0},0,0,0,null,null,null,null,null,null,null,null,null,null,null,null,null,null,null,null,null,null,null,null,null,null,null,null,null,null,null,null,null,null,null,null,null,null,null,null,null,null,null,null,null,null,null,null,null,null,null,null,null,null,null,null,null,null,null,null,null,null,null,null,null,null,null,null,null,null,null,null,null,null,null,null,null,null,null,null,null,null,null,null,null,null,null,null,null,null,null,null,null,null,null,null,null,null,null,null,null,null,null,null,null,null,null,null,null,null,null,null,null,null,null,null,null,"",""]
[null,null,null,null,null,null,{"$f":"IF($D414=\"\",0,VLOOKUP(($DU414&$C414&$D414),単価情報!$B$66:$C$932,2,FALSE))","v":0},0,0,0,null,null,null,null,null,null,null,null,null,null,null,null,null,null,null,null,null,null,null,null,null,null,null,null,null,null,null,null,null,null,null,null,null,null,null,null,null,null,null,null,null,null,null,null,null,null,null,null,null,null,null,null,null,null,null,null,null,null,null,null,null,null,null,null,null,null,null,null,null,null,null,null,null,null,null,null,null,null,null,null,null,null,null,null,null,null,null,null,null,null,null,null,null,null,null,null,null,null,null,null,null,null,null,null,null,null,null,null,null,null,null,null,null,"",""]
[null,null,null,null,null,null,{"$f":"IF($D415=\"\",0,VLOOKUP(($DU415&$C415&$D415),単価情報!$B$66:$C$932,2,FALSE))","v":0},0,0,0,null,null,null,null,null,null,null,null,null,null,null,null,null,null,null,null,null,null,null,null,null,null,null,null,null,null,null,null,null,null,null,null,null,null,null,null,null,null,null,null,null,null,null,null,null,null,null,null,null,null,null,null,null,null,null,null,null,null,null,null,null,null,null,null,null,null,null,null,null,null,null,null,null,null,null,null,null,null,null,null,null,null,null,null,null,null,null,null,null,null,null,null,null,null,null,null,null,null,null,null,null,null,null,null,null,null,null,null,null,null,null,null,null,"",""]
[null,null,null,null,null,null,{"$f":"IF($D416=\"\",0,VLOOKUP(($DU416&$C416&$D416),単価情報!$B$66:$C$932,2,FALSE))","v":0},0,0,0,null,null,null,null,null,null,null,null,null,null,null,null,null,null,null,null,null,null,null,null,null,null,null,null,null,null,null,null,null,null,null,null,null,null,null,null,null,null,null,null,null,null,null,null,null,null,null,null,null,null,null,null,null,null,null,null,null,null,null,null,null,null,null,null,null,null,null,null,null,null,null,null,null,null,null,null,null,null,null,null,null,null,null,null,null,null,null,null,null,null,null,null,null,null,null,null,null,null,null,null,null,null,null,null,null,null,null,null,null,null,null,null,null,"",""]
[null,null,null,null,null,null,{"$f":"IF($D417=\"\",0,VLOOKUP(($DU417&$C417&$D417),単価情報!$B$66:$C$932,2,FALSE))","v":0},0,0,0,null,null,null,null,null,null,null,null,null,null,null,null,null,null,null,null,null,null,null,null,null,null,null,null,null,null,null,null,null,null,null,null,null,null,null,null,null,null,null,null,null,null,null,null,null,null,null,null,null,null,null,null,null,null,null,null,null,null,null,null,null,null,null,null,null,null,null,null,null,null,null,null,null,null,null,null,null,null,null,null,null,null,null,null,null,null,null,null,null,null,null,null,null,null,null,null,null,null,null,null,null,null,null,null,null,null,null,null,null,null,null,null,null,"",""]
[null,null,null,null,null,null,{"$f":"IF($D418=\"\",0,VLOOKUP(($DU418&$C418&$D418),単価情報!$B$66:$C$932,2,FALSE))","v":0},0,0,0,null,null,null,null,null,null,null,null,null,null,null,null,null,null,null,null,null,null,null,null,null,null,null,null,null,null,null,null,null,null,null,null,null,null,null,null,null,null,null,null,null,null,null,null,null,null,null,null,null,null,null,null,null,null,null,null,null,null,null,null,null,null,null,null,null,null,null,null,null,null,null,null,null,null,null,null,null,null,null,null,null,null,null,null,null,null,null,null,null,null,null,null,null,null,null,null,null,null,null,null,null,null,null,null,null,null,null,null,null,null,null,null,null,"",""]
[null,null,null,null,null,null,{"$f":"IF($D419=\"\",0,VLOOKUP(($DU419&$C419&$D419),単価情報!$B$66:$C$932,2,FALSE))","v":0},0,0,0,null,null,null,null,null,null,null,null,null,null,null,null,null,null,null,null,null,null,null,null,null,null,null,null,null,null,null,null,null,null,null,null,null,null,null,null,null,null,null,null,null,null,null,null,null,null,null,null,null,null,null,null,null,null,null,null,null,null,null,null,null,null,null,null,null,null,null,null,null,null,null,null,null,null,null,null,null,null,null,null,null,null,null,null,null,null,null,null,null,null,null,null,null,null,null,null,null,null,null,null,null,null,null,null,null,null,null,null,null,null,null,null,null,"",""]
[null,null,null,null,null,null,{"$f":"IF($D420=\"\",0,VLOOKUP(($DU420&$C420&$D420),単価情報!$B$66:$C$932,2,FALSE))","v":0},0,0,0,null,null,null,null,null,null,null,null,null,null,null,null,null,null,null,null,null,null,null,null,null,null,null,null,null,null,null,null,null,null,null,null,null,null,null,null,null,null,null,null,null,null,null,null,null,null,null,null,null,null,null,null,null,null,null,null,null,null,null,null,null,null,null,null,null,null,null,null,null,null,null,null,null,null,null,null,null,null,null,null,null,null,null,null,null,null,null,null,null,null,null,null,null,null,null,null,null,null,null,null,null,null,null,null,null,null,null,null,null,null,null,null,null,"",""]
[null,null,null,null,null,null,{"$f":"IF($D421=\"\",0,VLOOKUP(($DU421&$C421&$D421),単価情報!$B$66:$C$932,2,FALSE))","v":0},0,0,0,null,null,null,null,null,null,null,null,null,null,null,null,null,null,null,null,null,null,null,null,null,null,null,null,null,null,null,null,null,null,null,null,null,null,null,null,null,null,null,null,null,null,null,null,null,null,null,null,null,null,null,null,null,null,null,null,null,null,null,null,null,null,null,null,null,null,null,null,null,null,null,null,null,null,null,null,null,null,null,null,null,null,null,null,null,null,null,null,null,null,null,null,null,null,null,null,null,null,null,null,null,null,null,null,null,null,null,null,null,null,null,null,null,"",""]
[null,null,null,null,null,null,{"$f":"IF($D422=\"\",0,VLOOKUP(($DU422&$C422&$D422),単価情報!$B$66:$C$932,2,FALSE))","v":0},0,0,0,null,null,null,null,null,null,null,null,null,null,null,null,null,null,null,null,null,null,null,null,null,null,null,null,null,null,null,null,null,null,null,null,null,null,null,null,null,null,null,null,null,null,null,null,null,null,null,null,null,null,null,null,null,null,null,null,null,null,null,null,null,null,null,null,null,null,null,null,null,null,null,null,null,null,null,null,null,null,null,null,null,null,null,null,null,null,null,null,null,null,null,null,null,null,null,null,null,null,null,null,null,null,null,null,null,null,null,null,null,null,null,null,null,"",""]
[null,null,null,null,null,null,{"$f":"IF($D423=\"\",0,VLOOKUP(($DU423&$C423&$D423),単価情報!$B$66:$C$932,2,FALSE))","v":0},0,0,0,null,null,null,null,null,null,null,null,null,null,null,null,null,null,null,null,null,null,null,null,null,null,null,null,null,null,null,null,null,null,null,null,null,null,null,null,null,null,null,null,null,null,null,null,null,null,null,null,null,null,null,null,null,null,null,null,null,null,null,null,null,null,null,null,null,null,null,null,null,null,null,null,null,null,null,null,null,null,null,null,null,null,null,null,null,null,null,null,null,null,null,null,null,null,null,null,null,null,null,null,null,null,null,null,null,null,null,null,null,null,null,null,null,"",""]
[null,null,null,null,null,null,{"$f":"IF($D424=\"\",0,VLOOKUP(($DU424&$C424&$D424),単価情報!$B$66:$C$932,2,FALSE))","v":0},0,0,0,null,null,null,null,null,null,null,null,null,null,null,null,null,null,null,null,null,null,null,null,null,null,null,null,null,null,null,null,null,null,null,null,null,null,null,null,null,null,null,null,null,null,null,null,null,null,null,null,null,null,null,null,null,null,null,null,null,null,null,null,null,null,null,null,null,null,null,null,null,null,null,null,null,null,null,null,null,null,null,null,null,null,null,null,null,null,null,null,null,null,null,null,null,null,null,null,null,null,null,null,null,null,null,null,null,null,null,null,null,null,null,null,null,"",""]
[null,null,null,null,null,null,{"$f":"IF($D425=\"\",0,VLOOKUP(($DU425&$C425&$D425),単価情報!$B$66:$C$932,2,FALSE))","v":0},0,0,0,null,null,null,null,null,null,null,null,null,null,null,null,null,null,null,null,null,null,null,null,null,null,null,null,null,null,null,null,null,null,null,null,null,null,null,null,null,null,null,null,null,null,null,null,null,null,null,null,null,null,null,null,null,null,null,null,null,null,null,null,null,null,null,null,null,null,null,null,null,null,null,null,null,null,null,null,null,null,null,null,null,null,null,null,null,null,null,null,null,null,null,null,null,null,null,null,null,null,null,null,null,null,null,null,null,null,null,null,null,null,null,null,null,"",""]
[null,null,null,null,null,null,{"$f":"IF($D426=\"\",0,VLOOKUP(($DU426&$C426&$D426),単価情報!$B$66:$C$932,2,FALSE))","v":0},0,0,0,null,null,null,null,null,null,null,null,null,null,null,null,null,null,null,null,null,null,null,null,null,null,null,null,null,null,null,null,null,null,null,null,null,null,null,null,null,null,null,null,null,null,null,null,null,null,null,null,null,null,null,null,null,null,null,null,null,null,null,null,null,null,null,null,null,null,null,null,null,null,null,null,null,null,null,null,null,null,null,null,null,null,null,null,null,null,null,null,null,null,null,null,null,null,null,null,null,null,null,null,null,null,null,null,null,null,null,null,null,null,null,null,null,"",""]
[null,null,null,null,null,null,{"$f":"IF($D427=\"\",0,VLOOKUP(($DU427&$C427&$D427),単価情報!$B$66:$C$932,2,FALSE))","v":0},0,0,0,null,null,null,null,null,null,null,null,null,null,null,null,null,null,null,null,null,null,null,null,null,null,null,null,null,null,null,null,null,null,null,null,null,null,null,null,null,null,null,null,null,null,null,null,null,null,null,null,null,null,null,null,null,null,null,null,null,null,null,null,null,null,null,null,null,null,null,null,null,null,null,null,null,null,null,null,null,null,null,null,null,null,null,null,null,null,null,null,null,null,null,null,null,null,null,null,null,null,null,null,null,null,null,null,null,null,null,null,null,null,null,null,null,"",""]
[null,null,null,null,null,null,{"$f":"IF($D428=\"\",0,VLOOKUP(($DU428&$C428&$D428),単価情報!$B$66:$C$932,2,FALSE))","v":0},0,0,0,null,null,null,null,null,null,null,null,null,null,null,null,null,null,null,null,null,null,null,null,null,null,null,null,null,null,null,null,null,null,null,null,null,null,null,null,null,null,null,null,null,null,null,null,null,null,null,null,null,null,null,null,null,null,null,null,null,null,null,null,null,null,null,null,null,null,null,null,null,null,null,null,null,null,null,null,null,null,null,null,null,null,null,null,null,null,null,null,null,null,null,null,null,null,null,null,null,null,null,null,null,null,null,null,null,null,null,null,null,null,null,null,null,"",""]
[null,null,null,null,null,null,{"$f":"IF($D429=\"\",0,VLOOKUP(($DU429&$C429&$D429),単価情報!$B$66:$C$932,2,FALSE))","v":0},0,0,0,null,null,null,null,null,null,null,null,null,null,null,null,null,null,null,null,null,null,null,null,null,null,null,null,null,null,null,null,null,null,null,null,null,null,null,null,null,null,null,null,null,null,null,null,null,null,null,null,null,null,null,null,null,null,null,null,null,null,null,null,null,null,null,null,null,null,null,null,null,null,null,null,null,null,null,null,null,null,null,null,null,null,null,null,null,null,null,null,null,null,null,null,null,null,null,null,null,null,null,null,null,null,null,null,null,null,null,null,null,null,null,null,null,"",""]
[null,null,null,null,null,null,{"$f":"IF($D430=\"\",0,VLOOKUP(($DU430&$C430&$D430),単価情報!$B$66:$C$932,2,FALSE))","v":0},0,0,0,null,null,null,null,null,null,null,null,null,null,null,null,null,null,null,null,null,null,null,null,null,null,null,null,null,null,null,null,null,null,null,null,null,null,null,null,null,null,null,null,null,null,null,null,null,null,null,null,null,null,null,null,null,null,null,null,null,null,null,null,null,null,null,null,null,null,null,null,null,null,null,null,null,null,null,null,null,null,null,null,null,null,null,null,null,null,null,null,null,null,null,null,null,null,null,null,null,null,null,null,null,null,null,null,null,null,null,null,null,null,null,null,null,"",""]
[null,null,null,null,null,null,{"$f":"IF($D431=\"\",0,VLOOKUP(($DU431&$C431&$D431),単価情報!$B$66:$C$932,2,FALSE))","v":0},0,0,0,null,null,null,null,null,null,null,null,null,null,null,null,null,null,null,null,null,null,null,null,null,null,null,null,null,null,null,null,null,null,null,null,null,null,null,null,null,null,null,null,null,null,null,null,null,null,null,null,null,null,null,null,null,null,null,null,null,null,null,null,null,null,null,null,null,null,null,null,null,null,null,null,null,null,null,null,null,null,null,null,null,null,null,null,null,null,null,null,null,null,null,null,null,null,null,null,null,null,null,null,null,null,null,null,null,null,null,null,null,null,null,null,null,"",""]
[null,null,null,null,null,null,{"$f":"IF($D432=\"\",0,VLOOKUP(($DU432&$C432&$D432),単価情報!$B$66:$C$932,2,FALSE))","v":0},0,0,0,null,null,null,null,null,null,null,null,null,null,null,null,null,null,null,null,null,null,null,null,null,null,null,null,null,null,null,null,null,null,null,null,null,null,null,null,null,null,null,null,null,null,null,null,null,null,null,null,null,null,null,null,null,null,null,null,null,null,null,null,null,null,null,null,null,null,null,null,null,null,null,null,null,null,null,null,null,null,null,null,null,null,null,null,null,null,null,null,null,null,null,null,null,null,null,null,null,null,null,null,null,null,null,null,null,null,null,null,null,null,null,null,null,"",""]
[null,null,null,null,null,null,{"$f":"IF($D433=\"\",0,VLOOKUP(($DU433&$C433&$D433),単価情報!$B$66:$C$932,2,FALSE))","v":0},0,0,0,null,null,null,null,null,null,null,null,null,null,null,null,null,null,null,null,null,null,null,null,null,null,null,null,null,null,null,null,null,null,null,null,null,null,null,null,null,null,null,null,null,null,null,null,null,null,null,null,null,null,null,null,null,null,null,null,null,null,null,null,null,null,null,null,null,null,null,null,null,null,null,null,null,null,null,null,null,null,null,null,null,null,null,null,null,null,null,null,null,null,null,null,null,null,null,null,null,null,null,null,null,null,null,null,null,null,null,null,null,null,null,null,null,"",""]
[null,null,null,null,null,null,{"$f":"IF($D434=\"\",0,VLOOKUP(($DU434&$C434&$D434),単価情報!$B$66:$C$932,2,FALSE))","v":0},0,0,0,null,null,null,null,null,null,null,null,null,null,null,null,null,null,null,null,null,null,null,null,null,null,null,null,null,null,null,null,null,null,null,null,null,null,null,null,null,null,null,null,null,null,null,null,null,null,null,null,null,null,null,null,null,null,null,null,null,null,null,null,null,null,null,null,null,null,null,null,null,null,null,null,null,null,null,null,null,null,null,null,null,null,null,null,null,null,null,null,null,null,null,null,null,null,null,null,null,null,null,null,null,null,null,null,null,null,null,null,null,null,null,null,null,"",""]
[null,null,null,null,null,null,{"$f":"IF($D435=\"\",0,VLOOKUP(($DU435&$C435&$D435),単価情報!$B$66:$C$932,2,FALSE))","v":0},0,0,0,null,null,null,null,null,null,null,null,null,null,null,null,null,null,null,null,null,null,null,null,null,null,null,null,null,null,null,null,null,null,null,null,null,null,null,null,null,null,null,null,null,null,null,null,null,null,null,null,null,null,null,null,null,null,null,null,null,null,null,null,null,null,null,null,null,null,null,null,null,null,null,null,null,null,null,null,null,null,null,null,null,null,null,null,null,null,null,null,null,null,null,null,null,null,null,null,null,null,null,null,null,null,null,null,null,null,null,null,null,null,null,null,null,"",""]
[null,null,null,null,null,null,{"$f":"IF($D436=\"\",0,VLOOKUP(($DU436&$C436&$D436),単価情報!$B$66:$C$932,2,FALSE))","v":0},0,0,0,null,null,null,null,null,null,null,null,null,null,null,null,null,null,null,null,null,null,null,null,null,null,null,null,null,null,null,null,null,null,null,null,null,null,null,null,null,null,null,null,null,null,null,null,null,null,null,null,null,null,null,null,null,null,null,null,null,null,null,null,null,null,null,null,null,null,null,null,null,null,null,null,null,null,null,null,null,null,null,null,null,null,null,null,null,null,null,null,null,null,null,null,null,null,null,null,null,null,null,null,null,null,null,null,null,null,null,null,null,null,null,null,null,"",""]
[null,null,null,null,null,null,{"$f":"IF($D437=\"\",0,VLOOKUP(($DU437&$C437&$D437),単価情報!$B$66:$C$932,2,FALSE))","v":0},0,0,0,null,null,null,null,null,null,null,null,null,null,null,null,null,null,null,null,null,null,null,null,null,null,null,null,null,null,null,null,null,null,null,null,null,null,null,null,null,null,null,null,null,null,null,null,null,null,null,null,null,null,null,null,null,null,null,null,null,null,null,null,null,null,null,null,null,null,null,null,null,null,null,null,null,null,null,null,null,null,null,null,null,null,null,null,null,null,null,null,null,null,null,null,null,null,null,null,null,null,null,null,null,null,null,null,null,null,null,null,null,null,null,null,null,"",""]
[null,null,null,null,null,null,{"$f":"IF($D438=\"\",0,VLOOKUP(($DU438&$C438&$D438),単価情報!$B$66:$C$932,2,FALSE))","v":0},0,0,0,null,null,null,null,null,null,null,null,null,null,null,null,null,null,null,null,null,null,null,null,null,null,null,null,null,null,null,null,null,null,null,null,null,null,null,null,null,null,null,null,null,null,null,null,null,null,null,null,null,null,null,null,null,null,null,null,null,null,null,null,null,null,null,null,null,null,null,null,null,null,null,null,null,null,null,null,null,null,null,null,null,null,null,null,null,null,null,null,null,null,null,null,null,null,null,null,null,null,null,null,null,null,null,null,null,null,null,null,null,null,null,null,null,"",""]
[null,null,null,null,null,null,{"$f":"IF($D439=\"\",0,VLOOKUP(($DU439&$C439&$D439),単価情報!$B$66:$C$932,2,FALSE))","v":0},0,0,0,null,null,null,null,null,null,null,null,null,null,null,null,null,null,null,null,null,null,null,null,null,null,null,null,null,null,null,null,null,null,null,null,null,null,null,null,null,null,null,null,null,null,null,null,null,null,null,null,null,null,null,null,null,null,null,null,null,null,null,null,null,null,null,null,null,null,null,null,null,null,null,null,null,null,null,null,null,null,null,null,null,null,null,null,null,null,null,null,null,null,null,null,null,null,null,null,null,null,null,null,null,null,null,null,null,null,null,null,null,null,null,null,null,"",""]
[null,null,null,null,null,null,{"$f":"IF($D440=\"\",0,VLOOKUP(($DU440&$C440&$D440),単価情報!$B$66:$C$932,2,FALSE))","v":0},0,0,0,null,null,null,null,null,null,null,null,null,null,null,null,null,null,null,null,null,null,null,null,null,null,null,null,null,null,null,null,null,null,null,null,null,null,null,null,null,null,null,null,null,null,null,null,null,null,null,null,null,null,null,null,null,null,null,null,null,null,null,null,null,null,null,null,null,null,null,null,null,null,null,null,null,null,null,null,null,null,null,null,null,null,null,null,null,null,null,null,null,null,null,null,null,null,null,null,null,null,null,null,null,null,null,null,null,null,null,null,null,null,null,null,null,"",""]
[null,null,null,null,null,null,{"$f":"IF($D441=\"\",0,VLOOKUP(($DU441&$C441&$D441),単価情報!$B$66:$C$932,2,FALSE))","v":0},0,0,0,null,null,null,null,null,null,null,null,null,null,null,null,null,null,null,null,null,null,null,null,null,null,null,null,null,null,null,null,null,null,null,null,null,null,null,null,null,null,null,null,null,null,null,null,null,null,null,null,null,null,null,null,null,null,null,null,null,null,null,null,null,null,null,null,null,null,null,null,null,null,null,null,null,null,null,null,null,null,null,null,null,null,null,null,null,null,null,null,null,null,null,null,null,null,null,null,null,null,null,null,null,null,null,null,null,null,null,null,null,null,null,null,null,"",""]
[null,null,null,null,null,null,{"$f":"IF($D442=\"\",0,VLOOKUP(($DU442&$C442&$D442),単価情報!$B$66:$C$932,2,FALSE))","v":0},0,0,0,null,null,null,null,null,null,null,null,null,null,null,null,null,null,null,null,null,null,null,null,null,null,null,null,null,null,null,null,null,null,null,null,null,null,null,null,null,null,null,null,null,null,null,null,null,null,null,null,null,null,null,null,null,null,null,null,null,null,null,null,null,null,null,null,null,null,null,null,null,null,null,null,null,null,null,null,null,null,null,null,null,null,null,null,null,null,null,null,null,null,null,null,null,null,null,null,null,null,null,null,null,null,null,null,null,null,null,null,null,null,null,null,null,"",""]
[null,null,null,null,null,null,{"$f":"IF($D443=\"\",0,VLOOKUP(($DU443&$C443&$D443),単価情報!$B$66:$C$932,2,FALSE))","v":0},0,0,0,null,null,null,null,null,null,null,null,null,null,null,null,null,null,null,null,null,null,null,null,null,null,null,null,null,null,null,null,null,null,null,null,null,null,null,null,null,null,null,null,null,null,null,null,null,null,null,null,null,null,null,null,null,null,null,null,null,null,null,null,null,null,null,null,null,null,null,null,null,null,null,null,null,null,null,null,null,null,null,null,null,null,null,null,null,null,null,null,null,null,null,null,null,null,null,null,null,null,null,null,null,null,null,null,null,null,null,null,null,null,null,null,null,"",""]
[null,null,null,null,null,null,{"$f":"IF($D444=\"\",0,VLOOKUP(($DU444&$C444&$D444),単価情報!$B$66:$C$932,2,FALSE))","v":0},0,0,0,null,null,null,null,null,null,null,null,null,null,null,null,null,null,null,null,null,null,null,null,null,null,null,null,null,null,null,null,null,null,null,null,null,null,null,null,null,null,null,null,null,null,null,null,null,null,null,null,null,null,null,null,null,null,null,null,null,null,null,null,null,null,null,null,null,null,null,null,null,null,null,null,null,null,null,null,null,null,null,null,null,null,null,null,null,null,null,null,null,null,null,null,null,null,null,null,null,null,null,null,null,null,null,null,null,null,null,null,null,null,null,null,null,"",""]
[null,null,null,null,null,null,{"$f":"IF($D445=\"\",0,VLOOKUP(($DU445&$C445&$D445),単価情報!$B$66:$C$932,2,FALSE))","v":0},0,0,0,null,null,null,null,null,null,null,null,null,null,null,null,null,null,null,null,null,null,null,null,null,null,null,null,null,null,null,null,null,null,null,null,null,null,null,null,null,null,null,null,null,null,null,null,null,null,null,null,null,null,null,null,null,null,null,null,null,null,null,null,null,null,null,null,null,null,null,null,null,null,null,null,null,null,null,null,null,null,null,null,null,null,null,null,null,null,null,null,null,null,null,null,null,null,null,null,null,null,null,null,null,null,null,null,null,null,null,null,null,null,null,null,null,"",""]
[null,null,null,null,null,null,{"$f":"IF($D446=\"\",0,VLOOKUP(($DU446&$C446&$D446),単価情報!$B$66:$C$932,2,FALSE))","v":0},0,0,0,null,null,null,null,null,null,null,null,null,null,null,null,null,null,null,null,null,null,null,null,null,null,null,null,null,null,null,null,null,null,null,null,null,null,null,null,null,null,null,null,null,null,null,null,null,null,null,null,null,null,null,null,null,null,null,null,null,null,null,null,null,null,null,null,null,null,null,null,null,null,null,null,null,null,null,null,null,null,null,null,null,null,null,null,null,null,null,null,null,null,null,null,null,null,null,null,null,null,null,null,null,null,null,null,null,null,null,null,null,null,null,null,null,"",""]
[null,null,null,null,null,null,{"$f":"IF($D447=\"\",0,VLOOKUP(($DU447&$C447&$D447),単価情報!$B$66:$C$932,2,FALSE))","v":0},0,0,0,null,null,null,null,null,null,null,null,null,null,null,null,null,null,null,null,null,null,null,null,null,null,null,null,null,null,null,null,null,null,null,null,null,null,null,null,null,null,null,null,null,null,null,null,null,null,null,null,null,null,null,null,null,null,null,null,null,null,null,null,null,null,null,null,null,null,null,null,null,null,null,null,null,null,null,null,null,null,null,null,null,null,null,null,null,null,null,null,null,null,null,null,null,null,null,null,null,null,null,null,null,null,null,null,null,null,null,null,null,null,null,null,null,"",""]
[null,null,null,null,null,null,{"$f":"IF($D448=\"\",0,VLOOKUP(($DU448&$C448&$D448),単価情報!$B$66:$C$932,2,FALSE))","v":0},0,0,0,null,null,null,null,null,null,null,null,null,null,null,null,null,null,null,null,null,null,null,null,null,null,null,null,null,null,null,null,null,null,null,null,null,null,null,null,null,null,null,null,null,null,null,null,null,null,null,null,null,null,null,null,null,null,null,null,null,null,null,null,null,null,null,null,null,null,null,null,null,null,null,null,null,null,null,null,null,null,null,null,null,null,null,null,null,null,null,null,null,null,null,null,null,null,null,null,null,null,null,null,null,null,null,null,null,null,null,null,null,null,null,null,null,"",""]
[null,null,null,null,null,null,{"$f":"IF($D449=\"\",0,VLOOKUP(($DU449&$C449&$D449),単価情報!$B$66:$C$932,2,FALSE))","v":0},{"$f":"G449","v":0},{"$f":"E449*G449","v":0},{"$f":"E449*H449","v":0},null,null,null,null,null,null,null,null,null,null,null,null,null,null,null,null,null,null,null,null,null,null,null,null,null,null,null,null,null,null,null,null,null,null,null,null,null,null,null,null,null,null,null,null,null,null,null,null,null,null,null,null,null,null,null,null,null,null,null,null,null,null,null,null,null,null,null,null,null,null,null,null,null,null,null,null,null,null,null,null,null,null,null,null,null,null,null,null,null,null,null,null,null,null,null,null,null,null,null,null,null,null,null,null,null,null,null,null,null,null,null,null,null,"",""]
[null,null,null,null,null,null,{"$f":"IF($D450=\"\",0,VLOOKUP(($DU450&$C450&$D450),単価情報!$B$66:$C$932,2,FALSE))","v":0},0,0,0,null,null,null,null,null,null,null,null,null,null,null,null,null,null,null,null,null,null,null,null,null,null,null,null,null,null,null,null,null,null,null,null,null,null,null,null,null,null,null,null,null,null,null,null,null,null,null,null,null,null,null,null,null,null,null,null,null,null,null,null,null,null,null,null,null,null,null,null,null,null,null,null,null,null,null,null,null,null,null,null,null,null,null,null,null,null,null,null,null,null,null,null,null,null,null,null,null,null,null,null,null,null,null,null,null,null,null,null,null,null,null,null,null,"",""]
[null,null,null,null,null,null,{"$f":"IF($D451=\"\",0,VLOOKUP(($DU451&$C451&$D451),単価情報!$B$66:$C$932,2,FALSE))","v":0},0,0,0,null,null,null,null,null,null,null,null,null,null,null,null,null,null,null,null,null,null,null,null,null,null,null,null,null,null,null,null,null,null,null,null,null,null,null,null,null,null,null,null,null,null,null,null,null,null,null,null,null,null,null,null,null,null,null,null,null,null,null,null,null,null,null,null,null,null,null,null,null,null,null,null,null,null,null,null,null,null,null,null,null,null,null,null,null,null,null,null,null,null,null,null,null,null,null,null,null,null,null,null,null,null,null,null,null,null,null,null,null,null,null,null,null,"",""]
[null,null,null,null,null,null,{"$f":"IF($D452=\"\",0,VLOOKUP(($DU452&$C452&$D452),単価情報!$B$66:$C$932,2,FALSE))","v":0},0,0,0,null,null,null,null,null,null,null,null,null,null,null,null,null,null,null,null,null,null,null,null,null,null,null,null,null,null,null,null,null,null,null,null,null,null,null,null,null,null,null,null,null,null,null,null,null,null,null,null,null,null,null,null,null,null,null,null,null,null,null,null,null,null,null,null,null,null,null,null,null,null,null,null,null,null,null,null,null,null,null,null,null,null,null,null,null,null,null,null,null,null,null,null,null,null,null,null,null,null,null,null,null,null,null,null,null,null,null,null,null,null,null,null,null,"",""]
[null,null,null,null,null,null,{"$f":"IF($D453=\"\",0,VLOOKUP(($DU453&$C453&$D453),単価情報!$B$66:$C$932,2,FALSE))","v":0},0,0,0,null,null,null,null,null,null,null,null,null,null,null,null,null,null,null,null,null,null,null,null,null,null,null,null,null,null,null,null,null,null,null,null,null,null,null,null,null,null,null,null,null,null,null,null,null,null,null,null,null,null,null,null,null,null,null,null,null,null,null,null,null,null,null,null,null,null,null,null,null,null,null,null,null,null,null,null,null,null,null,null,null,null,null,null,null,null,null,null,null,null,null,null,null,null,null,null,null,null,null,null,null,null,null,null,null,null,null,null,null,null,null,null,null,"",""]
[null,null,null,null,null,null,{"$f":"IF($D454=\"\",0,VLOOKUP(($DU454&$C454&$D454),単価情報!$B$66:$C$932,2,FALSE))","v":0},0,0,0,null,null,null,null,null,null,null,null,null,null,null,null,null,null,null,null,null,null,null,null,null,null,null,null,null,null,null,null,null,null,null,null,null,null,null,null,null,null,null,null,null,null,null,null,null,null,null,null,null,null,null,null,null,null,null,null,null,null,null,null,null,null,null,null,null,null,null,null,null,null,null,null,null,null,null,null,null,null,null,null,null,null,null,null,null,null,null,null,null,null,null,null,null,null,null,null,null,null,null,null,null,null,null,null,null,null,null,null,null,null,null,null,null,"",""]
[null,null,null,null,null,null,{"$f":"IF($D455=\"\",0,VLOOKUP(($DU455&$C455&$D455),単価情報!$B$66:$C$932,2,FALSE))","v":0},0,0,0,null,null,null,null,null,null,null,null,null,null,null,null,null,null,null,null,null,null,null,null,null,null,null,null,null,null,null,null,null,null,null,null,null,null,null,null,null,null,null,null,null,null,null,null,null,null,null,null,null,null,null,null,null,null,null,null,null,null,null,null,null,null,null,null,null,null,null,null,null,null,null,null,null,null,null,null,null,null,null,null,null,null,null,null,null,null,null,null,null,null,null,null,null,null,null,null,null,null,null,null,null,null,null,null,null,null,null,null,null,null,null,null,null,"",""]
[null,null,null,null,null,null,{"$f":"IF($D456=\"\",0,VLOOKUP(($DU456&$C456&$D456),単価情報!$B$66:$C$932,2,FALSE))","v":0},0,0,0,null,null,null,null,null,null,null,null,null,null,null,null,null,null,null,null,null,null,null,null,null,null,null,null,null,null,null,null,null,null,null,null,null,null,null,null,null,null,null,null,null,null,null,null,null,null,null,null,null,null,null,null,null,null,null,null,null,null,null,null,null,null,null,null,null,null,null,null,null,null,null,null,null,null,null,null,null,null,null,null,null,null,null,null,null,null,null,null,null,null,null,null,null,null,null,null,null,null,null,null,null,null,null,null,null,null,null,null,null,null,null,null,null,"",""]
[null,null,null,null,null,null,{"$f":"IF($D457=\"\",0,VLOOKUP(($DU457&$C457&$D457),単価情報!$B$66:$C$932,2,FALSE))","v":0},0,0,0,null,null,null,null,null,null,null,null,null,null,null,null,null,null,null,null,null,null,null,null,null,null,null,null,null,null,null,null,null,null,null,null,null,null,null,null,null,null,null,null,null,null,null,null,null,null,null,null,null,null,null,null,null,null,null,null,null,null,null,null,null,null,null,null,null,null,null,null,null,null,null,null,null,null,null,null,null,null,null,null,null,null,null,null,null,null,null,null,null,null,null,null,null,null,null,null,null,null,null,null,null,null,null,null,null,null,null,null,null,null,null,null,null,"",""]
[null,null,null,null,null,null,{"$f":"IF($D458=\"\",0,VLOOKUP(($DU458&$C458&$D458),単価情報!$B$66:$C$932,2,FALSE))","v":0},0,0,0,null,null,null,null,null,null,null,null,null,null,null,null,null,null,null,null,null,null,null,null,null,null,null,null,null,null,null,null,null,null,null,null,null,null,null,null,null,null,null,null,null,null,null,null,null,null,null,null,null,null,null,null,null,null,null,null,null,null,null,null,null,null,null,null,null,null,null,null,null,null,null,null,null,null,null,null,null,null,null,null,null,null,null,null,null,null,null,null,null,null,null,null,null,null,null,null,null,null,null,null,null,null,null,null,null,null,null,null,null,null,null,null,null,"",""]
[null,null,null,null,null,null,{"$f":"IF($D459=\"\",0,VLOOKUP(($DU459&$C459&$D459),単価情報!$B$66:$C$932,2,FALSE))","v":0},0,0,0,null,null,null,null,null,null,null,null,null,null,null,null,null,null,null,null,null,null,null,null,null,null,null,null,null,null,null,null,null,null,null,null,null,null,null,null,null,null,null,null,null,null,null,null,null,null,null,null,null,null,null,null,null,null,null,null,null,null,null,null,null,null,null,null,null,null,null,null,null,null,null,null,null,null,null,null,null,null,null,null,null,null,null,null,null,null,null,null,null,null,null,null,null,null,null,null,null,null,null,null,null,null,null,null,null,null,null,null,null,null,null,null,null,"",""]
[null,null,null,null,null,null,{"$f":"IF($D460=\"\",0,VLOOKUP(($DU460&$C460&$D460),単価情報!$B$66:$C$932,2,FALSE))","v":0},0,0,0,null,null,null,null,null,null,null,null,null,null,null,null,null,null,null,null,null,null,null,null,null,null,null,null,null,null,null,null,null,null,null,null,null,null,null,null,null,null,null,null,null,null,null,null,null,null,null,null,null,null,null,null,null,null,null,null,null,null,null,null,null,null,null,null,null,null,null,null,null,null,null,null,null,null,null,null,null,null,null,null,null,null,null,null,null,null,null,null,null,null,null,null,null,null,null,null,null,null,null,null,null,null,null,null,null,null,null,null,null,null,null,null,null,"",""]
[null,null,null,null,null,null,{"$f":"IF($D461=\"\",0,VLOOKUP(($DU461&$C461&$D461),単価情報!$B$66:$C$932,2,FALSE))","v":0},0,0,0,null,null,null,null,null,null,null,null,null,null,null,null,null,null,null,null,null,null,null,null,null,null,null,null,null,null,null,null,null,null,null,null,null,null,null,null,null,null,null,null,null,null,null,null,null,null,null,null,null,null,null,null,null,null,null,null,null,null,null,null,null,null,null,null,null,null,null,null,null,null,null,null,null,null,null,null,null,null,null,null,null,null,null,null,null,null,null,null,null,null,null,null,null,null,null,null,null,null,null,null,null,null,null,null,null,null,null,null,null,null,null,null,null,"",""]
[null,null,null,null,null,null,{"$f":"IF($D462=\"\",0,VLOOKUP(($DU462&$C462&$D462),単価情報!$B$66:$C$932,2,FALSE))","v":0},0,0,0,null,null,null,null,null,null,null,null,null,null,null,null,null,null,null,null,null,null,null,null,null,null,null,null,null,null,null,null,null,null,null,null,null,null,null,null,null,null,null,null,null,null,null,null,null,null,null,null,null,null,null,null,null,null,null,null,null,null,null,null,null,null,null,null,null,null,null,null,null,null,null,null,null,null,null,null,null,null,null,null,null,null,null,null,null,null,null,null,null,null,null,null,null,null,null,null,null,null,null,null,null,null,null,null,null,null,null,null,null,null,null,null,null,"",""]
[null,null,null,null,null,null,{"$f":"IF($D463=\"\",0,VLOOKUP(($DU463&$C463&$D463),単価情報!$B$66:$C$932,2,FALSE))","v":0},0,0,0,null,null,null,null,null,null,null,null,null,null,null,null,null,null,null,null,null,null,null,null,null,null,null,null,null,null,null,null,null,null,null,null,null,null,null,null,null,null,null,null,null,null,null,null,null,null,null,null,null,null,null,null,null,null,null,null,null,null,null,null,null,null,null,null,null,null,null,null,null,null,null,null,null,null,null,null,null,null,null,null,null,null,null,null,null,null,null,null,null,null,null,null,null,null,null,null,null,null,null,null,null,null,null,null,null,null,null,null,null,null,null,null,null,"",""]
[null,null,null,null,null,null,{"$f":"IF($D464=\"\",0,VLOOKUP(($DU464&$C464&$D464),単価情報!$B$66:$C$932,2,FALSE))","v":0},0,0,0,null,null,null,null,null,null,null,null,null,null,null,null,null,null,null,null,null,null,null,null,null,null,null,null,null,null,null,null,null,null,null,null,null,null,null,null,null,null,null,null,null,null,null,null,null,null,null,null,null,null,null,null,null,null,null,null,null,null,null,null,null,null,null,null,null,null,null,null,null,null,null,null,null,null,null,null,null,null,null,null,null,null,null,null,null,null,null,null,null,null,null,null,null,null,null,null,null,null,null,null,null,null,null,null,null,null,null,null,null,null,null,null,null,"",""]
[null,null,null,null,null,null,{"$f":"IF($D465=\"\",0,VLOOKUP(($DU465&$C465&$D465),単価情報!$B$66:$C$932,2,FALSE))","v":0},0,0,0,null,null,null,null,null,null,null,null,null,null,null,null,null,null,null,null,null,null,null,null,null,null,null,null,null,null,null,null,null,null,null,null,null,null,null,null,null,null,null,null,null,null,null,null,null,null,null,null,null,null,null,null,null,null,null,null,null,null,null,null,null,null,null,null,null,null,null,null,null,null,null,null,null,null,null,null,null,null,null,null,null,null,null,null,null,null,null,null,null,null,null,null,null,null,null,null,null,null,null,null,null,null,null,null,null,null,null,null,null,null,null,null,null,"",""]
[null,null,null,null,null,null,{"$f":"IF($D466=\"\",0,VLOOKUP(($DU466&$C466&$D466),単価情報!$B$66:$C$932,2,FALSE))","v":0},0,0,0,null,null,null,null,null,null,null,null,null,null,null,null,null,null,null,null,null,null,null,null,null,null,null,null,null,null,null,null,null,null,null,null,null,null,null,null,null,null,null,null,null,null,null,null,null,null,null,null,null,null,null,null,null,null,null,null,null,null,null,null,null,null,null,null,null,null,null,null,null,null,null,null,null,null,null,null,null,null,null,null,null,null,null,null,null,null,null,null,null,null,null,null,null,null,null,null,null,null,null,null,null,null,null,null,null,null,null,null,null,null,null,null,null,"",""]
[null,null,null,null,null,null,{"$f":"IF($D467=\"\",0,VLOOKUP(($DU467&$C467&$D467),単価情報!$B$66:$C$932,2,FALSE))","v":0},0,0,0,null,null,null,null,null,null,null,null,null,null,null,null,null,null,null,null,null,null,null,null,null,null,null,null,null,null,null,null,null,null,null,null,null,null,null,null,null,null,null,null,null,null,null,null,null,null,null,null,null,null,null,null,null,null,null,null,null,null,null,null,null,null,null,null,null,null,null,null,null,null,null,null,null,null,null,null,null,null,null,null,null,null,null,null,null,null,null,null,null,null,null,null,null,null,null,null,null,null,null,null,null,null,null,null,null,null,null,null,null,null,null,null,null,"",""]
[null,null,null,null,null,null,{"$f":"IF($D468=\"\",0,VLOOKUP(($DU468&$C468&$D468),単価情報!$B$66:$C$932,2,FALSE))","v":0},0,0,0,null,null,null,null,null,null,null,null,null,null,null,null,null,null,null,null,null,null,null,null,null,null,null,null,null,null,null,null,null,null,null,null,null,null,null,null,null,null,null,null,null,null,null,null,null,null,null,null,null,null,null,null,null,null,null,null,null,null,null,null,null,null,null,null,null,null,null,null,null,null,null,null,null,null,null,null,null,null,null,null,null,null,null,null,null,null,null,null,null,null,null,null,null,null,null,null,null,null,null,null,null,null,null,null,null,null,null,null,null,null,null,null,null,"",""]
[null,null,null,null,null,null,{"$f":"IF($D469=\"\",0,VLOOKUP(($DU469&$C469&$D469),単価情報!$B$66:$C$932,2,FALSE))","v":0},0,0,0,null,null,null,null,null,null,null,null,null,null,null,null,null,null,null,null,null,null,null,null,null,null,null,null,null,null,null,null,null,null,null,null,null,null,null,null,null,null,null,null,null,null,null,null,null,null,null,null,null,null,null,null,null,null,null,null,null,null,null,null,null,null,null,null,null,null,null,null,null,null,null,null,null,null,null,null,null,null,null,null,null,null,null,null,null,null,null,null,null,null,null,null,null,null,null,null,null,null,null,null,null,null,null,null,null,null,null,null,null,null,null,null,null,"",""]
[null,null,null,null,null,null,{"$f":"IF($D470=\"\",0,VLOOKUP(($DU470&$C470&$D470),単価情報!$B$66:$C$932,2,FALSE))","v":0},0,0,0,null,null,null,null,null,null,null,null,null,null,null,null,null,null,null,null,null,null,null,null,null,null,null,null,null,null,null,null,null,null,null,null,null,null,null,null,null,null,null,null,null,null,null,null,null,null,null,null,null,null,null,null,null,null,null,null,null,null,null,null,null,null,null,null,null,null,null,null,null,null,null,null,null,null,null,null,null,null,null,null,null,null,null,null,null,null,null,null,null,null,null,null,null,null,null,null,null,null,null,null,null,null,null,null,null,null,null,null,null,null,null,null,null,"",""]
[null,null,null,null,null,null,{"$f":"IF($D471=\"\",0,VLOOKUP(($DU471&$C471&$D471),単価情報!$B$66:$C$932,2,FALSE))","v":0},0,0,0,null,null,null,null,null,null,null,null,null,null,null,null,null,null,null,null,null,null,null,null,null,null,null,null,null,null,null,null,null,null,null,null,null,null,null,null,null,null,null,null,null,null,null,null,null,null,null,null,null,null,null,null,null,null,null,null,null,null,null,null,null,null,null,null,null,null,null,null,null,null,null,null,null,null,null,null,null,null,null,null,null,null,null,null,null,null,null,null,null,null,null,null,null,null,null,null,null,null,null,null,null,null,null,null,null,null,null,null,null,null,null,null,null,"",""]
[null,null,null,null,null,null,{"$f":"IF($D472=\"\",0,VLOOKUP(($DU472&$C472&$D472),単価情報!$B$66:$C$932,2,FALSE))","v":0},0,0,0,null,null,null,null,null,null,null,null,null,null,null,null,null,null,null,null,null,null,null,null,null,null,null,null,null,null,null,null,null,null,null,null,null,null,null,null,null,null,null,null,null,null,null,null,null,null,null,null,null,null,null,null,null,null,null,null,null,null,null,null,null,null,null,null,null,null,null,null,null,null,null,null,null,null,null,null,null,null,null,null,null,null,null,null,null,null,null,null,null,null,null,null,null,null,null,null,null,null,null,null,null,null,null,null,null,null,null,null,null,null,null,null,null,"",""]
[null,null,null,null,null,null,{"$f":"IF($D473=\"\",0,VLOOKUP(($DU473&$C473&$D473),単価情報!$B$66:$C$932,2,FALSE))","v":0},0,0,0,null,null,null,null,null,null,null,null,null,null,null,null,null,null,null,null,null,null,null,null,null,null,null,null,null,null,null,null,null,null,null,null,null,null,null,null,null,null,null,null,null,null,null,null,null,null,null,null,null,null,null,null,null,null,null,null,null,null,null,null,null,null,null,null,null,null,null,null,null,null,null,null,null,null,null,null,null,null,null,null,null,null,null,null,null,null,null,null,null,null,null,null,null,null,null,null,null,null,null,null,null,null,null,null,null,null,null,null,null,null,null,null,null,"",""]
[null,null,null,null,null,null,{"$f":"IF($D474=\"\",0,VLOOKUP(($DU474&$C474&$D474),単価情報!$B$66:$C$932,2,FALSE))","v":0},0,0,0,null,null,null,null,null,null,null,null,null,null,null,null,null,null,null,null,null,null,null,null,null,null,null,null,null,null,null,null,null,null,null,null,null,null,null,null,null,null,null,null,null,null,null,null,null,null,null,null,null,null,null,null,null,null,null,null,null,null,null,null,null,null,null,null,null,null,null,null,null,null,null,null,null,null,null,null,null,null,null,null,null,null,null,null,null,null,null,null,null,null,null,null,null,null,null,null,null,null,null,null,null,null,null,null,null,null,null,null,null,null,null,null,null,"",""]
[null,null,null,null,null,null,{"$f":"IF($D475=\"\",0,VLOOKUP(($DU475&$C475&$D475),単価情報!$B$66:$C$932,2,FALSE))","v":0},0,0,0,null,null,null,null,null,null,null,null,null,null,null,null,null,null,null,null,null,null,null,null,null,null,null,null,null,null,null,null,null,null,null,null,null,null,null,null,null,null,null,null,null,null,null,null,null,null,null,null,null,null,null,null,null,null,null,null,null,null,null,null,null,null,null,null,null,null,null,null,null,null,null,null,null,null,null,null,null,null,null,null,null,null,null,null,null,null,null,null,null,null,null,null,null,null,null,null,null,null,null,null,null,null,null,null,null,null,null,null,null,null,null,null,null,{"$f":"IF($B475=\"\",\"\",VLOOKUP($A475,$DW$11:$DX$18,2,FALSE))","v":""},{"$f":"IF($B475=\"\",\"\",VLOOKUP($B475,$DY$11:$DZ$27,2,FALSE))","v":""}]
[null,null,null,null,null,null,{"$f":"IF($D476=\"\",0,VLOOKUP(($DU476&$C476&$D476),単価情報!$B$66:$C$932,2,FALSE))","v":0},0,0,0,null,null,null,null,null,null,null,null,null,null,null,null,null,null,null,null,null,null,null,null,null,null,null,null,null,null,null,null,null,null,null,null,null,null,null,null,null,null,null,null,null,null,null,null,null,null,null,null,null,null,null,null,null,null,null,null,null,null,null,null,null,null,null,null,null,null,null,null,null,null,null,null,null,null,null,null,null,null,null,null,null,null,null,null,null,null,null,null,null,null,null,null,null,null,null,null,null,null,null,null,null,null,null,null,null,null,null,null,null,null,null,null,null,"",""]
[null,null,null,null,null,null,{"$f":"IF($D477=\"\",0,VLOOKUP(($DU477&$C477&$D477),単価情報!$B$66:$C$932,2,FALSE))","v":0},0,0,0,null,null,null,null,null,null,null,null,null,null,null,null,null,null,null,null,null,null,null,null,null,null,null,null,null,null,null,null,null,null,null,null,null,null,null,null,null,null,null,null,null,null,null,null,null,null,null,null,null,null,null,null,null,null,null,null,null,null,null,null,null,null,null,null,null,null,null,null,null,null,null,null,null,null,null,null,null,null,null,null,null,null,null,null,null,null,null,null,null,null,null,null,null,null,null,null,null,null,null,null,null,null,null,null,null,null,null,null,null,null,null,null,null,"",""]
[null,null,null,null,null,null,{"$f":"IF($D478=\"\",0,VLOOKUP(($DU478&$C478&$D478),単価情報!$B$66:$C$932,2,FALSE))","v":0},0,0,0,null,null,null,null,null,null,null,null,null,null,null,null,null,null,null,null,null,null,null,null,null,null,null,null,null,null,null,null,null,null,null,null,null,null,null,null,null,null,null,null,null,null,null,null,null,null,null,null,null,null,null,null,null,null,null,null,null,null,null,null,null,null,null,null,null,null,null,null,null,null,null,null,null,null,null,null,null,null,null,null,null,null,null,null,null,null,null,null,null,null,null,null,null,null,null,null,null,null,null,null,null,null,null,null,null,null,null,null,null,null,null,null,null,"",""]
[null,null,null,null,null,null,{"$f":"IF($D479=\"\",0,VLOOKUP(($DU479&$C479&$D479),単価情報!$B$66:$C$932,2,FALSE))","v":0},0,0,0,null,null,null,null,null,null,null,null,null,null,null,null,null,null,null,null,null,null,null,null,null,null,null,null,null,null,null,null,null,null,null,null,null,null,null,null,null,null,null,null,null,null,null,null,null,null,null,null,null,null,null,null,null,null,null,null,null,null,null,null,null,null,null,null,null,null,null,null,null,null,null,null,null,null,null,null,null,null,null,null,null,null,null,null,null,null,null,null,null,null,null,null,null,null,null,null,null,null,null,null,null,null,null,null,null,null,null,null,null,null,null,null,null,"",""]
[null,null,null,null,null,null,{"$f":"IF($D480=\"\",0,VLOOKUP(($DU480&$C480&$D480),単価情報!$B$66:$C$932,2,FALSE))","v":0},0,0,0,null,null,null,null,null,null,null,null,null,null,null,null,null,null,null,null,null,null,null,null,null,null,null,null,null,null,null,null,null,null,null,null,null,null,null,null,null,null,null,null,null,null,null,null,null,null,null,null,null,null,null,null,null,null,null,null,null,null,null,null,null,null,null,null,null,null,null,null,null,null,null,null,null,null,null,null,null,null,null,null,null,null,null,null,null,null,null,null,null,null,null,null,null,null,null,null,null,null,null,null,null,null,null,null,null,null,null,null,null,null,null,null,null,"",""]
[null,null,null,null,null,null,{"$f":"IF($D481=\"\",0,VLOOKUP(($DU481&$C481&$D481),単価情報!$B$66:$C$932,2,FALSE))","v":0},0,0,0,null,null,null,null,null,null,null,null,null,null,null,null,null,null,null,null,null,null,null,null,null,null,null,null,null,null,null,null,null,null,null,null,null,null,null,null,null,null,null,null,null,null,null,null,null,null,null,null,null,null,null,null,null,null,null,null,null,null,null,null,null,null,null,null,null,null,null,null,null,null,null,null,null,null,null,null,null,null,null,null,null,null,null,null,null,null,null,null,null,null,null,null,null,null,null,null,null,null,null,null,null,null,null,null,null,null,null,null,null,null,null,null,null,"",""]
[null,null,null,null,null,null,{"$f":"IF($D482=\"\",0,VLOOKUP(($DU482&$C482&$D482),単価情報!$B$66:$C$932,2,FALSE))","v":0},0,0,0,null,null,null,null,null,null,null,null,null,null,null,null,null,null,null,null,null,null,null,null,null,null,null,null,null,null,null,null,null,null,null,null,null,null,null,null,null,null,null,null,null,null,null,null,null,null,null,null,null,null,null,null,null,null,null,null,null,null,null,null,null,null,null,null,null,null,null,null,null,null,null,null,null,null,null,null,null,null,null,null,null,null,null,null,null,null,null,null,null,null,null,null,null,null,null,null,null,null,null,null,null,null,null,null,null,null,null,null,null,null,null,null,null,"",""]
[null,null,null,null,null,null,{"$f":"IF($D483=\"\",0,VLOOKUP(($DU483&$C483&$D483),単価情報!$B$66:$C$932,2,FALSE))","v":0},0,0,0,null,null,null,null,null,null,null,null,null,null,null,null,null,null,null,null,null,null,null,null,null,null,null,null,null,null,null,null,null,null,null,null,null,null,null,null,null,null,null,null,null,null,null,null,null,null,null,null,null,null,null,null,null,null,null,null,null,null,null,null,null,null,null,null,null,null,null,null,null,null,null,null,null,null,null,null,null,null,null,null,null,null,null,null,null,null,null,null,null,null,null,null,null,null,null,null,null,null,null,null,null,null,null,null,null,null,null,null,null,null,null,null,null,"",""]
[null,null,null,null,null,null,{"$f":"IF($D484=\"\",0,VLOOKUP(($DU484&$C484&$D484),単価情報!$B$66:$C$932,2,FALSE))","v":0},0,0,0,null,null,null,null,null,null,null,null,null,null,null,null,null,null,null,null,null,null,null,null,null,null,null,null,null,null,null,null,null,null,null,null,null,null,null,null,null,null,null,null,null,null,null,null,null,null,null,null,null,null,null,null,null,null,null,null,null,null,null,null,null,null,null,null,null,null,null,null,null,null,null,null,null,null,null,null,null,null,null,null,null,null,null,null,null,null,null,null,null,null,null,null,null,null,null,null,null,null,null,null,null,null,null,null,null,null,null,null,null,null,null,null,null,"",""]
[null,null,null,null,null,null,{"$f":"IF($D485=\"\",0,VLOOKUP(($DU485&$C485&$D485),単価情報!$B$66:$C$932,2,FALSE))","v":0},0,0,0,null,null,null,null,null,null,null,null,null,null,null,null,null,null,null,null,null,null,null,null,null,null,null,null,null,null,null,null,null,null,null,null,null,null,null,null,null,null,null,null,null,null,null,null,null,null,null,null,null,null,null,null,null,null,null,null,null,null,null,null,null,null,null,null,null,null,null,null,null,null,null,null,null,null,null,null,null,null,null,null,null,null,null,null,null,null,null,null,null,null,null,null,null,null,null,null,null,null,null,null,null,null,null,null,null,null,null,null,null,null,null,null,null,"",""]
[null,null,null,null,null,null,{"$f":"IF($D486=\"\",0,VLOOKUP(($DU486&$C486&$D486),単価情報!$B$66:$C$932,2,FALSE))","v":0},0,0,0,null,null,null,null,null,null,null,null,null,null,null,null,null,null,null,null,null,null,null,null,null,null,null,null,null,null,null,null,null,null,null,null,null,null,null,null,null,null,null,null,null,null,null,null,null,null,null,null,null,null,null,null,null,null,null,null,null,null,null,null,null,null,null,null,null,null,null,null,null,null,null,null,null,null,null,null,null,null,null,null,null,null,null,null,null,null,null,null,null,null,null,null,null,null,null,null,null,null,null,null,null,null,null,null,null,null,null,null,null,null,null,null,null,"",""]
[null,null,null,null,null,null,{"$f":"IF($D487=\"\",0,VLOOKUP(($DU487&$C487&$D487),単価情報!$B$66:$C$932,2,FALSE))","v":0},0,0,0,null,null,null,null,null,null,null,null,null,null,null,null,null,null,null,null,null,null,null,null,null,null,null,null,null,null,null,null,null,null,null,null,null,null,null,null,null,null,null,null,null,null,null,null,null,null,null,null,null,null,null,null,null,null,null,null,null,null,null,null,null,null,null,null,null,null,null,null,null,null,null,null,null,null,null,null,null,null,null,null,null,null,null,null,null,null,null,null,null,null,null,null,null,null,null,null,null,null,null,null,null,null,null,null,null,null,null,null,null,null,null,null,null,"",""]
[null,null,null,null,null,null,{"$f":"IF($D488=\"\",0,VLOOKUP(($DU488&$C488&$D488),単価情報!$B$66:$C$932,2,FALSE))","v":0},0,0,0,null,null,null,null,null,null,null,null,null,null,null,null,null,null,null,null,null,null,null,null,null,null,null,null,null,null,null,null,null,null,null,null,null,null,null,null,null,null,null,null,null,null,null,null,null,null,null,null,null,null,null,null,null,null,null,null,null,null,null,null,null,null,null,null,null,null,null,null,null,null,null,null,null,null,null,null,null,null,null,null,null,null,null,null,null,null,null,null,null,null,null,null,null,null,null,null,null,null,null,null,null,null,null,null,null,null,null,null,null,null,null,null,null,"",""]
[null,null,null,null,null,null,{"$f":"IF($D489=\"\",0,VLOOKUP(($DU489&$C489&$D489),単価情報!$B$66:$C$932,2,FALSE))","v":0},0,0,0,null,null,null,null,null,null,null,null,null,null,null,null,null,null,null,null,null,null,null,null,null,null,null,null,null,null,null,null,null,null,null,null,null,null,null,null,null,null,null,null,null,null,null,null,null,null,null,null,null,null,null,null,null,null,null,null,null,null,null,null,null,null,null,null,null,null,null,null,null,null,null,null,null,null,null,null,null,null,null,null,null,null,null,null,null,null,null,null,null,null,null,null,null,null,null,null,null,null,null,null,null,null,null,null,null,null,null,null,null,null,null,null,null,"",""]
[null,null,null,null,null,null,{"$f":"IF($D490=\"\",0,VLOOKUP(($DU490&$C490&$D490),単価情報!$B$66:$C$932,2,FALSE))","v":0},0,0,0,null,null,null,null,null,null,null,null,null,null,null,null,null,null,null,null,null,null,null,null,null,null,null,null,null,null,null,null,null,null,null,null,null,null,null,null,null,null,null,null,null,null,null,null,null,null,null,null,null,null,null,null,null,null,null,null,null,null,null,null,null,null,null,null,null,null,null,null,null,null,null,null,null,null,null,null,null,null,null,null,null,null,null,null,null,null,null,null,null,null,null,null,null,null,null,null,null,null,null,null,null,null,null,null,null,null,null,null,null,null,null,null,null,"",""]
[null,null,null,null,null,null,{"$f":"IF($D491=\"\",0,VLOOKUP(($DU491&$C491&$D491),単価情報!$B$66:$C$932,2,FALSE))","v":0},0,0,0,null,null,null,null,null,null,null,null,null,null,null,null,null,null,null,null,null,null,null,null,null,null,null,null,null,null,null,null,null,null,null,null,null,null,null,null,null,null,null,null,null,null,null,null,null,null,null,null,null,null,null,null,null,null,null,null,null,null,null,null,null,null,null,null,null,null,null,null,null,null,null,null,null,null,null,null,null,null,null,null,null,null,null,null,null,null,null,null,null,null,null,null,null,null,null,null,null,null,null,null,null,null,null,null,null,null,null,null,null,null,null,null,null,"",""]
[null,null,null,null,null,null,{"$f":"IF($D492=\"\",0,VLOOKUP(($DU492&$C492&$D492),単価情報!$B$66:$C$932,2,FALSE))","v":0},0,0,0,null,null,null,null,null,null,null,null,null,null,null,null,null,null,null,null,null,null,null,null,null,null,null,null,null,null,null,null,null,null,null,null,null,null,null,null,null,null,null,null,null,null,null,null,null,null,null,null,null,null,null,null,null,null,null,null,null,null,null,null,null,null,null,null,null,null,null,null,null,null,null,null,null,null,null,null,null,null,null,null,null,null,null,null,null,null,null,null,null,null,null,null,null,null,null,null,null,null,null,null,null,null,null,null,null,null,null,null,null,null,null,null,null,"",""]
[null,null,null,null,null,null,{"$f":"IF($D493=\"\",0,VLOOKUP(($DU493&$C493&$D493),単価情報!$B$66:$C$932,2,FALSE))","v":0},0,0,0,null,null,null,null,null,null,null,null,null,null,null,null,null,null,null,null,null,null,null,null,null,null,null,null,null,null,null,null,null,null,null,null,null,null,null,null,null,null,null,null,null,null,null,null,null,null,null,null,null,null,null,null,null,null,null,null,null,null,null,null,null,null,null,null,null,null,null,null,null,null,null,null,null,null,null,null,null,null,null,null,null,null,null,null,null,null,null,null,null,null,null,null,null,null,null,null,null,null,null,null,null,null,null,null,null,null,null,null,null,null,null,null,null,"",""]
[null,null,null,null,null,null,{"$f":"IF($D494=\"\",0,VLOOKUP(($DU494&$C494&$D494),単価情報!$B$66:$C$932,2,FALSE))","v":0},0,0,0,null,null,null,null,null,null,null,null,null,null,null,null,null,null,null,null,null,null,null,null,null,null,null,null,null,null,null,null,null,null,null,null,null,null,null,null,null,null,null,null,null,null,null,null,null,null,null,null,null,null,null,null,null,null,null,null,null,null,null,null,null,null,null,null,null,null,null,null,null,null,null,null,null,null,null,null,null,null,null,null,null,null,null,null,null,null,null,null,null,null,null,null,null,null,null,null,null,null,null,null,null,null,null,null,null,null,null,null,null,null,null,null,null,"",""]
[null,null,null,null,null,null,{"$f":"IF($D495=\"\",0,VLOOKUP(($DU495&$C495&$D495),単価情報!$B$66:$C$932,2,FALSE))","v":0},0,0,0,null,null,null,null,null,null,null,null,null,null,null,null,null,null,null,null,null,null,null,null,null,null,null,null,null,null,null,null,null,null,null,null,null,null,null,null,null,null,null,null,null,null,null,null,null,null,null,null,null,null,null,null,null,null,null,null,null,null,null,null,null,null,null,null,null,null,null,null,null,null,null,null,null,null,null,null,null,null,null,null,null,null,null,null,null,null,null,null,null,null,null,null,null,null,null,null,null,null,null,null,null,null,null,null,null,null,null,null,null,null,null,null,null,"",""]
[null,null,null,null,null,null,{"$f":"IF($D496=\"\",0,VLOOKUP(($DU496&$C496&$D496),単価情報!$B$66:$C$932,2,FALSE))","v":0},0,0,0,null,null,null,null,null,null,null,null,null,null,null,null,null,null,null,null,null,null,null,null,null,null,null,null,null,null,null,null,null,null,null,null,null,null,null,null,null,null,null,null,null,null,null,null,null,null,null,null,null,null,null,null,null,null,null,null,null,null,null,null,null,null,null,null,null,null,null,null,null,null,null,null,null,null,null,null,null,null,null,null,null,null,null,null,null,null,null,null,null,null,null,null,null,null,null,null,null,null,null,null,null,null,null,null,null,null,null,null,null,null,null,null,null,"",""]
[null,null,null,null,null,null,{"$f":"IF($D497=\"\",0,VLOOKUP(($DU497&$C497&$D497),単価情報!$B$66:$C$932,2,FALSE))","v":0},0,0,0,null,null,null,null,null,null,null,null,null,null,null,null,null,null,null,null,null,null,null,null,null,null,null,null,null,null,null,null,null,null,null,null,null,null,null,null,null,null,null,null,null,null,null,null,null,null,null,null,null,null,null,null,null,null,null,null,null,null,null,null,null,null,null,null,null,null,null,null,null,null,null,null,null,null,null,null,null,null,null,null,null,null,null,null,null,null,null,null,null,null,null,null,null,null,null,null,null,null,null,null,null,null,null,null,null,null,null,null,null,null,null,null,null,"",""]
[null,null,null,null,null,null,{"$f":"IF($D498=\"\",0,VLOOKUP(($DU498&$C498&$D498),単価情報!$B$66:$C$932,2,FALSE))","v":0},0,0,0,null,null,null,null,null,null,null,null,null,null,null,null,null,null,null,null,null,null,null,null,null,null,null,null,null,null,null,null,null,null,null,null,null,null,null,null,null,null,null,null,null,null,null,null,null,null,null,null,null,null,null,null,null,null,null,null,null,null,null,null,null,null,null,null,null,null,null,null,null,null,null,null,null,null,null,null,null,null,null,null,null,null,null,null,null,null,null,null,null,null,null,null,null,null,null,null,null,null,null,null,null,null,null,null,null,null,null,null,null,null,null,null,null,"",""]
[null,null,null,null,null,null,{"$f":"IF($D499=\"\",0,VLOOKUP(($DU499&$C499&$D499),単価情報!$B$66:$C$932,2,FALSE))","v":0},0,0,0,null,null,null,null,null,null,null,null,null,null,null,null,null,null,null,null,null,null,null,null,null,null,null,null,null,null,null,null,null,null,null,null,null,null,null,null,null,null,null,null,null,null,null,null,null,null,null,null,null,null,null,null,null,null,null,null,null,null,null,null,null,null,null,null,null,null,null,null,null,null,null,null,null,null,null,null,null,null,null,null,null,null,null,null,null,null,null,null,null,null,null,null,null,null,null,null,null,null,null,null,null,null,null,null,null,null,null,null,null,null,null,null,null,"",""]
[null,null,null,null,null,null,{"$f":"IF($D500=\"\",0,VLOOKUP(($DU500&$C500&$D500),単価情報!$B$66:$C$932,2,FALSE))","v":0},0,0,0,null,null,null,null,null,null,null,null,null,null,null,null,null,null,null,null,null,null,null,null,null,null,null,null,null,null,null,null,null,null,null,null,null,null,null,null,null,null,null,null,null,null,null,null,null,null,null,null,null,null,null,null,null,null,null,null,null,null,null,null,null,null,null,null,null,null,null,null,null,null,null,null,null,null,null,null,null,null,null,null,null,null,null,null,null,null,null,null,null,null,null,null,null,null,null,null,null,null,null,null,null,null,null,null,null,null,null,null,null,null,null,null,null,"",""]
[null,null,null,null,null,null,{"$f":"IF($D512=\"\",0,VLOOKUP(($DU512&$C512&$D512),単価情報!$B$66:$C$932,2,FALSE))","v":0},0,0,0,null,null,null,null,null,null,null,null,null,null,null,null,null,null,null,null,null,null,null,null,null,null,null,null,null,null,null,null,null,null,null,null,null,null,null,null,null,null,null,null,null,null,null,null,null,null,null,null,null,null,null,null,null,null,null,null,null,null,null,null,null,null,null,null,null,null,null,null,null,null,null,null,null,null,null,null,null,null,null,null,null,null,null,null,null,null,null,null,null,null,null,null,null,null,null,null,null,null,null,null,null,null,null,null,null,null,null,null,null,null,null,null,null,"",""]
[null,null,null,null,null,null,{"$f":"IF($D517=\"\",0,VLOOKUP(($DU517&$C517&$D517),単価情報!$B$66:$C$932,2,FALSE))","v":0},0,0,0,null,null,null,null,null,null,null,null,null,null,null,null,null,null,null,null,null,null,null,null,null,null,null,null,null,null,null,null,null,null,null,null,null,null,null,null,null,null,null,null,null,null,null,null,null,null,null,null,null,null,null,null,null,null,null,null,null,null,null,null,null,null,null,null,null,null,null,null,null,null,null,null,null,null,null,null,null,null,null,null,null,null,null,null,null,null,null,null,null,null,null,null,null,null,null,null,null,null,null,null,null,null,null,null,null,null,null,null,null,null,null,null,null,"",""]
[null,null,null,null,null,null,{"$f":"IF($D530=\"\",0,VLOOKUP(($DU530&$C530&$D530),単価情報!$B$66:$C$932,2,FALSE))","v":0},0,0,0,null,null,null,null,null,null,null,null,null,null,null,null,null,null,null,null,null,null,null,null,null,null,null,null,null,null,null,null,null,null,null,null,null,null,null,null,null,null,null,null,null,null,null,null,null,null,null,null,null,null,null,null,null,null,null,null,null,null,null,null,null,null,null,null,null,null,null,null,null,null,null,null,null,null,null,null,null,null,null,null,null,null,null,null,null,null,null,null,null,null,null,null,null,null,null,null,null,null,null,null,null,null,null,null,null,null,null,null,null,null,null,null,null,"",""]
[null,null,null,null,null,null,{"$f":"IF($D552=\"\",0,VLOOKUP(($DU552&$C552&$D552),単価情報!$B$66:$C$932,2,FALSE))","v":0},0,0,0,null,null,null,null,null,null,null,null,null,null,null,null,null,null,null,null,null,null,null,null,null,null,null,null,null,null,null,null,null,null,null,null,null,null,null,null,null,null,null,null,null,null,null,null,null,null,null,null,null,null,null,null,null,null,null,null,null,null,null,null,null,null,null,null,null,null,null,null,null,null,null,null,null,null,null,null,null,null,null,null,null,null,null,null,null,null,null,null,null,null,null,null,null,null,null,null,null,null,null,null,null,null,null,null,null,null,null,null,null,null,null,null,null,"",""]
[null,null,null,null,null,null,{"$f":"IF($D567=\"\",0,VLOOKUP(($DU567&$C567&$D567),単価情報!$B$66:$C$932,2,FALSE))","v":0},0,0,0,null,null,null,null,null,null,null,null,null,null,null,null,null,null,null,null,null,null,null,null,null,null,null,null,null,null,null,null,null,null,null,null,null,null,null,null,null,null,null,null,null,null,null,null,null,null,null,null,null,null,null,null,null,null,null,null,null,null,null,null,null,null,null,null,null,null,null,null,null,null,null,null,null,null,null,null,null,null,null,null,null,null,null,null,null,null,null,null,null,null,null,null,null,null,null,null,null,null,null,null,null,null,null,null,null,null,null,null,null,null,null,null,null,"",""]
[null,null,null,null,null,null,{"$f":"IF($D574=\"\",0,VLOOKUP(($DU574&$C574&$D574),単価情報!$B$66:$C$932,2,FALSE))","v":0},0,0,0,null,null,null,null,null,null,null,null,null,null,null,null,null,null,null,null,null,null,null,null,null,null,null,null,null,null,null,null,null,null,null,null,null,null,null,null,null,null,null,null,null,null,null,null,null,null,null,null,null,null,null,null,null,null,null,null,null,null,null,null,null,null,null,null,null,null,null,null,null,null,null,null,null,null,null,null,null,null,null,null,null,null,null,null,null,null,null,null,null,null,null,null,null,null,null,null,null,null,null,null,null,null,null,null,null,null,null,null,null,null,null,null,null,"",""]
[null,null,null,null,null,null,{"$f":"IF($D588=\"\",0,VLOOKUP(($DU588&$C588&$D588),単価情報!$B$66:$C$932,2,FALSE))","v":0},0,0,0,null,null,null,null,null,null,null,null,null,null,null,null,null,null,null,null,null,null,null,null,null,null,null,null,null,null,null,null,null,null,null,null,null,null,null,null,null,null,null,null,null,null,null,null,null,null,null,null,null,null,null,null,null,null,null,null,null,null,null,null,null,null,null,null,null,null,null,null,null,null,null,null,null,null,null,null,null,null,null,null,null,null,null,null,null,null,null,null,null,null,null,null,null,null,null,null,null,null,null,null,null,null,null,null,null,null,null,null,null,null,null,null,null,"",""]
[null,null,null,null,null,null,{"$f":"IF($D603=\"\",0,VLOOKUP(($DU603&$C603&$D603),単価情報!$B$66:$C$932,2,FALSE))","v":0},0,0,0,null,null,null,null,null,null,null,null,null,null,null,null,null,null,null,null,null,null,null,null,null,null,null,null,null,null,null,null,null,null,null,null,null,null,null,null,null,null,null,null,null,null,null,null,null,null,null,null,null,null,null,null,null,null,null,null,null,null,null,null,null,null,null,null,null,null,null,null,null,null,null,null,null,null,null,null,null,null,null,null,null,null,null,null,null,null,null,null,null,null,null,null,null,null,null,null,null,null,null,null,null,null,null,null,null,null,null,null,null,null,null,null,null,{"$f":"IF($B603=\"\",\"\",VLOOKUP($A603,$DW$11:$DX$18,2,FALSE))","v":""},{"$f":"IF($B603=\"\",\"\",VLOOKUP($B603,$DY$11:$DZ$27,2,FALSE))","v":""}]
[null,null,null,null,null,null,{"$f":"IF($D619=\"\",0,VLOOKUP(($DU619&$C619&$D619),単価情報!$B$66:$C$932,2,FALSE))","v":0},0,0,0,null,null,null,null,null,null,null,null,null,null,null,null,null,null,null,null,null,null,null,null,null,null,null,null,null,null,null,null,null,null,null,null,null,null,null,null,null,null,null,null,null,null,null,null,null,null,null,null,null,null,null,null,null,null,null,null,null,null,null,null,null,null,null,null,null,null,null,null,null,null,null,null,null,null,null,null,null,null,null,null,null,null,null,null,null,null,null,null,null,null,null,null,null,null,null,null,null,null,null,null,null,null,null,null,null,null,null,null,null,null,null,null,null,"",""]
[null,null,null,null,null,null,{"$f":"IF($D638=\"\",0,VLOOKUP(($DU638&$C638&$D638),単価情報!$B$66:$C$932,2,FALSE))","v":0},0,0,0,null,null,null,null,null,null,null,null,null,null,null,null,null,null,null,null,null,null,null,null,null,null,null,null,null,null,null,null,null,null,null,null,null,null,null,null,null,null,null,null,null,null,null,null,null,null,null,null,null,null,null,null,null,null,null,null,null,null,null,null,null,null,null,null,null,null,null,null,null,null,null,null,null,null,null,null,null,null,null,null,null,null,null,null,null,null,null,null,null,null,null,null,null,null,null,null,null,null,null,null,null,null,null,null,null,null,null,null,null,null,null,null,null,"",""]
[null,null,null,null,null,null,{"$f":"IF($D648=\"\",0,VLOOKUP(($DU648&$C648&$D648),単価情報!$B$66:$C$932,2,FALSE))","v":0},0,0,0,null,null,null,null,null,null,null,null,null,null,null,null,null,null,null,null,null,null,null,null,null,null,null,null,null,null,null,null,null,null,null,null,null,null,null,null,null,null,null,null,null,null,null,null,null,null,null,null,null,null,null,null,null,null,null,null,null,null,null,null,null,null,null,null,null,null,null,null,null,null,null,null,null,null,null,null,null,null,null,null,null,null,null,null,null,null,null,null,null,null,null,null,null,null,null,null,null,null,null,null,null,null,null,null,null,null,null,null,null,null,null,null,null,"",""]
[null,null,null,null,null,null,{"$f":"IF($D659=\"\",0,VLOOKUP(($DU659&$C659&$D659),単価情報!$B$66:$C$932,2,FALSE))","v":0},0,0,0,null,null,null,null,null,null,null,null,null,null,null,null,null,null,null,null,null,null,null,null,null,null,null,null,null,null,null,null,null,null,null,null,null,null,null,null,null,null,null,null,null,null,null,null,null,null,null,null,null,null,null,null,null,null,null,null,null,null,null,null,null,null,null,null,null,null,null,null,null,null,null,null,null,null,null,null,null,null,null,null,null,null,null,null,null,null,null,null,null,null,null,null,null,null,null,null,null,null,null,null,null,null,null,null,null,null,null,null,null,null,null,null,null,"",""]
[null,null,null,null,null,null,{"$f":"IF($D674=\"\",0,VLOOKUP(($DU674&$C674&$D674),単価情報!$B$66:$C$932,2,FALSE))","v":0},0,0,0,null,null,null,null,null,null,null,null,null,null,null,null,null,null,null,null,null,null,null,null,null,null,null,null,null,null,null,null,null,null,null,null,null,null,null,null,null,null,null,null,null,null,null,null,null,null,null,null,null,null,null,null,null,null,null,null,null,null,null,null,null,null,null,null,null,null,null,null,null,null,null,null,null,null,null,null,null,null,null,null,null,null,null,null,null,null,null,null,null,null,null,null,null,null,null,null,null,null,null,null,null,null,null,null,null,null,null,null,null,null,null,null,null,"",""]
[null,null,null,null,null,null,{"$f":"IF($D692=\"\",0,VLOOKUP(($DU692&$C692&$D692),単価情報!$B$66:$C$932,2,FALSE))","v":0},0,0,0,null,null,null,null,null,null,null,null,null,null,null,null,null,null,null,null,null,null,null,null,null,null,null,null,null,null,null,null,null,null,null,null,null,null,null,null,null,null,null,null,null,null,null,null,null,null,null,null,null,null,null,null,null,null,null,null,null,null,null,null,null,null,null,null,null,null,null,null,null,null,null,null,null,null,null,null,null,null,null,null,null,null,null,null,null,null,null,null,null,null,null,null,null,null,null,null,null,null,null,null,null,null,null,null,null,null,null,null,null,null,null,null,null,"",""]
[null,null,null,null,null,null,{"$f":"IF($D709=\"\",0,VLOOKUP(($DU709&$C709&$D709),単価情報!$B$66:$C$932,2,FALSE))","v":0},0,0,0,null,null,null,null,null,null,null,null,null,null,null,null,null,null,null,null,null,null,null,null,null,null,null,null,null,null,null,null,null,null,null,null,null,null,null,null,null,null,null,null,null,null,null,null,null,null,null,null,null,null,null,null,null,null,null,null,null,null,null,null,null,null,null,null,null,null,null,null,null,null,null,null,null,null,null,null,null,null,null,null,null,null,null,null,null,null,null,null,null,null,null,null,null,null,null,null,null,null,null,null,null,null,null,null,null,null,null,null,null,null,null,null,null,"",""]
[null,null,null,null,null,null,{"$f":"IF($D724=\"\",0,VLOOKUP(($DU724&$C724&$D724),単価情報!$B$66:$C$932,2,FALSE))","v":0},0,0,0,null,null,null,null,null,null,null,null,null,null,null,null,null,null,null,null,null,null,null,null,null,null,null,null,null,null,null,null,null,null,null,null,null,null,null,null,null,null,null,null,null,null,null,null,null,null,null,null,null,null,null,null,null,null,null,null,null,null,null,null,null,null,null,null,null,null,null,null,null,null,null,null,null,null,null,null,null,null,null,null,null,null,null,null,null,null,null,null,null,null,null,null,null,null,null,null,null,null,null,null,null,null,null,null,null,null,null,null,null,null,null,null,null,"",""]
[null,null,null,null,null,null,{"$f":"IF($D737=\"\",0,VLOOKUP(($DU737&$C737&$D737),単価情報!$B$66:$C$932,2,FALSE))","v":0},0,0,0,null,null,null,null,null,null,null,null,null,null,null,null,null,null,null,null,null,null,null,null,null,null,null,null,null,null,null,null,null,null,null,null,null,null,null,null,null,null,null,null,null,null,null,null,null,null,null,null,null,null,null,null,null,null,null,null,null,null,null,null,null,null,null,null,null,null,null,null,null,null,null,null,null,null,null,null,null,null,null,null,null,null,null,null,null,null,null,null,null,null,null,null,null,null,null,null,null,null,null,null,null,null,null,null,null,null,null,null,null,null,null,null,null,"",""]
[null,null,null,null,null,null,{"$f":"IF($D745=\"\",0,VLOOKUP(($DU745&$C745&$D745),単価情報!$B$66:$C$932,2,FALSE))","v":0},0,0,0,null,null,null,null,null,null,null,null,null,null,null,null,null,null,null,null,null,null,null,null,null,null,null,null,null,null,null,null,null,null,null,null,null,null,null,null,null,null,null,null,null,null,null,null,null,null,null,null,null,null,null,null,null,null,null,null,null,null,null,null,null,null,null,null,null,null,null,null,null,null,null,null,null,null,null,null,null,null,null,null,null,null,null,null,null,null,null,null,null,null,null,null,null,null,null,null,null,null,null,null,null,null,null,null,null,null,null,null,null,null,null,null,null,"",""]
[null,null,null,null,null,null,{"$f":"IF($D766=\"\",0,VLOOKUP(($DU766&$C766&$D766),単価情報!$B$66:$C$932,2,FALSE))","v":0},0,0,0,null,null,null,null,null,null,null,null,null,null,null,null,null,null,null,null,null,null,null,null,null,null,null,null,null,null,null,null,null,null,null,null,null,null,null,null,null,null,null,null,null,null,null,null,null,null,null,null,null,null,null,null,null,null,null,null,null,null,null,null,null,null,null,null,null,null,null,null,null,null,null,null,null,null,null,null,null,null,null,null,null,null,null,null,null,null,null,null,null,null,null,null,null,null,null,null,null,null,null,null,null,null,null,null,null,null,null,null,null,null,null,null,null,"",""]
[null,null,null,null,null,null,{"$f":"IF($D780=\"\",0,VLOOKUP(($DU780&$C780&$D780),単価情報!$B$66:$C$932,2,FALSE))","v":0},0,0,0,null,null,null,null,null,null,null,null,null,null,null,null,null,null,null,null,null,null,null,null,null,null,null,null,null,null,null,null,null,null,null,null,null,null,null,null,null,null,null,null,null,null,null,null,null,null,null,null,null,null,null,null,null,null,null,null,null,null,null,null,null,null,null,null,null,null,null,null,null,null,null,null,null,null,null,null,null,null,null,null,null,null,null,null,null,null,null,null,null,null,null,null,null,null,null,null,null,null,null,null,null,null,null,null,null,null,null,null,null,null,null,null,null,"",""]
[null,null,null,null,null,null,{"$f":"IF($D795=\"\",0,VLOOKUP(($DU795&$C795&$D795),単価情報!$B$66:$C$932,2,FALSE))","v":0},0,0,0,null,null,null,null,null,null,null,null,null,null,null,null,null,null,null,null,null,null,null,null,null,null,null,null,null,null,null,null,null,null,null,null,null,null,null,null,null,null,null,null,null,null,null,null,null,null,null,null,null,null,null,null,null,null,null,null,null,null,null,null,null,null,null,null,null,null,null,null,null,null,null,null,null,null,null,null,null,null,null,null,null,null,null,null,null,null,null,null,null,null,null,null,null,null,null,null,null,null,null,null,null,null,null,null,null,null,null,null,null,null,null,null,null,{"$f":"IF($B795=\"\",\"\",VLOOKUP($A795,$DW$11:$DX$18,2,FALSE))","v":""},{"$f":"IF($B795=\"\",\"\",VLOOKUP($B795,$DY$11:$DZ$27,2,FALSE))","v":""}]
[null,null,null,null,null,null,{"$f":"IF($D811=\"\",0,VLOOKUP(($DU811&$C811&$D811),単価情報!$B$66:$C$932,2,FALSE))","v":0},0,0,0,null,null,null,null,null,null,null,null,null,null,null,null,null,null,null,null,null,null,null,null,null,null,null,null,null,null,null,null,null,null,null,null,null,null,null,null,null,null,null,null,null,null,null,null,null,null,null,null,null,null,null,null,null,null,null,null,null,null,null,null,null,null,null,null,null,null,null,null,null,null,null,null,null,null,null,null,null,null,null,null,null,null,null,null,null,null,null,null,null,null,null,null,null,null,null,null,null,null,null,null,null,null,null,null,null,null,null,null,null,null,null,null,null,"",""]
[null,null,null,null,null,null,{"$f":"IF($D830=\"\",0,VLOOKUP(($DU830&$C830&$D830),単価情報!$B$66:$C$932,2,FALSE))","v":0},0,0,0,null,null,null,null,null,null,null,null,null,null,null,null,null,null,null,null,null,null,null,null,null,null,null,null,null,null,null,null,null,null,null,null,null,null,null,null,null,null,null,null,null,null,null,null,null,null,null,null,null,null,null,null,null,null,null,null,null,null,null,null,null,null,null,null,null,null,null,null,null,null,null,null,null,null,null,null,null,null,null,null,null,null,null,null,null,null,null,null,null,null,null,null,null,null,null,null,null,null,null,null,null,null,null,null,null,null,null,null,null,null,null,null,null,"",""]
[null,null,null,null,null,null,{"$f":"IF($D831=\"\",0,VLOOKUP(($DU831&$C831&$D831),単価情報!$B$66:$C$932,2,FALSE))","v":0},0,0,0,null,null,null,null,null,null,null,null,null,null,null,null,null,null,null,null,null,null,null,null,null,null,null,null,null,null,null,null,null,null,null,null,null,null,null,null,null,null,null,null,null,null,null,null,null,null,null,null,null,null,null,null,null,null,null,null,null,null,null,null,null,null,null,null,null,null,null,null,null,null,null,null,null,null,null,null,null,null,null,null,null,null,null,null,null,null,null,null,null,null,null,null,null,null,null,null,null,null,null,null,null,null,null,null,null,null,null,null,null,null,null,null,null,"",""]
[null,null,null,null,null,null,{"$f":"IF($D855=\"\",0,VLOOKUP(($DU855&$C855&$D855),単価情報!$B$66:$C$932,2,FALSE))","v":0},0,0,0,null,null,null,null,null,null,null,null,null,null,null,null,null,null,null,null,null,null,null,null,null,null,null,null,null,null,null,null,null,null,null,null,null,null,null,null,null,null,null,null,null,null,null,null,null,null,null,null,null,null,null,null,null,null,null,null,null,null,null,null,null,null,null,null,null,null,null,null,null,null,null,null,null,null,null,null,null,null,null,null,null,null,null,null,null,null,null,null,null,null,null,null,null,null,null,null,null,null,null,null,null,null,null,null,null,null,null,null,null,null,null,null,null,"",""]
[null,null,null,null,null,null,{"$f":"IF($D866=\"\",0,VLOOKUP(($DU866&$C866&$D866),単価情報!$B$66:$C$932,2,FALSE))","v":0},0,0,0,null,null,null,null,null,null,null,null,null,null,null,null,null,null,null,null,null,null,null,null,null,null,null,null,null,null,null,null,null,null,null,null,null,null,null,null,null,null,null,null,null,null,null,null,null,null,null,null,null,null,null,null,null,null,null,null,null,null,null,null,null,null,null,null,null,null,null,null,null,null,null,null,null,null,null,null,null,null,null,null,null,null,null,null,null,null,null,null,null,null,null,null,null,null,null,null,null,null,null,null,null,null,null,null,null,null,null,null,null,null,null,null,null,"",""]
[null,null,null,null,null,null,{"$f":"IF($D881=\"\",0,VLOOKUP(($DU881&$C881&$D881),単価情報!$B$66:$C$932,2,FALSE))","v":0},0,0,0,null,null,null,null,null,null,null,null,null,null,null,null,null,null,null,null,null,null,null,null,null,null,null,null,null,null,null,null,null,null,null,null,null,null,null,null,null,null,null,null,null,null,null,null,null,null,null,null,null,null,null,null,null,null,null,null,null,null,null,null,null,null,null,null,null,null,null,null,null,null,null,null,null,null,null,null,null,null,null,null,null,null,null,null,null,null,null,null,null,null,null,null,null,null,null,null,null,null,null,null,null,null,null,null,null,null,null,null,null,null,null,null,null,"",""]
[null,null,null,null,null,null,{"$f":"IF($D899=\"\",0,VLOOKUP(($DU899&$C899&$D899),単価情報!$B$66:$C$932,2,FALSE))","v":0},0,0,0,null,null,null,null,null,null,null,null,null,null,null,null,null,null,null,null,null,null,null,null,null,null,null,null,null,null,null,null,null,null,null,null,null,null,null,null,null,null,null,null,null,null,null,null,null,null,null,null,null,null,null,null,null,null,null,null,null,null,null,null,null,null,null,null,null,null,null,null,null,null,null,null,null,null,null,null,null,null,null,null,null,null,null,null,null,null,null,null,null,null,null,null,null,null,null,null,null,null,null,null,null,null,null,null,null,null,null,null,null,null,null,null,null,"",""]
[null,null,null,null,null,null,{"$f":"IF($D916=\"\",0,VLOOKUP(($DU916&$C916&$D916),単価情報!$B$66:$C$932,2,FALSE))","v":0},0,0,0,null,null,null,null,null,null,null,null,null,null,null,null,null,null,null,null,null,null,null,null,null,null,null,null,null,null,null,null,null,null,null,null,null,null,null,null,null,null,null,null,null,null,null,null,null,null,null,null,null,null,null,null,null,null,null,null,null,null,null,null,null,null,null,null,null,null,null,null,null,null,null,null,null,null,null,null,null,null,null,null,null,null,null,null,null,null,null,null,null,null,null,null,null,null,null,null,null,null,null,null,null,null,null,null,null,null,null,null,null,null,null,null,null,"",""]
[null,null,null,null,null,null,{"$f":"IF($D929=\"\",0,VLOOKUP(($DU929&$C929&$D929),単価情報!$B$66:$C$932,2,FALSE))","v":0},0,0,0,null,null,null,null,null,null,null,null,null,null,null,null,null,null,null,null,null,null,null,null,null,null,null,null,null,null,null,null,null,null,null,null,null,null,null,null,null,null,null,null,null,null,null,null,null,null,null,null,null,null,null,null,null,null,null,null,null,null,null,null,null,null,null,null,null,null,null,null,null,null,null,null,null,null,null,null,null,null,null,null,null,null,null,null,null,null,null,null,null,null,null,null,null,null,null,null,null,null,null,null,null,null,null,null,null,null,null,null,null,null,null,null,null,"",""]
[null,null,null,null,null,null,{"$f":"IF($D937=\"\",0,VLOOKUP(($DU937&$C937&$D937),単価情報!$B$66:$C$932,2,FALSE))","v":0},0,0,0,null,null,null,null,null,null,null,null,null,null,null,null,null,null,null,null,null,null,null,null,null,null,null,null,null,null,null,null,null,null,null,null,null,null,null,null,null,null,null,null,null,null,null,null,null,null,null,null,null,null,null,null,null,null,null,null,null,null,null,null,null,null,null,null,null,null,null,null,null,null,null,null,null,null,null,null,null,null,null,null,null,null,null,null,null,null,null,null,null,null,null,null,null,null,null,null,null,null,null,null,null,null,null,null,null,null,null,null,null,null,null,null,null,"",""]
[null,null,null,null,null,null,{"$f":"IF($D952=\"\",0,VLOOKUP(($DU952&$C952&$D952),単価情報!$B$66:$C$932,2,FALSE))","v":0},0,0,0,null,null,null,null,null,null,null,null,null,null,null,null,null,null,null,null,null,null,null,null,null,null,null,null,null,null,null,null,null,null,null,null,null,null,null,null,null,null,null,null,null,null,null,null,null,null,null,null,null,null,null,null,null,null,null,null,null,null,null,null,null,null,null,null,null,null,null,null,null,null,null,null,null,null,null,null,null,null,null,null,null,null,null,null,null,null,null,null,null,null,null,null,null,null,null,null,null,null,null,null,null,null,null,null,null,null,null,null,null,null,null,null,null,"",""]
[null,null,null,null,null,null,{"$f":"IF($D973=\"\",0,VLOOKUP(($DU973&$C973&$D973),単価情報!$B$66:$C$932,2,FALSE))","v":0},0,0,0,null,null,null,null,null,null,null,null,null,null,null,null,null,null,null,null,null,null,null,null,null,null,null,null,null,null,null,null,null,null,null,null,null,null,null,null,null,null,null,null,null,null,null,null,null,null,null,null,null,null,null,null,null,null,null,null,null,null,null,null,null,null,null,null,null,null,null,null,null,null,null,null,null,null,null,null,null,null,null,null,null,null,null,null,null,null,null,null,null,null,null,null,null,null,null,null,null,null,null,null,null,null,null,null,null,null,null,null,null,null,null,null,null,"",""]
[null,null,null,null,null,null,{"$f":"IF($D987=\"\",0,VLOOKUP(($DU987&$C987&$D987),単価情報!$B$66:$C$932,2,FALSE))","v":0},0,0,0,null,null,null,null,null,null,null,null,null,null,null,null,null,null,null,null,null,null,null,null,null,null,null,null,null,null,null,null,null,null,null,null,null,null,null,null,null,null,null,null,null,null,null,null,null,null,null,null,null,null,null,null,null,null,null,null,null,null,null,null,null,null,null,null,null,null,null,null,null,null,null,null,null,null,null,null,null,null,null,null,null,null,null,null,null,null,null,null,null,null,null,null,null,null,null,null,null,null,null,null,null,null,null,null,null,null,null,null,null,null,null,null,null,{"$f":"IF($B987=\"\",\"\",VLOOKUP($A987,$DW$11:$DX$18,2,FALSE))","v":""},{"$f":"IF($B987=\"\",\"\",VLOOKUP($B987,$DY$11:$DZ$27,2,FALSE))","v":""}]
[null,null,null,null,null,null,{"$f":"IF($D1002=\"\",0,VLOOKUP(($DU1002&$C1002&$D1002),単価情報!$B$66:$C$932,2,FALSE))","v":0},0,0,0,null,null,null,null,null,null,null,null,null,null,null,null,null,null,null,null,null,null,null,null,null,null,null,null,null,null,null,null,null,null,null,null,null,null,null,null,null,null,null,null,null,null,null,null,null,null,null,null,null,null,null,null,null,null,null,null,null,null,null,null,null,null,null,null,null,null,null,null,null,null,null,null,null,null,null,null,null,null,null,null,null,null,null,null,null,null,null,null,null,null,null,null,null,null,null,null,null,null,null,null,null,null,null,null,null,null,null,null,null,null,null,null,null,"",""]
[null,null,null,null,null,null,{"$f":"IF($D1017=\"\",0,VLOOKUP(($DU1017&$C1017&$D1017),単価情報!$B$66:$C$932,2,FALSE))","v":0},0,0,0,null,null,null,null,null,null,null,null,null,null,null,null,null,null,null,null,null,null,null,null,null,null,null,null,null,null,null,null,null,null,null,null,null,null,null,null,null,null,null,null,null,null,null,null,null,null,null,null,null,null,null,null,null,null,null,null,null,null,null,null,null,null,null,null,null,null,null,null,null,null,null,null,null,null,null,null,null,null,null,null,null,null,null,null,null,null,null,null,null,null,null,null,null,null,null,null,null,null,null,null,null,null,null,null,null,null,null,null,null,null,null,null,null,"",""]
[null,null,null,null,null,null,{"$f":"IF($D1023=\"\",0,VLOOKUP(($DU1023&$C1023&$D1023),単価情報!$B$66:$C$932,2,FALSE))","v":0},0,0,0,null,null,null,null,null,null,null,null,null,null,null,null,null,null,null,null,null,null,null,null,null,null,null,null,null,null,null,null,null,null,null,null,null,null,null,null,null,null,null,null,null,null,null,null,null,null,null,null,null,null,null,null,null,null,null,null,null,null,null,null,null,null,null,null,null,null,null,null,null,null,null,null,null,null,null,null,null,null,null,null,null,null,null,null,null,null,null,null,null,null,null,null,null,null,null,null,null,null,null,null,null,null,null,null,null,null,null,null,null,null,null,null,null,"",""]
[null,null,null,null,null,null,{"$f":"IF($D1032=\"\",0,VLOOKUP(($DU1032&$C1032&$D1032),単価情報!$B$66:$C$932,2,FALSE))","v":0},0,0,0,null,null,null,null,null,null,null,null,null,null,null,null,null,null,null,null,null,null,null,null,null,null,null,null,null,null,null,null,null,null,null,null,null,null,null,null,null,null,null,null,null,null,null,null,null,null,null,null,null,null,null,null,null,null,null,null,null,null,null,null,null,null,null,null,null,null,null,null,null,null,null,null,null,null,null,null,null,null,null,null,null,null,null,null,null,null,null,null,null,null,null,null,null,null,null,null,null,null,null,null,null,null,null,null,null,null,null,null,null,null,null,null,null,"",""]
[null,null,null,null,null,null,{"$f":"IF($D1058=\"\",0,VLOOKUP(($DU1058&$C1058&$D1058),単価情報!$B$66:$C$932,2,FALSE))","v":0},0,0,0,null,null,null,null,null,null,null,null,null,null,null,null,null,null,null,null,null,null,null,null,null,null,null,null,null,null,null,null,null,null,null,null,null,null,null,null,null,null,null,null,null,null,null,null,null,null,null,null,null,null,null,null,null,null,null,null,null,null,null,null,null,null,null,null,null,null,null,null,null,null,null,null,null,null,null,null,null,null,null,null,null,null,null,null,null,null,null,null,null,null,null,null,null,null,null,null,null,null,null,null,null,null,null,null,null,null,null,null,null,null,null,null,null,"",""]
[null,null,null,null,null,null,{"$f":"IF($D1073=\"\",0,VLOOKUP(($DU1073&$C1073&$D1073),単価情報!$B$66:$C$932,2,FALSE))","v":0},0,0,0,null,null,null,null,null,null,null,null,null,null,null,null,null,null,null,null,null,null,null,null,null,null,null,null,null,null,null,null,null,null,null,null,null,null,null,null,null,null,null,null,null,null,null,null,null,null,null,null,null,null,null,null,null,null,null,null,null,null,null,null,null,null,null,null,null,null,null,null,null,null,null,null,null,null,null,null,null,null,null,null,null,null,null,null,null,null,null,null,null,null,null,null,null,null,null,null,null,null,null,null,null,null,null,null,null,null,null,null,null,null,null,null,null,"",""]
[null,null,null,null,null,null,{"$f":"IF($D1076=\"\",0,VLOOKUP(($DU1076&$C1076&$D1076),単価情報!$B$66:$C$932,2,FALSE))","v":0},0,0,0,null,null,null,null,null,null,null,null,null,null,null,null,null,null,null,null,null,null,null,null,null,null,null,null,null,null,null,null,null,null,null,null,null,null,null,null,null,null,null,null,null,null,null,null,null,null,null,null,null,null,null,null,null,null,null,null,null,null,null,null,null,null,null,null,null,null,null,null,null,null,null,null,null,null,null,null,null,null,null,null,null,null,null,null,null,null,null,null,null,null,null,null,null,null,null,null,null,null,null,null,null,null,null,null,null,null,null,null,null,null,null,null,null,"",""]
[null,null,null,null,null,null,{"$f":"IF($D1094=\"\",0,VLOOKUP(($DU1094&$C1094&$D1094),単価情報!$B$66:$C$932,2,FALSE))","v":0},0,0,0,null,null,null,null,null,null,null,null,null,null,null,null,null,null,null,null,null,null,null,null,null,null,null,null,null,null,null,null,null,null,null,null,null,null,null,null,null,null,null,null,null,null,null,null,null,null,null,null,null,null,null,null,null,null,null,null,null,null,null,null,null,null,null,null,null,null,null,null,null,null,null,null,null,null,null,null,null,null,null,null,null,null,null,null,null,null,null,null,null,null,null,null,null,null,null,null,null,null,null,null,null,null,null,null,null,null,null,null,null,null,null,null,null,"",""]
[null,null,null,null,null,null,{"$f":"IF($D1113=\"\",0,VLOOKUP(($DU1113&$C1113&$D1113),単価情報!$B$66:$C$932,2,FALSE))","v":0},0,0,0,null,null,null,null,null,null,null,null,null,null,null,null,null,null,null,null,null,null,null,null,null,null,null,null,null,null,null,null,null,null,null,null,null,null,null,null,null,null,null,null,null,null,null,null,null,null,null,null,null,null,null,null,null,null,null,null,null,null,null,null,null,null,null,null,null,null,null,null,null,null,null,null,null,null,null,null,null,null,null,null,null,null,null,null,null,null,null,null,null,null,null,null,null,null,null,null,null,null,null,null,null,null,null,null,null,null,null,null,null,null,null,null,null,"",""]
[null,null,null,null,null,null,{"$f":"IF($D1120=\"\",0,VLOOKUP(($DU1120&$C1120&$D1120),単価情報!$B$66:$C$932,2,FALSE))","v":0},0,0,0,null,null,null,null,null,null,null,null,null,null,null,null,null,null,null,null,null,null,null,null,null,null,null,null,null,null,null,null,null,null,null,null,null,null,null,null,null,null,null,null,null,null,null,null,null,null,null,null,null,null,null,null,null,null,null,null,null,null,null,null,null,null,null,null,null,null,null,null,null,null,null,null,null,null,null,null,null,null,null,null,null,null,null,null,null,null,null,null,null,null,null,null,null,null,null,null,null,null,null,null,null,null,null,null,null,null,null,null,null,null,null,null,null,"",""]
[null,null,null,null,null,null,{"$f":"IF($D1144=\"\",0,VLOOKUP(($DU1144&$C1144&$D1144),単価情報!$B$66:$C$932,2,FALSE))","v":0},0,0,0,null,null,null,null,null,null,null,null,null,null,null,null,null,null,null,null,null,null,null,null,null,null,null,null,null,null,null,null,null,null,null,null,null,null,null,null,null,null,null,null,null,null,null,null,null,null,null,null,null,null,null,null,null,null,null,null,null,null,null,null,null,null,null,null,null,null,null,null,null,null,null,null,null,null,null,null,null,null,null,null,null,null,null,null,null,null,null,null,null,null,null,null,null,null,null,null,null,null,null,null,null,null,null,null,null,null,null,null,null,null,null,null,null,"",""]
[null,null,null,null,null,null,{"$f":"IF($D1150=\"\",0,VLOOKUP(($DU1150&$C1150&$D1150),単価情報!$B$66:$C$932,2,FALSE))","v":0},0,0,0,null,null,null,null,null,null,null,null,null,null,null,null,null,null,null,null,null,null,null,null,null,null,null,null,null,null,null,null,null,null,null,null,null,null,null,null,null,null,null,null,null,null,null,null,null,null,null,null,null,null,null,null,null,null,null,null,null,null,null,null,null,null,null,null,null,null,null,null,null,null,null,null,null,null,null,null,null,null,null,null,null,null,null,null,null,null,null,null,null,null,null,null,null,null,null,null,null,null,null,null,null,null,null,null,null,null,null,null,null,null,null,null,null,"",""]
[null,null,null,null,null,null,{"$f":"IF($D1165=\"\",0,VLOOKUP(($DU1165&$C1165&$D1165),単価情報!$B$66:$C$932,2,FALSE))","v":0},0,0,0,null,null,null,null,null,null,null,null,null,null,null,null,null,null,null,null,null,null,null,null,null,null,null,null,null,null,null,null,null,null,null,null,null,null,null,null,null,null,null,null,null,null,null,null,null,null,null,null,null,null,null,null,null,null,null,null,null,null,null,null,null,null,null,null,null,null,null,null,null,null,null,null,null,null,null,null,null,null,null,null,null,null,null,null,null,null,null,null,null,null,null,null,null,null,null,null,null,null,null,null,null,null,null,null,null,null,null,null,null,null,null,null,null,"",""]
[null,null,null,null,null,null,{"$f":"IF($D1180=\"\",0,VLOOKUP(($DU1180&$C1180&$D1180),単価情報!$B$66:$C$932,2,FALSE))","v":0},0,0,0,null,null,null,null,null,null,null,null,null,null,null,null,null,null,null,null,null,null,null,null,null,null,null,null,null,null,null,null,null,null,null,null,null,null,null,null,null,null,null,null,null,null,null,null,null,null,null,null,null,null,null,null,null,null,null,null,null,null,null,null,null,null,null,null,null,null,null,null,null,null,null,null,null,null,null,null,null,null,null,null,null,null,null,null,null,null,null,null,null,null,null,null,null,null,null,null,null,null,null,null,null,null,null,null,null,null,null,null,null,null,null,null,null,"",""]
[null,null,null,null,null,null,{"$f":"IF($D1194=\"\",0,VLOOKUP(($DU1194&$C1194&$D1194),単価情報!$B$66:$C$932,2,FALSE))","v":0},0,0,0,null,null,null,null,null,null,null,null,null,null,null,null,null,null,null,null,null,null,null,null,null,null,null,null,null,null,null,null,null,null,null,null,null,null,null,null,null,null,null,null,null,null,null,null,null,null,null,null,null,null,null,null,null,null,null,null,null,null,null,null,null,null,null,null,null,null,null,null,null,null,null,null,null,null,null,null,null,null,null,null,null,null,null,null,null,null,null,null,null,null,null,null,null,null,null,null,null,null,null,null,null,null,null,null,null,null,null,null,null,null,null,null,null,"",""]
[null,null,null,null,null,null,{"$f":"IF($D1215=\"\",0,VLOOKUP(($DU1215&$C1215&$D1215),単価情報!$B$66:$C$932,2,FALSE))","v":0},0,0,0,null,null,null,null,null,null,null,null,null,null,null,null,null,null,null,null,null,null,null,null,null,null,null,null,null,null,null,null,null,null,null,null,null,null,null,null,null,null,null,null,null,null,null,null,null,null,null,null,null,null,null,null,null,null,null,null,null,null,null,null,null,null,null,null,null,null,null,null,null,null,null,null,null,null,null,null,null,null,null,null,null,null,null,null,null,null,null,null,null,null,null,null,null,null,null,null,null,null,null,null,null,null,null,null,null,null,null,null,null,null,null,null,null,"",""]
[null,null,null,null,null,null,{"$f":"IF($D1220=\"\",0,VLOOKUP(($DU1220&$C1220&$D1220),単価情報!$B$66:$C$932,2,FALSE))","v":0},0,0,0,null,null,null,null,null,null,null,null,null,null,null,null,null,null,null,null,null,null,null,null,null,null,null,null,null,null,null,null,null,null,null,null,null,null,null,null,null,null,null,null,null,null,null,null,null,null,null,null,null,null,null,null,null,null,null,null,null,null,null,null,null,null,null,null,null,null,null,null,null,null,null,null,null,null,null,null,null,null,null,null,null,null,null,null,null,null,null,null,null,null,null,null,null,null,null,null,null,null,null,null,null,null,null,null,null,null,null,null,null,null,null,null,null,"",""]
[null,null,null,null,null,null,{"$f":"IF($D1238=\"\",0,VLOOKUP(($DU1238&$C1238&$D1238),単価情報!$B$66:$C$932,2,FALSE))","v":0},0,0,0,null,null,null,null,null,null,null,null,null,null,null,null,null,null,null,null,null,null,null,null,null,null,null,null,null,null,null,null,null,null,null,null,null,null,null,null,null,null,null,null,null,null,null,null,null,null,null,null,null,null,null,null,null,null,null,null,null,null,null,null,null,null,null,null,null,null,null,null,null,null,null,null,null,null,null,null,null,null,null,null,null,null,null,null,null,null,null,null,null,null,null,null,null,null,null,null,null,null,null,null,null,null,null,null,null,null,null,null,null,null,null,null,null,"",""]
[null,null,null,null,null,null,{"$f":"IF($D1251=\"\",0,VLOOKUP(($DU1251&$C1251&$D1251),単価情報!$B$66:$C$932,2,FALSE))","v":0},0,0,0,null,null,null,null,null,null,null,null,null,null,null,null,null,null,null,null,null,null,null,null,null,null,null,null,null,null,null,null,null,null,null,null,null,null,null,null,null,null,null,null,null,null,null,null,null,null,null,null,null,null,null,null,null,null,null,null,null,null,null,null,null,null,null,null,null,null,null,null,null,null,null,null,null,null,null,null,null,null,null,null,null,null,null,null,null,null,null,null,null,null,null,null,null,null,null,null,null,null,null,null,null,null,null,null,null,null,null,null,null,null,null,null,null,"",""]
[null,null,null,null,null,null,{"$f":"IF($D1270=\"\",0,VLOOKUP(($DU1270&$C1270&$D1270),単価情報!$B$66:$C$932,2,FALSE))","v":0},0,0,0,null,null,null,null,null,null,null,null,null,null,null,null,null,null,null,null,null,null,null,null,null,null,null,null,null,null,null,null,null,null,null,null,null,null,null,null,null,null,null,null,null,null,null,null,null,null,null,null,null,null,null,null,null,null,null,null,null,null,null,null,null,null,null,null,null,null,null,null,null,null,null,null,null,null,null,null,null,null,null,null,null,null,null,null,null,null,null,null,null,null,null,null,null,null,null,null,null,null,null,null,null,null,null,null,null,null,null,null,null,null,null,null,null,"",""]
[null,null,null,null,null,null,{"$f":"IF($D1282=\"\",0,VLOOKUP(($DU1282&$C1282&$D1282),単価情報!$B$66:$C$932,2,FALSE))","v":0},0,0,0,null,null,null,null,null,null,null,null,null,null,null,null,null,null,null,null,null,null,null,null,null,null,null,null,null,null,null,null,null,null,null,null,null,null,null,null,null,null,null,null,null,null,null,null,null,null,null,null,null,null,null,null,null,null,null,null,null,null,null,null,null,null,null,null,null,null,null,null,null,null,null,null,null,null,null,null,null,null,null,null,null,null,null,null,null,null,null,null,null,null,null,null,null,null,null,null,null,null,null,null,null,null,null,null,null,null,null,null,null,null,null,null,null,"",""]
[null,null,null,null,null,null,{"$f":"IF($D1291=\"\",0,VLOOKUP(($DU1291&$C1291&$D1291),単価情報!$B$66:$C$932,2,FALSE))","v":0},0,0,0,null,null,null,null,null,null,null,null,null,null,null,null,null,null,null,null,null,null,null,null,null,null,null,null,null,null,null,null,null,null,null,null,null,null,null,null,null,null,null,null,null,null,null,null,null,null,null,null,null,null,null,null,null,null,null,null,null,null,null,null,null,null,null,null,null,null,null,null,null,null,null,null,null,null,null,null,null,null,null,null,null,null,null,null,null,null,null,null,null,null,null,null,null,null,null,null,null,null,null,null,null,null,null,null,null,null,null,null,null,null,null,null,null,"",""]
[null,null,null,null,null,null,{"$f":"IF($D1312=\"\",0,VLOOKUP(($DU1312&$C1312&$D1312),単価情報!$B$66:$C$932,2,FALSE))","v":0},0,0,0,null,null,null,null,null,null,null,null,null,null,null,null,null,null,null,null,null,null,null,null,null,null,null,null,null,null,null,null,null,null,null,null,null,null,null,null,null,null,null,null,null,null,null,null,null,null,null,null,null,null,null,null,null,null,null,null,null,null,null,null,null,null,null,null,null,null,null,null,null,null,null,null,null,null,null,null,null,null,null,null,null,null,null,null,null,null,null,null,null,null,null,null,null,null,null,null,null,null,null,null,null,null,null,null,null,null,null,null,null,null,null,null,null,"",""]
[null,null,null,null,null,null,{"$f":"IF($D1322=\"\",0,VLOOKUP(($DU1322&$C1322&$D1322),単価情報!$B$66:$C$932,2,FALSE))","v":0},0,0,0,null,null,null,null,null,null,null,null,null,null,null,null,null,null,null,null,null,null,null,null,null,null,null,null,null,null,null,null,null,null,null,null,null,null,null,null,null,null,null,null,null,null,null,null,null,null,null,null,null,null,null,null,null,null,null,null,null,null,null,null,null,null,null,null,null,null,null,null,null,null,null,null,null,null,null,null,null,null,null,null,null,null,null,null,null,null,null,null,null,null,null,null,null,null,null,null,null,null,null,null,null,null,null,null,null,null,null,null,null,null,null,null,null,"",""]
[null,null,null,null,null,null,{"$f":"IF($D1341=\"\",0,VLOOKUP(($DU1341&$C1341&$D1341),単価情報!$B$66:$C$932,2,FALSE))","v":0},0,0,0,null,null,null,null,null,null,null,null,null,null,null,null,null,null,null,null,null,null,null,null,null,null,null,null,null,null,null,null,null,null,null,null,null,null,null,null,null,null,null,null,null,null,null,null,null,null,null,null,null,null,null,null,null,null,null,null,null,null,null,null,null,null,null,null,null,null,null,null,null,null,null,null,null,null,null,null,null,null,null,null,null,null,null,null,null,null,null,null,null,null,null,null,null,null,null,null,null,null,null,null,null,null,null,null,null,null,null,null,null,null,null,null,null,"",""]
[null,null,null,null,null,null,{"$f":"IF($D1356=\"\",0,VLOOKUP(($DU1356&$C1356&$D1356),単価情報!$B$66:$C$932,2,FALSE))","v":0},0,0,0,null,null,null,null,null,null,null,null,null,null,null,null,null,null,null,null,null,null,null,null,null,null,null,null,null,null,null,null,null,null,null,null,null,null,null,null,null,null,null,null,null,null,null,null,null,null,null,null,null,null,null,null,null,null,null,null,null,null,null,null,null,null,null,null,null,null,null,null,null,null,null,null,null,null,null,null,null,null,null,null,null,null,null,null,null,null,null,null,null,null,null,null,null,null,null,null,null,null,null,null,null,null,null,null,null,null,null,null,null,null,null,null,null,"",""]
[null,null,null,null,null,null,{"$f":"IF($D1372=\"\",0,VLOOKUP(($DU1372&$C1372&$D1372),単価情報!$B$66:$C$932,2,FALSE))","v":0},0,0,0,null,null,null,null,null,null,null,null,null,null,null,null,null,null,null,null,null,null,null,null,null,null,null,null,null,null,null,null,null,null,null,null,null,null,null,null,null,null,null,null,null,null,null,null,null,null,null,null,null,null,null,null,null,null,null,null,null,null,null,null,null,null,null,null,null,null,null,null,null,null,null,null,null,null,null,null,null,null,null,null,null,null,null,null,null,null,null,null,null,null,null,null,null,null,null,null,null,null,null,null,null,null,null,null,null,null,null,null,null,null,null,null,null,"",""]
[null,null,null,null,null,null,{"$f":"IF($D1377=\"\",0,VLOOKUP(($DU1377&$C1377&$D1377),単価情報!$B$66:$C$932,2,FALSE))","v":0},0,0,0,null,null,null,null,null,null,null,null,null,null,null,null,null,null,null,null,null,null,null,null,null,null,null,null,null,null,null,null,null,null,null,null,null,null,null,null,null,null,null,null,null,null,null,null,null,null,null,null,null,null,null,null,null,null,null,null,null,null,null,null,null,null,null,null,null,null,null,null,null,null,null,null,null,null,null,null,null,null,null,null,null,null,null,null,null,null,null,null,null,null,null,null,null,null,null,null,null,null,null,null,null,null,null,null,null,null,null,null,null,null,null,null,null,"",""]
[null,null,null,null,null,null,{"$f":"IF($D1400=\"\",0,VLOOKUP(($DU1400&$C1400&$D1400),単価情報!$B$66:$C$932,2,FALSE))","v":0},0,0,0,null,null,null,null,null,null,null,null,null,null,null,null,null,null,null,null,null,null,null,null,null,null,null,null,null,null,null,null,null,null,null,null,null,null,null,null,null,null,null,null,null,null,null,null,null,null,null,null,null,null,null,null,null,null,null,null,null,null,null,null,null,null,null,null,null,null,null,null,null,null,null,null,null,null,null,null,null,null,null,null,null,null,null,null,null,null,null,null,null,null,null,null,null,null,null,null,null,null,null,null,null,null,null,null,null,null,null,null,null,null,null,null,null,"",""]
[null,null,null,null,null,null,{"$f":"IF($D1412=\"\",0,VLOOKUP(($DU1412&$C1412&$D1412),単価情報!$B$66:$C$932,2,FALSE))","v":0},0,0,0,null,null,null,null,null,null,null,null,null,null,null,null,null,null,null,null,null,null,null,null,null,null,null,null,null,null,null,null,null,null,null,null,null,null,null,null,null,null,null,null,null,null,null,null,null,null,null,null,null,null,null,null,null,null,null,null,null,null,null,null,null,null,null,null,null,null,null,null,null,null,null,null,null,null,null,null,null,null,null,null,null,null,null,null,null,null,null,null,null,null,null,null,null,null,null,null,null,null,null,null,null,null,null,null,null,null,null,null,null,null,null,null,null,"",""]
[null,null,null,null,null,null,{"$f":"IF($D1430=\"\",0,VLOOKUP(($DU1430&$C1430&$D1430),単価情報!$B$66:$C$932,2,FALSE))","v":0},0,0,0,null,null,null,null,null,null,null,null,null,null,null,null,null,null,null,null,null,null,null,null,null,null,null,null,null,null,null,null,null,null,null,null,null,null,null,null,null,null,null,null,null,null,null,null,null,null,null,null,null,null,null,null,null,null,null,null,null,null,null,null,null,null,null,null,null,null,null,null,null,null,null,null,null,null,null,null,null,null,null,null,null,null,null,null,null,null,null,null,null,null,null,null,null,null,null,null,null,null,null,null,null,null,null,null,null,null,null,null,null,null,null,null,null,"",""]
[null,null,null,null,null,null,{"$f":"IF($D1443=\"\",0,VLOOKUP(($DU1443&$C1443&$D1443),単価情報!$B$66:$C$932,2,FALSE))","v":0},0,0,0,null,null,null,null,null,null,null,null,null,null,null,null,null,null,null,null,null,null,null,null,null,null,null,null,null,null,null,null,null,null,null,null,null,null,null,null,null,null,null,null,null,null,null,null,null,null,null,null,null,null,null,null,null,null,null,null,null,null,null,null,null,null,null,null,null,null,null,null,null,null,null,null,null,null,null,null,null,null,null,null,null,null,null,null,null,null,null,null,null,null,null,null,null,null,null,null,null,null,null,null,null,null,null,null,null,null,null,null,null,null,null,null,null,"",""]
[null,null,null,null,null,null,{"$f":"IF($D1462=\"\",0,VLOOKUP(($DU1462&$C1462&$D1462),単価情報!$B$66:$C$932,2,FALSE))","v":0},0,0,0,null,null,null,null,null,null,null,null,null,null,null,null,null,null,null,null,null,null,null,null,null,null,null,null,null,null,null,null,null,null,null,null,null,null,null,null,null,null,null,null,null,null,null,null,null,null,null,null,null,null,null,null,null,null,null,null,null,null,null,null,null,null,null,null,null,null,null,null,null,null,null,null,null,null,null,null,null,null,null,null,null,null,null,null,null,null,null,null,null,null,null,null,null,null,null,null,null,null,null,null,null,null,null,null,null,null,null,null,null,null,null,null,null,"",""]
[null,null,null,null,null,null,{"$f":"IF($D1474=\"\",0,VLOOKUP(($DU1474&$C1474&$D1474),単価情報!$B$66:$C$932,2,FALSE))","v":0},0,0,0,null,null,null,null,null,null,null,null,null,null,null,null,null,null,null,null,null,null,null,null,null,null,null,null,null,null,null,null,null,null,null,null,null,null,null,null,null,null,null,null,null,null,null,null,null,null,null,null,null,null,null,null,null,null,null,null,null,null,null,null,null,null,null,null,null,null,null,null,null,null,null,null,null,null,null,null,null,null,null,null,null,null,null,null,null,null,null,null,null,null,null,null,null,null,null,null,null,null,null,null,null,null,null,null,null,null,null,null,null,null,null,null,null,"",""]
[null,null,null,null,null,null,{"$f":"IF($D1479=\"\",0,VLOOKUP(($DU1479&$C1479&$D1479),単価情報!$B$66:$C$932,2,FALSE))","v":0},0,0,0,null,null,null,null,null,null,null,null,null,null,null,null,null,null,null,null,null,null,null,null,null,null,null,null,null,null,null,null,null,null,null,null,null,null,null,null,null,null,null,null,null,null,null,null,null,null,null,null,null,null,null,null,null,null,null,null,null,null,null,null,null,null,null,null,null,null,null,null,null,null,null,null,null,null,null,null,null,null,null,null,null,null,null,null,null,null,null,null,null,null,null,null,null,null,null,null,null,null,null,null,null,null,null,null,null,null,null,null,null,null,null,null,null,"",""]
[null,null,null,null,null,null,{"$f":"IF($D1498=\"\",0,VLOOKUP(($DU1498&$C1498&$D1498),単価情報!$B$66:$C$932,2,FALSE))","v":0},0,0,0,null,null,null,null,null,null,null,null,null,null,null,null,null,null,null,null,null,null,null,null,null,null,null,null,null,null,null,null,null,null,null,null,null,null,null,null,null,null,null,null,null,null,null,null,null,null,null,null,null,null,null,null,null,null,null,null,null,null,null,null,null,null,null,null,null,null,null,null,null,null,null,null,null,null,null,null,null,null,null,null,null,null,null,null,null,null,null,null,null,null,null,null,null,null,null,null,null,null,null,null,null,null,null,null,null,null,null,null,null,null,null,null,null,"",""]
[null,null,null,null,null,null,{"$f":"IF($D1518=\"\",0,VLOOKUP(($DU1518&$C1518&$D1518),単価情報!$B$66:$C$932,2,FALSE))","v":0},0,0,0,null,null,null,null,null,null,null,null,null,null,null,null,null,null,null,null,null,null,null,null,null,null,null,null,null,null,null,null,null,null,null,null,null,null,null,null,null,null,null,null,null,null,null,null,null,null,null,null,null,null,null,null,null,null,null,null,null,null,null,null,null,null,null,null,null,null,null,null,null,null,null,null,null,null,null,null,null,null,null,null,null,null,null,null,null,null,null,null,null,null,null,null,null,null,null,null,null,null,null,null,null,null,null,null,null,null,null,null,null,null,null,null,null,"",""]
[null,null,null,null,null,null,{"$f":"IF($D1533=\"\",0,VLOOKUP(($DU1533&$C1533&$D1533),単価情報!$B$66:$C$932,2,FALSE))","v":0},0,0,0,null,null,null,null,null,null,null,null,null,null,null,null,null,null,null,null,null,null,null,null,null,null,null,null,null,null,null,null,null,null,null,null,null,null,null,null,null,null,null,null,null,null,null,null,null,null,null,null,null,null,null,null,null,null,null,null,null,null,null,null,null,null,null,null,null,null,null,null,null,null,null,null,null,null,null,null,null,null,null,null,null,null,null,null,null,null,null,null,null,null,null,null,null,null,null,null,null,null,null,null,null,null,null,null,null,null,null,null,null,null,null,null,null,"",""]
[null,null,null,null,null,null,{"$f":"IF($D1548=\"\",0,VLOOKUP(($DU1548&$C1548&$D1548),単価情報!$B$66:$C$932,2,FALSE))","v":0},0,0,0,null,null,null,null,null,null,null,null,null,null,null,null,null,null,null,null,null,null,null,null,null,null,null,null,null,null,null,null,null,null,null,null,null,null,null,null,null,null,null,null,null,null,null,null,null,null,null,null,null,null,null,null,null,null,null,null,null,null,null,null,null,null,null,null,null,null,null,null,null,null,null,null,null,null,null,null,null,null,null,null,null,null,null,null,null,null,null,null,null,null,null,null,null,null,null,null,null,null,null,null,null,null,null,null,null,null,null,null,null,null,null,null,null,"",""]
[null,null,null,null,null,null,{"$f":"IF($D1550=\"\",0,VLOOKUP(($DU1550&$C1550&$D1550),単価情報!$B$66:$C$932,2,FALSE))","v":0},0,0,0,null,null,null,null,null,null,null,null,null,null,null,null,null,null,null,null,null,null,null,null,null,null,null,null,null,null,null,null,null,null,null,null,null,null,null,null,null,null,null,null,null,null,null,null,null,null,null,null,null,null,null,null,null,null,null,null,null,null,null,null,null,null,null,null,null,null,null,null,null,null,null,null,null,null,null,null,null,null,null,null,null,null,null,null,null,null,null,null,null,null,null,null,null,null,null,null,null,null,null,null,null,null,null,null,null,null,null,null,null,null,null,null,null,"",""]
[null,null,null,null,null,null,{"$f":"IF($D1569=\"\",0,VLOOKUP(($DU1569&$C1569&$D1569),単価情報!$B$66:$C$932,2,FALSE))","v":0},0,0,0,null,null,null,null,null,null,null,null,null,null,null,null,null,null,null,null,null,null,null,null,null,null,null,null,null,null,null,null,null,null,null,null,null,null,null,null,null,null,null,null,null,null,null,null,null,null,null,null,null,null,null,null,null,null,null,null,null,null,null,null,null,null,null,null,null,null,null,null,null,null,null,null,null,null,null,null,null,null,null,null,null,null,null,null,null,null,null,null,null,null,null,null,null,null,null,null,null,null,null,null,null,null,null,null,null,null,null,null,null,null,null,null,null,"",""]
[null,null,null,null,null,null,{"$f":"IF($D1592=\"\",0,VLOOKUP(($DU1592&$C1592&$D1592),単価情報!$B$66:$C$932,2,FALSE))","v":0},0,0,0,null,null,null,null,null,null,null,null,null,null,null,null,null,null,null,null,null,null,null,null,null,null,null,null,null,null,null,null,null,null,null,null,null,null,null,null,null,null,null,null,null,null,null,null,null,null,null,null,null,null,null,null,null,null,null,null,null,null,null,null,null,null,null,null,null,null,null,null,null,null,null,null,null,null,null,null,null,null,null,null,null,null,null,null,null,null,null,null,null,null,null,null,null,null,null,null,null,null,null,null,null,null,null,null,null,null,null,null,null,null,null,null,null,"",""]
[null,null,null,null,null,null,{"$f":"IF($D1604=\"\",0,VLOOKUP(($DU1604&$C1604&$D1604),単価情報!$B$66:$C$932,2,FALSE))","v":0},0,0,0,null,null,null,null,null,null,null,null,null,null,null,null,null,null,null,null,null,null,null,null,null,null,null,null,null,null,null,null,null,null,null,null,null,null,null,null,null,null,null,null,null,null,null,null,null,null,null,null,null,null,null,null,null,null,null,null,null,null,null,null,null,null,null,null,null,null,null,null,null,null,null,null,null,null,null,null,null,null,null,null,null,null,null,null,null,null,null,null,null,null,null,null,null,null,null,null,null,null,null,null,null,null,null,null,null,null,null,null,null,null,null,null,null,"",""]
[null,null,null,null,null,null,{"$f":"IF($D1619=\"\",0,VLOOKUP(($DU1619&$C1619&$D1619),単価情報!$B$66:$C$932,2,FALSE))","v":0},0,0,0,null,null,null,null,null,null,null,null,null,null,null,null,null,null,null,null,null,null,null,null,null,null,null,null,null,null,null,null,null,null,null,null,null,null,null,null,null,null,null,null,null,null,null,null,null,null,null,null,null,null,null,null,null,null,null,null,null,null,null,null,null,null,null,null,null,null,null,null,null,null,null,null,null,null,null,null,null,null,null,null,null,null,null,null,null,null,null,null,null,null,null,null,null,null,null,null,null,null,null,null,null,null,null,null,null,null,null,null,null,null,null,null,null,"",""]
[null,null,null,null,null,null,{"$f":"IF($D1621=\"\",0,VLOOKUP(($DU1621&$C1621&$D1621),単価情報!$B$66:$C$932,2,FALSE))","v":0},0,0,0,null,null,null,null,null,null,null,null,null,null,null,null,null,null,null,null,null,null,null,null,null,null,null,null,null,null,null,null,null,null,null,null,null,null,null,null,null,null,null,null,null,null,null,null,null,null,null,null,null,null,null,null,null,null,null,null,null,null,null,null,null,null,null,null,null,null,null,null,null,null,null,null,null,null,null,null,null,null,null,null,null,null,null,null,null,null,null,null,null,null,null,null,null,null,null,null,null,null,null,null,null,null,null,null,null,null,null,null,null,null,null,null,null,"",""]
[null,null,null,null,null,null,{"$f":"IF($D1640=\"\",0,VLOOKUP(($DU1640&$C1640&$D1640),単価情報!$B$66:$C$932,2,FALSE))","v":0},0,0,0,null,null,null,null,null,null,null,null,null,null,null,null,null,null,null,null,null,null,null,null,null,null,null,null,null,null,null,null,null,null,null,null,null,null,null,null,null,null,null,null,null,null,null,null,null,null,null,null,null,null,null,null,null,null,null,null,null,null,null,null,null,null,null,null,null,null,null,null,null,null,null,null,null,null,null,null,null,null,null,null,null,null,null,null,null,null,null,null,null,null,null,null,null,null,null,null,null,null,null,null,null,null,null,null,null,null,null,null,null,null,null,null,null,"",""]
[null,null,null,null,null,null,{"$f":"IF($D1655=\"\",0,VLOOKUP(($DU1655&$C1655&$D1655),単価情報!$B$66:$C$932,2,FALSE))","v":0},0,0,0,null,null,null,null,null,null,null,null,null,null,null,null,null,null,null,null,null,null,null,null,null,null,null,null,null,null,null,null,null,null,null,null,null,null,null,null,null,null,null,null,null,null,null,null,null,null,null,null,null,null,null,null,null,null,null,null,null,null,null,null,null,null,null,null,null,null,null,null,null,null,null,null,null,null,null,null,null,null,null,null,null,null,null,null,null,null,null,null,null,null,null,null,null,null,null,null,null,null,null,null,null,null,null,null,null,null,null,null,null,null,null,null,null,"",""]
[null,null,null,null,null,null,{"$f":"IF($D1665=\"\",0,VLOOKUP(($DU1665&$C1665&$D1665),単価情報!$B$66:$C$932,2,FALSE))","v":0},{"$f":"G1665","v":0},{"$f":"E1665*G1665","v":0},{"$f":"E1665*H1665","v":0},null,null,null,null,null,null,null,null,null,null,null,null,null,null,null,null,null,null,null,null,null,null,null,null,null,null,null,null,null,null,null,null,null,null,null,null,null,null,null,null,null,null,null,null,null,null,null,null,null,null,null,null,null,null,null,null,null,null,null,null,null,null,null,null,null,null,null,null,null,null,null,null,null,null,null,null,null,null,null,null,null,null,null,null,null,null,null,null,null,null,null,null,null,null,null,null,null,null,null,null,null,null,null,null,null,null,null,null,null,null,null,null,null,"",""]
[null,null,null,null,null,null,{"$f":"IF($D1690=\"\",0,VLOOKUP(($DU1690&$C1690&$D1690),単価情報!$B$66:$C$932,2,FALSE))","v":0},0,0,0,null,null,null,null,null,null,null,null,null,null,null,null,null,null,null,null,null,null,null,null,null,null,null,null,null,null,null,null,null,null,null,null,null,null,null,null,null,null,null,null,null,null,null,null,null,null,null,null,null,null,null,null,null,null,null,null,null,null,null,null,null,null,null,null,null,null,null,null,null,null,null,null,null,null,null,null,null,null,null,null,null,null,null,null,null,null,null,null,null,null,null,null,null,null,null,null,null,null,null,null,null,null,null,null,null,null,null,null,null,null,null,null,null,"",""]
[null,null,null,null,null,null,{"$f":"IF($D1695=\"\",0,VLOOKUP(($DU1695&$C1695&$D1695),単価情報!$B$66:$C$932,2,FALSE))","v":0},0,0,0,null,null,null,null,null,null,null,null,null,null,null,null,null,null,null,null,null,null,null,null,null,null,null,null,null,null,null,null,null,null,null,null,null,null,null,null,null,null,null,null,null,null,null,null,null,null,null,null,null,null,null,null,null,null,null,null,null,null,null,null,null,null,null,null,null,null,null,null,null,null,null,null,null,null,null,null,null,null,null,null,null,null,null,null,null,null,null,null,null,null,null,null,null,null,null,null,null,null,null,null,null,null,null,null,null,null,null,null,null,null,null,null,null,"",""]
[null,null,null,null,null,null,{"$f":"IF($D1711=\"\",0,VLOOKUP(($DU1711&$C1711&$D1711),単価情報!$B$66:$C$932,2,FALSE))","v":0},0,0,0,null,null,null,null,null,null,null,null,null,null,null,null,null,null,null,null,null,null,null,null,null,null,null,null,null,null,null,null,null,null,null,null,null,null,null,null,null,null,null,null,null,null,null,null,null,null,null,null,null,null,null,null,null,null,null,null,null,null,null,null,null,null,null,null,null,null,null,null,null,null,null,null,null,null,null,null,null,null,null,null,null,null,null,null,null,null,null,null,null,null,null,null,null,null,null,null,null,null,null,null,null,null,null,null,null,null,null,null,null,null,null,null,null,"",""]
[null,null,null,null,null,null,{"$f":"IF($D1726=\"\",0,VLOOKUP(($DU1726&$C1726&$D1726),単価情報!$B$66:$C$932,2,FALSE))","v":0},0,0,0,null,null,null,null,null,null,null,null,null,null,null,null,null,null,null,null,null,null,null,null,null,null,null,null,null,null,null,null,null,null,null,null,null,null,null,null,null,null,null,null,null,null,null,null,null,null,null,null,null,null,null,null,null,null,null,null,null,null,null,null,null,null,null,null,null,null,null,null,null,null,null,null,null,null,null,null,null,null,null,null,null,null,null,null,null,null,null,null,null,null,null,null,null,null,null,null,null,null,null,null,null,null,null,null,null,null,null,null,null,null,null,null,null,"",""]
[null,null,null,null,null,null,{"$f":"IF($D1739=\"\",0,VLOOKUP(($DU1739&$C1739&$D1739),単価情報!$B$66:$C$932,2,FALSE))","v":0},0,0,0,null,null,null,null,null,null,null,null,null,null,null,null,null,null,null,null,null,null,null,null,null,null,null,null,null,null,null,null,null,null,null,null,null,null,null,null,null,null,null,null,null,null,null,null,null,null,null,null,null,null,null,null,null,null,null,null,null,null,null,null,null,null,null,null,null,null,null,null,null,null,null,null,null,null,null,null,null,null,null,null,null,null,null,null,null,null,null,null,null,null,null,null,null,null,null,null,null,null,null,null,null,null,null,null,null,null,null,null,null,null,null,null,null,"",""]
[null,null,null,null,null,null,{"$f":"IF($D1761=\"\",0,VLOOKUP(($DU1761&$C1761&$D1761),単価情報!$B$66:$C$932,2,FALSE))","v":0},0,0,0,null,null,null,null,null,null,null,null,null,null,null,null,null,null,null,null,null,null,null,null,null,null,null,null,null,null,null,null,null,null,null,null,null,null,null,null,null,null,null,null,null,null,null,null,null,null,null,null,null,null,null,null,null,null,null,null,null,null,null,null,null,null,null,null,null,null,null,null,null,null,null,null,null,null,null,null,null,null,null,null,null,null,null,null,null,null,null,null,null,null,null,null,null,null,null,null,null,null,null,null,null,null,null,null,null,null,null,null,null,null,null,null,null,"",""]
[null,null,null,null,null,null,{"$f":"IF($D1776=\"\",0,VLOOKUP(($DU1776&$C1776&$D1776),単価情報!$B$66:$C$932,2,FALSE))","v":0},0,0,0,null,null,null,null,null,null,null,null,null,null,null,null,null,null,null,null,null,null,null,null,null,null,null,null,null,null,null,null,null,null,null,null,null,null,null,null,null,null,null,null,null,null,null,null,null,null,null,null,null,null,null,null,null,null,null,null,null,null,null,null,null,null,null,null,null,null,null,null,null,null,null,null,null,null,null,null,null,null,null,null,null,null,null,null,null,null,null,null,null,null,null,null,null,null,null,null,null,null,null,null,null,null,null,null,null,null,null,null,null,null,null,null,null,"",""]
[null,null,null,null,null,null,{"$f":"IF($D1783=\"\",0,VLOOKUP(($DU1783&$C1783&$D1783),単価情報!$B$66:$C$932,2,FALSE))","v":0},0,0,0,null,null,null,null,null,null,null,null,null,null,null,null,null,null,null,null,null,null,null,null,null,null,null,null,null,null,null,null,null,null,null,null,null,null,null,null,null,null,null,null,null,null,null,null,null,null,null,null,null,null,null,null,null,null,null,null,null,null,null,null,null,null,null,null,null,null,null,null,null,null,null,null,null,null,null,null,null,null,null,null,null,null,null,null,null,null,null,null,null,null,null,null,null,null,null,null,null,null,null,null,null,null,null,null,null,null,null,null,null,null,null,null,null,"",""]
[null,null,null,null,null,null,{"$f":"IF($D1797=\"\",0,VLOOKUP(($DU1797&$C1797&$D1797),単価情報!$B$66:$C$932,2,FALSE))","v":0},0,0,0,null,null,null,null,null,null,null,null,null,null,null,null,null,null,null,null,null,null,null,null,null,null,null,null,null,null,null,null,null,null,null,null,null,null,null,null,null,null,null,null,null,null,null,null,null,null,null,null,null,null,null,null,null,null,null,null,null,null,null,null,null,null,null,null,null,null,null,null,null,null,null,null,null,null,null,null,null,null,null,null,null,null,null,null,null,null,null,null,null,null,null,null,null,null,null,null,null,null,null,null,null,null,null,null,null,null,null,null,null,null,null,null,null,"",""]
[null,null,null,null,null,null,{"$f":"IF($D1813=\"\",0,VLOOKUP(($DU1813&$C1813&$D1813),単価情報!$B$66:$C$932,2,FALSE))","v":0},0,0,0,null,null,null,null,null,null,null,null,null,null,null,null,null,null,null,null,null,null,null,null,null,null,null,null,null,null,null,null,null,null,null,null,null,null,null,null,null,null,null,null,null,null,null,null,null,null,null,null,null,null,null,null,null,null,null,null,null,null,null,null,null,null,null,null,null,null,null,null,null,null,null,null,null,null,null,null,null,null,null,null,null,null,null,null,null,null,null,null,null,null,null,null,null,null,null,null,null,null,null,null,null,null,null,null,null,null,null,null,null,null,null,null,null,"",""]
[null,null,null,null,null,null,{"$f":"IF($D1832=\"\",0,VLOOKUP(($DU1832&$C1832&$D1832),単価情報!$B$66:$C$932,2,FALSE))","v":0},0,0,0,null,null,null,null,null,null,null,null,null,null,null,null,null,null,null,null,null,null,null,null,null,null,null,null,null,null,null,null,null,null,null,null,null,null,null,null,null,null,null,null,null,null,null,null,null,null,null,null,null,null,null,null,null,null,null,null,null,null,null,null,null,null,null,null,null,null,null,null,null,null,null,null,null,null,null,null,null,null,null,null,null,null,null,null,null,null,null,null,null,null,null,null,null,null,null,null,null,null,null,null,null,null,null,null,null,null,null,null,null,null,null,null,null,"",""]
[null,null,null,null,null,null,{"$f":"IF($D1847=\"\",0,VLOOKUP(($DU1847&$C1847&$D1847),単価情報!$B$66:$C$932,2,FALSE))","v":0},0,0,0,null,null,null,null,null,null,null,null,null,null,null,null,null,null,null,null,null,null,null,null,null,null,null,null,null,null,null,null,null,null,null,null,null,null,null,null,null,null,null,null,null,null,null,null,null,null,null,null,null,null,null,null,null,null,null,null,null,null,null,null,null,null,null,null,null,null,null,null,null,null,null,null,null,null,null,null,null,null,null,null,null,null,null,null,null,null,null,null,null,null,null,null,null,null,null,null,null,null,null,null,null,null,null,null,null,null,null,null,null,null,null,null,null,"",""]
[null,null,null,null,null,null,{"$f":"IF($D1857=\"\",0,VLOOKUP(($DU1857&$C1857&$D1857),単価情報!$B$66:$C$932,2,FALSE))","v":0},{"$f":"G1857","v":0},{"$f":"E1857*G1857","v":0},{"$f":"E1857*H1857","v":0},null,null,null,null,null,null,null,null,null,null,null,null,null,null,null,null,null,null,null,null,null,null,null,null,null,null,null,null,null,null,null,null,null,null,null,null,null,null,null,null,null,null,null,null,null,null,null,null,null,null,null,null,null,null,null,null,null,null,null,null,null,null,null,null,null,null,null,null,null,null,null,null,null,null,null,null,null,null,null,null,null,null,null,null,null,null,null,null,null,null,null,null,null,null,null,null,null,null,null,null,null,null,null,null,null,null,null,null,null,null,null,null,null,"",""]
[null,null,null,null,null,null,{"$f":"IF($D1868=\"\",0,VLOOKUP(($DU1868&$C1868&$D1868),単価情報!$B$66:$C$932,2,FALSE))","v":0},0,0,0,null,null,null,null,null,null,null,null,null,null,null,null,null,null,null,null,null,null,null,null,null,null,null,null,null,null,null,null,null,null,null,null,null,null,null,null,null,null,null,null,null,null,null,null,null,null,null,null,null,null,null,null,null,null,null,null,null,null,null,null,null,null,null,null,null,null,null,null,null,null,null,null,null,null,null,null,null,null,null,null,null,null,null,null,null,null,null,null,null,null,null,null,null,null,null,null,null,null,null,null,null,null,null,null,null,null,null,null,null,null,null,null,null,"",""]
[null,null,null,null,null,null,{"$f":"IF($D1883=\"\",0,VLOOKUP(($DU1883&$C1883&$D1883),単価情報!$B$66:$C$932,2,FALSE))","v":0},0,0,0,null,null,null,null,null,null,null,null,null,null,null,null,null,null,null,null,null,null,null,null,null,null,null,null,null,null,null,null,null,null,null,null,null,null,null,null,null,null,null,null,null,null,null,null,null,null,null,null,null,null,null,null,null,null,null,null,null,null,null,null,null,null,null,null,null,null,null,null,null,null,null,null,null,null,null,null,null,null,null,null,null,null,null,null,null,null,null,null,null,null,null,null,null,null,null,null,null,null,null,null,null,null,null,null,null,null,null,null,null,null,null,null,null,{"$f":"IF($B1883=\"\",\"\",VLOOKUP($A1883,$DW$11:$DX$18,2,FALSE))","v":""},{"$f":"IF($B1883=\"\",\"\",VLOOKUP($B1883,$DY$11:$DZ$27,2,FALSE))","v":""}]
[null,null,null,null,null,null,{"$f":"IF($D1902=\"\",0,VLOOKUP(($DU1902&$C1902&$D1902),単価情報!$B$66:$C$932,2,FALSE))","v":0},0,0,0,null,null,null,null,null,null,null,null,null,null,null,null,null,null,null,null,null,null,null,null,null,null,null,null,null,null,null,null,null,null,null,null,null,null,null,null,null,null,null,null,null,null,null,null,null,null,null,null,null,null,null,null,null,null,null,null,null,null,null,null,null,null,null,null,null,null,null,null,null,null,null,null,null,null,null,null,null,null,null,null,null,null,null,null,null,null,null,null,null,null,null,null,null,null,null,null,null,null,null,null,null,null,null,null,null,null,null,null,null,null,null,null,null,"",""]
[null,null,null,null,null,null,{"$f":"IF($D1918=\"\",0,VLOOKUP(($DU1918&$C1918&$D1918),単価情報!$B$66:$C$932,2,FALSE))","v":0},0,0,0,null,null,null,null,null,null,null,null,null,null,null,null,null,null,null,null,null,null,null,null,null,null,null,null,null,null,null,null,null,null,null,null,null,null,null,null,null,null,null,null,null,null,null,null,null,null,null,null,null,null,null,null,null,null,null,null,null,null,null,null,null,null,null,null,null,null,null,null,null,null,null,null,null,null,null,null,null,null,null,null,null,null,null,null,null,null,null,null,null,null,null,null,null,null,null,null,null,null,null,null,null,null,null,null,null,null,null,null,null,null,null,null,null,"",""]
[null,null,null,null,null,null,{"$f":"IF($D1931=\"\",0,VLOOKUP(($DU1931&$C1931&$D1931),単価情報!$B$66:$C$932,2,FALSE))","v":0},0,0,0,null,null,null,null,null,null,null,null,null,null,null,null,null,null,null,null,null,null,null,null,null,null,null,null,null,null,null,null,null,null,null,null,null,null,null,null,null,null,null,null,null,null,null,null,null,null,null,null,null,null,null,null,null,null,null,null,null,null,null,null,null,null,null,null,null,null,null,null,null,null,null,null,null,null,null,null,null,null,null,null,null,null,null,null,null,null,null,null,null,null,null,null,null,null,null,null,null,null,null,null,null,null,null,null,null,null,null,null,null,null,null,null,null,"",""]
[null,null,null,null,null,null,{"$f":"IF($D1939=\"\",0,VLOOKUP(($DU1939&$C1939&$D1939),単価情報!$B$66:$C$932,2,FALSE))","v":0},0,0,0,null,null,null,null,null,null,null,null,null,null,null,null,null,null,null,null,null,null,null,null,null,null,null,null,null,null,null,null,null,null,null,null,null,null,null,null,null,null,null,null,null,null,null,null,null,null,null,null,null,null,null,null,null,null,null,null,null,null,null,null,null,null,null,null,null,null,null,null,null,null,null,null,null,null,null,null,null,null,null,null,null,null,null,null,null,null,null,null,null,null,null,null,null,null,null,null,null,null,null,null,null,null,null,null,null,null,null,null,null,null,null,null,null,"",""]
[null,null,null,null,null,null,{"$f":"IF($D1954=\"\",0,VLOOKUP(($DU1954&$C1954&$D1954),単価情報!$B$66:$C$932,2,FALSE))","v":0},0,0,0,null,null,null,null,null,null,null,null,null,null,null,null,null,null,null,null,null,null,null,null,null,null,null,null,null,null,null,null,null,null,null,null,null,null,null,null,null,null,null,null,null,null,null,null,null,null,null,null,null,null,null,null,null,null,null,null,null,null,null,null,null,null,null,null,null,null,null,null,null,null,null,null,null,null,null,null,null,null,null,null,null,null,null,null,null,null,null,null,null,null,null,null,null,null,null,null,null,null,null,null,null,null,null,null,null,null,null,null,null,null,null,null,null,"",""]
[null,null,null,null,null,null,{"$f":"IF($D1975=\"\",0,VLOOKUP(($DU1975&$C1975&$D1975),単価情報!$B$66:$C$932,2,FALSE))","v":0},0,0,0,null,null,null,null,null,null,null,null,null,null,null,null,null,null,null,null,null,null,null,null,null,null,null,null,null,null,null,null,null,null,null,null,null,null,null,null,null,null,null,null,null,null,null,null,null,null,null,null,null,null,null,null,null,null,null,null,null,null,null,null,null,null,null,null,null,null,null,null,null,null,null,null,null,null,null,null,null,null,null,null,null,null,null,null,null,null,null,null,null,null,null,null,null,null,null,null,null,null,null,null,null,null,null,null,null,null,null,null,null,null,null,null,null,"",""]
[null,null,null,null,null,null,{"$f":"IF($D1989=\"\",0,VLOOKUP(($DU1989&$C1989&$D1989),単価情報!$B$66:$C$932,2,FALSE))","v":0},0,0,0,null,null,null,null,null,null,null,null,null,null,null,null,null,null,null,null,null,null,null,null,null,null,null,null,null,null,null,null,null,null,null,null,null,null,null,null,null,null,null,null,null,null,null,null,null,null,null,null,null,null,null,null,null,null,null,null,null,null,null,null,null,null,null,null,null,null,null,null,null,null,null,null,null,null,null,null,null,null,null,null,null,null,null,null,null,null,null,null,null,null,null,null,null,null,null,null,null,null,null,null,null,null,null,null,null,null,null,null,null,null,null,null,null,"",""]
[null,null,null,null,null,null,{"$f":"IF($D2004=\"\",0,VLOOKUP(($DU2004&$C2004&$D2004),単価情報!$B$66:$C$932,2,FALSE))","v":0},0,0,0,null,null,null,null,null,null,null,null,null,null,null,null,null,null,null,null,null,null,null,null,null,null,null,null,null,null,null,null,null,null,null,null,null,null,null,null,null,null,null,null,null,null,null,null,null,null,null,null,null,null,null,null,null,null,null,null,null,null,null,null,null,null,null,null,null,null,null,null,null,null,null,null,null,null,null,null,null,null,null,null,null,null,null,null,null,null,null,null,null,null,null,null,null,null,null,null,null,null,null,null,null,null,null,null,null,null,null,null,null,null,null,null,null,"",""]
[null,null,null,null,null,null,{"$f":"IF($D2020=\"\",0,VLOOKUP(($DU2020&$C2020&$D2020),単価情報!$B$66:$C$932,2,FALSE))","v":0},0,0,0,null,null,null,null,null,null,null,null,null,null,null,null,null,null,null,null,null,null,null,null,null,null,null,null,null,null,null,null,null,null,null,null,null,null,null,null,null,null,null,null,null,null,null,null,null,null,null,null,null,null,null,null,null,null,null,null,null,null,null,null,null,null,null,null,null,null,null,null,null,null,null,null,null,null,null,null,null,null,null,null,null,null,null,null,null,null,null,null,null,null,null,null,null,null,null,null,null,null,null,null,null,null,null,null,null,null,null,null,null,null,null,null,null,"",""]
[null,null,null,null,null,null,{"$f":"IF($D2025=\"\",0,VLOOKUP(($DU2025&$C2025&$D2025),単価情報!$B$66:$C$932,2,FALSE))","v":0},0,0,0,null,null,null,null,null,null,null,null,null,null,null,null,null,null,null,null,null,null,null,null,null,null,null,null,null,null,null,null,null,null,null,null,null,null,null,null,null,null,null,null,null,null,null,null,null,null,null,null,null,null,null,null,null,null,null,null,null,null,null,null,null,null,null,null,null,null,null,null,null,null,null,null,null,null,null,null,null,null,null,null,null,null,null,null,null,null,null,null,null,null,null,null,null,null,null,null,null,null,null,null,null,null,null,null,null,null,null,null,null,null,null,null,null,"",""]
[null,null,null,null,null,null,{"$f":"IF($D2040=\"\",0,VLOOKUP(($DU2040&$C2040&$D2040),単価情報!$B$66:$C$932,2,FALSE))","v":0},0,0,0,null,null,null,null,null,null,null,null,null,null,null,null,null,null,null,null,null,null,null,null,null,null,null,null,null,null,null,null,null,null,null,null,null,null,null,null,null,null,null,null,null,null,null,null,null,null,null,null,null,null,null,null,null,null,null,null,null,null,null,null,null,null,null,null,null,null,null,null,null,null,null,null,null,null,null,null,null,null,null,null,null,null,null,null,null,null,null,null,null,null,null,null,null,null,null,null,null,null,null,null,null,null,null,null,null,null,null,null,null,null,null,null,null,"",""]
[null,null,null,null,null,null,{"$f":"IF($D2064=\"\",0,VLOOKUP(($DU2064&$C2064&$D2064),単価情報!$B$66:$C$932,2,FALSE))","v":0},0,0,0,null,null,null,null,null,null,null,null,null,null,null,null,null,null,null,null,null,null,null,null,null,null,null,null,null,null,null,null,null,null,null,null,null,null,null,null,null,null,null,null,null,null,null,null,null,null,null,null,null,null,null,null,null,null,null,null,null,null,null,null,null,null,null,null,null,null,null,null,null,null,null,null,null,null,null,null,null,null,null,null,null,null,null,null,null,null,null,null,null,null,null,null,null,null,null,null,null,null,null,null,null,null,null,null,null,null,null,null,null,null,null,null,null,"",""]
[null,null,null,null,null,null,{"$f":"IF($D2075=\"\",0,VLOOKUP(($DU2075&$C2075&$D2075),単価情報!$B$66:$C$932,2,FALSE))","v":0},0,0,0,null,null,null,null,null,null,null,null,null,null,null,null,null,null,null,null,null,null,null,null,null,null,null,null,null,null,null,null,null,null,null,null,null,null,null,null,null,null,null,null,null,null,null,null,null,null,null,null,null,null,null,null,null,null,null,null,null,null,null,null,null,null,null,null,null,null,null,null,null,null,null,null,null,null,null,null,null,null,null,null,null,null,null,null,null,null,null,null,null,null,null,null,null,null,null,null,null,null,null,null,null,null,null,null,null,null,null,null,null,null,null,null,null,{"$f":"IF($B2075=\"\",\"\",VLOOKUP($A2075,$DW$11:$DX$18,2,FALSE))","v":""},{"$f":"IF($B2075=\"\",\"\",VLOOKUP($B2075,$DY$11:$DZ$27,2,FALSE))","v":""}]
[null,null,null,null,null,null,{"$f":"IF($D2094=\"\",0,VLOOKUP(($DU2094&$C2094&$D2094),単価情報!$B$66:$C$932,2,FALSE))","v":0},0,0,0,null,null,null,null,null,null,null,null,null,null,null,null,null,null,null,null,null,null,null,null,null,null,null,null,null,null,null,null,null,null,null,null,null,null,null,null,null,null,null,null,null,null,null,null,null,null,null,null,null,null,null,null,null,null,null,null,null,null,null,null,null,null,null,null,null,null,null,null,null,null,null,null,null,null,null,null,null,null,null,null,null,null,null,null,null,null,null,null,null,null,null,null,null,null,null,null,null,null,null,null,null,null,null,null,null,null,null,null,null,null,null,null,null,"",""]
[null,null,null,null,null,null,{"$f":"IF($D2096=\"\",0,VLOOKUP(($DU2096&$C2096&$D2096),単価情報!$B$66:$C$932,2,FALSE))","v":0},0,0,0,null,null,null,null,null,null,null,null,null,null,null,null,null,null,null,null,null,null,null,null,null,null,null,null,null,null,null,null,null,null,null,null,null,null,null,null,null,null,null,null,null,null,null,null,null,null,null,null,null,null,null,null,null,null,null,null,null,null,null,null,null,null,null,null,null,null,null,null,null,null,null,null,null,null,null,null,null,null,null,null,null,null,null,null,null,null,null,null,null,null,null,null,null,null,null,null,null,null,null,null,null,null,null,null,null,null,null,null,null,null,null,null,null,"",""]
[null,null,null,null,null,null,{"$f":"IF($D2111=\"\",0,VLOOKUP(($DU2111&$C2111&$D2111),単価情報!$B$66:$C$932,2,FALSE))","v":0},0,0,0,null,null,null,null,null,null,null,null,null,null,null,null,null,null,null,null,null,null,null,null,null,null,null,null,null,null,null,null,null,null,null,null,null,null,null,null,null,null,null,null,null,null,null,null,null,null,null,null,null,null,null,null,null,null,null,null,null,null,null,null,null,null,null,null,null,null,null,null,null,null,null,null,null,null,null,null,null,null,null,null,null,null,null,null,null,null,null,null,null,null,null,null,null,null,null,null,null,null,null,null,null,null,null,null,null,null,null,null,null,null,null,null,null,"",""]
[null,null,null,null,null,null,{"$f":"IF($D2138=\"\",0,VLOOKUP(($DU2138&$C2138&$D2138),単価情報!$B$66:$C$932,2,FALSE))","v":0},0,0,0,null,null,null,null,null,null,null,null,null,null,null,null,null,null,null,null,null,null,null,null,null,null,null,null,null,null,null,null,null,null,null,null,null,null,null,null,null,null,null,null,null,null,null,null,null,null,null,null,null,null,null,null,null,null,null,null,null,null,null,null,null,null,null,null,null,null,null,null,null,null,null,null,null,null,null,null,null,null,null,null,null,null,null,null,null,null,null,null,null,null,null,null,null,null,null,null,null,null,null,null,null,null,null,null,null,null,null,null,null,null,null,null,null,"",""]
[null,null,null,null,null,null,{"$f":"IF($D2146=\"\",0,VLOOKUP(($DU2146&$C2146&$D2146),単価情報!$B$66:$C$932,2,FALSE))","v":0},0,0,0,null,null,null,null,null,null,null,null,null,null,null,null,null,null,null,null,null,null,null,null,null,null,null,null,null,null,null,null,null,null,null,null,null,null,null,null,null,null,null,null,null,null,null,null,null,null,null,null,null,null,null,null,null,null,null,null,null,null,null,null,null,null,null,null,null,null,null,null,null,null,null,null,null,null,null,null,null,null,null,null,null,null,null,null,null,null,null,null,null,null,null,null,null,null,null,null,null,null,null,null,null,null,null,null,null,null,null,null,null,null,null,null,null,"",""]
[null,null,null,null,null,null,{"$f":"IF($D2161=\"\",0,VLOOKUP(($DU2161&$C2161&$D2161),単価情報!$B$66:$C$932,2,FALSE))","v":0},0,0,0,null,null,null,null,null,null,null,null,null,null,null,null,null,null,null,null,null,null,null,null,null,null,null,null,null,null,null,null,null,null,null,null,null,null,null,null,null,null,null,null,null,null,null,null,null,null,null,null,null,null,null,null,null,null,null,null,null,null,null,null,null,null,null,null,null,null,null,null,null,null,null,null,null,null,null,null,null,null,null,null,null,null,null,null,null,null,null,null,null,null,null,null,null,null,null,null,null,null,null,null,null,null,null,null,null,null,null,null,null,null,null,null,null,"",""]
[null,null,null,null,null,null,{"$f":"IF($D2167=\"\",0,VLOOKUP(($DU2167&$C2167&$D2167),単価情報!$B$66:$C$932,2,FALSE))","v":0},0,0,0,null,null,null,null,null,null,null,null,null,null,null,null,null,null,null,null,null,null,null,null,null,null,null,null,null,null,null,null,null,null,null,null,null,null,null,null,null,null,null,null,null,null,null,null,null,null,null,null,null,null,null,null,null,null,null,null,null,null,null,null,null,null,null,null,null,null,null,null,null,null,null,null,null,null,null,null,null,null,null,null,null,null,null,null,null,null,null,null,null,null,null,null,null,null,null,null,null,null,null,null,null,null,null,null,null,null,null,null,null,null,null,null,null,"",""]
[null,null,null,null,null,null,{"$f":"IF($D2182=\"\",0,VLOOKUP(($DU2182&$C2182&$D2182),単価情報!$B$66:$C$932,2,FALSE))","v":0},0,0,0,null,null,null,null,null,null,null,null,null,null,null,null,null,null,null,null,null,null,null,null,null,null,null,null,null,null,null,null,null,null,null,null,null,null,null,null,null,null,null,null,null,null,null,null,null,null,null,null,null,null,null,null,null,null,null,null,null,null,null,null,null,null,null,null,null,null,null,null,null,null,null,null,null,null,null,null,null,null,null,null,null,null,null,null,null,null,null,null,null,null,null,null,null,null,null,null,null,null,null,null,null,null,null,null,null,null,null,null,null,null,null,null,null,"",""]
[null,null,null,null,null,null,{"$f":"IF($D2197=\"\",0,VLOOKUP(($DU2197&$C2197&$D2197),単価情報!$B$66:$C$932,2,FALSE))","v":0},0,0,0,null,null,null,null,null,null,null,null,null,null,null,null,null,null,null,null,null,null,null,null,null,null,null,null,null,null,null,null,null,null,null,null,null,null,null,null,null,null,null,null,null,null,null,null,null,null,null,null,null,null,null,null,null,null,null,null,null,null,null,null,null,null,null,null,null,null,null,null,null,null,null,null,null,null,null,null,null,null,null,null,null,null,null,null,null,null,null,null,null,null,null,null,null,null,null,null,null,null,null,null,null,null,null,null,null,null,null,null,null,null,null,null,null,"",""]
[null,null,null,null,null,null,{"$f":"IF($D2217=\"\",0,VLOOKUP(($DU2217&$C2217&$D2217),単価情報!$B$66:$C$932,2,FALSE))","v":0},0,0,0,null,null,null,null,null,null,null,null,null,null,null,null,null,null,null,null,null,null,null,null,null,null,null,null,null,null,null,null,null,null,null,null,null,null,null,null,null,null,null,null,null,null,null,null,null,null,null,null,null,null,null,null,null,null,null,null,null,null,null,null,null,null,null,null,null,null,null,null,null,null,null,null,null,null,null,null,null,null,null,null,null,null,null,null,null,null,null,null,null,null,null,null,null,null,null,null,null,null,null,null,null,null,null,null,null,null,null,null,null,null,null,null,null,"",""]
[null,null,null,null,null,null,{"$f":"IF($D2232=\"\",0,VLOOKUP(($DU2232&$C2232&$D2232),単価情報!$B$66:$C$932,2,FALSE))","v":0},0,0,0,null,null,null,null,null,null,null,null,null,null,null,null,null,null,null,null,null,null,null,null,null,null,null,null,null,null,null,null,null,null,null,null,null,null,null,null,null,null,null,null,null,null,null,null,null,null,null,null,null,null,null,null,null,null,null,null,null,null,null,null,null,null,null,null,null,null,null,null,null,null,null,null,null,null,null,null,null,null,null,null,null,null,null,null,null,null,null,null,null,null,null,null,null,null,null,null,null,null,null,null,null,null,null,null,null,null,null,null,null,null,null,null,null,"",""]
[null,null,null,null,null,null,{"$f":"IF($D2241=\"\",0,VLOOKUP(($DU2241&$C2241&$D2241),単価情報!$B$66:$C$932,2,FALSE))","v":0},{"$f":"G2241","v":0},{"$f":"E2241*G2241","v":0},{"$f":"E2241*H2241","v":0},null,null,null,null,null,null,null,null,null,null,null,null,null,null,null,null,null,null,null,null,null,null,null,null,null,null,null,null,null,null,null,null,null,null,null,null,null,null,null,null,null,null,null,null,null,null,null,null,null,null,null,null,null,null,null,null,null,null,null,null,null,null,null,null,null,null,null,null,null,null,null,null,null,null,null,null,null,null,null,null,null,null,null,null,null,null,null,null,null,null,null,null,null,null,null,null,null,null,null,null,null,null,null,null,null,null,null,null,null,null,null,null,null,"",""]
[null,null,null,null,null,null,{"$f":"IF($D2267=\"\",0,VLOOKUP(($DU2267&$C2267&$D2267),単価情報!$B$66:$C$932,2,FALSE))","v":0},0,0,0,null,null,null,null,null,null,null,null,null,null,null,null,null,null,null,null,null,null,null,null,null,null,null,null,null,null,null,null,null,null,null,null,null,null,null,null,null,null,null,null,null,null,null,null,null,null,null,null,null,null,null,null,null,null,null,null,null,null,null,null,null,null,null,null,null,null,null,null,null,null,null,null,null,null,null,null,null,null,null,null,null,null,null,null,null,null,null,null,null,null,null,null,null,null,null,null,null,null,null,null,null,null,null,null,null,null,null,null,null,null,null,null,null,{"$f":"IF($B2267=\"\",\"\",VLOOKUP($A2267,$DW$11:$DX$18,2,FALSE))","v":""},{"$f":"IF($B2267=\"\",\"\",VLOOKUP($B2267,$DY$11:$DZ$27,2,FALSE))","v":""}]
[null,null,null,null,null,null,{"$f":"IF($D2268=\"\",0,VLOOKUP(($DU2268&$C2268&$D2268),単価情報!$B$66:$C$932,2,FALSE))","v":0},0,0,0,null,null,null,null,null,null,null,null,null,null,null,null,null,null,null,null,null,null,null,null,null,null,null,null,null,null,null,null,null,null,null,null,null,null,null,null,null,null,null,null,null,null,null,null,null,null,null,null,null,null,null,null,null,null,null,null,null,null,null,null,null,null,null,null,null,null,null,null,null,null,null,null,null,null,null,null,null,null,null,null,null,null,null,null,null,null,null,null,null,null,null,null,null,null,null,null,null,null,null,null,null,null,null,null,null,null,null,null,null,null,null,null,null,"",""]
[null,null,null,null,null,null,{"$f":"IF($D2285=\"\",0,VLOOKUP(($DU2285&$C2285&$D2285),単価情報!$B$66:$C$932,2,FALSE))","v":0},0,0,0,null,null,null,null,null,null,null,null,null,null,null,null,null,null,null,null,null,null,null,null,null,null,null,null,null,null,null,null,null,null,null,null,null,null,null,null,null,null,null,null,null,null,null,null,null,null,null,null,null,null,null,null,null,null,null,null,null,null,null,null,null,null,null,null,null,null,null,null,null,null,null,null,null,null,null,null,null,null,null,null,null,null,null,null,null,null,null,null,null,null,null,null,null,null,null,null,null,null,null,null,null,null,null,null,null,null,null,null,null,null,null,null,null,"",""]
[null,null,null,null,null,null,{"$f":"IF($D2303=\"\",0,VLOOKUP(($DU2303&$C2303&$D2303),単価情報!$B$66:$C$932,2,FALSE))","v":0},0,0,0,null,null,null,null,null,null,null,null,null,null,null,null,null,null,null,null,null,null,null,null,null,null,null,null,null,null,null,null,null,null,null,null,null,null,null,null,null,null,null,null,null,null,null,null,null,null,null,null,null,null,null,null,null,null,null,null,null,null,null,null,null,null,null,null,null,null,null,null,null,null,null,null,null,null,null,null,null,null,null,null,null,null,null,null,null,null,null,null,null,null,null,null,null,null,null,null,null,null,null,null,null,null,null,null,null,null,null,null,null,null,null,null,null,"",""]
[null,null,null,null,null,null,{"$f":"IF($D2322=\"\",0,VLOOKUP(($DU2322&$C2322&$D2322),単価情報!$B$66:$C$932,2,FALSE))","v":0},0,0,0,null,null,null,null,null,null,null,null,null,null,null,null,null,null,null,null,null,null,null,null,null,null,null,null,null,null,null,null,null,null,null,null,null,null,null,null,null,null,null,null,null,null,null,null,null,null,null,null,null,null,null,null,null,null,null,null,null,null,null,null,null,null,null,null,null,null,null,null,null,null,null,null,null,null,null,null,null,null,null,null,null,null,null,null,null,null,null,null,null,null,null,null,null,null,null,null,null,null,null,null,null,null,null,null,null,null,null,null,null,null,null,null,null,"",""]
[null,null,null,null,null,null,{"$f":"IF($D2329=\"\",0,VLOOKUP(($DU2329&$C2329&$D2329),単価情報!$B$66:$C$932,2,FALSE))","v":0},0,0,0,null,null,null,null,null,null,null,null,null,null,null,null,null,null,null,null,null,null,null,null,null,null,null,null,null,null,null,null,null,null,null,null,null,null,null,null,null,null,null,null,null,null,null,null,null,null,null,null,null,null,null,null,null,null,null,null,null,null,null,null,null,null,null,null,null,null,null,null,null,null,null,null,null,null,null,null,null,null,null,null,null,null,null,null,null,null,null,null,null,null,null,null,null,null,null,null,null,null,null,null,null,null,null,null,null,null,null,null,null,null,null,null,null,"",""]
[null,null,null,null,null,null,{"$f":"IF($D2353=\"\",0,VLOOKUP(($DU2353&$C2353&$D2353),単価情報!$B$66:$C$932,2,FALSE))","v":0},0,0,0,null,null,null,null,null,null,null,null,null,null,null,null,null,null,null,null,null,null,null,null,null,null,null,null,null,null,null,null,null,null,null,null,null,null,null,null,null,null,null,null,null,null,null,null,null,null,null,null,null,null,null,null,null,null,null,null,null,null,null,null,null,null,null,null,null,null,null,null,null,null,null,null,null,null,null,null,null,null,null,null,null,null,null,null,null,null,null,null,null,null,null,null,null,null,null,null,null,null,null,null,null,null,null,null,null,null,null,null,null,null,null,null,null,"",""]
[null,null,null,null,null,null,{"$f":"IF($D2359=\"\",0,VLOOKUP(($DU2359&$C2359&$D2359),単価情報!$B$66:$C$932,2,FALSE))","v":0},0,0,0,null,null,null,null,null,null,null,null,null,null,null,null,null,null,null,null,null,null,null,null,null,null,null,null,null,null,null,null,null,null,null,null,null,null,null,null,null,null,null,null,null,null,null,null,null,null,null,null,null,null,null,null,null,null,null,null,null,null,null,null,null,null,null,null,null,null,null,null,null,null,null,null,null,null,null,null,null,null,null,null,null,null,null,null,null,null,null,null,null,null,null,null,null,null,null,null,null,null,null,null,null,null,null,null,null,null,null,null,null,null,null,null,null,"",""]
[null,null,null,null,null,null,{"$f":"IF($D2374=\"\",0,VLOOKUP(($DU2374&$C2374&$D2374),単価情報!$B$66:$C$932,2,FALSE))","v":0},0,0,0,null,null,null,null,null,null,null,null,null,null,null,null,null,null,null,null,null,null,null,null,null,null,null,null,null,null,null,null,null,null,null,null,null,null,null,null,null,null,null,null,null,null,null,null,null,null,null,null,null,null,null,null,null,null,null,null,null,null,null,null,null,null,null,null,null,null,null,null,null,null,null,null,null,null,null,null,null,null,null,null,null,null,null,null,null,null,null,null,null,null,null,null,null,null,null,null,null,null,null,null,null,null,null,null,null,null,null,null,null,null,null,null,null,"",""]
[null,null,null,null,null,null,{"$f":"IF($D2393=\"\",0,VLOOKUP(($DU2393&$C2393&$D2393),単価情報!$B$66:$C$932,2,FALSE))","v":0},0,0,0,null,null,null,null,null,null,null,null,null,null,null,null,null,null,null,null,null,null,null,null,null,null,null,null,null,null,null,null,null,null,null,null,null,null,null,null,null,null,null,null,null,null,null,null,null,null,null,null,null,null,null,null,null,null,null,null,null,null,null,null,null,null,null,null,null,null,null,null,null,null,null,null,null,null,null,null,null,null,null,null,null,null,null,null,null,null,null,null,null,null,null,null,null,null,null,null,null,null,null,null,null,null,null,null,null,null,null,null,null,null,null,null,null,"",""]
[null,null,null,null,null,null,{"$f":"IF($D2403=\"\",0,VLOOKUP(($DU2403&$C2403&$D2403),単価情報!$B$66:$C$932,2,FALSE))","v":0},0,0,0,null,null,null,null,null,null,null,null,null,null,null,null,null,null,null,null,null,null,null,null,null,null,null,null,null,null,null,null,null,null,null,null,null,null,null,null,null,null,null,null,null,null,null,null,null,null,null,null,null,null,null,null,null,null,null,null,null,null,null,null,null,null,null,null,null,null,null,null,null,null,null,null,null,null,null,null,null,null,null,null,null,null,null,null,null,null,null,null,null,null,null,null,null,null,null,null,null,null,null,null,null,null,null,null,null,null,null,null,null,null,null,null,null,"",""]
[null,null,null,null,null,null,{"$f":"IF($D2424=\"\",0,VLOOKUP(($DU2424&$C2424&$D2424),単価情報!$B$66:$C$932,2,FALSE))","v":0},0,0,0,null,null,null,null,null,null,null,null,null,null,null,null,null,null,null,null,null,null,null,null,null,null,null,null,null,null,null,null,null,null,null,null,null,null,null,null,null,null,null,null,null,null,null,null,null,null,null,null,null,null,null,null,null,null,null,null,null,null,null,null,null,null,null,null,null,null,null,null,null,null,null,null,null,null,null,null,null,null,null,null,null,null,null,null,null,null,null,null,null,null,null,null,null,null,null,null,null,null,null,null,null,null,null,null,null,null,null,null,null,null,null,null,null,"",""]
[null,null,null,null,null,null,{"$f":"IF($D2429=\"\",0,VLOOKUP(($DU2429&$C2429&$D2429),単価情報!$B$66:$C$932,2,FALSE))","v":0},0,0,0,null,null,null,null,null,null,null,null,null,null,null,null,null,null,null,null,null,null,null,null,null,null,null,null,null,null,null,null,null,null,null,null,null,null,null,null,null,null,null,null,null,null,null,null,null,null,null,null,null,null,null,null,null,null,null,null,null,null,null,null,null,null,null,null,null,null,null,null,null,null,null,null,null,null,null,null,null,null,null,null,null,null,null,null,null,null,null,null,null,null,null,null,null,null,null,null,null,null,null,null,null,null,null,null,null,null,null,null,null,null,null,null,null,"",""]
[null,null,null,null,null,null,{"$f":"IF($D2447=\"\",0,VLOOKUP(($DU2447&$C2447&$D2447),単価情報!$B$66:$C$932,2,FALSE))","v":0},0,0,0,null,null,null,null,null,null,null,null,null,null,null,null,null,null,null,null,null,null,null,null,null,null,null,null,null,null,null,null,null,null,null,null,null,null,null,null,null,null,null,null,null,null,null,null,null,null,null,null,null,null,null,null,null,null,null,null,null,null,null,null,null,null,null,null,null,null,null,null,null,null,null,null,null,null,null,null,null,null,null,null,null,null,null,null,null,null,null,null,null,null,null,null,null,null,null,null,null,null,null,null,null,null,null,null,null,null,null,null,null,null,null,null,null,"",""]
[null,null,null,null,null,null,{"$f":"IF($D2460=\"\",0,VLOOKUP(($DU2460&$C2460&$D2460),単価情報!$B$66:$C$932,2,FALSE))","v":0},0,0,0,null,null,null,null,null,null,null,null,null,null,null,null,null,null,null,null,null,null,null,null,null,null,null,null,null,null,null,null,null,null,null,null,null,null,null,null,null,null,null,null,null,null,null,null,null,null,null,null,null,null,null,null,null,null,null,null,null,null,null,null,null,null,null,null,null,null,null,null,null,null,null,null,null,null,null,null,null,null,null,null,null,null,null,null,null,null,null,null,null,null,null,null,null,null,null,null,null,null,null,null,null,null,null,null,null,null,null,null,null,null,null,null,null,"",""]
[null,null,null,null,null,null,{"$f":"IF($D2477=\"\",0,VLOOKUP(($DU2477&$C2477&$D2477),単価情報!$B$66:$C$932,2,FALSE))","v":0},0,0,0,null,null,null,null,null,null,null,null,null,null,null,null,null,null,null,null,null,null,null,null,null,null,null,null,null,null,null,null,null,null,null,null,null,null,null,null,null,null,null,null,null,null,null,null,null,null,null,null,null,null,null,null,null,null,null,null,null,null,null,null,null,null,null,null,null,null,null,null,null,null,null,null,null,null,null,null,null,null,null,null,null,null,null,null,null,null,null,null,null,null,null,null,null,null,null,null,null,null,null,null,null,null,null,null,null,null,null,null,null,null,null,null,null,"",""]
[null,null,null,null,null,null,{"$f":"IF($D2495=\"\",0,VLOOKUP(($DU2495&$C2495&$D2495),単価情報!$B$66:$C$932,2,FALSE))","v":0},0,0,0,null,null,null,null,null,null,null,null,null,null,null,null,null,null,null,null,null,null,null,null,null,null,null,null,null,null,null,null,null,null,null,null,null,null,null,null,null,null,null,null,null,null,null,null,null,null,null,null,null,null,null,null,null,null,null,null,null,null,null,null,null,null,null,null,null,null,null,null,null,null,null,null,null,null,null,null,null,null,null,null,null,null,null,null,null,null,null,null,null,null,null,null,null,null,null,null,null,null,null,null,null,null,null,null,null,null,null,null,null,null,null,null,null,"",""]
[null,null,null,null,null,null,{"$f":"IF($D2500=\"\",0,VLOOKUP(($DU2500&$C2500&$D2500),単価情報!$B$66:$C$932,2,FALSE))","v":0},0,0,0,null,null,null,null,null,null,null,null,null,null,null,null,null,null,null,null,null,null,null,null,null,null,null,null,null,null,null,null,null,null,null,null,null,null,null,null,null,null,null,null,null,null,null,null,null,null,null,null,null,null,null,null,null,null,null,null,null,null,null,null,null,null,null,null,null,null,null,null,null,null,null,null,null,null,null,null,null,null,null,null,null,null,null,null,null,null,null,null,null,null,null,null,null,null,null,null,null,null,null,null,null,null,null,null,null,null,null,null,null,null,null,null,null,"",""]
[null,null,null,null,null,null,{"$f":"IF($D2521=\"\",0,VLOOKUP(($DU2521&$C2521&$D2521),単価情報!$B$66:$C$932,2,FALSE))","v":0},0,0,0,null,null,null,null,null,null,null,null,null,null,null,null,null,null,null,null,null,null,null,null,null,null,null,null,null,null,null,null,null,null,null,null,null,null,null,null,null,null,null,null,null,null,null,null,null,null,null,null,null,null,null,null,null,null,null,null,null,null,null,null,null,null,null,null,null,null,null,null,null,null,null,null,null,null,null,null,null,null,null,null,null,null,null,null,null,null,null,null,null,null,null,null,null,null,null,null,null,null,null,null,null,null,null,null,null,null,null,null,null,null,null,null,null,"",""]
[null,null,null,null,null,null,{"$f":"IF($D2531=\"\",0,VLOOKUP(($DU2531&$C2531&$D2531),単価情報!$B$66:$C$932,2,FALSE))","v":0},0,0,0,null,null,null,null,null,null,null,null,null,null,null,null,null,null,null,null,null,null,null,null,null,null,null,null,null,null,null,null,null,null,null,null,null,null,null,null,null,null,null,null,null,null,null,null,null,null,null,null,null,null,null,null,null,null,null,null,null,null,null,null,null,null,null,null,null,null,null,null,null,null,null,null,null,null,null,null,null,null,null,null,null,null,null,null,null,null,null,null,null,null,null,null,null,null,null,null,null,null,null,null,null,null,null,null,null,null,null,null,null,null,null,null,null,"",""]
[null,null,null,null,null,null,{"$f":"IF($D2550=\"\",0,VLOOKUP(($DU2550&$C2550&$D2550),単価情報!$B$66:$C$932,2,FALSE))","v":0},0,0,0,null,null,null,null,null,null,null,null,null,null,null,null,null,null,null,null,null,null,null,null,null,null,null,null,null,null,null,null,null,null,null,null,null,null,null,null,null,null,null,null,null,null,null,null,null,null,null,null,null,null,null,null,null,null,null,null,null,null,null,null,null,null,null,null,null,null,null,null,null,null,null,null,null,null,null,null,null,null,null,null,null,null,null,null,null,null,null,null,null,null,null,null,null,null,null,null,null,null,null,null,null,null,null,null,null,null,null,null,null,null,null,null,null,"",""]
[null,null,null,null,null,null,{"$f":"IF($D2565=\"\",0,VLOOKUP(($DU2565&$C2565&$D2565),単価情報!$B$66:$C$932,2,FALSE))","v":0},0,0,0,null,null,null,null,null,null,null,null,null,null,null,null,null,null,null,null,null,null,null,null,null,null,null,null,null,null,null,null,null,null,null,null,null,null,null,null,null,null,null,null,null,null,null,null,null,null,null,null,null,null,null,null,null,null,null,null,null,null,null,null,null,null,null,null,null,null,null,null,null,null,null,null,null,null,null,null,null,null,null,null,null,null,null,null,null,null,null,null,null,null,null,null,null,null,null,null,null,null,null,null,null,null,null,null,null,null,null,null,null,null,null,null,null,"",""]
[null,null,null,null,null,null,{"$f":"IF($D2571=\"\",0,VLOOKUP(($DU2571&$C2571&$D2571),単価情報!$B$66:$C$932,2,FALSE))","v":0},0,0,0,null,null,null,null,null,null,null,null,null,null,null,null,null,null,null,null,null,null,null,null,null,null,null,null,null,null,null,null,null,null,null,null,null,null,null,null,null,null,null,null,null,null,null,null,null,null,null,null,null,null,null,null,null,null,null,null,null,null,null,null,null,null,null,null,null,null,null,null,null,null,null,null,null,null,null,null,null,null,null,null,null,null,null,null,null,null,null,null,null,null,null,null,null,null,null,null,null,null,null,null,null,null,null,null,null,null,null,null,null,null,null,null,null,"",""]
[null,null,null,null,null,null,{"$f":"IF($D2595=\"\",0,VLOOKUP(($DU2595&$C2595&$D2595),単価情報!$B$66:$C$932,2,FALSE))","v":0},0,0,0,null,null,null,null,null,null,null,null,null,null,null,null,null,null,null,null,null,null,null,null,null,null,null,null,null,null,null,null,null,null,null,null,null,null,null,null,null,null,null,null,null,null,null,null,null,null,null,null,null,null,null,null,null,null,null,null,null,null,null,null,null,null,null,null,null,null,null,null,null,null,null,null,null,null,null,null,null,null,null,null,null,null,null,null,null,null,null,null,null,null,null,null,null,null,null,null,null,null,null,null,null,null,null,null,null,null,null,null,null,null,null,null,null,"",""]
[null,null,null,null,null,null,{"$f":"IF($D2602=\"\",0,VLOOKUP(($DU2602&$C2602&$D2602),単価情報!$B$66:$C$932,2,FALSE))","v":0},0,0,0,null,null,null,null,null,null,null,null,null,null,null,null,null,null,null,null,null,null,null,null,null,null,null,null,null,null,null,null,null,null,null,null,null,null,null,null,null,null,null,null,null,null,null,null,null,null,null,null,null,null,null,null,null,null,null,null,null,null,null,null,null,null,null,null,null,null,null,null,null,null,null,null,null,null,null,null,null,null,null,null,null,null,null,null,null,null,null,null,null,null,null,null,null,null,null,null,null,null,null,null,null,null,null,null,null,null,null,null,null,null,null,null,null,"",""]
[]
[]
[]
[]
[]
[]
[]
[]
[]
[]
[]
[]
[]
[]
[]
[]
[]
[]
[]
[]
[]
[]
[]
[]
[]
[]
[]
[]
[]
[]
[]
[]
[]
[]
[]
[]
[]
[]
[]
[]
[]
[]
[]
[]
[]
[]
[]
[]
[]
[]
[]
[]
[]
[]
[]
[]
[]
[]
[]
[]
[]
[]
[]
[]
[]
[]
[]
[]
[]
[]
[]
[]
[]
[]
[]
[]
[]
[]
[]
[]
[]
[]
[]
[]
[]
[]
[]
[]
[]
[]
[]
[]
[]
[]
[]
[]
[]
[]
[]
[]
[]
[]
[]
[]
[]
[]
[]
[]
[]
[]
[]
[]
[]
[]
[]
[]
[]
[]
[]
[]
[]
[]
[]
[]
[]
[]
[]
[]
[]
[]
[]
[]
[]
[]
[]
[]
[]
[]
[]
[]
[]
[]
[]
[]
[]
[]
[]
[]
[]
[]
[]
[]
[]
[]
[]
[]
[]
[]
[]
[]
[]
[]
[]
[]
[]
[]
[]
[]
[]
[]
[]
[]
[]
[]
[]
[]
[]
[]
[]
[]
[]
[]
[]
[]
[]
[]
[]
[]
[]
[]
[]
[]
[]
[]
[]
[]
[]
[]
[]
[]
[]
[]
[]
[]
[]
[]
[]
[]
[]
[]
[]
[]
[]
[]
[]
[]
[]
[]
[]
[]
[]
[]
[]
[]
[]
[]
[]
[]
[]
[]
[]
[]
[]
[]
[]
[]
[]
[]
[]
[]
[]
[]
[]
[]
[]
[]
[]
[]
[]
[]
[]
[]
[]
[]
[]
[]
[]
[]
[]
[]
[]
[]
[]
[]
[]
[]
[]
[]
[]
[]
[]
[]
[]
[]
[]
[]
[]
[]
[]
[]
[]
[]
[]
[]
[]
[]
[]
[]
[]
[]
[]
[]
[]
[]
[]
[]
[]
[]
[]
[]
[]
[]
[]
[]
[]
[]
[]
[]
[]
[]
[]
[]
[]
[]
[]
[]
[]
[]
[]
[]
[]
[]
[]
[]
[]
[]
[]
[]
[]
[]
[]
[]
[]
[]
[]
[]
[]
[]
[]
[]
[]
[]
[]
[]
[]
[]
[]
[]
[]
[]
[]
[]
[]
[]
[]
[]
[]
[]
[]
[]
[]
[]
[]
[]
[]
[]
[]
[]
[]
[]
[]
[]
[]
[]
[]
[]
[]
[]
[]
[]
[]
[]
[]
[]
[]
[]
[]
[]
[]
[]
[]
[]
[]
[]
[]
[]
[]
[]
[]
[]
[]
[]
[]
[]
[]
[]
[]
[]
[]
[]
[]
[]
[]
[]
[]
[]
[]
[]
[]
[]
[]
[null,null,null,null,null,null,{"$f":"IF($D7754=\"\",0,VLOOKUP(($DU7754&$C7754&$D7754),単価情報!$B$67:$C$932,2,FALSE))","v":0},0,0,0]
[null,null,null,null,null,null,{"$f":"IF($D7755=\"\",0,VLOOKUP(($DU7755&$C7755&$D7755),単価情報!$B$67:$C$932,2,FALSE))","v":0},0,{"$f":"E7755*G7755","v":0},{"$f":"E7755*H7755","v":0}]
[null,null,null,null,null,null,{"$f":"IF($D7756=\"\",0,VLOOKUP(($DU7756&$C7756&$D7756),単価情報!$B$67:$C$932,2,FALSE))","v":0},0,0,0]
[null,null,null,null,null,null,{"$f":"IF($D7757=\"\",0,VLOOKUP(($DU7757&$C7757&$D7757),単価情報!$B$67:$C$932,2,FALSE))","v":0},0,0,0]
[null,null,null,null,null,null,{"$f":"IF($D7758=\"\",0,VLOOKUP(($DU7758&$C7758&$D7758),単価情報!$B$67:$C$932,2,FALSE))","v":0},0,0,0]
[null,null,null,null,null,null,{"$f":"IF($D7759=\"\",0,VLOOKUP(($DU7759&$C7759&$D7759),単価情報!$B$67:$C$932,2,FALSE))","v":0},0,0,0]
[null,null,null,null,null,null,{"$f":"IF($D7760=\"\",0,VLOOKUP(($DU7760&$C7760&$D7760),単価情報!$B$67:$C$932,2,FALSE))","v":0},0,0,0]
[null,null,null,null,null,null,{"$f":"IF($D7761=\"\",0,VLOOKUP(($DU7761&$C7761&$D7761),単価情報!$B$67:$C$932,2,FALSE))","v":0},0,0,0]
[null,null,null,null,null,null,{"$f":"IF($D7762=\"\",0,VLOOKUP(($DU7762&$C7762&$D7762),単価情報!$B$67:$C$932,2,FALSE))","v":0},0,0,0]
[null,null,null,null,null,null,{"$f":"IF($D7763=\"\",0,VLOOKUP(($DU7763&$C7763&$D7763),単価情報!$B$67:$C$932,2,FALSE))","v":0},0,0,0]
[null,null,null,null,null,null,{"$f":"IF($D7764=\"\",0,VLOOKUP(($DU7764&$C7764&$D7764),単価情報!$B$67:$C$932,2,FALSE))","v":0},0,0,0]
[null,null,null,null,null,null,{"$f":"IF($D7765=\"\",0,VLOOKUP(($DU7765&$C7765&$D7765),単価情報!$B$67:$C$932,2,FALSE))","v":0},0,0,0]
[null,null,null,null,null,null,{"$f":"IF($D7766=\"\",0,VLOOKUP(($DU7766&$C7766&$D7766),単価情報!$B$67:$C$932,2,FALSE))","v":0},0,0,0]
[null,null,null,null,null,null,{"$f":"IF($D7767=\"\",0,VLOOKUP(($DU7767&$C7767&$D7767),単価情報!$B$67:$C$932,2,FALSE))","v":0},0,0,0]
[null,null,null,null,null,null,{"$f":"IF($D7768=\"\",0,VLOOKUP(($DU7768&$C7768&$D7768),単価情報!$B$67:$C$932,2,FALSE))","v":0},0,0,0]
[null,null,null,null,null,null,{"$f":"IF($D7769=\"\",0,VLOOKUP(($DU7769&$C7769&$D7769),単価情報!$B$67:$C$932,2,FALSE))","v":0},0,0,0]
[null,null,null,null,null,null,{"$f":"IF($D7770=\"\",0,VLOOKUP(($DU7770&$C7770&$D7770),単価情報!$B$67:$C$932,2,FALSE))","v":0},0,0,0]
[null,null,null,null,null,null,{"$f":"IF($D7771=\"\",0,VLOOKUP(($DU7771&$C7771&$D7771),単価情報!$B$67:$C$932,2,FALSE))","v":0},0,0,0]
[null,null,null,null,null,null,{"$f":"IF($D7772=\"\",0,VLOOKUP(($DU7772&$C7772&$D7772),単価情報!$B$67:$C$932,2,FALSE))","v":0},0,0,0]
[null,null,null,null,null,null,{"$f":"IF($D7773=\"\",0,VLOOKUP(($DU7773&$C7773&$D7773),単価情報!$B$67:$C$932,2,FALSE))","v":0},0,0,0]
[null,null,null,null,null,null,{"$f":"IF($D7774=\"\",0,VLOOKUP(($DU7774&$C7774&$D7774),単価情報!$B$67:$C$932,2,FALSE))","v":0},0,0,0]
[null,null,null,null,null,null,{"$f":"IF($D7775=\"\",0,VLOOKUP(($DU7775&$C7775&$D7775),単価情報!$B$67:$C$932,2,FALSE))","v":0},0,0,0]
[null,null,null,null,null,null,{"$f":"IF($D7776=\"\",0,VLOOKUP(($DU7776&$C7776&$D7776),単価情報!$B$67:$C$932,2,FALSE))","v":0},0,0,0]
[null,null,null,null,null,null,{"$f":"IF($D7777=\"\",0,VLOOKUP(($DU7777&$C7777&$D7777),単価情報!$B$67:$C$932,2,FALSE))","v":0},0,0,0]
[null,null,null,null,null,null,{"$f":"IF($D7778=\"\",0,VLOOKUP(($DU7778&$C7778&$D7778),単価情報!$B$67:$C$932,2,FALSE))","v":0},0,0,0]
[null,null,null,null,null,null,{"$f":"IF($D7779=\"\",0,VLOOKUP(($DU7779&$C7779&$D7779),単価情報!$B$67:$C$932,2,FALSE))","v":0},0,0,0]
[null,null,null,null,null,null,{"$f":"IF($D7780=\"\",0,VLOOKUP(($DU7780&$C7780&$D7780),単価情報!$B$67:$C$932,2,FALSE))","v":0},0,0,0]
[null,null,null,null,null,null,{"$f":"IF($D7781=\"\",0,VLOOKUP(($DU7781&$C7781&$D7781),単価情報!$B$67:$C$932,2,FALSE))","v":0},0,0,0]
[null,null,null,null,null,null,{"$f":"IF($D7782=\"\",0,VLOOKUP(($DU7782&$C7782&$D7782),単価情報!$B$67:$C$932,2,FALSE))","v":0},0,0,0]
[null,null,null,null,null,null,{"$f":"IF($D7783=\"\",0,VLOOKUP(($DU7783&$C7783&$D7783),単価情報!$B$67:$C$932,2,FALSE))","v":0},0,0,0]
[null,null,null,null,null,null,{"$f":"IF($D7784=\"\",0,VLOOKUP(($DU7784&$C7784&$D7784),単価情報!$B$67:$C$932,2,FALSE))","v":0},0,0,0]
[null,null,null,null,null,null,{"$f":"IF($D7785=\"\",0,VLOOKUP(($DU7785&$C7785&$D7785),単価情報!$B$67:$C$932,2,FALSE))","v":0},0,0,0]
[null,null,null,null,null,null,{"$f":"IF($D7786=\"\",0,VLOOKUP(($DU7786&$C7786&$D7786),単価情報!$B$67:$C$932,2,FALSE))","v":0},0,0,0]
[null,null,null,null,null,null,{"$f":"IF($D7787=\"\",0,VLOOKUP(($DU7787&$C7787&$D7787),単価情報!$B$67:$C$932,2,FALSE))","v":0},0,0,0]
[null,null,null,null,null,null,{"$f":"IF($D7788=\"\",0,VLOOKUP(($DU7788&$C7788&$D7788),単価情報!$B$67:$C$932,2,FALSE))","v":0},0,0,0]
[null,null,null,null,null,null,{"$f":"IF($D7789=\"\",0,VLOOKUP(($DU7789&$C7789&$D7789),単価情報!$B$67:$C$932,2,FALSE))","v":0},0,0,0]
[null,null,null,null,null,null,{"$f":"IF($D7790=\"\",0,VLOOKUP(($DU7790&$C7790&$D7790),単価情報!$B$67:$C$932,2,FALSE))","v":0},0,0,0]
[null,null,null,null,null,null,{"$f":"IF($D7791=\"\",0,VLOOKUP(($DU7791&$C7791&$D7791),単価情報!$B$67:$C$932,2,FALSE))","v":0},0,0,0,{"$f":"IF(E7791=0,0,ROUND(E7791/#REF!,1))","v":0},{"$f":"IF(L$5>=$F7791,IF(L$5<=#REF!,$K7791,0),0)","v":{"$error":"#REF!"}},{"$f":"IF(M$5>=$F7791,IF(M$5<=#REF!,$K7791,0),0)","v":{"$error":"#REF!"}},{"$f":"IF(N$5>=$F7791,IF(N$5<=#REF!,$K7791,0),0)","v":{"$error":"#REF!"}},{"$f":"IF(O$5>=$F7791,IF(O$5<=#REF!,$K7791,0),0)","v":{"$error":"#REF!"}},{"$f":"IF(P$5>=$F7791,IF(P$5<=#REF!,$K7791,0),0)","v":{"$error":"#REF!"}},{"$f":"IF(Q$5>=$F7791,IF(Q$5<=#REF!,$K7791,0),0)","v":{"$error":"#REF!"}},{"$f":"IF(R$5>=$F7791,IF(R$5<=#REF!,$K7791,0),0)","v":{"$error":"#REF!"}},{"$f":"IF(S$5>=$F7791,IF(S$5<=#REF!,$K7791,0),0)","v":{"$error":"#REF!"}},{"$f":"IF(T$5>=$F7791,IF(T$5<=#REF!,$K7791,0),0)","v":{"$error":"#REF!"}},{"$f":"IF(U$5>=$F7791,IF(U$5<=#REF!,$K7791,0),0)","v":{"$error":"#REF!"}},{"$f":"IF(V$5>=$F7791,IF(V$5<=#REF!,$K7791,0),0)","v":{"$error":"#REF!"}},{"$f":"IF(W$5>=$F7791,IF(W$5<=#REF!,$K7791,0),0)","v":{"$error":"#REF!"}},{"$f":"IF(X$5>=$F7791,IF(X$5<=#REF!,$K7791,0),0)","v":{"$error":"#REF!"}},{"$f":"IF(Y$5>=$F7791,IF(Y$5<=#REF!,$K7791,0),0)","v":{"$error":"#REF!"}},{"$f":"IF(Z$5>=$F7791,IF(Z$5<=#REF!,$K7791,0),0)","v":{"$error":"#REF!"}},{"$f":"IF(AA$5>=$F7791,IF(AA$5<=#REF!,$K7791,0),0)","v":{"$error":"#REF!"}},{"$f":"IF(AB$5>=$F7791,IF(AB$5<=#REF!,$K7791,0),0)","v":{"$error":"#REF!"}},{"$f":"IF(AC$5>=$F7791,IF(AC$5<=#REF!,$K7791,0),0)","v":{"$error":"#REF!"}},{"$f":"IF(AD$5>=$F7791,IF(AD$5<=#REF!,$K7791,0),0)","v":{"$error":"#REF!"}},{"$f":"IF(AE$5>=$F7791,IF(AE$5<=#REF!,$K7791,0),0)","v":{"$error":"#REF!"}},{"$f":"IF(AF$5>=$F7791,IF(AF$5<=#REF!,$K7791,0),0)","v":{"$error":"#REF!"}},{"$f":"IF(AG$5>=$F7791,IF(AG$5<=#REF!,$K7791,0),0)","v":{"$error":"#REF!"}},{"$f":"IF(AH$5>=$F7791,IF(AH$5<=#REF!,$K7791,0),0)","v":{"$error":"#REF!"}},{"$f":"IF(AI$5>=$F7791,IF(AI$5<=#REF!,$K7791,0),0)","v":{"$error":"#REF!"}},{"$f":"IF(AJ$5>=$F7791,IF(AJ$5<=#REF!,$K7791,0),0)","v":{"$error":"#REF!"}},{"$f":"IF(AK$5>=$F7791,IF(AK$5<=#REF!,$K7791,0),0)","v":{"$error":"#REF!"}},{"$f":"IF(AL$5>=$F7791,IF(AL$5<=#REF!,$K7791,0),0)","v":{"$error":"#REF!"}},{"$f":"IF(AM$5>=$F7791,IF(AM$5<=#REF!,$K7791,0),0)","v":{"$error":"#REF!"}},{"$f":"IF(AN$5>=$F7791,IF(AN$5<=#REF!,$K7791,0),0)","v":{"$error":"#REF!"}},{"$f":"IF(AO$5>=$F7791,IF(AO$5<=#REF!,$K7791,0),0)","v":{"$error":"#REF!"}},{"$f":"IF(AP$5>=$F7791,IF(AP$5<=#REF!,$K7791,0),0)","v":{"$error":"#REF!"}},{"$f":"IF(AQ$5>=$F7791,IF(AQ$5<=#REF!,$K7791,0),0)","v":{"$error":"#REF!"}},{"$f":"IF(AR$5>=$F7791,IF(AR$5<=#REF!,$K7791,0),0)","v":{"$error":"#REF!"}},{"$f":"IF(AS$5>=$F7791,IF(AS$5<=#REF!,$K7791,0),0)","v":{"$error":"#REF!"}},{"$f":"IF(AT$5>=$F7791,IF(AT$5<=#REF!,$K7791,0),0)","v":{"$error":"#REF!"}},{"$f":"IF(AU$5>=$F7791,IF(AU$5<=#REF!,$K7791,0),0)","v":{"$error":"#REF!"}},{"$f":"IF(AV$5>=$F7791,IF(AV$5<=#REF!,$K7791,0),0)","v":{"$error":"#REF!"}},{"$f":"IF(AW$5>=$F7791,IF(AW$5<=#REF!,$K7791,0),0)","v":{"$error":"#REF!"}},{"$f":"IF(AX$5>=$F7791,IF(AX$5<=#REF!,$K7791,0),0)","v":{"$error":"#REF!"}},{"$f":"IF(AY$5>=$F7791,IF(AY$5<=#REF!,$K7791,0),0)","v":{"$error":"#REF!"}},{"$f":"IF(AZ$5>=$F7791,IF(AZ$5<=#REF!,$K7791,0),0)","v":{"$error":"#REF!"}},{"$f":"IF(BA$5>=$F7791,IF(BA$5<=#REF!,$K7791,0),0)","v":{"$error":"#REF!"}},{"$f":"IF(BB$5>=$F7791,IF(BB$5<=#REF!,$K7791,0),0)","v":{"$error":"#REF!"}},{"$f":"IF(BC$5>=$F7791,IF(BC$5<=#REF!,$K7791,0),0)","v":{"$error":"#REF!"}},{"$f":"IF(BD$5>=$F7791,IF(BD$5<=#REF!,$K7791,0),0)","v":{"$error":"#REF!"}},{"$f":"IF(BE$5>=$F7791,IF(BE$5<=#REF!,$K7791,0),0)","v":{"$error":"#REF!"}},{"$f":"IF(BF$5>=$F7791,IF(BF$5<=#REF!,$K7791,0),0)","v":{"$error":"#REF!"}},{"$f":"IF(BG$5>=$F7791,IF(BG$5<=#REF!,$K7791,0),0)","v":{"$error":"#REF!"}},{"$f":"IF(BH$5>=$F7791,IF(BH$5<=#REF!,$K7791,0),0)","v":{"$error":"#REF!"}},{"$f":"IF(BI$5>=$F7791,IF(BI$5<=#REF!,$K7791,0),0)","v":{"$error":"#REF!"}},{"$f":"IF(BJ$5>=$F7791,IF(BJ$5<=#REF!,$K7791,0),0)","v":{"$error":"#REF!"}},{"$f":"IF(BK$5>=$F7791,IF(BK$5<=#REF!,$K7791,0),0)","v":{"$error":"#REF!"}},{"$f":"IF(BL$5>=$F7791,IF(BL$5<=#REF!,$K7791,0),0)","v":{"$error":"#REF!"}},{"$f":"IF(BM$5>=$F7791,IF(BM$5<=#REF!,$K7791,0),0)","v":{"$error":"#REF!"}},{"$f":"IF(BN$5>=$F7791,IF(BN$5<=#REF!,$K7791,0),0)","v":{"$error":"#REF!"}},{"$f":"IF(BO$5>=$F7791,IF(BO$5<=#REF!,$K7791,0),0)","v":{"$error":"#REF!"}},{"$f":"IF(BP$5>=$F7791,IF(BP$5<=#REF!,$K7791,0),0)","v":{"$error":"#REF!"}},{"$f":"IF(BQ$5>=$F7791,IF(BQ$5<=#REF!,$K7791,0),0)","v":{"$error":"#REF!"}},{"$f":"IF(BR$5>=$F7791,IF(BR$5<=#REF!,$K7791,0),0)","v":{"$error":"#REF!"}},{"$f":"IF(BS$5>=$F7791,IF(BS$5<=#REF!,$K7791,0),0)","v":{"$error":"#REF!"}},{"$f":"IF(BT$5>=$F7791,IF(BT$5<=#REF!,$K7791,0),0)","v":{"$error":"#REF!"}},{"$f":"IF(BU$5>=$F7791,IF(BU$5<=#REF!,$K7791,0),0)","v":{"$error":"#REF!"}},{"$f":"IF(BV$5>=$F7791,IF(BV$5<=#REF!,$K7791,0),0)","v":{"$error":"#REF!"}},{"$f":"IF(BW$5>=$F7791,IF(BW$5<=#REF!,$K7791,0),0)","v":{"$error":"#REF!"}},{"$f":"IF(BX$5>=$F7791,IF(BX$5<=#REF!,$K7791,0),0)","v":{"$error":"#REF!"}},{"$f":"IF(BY$5>=$F7791,IF(BY$5<=#REF!,$K7791,0),0)","v":{"$error":"#REF!"}},{"$f":"IF(BZ$5>=$F7791,IF(BZ$5<=#REF!,$K7791,0),0)","v":{"$error":"#REF!"}},{"$f":"IF(CA$5>=$F7791,IF(CA$5<=#REF!,$K7791,0),0)","v":{"$error":"#REF!"}},{"$f":"IF(CB$5>=$F7791,IF(CB$5<=#REF!,$K7791,0),0)","v":{"$error":"#REF!"}},{"$f":"IF(CC$5>=$F7791,IF(CC$5<=#REF!,$K7791,0),0)","v":{"$error":"#REF!"}},{"$f":"IF(CD$5>=$F7791,IF(CD$5<=#REF!,$K7791,0),0)","v":{"$error":"#REF!"}},{"$f":"IF(CE$5>=$F7791,IF(CE$5<=#REF!,$K7791,0),0)","v":{"$error":"#REF!"}},{"$f":"IF(CF$5>=$F7791,IF(CF$5<=#REF!,$K7791,0),0)","v":{"$error":"#REF!"}},{"$f":"IF(CG$5>=$F7791,IF(CG$5<=#REF!,$K7791,0),0)","v":{"$error":"#REF!"}},{"$f":"IF(CH$5>=$F7791,IF(CH$5<=#REF!,$K7791,0),0)","v":{"$error":"#REF!"}},{"$f":"IF(CI$5>=$F7791,IF(CI$5<=#REF!,$K7791,0),0)","v":{"$error":"#REF!"}},{"$f":"IF(CJ$5>=$F7791,IF(CJ$5<=#REF!,$K7791,0),0)","v":{"$error":"#REF!"}},{"$f":"IF(CK$5>=$F7791,IF(CK$5<=#REF!,$K7791,0),0)","v":{"$error":"#REF!"}},{"$f":"IF(CL$5>=$F7791,IF(CL$5<=#REF!,$K7791,0),0)","v":{"$error":"#REF!"}},{"$f":"IF(CM$5>=$F7791,IF(CM$5<=#REF!,$K7791,0),0)","v":{"$error":"#REF!"}},{"$f":"IF(CN$5>=$F7791,IF(CN$5<=#REF!,$K7791,0),0)","v":{"$error":"#REF!"}},{"$f":"IF(CO$5>=$F7791,IF(CO$5<=#REF!,$K7791,0),0)","v":{"$error":"#REF!"}},{"$f":"IF(CP$5>=$F7791,IF(CP$5<=#REF!,$K7791,0),0)","v":{"$error":"#REF!"}},{"$f":"IF(CQ$5>=$F7791,IF(CQ$5<=#REF!,$K7791,0),0)","v":{"$error":"#REF!"}},{"$f":"IF(CR$5>=$F7791,IF(CR$5<=#REF!,$K7791,0),0)","v":{"$error":"#REF!"}},{"$f":"IF(CS$5>=$F7791,IF(CS$5<=#REF!,$K7791,0),0)","v":{"$error":"#REF!"}},{"$f":"IF(CT$5>=$F7791,IF(CT$5<=#REF!,$K7791,0),0)","v":{"$error":"#REF!"}},{"$f":"IF(CU$5>=$F7791,IF(CU$5<=#REF!,$K7791,0),0)","v":{"$error":"#REF!"}},{"$f":"IF(CV$5>=$F7791,IF(CV$5<=#REF!,$K7791,0),0)","v":{"$error":"#REF!"}},{"$f":"IF(CW$5>=$F7791,IF(CW$5<=#REF!,$K7791,0),0)","v":{"$error":"#REF!"}},{"$f":"IF(CX$5>=$F7791,IF(CX$5<=#REF!,$K7791,0),0)","v":{"$error":"#REF!"}},{"$f":"IF(CY$5>=$F7791,IF(CY$5<=#REF!,$K7791,0),0)","v":{"$error":"#REF!"}},{"$f":"IF(CZ$5>=$F7791,IF(CZ$5<=#REF!,$K7791,0),0)","v":{"$error":"#REF!"}},{"$f":"IF(DA$5>=$F7791,IF(DA$5<=#REF!,$K7791,0),0)","v":{"$error":"#REF!"}},{"$f":"IF(DB$5>=$F7791,IF(DB$5<=#REF!,$K7791,0),0)","v":{"$error":"#REF!"}},{"$f":"IF(DC$5>=$F7791,IF(DC$5<=#REF!,$K7791,0),0)","v":{"$error":"#REF!"}},{"$f":"IF(DD$5>=$F7791,IF(DD$5<=#REF!,$K7791,0),0)","v":{"$error":"#REF!"}},{"$f":"IF(DE$5>=$F7791,IF(DE$5<=#REF!,$K7791,0),0)","v":{"$error":"#REF!"}},{"$f":"IF(DF$5>=$F7791,IF(DF$5<=#REF!,$K7791,0),0)","v":{"$error":"#REF!"}},{"$f":"IF(DG$5>=$F7791,IF(DG$5<=#REF!,$K7791,0),0)","v":{"$error":"#REF!"}},{"$f":"IF(DH$5>=$F7791,IF(DH$5<=#REF!,$K7791,0),0)","v":{"$error":"#REF!"}},{"$f":"IF(DI$5>=$F7791,IF(DI$5<=#REF!,$K7791,0),0)","v":{"$error":"#REF!"}},{"$f":"IF(DJ$5>=$F7791,IF(DJ$5<=#REF!,$K7791,0),0)","v":{"$error":"#REF!"}},{"$f":"IF(DK$5>=$F7791,IF(DK$5<=#REF!,$K7791,0),0)","v":{"$error":"#REF!"}},{"$f":"IF(DL$5>=$F7791,IF(DL$5<=#REF!,$K7791,0),0)","v":{"$error":"#REF!"}},{"$f":"IF(DM$5>=$F7791,IF(DM$5<=#REF!,$K7791,0),0)","v":{"$error":"#REF!"}},{"$f":"IF(DN$5>=$F7791,IF(DN$5<=#REF!,$K7791,0),0)","v":{"$error":"#REF!"}},{"$f":"IF(DO$5>=$F7791,IF(DO$5<=#REF!,$K7791,0),0)","v":{"$error":"#REF!"}},{"$f":"IF(DP$5>=$F7791,IF(DP$5<=#REF!,$K7791,0),0)","v":{"$error":"#REF!"}},{"$f":"IF(DQ$5>=$F7791,IF(DQ$5<=#REF!,$K7791,0),0)","v":{"$error":"#REF!"}},{"$f":"IF(DR$5>=$F7791,IF(DR$5<=#REF!,$K7791,0),0)","v":{"$error":"#REF!"}},{"$error":"#REF!"},"",""]
[null,null,null,null,null,null,{"$f":"IF($D7792=\"\",0,VLOOKUP(($DU7792&$C7792&$D7792),単価情報!$B$67:$C$932,2,FALSE))","v":0},0,0,0,{"$f":"IF(E7792=0,0,ROUND(E7792/#REF!,1))","v":0},{"$f":"IF(L$5>=$F7792,IF(L$5<=#REF!,$K7792,0),0)","v":{"$error":"#REF!"}},{"$f":"IF(M$5>=$F7792,IF(M$5<=#REF!,$K7792,0),0)","v":{"$error":"#REF!"}},{"$f":"IF(N$5>=$F7792,IF(N$5<=#REF!,$K7792,0),0)","v":{"$error":"#REF!"}},{"$f":"IF(O$5>=$F7792,IF(O$5<=#REF!,$K7792,0),0)","v":{"$error":"#REF!"}},{"$f":"IF(P$5>=$F7792,IF(P$5<=#REF!,$K7792,0),0)","v":{"$error":"#REF!"}},{"$f":"IF(Q$5>=$F7792,IF(Q$5<=#REF!,$K7792,0),0)","v":{"$error":"#REF!"}},{"$f":"IF(R$5>=$F7792,IF(R$5<=#REF!,$K7792,0),0)","v":{"$error":"#REF!"}},{"$f":"IF(S$5>=$F7792,IF(S$5<=#REF!,$K7792,0),0)","v":{"$error":"#REF!"}},{"$f":"IF(T$5>=$F7792,IF(T$5<=#REF!,$K7792,0),0)","v":{"$error":"#REF!"}},{"$f":"IF(U$5>=$F7792,IF(U$5<=#REF!,$K7792,0),0)","v":{"$error":"#REF!"}},{"$f":"IF(V$5>=$F7792,IF(V$5<=#REF!,$K7792,0),0)","v":{"$error":"#REF!"}},{"$f":"IF(W$5>=$F7792,IF(W$5<=#REF!,$K7792,0),0)","v":{"$error":"#REF!"}},{"$f":"IF(X$5>=$F7792,IF(X$5<=#REF!,$K7792,0),0)","v":{"$error":"#REF!"}},{"$f":"IF(Y$5>=$F7792,IF(Y$5<=#REF!,$K7792,0),0)","v":{"$error":"#REF!"}},{"$f":"IF(Z$5>=$F7792,IF(Z$5<=#REF!,$K7792,0),0)","v":{"$error":"#REF!"}},{"$f":"IF(AA$5>=$F7792,IF(AA$5<=#REF!,$K7792,0),0)","v":{"$error":"#REF!"}},{"$f":"IF(AB$5>=$F7792,IF(AB$5<=#REF!,$K7792,0),0)","v":{"$error":"#REF!"}},{"$f":"IF(AC$5>=$F7792,IF(AC$5<=#REF!,$K7792,0),0)","v":{"$error":"#REF!"}},{"$f":"IF(AD$5>=$F7792,IF(AD$5<=#REF!,$K7792,0),0)","v":{"$error":"#REF!"}},{"$f":"IF(AE$5>=$F7792,IF(AE$5<=#REF!,$K7792,0),0)","v":{"$error":"#REF!"}},{"$f":"IF(AF$5>=$F7792,IF(AF$5<=#REF!,$K7792,0),0)","v":{"$error":"#REF!"}},{"$f":"IF(AG$5>=$F7792,IF(AG$5<=#REF!,$K7792,0),0)","v":{"$error":"#REF!"}},{"$f":"IF(AH$5>=$F7792,IF(AH$5<=#REF!,$K7792,0),0)","v":{"$error":"#REF!"}},{"$f":"IF(AI$5>=$F7792,IF(AI$5<=#REF!,$K7792,0),0)","v":{"$error":"#REF!"}},{"$f":"IF(AJ$5>=$F7792,IF(AJ$5<=#REF!,$K7792,0),0)","v":{"$error":"#REF!"}},{"$f":"IF(AK$5>=$F7792,IF(AK$5<=#REF!,$K7792,0),0)","v":{"$error":"#REF!"}},{"$f":"IF(AL$5>=$F7792,IF(AL$5<=#REF!,$K7792,0),0)","v":{"$error":"#REF!"}},{"$f":"IF(AM$5>=$F7792,IF(AM$5<=#REF!,$K7792,0),0)","v":{"$error":"#REF!"}},{"$f":"IF(AN$5>=$F7792,IF(AN$5<=#REF!,$K7792,0),0)","v":{"$error":"#REF!"}},{"$f":"IF(AO$5>=$F7792,IF(AO$5<=#REF!,$K7792,0),0)","v":{"$error":"#REF!"}},{"$f":"IF(AP$5>=$F7792,IF(AP$5<=#REF!,$K7792,0),0)","v":{"$error":"#REF!"}},{"$f":"IF(AQ$5>=$F7792,IF(AQ$5<=#REF!,$K7792,0),0)","v":{"$error":"#REF!"}},{"$f":"IF(AR$5>=$F7792,IF(AR$5<=#REF!,$K7792,0),0)","v":{"$error":"#REF!"}},{"$f":"IF(AS$5>=$F7792,IF(AS$5<=#REF!,$K7792,0),0)","v":{"$error":"#REF!"}},{"$f":"IF(AT$5>=$F7792,IF(AT$5<=#REF!,$K7792,0),0)","v":{"$error":"#REF!"}},{"$f":"IF(AU$5>=$F7792,IF(AU$5<=#REF!,$K7792,0),0)","v":{"$error":"#REF!"}},{"$f":"IF(AV$5>=$F7792,IF(AV$5<=#REF!,$K7792,0),0)","v":{"$error":"#REF!"}},{"$f":"IF(AW$5>=$F7792,IF(AW$5<=#REF!,$K7792,0),0)","v":{"$error":"#REF!"}},{"$f":"IF(AX$5>=$F7792,IF(AX$5<=#REF!,$K7792,0),0)","v":{"$error":"#REF!"}},{"$f":"IF(AY$5>=$F7792,IF(AY$5<=#REF!,$K7792,0),0)","v":{"$error":"#REF!"}},{"$f":"IF(AZ$5>=$F7792,IF(AZ$5<=#REF!,$K7792,0),0)","v":{"$error":"#REF!"}},{"$f":"IF(BA$5>=$F7792,IF(BA$5<=#REF!,$K7792,0),0)","v":{"$error":"#REF!"}},{"$f":"IF(BB$5>=$F7792,IF(BB$5<=#REF!,$K7792,0),0)","v":{"$error":"#REF!"}},{"$f":"IF(BC$5>=$F7792,IF(BC$5<=#REF!,$K7792,0),0)","v":{"$error":"#REF!"}},{"$f":"IF(BD$5>=$F7792,IF(BD$5<=#REF!,$K7792,0),0)","v":{"$error":"#REF!"}},{"$f":"IF(BE$5>=$F7792,IF(BE$5<=#REF!,$K7792,0),0)","v":{"$error":"#REF!"}},{"$f":"IF(BF$5>=$F7792,IF(BF$5<=#REF!,$K7792,0),0)","v":{"$error":"#REF!"}},{"$f":"IF(BG$5>=$F7792,IF(BG$5<=#REF!,$K7792,0),0)","v":{"$error":"#REF!"}},{"$f":"IF(BH$5>=$F7792,IF(BH$5<=#REF!,$K7792,0),0)","v":{"$error":"#REF!"}},{"$f":"IF(BI$5>=$F7792,IF(BI$5<=#REF!,$K7792,0),0)","v":{"$error":"#REF!"}},{"$f":"IF(BJ$5>=$F7792,IF(BJ$5<=#REF!,$K7792,0),0)","v":{"$error":"#REF!"}},{"$f":"IF(BK$5>=$F7792,IF(BK$5<=#REF!,$K7792,0),0)","v":{"$error":"#REF!"}},{"$f":"IF(BL$5>=$F7792,IF(BL$5<=#REF!,$K7792,0),0)","v":{"$error":"#REF!"}},{"$f":"IF(BM$5>=$F7792,IF(BM$5<=#REF!,$K7792,0),0)","v":{"$error":"#REF!"}},{"$f":"IF(BN$5>=$F7792,IF(BN$5<=#REF!,$K7792,0),0)","v":{"$error":"#REF!"}},{"$f":"IF(BO$5>=$F7792,IF(BO$5<=#REF!,$K7792,0),0)","v":{"$error":"#REF!"}},{"$f":"IF(BP$5>=$F7792,IF(BP$5<=#REF!,$K7792,0),0)","v":{"$error":"#REF!"}},{"$f":"IF(BQ$5>=$F7792,IF(BQ$5<=#REF!,$K7792,0),0)","v":{"$error":"#REF!"}},{"$f":"IF(BR$5>=$F7792,IF(BR$5<=#REF!,$K7792,0),0)","v":{"$error":"#REF!"}},{"$f":"IF(BS$5>=$F7792,IF(BS$5<=#REF!,$K7792,0),0)","v":{"$error":"#REF!"}},{"$f":"IF(BT$5>=$F7792,IF(BT$5<=#REF!,$K7792,0),0)","v":{"$error":"#REF!"}},{"$f":"IF(BU$5>=$F7792,IF(BU$5<=#REF!,$K7792,0),0)","v":{"$error":"#REF!"}},{"$f":"IF(BV$5>=$F7792,IF(BV$5<=#REF!,$K7792,0),0)","v":{"$error":"#REF!"}},{"$f":"IF(BW$5>=$F7792,IF(BW$5<=#REF!,$K7792,0),0)","v":{"$error":"#REF!"}},{"$f":"IF(BX$5>=$F7792,IF(BX$5<=#REF!,$K7792,0),0)","v":{"$error":"#REF!"}},{"$f":"IF(BY$5>=$F7792,IF(BY$5<=#REF!,$K7792,0),0)","v":{"$error":"#REF!"}},{"$f":"IF(BZ$5>=$F7792,IF(BZ$5<=#REF!,$K7792,0),0)","v":{"$error":"#REF!"}},{"$f":"IF(CA$5>=$F7792,IF(CA$5<=#REF!,$K7792,0),0)","v":{"$error":"#REF!"}},{"$f":"IF(CB$5>=$F7792,IF(CB$5<=#REF!,$K7792,0),0)","v":{"$error":"#REF!"}},{"$f":"IF(CC$5>=$F7792,IF(CC$5<=#REF!,$K7792,0),0)","v":{"$error":"#REF!"}},{"$f":"IF(CD$5>=$F7792,IF(CD$5<=#REF!,$K7792,0),0)","v":{"$error":"#REF!"}},{"$f":"IF(CE$5>=$F7792,IF(CE$5<=#REF!,$K7792,0),0)","v":{"$error":"#REF!"}},{"$f":"IF(CF$5>=$F7792,IF(CF$5<=#REF!,$K7792,0),0)","v":{"$error":"#REF!"}},{"$f":"IF(CG$5>=$F7792,IF(CG$5<=#REF!,$K7792,0),0)","v":{"$error":"#REF!"}},{"$f":"IF(CH$5>=$F7792,IF(CH$5<=#REF!,$K7792,0),0)","v":{"$error":"#REF!"}},{"$f":"IF(CI$5>=$F7792,IF(CI$5<=#REF!,$K7792,0),0)","v":{"$error":"#REF!"}},{"$f":"IF(CJ$5>=$F7792,IF(CJ$5<=#REF!,$K7792,0),0)","v":{"$error":"#REF!"}},{"$f":"IF(CK$5>=$F7792,IF(CK$5<=#REF!,$K7792,0),0)","v":{"$error":"#REF!"}},{"$f":"IF(CL$5>=$F7792,IF(CL$5<=#REF!,$K7792,0),0)","v":{"$error":"#REF!"}},{"$f":"IF(CM$5>=$F7792,IF(CM$5<=#REF!,$K7792,0),0)","v":{"$error":"#REF!"}},{"$f":"IF(CN$5>=$F7792,IF(CN$5<=#REF!,$K7792,0),0)","v":{"$error":"#REF!"}},{"$f":"IF(CO$5>=$F7792,IF(CO$5<=#REF!,$K7792,0),0)","v":{"$error":"#REF!"}},{"$f":"IF(CP$5>=$F7792,IF(CP$5<=#REF!,$K7792,0),0)","v":{"$error":"#REF!"}},{"$f":"IF(CQ$5>=$F7792,IF(CQ$5<=#REF!,$K7792,0),0)","v":{"$error":"#REF!"}},{"$f":"IF(CR$5>=$F7792,IF(CR$5<=#REF!,$K7792,0),0)","v":{"$error":"#REF!"}},{"$f":"IF(CS$5>=$F7792,IF(CS$5<=#REF!,$K7792,0),0)","v":{"$error":"#REF!"}},{"$f":"IF(CT$5>=$F7792,IF(CT$5<=#REF!,$K7792,0),0)","v":{"$error":"#REF!"}},{"$f":"IF(CU$5>=$F7792,IF(CU$5<=#REF!,$K7792,0),0)","v":{"$error":"#REF!"}},{"$f":"IF(CV$5>=$F7792,IF(CV$5<=#REF!,$K7792,0),0)","v":{"$error":"#REF!"}},{"$f":"IF(CW$5>=$F7792,IF(CW$5<=#REF!,$K7792,0),0)","v":{"$error":"#REF!"}},{"$f":"IF(CX$5>=$F7792,IF(CX$5<=#REF!,$K7792,0),0)","v":{"$error":"#REF!"}},{"$f":"IF(CY$5>=$F7792,IF(CY$5<=#REF!,$K7792,0),0)","v":{"$error":"#REF!"}},{"$f":"IF(CZ$5>=$F7792,IF(CZ$5<=#REF!,$K7792,0),0)","v":{"$error":"#REF!"}},{"$f":"IF(DA$5>=$F7792,IF(DA$5<=#REF!,$K7792,0),0)","v":{"$error":"#REF!"}},{"$f":"IF(DB$5>=$F7792,IF(DB$5<=#REF!,$K7792,0),0)","v":{"$error":"#REF!"}},{"$f":"IF(DC$5>=$F7792,IF(DC$5<=#REF!,$K7792,0),0)","v":{"$error":"#REF!"}},{"$f":"IF(DD$5>=$F7792,IF(DD$5<=#REF!,$K7792,0),0)","v":{"$error":"#REF!"}},{"$f":"IF(DE$5>=$F7792,IF(DE$5<=#REF!,$K7792,0),0)","v":{"$error":"#REF!"}},{"$f":"IF(DF$5>=$F7792,IF(DF$5<=#REF!,$K7792,0),0)","v":{"$error":"#REF!"}},{"$f":"IF(DG$5>=$F7792,IF(DG$5<=#REF!,$K7792,0),0)","v":{"$error":"#REF!"}},{"$f":"IF(DH$5>=$F7792,IF(DH$5<=#REF!,$K7792,0),0)","v":{"$error":"#REF!"}},{"$f":"IF(DI$5>=$F7792,IF(DI$5<=#REF!,$K7792,0),0)","v":{"$error":"#REF!"}},{"$f":"IF(DJ$5>=$F7792,IF(DJ$5<=#REF!,$K7792,0),0)","v":{"$error":"#REF!"}},{"$f":"IF(DK$5>=$F7792,IF(DK$5<=#REF!,$K7792,0),0)","v":{"$error":"#REF!"}},{"$f":"IF(DL$5>=$F7792,IF(DL$5<=#REF!,$K7792,0),0)","v":{"$error":"#REF!"}},{"$f":"IF(DM$5>=$F7792,IF(DM$5<=#REF!,$K7792,0),0)","v":{"$error":"#REF!"}},{"$f":"IF(DN$5>=$F7792,IF(DN$5<=#REF!,$K7792,0),0)","v":{"$error":"#REF!"}},{"$f":"IF(DO$5>=$F7792,IF(DO$5<=#REF!,$K7792,0),0)","v":{"$error":"#REF!"}},{"$f":"IF(DP$5>=$F7792,IF(DP$5<=#REF!,$K7792,0),0)","v":{"$error":"#REF!"}},{"$f":"IF(DQ$5>=$F7792,IF(DQ$5<=#REF!,$K7792,0),0)","v":{"$error":"#REF!"}},{"$f":"IF(DR$5>=$F7792,IF(DR$5<=#REF!,$K7792,0),0)","v":{"$error":"#REF!"}},{"$error":"#REF!"},"",""]
[null,null,null,null,null,null,{"$f":"IF($D7793=\"\",0,VLOOKUP(($DU7793&$C7793&$D7793),単価情報!$B$67:$C$932,2,FALSE))","v":0},0,0,0,{"$f":"IF(E7793=0,0,ROUND(E7793/#REF!,1))","v":0},{"$f":"IF(L$5>=$F7793,IF(L$5<=#REF!,$K7793,0),0)","v":{"$error":"#REF!"}},{"$f":"IF(M$5>=$F7793,IF(M$5<=#REF!,$K7793,0),0)","v":{"$error":"#REF!"}},{"$f":"IF(N$5>=$F7793,IF(N$5<=#REF!,$K7793,0),0)","v":{"$error":"#REF!"}},{"$f":"IF(O$5>=$F7793,IF(O$5<=#REF!,$K7793,0),0)","v":{"$error":"#REF!"}},{"$f":"IF(P$5>=$F7793,IF(P$5<=#REF!,$K7793,0),0)","v":{"$error":"#REF!"}},{"$f":"IF(Q$5>=$F7793,IF(Q$5<=#REF!,$K7793,0),0)","v":{"$error":"#REF!"}},{"$f":"IF(R$5>=$F7793,IF(R$5<=#REF!,$K7793,0),0)","v":{"$error":"#REF!"}},{"$f":"IF(S$5>=$F7793,IF(S$5<=#REF!,$K7793,0),0)","v":{"$error":"#REF!"}},{"$f":"IF(T$5>=$F7793,IF(T$5<=#REF!,$K7793,0),0)","v":{"$error":"#REF!"}},{"$f":"IF(U$5>=$F7793,IF(U$5<=#REF!,$K7793,0),0)","v":{"$error":"#REF!"}},{"$f":"IF(V$5>=$F7793,IF(V$5<=#REF!,$K7793,0),0)","v":{"$error":"#REF!"}},{"$f":"IF(W$5>=$F7793,IF(W$5<=#REF!,$K7793,0),0)","v":{"$error":"#REF!"}},{"$f":"IF(X$5>=$F7793,IF(X$5<=#REF!,$K7793,0),0)","v":{"$error":"#REF!"}},{"$f":"IF(Y$5>=$F7793,IF(Y$5<=#REF!,$K7793,0),0)","v":{"$error":"#REF!"}},{"$f":"IF(Z$5>=$F7793,IF(Z$5<=#REF!,$K7793,0),0)","v":{"$error":"#REF!"}},{"$f":"IF(AA$5>=$F7793,IF(AA$5<=#REF!,$K7793,0),0)","v":{"$error":"#REF!"}},{"$f":"IF(AB$5>=$F7793,IF(AB$5<=#REF!,$K7793,0),0)","v":{"$error":"#REF!"}},{"$f":"IF(AC$5>=$F7793,IF(AC$5<=#REF!,$K7793,0),0)","v":{"$error":"#REF!"}},{"$f":"IF(AD$5>=$F7793,IF(AD$5<=#REF!,$K7793,0),0)","v":{"$error":"#REF!"}},{"$f":"IF(AE$5>=$F7793,IF(AE$5<=#REF!,$K7793,0),0)","v":{"$error":"#REF!"}},{"$f":"IF(AF$5>=$F7793,IF(AF$5<=#REF!,$K7793,0),0)","v":{"$error":"#REF!"}},{"$f":"IF(AG$5>=$F7793,IF(AG$5<=#REF!,$K7793,0),0)","v":{"$error":"#REF!"}},{"$f":"IF(AH$5>=$F7793,IF(AH$5<=#REF!,$K7793,0),0)","v":{"$error":"#REF!"}},{"$f":"IF(AI$5>=$F7793,IF(AI$5<=#REF!,$K7793,0),0)","v":{"$error":"#REF!"}},{"$f":"IF(AJ$5>=$F7793,IF(AJ$5<=#REF!,$K7793,0),0)","v":{"$error":"#REF!"}},{"$f":"IF(AK$5>=$F7793,IF(AK$5<=#REF!,$K7793,0),0)","v":{"$error":"#REF!"}},{"$f":"IF(AL$5>=$F7793,IF(AL$5<=#REF!,$K7793,0),0)","v":{"$error":"#REF!"}},{"$f":"IF(AM$5>=$F7793,IF(AM$5<=#REF!,$K7793,0),0)","v":{"$error":"#REF!"}},{"$f":"IF(AN$5>=$F7793,IF(AN$5<=#REF!,$K7793,0),0)","v":{"$error":"#REF!"}},{"$f":"IF(AO$5>=$F7793,IF(AO$5<=#REF!,$K7793,0),0)","v":{"$error":"#REF!"}},{"$f":"IF(AP$5>=$F7793,IF(AP$5<=#REF!,$K7793,0),0)","v":{"$error":"#REF!"}},{"$f":"IF(AQ$5>=$F7793,IF(AQ$5<=#REF!,$K7793,0),0)","v":{"$error":"#REF!"}},{"$f":"IF(AR$5>=$F7793,IF(AR$5<=#REF!,$K7793,0),0)","v":{"$error":"#REF!"}},{"$f":"IF(AS$5>=$F7793,IF(AS$5<=#REF!,$K7793,0),0)","v":{"$error":"#REF!"}},{"$f":"IF(AT$5>=$F7793,IF(AT$5<=#REF!,$K7793,0),0)","v":{"$error":"#REF!"}},{"$f":"IF(AU$5>=$F7793,IF(AU$5<=#REF!,$K7793,0),0)","v":{"$error":"#REF!"}},{"$f":"IF(AV$5>=$F7793,IF(AV$5<=#REF!,$K7793,0),0)","v":{"$error":"#REF!"}},{"$f":"IF(AW$5>=$F7793,IF(AW$5<=#REF!,$K7793,0),0)","v":{"$error":"#REF!"}},{"$f":"IF(AX$5>=$F7793,IF(AX$5<=#REF!,$K7793,0),0)","v":{"$error":"#REF!"}},{"$f":"IF(AY$5>=$F7793,IF(AY$5<=#REF!,$K7793,0),0)","v":{"$error":"#REF!"}},{"$f":"IF(AZ$5>=$F7793,IF(AZ$5<=#REF!,$K7793,0),0)","v":{"$error":"#REF!"}},{"$f":"IF(BA$5>=$F7793,IF(BA$5<=#REF!,$K7793,0),0)","v":{"$error":"#REF!"}},{"$f":"IF(BB$5>=$F7793,IF(BB$5<=#REF!,$K7793,0),0)","v":{"$error":"#REF!"}},{"$f":"IF(BC$5>=$F7793,IF(BC$5<=#REF!,$K7793,0),0)","v":{"$error":"#REF!"}},{"$f":"IF(BD$5>=$F7793,IF(BD$5<=#REF!,$K7793,0),0)","v":{"$error":"#REF!"}},{"$f":"IF(BE$5>=$F7793,IF(BE$5<=#REF!,$K7793,0),0)","v":{"$error":"#REF!"}},{"$f":"IF(BF$5>=$F7793,IF(BF$5<=#REF!,$K7793,0),0)","v":{"$error":"#REF!"}},{"$f":"IF(BG$5>=$F7793,IF(BG$5<=#REF!,$K7793,0),0)","v":{"$error":"#REF!"}},{"$f":"IF(BH$5>=$F7793,IF(BH$5<=#REF!,$K7793,0),0)","v":{"$error":"#REF!"}},{"$f":"IF(BI$5>=$F7793,IF(BI$5<=#REF!,$K7793,0),0)","v":{"$error":"#REF!"}},{"$f":"IF(BJ$5>=$F7793,IF(BJ$5<=#REF!,$K7793,0),0)","v":{"$error":"#REF!"}},{"$f":"IF(BK$5>=$F7793,IF(BK$5<=#REF!,$K7793,0),0)","v":{"$error":"#REF!"}},{"$f":"IF(BL$5>=$F7793,IF(BL$5<=#REF!,$K7793,0),0)","v":{"$error":"#REF!"}},{"$f":"IF(BM$5>=$F7793,IF(BM$5<=#REF!,$K7793,0),0)","v":{"$error":"#REF!"}},{"$f":"IF(BN$5>=$F7793,IF(BN$5<=#REF!,$K7793,0),0)","v":{"$error":"#REF!"}},{"$f":"IF(BO$5>=$F7793,IF(BO$5<=#REF!,$K7793,0),0)","v":{"$error":"#REF!"}},{"$f":"IF(BP$5>=$F7793,IF(BP$5<=#REF!,$K7793,0),0)","v":{"$error":"#REF!"}},{"$f":"IF(BQ$5>=$F7793,IF(BQ$5<=#REF!,$K7793,0),0)","v":{"$error":"#REF!"}},{"$f":"IF(BR$5>=$F7793,IF(BR$5<=#REF!,$K7793,0),0)","v":{"$error":"#REF!"}},{"$f":"IF(BS$5>=$F7793,IF(BS$5<=#REF!,$K7793,0),0)","v":{"$error":"#REF!"}},{"$f":"IF(BT$5>=$F7793,IF(BT$5<=#REF!,$K7793,0),0)","v":{"$error":"#REF!"}},{"$f":"IF(BU$5>=$F7793,IF(BU$5<=#REF!,$K7793,0),0)","v":{"$error":"#REF!"}},{"$f":"IF(BV$5>=$F7793,IF(BV$5<=#REF!,$K7793,0),0)","v":{"$error":"#REF!"}},{"$f":"IF(BW$5>=$F7793,IF(BW$5<=#REF!,$K7793,0),0)","v":{"$error":"#REF!"}},{"$f":"IF(BX$5>=$F7793,IF(BX$5<=#REF!,$K7793,0),0)","v":{"$error":"#REF!"}},{"$f":"IF(BY$5>=$F7793,IF(BY$5<=#REF!,$K7793,0),0)","v":{"$error":"#REF!"}},{"$f":"IF(BZ$5>=$F7793,IF(BZ$5<=#REF!,$K7793,0),0)","v":{"$error":"#REF!"}},{"$f":"IF(CA$5>=$F7793,IF(CA$5<=#REF!,$K7793,0),0)","v":{"$error":"#REF!"}},{"$f":"IF(CB$5>=$F7793,IF(CB$5<=#REF!,$K7793,0),0)","v":{"$error":"#REF!"}},{"$f":"IF(CC$5>=$F7793,IF(CC$5<=#REF!,$K7793,0),0)","v":{"$error":"#REF!"}},{"$f":"IF(CD$5>=$F7793,IF(CD$5<=#REF!,$K7793,0),0)","v":{"$error":"#REF!"}},{"$f":"IF(CE$5>=$F7793,IF(CE$5<=#REF!,$K7793,0),0)","v":{"$error":"#REF!"}},{"$f":"IF(CF$5>=$F7793,IF(CF$5<=#REF!,$K7793,0),0)","v":{"$error":"#REF!"}},{"$f":"IF(CG$5>=$F7793,IF(CG$5<=#REF!,$K7793,0),0)","v":{"$error":"#REF!"}},{"$f":"IF(CH$5>=$F7793,IF(CH$5<=#REF!,$K7793,0),0)","v":{"$error":"#REF!"}},{"$f":"IF(CI$5>=$F7793,IF(CI$5<=#REF!,$K7793,0),0)","v":{"$error":"#REF!"}},{"$f":"IF(CJ$5>=$F7793,IF(CJ$5<=#REF!,$K7793,0),0)","v":{"$error":"#REF!"}},{"$f":"IF(CK$5>=$F7793,IF(CK$5<=#REF!,$K7793,0),0)","v":{"$error":"#REF!"}},{"$f":"IF(CL$5>=$F7793,IF(CL$5<=#REF!,$K7793,0),0)","v":{"$error":"#REF!"}},{"$f":"IF(CM$5>=$F7793,IF(CM$5<=#REF!,$K7793,0),0)","v":{"$error":"#REF!"}},{"$f":"IF(CN$5>=$F7793,IF(CN$5<=#REF!,$K7793,0),0)","v":{"$error":"#REF!"}},{"$f":"IF(CO$5>=$F7793,IF(CO$5<=#REF!,$K7793,0),0)","v":{"$error":"#REF!"}},{"$f":"IF(CP$5>=$F7793,IF(CP$5<=#REF!,$K7793,0),0)","v":{"$error":"#REF!"}},{"$f":"IF(CQ$5>=$F7793,IF(CQ$5<=#REF!,$K7793,0),0)","v":{"$error":"#REF!"}},{"$f":"IF(CR$5>=$F7793,IF(CR$5<=#REF!,$K7793,0),0)","v":{"$error":"#REF!"}},{"$f":"IF(CS$5>=$F7793,IF(CS$5<=#REF!,$K7793,0),0)","v":{"$error":"#REF!"}},{"$f":"IF(CT$5>=$F7793,IF(CT$5<=#REF!,$K7793,0),0)","v":{"$error":"#REF!"}},{"$f":"IF(CU$5>=$F7793,IF(CU$5<=#REF!,$K7793,0),0)","v":{"$error":"#REF!"}},{"$f":"IF(CV$5>=$F7793,IF(CV$5<=#REF!,$K7793,0),0)","v":{"$error":"#REF!"}},{"$f":"IF(CW$5>=$F7793,IF(CW$5<=#REF!,$K7793,0),0)","v":{"$error":"#REF!"}},{"$f":"IF(CX$5>=$F7793,IF(CX$5<=#REF!,$K7793,0),0)","v":{"$error":"#REF!"}},{"$f":"IF(CY$5>=$F7793,IF(CY$5<=#REF!,$K7793,0),0)","v":{"$error":"#REF!"}},{"$f":"IF(CZ$5>=$F7793,IF(CZ$5<=#REF!,$K7793,0),0)","v":{"$error":"#REF!"}},{"$f":"IF(DA$5>=$F7793,IF(DA$5<=#REF!,$K7793,0),0)","v":{"$error":"#REF!"}},{"$f":"IF(DB$5>=$F7793,IF(DB$5<=#REF!,$K7793,0),0)","v":{"$error":"#REF!"}},{"$f":"IF(DC$5>=$F7793,IF(DC$5<=#REF!,$K7793,0),0)","v":{"$error":"#REF!"}},{"$f":"IF(DD$5>=$F7793,IF(DD$5<=#REF!,$K7793,0),0)","v":{"$error":"#REF!"}},{"$f":"IF(DE$5>=$F7793,IF(DE$5<=#REF!,$K7793,0),0)","v":{"$error":"#REF!"}},{"$f":"IF(DF$5>=$F7793,IF(DF$5<=#REF!,$K7793,0),0)","v":{"$error":"#REF!"}},{"$f":"IF(DG$5>=$F7793,IF(DG$5<=#REF!,$K7793,0),0)","v":{"$error":"#REF!"}},{"$f":"IF(DH$5>=$F7793,IF(DH$5<=#REF!,$K7793,0),0)","v":{"$error":"#REF!"}},{"$f":"IF(DI$5>=$F7793,IF(DI$5<=#REF!,$K7793,0),0)","v":{"$error":"#REF!"}},{"$f":"IF(DJ$5>=$F7793,IF(DJ$5<=#REF!,$K7793,0),0)","v":{"$error":"#REF!"}},{"$f":"IF(DK$5>=$F7793,IF(DK$5<=#REF!,$K7793,0),0)","v":{"$error":"#REF!"}},{"$f":"IF(DL$5>=$F7793,IF(DL$5<=#REF!,$K7793,0),0)","v":{"$error":"#REF!"}},{"$f":"IF(DM$5>=$F7793,IF(DM$5<=#REF!,$K7793,0),0)","v":{"$error":"#REF!"}},{"$f":"IF(DN$5>=$F7793,IF(DN$5<=#REF!,$K7793,0),0)","v":{"$error":"#REF!"}},{"$f":"IF(DO$5>=$F7793,IF(DO$5<=#REF!,$K7793,0),0)","v":{"$error":"#REF!"}},{"$f":"IF(DP$5>=$F7793,IF(DP$5<=#REF!,$K7793,0),0)","v":{"$error":"#REF!"}},{"$f":"IF(DQ$5>=$F7793,IF(DQ$5<=#REF!,$K7793,0),0)","v":{"$error":"#REF!"}},{"$f":"IF(DR$5>=$F7793,IF(DR$5<=#REF!,$K7793,0),0)","v":{"$error":"#REF!"}},{"$error":"#REF!"},"",""]
[null,null,null,null,null,null,{"$f":"IF($D7794=\"\",0,VLOOKUP(($DU7794&$C7794&$D7794),単価情報!$B$67:$C$932,2,FALSE))","v":0},0,0,0,{"$f":"IF(E7794=0,0,ROUND(E7794/#REF!,1))","v":0},{"$f":"IF(L$5>=$F7794,IF(L$5<=#REF!,$K7794,0),0)","v":{"$error":"#REF!"}},{"$f":"IF(M$5>=$F7794,IF(M$5<=#REF!,$K7794,0),0)","v":{"$error":"#REF!"}},{"$f":"IF(N$5>=$F7794,IF(N$5<=#REF!,$K7794,0),0)","v":{"$error":"#REF!"}},{"$f":"IF(O$5>=$F7794,IF(O$5<=#REF!,$K7794,0),0)","v":{"$error":"#REF!"}},{"$f":"IF(P$5>=$F7794,IF(P$5<=#REF!,$K7794,0),0)","v":{"$error":"#REF!"}},{"$f":"IF(Q$5>=$F7794,IF(Q$5<=#REF!,$K7794,0),0)","v":{"$error":"#REF!"}},{"$f":"IF(R$5>=$F7794,IF(R$5<=#REF!,$K7794,0),0)","v":{"$error":"#REF!"}},{"$f":"IF(S$5>=$F7794,IF(S$5<=#REF!,$K7794,0),0)","v":{"$error":"#REF!"}},{"$f":"IF(T$5>=$F7794,IF(T$5<=#REF!,$K7794,0),0)","v":{"$error":"#REF!"}},{"$f":"IF(U$5>=$F7794,IF(U$5<=#REF!,$K7794,0),0)","v":{"$error":"#REF!"}},{"$f":"IF(V$5>=$F7794,IF(V$5<=#REF!,$K7794,0),0)","v":{"$error":"#REF!"}},{"$f":"IF(W$5>=$F7794,IF(W$5<=#REF!,$K7794,0),0)","v":{"$error":"#REF!"}},{"$f":"IF(X$5>=$F7794,IF(X$5<=#REF!,$K7794,0),0)","v":{"$error":"#REF!"}},{"$f":"IF(Y$5>=$F7794,IF(Y$5<=#REF!,$K7794,0),0)","v":{"$error":"#REF!"}},{"$f":"IF(Z$5>=$F7794,IF(Z$5<=#REF!,$K7794,0),0)","v":{"$error":"#REF!"}},{"$f":"IF(AA$5>=$F7794,IF(AA$5<=#REF!,$K7794,0),0)","v":{"$error":"#REF!"}},{"$f":"IF(AB$5>=$F7794,IF(AB$5<=#REF!,$K7794,0),0)","v":{"$error":"#REF!"}},{"$f":"IF(AC$5>=$F7794,IF(AC$5<=#REF!,$K7794,0),0)","v":{"$error":"#REF!"}},{"$f":"IF(AD$5>=$F7794,IF(AD$5<=#REF!,$K7794,0),0)","v":{"$error":"#REF!"}},{"$f":"IF(AE$5>=$F7794,IF(AE$5<=#REF!,$K7794,0),0)","v":{"$error":"#REF!"}},{"$f":"IF(AF$5>=$F7794,IF(AF$5<=#REF!,$K7794,0),0)","v":{"$error":"#REF!"}},{"$f":"IF(AG$5>=$F7794,IF(AG$5<=#REF!,$K7794,0),0)","v":{"$error":"#REF!"}},{"$f":"IF(AH$5>=$F7794,IF(AH$5<=#REF!,$K7794,0),0)","v":{"$error":"#REF!"}},{"$f":"IF(AI$5>=$F7794,IF(AI$5<=#REF!,$K7794,0),0)","v":{"$error":"#REF!"}},{"$f":"IF(AJ$5>=$F7794,IF(AJ$5<=#REF!,$K7794,0),0)","v":{"$error":"#REF!"}},{"$f":"IF(AK$5>=$F7794,IF(AK$5<=#REF!,$K7794,0),0)","v":{"$error":"#REF!"}},{"$f":"IF(AL$5>=$F7794,IF(AL$5<=#REF!,$K7794,0),0)","v":{"$error":"#REF!"}},{"$f":"IF(AM$5>=$F7794,IF(AM$5<=#REF!,$K7794,0),0)","v":{"$error":"#REF!"}},{"$f":"IF(AN$5>=$F7794,IF(AN$5<=#REF!,$K7794,0),0)","v":{"$error":"#REF!"}},{"$f":"IF(AO$5>=$F7794,IF(AO$5<=#REF!,$K7794,0),0)","v":{"$error":"#REF!"}},{"$f":"IF(AP$5>=$F7794,IF(AP$5<=#REF!,$K7794,0),0)","v":{"$error":"#REF!"}},{"$f":"IF(AQ$5>=$F7794,IF(AQ$5<=#REF!,$K7794,0),0)","v":{"$error":"#REF!"}},{"$f":"IF(AR$5>=$F7794,IF(AR$5<=#REF!,$K7794,0),0)","v":{"$error":"#REF!"}},{"$f":"IF(AS$5>=$F7794,IF(AS$5<=#REF!,$K7794,0),0)","v":{"$error":"#REF!"}},{"$f":"IF(AT$5>=$F7794,IF(AT$5<=#REF!,$K7794,0),0)","v":{"$error":"#REF!"}},{"$f":"IF(AU$5>=$F7794,IF(AU$5<=#REF!,$K7794,0),0)","v":{"$error":"#REF!"}},{"$f":"IF(AV$5>=$F7794,IF(AV$5<=#REF!,$K7794,0),0)","v":{"$error":"#REF!"}},{"$f":"IF(AW$5>=$F7794,IF(AW$5<=#REF!,$K7794,0),0)","v":{"$error":"#REF!"}},{"$f":"IF(AX$5>=$F7794,IF(AX$5<=#REF!,$K7794,0),0)","v":{"$error":"#REF!"}},{"$f":"IF(AY$5>=$F7794,IF(AY$5<=#REF!,$K7794,0),0)","v":{"$error":"#REF!"}},{"$f":"IF(AZ$5>=$F7794,IF(AZ$5<=#REF!,$K7794,0),0)","v":{"$error":"#REF!"}},{"$f":"IF(BA$5>=$F7794,IF(BA$5<=#REF!,$K7794,0),0)","v":{"$error":"#REF!"}},{"$f":"IF(BB$5>=$F7794,IF(BB$5<=#REF!,$K7794,0),0)","v":{"$error":"#REF!"}},{"$f":"IF(BC$5>=$F7794,IF(BC$5<=#REF!,$K7794,0),0)","v":{"$error":"#REF!"}},{"$f":"IF(BD$5>=$F7794,IF(BD$5<=#REF!,$K7794,0),0)","v":{"$error":"#REF!"}},{"$f":"IF(BE$5>=$F7794,IF(BE$5<=#REF!,$K7794,0),0)","v":{"$error":"#REF!"}},{"$f":"IF(BF$5>=$F7794,IF(BF$5<=#REF!,$K7794,0),0)","v":{"$error":"#REF!"}},{"$f":"IF(BG$5>=$F7794,IF(BG$5<=#REF!,$K7794,0),0)","v":{"$error":"#REF!"}},{"$f":"IF(BH$5>=$F7794,IF(BH$5<=#REF!,$K7794,0),0)","v":{"$error":"#REF!"}},{"$f":"IF(BI$5>=$F7794,IF(BI$5<=#REF!,$K7794,0),0)","v":{"$error":"#REF!"}},{"$f":"IF(BJ$5>=$F7794,IF(BJ$5<=#REF!,$K7794,0),0)","v":{"$error":"#REF!"}},{"$f":"IF(BK$5>=$F7794,IF(BK$5<=#REF!,$K7794,0),0)","v":{"$error":"#REF!"}},{"$f":"IF(BL$5>=$F7794,IF(BL$5<=#REF!,$K7794,0),0)","v":{"$error":"#REF!"}},{"$f":"IF(BM$5>=$F7794,IF(BM$5<=#REF!,$K7794,0),0)","v":{"$error":"#REF!"}},{"$f":"IF(BN$5>=$F7794,IF(BN$5<=#REF!,$K7794,0),0)","v":{"$error":"#REF!"}},{"$f":"IF(BO$5>=$F7794,IF(BO$5<=#REF!,$K7794,0),0)","v":{"$error":"#REF!"}},{"$f":"IF(BP$5>=$F7794,IF(BP$5<=#REF!,$K7794,0),0)","v":{"$error":"#REF!"}},{"$f":"IF(BQ$5>=$F7794,IF(BQ$5<=#REF!,$K7794,0),0)","v":{"$error":"#REF!"}},{"$f":"IF(BR$5>=$F7794,IF(BR$5<=#REF!,$K7794,0),0)","v":{"$error":"#REF!"}},{"$f":"IF(BS$5>=$F7794,IF(BS$5<=#REF!,$K7794,0),0)","v":{"$error":"#REF!"}},{"$f":"IF(BT$5>=$F7794,IF(BT$5<=#REF!,$K7794,0),0)","v":{"$error":"#REF!"}},{"$f":"IF(BU$5>=$F7794,IF(BU$5<=#REF!,$K7794,0),0)","v":{"$error":"#REF!"}},{"$f":"IF(BV$5>=$F7794,IF(BV$5<=#REF!,$K7794,0),0)","v":{"$error":"#REF!"}},{"$f":"IF(BW$5>=$F7794,IF(BW$5<=#REF!,$K7794,0),0)","v":{"$error":"#REF!"}},{"$f":"IF(BX$5>=$F7794,IF(BX$5<=#REF!,$K7794,0),0)","v":{"$error":"#REF!"}},{"$f":"IF(BY$5>=$F7794,IF(BY$5<=#REF!,$K7794,0),0)","v":{"$error":"#REF!"}},{"$f":"IF(BZ$5>=$F7794,IF(BZ$5<=#REF!,$K7794,0),0)","v":{"$error":"#REF!"}},{"$f":"IF(CA$5>=$F7794,IF(CA$5<=#REF!,$K7794,0),0)","v":{"$error":"#REF!"}},{"$f":"IF(CB$5>=$F7794,IF(CB$5<=#REF!,$K7794,0),0)","v":{"$error":"#REF!"}},{"$f":"IF(CC$5>=$F7794,IF(CC$5<=#REF!,$K7794,0),0)","v":{"$error":"#REF!"}},{"$f":"IF(CD$5>=$F7794,IF(CD$5<=#REF!,$K7794,0),0)","v":{"$error":"#REF!"}},{"$f":"IF(CE$5>=$F7794,IF(CE$5<=#REF!,$K7794,0),0)","v":{"$error":"#REF!"}},{"$f":"IF(CF$5>=$F7794,IF(CF$5<=#REF!,$K7794,0),0)","v":{"$error":"#REF!"}},{"$f":"IF(CG$5>=$F7794,IF(CG$5<=#REF!,$K7794,0),0)","v":{"$error":"#REF!"}},{"$f":"IF(CH$5>=$F7794,IF(CH$5<=#REF!,$K7794,0),0)","v":{"$error":"#REF!"}},{"$f":"IF(CI$5>=$F7794,IF(CI$5<=#REF!,$K7794,0),0)","v":{"$error":"#REF!"}},{"$f":"IF(CJ$5>=$F7794,IF(CJ$5<=#REF!,$K7794,0),0)","v":{"$error":"#REF!"}},{"$f":"IF(CK$5>=$F7794,IF(CK$5<=#REF!,$K7794,0),0)","v":{"$error":"#REF!"}},{"$f":"IF(CL$5>=$F7794,IF(CL$5<=#REF!,$K7794,0),0)","v":{"$error":"#REF!"}},{"$f":"IF(CM$5>=$F7794,IF(CM$5<=#REF!,$K7794,0),0)","v":{"$error":"#REF!"}},{"$f":"IF(CN$5>=$F7794,IF(CN$5<=#REF!,$K7794,0),0)","v":{"$error":"#REF!"}},{"$f":"IF(CO$5>=$F7794,IF(CO$5<=#REF!,$K7794,0),0)","v":{"$error":"#REF!"}},{"$f":"IF(CP$5>=$F7794,IF(CP$5<=#REF!,$K7794,0),0)","v":{"$error":"#REF!"}},{"$f":"IF(CQ$5>=$F7794,IF(CQ$5<=#REF!,$K7794,0),0)","v":{"$error":"#REF!"}},{"$f":"IF(CR$5>=$F7794,IF(CR$5<=#REF!,$K7794,0),0)","v":{"$error":"#REF!"}},{"$f":"IF(CS$5>=$F7794,IF(CS$5<=#REF!,$K7794,0),0)","v":{"$error":"#REF!"}},{"$f":"IF(CT$5>=$F7794,IF(CT$5<=#REF!,$K7794,0),0)","v":{"$error":"#REF!"}},{"$f":"IF(CU$5>=$F7794,IF(CU$5<=#REF!,$K7794,0),0)","v":{"$error":"#REF!"}},{"$f":"IF(CV$5>=$F7794,IF(CV$5<=#REF!,$K7794,0),0)","v":{"$error":"#REF!"}},{"$f":"IF(CW$5>=$F7794,IF(CW$5<=#REF!,$K7794,0),0)","v":{"$error":"#REF!"}},{"$f":"IF(CX$5>=$F7794,IF(CX$5<=#REF!,$K7794,0),0)","v":{"$error":"#REF!"}},{"$f":"IF(CY$5>=$F7794,IF(CY$5<=#REF!,$K7794,0),0)","v":{"$error":"#REF!"}},{"$f":"IF(CZ$5>=$F7794,IF(CZ$5<=#REF!,$K7794,0),0)","v":{"$error":"#REF!"}},{"$f":"IF(DA$5>=$F7794,IF(DA$5<=#REF!,$K7794,0),0)","v":{"$error":"#REF!"}},{"$f":"IF(DB$5>=$F7794,IF(DB$5<=#REF!,$K7794,0),0)","v":{"$error":"#REF!"}},{"$f":"IF(DC$5>=$F7794,IF(DC$5<=#REF!,$K7794,0),0)","v":{"$error":"#REF!"}},{"$f":"IF(DD$5>=$F7794,IF(DD$5<=#REF!,$K7794,0),0)","v":{"$error":"#REF!"}},{"$f":"IF(DE$5>=$F7794,IF(DE$5<=#REF!,$K7794,0),0)","v":{"$error":"#REF!"}},{"$f":"IF(DF$5>=$F7794,IF(DF$5<=#REF!,$K7794,0),0)","v":{"$error":"#REF!"}},{"$f":"IF(DG$5>=$F7794,IF(DG$5<=#REF!,$K7794,0),0)","v":{"$error":"#REF!"}},{"$f":"IF(DH$5>=$F7794,IF(DH$5<=#REF!,$K7794,0),0)","v":{"$error":"#REF!"}},{"$f":"IF(DI$5>=$F7794,IF(DI$5<=#REF!,$K7794,0),0)","v":{"$error":"#REF!"}},{"$f":"IF(DJ$5>=$F7794,IF(DJ$5<=#REF!,$K7794,0),0)","v":{"$error":"#REF!"}},{"$f":"IF(DK$5>=$F7794,IF(DK$5<=#REF!,$K7794,0),0)","v":{"$error":"#REF!"}},{"$f":"IF(DL$5>=$F7794,IF(DL$5<=#REF!,$K7794,0),0)","v":{"$error":"#REF!"}},{"$f":"IF(DM$5>=$F7794,IF(DM$5<=#REF!,$K7794,0),0)","v":{"$error":"#REF!"}},{"$f":"IF(DN$5>=$F7794,IF(DN$5<=#REF!,$K7794,0),0)","v":{"$error":"#REF!"}},{"$f":"IF(DO$5>=$F7794,IF(DO$5<=#REF!,$K7794,0),0)","v":{"$error":"#REF!"}},{"$f":"IF(DP$5>=$F7794,IF(DP$5<=#REF!,$K7794,0),0)","v":{"$error":"#REF!"}},{"$f":"IF(DQ$5>=$F7794,IF(DQ$5<=#REF!,$K7794,0),0)","v":{"$error":"#REF!"}},{"$f":"IF(DR$5>=$F7794,IF(DR$5<=#REF!,$K7794,0),0)","v":{"$error":"#REF!"}},{"$error":"#REF!"},"",""]
[null,null,null,null,null,null,{"$f":"IF($D7795=\"\",0,VLOOKUP(($DU7795&$C7795&$D7795),単価情報!$B$67:$C$932,2,FALSE))","v":0},0,0,0,{"$f":"IF(E7795=0,0,ROUND(E7795/#REF!,1))","v":0},{"$f":"IF(L$5>=$F7795,IF(L$5<=#REF!,$K7795,0),0)","v":{"$error":"#REF!"}},{"$f":"IF(M$5>=$F7795,IF(M$5<=#REF!,$K7795,0),0)","v":{"$error":"#REF!"}},{"$f":"IF(N$5>=$F7795,IF(N$5<=#REF!,$K7795,0),0)","v":{"$error":"#REF!"}},{"$f":"IF(O$5>=$F7795,IF(O$5<=#REF!,$K7795,0),0)","v":{"$error":"#REF!"}},{"$f":"IF(P$5>=$F7795,IF(P$5<=#REF!,$K7795,0),0)","v":{"$error":"#REF!"}},{"$f":"IF(Q$5>=$F7795,IF(Q$5<=#REF!,$K7795,0),0)","v":{"$error":"#REF!"}},{"$f":"IF(R$5>=$F7795,IF(R$5<=#REF!,$K7795,0),0)","v":{"$error":"#REF!"}},{"$f":"IF(S$5>=$F7795,IF(S$5<=#REF!,$K7795,0),0)","v":{"$error":"#REF!"}},{"$f":"IF(T$5>=$F7795,IF(T$5<=#REF!,$K7795,0),0)","v":{"$error":"#REF!"}},{"$f":"IF(U$5>=$F7795,IF(U$5<=#REF!,$K7795,0),0)","v":{"$error":"#REF!"}},{"$f":"IF(V$5>=$F7795,IF(V$5<=#REF!,$K7795,0),0)","v":{"$error":"#REF!"}},{"$f":"IF(W$5>=$F7795,IF(W$5<=#REF!,$K7795,0),0)","v":{"$error":"#REF!"}},{"$f":"IF(X$5>=$F7795,IF(X$5<=#REF!,$K7795,0),0)","v":{"$error":"#REF!"}},{"$f":"IF(Y$5>=$F7795,IF(Y$5<=#REF!,$K7795,0),0)","v":{"$error":"#REF!"}},{"$f":"IF(Z$5>=$F7795,IF(Z$5<=#REF!,$K7795,0),0)","v":{"$error":"#REF!"}},{"$f":"IF(AA$5>=$F7795,IF(AA$5<=#REF!,$K7795,0),0)","v":{"$error":"#REF!"}},{"$f":"IF(AB$5>=$F7795,IF(AB$5<=#REF!,$K7795,0),0)","v":{"$error":"#REF!"}},{"$f":"IF(AC$5>=$F7795,IF(AC$5<=#REF!,$K7795,0),0)","v":{"$error":"#REF!"}},{"$f":"IF(AD$5>=$F7795,IF(AD$5<=#REF!,$K7795,0),0)","v":{"$error":"#REF!"}},{"$f":"IF(AE$5>=$F7795,IF(AE$5<=#REF!,$K7795,0),0)","v":{"$error":"#REF!"}},{"$f":"IF(AF$5>=$F7795,IF(AF$5<=#REF!,$K7795,0),0)","v":{"$error":"#REF!"}},{"$f":"IF(AG$5>=$F7795,IF(AG$5<=#REF!,$K7795,0),0)","v":{"$error":"#REF!"}},{"$f":"IF(AH$5>=$F7795,IF(AH$5<=#REF!,$K7795,0),0)","v":{"$error":"#REF!"}},{"$f":"IF(AI$5>=$F7795,IF(AI$5<=#REF!,$K7795,0),0)","v":{"$error":"#REF!"}},{"$f":"IF(AJ$5>=$F7795,IF(AJ$5<=#REF!,$K7795,0),0)","v":{"$error":"#REF!"}},{"$f":"IF(AK$5>=$F7795,IF(AK$5<=#REF!,$K7795,0),0)","v":{"$error":"#REF!"}},{"$f":"IF(AL$5>=$F7795,IF(AL$5<=#REF!,$K7795,0),0)","v":{"$error":"#REF!"}},{"$f":"IF(AM$5>=$F7795,IF(AM$5<=#REF!,$K7795,0),0)","v":{"$error":"#REF!"}},{"$f":"IF(AN$5>=$F7795,IF(AN$5<=#REF!,$K7795,0),0)","v":{"$error":"#REF!"}},{"$f":"IF(AO$5>=$F7795,IF(AO$5<=#REF!,$K7795,0),0)","v":{"$error":"#REF!"}},{"$f":"IF(AP$5>=$F7795,IF(AP$5<=#REF!,$K7795,0),0)","v":{"$error":"#REF!"}},{"$f":"IF(AQ$5>=$F7795,IF(AQ$5<=#REF!,$K7795,0),0)","v":{"$error":"#REF!"}},{"$f":"IF(AR$5>=$F7795,IF(AR$5<=#REF!,$K7795,0),0)","v":{"$error":"#REF!"}},{"$f":"IF(AS$5>=$F7795,IF(AS$5<=#REF!,$K7795,0),0)","v":{"$error":"#REF!"}},{"$f":"IF(AT$5>=$F7795,IF(AT$5<=#REF!,$K7795,0),0)","v":{"$error":"#REF!"}},{"$f":"IF(AU$5>=$F7795,IF(AU$5<=#REF!,$K7795,0),0)","v":{"$error":"#REF!"}},{"$f":"IF(AV$5>=$F7795,IF(AV$5<=#REF!,$K7795,0),0)","v":{"$error":"#REF!"}},{"$f":"IF(AW$5>=$F7795,IF(AW$5<=#REF!,$K7795,0),0)","v":{"$error":"#REF!"}},{"$f":"IF(AX$5>=$F7795,IF(AX$5<=#REF!,$K7795,0),0)","v":{"$error":"#REF!"}},{"$f":"IF(AY$5>=$F7795,IF(AY$5<=#REF!,$K7795,0),0)","v":{"$error":"#REF!"}},{"$f":"IF(AZ$5>=$F7795,IF(AZ$5<=#REF!,$K7795,0),0)","v":{"$error":"#REF!"}},{"$f":"IF(BA$5>=$F7795,IF(BA$5<=#REF!,$K7795,0),0)","v":{"$error":"#REF!"}},{"$f":"IF(BB$5>=$F7795,IF(BB$5<=#REF!,$K7795,0),0)","v":{"$error":"#REF!"}},{"$f":"IF(BC$5>=$F7795,IF(BC$5<=#REF!,$K7795,0),0)","v":{"$error":"#REF!"}},{"$f":"IF(BD$5>=$F7795,IF(BD$5<=#REF!,$K7795,0),0)","v":{"$error":"#REF!"}},{"$f":"IF(BE$5>=$F7795,IF(BE$5<=#REF!,$K7795,0),0)","v":{"$error":"#REF!"}},{"$f":"IF(BF$5>=$F7795,IF(BF$5<=#REF!,$K7795,0),0)","v":{"$error":"#REF!"}},{"$f":"IF(BG$5>=$F7795,IF(BG$5<=#REF!,$K7795,0),0)","v":{"$error":"#REF!"}},{"$f":"IF(BH$5>=$F7795,IF(BH$5<=#REF!,$K7795,0),0)","v":{"$error":"#REF!"}},{"$f":"IF(BI$5>=$F7795,IF(BI$5<=#REF!,$K7795,0),0)","v":{"$error":"#REF!"}},{"$f":"IF(BJ$5>=$F7795,IF(BJ$5<=#REF!,$K7795,0),0)","v":{"$error":"#REF!"}},{"$f":"IF(BK$5>=$F7795,IF(BK$5<=#REF!,$K7795,0),0)","v":{"$error":"#REF!"}},{"$f":"IF(BL$5>=$F7795,IF(BL$5<=#REF!,$K7795,0),0)","v":{"$error":"#REF!"}},{"$f":"IF(BM$5>=$F7795,IF(BM$5<=#REF!,$K7795,0),0)","v":{"$error":"#REF!"}},{"$f":"IF(BN$5>=$F7795,IF(BN$5<=#REF!,$K7795,0),0)","v":{"$error":"#REF!"}},{"$f":"IF(BO$5>=$F7795,IF(BO$5<=#REF!,$K7795,0),0)","v":{"$error":"#REF!"}},{"$f":"IF(BP$5>=$F7795,IF(BP$5<=#REF!,$K7795,0),0)","v":{"$error":"#REF!"}},{"$f":"IF(BQ$5>=$F7795,IF(BQ$5<=#REF!,$K7795,0),0)","v":{"$error":"#REF!"}},{"$f":"IF(BR$5>=$F7795,IF(BR$5<=#REF!,$K7795,0),0)","v":{"$error":"#REF!"}},{"$f":"IF(BS$5>=$F7795,IF(BS$5<=#REF!,$K7795,0),0)","v":{"$error":"#REF!"}},{"$f":"IF(BT$5>=$F7795,IF(BT$5<=#REF!,$K7795,0),0)","v":{"$error":"#REF!"}},{"$f":"IF(BU$5>=$F7795,IF(BU$5<=#REF!,$K7795,0),0)","v":{"$error":"#REF!"}},{"$f":"IF(BV$5>=$F7795,IF(BV$5<=#REF!,$K7795,0),0)","v":{"$error":"#REF!"}},{"$f":"IF(BW$5>=$F7795,IF(BW$5<=#REF!,$K7795,0),0)","v":{"$error":"#REF!"}},{"$f":"IF(BX$5>=$F7795,IF(BX$5<=#REF!,$K7795,0),0)","v":{"$error":"#REF!"}},{"$f":"IF(BY$5>=$F7795,IF(BY$5<=#REF!,$K7795,0),0)","v":{"$error":"#REF!"}},{"$f":"IF(BZ$5>=$F7795,IF(BZ$5<=#REF!,$K7795,0),0)","v":{"$error":"#REF!"}},{"$f":"IF(CA$5>=$F7795,IF(CA$5<=#REF!,$K7795,0),0)","v":{"$error":"#REF!"}},{"$f":"IF(CB$5>=$F7795,IF(CB$5<=#REF!,$K7795,0),0)","v":{"$error":"#REF!"}},{"$f":"IF(CC$5>=$F7795,IF(CC$5<=#REF!,$K7795,0),0)","v":{"$error":"#REF!"}},{"$f":"IF(CD$5>=$F7795,IF(CD$5<=#REF!,$K7795,0),0)","v":{"$error":"#REF!"}},{"$f":"IF(CE$5>=$F7795,IF(CE$5<=#REF!,$K7795,0),0)","v":{"$error":"#REF!"}},{"$f":"IF(CF$5>=$F7795,IF(CF$5<=#REF!,$K7795,0),0)","v":{"$error":"#REF!"}},{"$f":"IF(CG$5>=$F7795,IF(CG$5<=#REF!,$K7795,0),0)","v":{"$error":"#REF!"}},{"$f":"IF(CH$5>=$F7795,IF(CH$5<=#REF!,$K7795,0),0)","v":{"$error":"#REF!"}},{"$f":"IF(CI$5>=$F7795,IF(CI$5<=#REF!,$K7795,0),0)","v":{"$error":"#REF!"}},{"$f":"IF(CJ$5>=$F7795,IF(CJ$5<=#REF!,$K7795,0),0)","v":{"$error":"#REF!"}},{"$f":"IF(CK$5>=$F7795,IF(CK$5<=#REF!,$K7795,0),0)","v":{"$error":"#REF!"}},{"$f":"IF(CL$5>=$F7795,IF(CL$5<=#REF!,$K7795,0),0)","v":{"$error":"#REF!"}},{"$f":"IF(CM$5>=$F7795,IF(CM$5<=#REF!,$K7795,0),0)","v":{"$error":"#REF!"}},{"$f":"IF(CN$5>=$F7795,IF(CN$5<=#REF!,$K7795,0),0)","v":{"$error":"#REF!"}},{"$f":"IF(CO$5>=$F7795,IF(CO$5<=#REF!,$K7795,0),0)","v":{"$error":"#REF!"}},{"$f":"IF(CP$5>=$F7795,IF(CP$5<=#REF!,$K7795,0),0)","v":{"$error":"#REF!"}},{"$f":"IF(CQ$5>=$F7795,IF(CQ$5<=#REF!,$K7795,0),0)","v":{"$error":"#REF!"}},{"$f":"IF(CR$5>=$F7795,IF(CR$5<=#REF!,$K7795,0),0)","v":{"$error":"#REF!"}},{"$f":"IF(CS$5>=$F7795,IF(CS$5<=#REF!,$K7795,0),0)","v":{"$error":"#REF!"}},{"$f":"IF(CT$5>=$F7795,IF(CT$5<=#REF!,$K7795,0),0)","v":{"$error":"#REF!"}},{"$f":"IF(CU$5>=$F7795,IF(CU$5<=#REF!,$K7795,0),0)","v":{"$error":"#REF!"}},{"$f":"IF(CV$5>=$F7795,IF(CV$5<=#REF!,$K7795,0),0)","v":{"$error":"#REF!"}},{"$f":"IF(CW$5>=$F7795,IF(CW$5<=#REF!,$K7795,0),0)","v":{"$error":"#REF!"}},{"$f":"IF(CX$5>=$F7795,IF(CX$5<=#REF!,$K7795,0),0)","v":{"$error":"#REF!"}},{"$f":"IF(CY$5>=$F7795,IF(CY$5<=#REF!,$K7795,0),0)","v":{"$error":"#REF!"}},{"$f":"IF(CZ$5>=$F7795,IF(CZ$5<=#REF!,$K7795,0),0)","v":{"$error":"#REF!"}},{"$f":"IF(DA$5>=$F7795,IF(DA$5<=#REF!,$K7795,0),0)","v":{"$error":"#REF!"}},{"$f":"IF(DB$5>=$F7795,IF(DB$5<=#REF!,$K7795,0),0)","v":{"$error":"#REF!"}},{"$f":"IF(DC$5>=$F7795,IF(DC$5<=#REF!,$K7795,0),0)","v":{"$error":"#REF!"}},{"$f":"IF(DD$5>=$F7795,IF(DD$5<=#REF!,$K7795,0),0)","v":{"$error":"#REF!"}},{"$f":"IF(DE$5>=$F7795,IF(DE$5<=#REF!,$K7795,0),0)","v":{"$error":"#REF!"}},{"$f":"IF(DF$5>=$F7795,IF(DF$5<=#REF!,$K7795,0),0)","v":{"$error":"#REF!"}},{"$f":"IF(DG$5>=$F7795,IF(DG$5<=#REF!,$K7795,0),0)","v":{"$error":"#REF!"}},{"$f":"IF(DH$5>=$F7795,IF(DH$5<=#REF!,$K7795,0),0)","v":{"$error":"#REF!"}},{"$f":"IF(DI$5>=$F7795,IF(DI$5<=#REF!,$K7795,0),0)","v":{"$error":"#REF!"}},{"$f":"IF(DJ$5>=$F7795,IF(DJ$5<=#REF!,$K7795,0),0)","v":{"$error":"#REF!"}},{"$f":"IF(DK$5>=$F7795,IF(DK$5<=#REF!,$K7795,0),0)","v":{"$error":"#REF!"}},{"$f":"IF(DL$5>=$F7795,IF(DL$5<=#REF!,$K7795,0),0)","v":{"$error":"#REF!"}},{"$f":"IF(DM$5>=$F7795,IF(DM$5<=#REF!,$K7795,0),0)","v":{"$error":"#REF!"}},{"$f":"IF(DN$5>=$F7795,IF(DN$5<=#REF!,$K7795,0),0)","v":{"$error":"#REF!"}},{"$f":"IF(DO$5>=$F7795,IF(DO$5<=#REF!,$K7795,0),0)","v":{"$error":"#REF!"}},{"$f":"IF(DP$5>=$F7795,IF(DP$5<=#REF!,$K7795,0),0)","v":{"$error":"#REF!"}},{"$f":"IF(DQ$5>=$F7795,IF(DQ$5<=#REF!,$K7795,0),0)","v":{"$error":"#REF!"}},{"$f":"IF(DR$5>=$F7795,IF(DR$5<=#REF!,$K7795,0),0)","v":{"$error":"#REF!"}},{"$error":"#REF!"},"",""]
[null,null,null,null,null,null,{"$f":"IF($D7796=\"\",0,VLOOKUP(($DU7796&$C7796&$D7796),単価情報!$B$67:$C$932,2,FALSE))","v":0},0,0,0,{"$f":"IF(E7796=0,0,ROUND(E7796/#REF!,1))","v":0},{"$f":"IF(L$5>=$F7796,IF(L$5<=#REF!,$K7796,0),0)","v":{"$error":"#REF!"}},{"$f":"IF(M$5>=$F7796,IF(M$5<=#REF!,$K7796,0),0)","v":{"$error":"#REF!"}},{"$f":"IF(N$5>=$F7796,IF(N$5<=#REF!,$K7796,0),0)","v":{"$error":"#REF!"}},{"$f":"IF(O$5>=$F7796,IF(O$5<=#REF!,$K7796,0),0)","v":{"$error":"#REF!"}},{"$f":"IF(P$5>=$F7796,IF(P$5<=#REF!,$K7796,0),0)","v":{"$error":"#REF!"}},{"$f":"IF(Q$5>=$F7796,IF(Q$5<=#REF!,$K7796,0),0)","v":{"$error":"#REF!"}},{"$f":"IF(R$5>=$F7796,IF(R$5<=#REF!,$K7796,0),0)","v":{"$error":"#REF!"}},{"$f":"IF(S$5>=$F7796,IF(S$5<=#REF!,$K7796,0),0)","v":{"$error":"#REF!"}},{"$f":"IF(T$5>=$F7796,IF(T$5<=#REF!,$K7796,0),0)","v":{"$error":"#REF!"}},{"$f":"IF(U$5>=$F7796,IF(U$5<=#REF!,$K7796,0),0)","v":{"$error":"#REF!"}},{"$f":"IF(V$5>=$F7796,IF(V$5<=#REF!,$K7796,0),0)","v":{"$error":"#REF!"}},{"$f":"IF(W$5>=$F7796,IF(W$5<=#REF!,$K7796,0),0)","v":{"$error":"#REF!"}},{"$f":"IF(X$5>=$F7796,IF(X$5<=#REF!,$K7796,0),0)","v":{"$error":"#REF!"}},{"$f":"IF(Y$5>=$F7796,IF(Y$5<=#REF!,$K7796,0),0)","v":{"$error":"#REF!"}},{"$f":"IF(Z$5>=$F7796,IF(Z$5<=#REF!,$K7796,0),0)","v":{"$error":"#REF!"}},{"$f":"IF(AA$5>=$F7796,IF(AA$5<=#REF!,$K7796,0),0)","v":{"$error":"#REF!"}},{"$f":"IF(AB$5>=$F7796,IF(AB$5<=#REF!,$K7796,0),0)","v":{"$error":"#REF!"}},{"$f":"IF(AC$5>=$F7796,IF(AC$5<=#REF!,$K7796,0),0)","v":{"$error":"#REF!"}},{"$f":"IF(AD$5>=$F7796,IF(AD$5<=#REF!,$K7796,0),0)","v":{"$error":"#REF!"}},{"$f":"IF(AE$5>=$F7796,IF(AE$5<=#REF!,$K7796,0),0)","v":{"$error":"#REF!"}},{"$f":"IF(AF$5>=$F7796,IF(AF$5<=#REF!,$K7796,0),0)","v":{"$error":"#REF!"}},{"$f":"IF(AG$5>=$F7796,IF(AG$5<=#REF!,$K7796,0),0)","v":{"$error":"#REF!"}},{"$f":"IF(AH$5>=$F7796,IF(AH$5<=#REF!,$K7796,0),0)","v":{"$error":"#REF!"}},{"$f":"IF(AI$5>=$F7796,IF(AI$5<=#REF!,$K7796,0),0)","v":{"$error":"#REF!"}},{"$f":"IF(AJ$5>=$F7796,IF(AJ$5<=#REF!,$K7796,0),0)","v":{"$error":"#REF!"}},{"$f":"IF(AK$5>=$F7796,IF(AK$5<=#REF!,$K7796,0),0)","v":{"$error":"#REF!"}},{"$f":"IF(AL$5>=$F7796,IF(AL$5<=#REF!,$K7796,0),0)","v":{"$error":"#REF!"}},{"$f":"IF(AM$5>=$F7796,IF(AM$5<=#REF!,$K7796,0),0)","v":{"$error":"#REF!"}},{"$f":"IF(AN$5>=$F7796,IF(AN$5<=#REF!,$K7796,0),0)","v":{"$error":"#REF!"}},{"$f":"IF(AO$5>=$F7796,IF(AO$5<=#REF!,$K7796,0),0)","v":{"$error":"#REF!"}},{"$f":"IF(AP$5>=$F7796,IF(AP$5<=#REF!,$K7796,0),0)","v":{"$error":"#REF!"}},{"$f":"IF(AQ$5>=$F7796,IF(AQ$5<=#REF!,$K7796,0),0)","v":{"$error":"#REF!"}},{"$f":"IF(AR$5>=$F7796,IF(AR$5<=#REF!,$K7796,0),0)","v":{"$error":"#REF!"}},{"$f":"IF(AS$5>=$F7796,IF(AS$5<=#REF!,$K7796,0),0)","v":{"$error":"#REF!"}},{"$f":"IF(AT$5>=$F7796,IF(AT$5<=#REF!,$K7796,0),0)","v":{"$error":"#REF!"}},{"$f":"IF(AU$5>=$F7796,IF(AU$5<=#REF!,$K7796,0),0)","v":{"$error":"#REF!"}},{"$f":"IF(AV$5>=$F7796,IF(AV$5<=#REF!,$K7796,0),0)","v":{"$error":"#REF!"}},{"$f":"IF(AW$5>=$F7796,IF(AW$5<=#REF!,$K7796,0),0)","v":{"$error":"#REF!"}},{"$f":"IF(AX$5>=$F7796,IF(AX$5<=#REF!,$K7796,0),0)","v":{"$error":"#REF!"}},{"$f":"IF(AY$5>=$F7796,IF(AY$5<=#REF!,$K7796,0),0)","v":{"$error":"#REF!"}},{"$f":"IF(AZ$5>=$F7796,IF(AZ$5<=#REF!,$K7796,0),0)","v":{"$error":"#REF!"}},{"$f":"IF(BA$5>=$F7796,IF(BA$5<=#REF!,$K7796,0),0)","v":{"$error":"#REF!"}},{"$f":"IF(BB$5>=$F7796,IF(BB$5<=#REF!,$K7796,0),0)","v":{"$error":"#REF!"}},{"$f":"IF(BC$5>=$F7796,IF(BC$5<=#REF!,$K7796,0),0)","v":{"$error":"#REF!"}},{"$f":"IF(BD$5>=$F7796,IF(BD$5<=#REF!,$K7796,0),0)","v":{"$error":"#REF!"}},{"$f":"IF(BE$5>=$F7796,IF(BE$5<=#REF!,$K7796,0),0)","v":{"$error":"#REF!"}},{"$f":"IF(BF$5>=$F7796,IF(BF$5<=#REF!,$K7796,0),0)","v":{"$error":"#REF!"}},{"$f":"IF(BG$5>=$F7796,IF(BG$5<=#REF!,$K7796,0),0)","v":{"$error":"#REF!"}},{"$f":"IF(BH$5>=$F7796,IF(BH$5<=#REF!,$K7796,0),0)","v":{"$error":"#REF!"}},{"$f":"IF(BI$5>=$F7796,IF(BI$5<=#REF!,$K7796,0),0)","v":{"$error":"#REF!"}},{"$f":"IF(BJ$5>=$F7796,IF(BJ$5<=#REF!,$K7796,0),0)","v":{"$error":"#REF!"}},{"$f":"IF(BK$5>=$F7796,IF(BK$5<=#REF!,$K7796,0),0)","v":{"$error":"#REF!"}},{"$f":"IF(BL$5>=$F7796,IF(BL$5<=#REF!,$K7796,0),0)","v":{"$error":"#REF!"}},{"$f":"IF(BM$5>=$F7796,IF(BM$5<=#REF!,$K7796,0),0)","v":{"$error":"#REF!"}},{"$f":"IF(BN$5>=$F7796,IF(BN$5<=#REF!,$K7796,0),0)","v":{"$error":"#REF!"}},{"$f":"IF(BO$5>=$F7796,IF(BO$5<=#REF!,$K7796,0),0)","v":{"$error":"#REF!"}},{"$f":"IF(BP$5>=$F7796,IF(BP$5<=#REF!,$K7796,0),0)","v":{"$error":"#REF!"}},{"$f":"IF(BQ$5>=$F7796,IF(BQ$5<=#REF!,$K7796,0),0)","v":{"$error":"#REF!"}},{"$f":"IF(BR$5>=$F7796,IF(BR$5<=#REF!,$K7796,0),0)","v":{"$error":"#REF!"}},{"$f":"IF(BS$5>=$F7796,IF(BS$5<=#REF!,$K7796,0),0)","v":{"$error":"#REF!"}},{"$f":"IF(BT$5>=$F7796,IF(BT$5<=#REF!,$K7796,0),0)","v":{"$error":"#REF!"}},{"$f":"IF(BU$5>=$F7796,IF(BU$5<=#REF!,$K7796,0),0)","v":{"$error":"#REF!"}},{"$f":"IF(BV$5>=$F7796,IF(BV$5<=#REF!,$K7796,0),0)","v":{"$error":"#REF!"}},{"$f":"IF(BW$5>=$F7796,IF(BW$5<=#REF!,$K7796,0),0)","v":{"$error":"#REF!"}},{"$f":"IF(BX$5>=$F7796,IF(BX$5<=#REF!,$K7796,0),0)","v":{"$error":"#REF!"}},{"$f":"IF(BY$5>=$F7796,IF(BY$5<=#REF!,$K7796,0),0)","v":{"$error":"#REF!"}},{"$f":"IF(BZ$5>=$F7796,IF(BZ$5<=#REF!,$K7796,0),0)","v":{"$error":"#REF!"}},{"$f":"IF(CA$5>=$F7796,IF(CA$5<=#REF!,$K7796,0),0)","v":{"$error":"#REF!"}},{"$f":"IF(CB$5>=$F7796,IF(CB$5<=#REF!,$K7796,0),0)","v":{"$error":"#REF!"}},{"$f":"IF(CC$5>=$F7796,IF(CC$5<=#REF!,$K7796,0),0)","v":{"$error":"#REF!"}},{"$f":"IF(CD$5>=$F7796,IF(CD$5<=#REF!,$K7796,0),0)","v":{"$error":"#REF!"}},{"$f":"IF(CE$5>=$F7796,IF(CE$5<=#REF!,$K7796,0),0)","v":{"$error":"#REF!"}},{"$f":"IF(CF$5>=$F7796,IF(CF$5<=#REF!,$K7796,0),0)","v":{"$error":"#REF!"}},{"$f":"IF(CG$5>=$F7796,IF(CG$5<=#REF!,$K7796,0),0)","v":{"$error":"#REF!"}},{"$f":"IF(CH$5>=$F7796,IF(CH$5<=#REF!,$K7796,0),0)","v":{"$error":"#REF!"}},{"$f":"IF(CI$5>=$F7796,IF(CI$5<=#REF!,$K7796,0),0)","v":{"$error":"#REF!"}},{"$f":"IF(CJ$5>=$F7796,IF(CJ$5<=#REF!,$K7796,0),0)","v":{"$error":"#REF!"}},{"$f":"IF(CK$5>=$F7796,IF(CK$5<=#REF!,$K7796,0),0)","v":{"$error":"#REF!"}},{"$f":"IF(CL$5>=$F7796,IF(CL$5<=#REF!,$K7796,0),0)","v":{"$error":"#REF!"}},{"$f":"IF(CM$5>=$F7796,IF(CM$5<=#REF!,$K7796,0),0)","v":{"$error":"#REF!"}},{"$f":"IF(CN$5>=$F7796,IF(CN$5<=#REF!,$K7796,0),0)","v":{"$error":"#REF!"}},{"$f":"IF(CO$5>=$F7796,IF(CO$5<=#REF!,$K7796,0),0)","v":{"$error":"#REF!"}},{"$f":"IF(CP$5>=$F7796,IF(CP$5<=#REF!,$K7796,0),0)","v":{"$error":"#REF!"}},{"$f":"IF(CQ$5>=$F7796,IF(CQ$5<=#REF!,$K7796,0),0)","v":{"$error":"#REF!"}},{"$f":"IF(CR$5>=$F7796,IF(CR$5<=#REF!,$K7796,0),0)","v":{"$error":"#REF!"}},{"$f":"IF(CS$5>=$F7796,IF(CS$5<=#REF!,$K7796,0),0)","v":{"$error":"#REF!"}},{"$f":"IF(CT$5>=$F7796,IF(CT$5<=#REF!,$K7796,0),0)","v":{"$error":"#REF!"}},{"$f":"IF(CU$5>=$F7796,IF(CU$5<=#REF!,$K7796,0),0)","v":{"$error":"#REF!"}},{"$f":"IF(CV$5>=$F7796,IF(CV$5<=#REF!,$K7796,0),0)","v":{"$error":"#REF!"}},{"$f":"IF(CW$5>=$F7796,IF(CW$5<=#REF!,$K7796,0),0)","v":{"$error":"#REF!"}},{"$f":"IF(CX$5>=$F7796,IF(CX$5<=#REF!,$K7796,0),0)","v":{"$error":"#REF!"}},{"$f":"IF(CY$5>=$F7796,IF(CY$5<=#REF!,$K7796,0),0)","v":{"$error":"#REF!"}},{"$f":"IF(CZ$5>=$F7796,IF(CZ$5<=#REF!,$K7796,0),0)","v":{"$error":"#REF!"}},{"$f":"IF(DA$5>=$F7796,IF(DA$5<=#REF!,$K7796,0),0)","v":{"$error":"#REF!"}},{"$f":"IF(DB$5>=$F7796,IF(DB$5<=#REF!,$K7796,0),0)","v":{"$error":"#REF!"}},{"$f":"IF(DC$5>=$F7796,IF(DC$5<=#REF!,$K7796,0),0)","v":{"$error":"#REF!"}},{"$f":"IF(DD$5>=$F7796,IF(DD$5<=#REF!,$K7796,0),0)","v":{"$error":"#REF!"}},{"$f":"IF(DE$5>=$F7796,IF(DE$5<=#REF!,$K7796,0),0)","v":{"$error":"#REF!"}},{"$f":"IF(DF$5>=$F7796,IF(DF$5<=#REF!,$K7796,0),0)","v":{"$error":"#REF!"}},{"$f":"IF(DG$5>=$F7796,IF(DG$5<=#REF!,$K7796,0),0)","v":{"$error":"#REF!"}},{"$f":"IF(DH$5>=$F7796,IF(DH$5<=#REF!,$K7796,0),0)","v":{"$error":"#REF!"}},{"$f":"IF(DI$5>=$F7796,IF(DI$5<=#REF!,$K7796,0),0)","v":{"$error":"#REF!"}},{"$f":"IF(DJ$5>=$F7796,IF(DJ$5<=#REF!,$K7796,0),0)","v":{"$error":"#REF!"}},{"$f":"IF(DK$5>=$F7796,IF(DK$5<=#REF!,$K7796,0),0)","v":{"$error":"#REF!"}},{"$f":"IF(DL$5>=$F7796,IF(DL$5<=#REF!,$K7796,0),0)","v":{"$error":"#REF!"}},{"$f":"IF(DM$5>=$F7796,IF(DM$5<=#REF!,$K7796,0),0)","v":{"$error":"#REF!"}},{"$f":"IF(DN$5>=$F7796,IF(DN$5<=#REF!,$K7796,0),0)","v":{"$error":"#REF!"}},{"$f":"IF(DO$5>=$F7796,IF(DO$5<=#REF!,$K7796,0),0)","v":{"$error":"#REF!"}},{"$f":"IF(DP$5>=$F7796,IF(DP$5<=#REF!,$K7796,0),0)","v":{"$error":"#REF!"}},{"$f":"IF(DQ$5>=$F7796,IF(DQ$5<=#REF!,$K7796,0),0)","v":{"$error":"#REF!"}},{"$f":"IF(DR$5>=$F7796,IF(DR$5<=#REF!,$K7796,0),0)","v":{"$error":"#REF!"}},{"$error":"#REF!"},"",""]
[null,null,null,null,null,null,{"$f":"IF($D7797=\"\",0,VLOOKUP(($DU7797&$C7797&$D7797),単価情報!$B$67:$C$932,2,FALSE))","v":0},0,0,0,{"$f":"IF(E7797=0,0,ROUND(E7797/#REF!,1))","v":0},{"$f":"IF(L$5>=$F7797,IF(L$5<=#REF!,$K7797,0),0)","v":{"$error":"#REF!"}},{"$f":"IF(M$5>=$F7797,IF(M$5<=#REF!,$K7797,0),0)","v":{"$error":"#REF!"}},{"$f":"IF(N$5>=$F7797,IF(N$5<=#REF!,$K7797,0),0)","v":{"$error":"#REF!"}},{"$f":"IF(O$5>=$F7797,IF(O$5<=#REF!,$K7797,0),0)","v":{"$error":"#REF!"}},{"$f":"IF(P$5>=$F7797,IF(P$5<=#REF!,$K7797,0),0)","v":{"$error":"#REF!"}},{"$f":"IF(Q$5>=$F7797,IF(Q$5<=#REF!,$K7797,0),0)","v":{"$error":"#REF!"}},{"$f":"IF(R$5>=$F7797,IF(R$5<=#REF!,$K7797,0),0)","v":{"$error":"#REF!"}},{"$f":"IF(S$5>=$F7797,IF(S$5<=#REF!,$K7797,0),0)","v":{"$error":"#REF!"}},{"$f":"IF(T$5>=$F7797,IF(T$5<=#REF!,$K7797,0),0)","v":{"$error":"#REF!"}},{"$f":"IF(U$5>=$F7797,IF(U$5<=#REF!,$K7797,0),0)","v":{"$error":"#REF!"}},{"$f":"IF(V$5>=$F7797,IF(V$5<=#REF!,$K7797,0),0)","v":{"$error":"#REF!"}},{"$f":"IF(W$5>=$F7797,IF(W$5<=#REF!,$K7797,0),0)","v":{"$error":"#REF!"}},{"$f":"IF(X$5>=$F7797,IF(X$5<=#REF!,$K7797,0),0)","v":{"$error":"#REF!"}},{"$f":"IF(Y$5>=$F7797,IF(Y$5<=#REF!,$K7797,0),0)","v":{"$error":"#REF!"}},{"$f":"IF(Z$5>=$F7797,IF(Z$5<=#REF!,$K7797,0),0)","v":{"$error":"#REF!"}},{"$f":"IF(AA$5>=$F7797,IF(AA$5<=#REF!,$K7797,0),0)","v":{"$error":"#REF!"}},{"$f":"IF(AB$5>=$F7797,IF(AB$5<=#REF!,$K7797,0),0)","v":{"$error":"#REF!"}},{"$f":"IF(AC$5>=$F7797,IF(AC$5<=#REF!,$K7797,0),0)","v":{"$error":"#REF!"}},{"$f":"IF(AD$5>=$F7797,IF(AD$5<=#REF!,$K7797,0),0)","v":{"$error":"#REF!"}},{"$f":"IF(AE$5>=$F7797,IF(AE$5<=#REF!,$K7797,0),0)","v":{"$error":"#REF!"}},{"$f":"IF(AF$5>=$F7797,IF(AF$5<=#REF!,$K7797,0),0)","v":{"$error":"#REF!"}},{"$f":"IF(AG$5>=$F7797,IF(AG$5<=#REF!,$K7797,0),0)","v":{"$error":"#REF!"}},{"$f":"IF(AH$5>=$F7797,IF(AH$5<=#REF!,$K7797,0),0)","v":{"$error":"#REF!"}},{"$f":"IF(AI$5>=$F7797,IF(AI$5<=#REF!,$K7797,0),0)","v":{"$error":"#REF!"}},{"$f":"IF(AJ$5>=$F7797,IF(AJ$5<=#REF!,$K7797,0),0)","v":{"$error":"#REF!"}},{"$f":"IF(AK$5>=$F7797,IF(AK$5<=#REF!,$K7797,0),0)","v":{"$error":"#REF!"}},{"$f":"IF(AL$5>=$F7797,IF(AL$5<=#REF!,$K7797,0),0)","v":{"$error":"#REF!"}},{"$f":"IF(AM$5>=$F7797,IF(AM$5<=#REF!,$K7797,0),0)","v":{"$error":"#REF!"}},{"$f":"IF(AN$5>=$F7797,IF(AN$5<=#REF!,$K7797,0),0)","v":{"$error":"#REF!"}},{"$f":"IF(AO$5>=$F7797,IF(AO$5<=#REF!,$K7797,0),0)","v":{"$error":"#REF!"}},{"$f":"IF(AP$5>=$F7797,IF(AP$5<=#REF!,$K7797,0),0)","v":{"$error":"#REF!"}},{"$f":"IF(AQ$5>=$F7797,IF(AQ$5<=#REF!,$K7797,0),0)","v":{"$error":"#REF!"}},{"$f":"IF(AR$5>=$F7797,IF(AR$5<=#REF!,$K7797,0),0)","v":{"$error":"#REF!"}},{"$f":"IF(AS$5>=$F7797,IF(AS$5<=#REF!,$K7797,0),0)","v":{"$error":"#REF!"}},{"$f":"IF(AT$5>=$F7797,IF(AT$5<=#REF!,$K7797,0),0)","v":{"$error":"#REF!"}},{"$f":"IF(AU$5>=$F7797,IF(AU$5<=#REF!,$K7797,0),0)","v":{"$error":"#REF!"}},{"$f":"IF(AV$5>=$F7797,IF(AV$5<=#REF!,$K7797,0),0)","v":{"$error":"#REF!"}},{"$f":"IF(AW$5>=$F7797,IF(AW$5<=#REF!,$K7797,0),0)","v":{"$error":"#REF!"}},{"$f":"IF(AX$5>=$F7797,IF(AX$5<=#REF!,$K7797,0),0)","v":{"$error":"#REF!"}},{"$f":"IF(AY$5>=$F7797,IF(AY$5<=#REF!,$K7797,0),0)","v":{"$error":"#REF!"}},{"$f":"IF(AZ$5>=$F7797,IF(AZ$5<=#REF!,$K7797,0),0)","v":{"$error":"#REF!"}},{"$f":"IF(BA$5>=$F7797,IF(BA$5<=#REF!,$K7797,0),0)","v":{"$error":"#REF!"}},{"$f":"IF(BB$5>=$F7797,IF(BB$5<=#REF!,$K7797,0),0)","v":{"$error":"#REF!"}},{"$f":"IF(BC$5>=$F7797,IF(BC$5<=#REF!,$K7797,0),0)","v":{"$error":"#REF!"}},{"$f":"IF(BD$5>=$F7797,IF(BD$5<=#REF!,$K7797,0),0)","v":{"$error":"#REF!"}},{"$f":"IF(BE$5>=$F7797,IF(BE$5<=#REF!,$K7797,0),0)","v":{"$error":"#REF!"}},{"$f":"IF(BF$5>=$F7797,IF(BF$5<=#REF!,$K7797,0),0)","v":{"$error":"#REF!"}},{"$f":"IF(BG$5>=$F7797,IF(BG$5<=#REF!,$K7797,0),0)","v":{"$error":"#REF!"}},{"$f":"IF(BH$5>=$F7797,IF(BH$5<=#REF!,$K7797,0),0)","v":{"$error":"#REF!"}},{"$f":"IF(BI$5>=$F7797,IF(BI$5<=#REF!,$K7797,0),0)","v":{"$error":"#REF!"}},{"$f":"IF(BJ$5>=$F7797,IF(BJ$5<=#REF!,$K7797,0),0)","v":{"$error":"#REF!"}},{"$f":"IF(BK$5>=$F7797,IF(BK$5<=#REF!,$K7797,0),0)","v":{"$error":"#REF!"}},{"$f":"IF(BL$5>=$F7797,IF(BL$5<=#REF!,$K7797,0),0)","v":{"$error":"#REF!"}},{"$f":"IF(BM$5>=$F7797,IF(BM$5<=#REF!,$K7797,0),0)","v":{"$error":"#REF!"}},{"$f":"IF(BN$5>=$F7797,IF(BN$5<=#REF!,$K7797,0),0)","v":{"$error":"#REF!"}},{"$f":"IF(BO$5>=$F7797,IF(BO$5<=#REF!,$K7797,0),0)","v":{"$error":"#REF!"}},{"$f":"IF(BP$5>=$F7797,IF(BP$5<=#REF!,$K7797,0),0)","v":{"$error":"#REF!"}},{"$f":"IF(BQ$5>=$F7797,IF(BQ$5<=#REF!,$K7797,0),0)","v":{"$error":"#REF!"}},{"$f":"IF(BR$5>=$F7797,IF(BR$5<=#REF!,$K7797,0),0)","v":{"$error":"#REF!"}},{"$f":"IF(BS$5>=$F7797,IF(BS$5<=#REF!,$K7797,0),0)","v":{"$error":"#REF!"}},{"$f":"IF(BT$5>=$F7797,IF(BT$5<=#REF!,$K7797,0),0)","v":{"$error":"#REF!"}},{"$f":"IF(BU$5>=$F7797,IF(BU$5<=#REF!,$K7797,0),0)","v":{"$error":"#REF!"}},{"$f":"IF(BV$5>=$F7797,IF(BV$5<=#REF!,$K7797,0),0)","v":{"$error":"#REF!"}},{"$f":"IF(BW$5>=$F7797,IF(BW$5<=#REF!,$K7797,0),0)","v":{"$error":"#REF!"}},{"$f":"IF(BX$5>=$F7797,IF(BX$5<=#REF!,$K7797,0),0)","v":{"$error":"#REF!"}},{"$f":"IF(BY$5>=$F7797,IF(BY$5<=#REF!,$K7797,0),0)","v":{"$error":"#REF!"}},{"$f":"IF(BZ$5>=$F7797,IF(BZ$5<=#REF!,$K7797,0),0)","v":{"$error":"#REF!"}},{"$f":"IF(CA$5>=$F7797,IF(CA$5<=#REF!,$K7797,0),0)","v":{"$error":"#REF!"}},{"$f":"IF(CB$5>=$F7797,IF(CB$5<=#REF!,$K7797,0),0)","v":{"$error":"#REF!"}},{"$f":"IF(CC$5>=$F7797,IF(CC$5<=#REF!,$K7797,0),0)","v":{"$error":"#REF!"}},{"$f":"IF(CD$5>=$F7797,IF(CD$5<=#REF!,$K7797,0),0)","v":{"$error":"#REF!"}},{"$f":"IF(CE$5>=$F7797,IF(CE$5<=#REF!,$K7797,0),0)","v":{"$error":"#REF!"}},{"$f":"IF(CF$5>=$F7797,IF(CF$5<=#REF!,$K7797,0),0)","v":{"$error":"#REF!"}},{"$f":"IF(CG$5>=$F7797,IF(CG$5<=#REF!,$K7797,0),0)","v":{"$error":"#REF!"}},{"$f":"IF(CH$5>=$F7797,IF(CH$5<=#REF!,$K7797,0),0)","v":{"$error":"#REF!"}},{"$f":"IF(CI$5>=$F7797,IF(CI$5<=#REF!,$K7797,0),0)","v":{"$error":"#REF!"}},{"$f":"IF(CJ$5>=$F7797,IF(CJ$5<=#REF!,$K7797,0),0)","v":{"$error":"#REF!"}},{"$f":"IF(CK$5>=$F7797,IF(CK$5<=#REF!,$K7797,0),0)","v":{"$error":"#REF!"}},{"$f":"IF(CL$5>=$F7797,IF(CL$5<=#REF!,$K7797,0),0)","v":{"$error":"#REF!"}},{"$f":"IF(CM$5>=$F7797,IF(CM$5<=#REF!,$K7797,0),0)","v":{"$error":"#REF!"}},{"$f":"IF(CN$5>=$F7797,IF(CN$5<=#REF!,$K7797,0),0)","v":{"$error":"#REF!"}},{"$f":"IF(CO$5>=$F7797,IF(CO$5<=#REF!,$K7797,0),0)","v":{"$error":"#REF!"}},{"$f":"IF(CP$5>=$F7797,IF(CP$5<=#REF!,$K7797,0),0)","v":{"$error":"#REF!"}},{"$f":"IF(CQ$5>=$F7797,IF(CQ$5<=#REF!,$K7797,0),0)","v":{"$error":"#REF!"}},{"$f":"IF(CR$5>=$F7797,IF(CR$5<=#REF!,$K7797,0),0)","v":{"$error":"#REF!"}},{"$f":"IF(CS$5>=$F7797,IF(CS$5<=#REF!,$K7797,0),0)","v":{"$error":"#REF!"}},{"$f":"IF(CT$5>=$F7797,IF(CT$5<=#REF!,$K7797,0),0)","v":{"$error":"#REF!"}},{"$f":"IF(CU$5>=$F7797,IF(CU$5<=#REF!,$K7797,0),0)","v":{"$error":"#REF!"}},{"$f":"IF(CV$5>=$F7797,IF(CV$5<=#REF!,$K7797,0),0)","v":{"$error":"#REF!"}},{"$f":"IF(CW$5>=$F7797,IF(CW$5<=#REF!,$K7797,0),0)","v":{"$error":"#REF!"}},{"$f":"IF(CX$5>=$F7797,IF(CX$5<=#REF!,$K7797,0),0)","v":{"$error":"#REF!"}},{"$f":"IF(CY$5>=$F7797,IF(CY$5<=#REF!,$K7797,0),0)","v":{"$error":"#REF!"}},{"$f":"IF(CZ$5>=$F7797,IF(CZ$5<=#REF!,$K7797,0),0)","v":{"$error":"#REF!"}},{"$f":"IF(DA$5>=$F7797,IF(DA$5<=#REF!,$K7797,0),0)","v":{"$error":"#REF!"}},{"$f":"IF(DB$5>=$F7797,IF(DB$5<=#REF!,$K7797,0),0)","v":{"$error":"#REF!"}},{"$f":"IF(DC$5>=$F7797,IF(DC$5<=#REF!,$K7797,0),0)","v":{"$error":"#REF!"}},{"$f":"IF(DD$5>=$F7797,IF(DD$5<=#REF!,$K7797,0),0)","v":{"$error":"#REF!"}},{"$f":"IF(DE$5>=$F7797,IF(DE$5<=#REF!,$K7797,0),0)","v":{"$error":"#REF!"}},{"$f":"IF(DF$5>=$F7797,IF(DF$5<=#REF!,$K7797,0),0)","v":{"$error":"#REF!"}},{"$f":"IF(DG$5>=$F7797,IF(DG$5<=#REF!,$K7797,0),0)","v":{"$error":"#REF!"}},{"$f":"IF(DH$5>=$F7797,IF(DH$5<=#REF!,$K7797,0),0)","v":{"$error":"#REF!"}},{"$f":"IF(DI$5>=$F7797,IF(DI$5<=#REF!,$K7797,0),0)","v":{"$error":"#REF!"}},{"$f":"IF(DJ$5>=$F7797,IF(DJ$5<=#REF!,$K7797,0),0)","v":{"$error":"#REF!"}},{"$f":"IF(DK$5>=$F7797,IF(DK$5<=#REF!,$K7797,0),0)","v":{"$error":"#REF!"}},{"$f":"IF(DL$5>=$F7797,IF(DL$5<=#REF!,$K7797,0),0)","v":{"$error":"#REF!"}},{"$f":"IF(DM$5>=$F7797,IF(DM$5<=#REF!,$K7797,0),0)","v":{"$error":"#REF!"}},{"$f":"IF(DN$5>=$F7797,IF(DN$5<=#REF!,$K7797,0),0)","v":{"$error":"#REF!"}},{"$f":"IF(DO$5>=$F7797,IF(DO$5<=#REF!,$K7797,0),0)","v":{"$error":"#REF!"}},{"$f":"IF(DP$5>=$F7797,IF(DP$5<=#REF!,$K7797,0),0)","v":{"$error":"#REF!"}},{"$f":"IF(DQ$5>=$F7797,IF(DQ$5<=#REF!,$K7797,0),0)","v":{"$error":"#REF!"}},{"$f":"IF(DR$5>=$F7797,IF(DR$5<=#REF!,$K7797,0),0)","v":{"$error":"#REF!"}},{"$error":"#REF!"},"",""]
[null,null,null,null,null,null,{"$f":"IF($D7798=\"\",0,VLOOKUP(($DU7798&$C7798&$D7798),単価情報!$B$67:$C$932,2,FALSE))","v":0},0,0,0,{"$f":"IF(E7798=0,0,ROUND(E7798/#REF!,1))","v":0},{"$f":"IF(L$5>=$F7798,IF(L$5<=#REF!,$K7798,0),0)","v":{"$error":"#REF!"}},{"$f":"IF(M$5>=$F7798,IF(M$5<=#REF!,$K7798,0),0)","v":{"$error":"#REF!"}},{"$f":"IF(N$5>=$F7798,IF(N$5<=#REF!,$K7798,0),0)","v":{"$error":"#REF!"}},{"$f":"IF(O$5>=$F7798,IF(O$5<=#REF!,$K7798,0),0)","v":{"$error":"#REF!"}},{"$f":"IF(P$5>=$F7798,IF(P$5<=#REF!,$K7798,0),0)","v":{"$error":"#REF!"}},{"$f":"IF(Q$5>=$F7798,IF(Q$5<=#REF!,$K7798,0),0)","v":{"$error":"#REF!"}},{"$f":"IF(R$5>=$F7798,IF(R$5<=#REF!,$K7798,0),0)","v":{"$error":"#REF!"}},{"$f":"IF(S$5>=$F7798,IF(S$5<=#REF!,$K7798,0),0)","v":{"$error":"#REF!"}},{"$f":"IF(T$5>=$F7798,IF(T$5<=#REF!,$K7798,0),0)","v":{"$error":"#REF!"}},{"$f":"IF(U$5>=$F7798,IF(U$5<=#REF!,$K7798,0),0)","v":{"$error":"#REF!"}},{"$f":"IF(V$5>=$F7798,IF(V$5<=#REF!,$K7798,0),0)","v":{"$error":"#REF!"}},{"$f":"IF(W$5>=$F7798,IF(W$5<=#REF!,$K7798,0),0)","v":{"$error":"#REF!"}},{"$f":"IF(X$5>=$F7798,IF(X$5<=#REF!,$K7798,0),0)","v":{"$error":"#REF!"}},{"$f":"IF(Y$5>=$F7798,IF(Y$5<=#REF!,$K7798,0),0)","v":{"$error":"#REF!"}},{"$f":"IF(Z$5>=$F7798,IF(Z$5<=#REF!,$K7798,0),0)","v":{"$error":"#REF!"}},{"$f":"IF(AA$5>=$F7798,IF(AA$5<=#REF!,$K7798,0),0)","v":{"$error":"#REF!"}},{"$f":"IF(AB$5>=$F7798,IF(AB$5<=#REF!,$K7798,0),0)","v":{"$error":"#REF!"}},{"$f":"IF(AC$5>=$F7798,IF(AC$5<=#REF!,$K7798,0),0)","v":{"$error":"#REF!"}},{"$f":"IF(AD$5>=$F7798,IF(AD$5<=#REF!,$K7798,0),0)","v":{"$error":"#REF!"}},{"$f":"IF(AE$5>=$F7798,IF(AE$5<=#REF!,$K7798,0),0)","v":{"$error":"#REF!"}},{"$f":"IF(AF$5>=$F7798,IF(AF$5<=#REF!,$K7798,0),0)","v":{"$error":"#REF!"}},{"$f":"IF(AG$5>=$F7798,IF(AG$5<=#REF!,$K7798,0),0)","v":{"$error":"#REF!"}},{"$f":"IF(AH$5>=$F7798,IF(AH$5<=#REF!,$K7798,0),0)","v":{"$error":"#REF!"}},{"$f":"IF(AI$5>=$F7798,IF(AI$5<=#REF!,$K7798,0),0)","v":{"$error":"#REF!"}},{"$f":"IF(AJ$5>=$F7798,IF(AJ$5<=#REF!,$K7798,0),0)","v":{"$error":"#REF!"}},{"$f":"IF(AK$5>=$F7798,IF(AK$5<=#REF!,$K7798,0),0)","v":{"$error":"#REF!"}},{"$f":"IF(AL$5>=$F7798,IF(AL$5<=#REF!,$K7798,0),0)","v":{"$error":"#REF!"}},{"$f":"IF(AM$5>=$F7798,IF(AM$5<=#REF!,$K7798,0),0)","v":{"$error":"#REF!"}},{"$f":"IF(AN$5>=$F7798,IF(AN$5<=#REF!,$K7798,0),0)","v":{"$error":"#REF!"}},{"$f":"IF(AO$5>=$F7798,IF(AO$5<=#REF!,$K7798,0),0)","v":{"$error":"#REF!"}},{"$f":"IF(AP$5>=$F7798,IF(AP$5<=#REF!,$K7798,0),0)","v":{"$error":"#REF!"}},{"$f":"IF(AQ$5>=$F7798,IF(AQ$5<=#REF!,$K7798,0),0)","v":{"$error":"#REF!"}},{"$f":"IF(AR$5>=$F7798,IF(AR$5<=#REF!,$K7798,0),0)","v":{"$error":"#REF!"}},{"$f":"IF(AS$5>=$F7798,IF(AS$5<=#REF!,$K7798,0),0)","v":{"$error":"#REF!"}},{"$f":"IF(AT$5>=$F7798,IF(AT$5<=#REF!,$K7798,0),0)","v":{"$error":"#REF!"}},{"$f":"IF(AU$5>=$F7798,IF(AU$5<=#REF!,$K7798,0),0)","v":{"$error":"#REF!"}},{"$f":"IF(AV$5>=$F7798,IF(AV$5<=#REF!,$K7798,0),0)","v":{"$error":"#REF!"}},{"$f":"IF(AW$5>=$F7798,IF(AW$5<=#REF!,$K7798,0),0)","v":{"$error":"#REF!"}},{"$f":"IF(AX$5>=$F7798,IF(AX$5<=#REF!,$K7798,0),0)","v":{"$error":"#REF!"}},{"$f":"IF(AY$5>=$F7798,IF(AY$5<=#REF!,$K7798,0),0)","v":{"$error":"#REF!"}},{"$f":"IF(AZ$5>=$F7798,IF(AZ$5<=#REF!,$K7798,0),0)","v":{"$error":"#REF!"}},{"$f":"IF(BA$5>=$F7798,IF(BA$5<=#REF!,$K7798,0),0)","v":{"$error":"#REF!"}},{"$f":"IF(BB$5>=$F7798,IF(BB$5<=#REF!,$K7798,0),0)","v":{"$error":"#REF!"}},{"$f":"IF(BC$5>=$F7798,IF(BC$5<=#REF!,$K7798,0),0)","v":{"$error":"#REF!"}},{"$f":"IF(BD$5>=$F7798,IF(BD$5<=#REF!,$K7798,0),0)","v":{"$error":"#REF!"}},{"$f":"IF(BE$5>=$F7798,IF(BE$5<=#REF!,$K7798,0),0)","v":{"$error":"#REF!"}},{"$f":"IF(BF$5>=$F7798,IF(BF$5<=#REF!,$K7798,0),0)","v":{"$error":"#REF!"}},{"$f":"IF(BG$5>=$F7798,IF(BG$5<=#REF!,$K7798,0),0)","v":{"$error":"#REF!"}},{"$f":"IF(BH$5>=$F7798,IF(BH$5<=#REF!,$K7798,0),0)","v":{"$error":"#REF!"}},{"$f":"IF(BI$5>=$F7798,IF(BI$5<=#REF!,$K7798,0),0)","v":{"$error":"#REF!"}},{"$f":"IF(BJ$5>=$F7798,IF(BJ$5<=#REF!,$K7798,0),0)","v":{"$error":"#REF!"}},{"$f":"IF(BK$5>=$F7798,IF(BK$5<=#REF!,$K7798,0),0)","v":{"$error":"#REF!"}},{"$f":"IF(BL$5>=$F7798,IF(BL$5<=#REF!,$K7798,0),0)","v":{"$error":"#REF!"}},{"$f":"IF(BM$5>=$F7798,IF(BM$5<=#REF!,$K7798,0),0)","v":{"$error":"#REF!"}},{"$f":"IF(BN$5>=$F7798,IF(BN$5<=#REF!,$K7798,0),0)","v":{"$error":"#REF!"}},{"$f":"IF(BO$5>=$F7798,IF(BO$5<=#REF!,$K7798,0),0)","v":{"$error":"#REF!"}},{"$f":"IF(BP$5>=$F7798,IF(BP$5<=#REF!,$K7798,0),0)","v":{"$error":"#REF!"}},{"$f":"IF(BQ$5>=$F7798,IF(BQ$5<=#REF!,$K7798,0),0)","v":{"$error":"#REF!"}},{"$f":"IF(BR$5>=$F7798,IF(BR$5<=#REF!,$K7798,0),0)","v":{"$error":"#REF!"}},{"$f":"IF(BS$5>=$F7798,IF(BS$5<=#REF!,$K7798,0),0)","v":{"$error":"#REF!"}},{"$f":"IF(BT$5>=$F7798,IF(BT$5<=#REF!,$K7798,0),0)","v":{"$error":"#REF!"}},{"$f":"IF(BU$5>=$F7798,IF(BU$5<=#REF!,$K7798,0),0)","v":{"$error":"#REF!"}},{"$f":"IF(BV$5>=$F7798,IF(BV$5<=#REF!,$K7798,0),0)","v":{"$error":"#REF!"}},{"$f":"IF(BW$5>=$F7798,IF(BW$5<=#REF!,$K7798,0),0)","v":{"$error":"#REF!"}},{"$f":"IF(BX$5>=$F7798,IF(BX$5<=#REF!,$K7798,0),0)","v":{"$error":"#REF!"}},{"$f":"IF(BY$5>=$F7798,IF(BY$5<=#REF!,$K7798,0),0)","v":{"$error":"#REF!"}},{"$f":"IF(BZ$5>=$F7798,IF(BZ$5<=#REF!,$K7798,0),0)","v":{"$error":"#REF!"}},{"$f":"IF(CA$5>=$F7798,IF(CA$5<=#REF!,$K7798,0),0)","v":{"$error":"#REF!"}},{"$f":"IF(CB$5>=$F7798,IF(CB$5<=#REF!,$K7798,0),0)","v":{"$error":"#REF!"}},{"$f":"IF(CC$5>=$F7798,IF(CC$5<=#REF!,$K7798,0),0)","v":{"$error":"#REF!"}},{"$f":"IF(CD$5>=$F7798,IF(CD$5<=#REF!,$K7798,0),0)","v":{"$error":"#REF!"}},{"$f":"IF(CE$5>=$F7798,IF(CE$5<=#REF!,$K7798,0),0)","v":{"$error":"#REF!"}},{"$f":"IF(CF$5>=$F7798,IF(CF$5<=#REF!,$K7798,0),0)","v":{"$error":"#REF!"}},{"$f":"IF(CG$5>=$F7798,IF(CG$5<=#REF!,$K7798,0),0)","v":{"$error":"#REF!"}},{"$f":"IF(CH$5>=$F7798,IF(CH$5<=#REF!,$K7798,0),0)","v":{"$error":"#REF!"}},{"$f":"IF(CI$5>=$F7798,IF(CI$5<=#REF!,$K7798,0),0)","v":{"$error":"#REF!"}},{"$f":"IF(CJ$5>=$F7798,IF(CJ$5<=#REF!,$K7798,0),0)","v":{"$error":"#REF!"}},{"$f":"IF(CK$5>=$F7798,IF(CK$5<=#REF!,$K7798,0),0)","v":{"$error":"#REF!"}},{"$f":"IF(CL$5>=$F7798,IF(CL$5<=#REF!,$K7798,0),0)","v":{"$error":"#REF!"}},{"$f":"IF(CM$5>=$F7798,IF(CM$5<=#REF!,$K7798,0),0)","v":{"$error":"#REF!"}},{"$f":"IF(CN$5>=$F7798,IF(CN$5<=#REF!,$K7798,0),0)","v":{"$error":"#REF!"}},{"$f":"IF(CO$5>=$F7798,IF(CO$5<=#REF!,$K7798,0),0)","v":{"$error":"#REF!"}},{"$f":"IF(CP$5>=$F7798,IF(CP$5<=#REF!,$K7798,0),0)","v":{"$error":"#REF!"}},{"$f":"IF(CQ$5>=$F7798,IF(CQ$5<=#REF!,$K7798,0),0)","v":{"$error":"#REF!"}},{"$f":"IF(CR$5>=$F7798,IF(CR$5<=#REF!,$K7798,0),0)","v":{"$error":"#REF!"}},{"$f":"IF(CS$5>=$F7798,IF(CS$5<=#REF!,$K7798,0),0)","v":{"$error":"#REF!"}},{"$f":"IF(CT$5>=$F7798,IF(CT$5<=#REF!,$K7798,0),0)","v":{"$error":"#REF!"}},{"$f":"IF(CU$5>=$F7798,IF(CU$5<=#REF!,$K7798,0),0)","v":{"$error":"#REF!"}},{"$f":"IF(CV$5>=$F7798,IF(CV$5<=#REF!,$K7798,0),0)","v":{"$error":"#REF!"}},{"$f":"IF(CW$5>=$F7798,IF(CW$5<=#REF!,$K7798,0),0)","v":{"$error":"#REF!"}},{"$f":"IF(CX$5>=$F7798,IF(CX$5<=#REF!,$K7798,0),0)","v":{"$error":"#REF!"}},{"$f":"IF(CY$5>=$F7798,IF(CY$5<=#REF!,$K7798,0),0)","v":{"$error":"#REF!"}},{"$f":"IF(CZ$5>=$F7798,IF(CZ$5<=#REF!,$K7798,0),0)","v":{"$error":"#REF!"}},{"$f":"IF(DA$5>=$F7798,IF(DA$5<=#REF!,$K7798,0),0)","v":{"$error":"#REF!"}},{"$f":"IF(DB$5>=$F7798,IF(DB$5<=#REF!,$K7798,0),0)","v":{"$error":"#REF!"}},{"$f":"IF(DC$5>=$F7798,IF(DC$5<=#REF!,$K7798,0),0)","v":{"$error":"#REF!"}},{"$f":"IF(DD$5>=$F7798,IF(DD$5<=#REF!,$K7798,0),0)","v":{"$error":"#REF!"}},{"$f":"IF(DE$5>=$F7798,IF(DE$5<=#REF!,$K7798,0),0)","v":{"$error":"#REF!"}},{"$f":"IF(DF$5>=$F7798,IF(DF$5<=#REF!,$K7798,0),0)","v":{"$error":"#REF!"}},{"$f":"IF(DG$5>=$F7798,IF(DG$5<=#REF!,$K7798,0),0)","v":{"$error":"#REF!"}},{"$f":"IF(DH$5>=$F7798,IF(DH$5<=#REF!,$K7798,0),0)","v":{"$error":"#REF!"}},{"$f":"IF(DI$5>=$F7798,IF(DI$5<=#REF!,$K7798,0),0)","v":{"$error":"#REF!"}},{"$f":"IF(DJ$5>=$F7798,IF(DJ$5<=#REF!,$K7798,0),0)","v":{"$error":"#REF!"}},{"$f":"IF(DK$5>=$F7798,IF(DK$5<=#REF!,$K7798,0),0)","v":{"$error":"#REF!"}},{"$f":"IF(DL$5>=$F7798,IF(DL$5<=#REF!,$K7798,0),0)","v":{"$error":"#REF!"}},{"$f":"IF(DM$5>=$F7798,IF(DM$5<=#REF!,$K7798,0),0)","v":{"$error":"#REF!"}},{"$f":"IF(DN$5>=$F7798,IF(DN$5<=#REF!,$K7798,0),0)","v":{"$error":"#REF!"}},{"$f":"IF(DO$5>=$F7798,IF(DO$5<=#REF!,$K7798,0),0)","v":{"$error":"#REF!"}},{"$f":"IF(DP$5>=$F7798,IF(DP$5<=#REF!,$K7798,0),0)","v":{"$error":"#REF!"}},{"$f":"IF(DQ$5>=$F7798,IF(DQ$5<=#REF!,$K7798,0),0)","v":{"$error":"#REF!"}},{"$f":"IF(DR$5>=$F7798,IF(DR$5<=#REF!,$K7798,0),0)","v":{"$error":"#REF!"}},{"$error":"#REF!"},"",""]
[null,null,null,null,null,null,{"$f":"IF($D7799=\"\",0,VLOOKUP(($DU7799&$C7799&$D7799),単価情報!$B$67:$C$932,2,FALSE))","v":0},0,0,0,{"$f":"IF(E7799=0,0,ROUND(E7799/#REF!,1))","v":0},{"$f":"IF(L$5>=$F7799,IF(L$5<=#REF!,$K7799,0),0)","v":{"$error":"#REF!"}},{"$f":"IF(M$5>=$F7799,IF(M$5<=#REF!,$K7799,0),0)","v":{"$error":"#REF!"}},{"$f":"IF(N$5>=$F7799,IF(N$5<=#REF!,$K7799,0),0)","v":{"$error":"#REF!"}},{"$f":"IF(O$5>=$F7799,IF(O$5<=#REF!,$K7799,0),0)","v":{"$error":"#REF!"}},{"$f":"IF(P$5>=$F7799,IF(P$5<=#REF!,$K7799,0),0)","v":{"$error":"#REF!"}},{"$f":"IF(Q$5>=$F7799,IF(Q$5<=#REF!,$K7799,0),0)","v":{"$error":"#REF!"}},{"$f":"IF(R$5>=$F7799,IF(R$5<=#REF!,$K7799,0),0)","v":{"$error":"#REF!"}},{"$f":"IF(S$5>=$F7799,IF(S$5<=#REF!,$K7799,0),0)","v":{"$error":"#REF!"}},{"$f":"IF(T$5>=$F7799,IF(T$5<=#REF!,$K7799,0),0)","v":{"$error":"#REF!"}},{"$f":"IF(U$5>=$F7799,IF(U$5<=#REF!,$K7799,0),0)","v":{"$error":"#REF!"}},{"$f":"IF(V$5>=$F7799,IF(V$5<=#REF!,$K7799,0),0)","v":{"$error":"#REF!"}},{"$f":"IF(W$5>=$F7799,IF(W$5<=#REF!,$K7799,0),0)","v":{"$error":"#REF!"}},{"$f":"IF(X$5>=$F7799,IF(X$5<=#REF!,$K7799,0),0)","v":{"$error":"#REF!"}},{"$f":"IF(Y$5>=$F7799,IF(Y$5<=#REF!,$K7799,0),0)","v":{"$error":"#REF!"}},{"$f":"IF(Z$5>=$F7799,IF(Z$5<=#REF!,$K7799,0),0)","v":{"$error":"#REF!"}},{"$f":"IF(AA$5>=$F7799,IF(AA$5<=#REF!,$K7799,0),0)","v":{"$error":"#REF!"}},{"$f":"IF(AB$5>=$F7799,IF(AB$5<=#REF!,$K7799,0),0)","v":{"$error":"#REF!"}},{"$f":"IF(AC$5>=$F7799,IF(AC$5<=#REF!,$K7799,0),0)","v":{"$error":"#REF!"}},{"$f":"IF(AD$5>=$F7799,IF(AD$5<=#REF!,$K7799,0),0)","v":{"$error":"#REF!"}},{"$f":"IF(AE$5>=$F7799,IF(AE$5<=#REF!,$K7799,0),0)","v":{"$error":"#REF!"}},{"$f":"IF(AF$5>=$F7799,IF(AF$5<=#REF!,$K7799,0),0)","v":{"$error":"#REF!"}},{"$f":"IF(AG$5>=$F7799,IF(AG$5<=#REF!,$K7799,0),0)","v":{"$error":"#REF!"}},{"$f":"IF(AH$5>=$F7799,IF(AH$5<=#REF!,$K7799,0),0)","v":{"$error":"#REF!"}},{"$f":"IF(AI$5>=$F7799,IF(AI$5<=#REF!,$K7799,0),0)","v":{"$error":"#REF!"}},{"$f":"IF(AJ$5>=$F7799,IF(AJ$5<=#REF!,$K7799,0),0)","v":{"$error":"#REF!"}},{"$f":"IF(AK$5>=$F7799,IF(AK$5<=#REF!,$K7799,0),0)","v":{"$error":"#REF!"}},{"$f":"IF(AL$5>=$F7799,IF(AL$5<=#REF!,$K7799,0),0)","v":{"$error":"#REF!"}},{"$f":"IF(AM$5>=$F7799,IF(AM$5<=#REF!,$K7799,0),0)","v":{"$error":"#REF!"}},{"$f":"IF(AN$5>=$F7799,IF(AN$5<=#REF!,$K7799,0),0)","v":{"$error":"#REF!"}},{"$f":"IF(AO$5>=$F7799,IF(AO$5<=#REF!,$K7799,0),0)","v":{"$error":"#REF!"}},{"$f":"IF(AP$5>=$F7799,IF(AP$5<=#REF!,$K7799,0),0)","v":{"$error":"#REF!"}},{"$f":"IF(AQ$5>=$F7799,IF(AQ$5<=#REF!,$K7799,0),0)","v":{"$error":"#REF!"}},{"$f":"IF(AR$5>=$F7799,IF(AR$5<=#REF!,$K7799,0),0)","v":{"$error":"#REF!"}},{"$f":"IF(AS$5>=$F7799,IF(AS$5<=#REF!,$K7799,0),0)","v":{"$error":"#REF!"}},{"$f":"IF(AT$5>=$F7799,IF(AT$5<=#REF!,$K7799,0),0)","v":{"$error":"#REF!"}},{"$f":"IF(AU$5>=$F7799,IF(AU$5<=#REF!,$K7799,0),0)","v":{"$error":"#REF!"}},{"$f":"IF(AV$5>=$F7799,IF(AV$5<=#REF!,$K7799,0),0)","v":{"$error":"#REF!"}},{"$f":"IF(AW$5>=$F7799,IF(AW$5<=#REF!,$K7799,0),0)","v":{"$error":"#REF!"}},{"$f":"IF(AX$5>=$F7799,IF(AX$5<=#REF!,$K7799,0),0)","v":{"$error":"#REF!"}},{"$f":"IF(AY$5>=$F7799,IF(AY$5<=#REF!,$K7799,0),0)","v":{"$error":"#REF!"}},{"$f":"IF(AZ$5>=$F7799,IF(AZ$5<=#REF!,$K7799,0),0)","v":{"$error":"#REF!"}},{"$f":"IF(BA$5>=$F7799,IF(BA$5<=#REF!,$K7799,0),0)","v":{"$error":"#REF!"}},{"$f":"IF(BB$5>=$F7799,IF(BB$5<=#REF!,$K7799,0),0)","v":{"$error":"#REF!"}},{"$f":"IF(BC$5>=$F7799,IF(BC$5<=#REF!,$K7799,0),0)","v":{"$error":"#REF!"}},{"$f":"IF(BD$5>=$F7799,IF(BD$5<=#REF!,$K7799,0),0)","v":{"$error":"#REF!"}},{"$f":"IF(BE$5>=$F7799,IF(BE$5<=#REF!,$K7799,0),0)","v":{"$error":"#REF!"}},{"$f":"IF(BF$5>=$F7799,IF(BF$5<=#REF!,$K7799,0),0)","v":{"$error":"#REF!"}},{"$f":"IF(BG$5>=$F7799,IF(BG$5<=#REF!,$K7799,0),0)","v":{"$error":"#REF!"}},{"$f":"IF(BH$5>=$F7799,IF(BH$5<=#REF!,$K7799,0),0)","v":{"$error":"#REF!"}},{"$f":"IF(BI$5>=$F7799,IF(BI$5<=#REF!,$K7799,0),0)","v":{"$error":"#REF!"}},{"$f":"IF(BJ$5>=$F7799,IF(BJ$5<=#REF!,$K7799,0),0)","v":{"$error":"#REF!"}},{"$f":"IF(BK$5>=$F7799,IF(BK$5<=#REF!,$K7799,0),0)","v":{"$error":"#REF!"}},{"$f":"IF(BL$5>=$F7799,IF(BL$5<=#REF!,$K7799,0),0)","v":{"$error":"#REF!"}},{"$f":"IF(BM$5>=$F7799,IF(BM$5<=#REF!,$K7799,0),0)","v":{"$error":"#REF!"}},{"$f":"IF(BN$5>=$F7799,IF(BN$5<=#REF!,$K7799,0),0)","v":{"$error":"#REF!"}},{"$f":"IF(BO$5>=$F7799,IF(BO$5<=#REF!,$K7799,0),0)","v":{"$error":"#REF!"}},{"$f":"IF(BP$5>=$F7799,IF(BP$5<=#REF!,$K7799,0),0)","v":{"$error":"#REF!"}},{"$f":"IF(BQ$5>=$F7799,IF(BQ$5<=#REF!,$K7799,0),0)","v":{"$error":"#REF!"}},{"$f":"IF(BR$5>=$F7799,IF(BR$5<=#REF!,$K7799,0),0)","v":{"$error":"#REF!"}},{"$f":"IF(BS$5>=$F7799,IF(BS$5<=#REF!,$K7799,0),0)","v":{"$error":"#REF!"}},{"$f":"IF(BT$5>=$F7799,IF(BT$5<=#REF!,$K7799,0),0)","v":{"$error":"#REF!"}},{"$f":"IF(BU$5>=$F7799,IF(BU$5<=#REF!,$K7799,0),0)","v":{"$error":"#REF!"}},{"$f":"IF(BV$5>=$F7799,IF(BV$5<=#REF!,$K7799,0),0)","v":{"$error":"#REF!"}},{"$f":"IF(BW$5>=$F7799,IF(BW$5<=#REF!,$K7799,0),0)","v":{"$error":"#REF!"}},{"$f":"IF(BX$5>=$F7799,IF(BX$5<=#REF!,$K7799,0),0)","v":{"$error":"#REF!"}},{"$f":"IF(BY$5>=$F7799,IF(BY$5<=#REF!,$K7799,0),0)","v":{"$error":"#REF!"}},{"$f":"IF(BZ$5>=$F7799,IF(BZ$5<=#REF!,$K7799,0),0)","v":{"$error":"#REF!"}},{"$f":"IF(CA$5>=$F7799,IF(CA$5<=#REF!,$K7799,0),0)","v":{"$error":"#REF!"}},{"$f":"IF(CB$5>=$F7799,IF(CB$5<=#REF!,$K7799,0),0)","v":{"$error":"#REF!"}},{"$f":"IF(CC$5>=$F7799,IF(CC$5<=#REF!,$K7799,0),0)","v":{"$error":"#REF!"}},{"$f":"IF(CD$5>=$F7799,IF(CD$5<=#REF!,$K7799,0),0)","v":{"$error":"#REF!"}},{"$f":"IF(CE$5>=$F7799,IF(CE$5<=#REF!,$K7799,0),0)","v":{"$error":"#REF!"}},{"$f":"IF(CF$5>=$F7799,IF(CF$5<=#REF!,$K7799,0),0)","v":{"$error":"#REF!"}},{"$f":"IF(CG$5>=$F7799,IF(CG$5<=#REF!,$K7799,0),0)","v":{"$error":"#REF!"}},{"$f":"IF(CH$5>=$F7799,IF(CH$5<=#REF!,$K7799,0),0)","v":{"$error":"#REF!"}},{"$f":"IF(CI$5>=$F7799,IF(CI$5<=#REF!,$K7799,0),0)","v":{"$error":"#REF!"}},{"$f":"IF(CJ$5>=$F7799,IF(CJ$5<=#REF!,$K7799,0),0)","v":{"$error":"#REF!"}},{"$f":"IF(CK$5>=$F7799,IF(CK$5<=#REF!,$K7799,0),0)","v":{"$error":"#REF!"}},{"$f":"IF(CL$5>=$F7799,IF(CL$5<=#REF!,$K7799,0),0)","v":{"$error":"#REF!"}},{"$f":"IF(CM$5>=$F7799,IF(CM$5<=#REF!,$K7799,0),0)","v":{"$error":"#REF!"}},{"$f":"IF(CN$5>=$F7799,IF(CN$5<=#REF!,$K7799,0),0)","v":{"$error":"#REF!"}},{"$f":"IF(CO$5>=$F7799,IF(CO$5<=#REF!,$K7799,0),0)","v":{"$error":"#REF!"}},{"$f":"IF(CP$5>=$F7799,IF(CP$5<=#REF!,$K7799,0),0)","v":{"$error":"#REF!"}},{"$f":"IF(CQ$5>=$F7799,IF(CQ$5<=#REF!,$K7799,0),0)","v":{"$error":"#REF!"}},{"$f":"IF(CR$5>=$F7799,IF(CR$5<=#REF!,$K7799,0),0)","v":{"$error":"#REF!"}},{"$f":"IF(CS$5>=$F7799,IF(CS$5<=#REF!,$K7799,0),0)","v":{"$error":"#REF!"}},{"$f":"IF(CT$5>=$F7799,IF(CT$5<=#REF!,$K7799,0),0)","v":{"$error":"#REF!"}},{"$f":"IF(CU$5>=$F7799,IF(CU$5<=#REF!,$K7799,0),0)","v":{"$error":"#REF!"}},{"$f":"IF(CV$5>=$F7799,IF(CV$5<=#REF!,$K7799,0),0)","v":{"$error":"#REF!"}},{"$f":"IF(CW$5>=$F7799,IF(CW$5<=#REF!,$K7799,0),0)","v":{"$error":"#REF!"}},{"$f":"IF(CX$5>=$F7799,IF(CX$5<=#REF!,$K7799,0),0)","v":{"$error":"#REF!"}},{"$f":"IF(CY$5>=$F7799,IF(CY$5<=#REF!,$K7799,0),0)","v":{"$error":"#REF!"}},{"$f":"IF(CZ$5>=$F7799,IF(CZ$5<=#REF!,$K7799,0),0)","v":{"$error":"#REF!"}},{"$f":"IF(DA$5>=$F7799,IF(DA$5<=#REF!,$K7799,0),0)","v":{"$error":"#REF!"}},{"$f":"IF(DB$5>=$F7799,IF(DB$5<=#REF!,$K7799,0),0)","v":{"$error":"#REF!"}},{"$f":"IF(DC$5>=$F7799,IF(DC$5<=#REF!,$K7799,0),0)","v":{"$error":"#REF!"}},{"$f":"IF(DD$5>=$F7799,IF(DD$5<=#REF!,$K7799,0),0)","v":{"$error":"#REF!"}},{"$f":"IF(DE$5>=$F7799,IF(DE$5<=#REF!,$K7799,0),0)","v":{"$error":"#REF!"}},{"$f":"IF(DF$5>=$F7799,IF(DF$5<=#REF!,$K7799,0),0)","v":{"$error":"#REF!"}},{"$f":"IF(DG$5>=$F7799,IF(DG$5<=#REF!,$K7799,0),0)","v":{"$error":"#REF!"}},{"$f":"IF(DH$5>=$F7799,IF(DH$5<=#REF!,$K7799,0),0)","v":{"$error":"#REF!"}},{"$f":"IF(DI$5>=$F7799,IF(DI$5<=#REF!,$K7799,0),0)","v":{"$error":"#REF!"}},{"$f":"IF(DJ$5>=$F7799,IF(DJ$5<=#REF!,$K7799,0),0)","v":{"$error":"#REF!"}},{"$f":"IF(DK$5>=$F7799,IF(DK$5<=#REF!,$K7799,0),0)","v":{"$error":"#REF!"}},{"$f":"IF(DL$5>=$F7799,IF(DL$5<=#REF!,$K7799,0),0)","v":{"$error":"#REF!"}},{"$f":"IF(DM$5>=$F7799,IF(DM$5<=#REF!,$K7799,0),0)","v":{"$error":"#REF!"}},{"$f":"IF(DN$5>=$F7799,IF(DN$5<=#REF!,$K7799,0),0)","v":{"$error":"#REF!"}},{"$f":"IF(DO$5>=$F7799,IF(DO$5<=#REF!,$K7799,0),0)","v":{"$error":"#REF!"}},{"$f":"IF(DP$5>=$F7799,IF(DP$5<=#REF!,$K7799,0),0)","v":{"$error":"#REF!"}},{"$f":"IF(DQ$5>=$F7799,IF(DQ$5<=#REF!,$K7799,0),0)","v":{"$error":"#REF!"}},{"$f":"IF(DR$5>=$F7799,IF(DR$5<=#REF!,$K7799,0),0)","v":{"$error":"#REF!"}},{"$error":"#REF!"},"",""]
[null,null,null,null,null,null,{"$f":"IF($D7800=\"\",0,VLOOKUP(($DU7800&$C7800&$D7800),単価情報!$B$67:$C$932,2,FALSE))","v":0},0,0,0,{"$f":"IF(E7800=0,0,ROUND(E7800/#REF!,1))","v":0},{"$f":"IF(L$5>=$F7800,IF(L$5<=#REF!,$K7800,0),0)","v":{"$error":"#REF!"}},{"$f":"IF(M$5>=$F7800,IF(M$5<=#REF!,$K7800,0),0)","v":{"$error":"#REF!"}},{"$f":"IF(N$5>=$F7800,IF(N$5<=#REF!,$K7800,0),0)","v":{"$error":"#REF!"}},{"$f":"IF(O$5>=$F7800,IF(O$5<=#REF!,$K7800,0),0)","v":{"$error":"#REF!"}},{"$f":"IF(P$5>=$F7800,IF(P$5<=#REF!,$K7800,0),0)","v":{"$error":"#REF!"}},{"$f":"IF(Q$5>=$F7800,IF(Q$5<=#REF!,$K7800,0),0)","v":{"$error":"#REF!"}},{"$f":"IF(R$5>=$F7800,IF(R$5<=#REF!,$K7800,0),0)","v":{"$error":"#REF!"}},{"$f":"IF(S$5>=$F7800,IF(S$5<=#REF!,$K7800,0),0)","v":{"$error":"#REF!"}},{"$f":"IF(T$5>=$F7800,IF(T$5<=#REF!,$K7800,0),0)","v":{"$error":"#REF!"}},{"$f":"IF(U$5>=$F7800,IF(U$5<=#REF!,$K7800,0),0)","v":{"$error":"#REF!"}},{"$f":"IF(V$5>=$F7800,IF(V$5<=#REF!,$K7800,0),0)","v":{"$error":"#REF!"}},{"$f":"IF(W$5>=$F7800,IF(W$5<=#REF!,$K7800,0),0)","v":{"$error":"#REF!"}},{"$f":"IF(X$5>=$F7800,IF(X$5<=#REF!,$K7800,0),0)","v":{"$error":"#REF!"}},{"$f":"IF(Y$5>=$F7800,IF(Y$5<=#REF!,$K7800,0),0)","v":{"$error":"#REF!"}},{"$f":"IF(Z$5>=$F7800,IF(Z$5<=#REF!,$K7800,0),0)","v":{"$error":"#REF!"}},{"$f":"IF(AA$5>=$F7800,IF(AA$5<=#REF!,$K7800,0),0)","v":{"$error":"#REF!"}},{"$f":"IF(AB$5>=$F7800,IF(AB$5<=#REF!,$K7800,0),0)","v":{"$error":"#REF!"}},{"$f":"IF(AC$5>=$F7800,IF(AC$5<=#REF!,$K7800,0),0)","v":{"$error":"#REF!"}},{"$f":"IF(AD$5>=$F7800,IF(AD$5<=#REF!,$K7800,0),0)","v":{"$error":"#REF!"}},{"$f":"IF(AE$5>=$F7800,IF(AE$5<=#REF!,$K7800,0),0)","v":{"$error":"#REF!"}},{"$f":"IF(AF$5>=$F7800,IF(AF$5<=#REF!,$K7800,0),0)","v":{"$error":"#REF!"}},{"$f":"IF(AG$5>=$F7800,IF(AG$5<=#REF!,$K7800,0),0)","v":{"$error":"#REF!"}},{"$f":"IF(AH$5>=$F7800,IF(AH$5<=#REF!,$K7800,0),0)","v":{"$error":"#REF!"}},{"$f":"IF(AI$5>=$F7800,IF(AI$5<=#REF!,$K7800,0),0)","v":{"$error":"#REF!"}},{"$f":"IF(AJ$5>=$F7800,IF(AJ$5<=#REF!,$K7800,0),0)","v":{"$error":"#REF!"}},{"$f":"IF(AK$5>=$F7800,IF(AK$5<=#REF!,$K7800,0),0)","v":{"$error":"#REF!"}},{"$f":"IF(AL$5>=$F7800,IF(AL$5<=#REF!,$K7800,0),0)","v":{"$error":"#REF!"}},{"$f":"IF(AM$5>=$F7800,IF(AM$5<=#REF!,$K7800,0),0)","v":{"$error":"#REF!"}},{"$f":"IF(AN$5>=$F7800,IF(AN$5<=#REF!,$K7800,0),0)","v":{"$error":"#REF!"}},{"$f":"IF(AO$5>=$F7800,IF(AO$5<=#REF!,$K7800,0),0)","v":{"$error":"#REF!"}},{"$f":"IF(AP$5>=$F7800,IF(AP$5<=#REF!,$K7800,0),0)","v":{"$error":"#REF!"}},{"$f":"IF(AQ$5>=$F7800,IF(AQ$5<=#REF!,$K7800,0),0)","v":{"$error":"#REF!"}},{"$f":"IF(AR$5>=$F7800,IF(AR$5<=#REF!,$K7800,0),0)","v":{"$error":"#REF!"}},{"$f":"IF(AS$5>=$F7800,IF(AS$5<=#REF!,$K7800,0),0)","v":{"$error":"#REF!"}},{"$f":"IF(AT$5>=$F7800,IF(AT$5<=#REF!,$K7800,0),0)","v":{"$error":"#REF!"}},{"$f":"IF(AU$5>=$F7800,IF(AU$5<=#REF!,$K7800,0),0)","v":{"$error":"#REF!"}},{"$f":"IF(AV$5>=$F7800,IF(AV$5<=#REF!,$K7800,0),0)","v":{"$error":"#REF!"}},{"$f":"IF(AW$5>=$F7800,IF(AW$5<=#REF!,$K7800,0),0)","v":{"$error":"#REF!"}},{"$f":"IF(AX$5>=$F7800,IF(AX$5<=#REF!,$K7800,0),0)","v":{"$error":"#REF!"}},{"$f":"IF(AY$5>=$F7800,IF(AY$5<=#REF!,$K7800,0),0)","v":{"$error":"#REF!"}},{"$f":"IF(AZ$5>=$F7800,IF(AZ$5<=#REF!,$K7800,0),0)","v":{"$error":"#REF!"}},{"$f":"IF(BA$5>=$F7800,IF(BA$5<=#REF!,$K7800,0),0)","v":{"$error":"#REF!"}},{"$f":"IF(BB$5>=$F7800,IF(BB$5<=#REF!,$K7800,0),0)","v":{"$error":"#REF!"}},{"$f":"IF(BC$5>=$F7800,IF(BC$5<=#REF!,$K7800,0),0)","v":{"$error":"#REF!"}},{"$f":"IF(BD$5>=$F7800,IF(BD$5<=#REF!,$K7800,0),0)","v":{"$error":"#REF!"}},{"$f":"IF(BE$5>=$F7800,IF(BE$5<=#REF!,$K7800,0),0)","v":{"$error":"#REF!"}},{"$f":"IF(BF$5>=$F7800,IF(BF$5<=#REF!,$K7800,0),0)","v":{"$error":"#REF!"}},{"$f":"IF(BG$5>=$F7800,IF(BG$5<=#REF!,$K7800,0),0)","v":{"$error":"#REF!"}},{"$f":"IF(BH$5>=$F7800,IF(BH$5<=#REF!,$K7800,0),0)","v":{"$error":"#REF!"}},{"$f":"IF(BI$5>=$F7800,IF(BI$5<=#REF!,$K7800,0),0)","v":{"$error":"#REF!"}},{"$f":"IF(BJ$5>=$F7800,IF(BJ$5<=#REF!,$K7800,0),0)","v":{"$error":"#REF!"}},{"$f":"IF(BK$5>=$F7800,IF(BK$5<=#REF!,$K7800,0),0)","v":{"$error":"#REF!"}},{"$f":"IF(BL$5>=$F7800,IF(BL$5<=#REF!,$K7800,0),0)","v":{"$error":"#REF!"}},{"$f":"IF(BM$5>=$F7800,IF(BM$5<=#REF!,$K7800,0),0)","v":{"$error":"#REF!"}},{"$f":"IF(BN$5>=$F7800,IF(BN$5<=#REF!,$K7800,0),0)","v":{"$error":"#REF!"}},{"$f":"IF(BO$5>=$F7800,IF(BO$5<=#REF!,$K7800,0),0)","v":{"$error":"#REF!"}},{"$f":"IF(BP$5>=$F7800,IF(BP$5<=#REF!,$K7800,0),0)","v":{"$error":"#REF!"}},{"$f":"IF(BQ$5>=$F7800,IF(BQ$5<=#REF!,$K7800,0),0)","v":{"$error":"#REF!"}},{"$f":"IF(BR$5>=$F7800,IF(BR$5<=#REF!,$K7800,0),0)","v":{"$error":"#REF!"}},{"$f":"IF(BS$5>=$F7800,IF(BS$5<=#REF!,$K7800,0),0)","v":{"$error":"#REF!"}},{"$f":"IF(BT$5>=$F7800,IF(BT$5<=#REF!,$K7800,0),0)","v":{"$error":"#REF!"}},{"$f":"IF(BU$5>=$F7800,IF(BU$5<=#REF!,$K7800,0),0)","v":{"$error":"#REF!"}},{"$f":"IF(BV$5>=$F7800,IF(BV$5<=#REF!,$K7800,0),0)","v":{"$error":"#REF!"}},{"$f":"IF(BW$5>=$F7800,IF(BW$5<=#REF!,$K7800,0),0)","v":{"$error":"#REF!"}},{"$f":"IF(BX$5>=$F7800,IF(BX$5<=#REF!,$K7800,0),0)","v":{"$error":"#REF!"}},{"$f":"IF(BY$5>=$F7800,IF(BY$5<=#REF!,$K7800,0),0)","v":{"$error":"#REF!"}},{"$f":"IF(BZ$5>=$F7800,IF(BZ$5<=#REF!,$K7800,0),0)","v":{"$error":"#REF!"}},{"$f":"IF(CA$5>=$F7800,IF(CA$5<=#REF!,$K7800,0),0)","v":{"$error":"#REF!"}},{"$f":"IF(CB$5>=$F7800,IF(CB$5<=#REF!,$K7800,0),0)","v":{"$error":"#REF!"}},{"$f":"IF(CC$5>=$F7800,IF(CC$5<=#REF!,$K7800,0),0)","v":{"$error":"#REF!"}},{"$f":"IF(CD$5>=$F7800,IF(CD$5<=#REF!,$K7800,0),0)","v":{"$error":"#REF!"}},{"$f":"IF(CE$5>=$F7800,IF(CE$5<=#REF!,$K7800,0),0)","v":{"$error":"#REF!"}},{"$f":"IF(CF$5>=$F7800,IF(CF$5<=#REF!,$K7800,0),0)","v":{"$error":"#REF!"}},{"$f":"IF(CG$5>=$F7800,IF(CG$5<=#REF!,$K7800,0),0)","v":{"$error":"#REF!"}},{"$f":"IF(CH$5>=$F7800,IF(CH$5<=#REF!,$K7800,0),0)","v":{"$error":"#REF!"}},{"$f":"IF(CI$5>=$F7800,IF(CI$5<=#REF!,$K7800,0),0)","v":{"$error":"#REF!"}},{"$f":"IF(CJ$5>=$F7800,IF(CJ$5<=#REF!,$K7800,0),0)","v":{"$error":"#REF!"}},{"$f":"IF(CK$5>=$F7800,IF(CK$5<=#REF!,$K7800,0),0)","v":{"$error":"#REF!"}},{"$f":"IF(CL$5>=$F7800,IF(CL$5<=#REF!,$K7800,0),0)","v":{"$error":"#REF!"}},{"$f":"IF(CM$5>=$F7800,IF(CM$5<=#REF!,$K7800,0),0)","v":{"$error":"#REF!"}},{"$f":"IF(CN$5>=$F7800,IF(CN$5<=#REF!,$K7800,0),0)","v":{"$error":"#REF!"}},{"$f":"IF(CO$5>=$F7800,IF(CO$5<=#REF!,$K7800,0),0)","v":{"$error":"#REF!"}},{"$f":"IF(CP$5>=$F7800,IF(CP$5<=#REF!,$K7800,0),0)","v":{"$error":"#REF!"}},{"$f":"IF(CQ$5>=$F7800,IF(CQ$5<=#REF!,$K7800,0),0)","v":{"$error":"#REF!"}},{"$f":"IF(CR$5>=$F7800,IF(CR$5<=#REF!,$K7800,0),0)","v":{"$error":"#REF!"}},{"$f":"IF(CS$5>=$F7800,IF(CS$5<=#REF!,$K7800,0),0)","v":{"$error":"#REF!"}},{"$f":"IF(CT$5>=$F7800,IF(CT$5<=#REF!,$K7800,0),0)","v":{"$error":"#REF!"}},{"$f":"IF(CU$5>=$F7800,IF(CU$5<=#REF!,$K7800,0),0)","v":{"$error":"#REF!"}},{"$f":"IF(CV$5>=$F7800,IF(CV$5<=#REF!,$K7800,0),0)","v":{"$error":"#REF!"}},{"$f":"IF(CW$5>=$F7800,IF(CW$5<=#REF!,$K7800,0),0)","v":{"$error":"#REF!"}},{"$f":"IF(CX$5>=$F7800,IF(CX$5<=#REF!,$K7800,0),0)","v":{"$error":"#REF!"}},{"$f":"IF(CY$5>=$F7800,IF(CY$5<=#REF!,$K7800,0),0)","v":{"$error":"#REF!"}},{"$f":"IF(CZ$5>=$F7800,IF(CZ$5<=#REF!,$K7800,0),0)","v":{"$error":"#REF!"}},{"$f":"IF(DA$5>=$F7800,IF(DA$5<=#REF!,$K7800,0),0)","v":{"$error":"#REF!"}},{"$f":"IF(DB$5>=$F7800,IF(DB$5<=#REF!,$K7800,0),0)","v":{"$error":"#REF!"}},{"$f":"IF(DC$5>=$F7800,IF(DC$5<=#REF!,$K7800,0),0)","v":{"$error":"#REF!"}},{"$f":"IF(DD$5>=$F7800,IF(DD$5<=#REF!,$K7800,0),0)","v":{"$error":"#REF!"}},{"$f":"IF(DE$5>=$F7800,IF(DE$5<=#REF!,$K7800,0),0)","v":{"$error":"#REF!"}},{"$f":"IF(DF$5>=$F7800,IF(DF$5<=#REF!,$K7800,0),0)","v":{"$error":"#REF!"}},{"$f":"IF(DG$5>=$F7800,IF(DG$5<=#REF!,$K7800,0),0)","v":{"$error":"#REF!"}},{"$f":"IF(DH$5>=$F7800,IF(DH$5<=#REF!,$K7800,0),0)","v":{"$error":"#REF!"}},{"$f":"IF(DI$5>=$F7800,IF(DI$5<=#REF!,$K7800,0),0)","v":{"$error":"#REF!"}},{"$f":"IF(DJ$5>=$F7800,IF(DJ$5<=#REF!,$K7800,0),0)","v":{"$error":"#REF!"}},{"$f":"IF(DK$5>=$F7800,IF(DK$5<=#REF!,$K7800,0),0)","v":{"$error":"#REF!"}},{"$f":"IF(DL$5>=$F7800,IF(DL$5<=#REF!,$K7800,0),0)","v":{"$error":"#REF!"}},{"$f":"IF(DM$5>=$F7800,IF(DM$5<=#REF!,$K7800,0),0)","v":{"$error":"#REF!"}},{"$f":"IF(DN$5>=$F7800,IF(DN$5<=#REF!,$K7800,0),0)","v":{"$error":"#REF!"}},{"$f":"IF(DO$5>=$F7800,IF(DO$5<=#REF!,$K7800,0),0)","v":{"$error":"#REF!"}},{"$f":"IF(DP$5>=$F7800,IF(DP$5<=#REF!,$K7800,0),0)","v":{"$error":"#REF!"}},{"$f":"IF(DQ$5>=$F7800,IF(DQ$5<=#REF!,$K7800,0),0)","v":{"$error":"#REF!"}},{"$f":"IF(DR$5>=$F7800,IF(DR$5<=#REF!,$K7800,0),0)","v":{"$error":"#REF!"}},{"$error":"#REF!"},"",""]
[null,null,null,null,null,null,{"$f":"IF($D7801=\"\",0,VLOOKUP(($DU7801&$C7801&$D7801),単価情報!$B$67:$C$932,2,FALSE))","v":0},0,0,0,{"$f":"IF(E7801=0,0,ROUND(E7801/#REF!,1))","v":0},{"$f":"IF(L$5>=$F7801,IF(L$5<=#REF!,$K7801,0),0)","v":{"$error":"#REF!"}},{"$f":"IF(M$5>=$F7801,IF(M$5<=#REF!,$K7801,0),0)","v":{"$error":"#REF!"}},{"$f":"IF(N$5>=$F7801,IF(N$5<=#REF!,$K7801,0),0)","v":{"$error":"#REF!"}},{"$f":"IF(O$5>=$F7801,IF(O$5<=#REF!,$K7801,0),0)","v":{"$error":"#REF!"}},{"$f":"IF(P$5>=$F7801,IF(P$5<=#REF!,$K7801,0),0)","v":{"$error":"#REF!"}},{"$f":"IF(Q$5>=$F7801,IF(Q$5<=#REF!,$K7801,0),0)","v":{"$error":"#REF!"}},{"$f":"IF(R$5>=$F7801,IF(R$5<=#REF!,$K7801,0),0)","v":{"$error":"#REF!"}},{"$f":"IF(S$5>=$F7801,IF(S$5<=#REF!,$K7801,0),0)","v":{"$error":"#REF!"}},{"$f":"IF(T$5>=$F7801,IF(T$5<=#REF!,$K7801,0),0)","v":{"$error":"#REF!"}},{"$f":"IF(U$5>=$F7801,IF(U$5<=#REF!,$K7801,0),0)","v":{"$error":"#REF!"}},{"$f":"IF(V$5>=$F7801,IF(V$5<=#REF!,$K7801,0),0)","v":{"$error":"#REF!"}},{"$f":"IF(W$5>=$F7801,IF(W$5<=#REF!,$K7801,0),0)","v":{"$error":"#REF!"}},{"$f":"IF(X$5>=$F7801,IF(X$5<=#REF!,$K7801,0),0)","v":{"$error":"#REF!"}},{"$f":"IF(Y$5>=$F7801,IF(Y$5<=#REF!,$K7801,0),0)","v":{"$error":"#REF!"}},{"$f":"IF(Z$5>=$F7801,IF(Z$5<=#REF!,$K7801,0),0)","v":{"$error":"#REF!"}},{"$f":"IF(AA$5>=$F7801,IF(AA$5<=#REF!,$K7801,0),0)","v":{"$error":"#REF!"}},{"$f":"IF(AB$5>=$F7801,IF(AB$5<=#REF!,$K7801,0),0)","v":{"$error":"#REF!"}},{"$f":"IF(AC$5>=$F7801,IF(AC$5<=#REF!,$K7801,0),0)","v":{"$error":"#REF!"}},{"$f":"IF(AD$5>=$F7801,IF(AD$5<=#REF!,$K7801,0),0)","v":{"$error":"#REF!"}},{"$f":"IF(AE$5>=$F7801,IF(AE$5<=#REF!,$K7801,0),0)","v":{"$error":"#REF!"}},{"$f":"IF(AF$5>=$F7801,IF(AF$5<=#REF!,$K7801,0),0)","v":{"$error":"#REF!"}},{"$f":"IF(AG$5>=$F7801,IF(AG$5<=#REF!,$K7801,0),0)","v":{"$error":"#REF!"}},{"$f":"IF(AH$5>=$F7801,IF(AH$5<=#REF!,$K7801,0),0)","v":{"$error":"#REF!"}},{"$f":"IF(AI$5>=$F7801,IF(AI$5<=#REF!,$K7801,0),0)","v":{"$error":"#REF!"}},{"$f":"IF(AJ$5>=$F7801,IF(AJ$5<=#REF!,$K7801,0),0)","v":{"$error":"#REF!"}},{"$f":"IF(AK$5>=$F7801,IF(AK$5<=#REF!,$K7801,0),0)","v":{"$error":"#REF!"}},{"$f":"IF(AL$5>=$F7801,IF(AL$5<=#REF!,$K7801,0),0)","v":{"$error":"#REF!"}},{"$f":"IF(AM$5>=$F7801,IF(AM$5<=#REF!,$K7801,0),0)","v":{"$error":"#REF!"}},{"$f":"IF(AN$5>=$F7801,IF(AN$5<=#REF!,$K7801,0),0)","v":{"$error":"#REF!"}},{"$f":"IF(AO$5>=$F7801,IF(AO$5<=#REF!,$K7801,0),0)","v":{"$error":"#REF!"}},{"$f":"IF(AP$5>=$F7801,IF(AP$5<=#REF!,$K7801,0),0)","v":{"$error":"#REF!"}},{"$f":"IF(AQ$5>=$F7801,IF(AQ$5<=#REF!,$K7801,0),0)","v":{"$error":"#REF!"}},{"$f":"IF(AR$5>=$F7801,IF(AR$5<=#REF!,$K7801,0),0)","v":{"$error":"#REF!"}},{"$f":"IF(AS$5>=$F7801,IF(AS$5<=#REF!,$K7801,0),0)","v":{"$error":"#REF!"}},{"$f":"IF(AT$5>=$F7801,IF(AT$5<=#REF!,$K7801,0),0)","v":{"$error":"#REF!"}},{"$f":"IF(AU$5>=$F7801,IF(AU$5<=#REF!,$K7801,0),0)","v":{"$error":"#REF!"}},{"$f":"IF(AV$5>=$F7801,IF(AV$5<=#REF!,$K7801,0),0)","v":{"$error":"#REF!"}},{"$f":"IF(AW$5>=$F7801,IF(AW$5<=#REF!,$K7801,0),0)","v":{"$error":"#REF!"}},{"$f":"IF(AX$5>=$F7801,IF(AX$5<=#REF!,$K7801,0),0)","v":{"$error":"#REF!"}},{"$f":"IF(AY$5>=$F7801,IF(AY$5<=#REF!,$K7801,0),0)","v":{"$error":"#REF!"}},{"$f":"IF(AZ$5>=$F7801,IF(AZ$5<=#REF!,$K7801,0),0)","v":{"$error":"#REF!"}},{"$f":"IF(BA$5>=$F7801,IF(BA$5<=#REF!,$K7801,0),0)","v":{"$error":"#REF!"}},{"$f":"IF(BB$5>=$F7801,IF(BB$5<=#REF!,$K7801,0),0)","v":{"$error":"#REF!"}},{"$f":"IF(BC$5>=$F7801,IF(BC$5<=#REF!,$K7801,0),0)","v":{"$error":"#REF!"}},{"$f":"IF(BD$5>=$F7801,IF(BD$5<=#REF!,$K7801,0),0)","v":{"$error":"#REF!"}},{"$f":"IF(BE$5>=$F7801,IF(BE$5<=#REF!,$K7801,0),0)","v":{"$error":"#REF!"}},{"$f":"IF(BF$5>=$F7801,IF(BF$5<=#REF!,$K7801,0),0)","v":{"$error":"#REF!"}},{"$f":"IF(BG$5>=$F7801,IF(BG$5<=#REF!,$K7801,0),0)","v":{"$error":"#REF!"}},{"$f":"IF(BH$5>=$F7801,IF(BH$5<=#REF!,$K7801,0),0)","v":{"$error":"#REF!"}},{"$f":"IF(BI$5>=$F7801,IF(BI$5<=#REF!,$K7801,0),0)","v":{"$error":"#REF!"}},{"$f":"IF(BJ$5>=$F7801,IF(BJ$5<=#REF!,$K7801,0),0)","v":{"$error":"#REF!"}},{"$f":"IF(BK$5>=$F7801,IF(BK$5<=#REF!,$K7801,0),0)","v":{"$error":"#REF!"}},{"$f":"IF(BL$5>=$F7801,IF(BL$5<=#REF!,$K7801,0),0)","v":{"$error":"#REF!"}},{"$f":"IF(BM$5>=$F7801,IF(BM$5<=#REF!,$K7801,0),0)","v":{"$error":"#REF!"}},{"$f":"IF(BN$5>=$F7801,IF(BN$5<=#REF!,$K7801,0),0)","v":{"$error":"#REF!"}},{"$f":"IF(BO$5>=$F7801,IF(BO$5<=#REF!,$K7801,0),0)","v":{"$error":"#REF!"}},{"$f":"IF(BP$5>=$F7801,IF(BP$5<=#REF!,$K7801,0),0)","v":{"$error":"#REF!"}},{"$f":"IF(BQ$5>=$F7801,IF(BQ$5<=#REF!,$K7801,0),0)","v":{"$error":"#REF!"}},{"$f":"IF(BR$5>=$F7801,IF(BR$5<=#REF!,$K7801,0),0)","v":{"$error":"#REF!"}},{"$f":"IF(BS$5>=$F7801,IF(BS$5<=#REF!,$K7801,0),0)","v":{"$error":"#REF!"}},{"$f":"IF(BT$5>=$F7801,IF(BT$5<=#REF!,$K7801,0),0)","v":{"$error":"#REF!"}},{"$f":"IF(BU$5>=$F7801,IF(BU$5<=#REF!,$K7801,0),0)","v":{"$error":"#REF!"}},{"$f":"IF(BV$5>=$F7801,IF(BV$5<=#REF!,$K7801,0),0)","v":{"$error":"#REF!"}},{"$f":"IF(BW$5>=$F7801,IF(BW$5<=#REF!,$K7801,0),0)","v":{"$error":"#REF!"}},{"$f":"IF(BX$5>=$F7801,IF(BX$5<=#REF!,$K7801,0),0)","v":{"$error":"#REF!"}},{"$f":"IF(BY$5>=$F7801,IF(BY$5<=#REF!,$K7801,0),0)","v":{"$error":"#REF!"}},{"$f":"IF(BZ$5>=$F7801,IF(BZ$5<=#REF!,$K7801,0),0)","v":{"$error":"#REF!"}},{"$f":"IF(CA$5>=$F7801,IF(CA$5<=#REF!,$K7801,0),0)","v":{"$error":"#REF!"}},{"$f":"IF(CB$5>=$F7801,IF(CB$5<=#REF!,$K7801,0),0)","v":{"$error":"#REF!"}},{"$f":"IF(CC$5>=$F7801,IF(CC$5<=#REF!,$K7801,0),0)","v":{"$error":"#REF!"}},{"$f":"IF(CD$5>=$F7801,IF(CD$5<=#REF!,$K7801,0),0)","v":{"$error":"#REF!"}},{"$f":"IF(CE$5>=$F7801,IF(CE$5<=#REF!,$K7801,0),0)","v":{"$error":"#REF!"}},{"$f":"IF(CF$5>=$F7801,IF(CF$5<=#REF!,$K7801,0),0)","v":{"$error":"#REF!"}},{"$f":"IF(CG$5>=$F7801,IF(CG$5<=#REF!,$K7801,0),0)","v":{"$error":"#REF!"}},{"$f":"IF(CH$5>=$F7801,IF(CH$5<=#REF!,$K7801,0),0)","v":{"$error":"#REF!"}},{"$f":"IF(CI$5>=$F7801,IF(CI$5<=#REF!,$K7801,0),0)","v":{"$error":"#REF!"}},{"$f":"IF(CJ$5>=$F7801,IF(CJ$5<=#REF!,$K7801,0),0)","v":{"$error":"#REF!"}},{"$f":"IF(CK$5>=$F7801,IF(CK$5<=#REF!,$K7801,0),0)","v":{"$error":"#REF!"}},{"$f":"IF(CL$5>=$F7801,IF(CL$5<=#REF!,$K7801,0),0)","v":{"$error":"#REF!"}},{"$f":"IF(CM$5>=$F7801,IF(CM$5<=#REF!,$K7801,0),0)","v":{"$error":"#REF!"}},{"$f":"IF(CN$5>=$F7801,IF(CN$5<=#REF!,$K7801,0),0)","v":{"$error":"#REF!"}},{"$f":"IF(CO$5>=$F7801,IF(CO$5<=#REF!,$K7801,0),0)","v":{"$error":"#REF!"}},{"$f":"IF(CP$5>=$F7801,IF(CP$5<=#REF!,$K7801,0),0)","v":{"$error":"#REF!"}},{"$f":"IF(CQ$5>=$F7801,IF(CQ$5<=#REF!,$K7801,0),0)","v":{"$error":"#REF!"}},{"$f":"IF(CR$5>=$F7801,IF(CR$5<=#REF!,$K7801,0),0)","v":{"$error":"#REF!"}},{"$f":"IF(CS$5>=$F7801,IF(CS$5<=#REF!,$K7801,0),0)","v":{"$error":"#REF!"}},{"$f":"IF(CT$5>=$F7801,IF(CT$5<=#REF!,$K7801,0),0)","v":{"$error":"#REF!"}},{"$f":"IF(CU$5>=$F7801,IF(CU$5<=#REF!,$K7801,0),0)","v":{"$error":"#REF!"}},{"$f":"IF(CV$5>=$F7801,IF(CV$5<=#REF!,$K7801,0),0)","v":{"$error":"#REF!"}},{"$f":"IF(CW$5>=$F7801,IF(CW$5<=#REF!,$K7801,0),0)","v":{"$error":"#REF!"}},{"$f":"IF(CX$5>=$F7801,IF(CX$5<=#REF!,$K7801,0),0)","v":{"$error":"#REF!"}},{"$f":"IF(CY$5>=$F7801,IF(CY$5<=#REF!,$K7801,0),0)","v":{"$error":"#REF!"}},{"$f":"IF(CZ$5>=$F7801,IF(CZ$5<=#REF!,$K7801,0),0)","v":{"$error":"#REF!"}},{"$f":"IF(DA$5>=$F7801,IF(DA$5<=#REF!,$K7801,0),0)","v":{"$error":"#REF!"}},{"$f":"IF(DB$5>=$F7801,IF(DB$5<=#REF!,$K7801,0),0)","v":{"$error":"#REF!"}},{"$f":"IF(DC$5>=$F7801,IF(DC$5<=#REF!,$K7801,0),0)","v":{"$error":"#REF!"}},{"$f":"IF(DD$5>=$F7801,IF(DD$5<=#REF!,$K7801,0),0)","v":{"$error":"#REF!"}},{"$f":"IF(DE$5>=$F7801,IF(DE$5<=#REF!,$K7801,0),0)","v":{"$error":"#REF!"}},{"$f":"IF(DF$5>=$F7801,IF(DF$5<=#REF!,$K7801,0),0)","v":{"$error":"#REF!"}},{"$f":"IF(DG$5>=$F7801,IF(DG$5<=#REF!,$K7801,0),0)","v":{"$error":"#REF!"}},{"$f":"IF(DH$5>=$F7801,IF(DH$5<=#REF!,$K7801,0),0)","v":{"$error":"#REF!"}},{"$f":"IF(DI$5>=$F7801,IF(DI$5<=#REF!,$K7801,0),0)","v":{"$error":"#REF!"}},{"$f":"IF(DJ$5>=$F7801,IF(DJ$5<=#REF!,$K7801,0),0)","v":{"$error":"#REF!"}},{"$f":"IF(DK$5>=$F7801,IF(DK$5<=#REF!,$K7801,0),0)","v":{"$error":"#REF!"}},{"$f":"IF(DL$5>=$F7801,IF(DL$5<=#REF!,$K7801,0),0)","v":{"$error":"#REF!"}},{"$f":"IF(DM$5>=$F7801,IF(DM$5<=#REF!,$K7801,0),0)","v":{"$error":"#REF!"}},{"$f":"IF(DN$5>=$F7801,IF(DN$5<=#REF!,$K7801,0),0)","v":{"$error":"#REF!"}},{"$f":"IF(DO$5>=$F7801,IF(DO$5<=#REF!,$K7801,0),0)","v":{"$error":"#REF!"}},{"$f":"IF(DP$5>=$F7801,IF(DP$5<=#REF!,$K7801,0),0)","v":{"$error":"#REF!"}},{"$f":"IF(DQ$5>=$F7801,IF(DQ$5<=#REF!,$K7801,0),0)","v":{"$error":"#REF!"}},{"$f":"IF(DR$5>=$F7801,IF(DR$5<=#REF!,$K7801,0),0)","v":{"$error":"#REF!"}},{"$error":"#REF!"},"",""]
[null,null,null,null,null,null,{"$f":"IF($D7802=\"\",0,VLOOKUP(($DU7802&$C7802&$D7802),単価情報!$B$67:$C$932,2,FALSE))","v":0},0,0,0,{"$f":"IF(E7802=0,0,ROUND(E7802/#REF!,1))","v":0},{"$f":"IF(L$5>=$F7802,IF(L$5<=#REF!,$K7802,0),0)","v":{"$error":"#REF!"}},{"$f":"IF(M$5>=$F7802,IF(M$5<=#REF!,$K7802,0),0)","v":{"$error":"#REF!"}},{"$f":"IF(N$5>=$F7802,IF(N$5<=#REF!,$K7802,0),0)","v":{"$error":"#REF!"}},{"$f":"IF(O$5>=$F7802,IF(O$5<=#REF!,$K7802,0),0)","v":{"$error":"#REF!"}},{"$f":"IF(P$5>=$F7802,IF(P$5<=#REF!,$K7802,0),0)","v":{"$error":"#REF!"}},{"$f":"IF(Q$5>=$F7802,IF(Q$5<=#REF!,$K7802,0),0)","v":{"$error":"#REF!"}},{"$f":"IF(R$5>=$F7802,IF(R$5<=#REF!,$K7802,0),0)","v":{"$error":"#REF!"}},{"$f":"IF(S$5>=$F7802,IF(S$5<=#REF!,$K7802,0),0)","v":{"$error":"#REF!"}},{"$f":"IF(T$5>=$F7802,IF(T$5<=#REF!,$K7802,0),0)","v":{"$error":"#REF!"}},{"$f":"IF(U$5>=$F7802,IF(U$5<=#REF!,$K7802,0),0)","v":{"$error":"#REF!"}},{"$f":"IF(V$5>=$F7802,IF(V$5<=#REF!,$K7802,0),0)","v":{"$error":"#REF!"}},{"$f":"IF(W$5>=$F7802,IF(W$5<=#REF!,$K7802,0),0)","v":{"$error":"#REF!"}},{"$f":"IF(X$5>=$F7802,IF(X$5<=#REF!,$K7802,0),0)","v":{"$error":"#REF!"}},{"$f":"IF(Y$5>=$F7802,IF(Y$5<=#REF!,$K7802,0),0)","v":{"$error":"#REF!"}},{"$f":"IF(Z$5>=$F7802,IF(Z$5<=#REF!,$K7802,0),0)","v":{"$error":"#REF!"}},{"$f":"IF(AA$5>=$F7802,IF(AA$5<=#REF!,$K7802,0),0)","v":{"$error":"#REF!"}},{"$f":"IF(AB$5>=$F7802,IF(AB$5<=#REF!,$K7802,0),0)","v":{"$error":"#REF!"}},{"$f":"IF(AC$5>=$F7802,IF(AC$5<=#REF!,$K7802,0),0)","v":{"$error":"#REF!"}},{"$f":"IF(AD$5>=$F7802,IF(AD$5<=#REF!,$K7802,0),0)","v":{"$error":"#REF!"}},{"$f":"IF(AE$5>=$F7802,IF(AE$5<=#REF!,$K7802,0),0)","v":{"$error":"#REF!"}},{"$f":"IF(AF$5>=$F7802,IF(AF$5<=#REF!,$K7802,0),0)","v":{"$error":"#REF!"}},{"$f":"IF(AG$5>=$F7802,IF(AG$5<=#REF!,$K7802,0),0)","v":{"$error":"#REF!"}},{"$f":"IF(AH$5>=$F7802,IF(AH$5<=#REF!,$K7802,0),0)","v":{"$error":"#REF!"}},{"$f":"IF(AI$5>=$F7802,IF(AI$5<=#REF!,$K7802,0),0)","v":{"$error":"#REF!"}},{"$f":"IF(AJ$5>=$F7802,IF(AJ$5<=#REF!,$K7802,0),0)","v":{"$error":"#REF!"}},{"$f":"IF(AK$5>=$F7802,IF(AK$5<=#REF!,$K7802,0),0)","v":{"$error":"#REF!"}},{"$f":"IF(AL$5>=$F7802,IF(AL$5<=#REF!,$K7802,0),0)","v":{"$error":"#REF!"}},{"$f":"IF(AM$5>=$F7802,IF(AM$5<=#REF!,$K7802,0),0)","v":{"$error":"#REF!"}},{"$f":"IF(AN$5>=$F7802,IF(AN$5<=#REF!,$K7802,0),0)","v":{"$error":"#REF!"}},{"$f":"IF(AO$5>=$F7802,IF(AO$5<=#REF!,$K7802,0),0)","v":{"$error":"#REF!"}},{"$f":"IF(AP$5>=$F7802,IF(AP$5<=#REF!,$K7802,0),0)","v":{"$error":"#REF!"}},{"$f":"IF(AQ$5>=$F7802,IF(AQ$5<=#REF!,$K7802,0),0)","v":{"$error":"#REF!"}},{"$f":"IF(AR$5>=$F7802,IF(AR$5<=#REF!,$K7802,0),0)","v":{"$error":"#REF!"}},{"$f":"IF(AS$5>=$F7802,IF(AS$5<=#REF!,$K7802,0),0)","v":{"$error":"#REF!"}},{"$f":"IF(AT$5>=$F7802,IF(AT$5<=#REF!,$K7802,0),0)","v":{"$error":"#REF!"}},{"$f":"IF(AU$5>=$F7802,IF(AU$5<=#REF!,$K7802,0),0)","v":{"$error":"#REF!"}},{"$f":"IF(AV$5>=$F7802,IF(AV$5<=#REF!,$K7802,0),0)","v":{"$error":"#REF!"}},{"$f":"IF(AW$5>=$F7802,IF(AW$5<=#REF!,$K7802,0),0)","v":{"$error":"#REF!"}},{"$f":"IF(AX$5>=$F7802,IF(AX$5<=#REF!,$K7802,0),0)","v":{"$error":"#REF!"}},{"$f":"IF(AY$5>=$F7802,IF(AY$5<=#REF!,$K7802,0),0)","v":{"$error":"#REF!"}},{"$f":"IF(AZ$5>=$F7802,IF(AZ$5<=#REF!,$K7802,0),0)","v":{"$error":"#REF!"}},{"$f":"IF(BA$5>=$F7802,IF(BA$5<=#REF!,$K7802,0),0)","v":{"$error":"#REF!"}},{"$f":"IF(BB$5>=$F7802,IF(BB$5<=#REF!,$K7802,0),0)","v":{"$error":"#REF!"}},{"$f":"IF(BC$5>=$F7802,IF(BC$5<=#REF!,$K7802,0),0)","v":{"$error":"#REF!"}},{"$f":"IF(BD$5>=$F7802,IF(BD$5<=#REF!,$K7802,0),0)","v":{"$error":"#REF!"}},{"$f":"IF(BE$5>=$F7802,IF(BE$5<=#REF!,$K7802,0),0)","v":{"$error":"#REF!"}},{"$f":"IF(BF$5>=$F7802,IF(BF$5<=#REF!,$K7802,0),0)","v":{"$error":"#REF!"}},{"$f":"IF(BG$5>=$F7802,IF(BG$5<=#REF!,$K7802,0),0)","v":{"$error":"#REF!"}},{"$f":"IF(BH$5>=$F7802,IF(BH$5<=#REF!,$K7802,0),0)","v":{"$error":"#REF!"}},{"$f":"IF(BI$5>=$F7802,IF(BI$5<=#REF!,$K7802,0),0)","v":{"$error":"#REF!"}},{"$f":"IF(BJ$5>=$F7802,IF(BJ$5<=#REF!,$K7802,0),0)","v":{"$error":"#REF!"}},{"$f":"IF(BK$5>=$F7802,IF(BK$5<=#REF!,$K7802,0),0)","v":{"$error":"#REF!"}},{"$f":"IF(BL$5>=$F7802,IF(BL$5<=#REF!,$K7802,0),0)","v":{"$error":"#REF!"}},{"$f":"IF(BM$5>=$F7802,IF(BM$5<=#REF!,$K7802,0),0)","v":{"$error":"#REF!"}},{"$f":"IF(BN$5>=$F7802,IF(BN$5<=#REF!,$K7802,0),0)","v":{"$error":"#REF!"}},{"$f":"IF(BO$5>=$F7802,IF(BO$5<=#REF!,$K7802,0),0)","v":{"$error":"#REF!"}},{"$f":"IF(BP$5>=$F7802,IF(BP$5<=#REF!,$K7802,0),0)","v":{"$error":"#REF!"}},{"$f":"IF(BQ$5>=$F7802,IF(BQ$5<=#REF!,$K7802,0),0)","v":{"$error":"#REF!"}},{"$f":"IF(BR$5>=$F7802,IF(BR$5<=#REF!,$K7802,0),0)","v":{"$error":"#REF!"}},{"$f":"IF(BS$5>=$F7802,IF(BS$5<=#REF!,$K7802,0),0)","v":{"$error":"#REF!"}},{"$f":"IF(BT$5>=$F7802,IF(BT$5<=#REF!,$K7802,0),0)","v":{"$error":"#REF!"}},{"$f":"IF(BU$5>=$F7802,IF(BU$5<=#REF!,$K7802,0),0)","v":{"$error":"#REF!"}},{"$f":"IF(BV$5>=$F7802,IF(BV$5<=#REF!,$K7802,0),0)","v":{"$error":"#REF!"}},{"$f":"IF(BW$5>=$F7802,IF(BW$5<=#REF!,$K7802,0),0)","v":{"$error":"#REF!"}},{"$f":"IF(BX$5>=$F7802,IF(BX$5<=#REF!,$K7802,0),0)","v":{"$error":"#REF!"}},{"$f":"IF(BY$5>=$F7802,IF(BY$5<=#REF!,$K7802,0),0)","v":{"$error":"#REF!"}},{"$f":"IF(BZ$5>=$F7802,IF(BZ$5<=#REF!,$K7802,0),0)","v":{"$error":"#REF!"}},{"$f":"IF(CA$5>=$F7802,IF(CA$5<=#REF!,$K7802,0),0)","v":{"$error":"#REF!"}},{"$f":"IF(CB$5>=$F7802,IF(CB$5<=#REF!,$K7802,0),0)","v":{"$error":"#REF!"}},{"$f":"IF(CC$5>=$F7802,IF(CC$5<=#REF!,$K7802,0),0)","v":{"$error":"#REF!"}},{"$f":"IF(CD$5>=$F7802,IF(CD$5<=#REF!,$K7802,0),0)","v":{"$error":"#REF!"}},{"$f":"IF(CE$5>=$F7802,IF(CE$5<=#REF!,$K7802,0),0)","v":{"$error":"#REF!"}},{"$f":"IF(CF$5>=$F7802,IF(CF$5<=#REF!,$K7802,0),0)","v":{"$error":"#REF!"}},{"$f":"IF(CG$5>=$F7802,IF(CG$5<=#REF!,$K7802,0),0)","v":{"$error":"#REF!"}},{"$f":"IF(CH$5>=$F7802,IF(CH$5<=#REF!,$K7802,0),0)","v":{"$error":"#REF!"}},{"$f":"IF(CI$5>=$F7802,IF(CI$5<=#REF!,$K7802,0),0)","v":{"$error":"#REF!"}},{"$f":"IF(CJ$5>=$F7802,IF(CJ$5<=#REF!,$K7802,0),0)","v":{"$error":"#REF!"}},{"$f":"IF(CK$5>=$F7802,IF(CK$5<=#REF!,$K7802,0),0)","v":{"$error":"#REF!"}},{"$f":"IF(CL$5>=$F7802,IF(CL$5<=#REF!,$K7802,0),0)","v":{"$error":"#REF!"}},{"$f":"IF(CM$5>=$F7802,IF(CM$5<=#REF!,$K7802,0),0)","v":{"$error":"#REF!"}},{"$f":"IF(CN$5>=$F7802,IF(CN$5<=#REF!,$K7802,0),0)","v":{"$error":"#REF!"}},{"$f":"IF(CO$5>=$F7802,IF(CO$5<=#REF!,$K7802,0),0)","v":{"$error":"#REF!"}},{"$f":"IF(CP$5>=$F7802,IF(CP$5<=#REF!,$K7802,0),0)","v":{"$error":"#REF!"}},{"$f":"IF(CQ$5>=$F7802,IF(CQ$5<=#REF!,$K7802,0),0)","v":{"$error":"#REF!"}},{"$f":"IF(CR$5>=$F7802,IF(CR$5<=#REF!,$K7802,0),0)","v":{"$error":"#REF!"}},{"$f":"IF(CS$5>=$F7802,IF(CS$5<=#REF!,$K7802,0),0)","v":{"$error":"#REF!"}},{"$f":"IF(CT$5>=$F7802,IF(CT$5<=#REF!,$K7802,0),0)","v":{"$error":"#REF!"}},{"$f":"IF(CU$5>=$F7802,IF(CU$5<=#REF!,$K7802,0),0)","v":{"$error":"#REF!"}},{"$f":"IF(CV$5>=$F7802,IF(CV$5<=#REF!,$K7802,0),0)","v":{"$error":"#REF!"}},{"$f":"IF(CW$5>=$F7802,IF(CW$5<=#REF!,$K7802,0),0)","v":{"$error":"#REF!"}},{"$f":"IF(CX$5>=$F7802,IF(CX$5<=#REF!,$K7802,0),0)","v":{"$error":"#REF!"}},{"$f":"IF(CY$5>=$F7802,IF(CY$5<=#REF!,$K7802,0),0)","v":{"$error":"#REF!"}},{"$f":"IF(CZ$5>=$F7802,IF(CZ$5<=#REF!,$K7802,0),0)","v":{"$error":"#REF!"}},{"$f":"IF(DA$5>=$F7802,IF(DA$5<=#REF!,$K7802,0),0)","v":{"$error":"#REF!"}},{"$f":"IF(DB$5>=$F7802,IF(DB$5<=#REF!,$K7802,0),0)","v":{"$error":"#REF!"}},{"$f":"IF(DC$5>=$F7802,IF(DC$5<=#REF!,$K7802,0),0)","v":{"$error":"#REF!"}},{"$f":"IF(DD$5>=$F7802,IF(DD$5<=#REF!,$K7802,0),0)","v":{"$error":"#REF!"}},{"$f":"IF(DE$5>=$F7802,IF(DE$5<=#REF!,$K7802,0),0)","v":{"$error":"#REF!"}},{"$f":"IF(DF$5>=$F7802,IF(DF$5<=#REF!,$K7802,0),0)","v":{"$error":"#REF!"}},{"$f":"IF(DG$5>=$F7802,IF(DG$5<=#REF!,$K7802,0),0)","v":{"$error":"#REF!"}},{"$f":"IF(DH$5>=$F7802,IF(DH$5<=#REF!,$K7802,0),0)","v":{"$error":"#REF!"}},{"$f":"IF(DI$5>=$F7802,IF(DI$5<=#REF!,$K7802,0),0)","v":{"$error":"#REF!"}},{"$f":"IF(DJ$5>=$F7802,IF(DJ$5<=#REF!,$K7802,0),0)","v":{"$error":"#REF!"}},{"$f":"IF(DK$5>=$F7802,IF(DK$5<=#REF!,$K7802,0),0)","v":{"$error":"#REF!"}},{"$f":"IF(DL$5>=$F7802,IF(DL$5<=#REF!,$K7802,0),0)","v":{"$error":"#REF!"}},{"$f":"IF(DM$5>=$F7802,IF(DM$5<=#REF!,$K7802,0),0)","v":{"$error":"#REF!"}},{"$f":"IF(DN$5>=$F7802,IF(DN$5<=#REF!,$K7802,0),0)","v":{"$error":"#REF!"}},{"$f":"IF(DO$5>=$F7802,IF(DO$5<=#REF!,$K7802,0),0)","v":{"$error":"#REF!"}},{"$f":"IF(DP$5>=$F7802,IF(DP$5<=#REF!,$K7802,0),0)","v":{"$error":"#REF!"}},{"$f":"IF(DQ$5>=$F7802,IF(DQ$5<=#REF!,$K7802,0),0)","v":{"$error":"#REF!"}},{"$f":"IF(DR$5>=$F7802,IF(DR$5<=#REF!,$K7802,0),0)","v":{"$error":"#REF!"}},{"$f":"SUM(L7802:DR7802)","v":{"$error":"#REF!"}},"",""]
[null,null,null,null,null,null,{"$f":"IF($D7803=\"\",0,VLOOKUP(($DU7803&$C7803&$D7803),単価情報!$B$67:$C$932,2,FALSE))","v":0},0,0,0,{"$f":"IF(E7803=0,0,ROUND(E7803/#REF!,1))","v":0},{"$f":"IF(L$5>=$F7803,IF(L$5<=#REF!,$K7803,0),0)","v":{"$error":"#REF!"}},{"$f":"IF(M$5>=$F7803,IF(M$5<=#REF!,$K7803,0),0)","v":{"$error":"#REF!"}},{"$f":"IF(N$5>=$F7803,IF(N$5<=#REF!,$K7803,0),0)","v":{"$error":"#REF!"}},{"$f":"IF(O$5>=$F7803,IF(O$5<=#REF!,$K7803,0),0)","v":{"$error":"#REF!"}},{"$f":"IF(P$5>=$F7803,IF(P$5<=#REF!,$K7803,0),0)","v":{"$error":"#REF!"}},{"$f":"IF(Q$5>=$F7803,IF(Q$5<=#REF!,$K7803,0),0)","v":{"$error":"#REF!"}},{"$f":"IF(R$5>=$F7803,IF(R$5<=#REF!,$K7803,0),0)","v":{"$error":"#REF!"}},{"$f":"IF(S$5>=$F7803,IF(S$5<=#REF!,$K7803,0),0)","v":{"$error":"#REF!"}},{"$f":"IF(T$5>=$F7803,IF(T$5<=#REF!,$K7803,0),0)","v":{"$error":"#REF!"}},{"$f":"IF(U$5>=$F7803,IF(U$5<=#REF!,$K7803,0),0)","v":{"$error":"#REF!"}},{"$f":"IF(V$5>=$F7803,IF(V$5<=#REF!,$K7803,0),0)","v":{"$error":"#REF!"}},{"$f":"IF(W$5>=$F7803,IF(W$5<=#REF!,$K7803,0),0)","v":{"$error":"#REF!"}},{"$f":"IF(X$5>=$F7803,IF(X$5<=#REF!,$K7803,0),0)","v":{"$error":"#REF!"}},{"$f":"IF(Y$5>=$F7803,IF(Y$5<=#REF!,$K7803,0),0)","v":{"$error":"#REF!"}},{"$f":"IF(Z$5>=$F7803,IF(Z$5<=#REF!,$K7803,0),0)","v":{"$error":"#REF!"}},{"$f":"IF(AA$5>=$F7803,IF(AA$5<=#REF!,$K7803,0),0)","v":{"$error":"#REF!"}},{"$f":"IF(AB$5>=$F7803,IF(AB$5<=#REF!,$K7803,0),0)","v":{"$error":"#REF!"}},{"$f":"IF(AC$5>=$F7803,IF(AC$5<=#REF!,$K7803,0),0)","v":{"$error":"#REF!"}},{"$f":"IF(AD$5>=$F7803,IF(AD$5<=#REF!,$K7803,0),0)","v":{"$error":"#REF!"}},{"$f":"IF(AE$5>=$F7803,IF(AE$5<=#REF!,$K7803,0),0)","v":{"$error":"#REF!"}},{"$f":"IF(AF$5>=$F7803,IF(AF$5<=#REF!,$K7803,0),0)","v":{"$error":"#REF!"}},{"$f":"IF(AG$5>=$F7803,IF(AG$5<=#REF!,$K7803,0),0)","v":{"$error":"#REF!"}},{"$f":"IF(AH$5>=$F7803,IF(AH$5<=#REF!,$K7803,0),0)","v":{"$error":"#REF!"}},{"$f":"IF(AI$5>=$F7803,IF(AI$5<=#REF!,$K7803,0),0)","v":{"$error":"#REF!"}},{"$f":"IF(AJ$5>=$F7803,IF(AJ$5<=#REF!,$K7803,0),0)","v":{"$error":"#REF!"}},{"$f":"IF(AK$5>=$F7803,IF(AK$5<=#REF!,$K7803,0),0)","v":{"$error":"#REF!"}},{"$f":"IF(AL$5>=$F7803,IF(AL$5<=#REF!,$K7803,0),0)","v":{"$error":"#REF!"}},{"$f":"IF(AM$5>=$F7803,IF(AM$5<=#REF!,$K7803,0),0)","v":{"$error":"#REF!"}},{"$f":"IF(AN$5>=$F7803,IF(AN$5<=#REF!,$K7803,0),0)","v":{"$error":"#REF!"}},{"$f":"IF(AO$5>=$F7803,IF(AO$5<=#REF!,$K7803,0),0)","v":{"$error":"#REF!"}},{"$f":"IF(AP$5>=$F7803,IF(AP$5<=#REF!,$K7803,0),0)","v":{"$error":"#REF!"}},{"$f":"IF(AQ$5>=$F7803,IF(AQ$5<=#REF!,$K7803,0),0)","v":{"$error":"#REF!"}},{"$f":"IF(AR$5>=$F7803,IF(AR$5<=#REF!,$K7803,0),0)","v":{"$error":"#REF!"}},{"$f":"IF(AS$5>=$F7803,IF(AS$5<=#REF!,$K7803,0),0)","v":{"$error":"#REF!"}},{"$f":"IF(AT$5>=$F7803,IF(AT$5<=#REF!,$K7803,0),0)","v":{"$error":"#REF!"}},{"$f":"IF(AU$5>=$F7803,IF(AU$5<=#REF!,$K7803,0),0)","v":{"$error":"#REF!"}},{"$f":"IF(AV$5>=$F7803,IF(AV$5<=#REF!,$K7803,0),0)","v":{"$error":"#REF!"}},{"$f":"IF(AW$5>=$F7803,IF(AW$5<=#REF!,$K7803,0),0)","v":{"$error":"#REF!"}},{"$f":"IF(AX$5>=$F7803,IF(AX$5<=#REF!,$K7803,0),0)","v":{"$error":"#REF!"}},{"$f":"IF(AY$5>=$F7803,IF(AY$5<=#REF!,$K7803,0),0)","v":{"$error":"#REF!"}},{"$f":"IF(AZ$5>=$F7803,IF(AZ$5<=#REF!,$K7803,0),0)","v":{"$error":"#REF!"}},{"$f":"IF(BA$5>=$F7803,IF(BA$5<=#REF!,$K7803,0),0)","v":{"$error":"#REF!"}},{"$f":"IF(BB$5>=$F7803,IF(BB$5<=#REF!,$K7803,0),0)","v":{"$error":"#REF!"}},{"$f":"IF(BC$5>=$F7803,IF(BC$5<=#REF!,$K7803,0),0)","v":{"$error":"#REF!"}},{"$f":"IF(BD$5>=$F7803,IF(BD$5<=#REF!,$K7803,0),0)","v":{"$error":"#REF!"}},{"$f":"IF(BE$5>=$F7803,IF(BE$5<=#REF!,$K7803,0),0)","v":{"$error":"#REF!"}},{"$f":"IF(BF$5>=$F7803,IF(BF$5<=#REF!,$K7803,0),0)","v":{"$error":"#REF!"}},{"$f":"IF(BG$5>=$F7803,IF(BG$5<=#REF!,$K7803,0),0)","v":{"$error":"#REF!"}},{"$f":"IF(BH$5>=$F7803,IF(BH$5<=#REF!,$K7803,0),0)","v":{"$error":"#REF!"}},{"$f":"IF(BI$5>=$F7803,IF(BI$5<=#REF!,$K7803,0),0)","v":{"$error":"#REF!"}},{"$f":"IF(BJ$5>=$F7803,IF(BJ$5<=#REF!,$K7803,0),0)","v":{"$error":"#REF!"}},{"$f":"IF(BK$5>=$F7803,IF(BK$5<=#REF!,$K7803,0),0)","v":{"$error":"#REF!"}},{"$f":"IF(BL$5>=$F7803,IF(BL$5<=#REF!,$K7803,0),0)","v":{"$error":"#REF!"}},{"$f":"IF(BM$5>=$F7803,IF(BM$5<=#REF!,$K7803,0),0)","v":{"$error":"#REF!"}},{"$f":"IF(BN$5>=$F7803,IF(BN$5<=#REF!,$K7803,0),0)","v":{"$error":"#REF!"}},{"$f":"IF(BO$5>=$F7803,IF(BO$5<=#REF!,$K7803,0),0)","v":{"$error":"#REF!"}},{"$f":"IF(BP$5>=$F7803,IF(BP$5<=#REF!,$K7803,0),0)","v":{"$error":"#REF!"}},{"$f":"IF(BQ$5>=$F7803,IF(BQ$5<=#REF!,$K7803,0),0)","v":{"$error":"#REF!"}},{"$f":"IF(BR$5>=$F7803,IF(BR$5<=#REF!,$K7803,0),0)","v":{"$error":"#REF!"}},{"$f":"IF(BS$5>=$F7803,IF(BS$5<=#REF!,$K7803,0),0)","v":{"$error":"#REF!"}},{"$f":"IF(BT$5>=$F7803,IF(BT$5<=#REF!,$K7803,0),0)","v":{"$error":"#REF!"}},{"$f":"IF(BU$5>=$F7803,IF(BU$5<=#REF!,$K7803,0),0)","v":{"$error":"#REF!"}},{"$f":"IF(BV$5>=$F7803,IF(BV$5<=#REF!,$K7803,0),0)","v":{"$error":"#REF!"}},{"$f":"IF(BW$5>=$F7803,IF(BW$5<=#REF!,$K7803,0),0)","v":{"$error":"#REF!"}},{"$f":"IF(BX$5>=$F7803,IF(BX$5<=#REF!,$K7803,0),0)","v":{"$error":"#REF!"}},{"$f":"IF(BY$5>=$F7803,IF(BY$5<=#REF!,$K7803,0),0)","v":{"$error":"#REF!"}},{"$f":"IF(BZ$5>=$F7803,IF(BZ$5<=#REF!,$K7803,0),0)","v":{"$error":"#REF!"}},{"$f":"IF(CA$5>=$F7803,IF(CA$5<=#REF!,$K7803,0),0)","v":{"$error":"#REF!"}},{"$f":"IF(CB$5>=$F7803,IF(CB$5<=#REF!,$K7803,0),0)","v":{"$error":"#REF!"}},{"$f":"IF(CC$5>=$F7803,IF(CC$5<=#REF!,$K7803,0),0)","v":{"$error":"#REF!"}},{"$f":"IF(CD$5>=$F7803,IF(CD$5<=#REF!,$K7803,0),0)","v":{"$error":"#REF!"}},{"$f":"IF(CE$5>=$F7803,IF(CE$5<=#REF!,$K7803,0),0)","v":{"$error":"#REF!"}},{"$f":"IF(CF$5>=$F7803,IF(CF$5<=#REF!,$K7803,0),0)","v":{"$error":"#REF!"}},{"$f":"IF(CG$5>=$F7803,IF(CG$5<=#REF!,$K7803,0),0)","v":{"$error":"#REF!"}},{"$f":"IF(CH$5>=$F7803,IF(CH$5<=#REF!,$K7803,0),0)","v":{"$error":"#REF!"}},{"$f":"IF(CI$5>=$F7803,IF(CI$5<=#REF!,$K7803,0),0)","v":{"$error":"#REF!"}},{"$f":"IF(CJ$5>=$F7803,IF(CJ$5<=#REF!,$K7803,0),0)","v":{"$error":"#REF!"}},{"$f":"IF(CK$5>=$F7803,IF(CK$5<=#REF!,$K7803,0),0)","v":{"$error":"#REF!"}},{"$f":"IF(CL$5>=$F7803,IF(CL$5<=#REF!,$K7803,0),0)","v":{"$error":"#REF!"}},{"$f":"IF(CM$5>=$F7803,IF(CM$5<=#REF!,$K7803,0),0)","v":{"$error":"#REF!"}},{"$f":"IF(CN$5>=$F7803,IF(CN$5<=#REF!,$K7803,0),0)","v":{"$error":"#REF!"}},{"$f":"IF(CO$5>=$F7803,IF(CO$5<=#REF!,$K7803,0),0)","v":{"$error":"#REF!"}},{"$f":"IF(CP$5>=$F7803,IF(CP$5<=#REF!,$K7803,0),0)","v":{"$error":"#REF!"}},{"$f":"IF(CQ$5>=$F7803,IF(CQ$5<=#REF!,$K7803,0),0)","v":{"$error":"#REF!"}},{"$f":"IF(CR$5>=$F7803,IF(CR$5<=#REF!,$K7803,0),0)","v":{"$error":"#REF!"}},{"$f":"IF(CS$5>=$F7803,IF(CS$5<=#REF!,$K7803,0),0)","v":{"$error":"#REF!"}},{"$f":"IF(CT$5>=$F7803,IF(CT$5<=#REF!,$K7803,0),0)","v":{"$error":"#REF!"}},{"$f":"IF(CU$5>=$F7803,IF(CU$5<=#REF!,$K7803,0),0)","v":{"$error":"#REF!"}},{"$f":"IF(CV$5>=$F7803,IF(CV$5<=#REF!,$K7803,0),0)","v":{"$error":"#REF!"}},{"$f":"IF(CW$5>=$F7803,IF(CW$5<=#REF!,$K7803,0),0)","v":{"$error":"#REF!"}},{"$f":"IF(CX$5>=$F7803,IF(CX$5<=#REF!,$K7803,0),0)","v":{"$error":"#REF!"}},{"$f":"IF(CY$5>=$F7803,IF(CY$5<=#REF!,$K7803,0),0)","v":{"$error":"#REF!"}},{"$f":"IF(CZ$5>=$F7803,IF(CZ$5<=#REF!,$K7803,0),0)","v":{"$error":"#REF!"}},{"$f":"IF(DA$5>=$F7803,IF(DA$5<=#REF!,$K7803,0),0)","v":{"$error":"#REF!"}},{"$f":"IF(DB$5>=$F7803,IF(DB$5<=#REF!,$K7803,0),0)","v":{"$error":"#REF!"}},{"$f":"IF(DC$5>=$F7803,IF(DC$5<=#REF!,$K7803,0),0)","v":{"$error":"#REF!"}},{"$f":"IF(DD$5>=$F7803,IF(DD$5<=#REF!,$K7803,0),0)","v":{"$error":"#REF!"}},{"$f":"IF(DE$5>=$F7803,IF(DE$5<=#REF!,$K7803,0),0)","v":{"$error":"#REF!"}},{"$f":"IF(DF$5>=$F7803,IF(DF$5<=#REF!,$K7803,0),0)","v":{"$error":"#REF!"}},{"$f":"IF(DG$5>=$F7803,IF(DG$5<=#REF!,$K7803,0),0)","v":{"$error":"#REF!"}},{"$f":"IF(DH$5>=$F7803,IF(DH$5<=#REF!,$K7803,0),0)","v":{"$error":"#REF!"}},{"$f":"IF(DI$5>=$F7803,IF(DI$5<=#REF!,$K7803,0),0)","v":{"$error":"#REF!"}},{"$f":"IF(DJ$5>=$F7803,IF(DJ$5<=#REF!,$K7803,0),0)","v":{"$error":"#REF!"}},{"$f":"IF(DK$5>=$F7803,IF(DK$5<=#REF!,$K7803,0),0)","v":{"$error":"#REF!"}},{"$f":"IF(DL$5>=$F7803,IF(DL$5<=#REF!,$K7803,0),0)","v":{"$error":"#REF!"}},{"$f":"IF(DM$5>=$F7803,IF(DM$5<=#REF!,$K7803,0),0)","v":{"$error":"#REF!"}},{"$f":"IF(DN$5>=$F7803,IF(DN$5<=#REF!,$K7803,0),0)","v":{"$error":"#REF!"}},{"$f":"IF(DO$5>=$F7803,IF(DO$5<=#REF!,$K7803,0),0)","v":{"$error":"#REF!"}},{"$f":"IF(DP$5>=$F7803,IF(DP$5<=#REF!,$K7803,0),0)","v":{"$error":"#REF!"}},{"$f":"IF(DQ$5>=$F7803,IF(DQ$5<=#REF!,$K7803,0),0)","v":{"$error":"#REF!"}},{"$f":"IF(DR$5>=$F7803,IF(DR$5<=#REF!,$K7803,0),0)","v":{"$error":"#REF!"}},{"$f":"SUM(L7803:DR7803)","v":{"$error":"#REF!"}},"",""]
[null,null,null,null,null,null,{"$f":"IF($D7804=\"\",0,VLOOKUP(($DU7804&$C7804&$D7804),単価情報!$B$67:$C$932,2,FALSE))","v":0},{"$f":"G7804","v":0},0,0,{"$f":"IF(E7804=0,0,ROUND(E7804/#REF!,1))","v":0},{"$f":"IF(L$5>=$F7804,IF(L$5<=#REF!,$K7804,0),0)","v":{"$error":"#REF!"}},{"$f":"IF(M$5>=$F7804,IF(M$5<=#REF!,$K7804,0),0)","v":{"$error":"#REF!"}},{"$f":"IF(N$5>=$F7804,IF(N$5<=#REF!,$K7804,0),0)","v":{"$error":"#REF!"}},{"$f":"IF(O$5>=$F7804,IF(O$5<=#REF!,$K7804,0),0)","v":{"$error":"#REF!"}},{"$f":"IF(P$5>=$F7804,IF(P$5<=#REF!,$K7804,0),0)","v":{"$error":"#REF!"}},{"$f":"IF(Q$5>=$F7804,IF(Q$5<=#REF!,$K7804,0),0)","v":{"$error":"#REF!"}},{"$f":"IF(R$5>=$F7804,IF(R$5<=#REF!,$K7804,0),0)","v":{"$error":"#REF!"}},{"$f":"IF(S$5>=$F7804,IF(S$5<=#REF!,$K7804,0),0)","v":{"$error":"#REF!"}},{"$f":"IF(T$5>=$F7804,IF(T$5<=#REF!,$K7804,0),0)","v":{"$error":"#REF!"}},{"$f":"IF(U$5>=$F7804,IF(U$5<=#REF!,$K7804,0),0)","v":{"$error":"#REF!"}},{"$f":"IF(V$5>=$F7804,IF(V$5<=#REF!,$K7804,0),0)","v":{"$error":"#REF!"}},{"$f":"IF(W$5>=$F7804,IF(W$5<=#REF!,$K7804,0),0)","v":{"$error":"#REF!"}},{"$f":"IF(X$5>=$F7804,IF(X$5<=#REF!,$K7804,0),0)","v":{"$error":"#REF!"}},{"$f":"IF(Y$5>=$F7804,IF(Y$5<=#REF!,$K7804,0),0)","v":{"$error":"#REF!"}},{"$f":"IF(Z$5>=$F7804,IF(Z$5<=#REF!,$K7804,0),0)","v":{"$error":"#REF!"}},{"$f":"IF(AA$5>=$F7804,IF(AA$5<=#REF!,$K7804,0),0)","v":{"$error":"#REF!"}},{"$f":"IF(AB$5>=$F7804,IF(AB$5<=#REF!,$K7804,0),0)","v":{"$error":"#REF!"}},{"$f":"IF(AC$5>=$F7804,IF(AC$5<=#REF!,$K7804,0),0)","v":{"$error":"#REF!"}},{"$f":"IF(AD$5>=$F7804,IF(AD$5<=#REF!,$K7804,0),0)","v":{"$error":"#REF!"}},{"$f":"IF(AE$5>=$F7804,IF(AE$5<=#REF!,$K7804,0),0)","v":{"$error":"#REF!"}},{"$f":"IF(AF$5>=$F7804,IF(AF$5<=#REF!,$K7804,0),0)","v":{"$error":"#REF!"}},{"$f":"IF(AG$5>=$F7804,IF(AG$5<=#REF!,$K7804,0),0)","v":{"$error":"#REF!"}},{"$f":"IF(AH$5>=$F7804,IF(AH$5<=#REF!,$K7804,0),0)","v":{"$error":"#REF!"}},{"$f":"IF(AI$5>=$F7804,IF(AI$5<=#REF!,$K7804,0),0)","v":{"$error":"#REF!"}},{"$f":"IF(AJ$5>=$F7804,IF(AJ$5<=#REF!,$K7804,0),0)","v":{"$error":"#REF!"}},{"$f":"IF(AK$5>=$F7804,IF(AK$5<=#REF!,$K7804,0),0)","v":{"$error":"#REF!"}},{"$f":"IF(AL$5>=$F7804,IF(AL$5<=#REF!,$K7804,0),0)","v":{"$error":"#REF!"}},{"$f":"IF(AM$5>=$F7804,IF(AM$5<=#REF!,$K7804,0),0)","v":{"$error":"#REF!"}},{"$f":"IF(AN$5>=$F7804,IF(AN$5<=#REF!,$K7804,0),0)","v":{"$error":"#REF!"}},{"$f":"IF(AO$5>=$F7804,IF(AO$5<=#REF!,$K7804,0),0)","v":{"$error":"#REF!"}},{"$f":"IF(AP$5>=$F7804,IF(AP$5<=#REF!,$K7804,0),0)","v":{"$error":"#REF!"}},{"$f":"IF(AQ$5>=$F7804,IF(AQ$5<=#REF!,$K7804,0),0)","v":{"$error":"#REF!"}},{"$f":"IF(AR$5>=$F7804,IF(AR$5<=#REF!,$K7804,0),0)","v":{"$error":"#REF!"}},{"$f":"IF(AS$5>=$F7804,IF(AS$5<=#REF!,$K7804,0),0)","v":{"$error":"#REF!"}},{"$f":"IF(AT$5>=$F7804,IF(AT$5<=#REF!,$K7804,0),0)","v":{"$error":"#REF!"}},{"$f":"IF(AU$5>=$F7804,IF(AU$5<=#REF!,$K7804,0),0)","v":{"$error":"#REF!"}},{"$f":"IF(AV$5>=$F7804,IF(AV$5<=#REF!,$K7804,0),0)","v":{"$error":"#REF!"}},{"$f":"IF(AW$5>=$F7804,IF(AW$5<=#REF!,$K7804,0),0)","v":{"$error":"#REF!"}},{"$f":"IF(AX$5>=$F7804,IF(AX$5<=#REF!,$K7804,0),0)","v":{"$error":"#REF!"}},{"$f":"IF(AY$5>=$F7804,IF(AY$5<=#REF!,$K7804,0),0)","v":{"$error":"#REF!"}},{"$f":"IF(AZ$5>=$F7804,IF(AZ$5<=#REF!,$K7804,0),0)","v":{"$error":"#REF!"}},{"$f":"IF(BA$5>=$F7804,IF(BA$5<=#REF!,$K7804,0),0)","v":{"$error":"#REF!"}},{"$f":"IF(BB$5>=$F7804,IF(BB$5<=#REF!,$K7804,0),0)","v":{"$error":"#REF!"}},{"$f":"IF(BC$5>=$F7804,IF(BC$5<=#REF!,$K7804,0),0)","v":{"$error":"#REF!"}},{"$f":"IF(BD$5>=$F7804,IF(BD$5<=#REF!,$K7804,0),0)","v":{"$error":"#REF!"}},{"$f":"IF(BE$5>=$F7804,IF(BE$5<=#REF!,$K7804,0),0)","v":{"$error":"#REF!"}},{"$f":"IF(BF$5>=$F7804,IF(BF$5<=#REF!,$K7804,0),0)","v":{"$error":"#REF!"}},{"$f":"IF(BG$5>=$F7804,IF(BG$5<=#REF!,$K7804,0),0)","v":{"$error":"#REF!"}},{"$f":"IF(BH$5>=$F7804,IF(BH$5<=#REF!,$K7804,0),0)","v":{"$error":"#REF!"}},{"$f":"IF(BI$5>=$F7804,IF(BI$5<=#REF!,$K7804,0),0)","v":{"$error":"#REF!"}},{"$f":"IF(BJ$5>=$F7804,IF(BJ$5<=#REF!,$K7804,0),0)","v":{"$error":"#REF!"}},{"$f":"IF(BK$5>=$F7804,IF(BK$5<=#REF!,$K7804,0),0)","v":{"$error":"#REF!"}},{"$f":"IF(BL$5>=$F7804,IF(BL$5<=#REF!,$K7804,0),0)","v":{"$error":"#REF!"}},{"$f":"IF(BM$5>=$F7804,IF(BM$5<=#REF!,$K7804,0),0)","v":{"$error":"#REF!"}},{"$f":"IF(BN$5>=$F7804,IF(BN$5<=#REF!,$K7804,0),0)","v":{"$error":"#REF!"}},{"$f":"IF(BO$5>=$F7804,IF(BO$5<=#REF!,$K7804,0),0)","v":{"$error":"#REF!"}},{"$f":"IF(BP$5>=$F7804,IF(BP$5<=#REF!,$K7804,0),0)","v":{"$error":"#REF!"}},{"$f":"IF(BQ$5>=$F7804,IF(BQ$5<=#REF!,$K7804,0),0)","v":{"$error":"#REF!"}},{"$f":"IF(BR$5>=$F7804,IF(BR$5<=#REF!,$K7804,0),0)","v":{"$error":"#REF!"}},{"$f":"IF(BS$5>=$F7804,IF(BS$5<=#REF!,$K7804,0),0)","v":{"$error":"#REF!"}},{"$f":"IF(BT$5>=$F7804,IF(BT$5<=#REF!,$K7804,0),0)","v":{"$error":"#REF!"}},{"$f":"IF(BU$5>=$F7804,IF(BU$5<=#REF!,$K7804,0),0)","v":{"$error":"#REF!"}},{"$f":"IF(BV$5>=$F7804,IF(BV$5<=#REF!,$K7804,0),0)","v":{"$error":"#REF!"}},{"$f":"IF(BW$5>=$F7804,IF(BW$5<=#REF!,$K7804,0),0)","v":{"$error":"#REF!"}},{"$f":"IF(BX$5>=$F7804,IF(BX$5<=#REF!,$K7804,0),0)","v":{"$error":"#REF!"}},{"$f":"IF(BY$5>=$F7804,IF(BY$5<=#REF!,$K7804,0),0)","v":{"$error":"#REF!"}},{"$f":"IF(BZ$5>=$F7804,IF(BZ$5<=#REF!,$K7804,0),0)","v":{"$error":"#REF!"}},{"$f":"IF(CA$5>=$F7804,IF(CA$5<=#REF!,$K7804,0),0)","v":{"$error":"#REF!"}},{"$f":"IF(CB$5>=$F7804,IF(CB$5<=#REF!,$K7804,0),0)","v":{"$error":"#REF!"}},{"$f":"IF(CC$5>=$F7804,IF(CC$5<=#REF!,$K7804,0),0)","v":{"$error":"#REF!"}},{"$f":"IF(CD$5>=$F7804,IF(CD$5<=#REF!,$K7804,0),0)","v":{"$error":"#REF!"}},{"$f":"IF(CE$5>=$F7804,IF(CE$5<=#REF!,$K7804,0),0)","v":{"$error":"#REF!"}},{"$f":"IF(CF$5>=$F7804,IF(CF$5<=#REF!,$K7804,0),0)","v":{"$error":"#REF!"}},{"$f":"IF(CG$5>=$F7804,IF(CG$5<=#REF!,$K7804,0),0)","v":{"$error":"#REF!"}},{"$f":"IF(CH$5>=$F7804,IF(CH$5<=#REF!,$K7804,0),0)","v":{"$error":"#REF!"}},{"$f":"IF(CI$5>=$F7804,IF(CI$5<=#REF!,$K7804,0),0)","v":{"$error":"#REF!"}},{"$f":"IF(CJ$5>=$F7804,IF(CJ$5<=#REF!,$K7804,0),0)","v":{"$error":"#REF!"}},{"$f":"IF(CK$5>=$F7804,IF(CK$5<=#REF!,$K7804,0),0)","v":{"$error":"#REF!"}},{"$f":"IF(CL$5>=$F7804,IF(CL$5<=#REF!,$K7804,0),0)","v":{"$error":"#REF!"}},{"$f":"IF(CM$5>=$F7804,IF(CM$5<=#REF!,$K7804,0),0)","v":{"$error":"#REF!"}},{"$f":"IF(CN$5>=$F7804,IF(CN$5<=#REF!,$K7804,0),0)","v":{"$error":"#REF!"}},{"$f":"IF(CO$5>=$F7804,IF(CO$5<=#REF!,$K7804,0),0)","v":{"$error":"#REF!"}},{"$f":"IF(CP$5>=$F7804,IF(CP$5<=#REF!,$K7804,0),0)","v":{"$error":"#REF!"}},{"$f":"IF(CQ$5>=$F7804,IF(CQ$5<=#REF!,$K7804,0),0)","v":{"$error":"#REF!"}},{"$f":"IF(CR$5>=$F7804,IF(CR$5<=#REF!,$K7804,0),0)","v":{"$error":"#REF!"}},{"$f":"IF(CS$5>=$F7804,IF(CS$5<=#REF!,$K7804,0),0)","v":{"$error":"#REF!"}},{"$f":"IF(CT$5>=$F7804,IF(CT$5<=#REF!,$K7804,0),0)","v":{"$error":"#REF!"}},{"$f":"IF(CU$5>=$F7804,IF(CU$5<=#REF!,$K7804,0),0)","v":{"$error":"#REF!"}},{"$f":"IF(CV$5>=$F7804,IF(CV$5<=#REF!,$K7804,0),0)","v":{"$error":"#REF!"}},{"$f":"IF(CW$5>=$F7804,IF(CW$5<=#REF!,$K7804,0),0)","v":{"$error":"#REF!"}},{"$f":"IF(CX$5>=$F7804,IF(CX$5<=#REF!,$K7804,0),0)","v":{"$error":"#REF!"}},{"$f":"IF(CY$5>=$F7804,IF(CY$5<=#REF!,$K7804,0),0)","v":{"$error":"#REF!"}},{"$f":"IF(CZ$5>=$F7804,IF(CZ$5<=#REF!,$K7804,0),0)","v":{"$error":"#REF!"}},{"$f":"IF(DA$5>=$F7804,IF(DA$5<=#REF!,$K7804,0),0)","v":{"$error":"#REF!"}},{"$f":"IF(DB$5>=$F7804,IF(DB$5<=#REF!,$K7804,0),0)","v":{"$error":"#REF!"}},{"$f":"IF(DC$5>=$F7804,IF(DC$5<=#REF!,$K7804,0),0)","v":{"$error":"#REF!"}},{"$f":"IF(DD$5>=$F7804,IF(DD$5<=#REF!,$K7804,0),0)","v":{"$error":"#REF!"}},{"$f":"IF(DE$5>=$F7804,IF(DE$5<=#REF!,$K7804,0),0)","v":{"$error":"#REF!"}},{"$f":"IF(DF$5>=$F7804,IF(DF$5<=#REF!,$K7804,0),0)","v":{"$error":"#REF!"}},{"$f":"IF(DG$5>=$F7804,IF(DG$5<=#REF!,$K7804,0),0)","v":{"$error":"#REF!"}},{"$f":"IF(DH$5>=$F7804,IF(DH$5<=#REF!,$K7804,0),0)","v":{"$error":"#REF!"}},{"$f":"IF(DI$5>=$F7804,IF(DI$5<=#REF!,$K7804,0),0)","v":{"$error":"#REF!"}},{"$f":"IF(DJ$5>=$F7804,IF(DJ$5<=#REF!,$K7804,0),0)","v":{"$error":"#REF!"}},{"$f":"IF(DK$5>=$F7804,IF(DK$5<=#REF!,$K7804,0),0)","v":{"$error":"#REF!"}},{"$f":"IF(DL$5>=$F7804,IF(DL$5<=#REF!,$K7804,0),0)","v":{"$error":"#REF!"}},{"$f":"IF(DM$5>=$F7804,IF(DM$5<=#REF!,$K7804,0),0)","v":{"$error":"#REF!"}},{"$f":"IF(DN$5>=$F7804,IF(DN$5<=#REF!,$K7804,0),0)","v":{"$error":"#REF!"}},{"$f":"IF(DO$5>=$F7804,IF(DO$5<=#REF!,$K7804,0),0)","v":{"$error":"#REF!"}},{"$f":"IF(DP$5>=$F7804,IF(DP$5<=#REF!,$K7804,0),0)","v":{"$error":"#REF!"}},{"$f":"IF(DQ$5>=$F7804,IF(DQ$5<=#REF!,$K7804,0),0)","v":{"$error":"#REF!"}},{"$f":"IF(DR$5>=$F7804,IF(DR$5<=#REF!,$K7804,0),0)","v":{"$error":"#REF!"}},{"$f":"SUM(L7804:DR7804)","v":{"$error":"#REF!"}},"",""]
[null,null,null,null,null,null,{"$f":"IF($D7805=\"\",0,VLOOKUP(($DU7805&$C7805&$D7805),単価情報!$B$67:$C$932,2,FALSE))","v":0},0,0,0,{"$f":"IF(E7805=0,0,ROUND(E7805/#REF!,1))","v":0},{"$f":"IF(L$5>=$F7805,IF(L$5<=#REF!,$K7805,0),0)","v":{"$error":"#REF!"}},{"$f":"IF(M$5>=$F7805,IF(M$5<=#REF!,$K7805,0),0)","v":{"$error":"#REF!"}},{"$f":"IF(N$5>=$F7805,IF(N$5<=#REF!,$K7805,0),0)","v":{"$error":"#REF!"}},{"$f":"IF(O$5>=$F7805,IF(O$5<=#REF!,$K7805,0),0)","v":{"$error":"#REF!"}},{"$f":"IF(P$5>=$F7805,IF(P$5<=#REF!,$K7805,0),0)","v":{"$error":"#REF!"}},{"$f":"IF(Q$5>=$F7805,IF(Q$5<=#REF!,$K7805,0),0)","v":{"$error":"#REF!"}},{"$f":"IF(R$5>=$F7805,IF(R$5<=#REF!,$K7805,0),0)","v":{"$error":"#REF!"}},{"$f":"IF(S$5>=$F7805,IF(S$5<=#REF!,$K7805,0),0)","v":{"$error":"#REF!"}},{"$f":"IF(T$5>=$F7805,IF(T$5<=#REF!,$K7805,0),0)","v":{"$error":"#REF!"}},{"$f":"IF(U$5>=$F7805,IF(U$5<=#REF!,$K7805,0),0)","v":{"$error":"#REF!"}},{"$f":"IF(V$5>=$F7805,IF(V$5<=#REF!,$K7805,0),0)","v":{"$error":"#REF!"}},{"$f":"IF(W$5>=$F7805,IF(W$5<=#REF!,$K7805,0),0)","v":{"$error":"#REF!"}},{"$f":"IF(X$5>=$F7805,IF(X$5<=#REF!,$K7805,0),0)","v":{"$error":"#REF!"}},{"$f":"IF(Y$5>=$F7805,IF(Y$5<=#REF!,$K7805,0),0)","v":{"$error":"#REF!"}},{"$f":"IF(Z$5>=$F7805,IF(Z$5<=#REF!,$K7805,0),0)","v":{"$error":"#REF!"}},{"$f":"IF(AA$5>=$F7805,IF(AA$5<=#REF!,$K7805,0),0)","v":{"$error":"#REF!"}},{"$f":"IF(AB$5>=$F7805,IF(AB$5<=#REF!,$K7805,0),0)","v":{"$error":"#REF!"}},{"$f":"IF(AC$5>=$F7805,IF(AC$5<=#REF!,$K7805,0),0)","v":{"$error":"#REF!"}},{"$f":"IF(AD$5>=$F7805,IF(AD$5<=#REF!,$K7805,0),0)","v":{"$error":"#REF!"}},{"$f":"IF(AE$5>=$F7805,IF(AE$5<=#REF!,$K7805,0),0)","v":{"$error":"#REF!"}},{"$f":"IF(AF$5>=$F7805,IF(AF$5<=#REF!,$K7805,0),0)","v":{"$error":"#REF!"}},{"$f":"IF(AG$5>=$F7805,IF(AG$5<=#REF!,$K7805,0),0)","v":{"$error":"#REF!"}},{"$f":"IF(AH$5>=$F7805,IF(AH$5<=#REF!,$K7805,0),0)","v":{"$error":"#REF!"}},{"$f":"IF(AI$5>=$F7805,IF(AI$5<=#REF!,$K7805,0),0)","v":{"$error":"#REF!"}},{"$f":"IF(AJ$5>=$F7805,IF(AJ$5<=#REF!,$K7805,0),0)","v":{"$error":"#REF!"}},{"$f":"IF(AK$5>=$F7805,IF(AK$5<=#REF!,$K7805,0),0)","v":{"$error":"#REF!"}},{"$f":"IF(AL$5>=$F7805,IF(AL$5<=#REF!,$K7805,0),0)","v":{"$error":"#REF!"}},{"$f":"IF(AM$5>=$F7805,IF(AM$5<=#REF!,$K7805,0),0)","v":{"$error":"#REF!"}},{"$f":"IF(AN$5>=$F7805,IF(AN$5<=#REF!,$K7805,0),0)","v":{"$error":"#REF!"}},{"$f":"IF(AO$5>=$F7805,IF(AO$5<=#REF!,$K7805,0),0)","v":{"$error":"#REF!"}},{"$f":"IF(AP$5>=$F7805,IF(AP$5<=#REF!,$K7805,0),0)","v":{"$error":"#REF!"}},{"$f":"IF(AQ$5>=$F7805,IF(AQ$5<=#REF!,$K7805,0),0)","v":{"$error":"#REF!"}},{"$f":"IF(AR$5>=$F7805,IF(AR$5<=#REF!,$K7805,0),0)","v":{"$error":"#REF!"}},{"$f":"IF(AS$5>=$F7805,IF(AS$5<=#REF!,$K7805,0),0)","v":{"$error":"#REF!"}},{"$f":"IF(AT$5>=$F7805,IF(AT$5<=#REF!,$K7805,0),0)","v":{"$error":"#REF!"}},{"$f":"IF(AU$5>=$F7805,IF(AU$5<=#REF!,$K7805,0),0)","v":{"$error":"#REF!"}},{"$f":"IF(AV$5>=$F7805,IF(AV$5<=#REF!,$K7805,0),0)","v":{"$error":"#REF!"}},{"$f":"IF(AW$5>=$F7805,IF(AW$5<=#REF!,$K7805,0),0)","v":{"$error":"#REF!"}},{"$f":"IF(AX$5>=$F7805,IF(AX$5<=#REF!,$K7805,0),0)","v":{"$error":"#REF!"}},{"$f":"IF(AY$5>=$F7805,IF(AY$5<=#REF!,$K7805,0),0)","v":{"$error":"#REF!"}},{"$f":"IF(AZ$5>=$F7805,IF(AZ$5<=#REF!,$K7805,0),0)","v":{"$error":"#REF!"}},{"$f":"IF(BA$5>=$F7805,IF(BA$5<=#REF!,$K7805,0),0)","v":{"$error":"#REF!"}},{"$f":"IF(BB$5>=$F7805,IF(BB$5<=#REF!,$K7805,0),0)","v":{"$error":"#REF!"}},{"$f":"IF(BC$5>=$F7805,IF(BC$5<=#REF!,$K7805,0),0)","v":{"$error":"#REF!"}},{"$f":"IF(BD$5>=$F7805,IF(BD$5<=#REF!,$K7805,0),0)","v":{"$error":"#REF!"}},{"$f":"IF(BE$5>=$F7805,IF(BE$5<=#REF!,$K7805,0),0)","v":{"$error":"#REF!"}},{"$f":"IF(BF$5>=$F7805,IF(BF$5<=#REF!,$K7805,0),0)","v":{"$error":"#REF!"}},{"$f":"IF(BG$5>=$F7805,IF(BG$5<=#REF!,$K7805,0),0)","v":{"$error":"#REF!"}},{"$f":"IF(BH$5>=$F7805,IF(BH$5<=#REF!,$K7805,0),0)","v":{"$error":"#REF!"}},{"$f":"IF(BI$5>=$F7805,IF(BI$5<=#REF!,$K7805,0),0)","v":{"$error":"#REF!"}},{"$f":"IF(BJ$5>=$F7805,IF(BJ$5<=#REF!,$K7805,0),0)","v":{"$error":"#REF!"}},{"$f":"IF(BK$5>=$F7805,IF(BK$5<=#REF!,$K7805,0),0)","v":{"$error":"#REF!"}},{"$f":"IF(BL$5>=$F7805,IF(BL$5<=#REF!,$K7805,0),0)","v":{"$error":"#REF!"}},{"$f":"IF(BM$5>=$F7805,IF(BM$5<=#REF!,$K7805,0),0)","v":{"$error":"#REF!"}},{"$f":"IF(BN$5>=$F7805,IF(BN$5<=#REF!,$K7805,0),0)","v":{"$error":"#REF!"}},{"$f":"IF(BO$5>=$F7805,IF(BO$5<=#REF!,$K7805,0),0)","v":{"$error":"#REF!"}},{"$f":"IF(BP$5>=$F7805,IF(BP$5<=#REF!,$K7805,0),0)","v":{"$error":"#REF!"}},{"$f":"IF(BQ$5>=$F7805,IF(BQ$5<=#REF!,$K7805,0),0)","v":{"$error":"#REF!"}},{"$f":"IF(BR$5>=$F7805,IF(BR$5<=#REF!,$K7805,0),0)","v":{"$error":"#REF!"}},{"$f":"IF(BS$5>=$F7805,IF(BS$5<=#REF!,$K7805,0),0)","v":{"$error":"#REF!"}},{"$f":"IF(BT$5>=$F7805,IF(BT$5<=#REF!,$K7805,0),0)","v":{"$error":"#REF!"}},{"$f":"IF(BU$5>=$F7805,IF(BU$5<=#REF!,$K7805,0),0)","v":{"$error":"#REF!"}},{"$f":"IF(BV$5>=$F7805,IF(BV$5<=#REF!,$K7805,0),0)","v":{"$error":"#REF!"}},{"$f":"IF(BW$5>=$F7805,IF(BW$5<=#REF!,$K7805,0),0)","v":{"$error":"#REF!"}},{"$f":"IF(BX$5>=$F7805,IF(BX$5<=#REF!,$K7805,0),0)","v":{"$error":"#REF!"}},{"$f":"IF(BY$5>=$F7805,IF(BY$5<=#REF!,$K7805,0),0)","v":{"$error":"#REF!"}},{"$f":"IF(BZ$5>=$F7805,IF(BZ$5<=#REF!,$K7805,0),0)","v":{"$error":"#REF!"}},{"$f":"IF(CA$5>=$F7805,IF(CA$5<=#REF!,$K7805,0),0)","v":{"$error":"#REF!"}},{"$f":"IF(CB$5>=$F7805,IF(CB$5<=#REF!,$K7805,0),0)","v":{"$error":"#REF!"}},{"$f":"IF(CC$5>=$F7805,IF(CC$5<=#REF!,$K7805,0),0)","v":{"$error":"#REF!"}},{"$f":"IF(CD$5>=$F7805,IF(CD$5<=#REF!,$K7805,0),0)","v":{"$error":"#REF!"}},{"$f":"IF(CE$5>=$F7805,IF(CE$5<=#REF!,$K7805,0),0)","v":{"$error":"#REF!"}},{"$f":"IF(CF$5>=$F7805,IF(CF$5<=#REF!,$K7805,0),0)","v":{"$error":"#REF!"}},{"$f":"IF(CG$5>=$F7805,IF(CG$5<=#REF!,$K7805,0),0)","v":{"$error":"#REF!"}},{"$f":"IF(CH$5>=$F7805,IF(CH$5<=#REF!,$K7805,0),0)","v":{"$error":"#REF!"}},{"$f":"IF(CI$5>=$F7805,IF(CI$5<=#REF!,$K7805,0),0)","v":{"$error":"#REF!"}},{"$f":"IF(CJ$5>=$F7805,IF(CJ$5<=#REF!,$K7805,0),0)","v":{"$error":"#REF!"}},{"$f":"IF(CK$5>=$F7805,IF(CK$5<=#REF!,$K7805,0),0)","v":{"$error":"#REF!"}},{"$f":"IF(CL$5>=$F7805,IF(CL$5<=#REF!,$K7805,0),0)","v":{"$error":"#REF!"}},{"$f":"IF(CM$5>=$F7805,IF(CM$5<=#REF!,$K7805,0),0)","v":{"$error":"#REF!"}},{"$f":"IF(CN$5>=$F7805,IF(CN$5<=#REF!,$K7805,0),0)","v":{"$error":"#REF!"}},{"$f":"IF(CO$5>=$F7805,IF(CO$5<=#REF!,$K7805,0),0)","v":{"$error":"#REF!"}},{"$f":"IF(CP$5>=$F7805,IF(CP$5<=#REF!,$K7805,0),0)","v":{"$error":"#REF!"}},{"$f":"IF(CQ$5>=$F7805,IF(CQ$5<=#REF!,$K7805,0),0)","v":{"$error":"#REF!"}},{"$f":"IF(CR$5>=$F7805,IF(CR$5<=#REF!,$K7805,0),0)","v":{"$error":"#REF!"}},{"$f":"IF(CS$5>=$F7805,IF(CS$5<=#REF!,$K7805,0),0)","v":{"$error":"#REF!"}},{"$f":"IF(CT$5>=$F7805,IF(CT$5<=#REF!,$K7805,0),0)","v":{"$error":"#REF!"}},{"$f":"IF(CU$5>=$F7805,IF(CU$5<=#REF!,$K7805,0),0)","v":{"$error":"#REF!"}},{"$f":"IF(CV$5>=$F7805,IF(CV$5<=#REF!,$K7805,0),0)","v":{"$error":"#REF!"}},{"$f":"IF(CW$5>=$F7805,IF(CW$5<=#REF!,$K7805,0),0)","v":{"$error":"#REF!"}},{"$f":"IF(CX$5>=$F7805,IF(CX$5<=#REF!,$K7805,0),0)","v":{"$error":"#REF!"}},{"$f":"IF(CY$5>=$F7805,IF(CY$5<=#REF!,$K7805,0),0)","v":{"$error":"#REF!"}},{"$f":"IF(CZ$5>=$F7805,IF(CZ$5<=#REF!,$K7805,0),0)","v":{"$error":"#REF!"}},{"$f":"IF(DA$5>=$F7805,IF(DA$5<=#REF!,$K7805,0),0)","v":{"$error":"#REF!"}},{"$f":"IF(DB$5>=$F7805,IF(DB$5<=#REF!,$K7805,0),0)","v":{"$error":"#REF!"}},{"$f":"IF(DC$5>=$F7805,IF(DC$5<=#REF!,$K7805,0),0)","v":{"$error":"#REF!"}},{"$f":"IF(DD$5>=$F7805,IF(DD$5<=#REF!,$K7805,0),0)","v":{"$error":"#REF!"}},{"$f":"IF(DE$5>=$F7805,IF(DE$5<=#REF!,$K7805,0),0)","v":{"$error":"#REF!"}},{"$f":"IF(DF$5>=$F7805,IF(DF$5<=#REF!,$K7805,0),0)","v":{"$error":"#REF!"}},{"$f":"IF(DG$5>=$F7805,IF(DG$5<=#REF!,$K7805,0),0)","v":{"$error":"#REF!"}},{"$f":"IF(DH$5>=$F7805,IF(DH$5<=#REF!,$K7805,0),0)","v":{"$error":"#REF!"}},{"$f":"IF(DI$5>=$F7805,IF(DI$5<=#REF!,$K7805,0),0)","v":{"$error":"#REF!"}},{"$f":"IF(DJ$5>=$F7805,IF(DJ$5<=#REF!,$K7805,0),0)","v":{"$error":"#REF!"}},{"$f":"IF(DK$5>=$F7805,IF(DK$5<=#REF!,$K7805,0),0)","v":{"$error":"#REF!"}},{"$f":"IF(DL$5>=$F7805,IF(DL$5<=#REF!,$K7805,0),0)","v":{"$error":"#REF!"}},{"$f":"IF(DM$5>=$F7805,IF(DM$5<=#REF!,$K7805,0),0)","v":{"$error":"#REF!"}},{"$f":"IF(DN$5>=$F7805,IF(DN$5<=#REF!,$K7805,0),0)","v":{"$error":"#REF!"}},{"$f":"IF(DO$5>=$F7805,IF(DO$5<=#REF!,$K7805,0),0)","v":{"$error":"#REF!"}},{"$f":"IF(DP$5>=$F7805,IF(DP$5<=#REF!,$K7805,0),0)","v":{"$error":"#REF!"}},{"$f":"IF(DQ$5>=$F7805,IF(DQ$5<=#REF!,$K7805,0),0)","v":{"$error":"#REF!"}},{"$f":"IF(DR$5>=$F7805,IF(DR$5<=#REF!,$K7805,0),0)","v":{"$error":"#REF!"}},{"$f":"SUM(L7805:DR7805)","v":{"$error":"#REF!"}},"",""]
[null,null,null,null,null,null,null,null,null,null,null,{"$f":"ROUND(SUM(L11:L7805),0)","v":{"$error":"#REF!"}},{"$error":"#REF!"},{"$error":"#REF!"},{"$error":"#REF!"},{"$error":"#REF!"},{"$error":"#REF!"},{"$error":"#REF!"},{"$error":"#REF!"},{"$error":"#REF!"},{"$error":"#REF!"},{"$error":"#REF!"},{"$error":"#REF!"},{"$error":"#REF!"},{"$error":"#REF!"},{"$error":"#REF!"},{"$error":"#REF!"},{"$error":"#REF!"},{"$error":"#REF!"},{"$error":"#REF!"},{"$error":"#REF!"},{"$error":"#REF!"},{"$error":"#REF!"},{"$error":"#REF!"},{"$error":"#REF!"},{"$error":"#REF!"},{"$error":"#REF!"},{"$error":"#REF!"},{"$error":"#REF!"},{"$error":"#REF!"},{"$error":"#REF!"},{"$error":"#REF!"},{"$error":"#REF!"},{"$f":"ROUND(SUM(AR11:AR7805),0)","v":{"$error":"#REF!"}},{"$error":"#REF!"},{"$error":"#REF!"},{"$error":"#REF!"},{"$error":"#REF!"},{"$error":"#REF!"},{"$error":"#REF!"},{"$error":"#REF!"},{"$error":"#REF!"},{"$error":"#REF!"},{"$error":"#REF!"},{"$error":"#REF!"},{"$error":"#REF!"},{"$error":"#REF!"},{"$error":"#REF!"},{"$error":"#REF!"},{"$error":"#REF!"},{"$error":"#REF!"},{"$error":"#REF!"},{"$error":"#REF!"},{"$error":"#REF!"},{"$error":"#REF!"},{"$error":"#REF!"},{"$error":"#REF!"},{"$error":"#REF!"},{"$error":"#REF!"},{"$error":"#REF!"},{"$error":"#REF!"},{"$error":"#REF!"},{"$error":"#REF!"},{"$error":"#REF!"},{"$error":"#REF!"},{"$error":"#REF!"},{"$error":"#REF!"},{"$error":"#REF!"},{"$error":"#REF!"},{"$error":"#REF!"},{"$error":"#REF!"},{"$error":"#REF!"},{"$error":"#REF!"},{"$error":"#REF!"},{"$error":"#REF!"},{"$error":"#REF!"},{"$error":"#REF!"},{"$error":"#REF!"},{"$error":"#REF!"},{"$error":"#REF!"},{"$error":"#REF!"},{"$error":"#REF!"},{"$error":"#REF!"},{"$error":"#REF!"},{"$error":"#REF!"},{"$error":"#REF!"},{"$error":"#REF!"},{"$error":"#REF!"},{"$error":"#REF!"},{"$error":"#REF!"},{"$error":"#REF!"},{"$error":"#REF!"},{"$error":"#REF!"},{"$error":"#REF!"},{"$error":"#REF!"},{"$error":"#REF!"},{"$error":"#REF!"},{"$f":"ROUND(SUM(DD11:DD7805),0)","v":{"$error":"#REF!"}},{"$error":"#REF!"},{"$error":"#REF!"},{"$error":"#REF!"},{"$error":"#REF!"},{"$error":"#REF!"},{"$error":"#REF!"},{"$error":"#REF!"},{"$error":"#REF!"},{"$error":"#REF!"},{"$error":"#REF!"},{"$error":"#REF!"},{"$error":"#REF!"},{"$error":"#REF!"},{"$error":"#REF!"},{"$f":"SUM(L7806:DR7806)","v":{"$error":"#REF!"}}]
[null,null,null,null,null,null,null,null,null,null,null,{"$f":"SUMIF($DT$11:$DT7805,$B6,L$11:L$7805)","v":0},{"$f":"SUMIF($DT$11:$DT7805,$B6,M$11:M$7805)","v":0},{"$f":"SUMIF($DT$11:$DT7805,$B6,N$11:N$7805)","v":0},{"$f":"SUMIF($DT$11:$DT7805,$B6,O$11:O$7805)","v":0},{"$f":"SUMIF($DT$11:$DT7805,$B6,P$11:P$7805)","v":0},{"$f":"SUMIF($DT$11:$DT7805,$B6,Q$11:Q$7805)","v":0},{"$f":"SUMIF($DT$11:$DT7805,$B6,R$11:R$7805)","v":0},{"$f":"SUMIF($DT$11:$DT7805,$B6,S$11:S$7805)","v":0},{"$f":"SUMIF($DT$11:$DT7805,$B6,T$11:T$7805)","v":0},{"$f":"SUMIF($DT$11:$DT7805,$B6,U$11:U$7805)","v":0},{"$f":"SUMIF($DT$11:$DT7805,$B6,V$11:V$7805)","v":0},{"$f":"SUMIF($DT$11:$DT7805,$B6,W$11:W$7805)","v":0},{"$f":"SUMIF($DT$11:$DT7805,$B6,X$11:X$7805)","v":0},{"$f":"SUMIF($DT$11:$DT7805,$B6,Y$11:Y$7805)","v":0},{"$f":"SUMIF($DT$11:$DT7805,$B6,Z$11:Z$7805)","v":0},{"$f":"SUMIF($DT$11:$DT7805,$B6,AA$11:AA$7805)","v":0},{"$f":"SUMIF($DT$11:$DT7805,$B6,AB$11:AB$7805)","v":0},{"$f":"SUMIF($DT$11:$DT7805,$B6,AC$11:AC$7805)","v":0},{"$f":"SUMIF($DT$11:$DT7805,$B6,AD$11:AD$7805)","v":0},{"$f":"SUMIF($DT$11:$DT7805,$B6,AE$11:AE$7805)","v":0},{"$f":"SUMIF($DT$11:$DT7805,$B6,AF$11:AF$7805)","v":0},{"$f":"SUMIF($DT$11:$DT7805,$B6,AG$11:AG$7805)","v":0},{"$f":"SUMIF($DT$11:$DT7805,$B6,AH$11:AH$7805)","v":0},{"$f":"SUMIF($DT$11:$DT7805,$B6,AI$11:AI$7805)","v":0},{"$f":"SUMIF($DT$11:$DT7805,$B6,AJ$11:AJ$7805)","v":0},{"$f":"SUMIF($DT$11:$DT7805,$B6,AK$11:AK$7805)","v":0},{"$f":"SUMIF($DT$11:$DT7805,$B6,AL$11:AL$7805)","v":0},{"$f":"SUMIF($DT$11:$DT7805,$B6,AM$11:AM$7805)","v":0},{"$f":"SUMIF($DT$11:$DT7805,$B6,AN$11:AN$7805)","v":0},{"$f":"SUMIF($DT$11:$DT7805,$B6,AO$11:AO$7805)","v":0},{"$f":"SUMIF($DT$11:$DT7805,$B6,AP$11:AP$7805)","v":0},{"$f":"SUMIF($DT$11:$DT7805,$B6,AQ$11:AQ$7805)","v":0},{"$f":"SUMIF($DT$11:$DT7805,$B6,AR$11:AR$7805)","v":0},{"$f":"SUMIF($DT$11:$DT7805,$B6,AS$11:AS$7805)","v":0},{"$f":"SUMIF($DT$11:$DT7805,$B6,AT$11:AT$7805)","v":0},{"$f":"SUMIF($DT$11:$DT7805,$B6,AU$11:AU$7805)","v":0},{"$f":"SUMIF($DT$11:$DT7805,$B6,AV$11:AV$7805)","v":0},{"$f":"SUMIF($DT$11:$DT7805,$B6,AW$11:AW$7805)","v":0},{"$f":"SUMIF($DT$11:$DT7805,$B6,AX$11:AX$7805)","v":0},{"$f":"SUMIF($DT$11:$DT7805,$B6,AY$11:AY$7805)","v":0},{"$f":"SUMIF($DT$11:$DT7805,$B6,AZ$11:AZ$7805)","v":0},{"$f":"SUMIF($DT$11:$DT7805,$B6,BA$11:BA$7805)","v":0},{"$f":"SUMIF($DT$11:$DT7805,$B6,BB$11:BB$7805)","v":0},{"$f":"SUMIF($DT$11:$DT7805,$B6,BC$11:BC$7805)","v":0},{"$f":"SUMIF($DT$11:$DT7805,$B6,BD$11:BD$7805)","v":0},{"$f":"SUMIF($DT$11:$DT7805,$B6,BE$11:BE$7805)","v":0},{"$f":"SUMIF($DT$11:$DT7805,$B6,BF$11:BF$7805)","v":0},{"$f":"SUMIF($DT$11:$DT7805,$B6,BG$11:BG$7805)","v":0},{"$f":"SUMIF($DT$11:$DT7805,$B6,BH$11:BH$7805)","v":0},{"$f":"SUMIF($DT$11:$DT7805,$B6,BI$11:BI$7805)","v":0},{"$f":"SUMIF($DT$11:$DT7805,$B6,BJ$11:BJ$7805)","v":0},{"$f":"SUMIF($DT$11:$DT7805,$B6,BK$11:BK$7805)","v":0},{"$f":"SUMIF($DT$11:$DT7805,$B6,BL$11:BL$7805)","v":0},{"$f":"SUMIF($DT$11:$DT7805,$B6,BM$11:BM$7805)","v":0},{"$f":"SUMIF($DT$11:$DT7805,$B6,BN$11:BN$7805)","v":0},{"$f":"SUMIF($DT$11:$DT7805,$B6,BO$11:BO$7805)","v":0},{"$f":"SUMIF($DT$11:$DT7805,$B6,BP$11:BP$7805)","v":0},{"$f":"SUMIF($DT$11:$DT7805,$B6,BQ$11:BQ$7805)","v":0},{"$f":"SUMIF($DT$11:$DT7805,$B6,BR$11:BR$7805)","v":0},{"$f":"SUMIF($DT$11:$DT7805,$B6,BS$11:BS$7805)","v":0},{"$f":"SUMIF($DT$11:$DT7805,$B6,BT$11:BT$7805)","v":0},{"$f":"SUMIF($DT$11:$DT7805,$B6,BU$11:BU$7805)","v":0},{"$f":"SUMIF($DT$11:$DT7805,$B6,BV$11:BV$7805)","v":0},{"$f":"SUMIF($DT$11:$DT7805,$B6,BW$11:BW$7805)","v":0},{"$f":"SUMIF($DT$11:$DT7805,$B6,BX$11:BX$7805)","v":0},{"$f":"SUMIF($DT$11:$DT7805,$B6,BY$11:BY$7805)","v":0},{"$f":"SUMIF($DT$11:$DT7805,$B6,BZ$11:BZ$7805)","v":0},{"$f":"SUMIF($DT$11:$DT7805,$B6,CA$11:CA$7805)","v":0},{"$f":"SUMIF($DT$11:$DT7805,$B6,CB$11:CB$7805)","v":0},{"$f":"SUMIF($DT$11:$DT7805,$B6,CC$11:CC$7805)","v":0},{"$f":"SUMIF($DT$11:$DT7805,$B6,CD$11:CD$7805)","v":0},{"$f":"SUMIF($DT$11:$DT7805,$B6,CE$11:CE$7805)","v":0},{"$f":"SUMIF($DT$11:$DT7805,$B6,CF$11:CF$7805)","v":0},{"$f":"SUMIF($DT$11:$DT7805,$B6,CG$11:CG$7805)","v":0},{"$f":"SUMIF($DT$11:$DT7805,$B6,CH$11:CH$7805)","v":0},{"$f":"SUMIF($DT$11:$DT7805,$B6,CI$11:CI$7805)","v":0},{"$f":"SUMIF($DT$11:$DT7805,$B6,CJ$11:CJ$7805)","v":0},{"$f":"SUMIF($DT$11:$DT7805,$B6,CK$11:CK$7805)","v":0},{"$f":"SUMIF($DT$11:$DT7805,$B6,CL$11:CL$7805)","v":0},{"$f":"SUMIF($DT$11:$DT7805,$B6,CM$11:CM$7805)","v":0},{"$f":"SUMIF($DT$11:$DT7805,$B6,CN$11:CN$7805)","v":0},{"$f":"SUMIF($DT$11:$DT7805,$B6,CO$11:CO$7805)","v":0},{"$f":"SUMIF($DT$11:$DT7805,$B6,CP$11:CP$7805)","v":0},{"$f":"SUMIF($DT$11:$DT7805,$B6,CQ$11:CQ$7805)","v":0},{"$f":"SUMIF($DT$11:$DT7805,$B6,CR$11:CR$7805)","v":0},{"$f":"SUMIF($DT$11:$DT7805,$B6,CS$11:CS$7805)","v":0},{"$f":"SUMIF($DT$11:$DT7805,$B6,CT$11:CT$7805)","v":0},{"$f":"SUMIF($DT$11:$DT7805,$B6,CU$11:CU$7805)","v":0},{"$f":"SUMIF($DT$11:$DT7805,$B6,CV$11:CV$7805)","v":0},{"$f":"SUMIF($DT$11:$DT7805,$B6,CW$11:CW$7805)","v":0},{"$f":"SUMIF($DT$11:$DT7805,$B6,CX$11:CX$7805)","v":0},{"$f":"SUMIF($DT$11:$DT7805,$B6,CY$11:CY$7805)","v":0},{"$f":"SUMIF($DT$11:$DT7805,$B6,CZ$11:CZ$7805)","v":0},{"$f":"SUMIF($DT$11:$DT7805,$B6,DA$11:DA$7805)","v":0},{"$f":"SUMIF($DT$11:$DT7805,$B6,DB$11:DB$7805)","v":0},{"$f":"SUMIF($DT$11:$DT7805,$B6,DC$11:DC$7805)","v":0},{"$f":"SUMIF($DT$11:$DT7805,$B6,DD$11:DD$7805)","v":0},{"$f":"SUMIF($DT$11:$DT7805,$B6,DE$11:DE$7805)","v":0},{"$f":"SUMIF($DT$11:$DT7805,$B6,DF$11:DF$7805)","v":0},{"$f":"SUMIF($DT$11:$DT7805,$B6,DG$11:DG$7805)","v":0},{"$f":"SUMIF($DT$11:$DT7805,$B6,DH$11:DH$7805)","v":0},{"$f":"SUMIF($DT$11:$DT7805,$B6,DI$11:DI$7805)","v":0},{"$f":"SUMIF($DT$11:$DT7805,$B6,DJ$11:DJ$7805)","v":0},{"$f":"SUMIF($DT$11:$DT7805,$B6,DK$11:DK$7805)","v":0},{"$f":"SUMIF($DT$11:$DT7805,$B6,DL$11:DL$7805)","v":0},{"$f":"SUMIF($DT$11:$DT7805,$B6,DM$11:DM$7805)","v":0},{"$f":"SUMIF($DT$11:$DT7805,$B6,DN$11:DN$7805)","v":0},{"$f":"SUMIF($DT$11:$DT7805,$B6,DO$11:DO$7805)","v":0},{"$f":"SUMIF($DT$11:$DT7805,$B6,DP$11:DP$7805)","v":0},{"$f":"SUMIF($DT$11:$DT7805,$B6,DQ$11:DQ$7805)","v":0},{"$f":"SUMIF($DT$11:$DT7805,$B6,DR$11:DR$7805)","v":0},{"$f":"SUM(L7807:DR7807)","v":0}]
[null,null,null,null,null,null,null,null,null,null,null,{"$f":"SUMIF($DT$11:$DT7806,$B7,L$11:L$7805)","v":0},{"$f":"SUMIF($DT$11:$DT7806,$B7,M$11:M$7805)","v":0},{"$f":"SUMIF($DT$11:$DT7806,$B7,N$11:N$7805)","v":0},{"$f":"SUMIF($DT$11:$DT7806,$B7,O$11:O$7805)","v":0},{"$f":"SUMIF($DT$11:$DT7806,$B7,P$11:P$7805)","v":0},{"$f":"SUMIF($DT$11:$DT7806,$B7,Q$11:Q$7805)","v":0},{"$f":"SUMIF($DT$11:$DT7806,$B7,R$11:R$7805)","v":0},{"$f":"SUMIF($DT$11:$DT7806,$B7,S$11:S$7805)","v":0},{"$f":"SUMIF($DT$11:$DT7806,$B7,T$11:T$7805)","v":0},{"$f":"SUMIF($DT$11:$DT7806,$B7,U$11:U$7805)","v":0},{"$f":"SUMIF($DT$11:$DT7806,$B7,V$11:V$7805)","v":0},{"$f":"SUMIF($DT$11:$DT7806,$B7,W$11:W$7805)","v":0},{"$f":"SUMIF($DT$11:$DT7806,$B7,X$11:X$7805)","v":0},{"$f":"SUMIF($DT$11:$DT7806,$B7,Y$11:Y$7805)","v":0},{"$f":"SUMIF($DT$11:$DT7806,$B7,Z$11:Z$7805)","v":0},{"$f":"SUMIF($DT$11:$DT7806,$B7,AA$11:AA$7805)","v":0},{"$f":"SUMIF($DT$11:$DT7806,$B7,AB$11:AB$7805)","v":0},{"$f":"SUMIF($DT$11:$DT7806,$B7,AC$11:AC$7805)","v":0},{"$f":"SUMIF($DT$11:$DT7806,$B7,AD$11:AD$7805)","v":0},{"$f":"SUMIF($DT$11:$DT7806,$B7,AE$11:AE$7805)","v":0},{"$f":"SUMIF($DT$11:$DT7806,$B7,AF$11:AF$7805)","v":0},{"$f":"SUMIF($DT$11:$DT7806,$B7,AG$11:AG$7805)","v":0},{"$f":"SUMIF($DT$11:$DT7806,$B7,AH$11:AH$7805)","v":0},{"$f":"SUMIF($DT$11:$DT7806,$B7,AI$11:AI$7805)","v":0},{"$f":"SUMIF($DT$11:$DT7806,$B7,AJ$11:AJ$7805)","v":0},{"$f":"SUMIF($DT$11:$DT7806,$B7,AK$11:AK$7805)","v":0},{"$f":"SUMIF($DT$11:$DT7806,$B7,AL$11:AL$7805)","v":0},{"$f":"SUMIF($DT$11:$DT7806,$B7,AM$11:AM$7805)","v":0},{"$f":"SUMIF($DT$11:$DT7806,$B7,AN$11:AN$7805)","v":0},{"$f":"SUMIF($DT$11:$DT7806,$B7,AO$11:AO$7805)","v":0},{"$f":"SUMIF($DT$11:$DT7806,$B7,AP$11:AP$7805)","v":0},{"$f":"SUMIF($DT$11:$DT7806,$B7,AQ$11:AQ$7805)","v":0},{"$f":"SUMIF($DT$11:$DT7806,$B7,AR$11:AR$7805)","v":0},{"$f":"SUMIF($DT$11:$DT7806,$B7,AS$11:AS$7805)","v":0},{"$f":"SUMIF($DT$11:$DT7806,$B7,AT$11:AT$7805)","v":0},{"$f":"SUMIF($DT$11:$DT7806,$B7,AU$11:AU$7805)","v":0},{"$f":"SUMIF($DT$11:$DT7806,$B7,AV$11:AV$7805)","v":0},{"$f":"SUMIF($DT$11:$DT7806,$B7,AW$11:AW$7805)","v":0},{"$f":"SUMIF($DT$11:$DT7806,$B7,AX$11:AX$7805)","v":0},{"$f":"SUMIF($DT$11:$DT7806,$B7,AY$11:AY$7805)","v":0},{"$f":"SUMIF($DT$11:$DT7806,$B7,AZ$11:AZ$7805)","v":0},{"$f":"SUMIF($DT$11:$DT7806,$B7,BA$11:BA$7805)","v":0},{"$f":"SUMIF($DT$11:$DT7806,$B7,BB$11:BB$7805)","v":0},{"$f":"SUMIF($DT$11:$DT7806,$B7,BC$11:BC$7805)","v":0},{"$f":"SUMIF($DT$11:$DT7806,$B7,BD$11:BD$7805)","v":0},{"$f":"SUMIF($DT$11:$DT7806,$B7,BE$11:BE$7805)","v":0},{"$f":"SUMIF($DT$11:$DT7806,$B7,BF$11:BF$7805)","v":0},{"$f":"SUMIF($DT$11:$DT7806,$B7,BG$11:BG$7805)","v":0},{"$f":"SUMIF($DT$11:$DT7806,$B7,BH$11:BH$7805)","v":0},{"$f":"SUMIF($DT$11:$DT7806,$B7,BI$11:BI$7805)","v":0},{"$f":"SUMIF($DT$11:$DT7806,$B7,BJ$11:BJ$7805)","v":0},{"$f":"SUMIF($DT$11:$DT7806,$B7,BK$11:BK$7805)","v":0},{"$f":"SUMIF($DT$11:$DT7806,$B7,BL$11:BL$7805)","v":0},{"$f":"SUMIF($DT$11:$DT7806,$B7,BM$11:BM$7805)","v":0},{"$f":"SUMIF($DT$11:$DT7806,$B7,BN$11:BN$7805)","v":0},{"$f":"SUMIF($DT$11:$DT7806,$B7,BO$11:BO$7805)","v":0},{"$f":"SUMIF($DT$11:$DT7806,$B7,BP$11:BP$7805)","v":0},{"$f":"SUMIF($DT$11:$DT7806,$B7,BQ$11:BQ$7805)","v":0},{"$f":"SUMIF($DT$11:$DT7806,$B7,BR$11:BR$7805)","v":0},{"$f":"SUMIF($DT$11:$DT7806,$B7,BS$11:BS$7805)","v":0},{"$f":"SUMIF($DT$11:$DT7806,$B7,BT$11:BT$7805)","v":0},{"$f":"SUMIF($DT$11:$DT7806,$B7,BU$11:BU$7805)","v":0},{"$f":"SUMIF($DT$11:$DT7806,$B7,BV$11:BV$7805)","v":0},{"$f":"SUMIF($DT$11:$DT7806,$B7,BW$11:BW$7805)","v":0},{"$f":"SUMIF($DT$11:$DT7806,$B7,BX$11:BX$7805)","v":0},{"$f":"SUMIF($DT$11:$DT7806,$B7,BY$11:BY$7805)","v":0},{"$f":"SUMIF($DT$11:$DT7806,$B7,BZ$11:BZ$7805)","v":0},{"$f":"SUMIF($DT$11:$DT7806,$B7,CA$11:CA$7805)","v":0},{"$f":"SUMIF($DT$11:$DT7806,$B7,CB$11:CB$7805)","v":0},{"$f":"SUMIF($DT$11:$DT7806,$B7,CC$11:CC$7805)","v":0},{"$f":"SUMIF($DT$11:$DT7806,$B7,CD$11:CD$7805)","v":0},{"$f":"SUMIF($DT$11:$DT7806,$B7,CE$11:CE$7805)","v":0},{"$f":"SUMIF($DT$11:$DT7806,$B7,CF$11:CF$7805)","v":0},{"$f":"SUMIF($DT$11:$DT7806,$B7,CG$11:CG$7805)","v":0},{"$f":"SUMIF($DT$11:$DT7806,$B7,CH$11:CH$7805)","v":0},{"$f":"SUMIF($DT$11:$DT7806,$B7,CI$11:CI$7805)","v":0},{"$f":"SUMIF($DT$11:$DT7806,$B7,CJ$11:CJ$7805)","v":0},{"$f":"SUMIF($DT$11:$DT7806,$B7,CK$11:CK$7805)","v":0},{"$f":"SUMIF($DT$11:$DT7806,$B7,CL$11:CL$7805)","v":0},{"$f":"SUMIF($DT$11:$DT7806,$B7,CM$11:CM$7805)","v":0},{"$f":"SUMIF($DT$11:$DT7806,$B7,CN$11:CN$7805)","v":0},{"$f":"SUMIF($DT$11:$DT7806,$B7,CO$11:CO$7805)","v":0},{"$f":"SUMIF($DT$11:$DT7806,$B7,CP$11:CP$7805)","v":0},{"$f":"SUMIF($DT$11:$DT7806,$B7,CQ$11:CQ$7805)","v":0},{"$f":"SUMIF($DT$11:$DT7806,$B7,CR$11:CR$7805)","v":0},{"$f":"SUMIF($DT$11:$DT7806,$B7,CS$11:CS$7805)","v":0},{"$f":"SUMIF($DT$11:$DT7806,$B7,CT$11:CT$7805)","v":0},{"$f":"SUMIF($DT$11:$DT7806,$B7,CU$11:CU$7805)","v":0},{"$f":"SUMIF($DT$11:$DT7806,$B7,CV$11:CV$7805)","v":0},{"$f":"SUMIF($DT$11:$DT7806,$B7,CW$11:CW$7805)","v":0},{"$f":"SUMIF($DT$11:$DT7806,$B7,CX$11:CX$7805)","v":0},{"$f":"SUMIF($DT$11:$DT7806,$B7,CY$11:CY$7805)","v":0},{"$f":"SUMIF($DT$11:$DT7806,$B7,CZ$11:CZ$7805)","v":0},{"$f":"SUMIF($DT$11:$DT7806,$B7,DA$11:DA$7805)","v":0},{"$f":"SUMIF($DT$11:$DT7806,$B7,DB$11:DB$7805)","v":0},{"$f":"SUMIF($DT$11:$DT7806,$B7,DC$11:DC$7805)","v":0},{"$f":"SUMIF($DT$11:$DT7806,$B7,DD$11:DD$7805)","v":0},{"$f":"SUMIF($DT$11:$DT7806,$B7,DE$11:DE$7805)","v":0},{"$f":"SUMIF($DT$11:$DT7806,$B7,DF$11:DF$7805)","v":0},{"$f":"SUMIF($DT$11:$DT7806,$B7,DG$11:DG$7805)","v":0},{"$f":"SUMIF($DT$11:$DT7806,$B7,DH$11:DH$7805)","v":0},{"$f":"SUMIF($DT$11:$DT7806,$B7,DI$11:DI$7805)","v":0},{"$f":"SUMIF($DT$11:$DT7806,$B7,DJ$11:DJ$7805)","v":0},{"$f":"SUMIF($DT$11:$DT7806,$B7,DK$11:DK$7805)","v":0},{"$f":"SUMIF($DT$11:$DT7806,$B7,DL$11:DL$7805)","v":0},{"$f":"SUMIF($DT$11:$DT7806,$B7,DM$11:DM$7805)","v":0},{"$f":"SUMIF($DT$11:$DT7806,$B7,DN$11:DN$7805)","v":0},{"$f":"SUMIF($DT$11:$DT7806,$B7,DO$11:DO$7805)","v":0},{"$f":"SUMIF($DT$11:$DT7806,$B7,DP$11:DP$7805)","v":0},{"$f":"SUMIF($DT$11:$DT7806,$B7,DQ$11:DQ$7805)","v":0},{"$f":"SUMIF($DT$11:$DT7806,$B7,DR$11:DR$7805)","v":0},0]
[null,null,null,null,null,null,null,null,null,null,null,{"$f":"SUMIF($DT$11:$DT7807,$B8,L$11:L$7805)","v":0},{"$f":"SUMIF($DT$11:$DT7807,$B8,M$11:M$7805)","v":0},{"$f":"SUMIF($DT$11:$DT7807,$B8,N$11:N$7805)","v":0},{"$f":"SUMIF($DT$11:$DT7807,$B8,O$11:O$7805)","v":0},{"$f":"SUMIF($DT$11:$DT7807,$B8,P$11:P$7805)","v":0},{"$f":"SUMIF($DT$11:$DT7807,$B8,Q$11:Q$7805)","v":0},{"$f":"SUMIF($DT$11:$DT7807,$B8,R$11:R$7805)","v":0},{"$f":"SUMIF($DT$11:$DT7807,$B8,S$11:S$7805)","v":0},{"$f":"SUMIF($DT$11:$DT7807,$B8,T$11:T$7805)","v":0},{"$f":"SUMIF($DT$11:$DT7807,$B8,U$11:U$7805)","v":0},{"$f":"SUMIF($DT$11:$DT7807,$B8,V$11:V$7805)","v":0},{"$f":"SUMIF($DT$11:$DT7807,$B8,W$11:W$7805)","v":0},{"$f":"SUMIF($DT$11:$DT7807,$B8,X$11:X$7805)","v":0},{"$f":"SUMIF($DT$11:$DT7807,$B8,Y$11:Y$7805)","v":0},{"$f":"SUMIF($DT$11:$DT7807,$B8,Z$11:Z$7805)","v":0},{"$f":"SUMIF($DT$11:$DT7807,$B8,AA$11:AA$7805)","v":0},{"$f":"SUMIF($DT$11:$DT7807,$B8,AB$11:AB$7805)","v":0},{"$f":"SUMIF($DT$11:$DT7807,$B8,AC$11:AC$7805)","v":0},{"$f":"SUMIF($DT$11:$DT7807,$B8,AD$11:AD$7805)","v":0},{"$f":"SUMIF($DT$11:$DT7807,$B8,AE$11:AE$7805)","v":0},{"$f":"SUMIF($DT$11:$DT7807,$B8,AF$11:AF$7805)","v":0},{"$f":"SUMIF($DT$11:$DT7807,$B8,AG$11:AG$7805)","v":0},{"$f":"SUMIF($DT$11:$DT7807,$B8,AH$11:AH$7805)","v":0},{"$f":"SUMIF($DT$11:$DT7807,$B8,AI$11:AI$7805)","v":0},{"$f":"SUMIF($DT$11:$DT7807,$B8,AJ$11:AJ$7805)","v":0},{"$f":"SUMIF($DT$11:$DT7807,$B8,AK$11:AK$7805)","v":0},{"$f":"SUMIF($DT$11:$DT7807,$B8,AL$11:AL$7805)","v":0},{"$f":"SUMIF($DT$11:$DT7807,$B8,AM$11:AM$7805)","v":0},{"$f":"SUMIF($DT$11:$DT7807,$B8,AN$11:AN$7805)","v":0},{"$f":"SUMIF($DT$11:$DT7807,$B8,AO$11:AO$7805)","v":0},{"$f":"SUMIF($DT$11:$DT7807,$B8,AP$11:AP$7805)","v":0},{"$f":"SUMIF($DT$11:$DT7807,$B8,AQ$11:AQ$7805)","v":0},{"$f":"SUMIF($DT$11:$DT7807,$B8,AR$11:AR$7805)","v":0},{"$f":"SUMIF($DT$11:$DT7807,$B8,AS$11:AS$7805)","v":0},{"$f":"SUMIF($DT$11:$DT7807,$B8,AT$11:AT$7805)","v":0},{"$f":"SUMIF($DT$11:$DT7807,$B8,AU$11:AU$7805)","v":0},{"$f":"SUMIF($DT$11:$DT7807,$B8,AV$11:AV$7805)","v":0},{"$f":"SUMIF($DT$11:$DT7807,$B8,AW$11:AW$7805)","v":0},{"$f":"SUMIF($DT$11:$DT7807,$B8,AX$11:AX$7805)","v":0},{"$f":"SUMIF($DT$11:$DT7807,$B8,AY$11:AY$7805)","v":0},{"$f":"SUMIF($DT$11:$DT7807,$B8,AZ$11:AZ$7805)","v":0},{"$f":"SUMIF($DT$11:$DT7807,$B8,BA$11:BA$7805)","v":0},{"$f":"SUMIF($DT$11:$DT7807,$B8,BB$11:BB$7805)","v":0},{"$f":"SUMIF($DT$11:$DT7807,$B8,BC$11:BC$7805)","v":0},{"$f":"SUMIF($DT$11:$DT7807,$B8,BD$11:BD$7805)","v":0},{"$f":"SUMIF($DT$11:$DT7807,$B8,BE$11:BE$7805)","v":0},{"$f":"SUMIF($DT$11:$DT7807,$B8,BF$11:BF$7805)","v":0},{"$f":"SUMIF($DT$11:$DT7807,$B8,BG$11:BG$7805)","v":0},{"$f":"SUMIF($DT$11:$DT7807,$B8,BH$11:BH$7805)","v":0},{"$f":"SUMIF($DT$11:$DT7807,$B8,BI$11:BI$7805)","v":0},{"$f":"SUMIF($DT$11:$DT7807,$B8,BJ$11:BJ$7805)","v":0},{"$f":"SUMIF($DT$11:$DT7807,$B8,BK$11:BK$7805)","v":0},{"$f":"SUMIF($DT$11:$DT7807,$B8,BL$11:BL$7805)","v":0},{"$f":"SUMIF($DT$11:$DT7807,$B8,BM$11:BM$7805)","v":0},{"$f":"SUMIF($DT$11:$DT7807,$B8,BN$11:BN$7805)","v":0},{"$f":"SUMIF($DT$11:$DT7807,$B8,BO$11:BO$7805)","v":0},{"$f":"SUMIF($DT$11:$DT7807,$B8,BP$11:BP$7805)","v":0},{"$f":"SUMIF($DT$11:$DT7807,$B8,BQ$11:BQ$7805)","v":0},{"$f":"SUMIF($DT$11:$DT7807,$B8,BR$11:BR$7805)","v":0},{"$f":"SUMIF($DT$11:$DT7807,$B8,BS$11:BS$7805)","v":0},{"$f":"SUMIF($DT$11:$DT7807,$B8,BT$11:BT$7805)","v":0},{"$f":"SUMIF($DT$11:$DT7807,$B8,BU$11:BU$7805)","v":0},{"$f":"SUMIF($DT$11:$DT7807,$B8,BV$11:BV$7805)","v":0},{"$f":"SUMIF($DT$11:$DT7807,$B8,BW$11:BW$7805)","v":0},{"$f":"SUMIF($DT$11:$DT7807,$B8,BX$11:BX$7805)","v":0},{"$f":"SUMIF($DT$11:$DT7807,$B8,BY$11:BY$7805)","v":0},{"$f":"SUMIF($DT$11:$DT7807,$B8,BZ$11:BZ$7805)","v":0},{"$f":"SUMIF($DT$11:$DT7807,$B8,CA$11:CA$7805)","v":0},{"$f":"SUMIF($DT$11:$DT7807,$B8,CB$11:CB$7805)","v":0},{"$f":"SUMIF($DT$11:$DT7807,$B8,CC$11:CC$7805)","v":0},{"$f":"SUMIF($DT$11:$DT7807,$B8,CD$11:CD$7805)","v":0},{"$f":"SUMIF($DT$11:$DT7807,$B8,CE$11:CE$7805)","v":0},{"$f":"SUMIF($DT$11:$DT7807,$B8,CF$11:CF$7805)","v":0},{"$f":"SUMIF($DT$11:$DT7807,$B8,CG$11:CG$7805)","v":0},{"$f":"SUMIF($DT$11:$DT7807,$B8,CH$11:CH$7805)","v":0},{"$f":"SUMIF($DT$11:$DT7807,$B8,CI$11:CI$7805)","v":0},{"$f":"SUMIF($DT$11:$DT7807,$B8,CJ$11:CJ$7805)","v":0},{"$f":"SUMIF($DT$11:$DT7807,$B8,CK$11:CK$7805)","v":0},{"$f":"SUMIF($DT$11:$DT7807,$B8,CL$11:CL$7805)","v":0},{"$f":"SUMIF($DT$11:$DT7807,$B8,CM$11:CM$7805)","v":0},{"$f":"SUMIF($DT$11:$DT7807,$B8,CN$11:CN$7805)","v":0},{"$f":"SUMIF($DT$11:$DT7807,$B8,CO$11:CO$7805)","v":0},{"$f":"SUMIF($DT$11:$DT7807,$B8,CP$11:CP$7805)","v":0},{"$f":"SUMIF($DT$11:$DT7807,$B8,CQ$11:CQ$7805)","v":0},{"$f":"SUMIF($DT$11:$DT7807,$B8,CR$11:CR$7805)","v":0},{"$f":"SUMIF($DT$11:$DT7807,$B8,CS$11:CS$7805)","v":0},{"$f":"SUMIF($DT$11:$DT7807,$B8,CT$11:CT$7805)","v":0},{"$f":"SUMIF($DT$11:$DT7807,$B8,CU$11:CU$7805)","v":0},{"$f":"SUMIF($DT$11:$DT7807,$B8,CV$11:CV$7805)","v":0},{"$f":"SUMIF($DT$11:$DT7807,$B8,CW$11:CW$7805)","v":0},{"$f":"SUMIF($DT$11:$DT7807,$B8,CX$11:CX$7805)","v":0},{"$f":"SUMIF($DT$11:$DT7807,$B8,CY$11:CY$7805)","v":0},{"$f":"SUMIF($DT$11:$DT7807,$B8,CZ$11:CZ$7805)","v":0},{"$f":"SUMIF($DT$11:$DT7807,$B8,DA$11:DA$7805)","v":0},{"$f":"SUMIF($DT$11:$DT7807,$B8,DB$11:DB$7805)","v":0},{"$f":"SUMIF($DT$11:$DT7807,$B8,DC$11:DC$7805)","v":0},{"$f":"SUMIF($DT$11:$DT7807,$B8,DD$11:DD$7805)","v":0},{"$f":"SUMIF($DT$11:$DT7807,$B8,DE$11:DE$7805)","v":0},{"$f":"SUMIF($DT$11:$DT7807,$B8,DF$11:DF$7805)","v":0},{"$f":"SUMIF($DT$11:$DT7807,$B8,DG$11:DG$7805)","v":0},{"$f":"SUMIF($DT$11:$DT7807,$B8,DH$11:DH$7805)","v":0},{"$f":"SUMIF($DT$11:$DT7807,$B8,DI$11:DI$7805)","v":0},{"$f":"SUMIF($DT$11:$DT7807,$B8,DJ$11:DJ$7805)","v":0},{"$f":"SUMIF($DT$11:$DT7807,$B8,DK$11:DK$7805)","v":0},{"$f":"SUMIF($DT$11:$DT7807,$B8,DL$11:DL$7805)","v":0},{"$f":"SUMIF($DT$11:$DT7807,$B8,DM$11:DM$7805)","v":0},{"$f":"SUMIF($DT$11:$DT7807,$B8,DN$11:DN$7805)","v":0},{"$f":"SUMIF($DT$11:$DT7807,$B8,DO$11:DO$7805)","v":0},{"$f":"SUMIF($DT$11:$DT7807,$B8,DP$11:DP$7805)","v":0},{"$f":"SUMIF($DT$11:$DT7807,$B8,DQ$11:DQ$7805)","v":0},{"$f":"SUMIF($DT$11:$DT7807,$B8,DR$11:DR$7805)","v":0},0]
[null,null,null,null,null,null,null,null,null,null,null,{"$f":"SUMIF($DT$11:$DT7808,$B9,L$11:L$7805)","v":0},{"$f":"SUMIF($DT$11:$DT7808,$B9,M$11:M$7805)","v":0},{"$f":"SUMIF($DT$11:$DT7808,$B9,N$11:N$7805)","v":0},{"$f":"SUMIF($DT$11:$DT7808,$B9,O$11:O$7805)","v":0},{"$f":"SUMIF($DT$11:$DT7808,$B9,P$11:P$7805)","v":0},{"$f":"SUMIF($DT$11:$DT7808,$B9,Q$11:Q$7805)","v":0},{"$f":"SUMIF($DT$11:$DT7808,$B9,R$11:R$7805)","v":0},{"$f":"SUMIF($DT$11:$DT7808,$B9,S$11:S$7805)","v":0},{"$f":"SUMIF($DT$11:$DT7808,$B9,T$11:T$7805)","v":0},{"$f":"SUMIF($DT$11:$DT7808,$B9,U$11:U$7805)","v":0},{"$f":"SUMIF($DT$11:$DT7808,$B9,V$11:V$7805)","v":0},{"$f":"SUMIF($DT$11:$DT7808,$B9,W$11:W$7805)","v":0},{"$f":"SUMIF($DT$11:$DT7808,$B9,X$11:X$7805)","v":0},{"$f":"SUMIF($DT$11:$DT7808,$B9,Y$11:Y$7805)","v":0},{"$f":"SUMIF($DT$11:$DT7808,$B9,Z$11:Z$7805)","v":0},{"$f":"SUMIF($DT$11:$DT7808,$B9,AA$11:AA$7805)","v":0},{"$f":"SUMIF($DT$11:$DT7808,$B9,AB$11:AB$7805)","v":0},{"$f":"SUMIF($DT$11:$DT7808,$B9,AC$11:AC$7805)","v":0},{"$f":"SUMIF($DT$11:$DT7808,$B9,AD$11:AD$7805)","v":0},{"$f":"SUMIF($DT$11:$DT7808,$B9,AE$11:AE$7805)","v":0},{"$f":"SUMIF($DT$11:$DT7808,$B9,AF$11:AF$7805)","v":0},{"$f":"SUMIF($DT$11:$DT7808,$B9,AG$11:AG$7805)","v":0},{"$f":"SUMIF($DT$11:$DT7808,$B9,AH$11:AH$7805)","v":0},{"$f":"SUMIF($DT$11:$DT7808,$B9,AI$11:AI$7805)","v":0},{"$f":"SUMIF($DT$11:$DT7808,$B9,AJ$11:AJ$7805)","v":0},{"$f":"SUMIF($DT$11:$DT7808,$B9,AK$11:AK$7805)","v":0},{"$f":"SUMIF($DT$11:$DT7808,$B9,AL$11:AL$7805)","v":0},{"$f":"SUMIF($DT$11:$DT7808,$B9,AM$11:AM$7805)","v":0},{"$f":"SUMIF($DT$11:$DT7808,$B9,AN$11:AN$7805)","v":0},{"$f":"SUMIF($DT$11:$DT7808,$B9,AO$11:AO$7805)","v":0},{"$f":"SUMIF($DT$11:$DT7808,$B9,AP$11:AP$7805)","v":0},{"$f":"SUMIF($DT$11:$DT7808,$B9,AQ$11:AQ$7805)","v":0},{"$f":"SUMIF($DT$11:$DT7808,$B9,AR$11:AR$7805)","v":0},{"$f":"SUMIF($DT$11:$DT7808,$B9,AS$11:AS$7805)","v":0},{"$f":"SUMIF($DT$11:$DT7808,$B9,AT$11:AT$7805)","v":0},{"$f":"SUMIF($DT$11:$DT7808,$B9,AU$11:AU$7805)","v":0},{"$f":"SUMIF($DT$11:$DT7808,$B9,AV$11:AV$7805)","v":0},{"$f":"SUMIF($DT$11:$DT7808,$B9,AW$11:AW$7805)","v":0},{"$f":"SUMIF($DT$11:$DT7808,$B9,AX$11:AX$7805)","v":0},{"$f":"SUMIF($DT$11:$DT7808,$B9,AY$11:AY$7805)","v":0},{"$f":"SUMIF($DT$11:$DT7808,$B9,AZ$11:AZ$7805)","v":0},{"$f":"SUMIF($DT$11:$DT7808,$B9,BA$11:BA$7805)","v":0},{"$f":"SUMIF($DT$11:$DT7808,$B9,BB$11:BB$7805)","v":0},{"$f":"SUMIF($DT$11:$DT7808,$B9,BC$11:BC$7805)","v":0},{"$f":"SUMIF($DT$11:$DT7808,$B9,BD$11:BD$7805)","v":0},{"$f":"SUMIF($DT$11:$DT7808,$B9,BE$11:BE$7805)","v":0},{"$f":"SUMIF($DT$11:$DT7808,$B9,BF$11:BF$7805)","v":0},{"$f":"SUMIF($DT$11:$DT7808,$B9,BG$11:BG$7805)","v":0},{"$f":"SUMIF($DT$11:$DT7808,$B9,BH$11:BH$7805)","v":0},{"$f":"SUMIF($DT$11:$DT7808,$B9,BI$11:BI$7805)","v":0},{"$f":"SUMIF($DT$11:$DT7808,$B9,BJ$11:BJ$7805)","v":0},{"$f":"SUMIF($DT$11:$DT7808,$B9,BK$11:BK$7805)","v":0},{"$f":"SUMIF($DT$11:$DT7808,$B9,BL$11:BL$7805)","v":0},{"$f":"SUMIF($DT$11:$DT7808,$B9,BM$11:BM$7805)","v":0},{"$f":"SUMIF($DT$11:$DT7808,$B9,BN$11:BN$7805)","v":0},{"$f":"SUMIF($DT$11:$DT7808,$B9,BO$11:BO$7805)","v":0},{"$f":"SUMIF($DT$11:$DT7808,$B9,BP$11:BP$7805)","v":0},{"$f":"SUMIF($DT$11:$DT7808,$B9,BQ$11:BQ$7805)","v":0},{"$f":"SUMIF($DT$11:$DT7808,$B9,BR$11:BR$7805)","v":0},{"$f":"SUMIF($DT$11:$DT7808,$B9,BS$11:BS$7805)","v":0},{"$f":"SUMIF($DT$11:$DT7808,$B9,BT$11:BT$7805)","v":0},{"$f":"SUMIF($DT$11:$DT7808,$B9,BU$11:BU$7805)","v":0},{"$f":"SUMIF($DT$11:$DT7808,$B9,BV$11:BV$7805)","v":0},{"$f":"SUMIF($DT$11:$DT7808,$B9,BW$11:BW$7805)","v":0},{"$f":"SUMIF($DT$11:$DT7808,$B9,BX$11:BX$7805)","v":0},{"$f":"SUMIF($DT$11:$DT7808,$B9,BY$11:BY$7805)","v":0},{"$f":"SUMIF($DT$11:$DT7808,$B9,BZ$11:BZ$7805)","v":0},{"$f":"SUMIF($DT$11:$DT7808,$B9,CA$11:CA$7805)","v":0},{"$f":"SUMIF($DT$11:$DT7808,$B9,CB$11:CB$7805)","v":0},{"$f":"SUMIF($DT$11:$DT7808,$B9,CC$11:CC$7805)","v":0},{"$f":"SUMIF($DT$11:$DT7808,$B9,CD$11:CD$7805)","v":0},{"$f":"SUMIF($DT$11:$DT7808,$B9,CE$11:CE$7805)","v":0},{"$f":"SUMIF($DT$11:$DT7808,$B9,CF$11:CF$7805)","v":0},{"$f":"SUMIF($DT$11:$DT7808,$B9,CG$11:CG$7805)","v":0},{"$f":"SUMIF($DT$11:$DT7808,$B9,CH$11:CH$7805)","v":0},{"$f":"SUMIF($DT$11:$DT7808,$B9,CI$11:CI$7805)","v":0},{"$f":"SUMIF($DT$11:$DT7808,$B9,CJ$11:CJ$7805)","v":0},{"$f":"SUMIF($DT$11:$DT7808,$B9,CK$11:CK$7805)","v":0},{"$f":"SUMIF($DT$11:$DT7808,$B9,CL$11:CL$7805)","v":0},{"$f":"SUMIF($DT$11:$DT7808,$B9,CM$11:CM$7805)","v":0},{"$f":"SUMIF($DT$11:$DT7808,$B9,CN$11:CN$7805)","v":0},{"$f":"SUMIF($DT$11:$DT7808,$B9,CO$11:CO$7805)","v":0},{"$f":"SUMIF($DT$11:$DT7808,$B9,CP$11:CP$7805)","v":0},{"$f":"SUMIF($DT$11:$DT7808,$B9,CQ$11:CQ$7805)","v":0},{"$f":"SUMIF($DT$11:$DT7808,$B9,CR$11:CR$7805)","v":0},{"$f":"SUMIF($DT$11:$DT7808,$B9,CS$11:CS$7805)","v":0},{"$f":"SUMIF($DT$11:$DT7808,$B9,CT$11:CT$7805)","v":0},{"$f":"SUMIF($DT$11:$DT7808,$B9,CU$11:CU$7805)","v":0},{"$f":"SUMIF($DT$11:$DT7808,$B9,CV$11:CV$7805)","v":0},{"$f":"SUMIF($DT$11:$DT7808,$B9,CW$11:CW$7805)","v":0},{"$f":"SUMIF($DT$11:$DT7808,$B9,CX$11:CX$7805)","v":0},{"$f":"SUMIF($DT$11:$DT7808,$B9,CY$11:CY$7805)","v":0},{"$f":"SUMIF($DT$11:$DT7808,$B9,CZ$11:CZ$7805)","v":0},{"$f":"SUMIF($DT$11:$DT7808,$B9,DA$11:DA$7805)","v":0},{"$f":"SUMIF($DT$11:$DT7808,$B9,DB$11:DB$7805)","v":0},{"$f":"SUMIF($DT$11:$DT7808,$B9,DC$11:DC$7805)","v":0},{"$f":"SUMIF($DT$11:$DT7808,$B9,DD$11:DD$7805)","v":0},{"$f":"SUMIF($DT$11:$DT7808,$B9,DE$11:DE$7805)","v":0},{"$f":"SUMIF($DT$11:$DT7808,$B9,DF$11:DF$7805)","v":0},{"$f":"SUMIF($DT$11:$DT7808,$B9,DG$11:DG$7805)","v":0},{"$f":"SUMIF($DT$11:$DT7808,$B9,DH$11:DH$7805)","v":0},{"$f":"SUMIF($DT$11:$DT7808,$B9,DI$11:DI$7805)","v":0},{"$f":"SUMIF($DT$11:$DT7808,$B9,DJ$11:DJ$7805)","v":0},{"$f":"SUMIF($DT$11:$DT7808,$B9,DK$11:DK$7805)","v":0},{"$f":"SUMIF($DT$11:$DT7808,$B9,DL$11:DL$7805)","v":0},{"$f":"SUMIF($DT$11:$DT7808,$B9,DM$11:DM$7805)","v":0},{"$f":"SUMIF($DT$11:$DT7808,$B9,DN$11:DN$7805)","v":0},{"$f":"SUMIF($DT$11:$DT7808,$B9,DO$11:DO$7805)","v":0},{"$f":"SUMIF($DT$11:$DT7808,$B9,DP$11:DP$7805)","v":0},{"$f":"SUMIF($DT$11:$DT7808,$B9,DQ$11:DQ$7805)","v":0},{"$f":"SUMIF($DT$11:$DT7808,$B9,DR$11:DR$7805)","v":0},0]

{"sheet":"単価情報","index":14,"n_rows":932,"n_cols":21,"rows_kept":932,"cut":false,"hidden":false,"merged":[[29,20,30,20],[31,20,32,20],[33,20,34,20],[35,20,36,20],[37,20,40,20],[43,19,44,19],[45,1,48,1],[49,1,52,1],[53,1,56,1],[57,1,60,1],[43,1,44,1],[43,2,43,18],[33,1,36,1],[25,1,28,1],[37,1,40,1],[9,1,12,1],[13,1,16,1],[17,1,20,1],[21,1,24,1],[29,1,32,1],[25,20,28,20],[4,1,4,12],[7,1,8,1],[7,19,8,19],[9,20,12,20],[13,20,14,20],[15,20,16,20],[21,20,24,20],[7,2,7,18],[7,20,8,20]]}
[]
[null,"単価情報",null,null,null,null,null,null,null,null,null,null,null,null,null,null,null,null,"管路布設情報入力"]
[]
[null,"水道事業の再構築に関する施設更新費用算定の手引き"]
[null,"https://www.mlit.go.jp/mizukokudo/watersupply/content/001899963.pdf"]
[]
[null,"管路施工単価表（初期値では費用関数を入力：撤去費込み、税抜）",null,null,null,null,null,null,null,null,null,null,null,null,null,null,null,"単位：千円/ｍ"]
[null,"管種","口径(mm)",null,null,null,null,null,null,null,null,null,null,null,null,null,null,null,null,"施工区分","管種\nコード"]
[null,null,50,75,100,125,150,200,250,300,350,400,450,500,600,700,800,900,1000]
[null,"ダクタイル鋳鉄管（耐震継手）",{"$f":"1.6419*C9^0.8257*100/110","v":37.739274782792194},{"$f":"1.6419*D9^0.8257*100/110","v":52.746312430323655},{"$f":"1.6419*E9^0.8257*100/110","v":66.88889441587024},{"$f":"1.6419*F9^0.8257*100/110","v":80.421582637175121},93.487289919708118,118.55352870260977,142.53879494865018,165.69638660667843,188.18759925887554,210.12365790435061,231.58562073155252,252.635019097742,293.67941415447928,333.54272252583337,372.42207882195731,410.46115015463198,447.76899438156022,"無舗装、昼間施工","A2"]
[null,null,{"$f":"(0.4486*C9+78.217)*100/110","v":91.497272727272716},{"$f":"(0.4486*D9+78.217)*100/110","v":101.69272727272727},111.88818181818182,122.08363636363637,132.27909090909091,152.67000000000002,173.06090909090909,193.45181818181823,213.84272727272725,234.23363636363635,254.62454545454543,275.01545454545453,315.79727272727274,356.57909090909089,397.36090909090905,438.14272727272726,478.92454545454541,"歩道、昼間施工"]
[null,null,{"$f":"(0.6473*C9+51.804)*100/110","v":76.51727272727274},{"$f":"(0.6473*D9+51.804)*100/110","v":91.228636363636355},105.94000000000001,120.65136363636363,135.36272727272726,164.78545454545457,194.2081818181818,223.63090909090911,253.0536363636364,282.47636363636366,311.89909090909083,341.32181818181812,400.16727272727269,459.01272727272726,517.85818181818183,576.70363636363629,635.54909090909086,"車道、昼間施工"]
[null,null,{"$f":"(0.9813*C9+83.92)*100/110","v":120.89545454545456},{"$f":"(0.9813*D9+83.92)*100/110","v":143.19772727272726},165.5,187.80227272727274,210.10454545454544,254.70909090909092,299.31363636363636,343.91818181818184,388.52272727272725,433.12727272727273,477.7318181818182,522.33636363636356,611.5454545454545,700.75454545454545,789.96363636363628,879.17272727272712,968.38181818181818,"車道、夜間施工"]
[null,"ダクタイル鋳鉄管（非耐震継手）\n（更新時はダクタイル鋳鉄管[耐震継手]）",{"$f":"C10","v":37.739274782792194},{"$f":"D10","v":52.746312430323655},{"$f":"E10","v":66.88889441587024},{"$f":"F10","v":80.421582637175121},93.487289919708118,118.55352870260977,142.53879494865018,165.69638660667843,188.18759925887554,210.12365790435061,231.58562073155252,252.635019097742,293.67941415447928,333.54272252583337,372.42207882195731,410.46115015463198,447.76899438156022,"無舗装、昼間施工","A3"]
[null,null,{"$f":"C11","v":91.497272727272716},101.69272727272727,{"$f":"E11","v":111.88818181818182},{"$f":"F11","v":122.08363636363637},132.27909090909091,152.67000000000002,173.06090909090909,193.45181818181823,213.84272727272725,234.23363636363635,254.62454545454543,275.01545454545453,315.79727272727274,356.57909090909089,397.36090909090905,438.14272727272726,478.92454545454541,"歩道、昼間施工"]
[null,null,76.51727272727274,91.228636363636355,{"$f":"E12","v":105.94000000000001},{"$f":"F12","v":120.65136363636363},135.36272727272726,164.78545454545457,194.2081818181818,223.63090909090911,253.0536363636364,282.47636363636366,311.89909090909083,341.32181818181812,400.16727272727269,459.01272727272726,517.85818181818183,576.70363636363629,635.54909090909086,"車道、昼間施工","A9"]
[null,null,120.89545454545456,143.19772727272726,{"$f":"E13","v":165.5},{"$f":"F13","v":187.80227272727274},210.10454545454544,254.70909090909092,299.31363636363636,343.91818181818184,388.52272727272725,433.12727272727273,477.7318181818182,522.33636363636356,611.5454545454545,700.75454545454545,789.96363636363628,879.17272727272712,968.38181818181818,"車道、夜間施工"]
[null,"硬質塩化ビニル管(RRロング)\n（全て車道、昼間施工）",{"$f":"C20","v":68.518017840232218},{"$f":"D20","v":77.25384939132131},{"$f":"E20","v":87.103471961102073},{"$f":"F20","v":98.208890397774994},110.73021472059527,{"$f":"H20","v":140.76569137846346},"-","-","-","-","-","-","-","-","-","-","-","無舗装、昼間施工","D1"]
[null,null,{"$f":"C20","v":68.518017840232218},{"$f":"D20","v":77.25384939132131},{"$f":"E20","v":87.103471961102073},{"$f":"F20","v":98.208890397774994},110.73021472059527,140.76569137846346,"-","-","-","-","-","-","-","-","-","-","-","歩道、昼間施工","D2"]
[null,null,{"$f":"59.288*EXP(0.0048*C9)*100/110","v":68.518017840232218},{"$f":"59.288*EXP(0.0048*D9)*100/110","v":77.25384939132131},{"$f":"59.288*EXP(0.0048*E9)*100/110","v":87.103471961102073},{"$f":"59.288*EXP(0.0048*F9)*100/110","v":98.208890397774994},110.73021472059527,{"$f":"59.288*EXP(0.0048*H9)*100/110","v":140.76569137846346},"-","-","-","-","-","-","-","-","-","-","-","車道、昼間施工","D9"]
[null,null,{"$f":"C20","v":68.518017840232218},{"$f":"D20","v":77.25384939132131},{"$f":"E20","v":87.103471961102073},{"$f":"F20","v":98.208890397774994},110.73021472059527,140.76569137846346,"-","-","-","-","-","-","-","-","-","-","-","車道、夜間施工"]
[null,"ポリエチレン管",{"$f":"32.875*EXP(0.0055*C9)*100/110","v":39.346314487520957},{"$f":"32.875*EXP(0.0055*D9)*100/110","v":45.146028366695212},{"$f":"32.875*EXP(0.0055*E9)*100/110","v":51.800629965809648},{"$f":"32.875*EXP(0.0055*F9)*100/110","v":59.436131193198037},68.197118327455314,89.783598215671788,"-","-","-","-","-","-","-","-","-","-","-","無舗装、昼間施工","G1"]
[null,null,{"$f":"10.306*C9^0.4771*100/110","v":60.572575793933858},{"$f":"10.306*D9^0.4771*100/110","v":73.50031185021669},{"$f":"10.306*E9^0.4771*100/110","v":84.313565031152365},{"$f":"10.306*F9^0.4771*100/110","v":93.784964892185613},102.30823506788759,117.35966574124575,"-","-","-","-","-","-","-","-","-","-","-","歩道、昼間施工"]
[null,null,{"$f":"60.732*EXP(0.0041*C9)*100/110","v":67.772774768494273},{"$f":"60.732*EXP(0.0041*D9)*100/110","v":75.087985219946447},{"$f":"60.732*EXP(0.0041*E9)*100/110","v":83.192779750430745},{"$f":"60.732*EXP(0.0041*F9)*100/110","v":92.172383935068879},102.12122236761483,125.35636012092554,"-","-","-","-","-","-","-","-","-","-","-","車道、昼間施工"]
[null,null,{"$f":"43.338*EXP(0.0107*C9)*100/110","v":67.270356293466378},{"$f":"43.338*EXP(0.0107*D9)*100/110","v":87.901746045476514},{"$f":"43.338*EXP(0.0107*E9)*100/110","v":114.86065160909371},{"$f":"43.338*EXP(0.0107*F9)*100/110","v":150.08768177642497},196.11861769412042,334.86238905515154,"-","-","-","-","-","-","-","-","-","-","-","車道、夜間施工"]
[null,"鋳鉄管　（ダクタイル鋳鉄管は含まない）\n（更新時はダクタイル鋳鉄管[耐震継手]）",{"$f":"C10","v":37.739274782792194},{"$f":"D10","v":52.746312430323655},{"$f":"E10","v":66.88889441587024},{"$f":"F10","v":80.421582637175121},93.487289919708118,118.55352870260977,142.53879494865018,165.69638660667843,188.18759925887554,210.12365790435061,231.58562073155252,252.635019097742,293.67941415447928,333.54272252583337,372.42207882195731,410.46115015463198,447.76899438156022,"無舗装、昼間施工","A1"]
[null,null,{"$f":"C11","v":91.497272727272716},101.69272727272727,{"$f":"E11","v":111.88818181818182},{"$f":"F11","v":122.08363636363637},132.27909090909091,152.67000000000002,173.06090909090909,193.45181818181823,213.84272727272725,234.23363636363635,254.62454545454543,275.01545454545453,315.79727272727274,356.57909090909089,397.36090909090905,438.14272727272726,478.92454545454541,"歩道、昼間施工"]
[null,null,76.51727272727274,91.228636363636355,{"$f":"E12","v":105.94000000000001},{"$f":"F12","v":120.65136363636363},135.36272727272726,164.78545454545457,194.2081818181818,223.63090909090911,253.0536363636364,282.47636363636366,311.89909090909083,341.32181818181812,400.16727272727269,459.01272727272726,517.85818181818183,576.70363636363629,635.54909090909086,"車道、昼間施工"]
[null,null,120.89545454545456,143.19772727272726,{"$f":"E13","v":165.5},{"$f":"F13","v":187.80227272727274},210.10454545454544,254.70909090909092,299.31363636363636,343.91818181818184,388.52272727272725,433.12727272727273,477.7318181818182,522.33636363636356,611.5454545454545,700.75454545454545,789.96363636363628,879.17272727272712,968.38181818181818,"車道、夜間施工"]
[null,"鋼管\n（更新時はダクタイル鋳鉄管[耐震継手]）",{"$f":"C10","v":37.739274782792194},{"$f":"D10","v":52.746312430323655},{"$f":"E10","v":66.88889441587024},{"$f":"F10","v":80.421582637175121},93.487289919708118,118.55352870260977,142.53879494865018,165.69638660667843,188.18759925887554,210.12365790435061,231.58562073155252,252.635019097742,293.67941415447928,333.54272252583337,372.42207882195731,410.46115015463198,447.76899438156022,"無舗装、昼間施工","B1"]
[null,null,{"$f":"C11","v":91.497272727272716},101.69272727272727,{"$f":"E11","v":111.88818181818182},{"$f":"F11","v":122.08363636363637},132.27909090909091,152.67000000000002,173.06090909090909,193.45181818181823,213.84272727272725,234.23363636363635,254.62454545454543,275.01545454545453,315.79727272727274,356.57909090909089,397.36090909090905,438.14272727272726,478.92454545454541,"歩道、昼間施工"]
[null,null,76.51727272727274,91.228636363636355,{"$f":"E12","v":105.94000000000001},{"$f":"F12","v":120.65136363636363},135.36272727272726,164.78545454545457,194.2081818181818,223.63090909090911,253.0536363636364,282.47636363636366,311.89909090909083,341.32181818181812,400.16727272727269,459.01272727272726,517.85818181818183,576.70363636363629,635.54909090909086,"車道、昼間施工","B9"]
[null,null,120.89545454545456,143.19772727272726,{"$f":"E13","v":165.5},{"$f":"F13","v":187.80227272727274},210.10454545454544,254.70909090909092,299.31363636363636,343.91818181818184,388.52272727272725,433.12727272727273,477.7318181818182,522.33636363636356,611.5454545454545,700.75454545454545,789.96363636363628,879.17272727272712,968.38181818181818,"車道、夜間施工"]
[null,"ステンレス管\n（更新時はダクタイル鋳鉄管[耐震継手]）",{"$f":"C10","v":37.739274782792194},{"$f":"D10","v":52.746312430323655},{"$f":"E10","v":66.88889441587024},{"$f":"F10","v":80.421582637175121},93.487289919708118,118.55352870260977,142.53879494865018,165.69638660667843,188.18759925887554,210.12365790435061,231.58562073155252,252.635019097742,293.67941415447928,333.54272252583337,372.42207882195731,410.46115015463198,447.76899438156022,"無舗装、昼間施工","H1"]
[null,null,{"$f":"C11","v":91.497272727272716},101.69272727272727,{"$f":"E11","v":111.88818181818182},{"$f":"F11","v":122.08363636363637},132.27909090909091,152.67000000000002,173.06090909090909,193.45181818181823,213.84272727272725,234.23363636363635,254.62454545454543,275.01545454545453,315.79727272727274,356.57909090909089,397.36090909090905,438.14272727272726,478.92454545454541,"歩道、昼間施工"]
[null,null,76.51727272727274,91.228636363636355,{"$f":"E12","v":105.94000000000001},{"$f":"F12","v":120.65136363636363},135.36272727272726,164.78545454545457,194.2081818181818,223.63090909090911,253.0536363636364,282.47636363636366,311.89909090909083,341.32181818181812,400.16727272727269,459.01272727272726,517.85818181818183,576.70363636363629,635.54909090909086,"車道、昼間施工","H9"]
[null,null,120.89545454545456,143.19772727272726,{"$f":"E13","v":165.5},{"$f":"F13","v":187.80227272727274},210.10454545454544,254.70909090909092,299.31363636363636,343.91818181818184,388.52272727272725,433.12727272727273,477.7318181818182,522.33636363636356,611.5454545454545,700.75454545454545,789.96363636363628,879.17272727272712,968.38181818181818,"車道、夜間施工"]
[null,"その他\n（更新時はポリエチレン管 <=200mm,\n ダクタイル鋳鉄管 250mm<=）",{"$f":"C22","v":39.346314487520957},{"$f":"D22","v":45.146028366695212},{"$f":"E22","v":51.800629965809648},{"$f":"F22","v":59.436131193198037},68.197118327455314,89.783598215671788,{"$f":"I10","v":142.53879494865018},{"$f":"J10","v":165.69638660667843},188.18759925887554,210.12365790435061,231.58562073155252,252.635019097742,293.67941415447928,333.54272252583337,372.42207882195731,410.46115015463198,447.76899438156022,"無舗装、昼間施工","Z9"]
[null,null,{"$f":"C23","v":60.572575793933858},73.50031185021669,{"$f":"E23","v":84.313565031152365},{"$f":"F23","v":93.784964892185613},102.30823506788759,117.35966574124575,{"$f":"I11","v":173.06090909090909},193.45181818181823,213.84272727272725,234.23363636363635,254.62454545454543,275.01545454545453,315.79727272727274,356.57909090909089,397.36090909090905,438.14272727272726,478.92454545454541,"歩道、昼間施工"]
[null,null,67.772774768494273,75.087985219946447,{"$f":"E24","v":83.192779750430745},{"$f":"F24","v":92.172383935068879},102.12122236761483,125.35636012092554,{"$f":"I12","v":194.2081818181818},223.63090909090911,253.0536363636364,282.47636363636366,311.89909090909083,341.32181818181812,400.16727272727269,459.01272727272726,517.85818181818183,576.70363636363629,635.54909090909086,"車道、昼間施工"]
[null,null,67.270356293466378,87.901746045476514,{"$f":"E25","v":114.86065160909371},{"$f":"F25","v":150.08768177642497},196.11861769412042,334.86238905515154,{"$f":"I13","v":299.31363636363636},343.91818181818184,388.52272727272725,433.12727272727273,477.7318181818182,522.33636363636356,611.5454545454545,700.75454545454545,789.96363636363628,879.17272727272712,968.38181818181818,"車道、夜間施工"]
[]
[null,"管路施工単価表　新規布設の費用（「水道事業の再構築に関する施設更新費用算定の手引き」より）"]
[null,"管種","口径(mm)",null,null,null,null,null,null,null,null,null,null,null,null,null,null,null,null,"施工区分"]
[null,null,50,75,100,125,150,200,250,300,350,400,450,500,600,700,800,900,1000]
[null,"ダクタイル鋳鉄管（耐震継手）",{"$f":"0.8826*C45^0.9162*100/110","v":28.904639414912374},{"$f":"0.8826*D45^0.9162*100/110","v":41.908524196095605},54.547046206867634,66.920656357705994,79.087172580560875,102.93780895115069,126.28852005863234,149.24841632505274,171.88832525753182,194.25786084690904,216.39366528684252,238.3238773593271,281.65237229648181,324.37700694534351,366.59140975814643,408.36472961448402,449.75006828184928,"無舗装、昼間施工"]
[null,null,{"$f":"(0.5659*C45+25.361)*100/110","v":48.778181818181814},{"$f":"(0.5659*D45+25.361)*100/110","v":61.639545454545456},74.500909090909076,87.362272727272725,100.22363636363637,125.94636363636364,151.6690909090909,177.39181818181817,203.11454545454544,228.8372727272727,254.55999999999995,280.28272727272724,331.72818181818178,383.17363636363638,434.61909090909091,486.0645454545454,537.51,"歩道、昼間施工"]
[null,null,{"$f":"1.926*C45^0.8318*100/110","v":45.33846864049103},{"$f":"1.926*D45^0.8318*100/110","v":63.524251502349969},80.698153524473142,97.156832259212763,113.06711395377111,143.63502291834138,172.9299025905635,201.24868779228569,228.78070655916264,255.65665269522847,281.97185836174759,307.79874677466239,358.20348571624697,407.20785538090428,455.0444782849861,501.88303659059898,{"$f":"1.926*S45^0.8318*100/110","v":547.85243672034858},"車道、昼間施工"]
[null,null,{"$f":"(0.6048*C45+134.27)*100/110","v":149.55454545454549},{"$f":"(0.6048*D45+134.27)*100/110","v":163.30000000000001},177.04545454545453,190.79090909090908,204.53636363636363,232.02727272727273,259.51818181818186,287.00909090909096,314.50000000000006,341.99090909090916,369.48181818181826,396.97272727272718,451.95454545454544,506.93636363636364,561.91818181818178,616.9,671.88181818181818,"車道、夜間施工"]
[null,"ダクタイル鋳鉄管（非耐震継手）","-","-","-","-","-","-","-","-","-","-","-","-","-","-","-","-","-","無舗装、昼間施工"]
[null,null,"-","-","-","-","-","-","-","-","-","-","-","-","-","-","-","-","-","歩道、昼間施工"]
[null,null,"-","-","-","-","-","-","-","-","-","-","-","-","-","-","-","-","-","車道、昼間施工"]
[null,null,"-","-","-","-","-","-","-","-","-","-","-","-","-","-","-","-","-","車道、夜間施工"]
[null,"硬質塩化ビニル管","-","-","-","-","-","-","-","-","-","-","-","-","-","-","-","-","-","無舗装、昼間施工"]
[null,null,"-","-","-","-","-","-","-","-","-","-","-","-","-","-","-","-","-","歩道、昼間施工"]
[null,null,{"$f":"42.85*EXP(0.0091*C45)*100/110","v":61.399117693642296},{"$f":"42.85*EXP(0.0091*D45)*100/110","v":77.083979102822582},96.775655050490357,121.49771612021733,152.53521161626196,240.42194052500935,"-","-","-","-","-","-","-","-","-","-","-","車道、昼間施工"]
[null,null,"-","-","-","-","-","-","-","-","-","-","-","-","-","-","-","-","-","車道、夜間施工"]
[null,"ポリエチレン管","-","-","-","-","-","-","-","-","-","-","-","-","-","-","-","-","-","無舗装、昼間施工"]
[null,null,{"$f":"45.385*EXP(0.0037*C45)*100/110","v":49.643699004723139},{"$f":"45.385*EXP(0.0037*D45)*100/110","v":54.454825833944994},59.732214078631799,65.521050597344626,71.870901449064917,86.476393932115201,"-","-","-","-","-","-","-","-","-","-","-","歩道、昼間施工"]
[null,null,{"$f":"60.536*EXP(0.0025*C45)*100/110","v":62.360249777139451},{"$f":"60.536*EXP(0.0025*D45)*100/110","v":66.382140344498623},70.663420567826464,75.220819642633586,80.072145704843123,90.733628039184509,"-","-","-","-","-","-","-","-","-","-","-","車道、昼間施工"]
[null,null,"-","-","-","-","-","-","-","-","-","-","-","-","-","-","-","-","-","車道、夜間施工"]
[]
[]
[null,"VLOOKUP関数用単価情報（独自単価）"]
[null,"検索キー（管種+口径+施工区分）","単価"]
[null,{"$f":"$U$10&$C$9&$T$10","v":"A250無舗装、昼間施工"},{"$f":"$C$10","v":37.739274782792194}]
[null,{"$f":"$U$10&$D$9&$T$10","v":"A275無舗装、昼間施工"},{"$f":"$D$10","v":52.746312430323655}]
[null,{"$f":"$U$10&$E$9&$T$10","v":"A2100無舗装、昼間施工"},{"$f":"$E$10","v":66.88889441587024}]
[null,{"$f":"$U$10&$F$9&$T$10","v":"A2125無舗装、昼間施工"},{"$f":"$F$10","v":80.421582637175121}]
[null,{"$f":"$U$10&$G$9&$T$10","v":"A2150無舗装、昼間施工"},{"$f":"$G$10","v":93.487289919708118}]
[null,{"$f":"$U$10&$H$9&$T$10","v":"A2200無舗装、昼間施工"},{"$f":"$H$10","v":118.55352870260977}]
[null,{"$f":"$U$10&$I$9&$T$10","v":"A2250無舗装、昼間施工"},{"$f":"$I$10","v":142.53879494865018}]
[null,{"$f":"$U$10&$J$9&$T$10","v":"A2300無舗装、昼間施工"},{"$f":"$J$10","v":165.69638660667843}]
[null,{"$f":"$U$10&$K$9&$T$10","v":"A2350無舗装、昼間施工"},{"$f":"$K$10","v":188.18759925887554}]
[null,{"$f":"$U$10&$L$9&$T$10","v":"A2400無舗装、昼間施工"},{"$f":"$L$10","v":210.12365790435061}]
[null,{"$f":"$U$10&$M$9&$T$10","v":"A2450無舗装、昼間施工"},{"$f":"$M$10","v":231.58562073155252}]
[null,{"$f":"$U$10&$N$9&$T$10","v":"A2500無舗装、昼間施工"},{"$f":"$N$10","v":252.635019097742}]
[null,{"$f":"$U$10&$O$9&$T$10","v":"A2600無舗装、昼間施工"},{"$f":"$O$10","v":293.67941415447928}]
[null,{"$f":"$U$10&$P$9&$T$10","v":"A2700無舗装、昼間施工"},{"$f":"$P$10","v":333.54272252583337}]
[null,{"$f":"$U$10&$Q$9&$T$10","v":"A2800無舗装、昼間施工"},{"$f":"$Q$10","v":372.42207882195731}]
[null,{"$f":"$U$10&$R$9&$T$10","v":"A2900無舗装、昼間施工"},{"$f":"$R$10","v":410.46115015463198}]
[null,{"$f":"$U$10&$S$9&$T$10","v":"A21000無舗装、昼間施工"},{"$f":"$S$10","v":447.76899438156022}]
[null,{"$f":"$U$10&$C$9&$T$11","v":"A250歩道、昼間施工"},{"$f":"$C$11","v":91.497272727272716}]
[null,{"$f":"$U$10&$D$9&$T$11","v":"A275歩道、昼間施工"},{"$f":"$D$11","v":101.69272727272727}]
[null,{"$f":"$U$10&$E$9&$T$11","v":"A2100歩道、昼間施工"},{"$f":"$E$11","v":111.88818181818182}]
[null,{"$f":"$U$10&$F$9&$T$11","v":"A2125歩道、昼間施工"},{"$f":"$F$11","v":122.08363636363637}]
[null,{"$f":"$U$10&$G$9&$T$11","v":"A2150歩道、昼間施工"},{"$f":"$G$11","v":132.27909090909091}]
[null,{"$f":"$U$10&$H$9&$T$11","v":"A2200歩道、昼間施工"},{"$f":"$H$11","v":152.67000000000002}]
[null,{"$f":"$U$10&$I$9&$T$11","v":"A2250歩道、昼間施工"},{"$f":"$I$11","v":173.06090909090909}]
[null,{"$f":"$U$10&$J$9&$T$11","v":"A2300歩道、昼間施工"},{"$f":"$J$11","v":193.45181818181823}]
[null,{"$f":"$U$10&$K$9&$T$11","v":"A2350歩道、昼間施工"},{"$f":"$K$11","v":213.84272727272725}]
[null,{"$f":"$U$10&$L$9&$T$11","v":"A2400歩道、昼間施工"},{"$f":"$L$11","v":234.23363636363635}]
[null,{"$f":"$U$10&$M$9&$T$11","v":"A2450歩道、昼間施工"},{"$f":"$M$11","v":254.62454545454543}]
[null,{"$f":"$U$10&$N$9&$T$11","v":"A2500歩道、昼間施工"},{"$f":"$N$11","v":275.01545454545453}]
[null,{"$f":"$U$10&$O$9&$T$11","v":"A2600歩道、昼間施工"},{"$f":"$O$11","v":315.79727272727274}]
[null,{"$f":"$U$10&$P$9&$T$11","v":"A2700歩道、昼間施工"},{"$f":"$P$11","v":356.57909090909089}]
[null,{"$f":"$U$10&$Q$9&$T$11","v":"A2800歩道、昼間施工"},{"$f":"$Q$11","v":397.36090909090905}]
[null,{"$f":"$U$10&$R$9&$T$11","v":"A2900歩道、昼間施工"},{"$f":"$R$11","v":438.14272727272726}]
[null,{"$f":"$U$10&$S$9&$T$11","v":"A21000歩道、昼間施工"},{"$f":"$S$11","v":478.92454545454541}]
[null,{"$f":"$U$10&$C$9&$T$12","v":"A250車道、昼間施工"},{"$f":"$C$12","v":76.51727272727274}]
[null,{"$f":"$U$10&$D$9&$T$12","v":"A275車道、昼間施工"},{"$f":"$D$12","v":91.228636363636355}]
[null,{"$f":"$U$10&$E$9&$T$12","v":"A2100車道、昼間施工"},{"$f":"$E$12","v":105.94000000000001}]
[null,{"$f":"$U$10&$F$9&$T$12","v":"A2125車道、昼間施工"},{"$f":"$F$12","v":120.65136363636363}]
[null,{"$f":"$U$10&$G$9&$T$12","v":"A2150車道、昼間施工"},{"$f":"$G$12","v":135.36272727272726}]
[null,{"$f":"$U$10&$H$9&$T$12","v":"A2200車道、昼間施工"},{"$f":"$H$12","v":164.78545454545457}]
[null,{"$f":"$U$10&$I$9&$T$12","v":"A2250車道、昼間施工"},{"$f":"$I$12","v":194.2081818181818}]
[null,{"$f":"$U$10&$J$9&$T$12","v":"A2300車道、昼間施工"},{"$f":"$J$12","v":223.63090909090911}]
[null,{"$f":"$U$10&$K$9&$T$12","v":"A2350車道、昼間施工"},{"$f":"$K$12","v":253.0536363636364}]
[null,{"$f":"$U$10&$L$9&$T$12","v":"A2400車道、昼間施工"},{"$f":"$L$12","v":282.47636363636366}]
[null,{"$f":"$U$10&$M$9&$T$12","v":"A2450車道、昼間施工"},{"$f":"$M$12","v":311.89909090909083}]
[null,{"$f":"$U$10&$N$9&$T$12","v":"A2500車道、昼間施工"},{"$f":"$N$12","v":341.32181818181812}]
[null,{"$f":"$U$10&$O$9&$T$12","v":"A2600車道、昼間施工"},{"$f":"$O$12","v":400.16727272727269}]
[null,{"$f":"$U$10&$P$9&$T$12","v":"A2700車道、昼間施工"},{"$f":"$P$12","v":459.01272727272726}]
[null,{"$f":"$U$10&$Q$9&$T$12","v":"A2800車道、昼間施工"},{"$f":"$Q$12","v":517.85818181818183}]
[null,{"$f":"$U$10&$R$9&$T$12","v":"A2900車道、昼間施工"},{"$f":"$R$12","v":576.70363636363629}]
[null,{"$f":"$U$10&$S$9&$T$12","v":"A21000車道、昼間施工"},{"$f":"$S$12","v":635.54909090909086}]
[null,{"$f":"$U$10&$C$9&$T$13","v":"A250車道、夜間施工"},{"$f":"$C$13","v":120.89545454545456}]
[null,{"$f":"$U$10&$D$9&$T$13","v":"A275車道、夜間施工"},{"$f":"$D$13","v":143.19772727272726}]
[null,{"$f":"$U$10&$E$9&$T$13","v":"A2100車道、夜間施工"},{"$f":"$E$13","v":165.5}]
[null,{"$f":"$U$10&$F$9&$T$13","v":"A2125車道、夜間施工"},{"$f":"$F$13","v":187.80227272727274}]
[null,{"$f":"$U$10&$G$9&$T$13","v":"A2150車道、夜間施工"},{"$f":"$G$13","v":210.10454545454544}]
[null,{"$f":"$U$10&$H$9&$T$13","v":"A2200車道、夜間施工"},{"$f":"$H$13","v":254.70909090909092}]
[null,{"$f":"$U$10&$I$9&$T$13","v":"A2250車道、夜間施工"},{"$f":"$I$13","v":299.31363636363636}]
[null,{"$f":"$U$10&$J$9&$T$13","v":"A2300車道、夜間施工"},{"$f":"$J$13","v":343.91818181818184}]
[null,{"$f":"$U$10&$K$9&$T$13","v":"A2350車道、夜間施工"},{"$f":"$K$13","v":388.52272727272725}]
[null,{"$f":"$U$10&$L$9&$T$13","v":"A2400車道、夜間施工"},{"$f":"$L$13","v":433.12727272727273}]
[null,{"$f":"$U$10&$M$9&$T$13","v":"A2450車道、夜間施工"},{"$f":"$M$13","v":477.7318181818182}]
[null,{"$f":"$U$10&$N$9&$T$13","v":"A2500車道、夜間施工"},{"$f":"$N$13","v":522.33636363636356}]
[null,{"$f":"$U$10&$O$9&$T$13","v":"A2600車道、夜間施工"},{"$f":"$O$13","v":611.5454545454545}]
[null,{"$f":"$U$10&$P$9&$T$13","v":"A2700車道、夜間施工"},{"$f":"$P$13","v":700.75454545454545}]
[null,{"$f":"$U$10&$Q$9&$T$13","v":"A2800車道、夜間施工"},{"$f":"$Q$13","v":789.96363636363628}]
[null,{"$f":"$U$10&$R$9&$T$13","v":"A2900車道、夜間施工"},{"$f":"$R$13","v":879.17272727272712}]
[null,{"$f":"$U$10&$S$9&$T$13","v":"A21000車道、夜間施工"},{"$f":"$S$13","v":968.38181818181818}]
[null,{"$f":"$U$14&$C$9&$T$14","v":"A350無舗装、昼間施工"},{"$f":"$C$14","v":37.739274782792194}]
[null,{"$f":"$U$14&$D$9&$T$14","v":"A375無舗装、昼間施工"},{"$f":"$D$14","v":52.746312430323655}]
[null,{"$f":"$U$14&$E$9&$T$14","v":"A3100無舗装、昼間施工"},{"$f":"$E$14","v":66.88889441587024}]
[null,{"$f":"$U$14&$F$9&$T$14","v":"A3125無舗装、昼間施工"},{"$f":"$F$14","v":80.421582637175121}]
[null,{"$f":"$U$14&$G$9&$T$14","v":"A3150無舗装、昼間施工"},{"$f":"$G$14","v":93.487289919708118}]
[null,{"$f":"$U$14&$H$9&$T$14","v":"A3200無舗装、昼間施工"},{"$f":"$H$14","v":118.55352870260977}]
[null,{"$f":"$U$14&$I$9&$T$14","v":"A3250無舗装、昼間施工"},{"$f":"$I$14","v":142.53879494865018}]
[null,{"$f":"$U$14&$J$9&$T$14","v":"A3300無舗装、昼間施工"},{"$f":"$J$14","v":165.69638660667843}]
[null,{"$f":"$U$14&$K$9&$T$14","v":"A3350無舗装、昼間施工"},{"$f":"$K$14","v":188.18759925887554}]
[null,{"$f":"$U$14&$L$9&$T$14","v":"A3400無舗装、昼間施工"},{"$f":"$L$14","v":210.12365790435061}]
[null,{"$f":"$U$14&$M$9&$T$14","v":"A3450無舗装、昼間施工"},{"$f":"$M$14","v":231.58562073155252}]
[null,{"$f":"$U$14&$N$9&$T$14","v":"A3500無舗装、昼間施工"},{"$f":"$N$14","v":252.635019097742}]
[null,{"$f":"$U$14&$O$9&$T$14","v":"A3600無舗装、昼間施工"},{"$f":"$O$14","v":293.67941415447928}]
[null,{"$f":"$U$14&$P$9&$T$14","v":"A3700無舗装、昼間施工"},{"$f":"$P$14","v":333.54272252583337}]
[null,{"$f":"$U$14&$Q$9&$T$14","v":"A3800無舗装、昼間施工"},{"$f":"$Q$14","v":372.42207882195731}]
[null,{"$f":"$U$14&$R$9&$T$14","v":"A3900無舗装、昼間施工"},{"$f":"$R$14","v":410.46115015463198}]
[null,{"$f":"$U$14&$S$9&$T$14","v":"A31000無舗装、昼間施工"},{"$f":"$S$14","v":447.76899438156022}]
[null,{"$f":"$U$14&$C$9&$T$15","v":"A350歩道、昼間施工"},{"$f":"$C$15","v":91.497272727272716}]
[null,{"$f":"$U$14&$D$9&$T$15","v":"A375歩道、昼間施工"},{"$f":"$D$15","v":101.69272727272727}]
[null,{"$f":"$U$14&$E$9&$T$15","v":"A3100歩道、昼間施工"},{"$f":"$E$15","v":111.88818181818182}]
[null,{"$f":"$U$14&$F$9&$T$15","v":"A3125歩道、昼間施工"},{"$f":"$F$15","v":122.08363636363637}]
[null,{"$f":"$U$14&$G$9&$T$15","v":"A3150歩道、昼間施工"},{"$f":"$G$15","v":132.27909090909091}]
[null,{"$f":"$U$14&$H$9&$T$15","v":"A3200歩道、昼間施工"},{"$f":"$H$15","v":152.67000000000002}]
[null,{"$f":"$U$14&$I$9&$T$15","v":"A3250歩道、昼間施工"},{"$f":"$I$15","v":173.06090909090909}]
[null,{"$f":"$U$14&$J$9&$T$15","v":"A3300歩道、昼間施工"},{"$f":"$J$15","v":193.45181818181823}]
[null,{"$f":"$U$14&$K$9&$T$15","v":"A3350歩道、昼間施工"},{"$f":"$K$15","v":213.84272727272725}]
[null,{"$f":"$U$14&$L$9&$T$15","v":"A3400歩道、昼間施工"},{"$f":"$L$15","v":234.23363636363635}]
[null,{"$f":"$U$14&$M$9&$T$15","v":"A3450歩道、昼間施工"},{"$f":"$M$15","v":254.62454545454543}]
[null,{"$f":"$U$14&$N$9&$T$15","v":"A3500歩道、昼間施工"},{"$f":"$N$15","v":275.01545454545453}]
[null,{"$f":"$U$14&$O$9&$T$15","v":"A3600歩道、昼間施工"},{"$f":"$O$15","v":315.79727272727274}]
[null,{"$f":"$U$14&$P$9&$T$15","v":"A3700歩道、昼間施工"},{"$f":"$P$15","v":356.57909090909089}]
[null,{"$f":"$U$14&$Q$9&$T$15","v":"A3800歩道、昼間施工"},{"$f":"$Q$15","v":397.36090909090905}]
[null,{"$f":"$U$14&$R$9&$T$15","v":"A3900歩道、昼間施工"},{"$f":"$R$15","v":438.14272727272726}]
[null,{"$f":"$U$14&$S$9&$T$15","v":"A31000歩道、昼間施工"},{"$f":"$S$15","v":478.92454545454541}]
[null,{"$f":"$U$14&$C$9&$T$16","v":"A350車道、昼間施工"},{"$f":"$C$16","v":76.51727272727274}]
[null,{"$f":"$U$14&$D$9&$T$16","v":"A375車道、昼間施工"},{"$f":"$D$16","v":91.228636363636355}]
[null,{"$f":"$U$14&$E$9&$T$16","v":"A3100車道、昼間施工"},{"$f":"$E$16","v":105.94000000000001}]
[null,{"$f":"$U$14&$F$9&$T$16","v":"A3125車道、昼間施工"},{"$f":"$F$16","v":120.65136363636363}]
[null,{"$f":"$U$14&$G$9&$T$16","v":"A3150車道、昼間施工"},{"$f":"$G$16","v":135.36272727272726}]
[null,{"$f":"$U$14&$H$9&$T$16","v":"A3200車道、昼間施工"},{"$f":"$H$16","v":164.78545454545457}]
[null,{"$f":"$U$14&$I$9&$T$16","v":"A3250車道、昼間施工"},{"$f":"$I$16","v":194.2081818181818}]
[null,{"$f":"$U$14&$J$9&$T$16","v":"A3300車道、昼間施工"},{"$f":"$J$16","v":223.63090909090911}]
[null,{"$f":"$U$14&$K$9&$T$16","v":"A3350車道、昼間施工"},{"$f":"$K$16","v":253.0536363636364}]
[null,{"$f":"$U$14&$L$9&$T$16","v":"A3400車道、昼間施工"},{"$f":"$L$16","v":282.47636363636366}]
[null,{"$f":"$U$14&$M$9&$T$16","v":"A3450車道、昼間施工"},{"$f":"$M$16","v":311.89909090909083}]
[null,{"$f":"$U$14&$N$9&$T$16","v":"A3500車道、昼間施工"},{"$f":"$N$16","v":341.32181818181812}]
[null,{"$f":"$U$14&$O$9&$T$16","v":"A3600車道、昼間施工"},{"$f":"$O$16","v":400.16727272727269}]
[null,{"$f":"$U$14&$P$9&$T$16","v":"A3700車道、昼間施工"},{"$f":"$P$16","v":459.01272727272726}]
[null,{"$f":"$U$14&$Q$9&$T$16","v":"A3800車道、昼間施工"},{"$f":"$Q$16","v":517.85818181818183}]
[null,{"$f":"$U$14&$R$9&$T$16","v":"A3900車道、昼間施工"},{"$f":"$R$16","v":576.70363636363629}]
[null,{"$f":"$U$14&$S$9&$T$16","v":"A31000車道、昼間施工"},{"$f":"$S$16","v":635.54909090909086}]
[null,{"$f":"$U$14&$C$9&$T$17","v":"A350車道、夜間施工"},{"$f":"$C$17","v":120.89545454545456}]
[null,{"$f":"$U$14&$D$9&$T$17","v":"A375車道、夜間施工"},{"$f":"$D$17","v":143.19772727272726}]
[null,{"$f":"$U$14&$E$9&$T$17","v":"A3100車道、夜間施工"},{"$f":"$E$17","v":165.5}]
[null,{"$f":"$U$14&$F$9&$T$17","v":"A3125車道、夜間施工"},{"$f":"$F$17","v":187.80227272727274}]
[null,{"$f":"$U$14&$G$9&$T$17","v":"A3150車道、夜間施工"},{"$f":"$G$17","v":210.10454545454544}]
[null,{"$f":"$U$14&$H$9&$T$17","v":"A3200車道、夜間施工"},{"$f":"$H$17","v":254.70909090909092}]
[null,{"$f":"$U$14&$I$9&$T$17","v":"A3250車道、夜間施工"},{"$f":"$I$17","v":299.31363636363636}]
[null,{"$f":"$U$14&$J$9&$T$17","v":"A3300車道、夜間施工"},{"$f":"$J$17","v":343.91818181818184}]
[null,{"$f":"$U$14&$K$9&$T$17","v":"A3350車道、夜間施工"},{"$f":"$K$17","v":388.52272727272725}]
[null,{"$f":"$U$14&$L$9&$T$17","v":"A3400車道、夜間施工"},{"$f":"$L$17","v":433.12727272727273}]
[null,{"$f":"$U$14&$M$9&$T$17","v":"A3450車道、夜間施工"},{"$f":"$M$17","v":477.7318181818182}]
[null,{"$f":"$U$14&$N$9&$T$17","v":"A3500車道、夜間施工"},{"$f":"$N$17","v":522.33636363636356}]
[null,{"$f":"$U$14&$O$9&$T$17","v":"A3600車道、夜間施工"},{"$f":"$O$17","v":611.5454545454545}]
[null,{"$f":"$U$14&$P$9&$T$17","v":"A3700車道、夜間施工"},{"$f":"$P$17","v":700.75454545454545}]
[null,{"$f":"$U$14&$Q$9&$T$17","v":"A3800車道、夜間施工"},{"$f":"$Q$17","v":789.96363636363628}]
[null,{"$f":"$U$14&$R$9&$T$17","v":"A3900車道、夜間施工"},{"$f":"$R$17","v":879.17272727272712}]
[null,{"$f":"$U$14&$S$9&$T$17","v":"A31000車道、夜間施工"},{"$f":"$S$17","v":968.38181818181818}]
[null,{"$f":"$U$16&$C$9&$T$14","v":"A950無舗装、昼間施工"},{"$f":"$C$14","v":37.739274782792194}]
[null,{"$f":"$U$16&$D$9&$T$14","v":"A975無舗装、昼間施工"},{"$f":"$D$14","v":52.746312430323655}]
[null,{"$f":"$U$16&$E$9&$T$14","v":"A9100無舗装、昼間施工"},{"$f":"$E$14","v":66.88889441587024}]
[null,{"$f":"$U$16&$F$9&$T$14","v":"A9125無舗装、昼間施工"},{"$f":"$F$14","v":80.421582637175121}]
[null,{"$f":"$U$16&$G$9&$T$14","v":"A9150無舗装、昼間施工"},{"$f":"$G$14","v":93.487289919708118}]
[null,{"$f":"$U$16&$H$9&$T$14","v":"A9200無舗装、昼間施工"},{"$f":"$H$14","v":118.55352870260977}]
[null,{"$f":"$U$16&$I$9&$T$14","v":"A9250無舗装、昼間施工"},{"$f":"$I$14","v":142.53879494865018}]
[null,{"$f":"$U$16&$J$9&$T$14","v":"A9300無舗装、昼間施工"},{"$f":"$J$14","v":165.69638660667843}]
[null,{"$f":"$U$16&$K$9&$T$14","v":"A9350無舗装、昼間施工"},{"$f":"$K$14","v":188.18759925887554}]
[null,{"$f":"$U$16&$L$9&$T$14","v":"A9400無舗装、昼間施工"},{"$f":"$L$14","v":210.12365790435061}]
[null,{"$f":"$U$16&$M$9&$T$14","v":"A9450無舗装、昼間施工"},{"$f":"$M$14","v":231.58562073155252}]
[null,{"$f":"$U$16&$N$9&$T$14","v":"A9500無舗装、昼間施工"},{"$f":"$N$14","v":252.635019097742}]
[null,{"$f":"$U$16&$O$9&$T$14","v":"A9600無舗装、昼間施工"},{"$f":"$O$14","v":293.67941415447928}]
[null,{"$f":"$U$16&$P$9&$T$14","v":"A9700無舗装、昼間施工"},{"$f":"$P$14","v":333.54272252583337}]
[null,{"$f":"$U$16&$Q$9&$T$14","v":"A9800無舗装、昼間施工"},{"$f":"$Q$14","v":372.42207882195731}]
[null,{"$f":"$U$16&$R$9&$T$14","v":"A9900無舗装、昼間施工"},{"$f":"$R$14","v":410.46115015463198}]
[null,{"$f":"$U$16&$S$9&$T$14","v":"A91000無舗装、昼間施工"},{"$f":"$S$14","v":447.76899438156022}]
[null,{"$f":"$U$16&$C$9&$T$15","v":"A950歩道、昼間施工"},{"$f":"$C$15","v":91.497272727272716}]
[null,{"$f":"$U$16&$D$9&$T$15","v":"A975歩道、昼間施工"},{"$f":"$D$15","v":101.69272727272727}]
[null,{"$f":"$U$16&$E$9&$T$15","v":"A9100歩道、昼間施工"},{"$f":"$E$15","v":111.88818181818182}]
[null,{"$f":"$U$16&$F$9&$T$15","v":"A9125歩道、昼間施工"},{"$f":"$F$15","v":122.08363636363637}]
[null,{"$f":"$U$16&$G$9&$T$15","v":"A9150歩道、昼間施工"},{"$f":"$G$15","v":132.27909090909091}]
[null,{"$f":"$U$16&$H$9&$T$15","v":"A9200歩道、昼間施工"},{"$f":"$H$15","v":152.67000000000002}]
[null,{"$f":"$U$16&$I$9&$T$15","v":"A9250歩道、昼間施工"},{"$f":"$I$15","v":173.06090909090909}]
[null,{"$f":"$U$16&$J$9&$T$15","v":"A9300歩道、昼間施工"},{"$f":"$J$15","v":193.45181818181823}]
[null,{"$f":"$U$16&$K$9&$T$15","v":"A9350歩道、昼間施工"},{"$f":"$K$15","v":213.84272727272725}]
[null,{"$f":"$U$16&$L$9&$T$15","v":"A9400歩道、昼間施工"},{"$f":"$L$15","v":234.23363636363635}]
[null,{"$f":"$U$16&$M$9&$T$15","v":"A9450歩道、昼間施工"},{"$f":"$M$15","v":254.62454545454543}]
[null,{"$f":"$U$16&$N$9&$T$15","v":"A9500歩道、昼間施工"},{"$f":"$N$15","v":275.01545454545453}]
[null,{"$f":"$U$16&$O$9&$T$15","v":"A9600歩道、昼間施工"},{"$f":"$O$15","v":315.79727272727274}]
[null,{"$f":"$U$16&$P$9&$T$15","v":"A9700歩道、昼間施工"},{"$f":"$P$15","v":356.57909090909089}]
[null,{"$f":"$U$16&$Q$9&$T$15","v":"A9800歩道、昼間施工"},{"$f":"$Q$15","v":397.36090909090905}]
[null,{"$f":"$U$16&$R$9&$T$15","v":"A9900歩道、昼間施工"},{"$f":"$R$15","v":438.14272727272726}]
[null,{"$f":"$U$16&$S$9&$T$15","v":"A91000歩道、昼間施工"},{"$f":"$S$15","v":478.92454545454541}]
[null,{"$f":"$U$16&$C$9&$T$16","v":"A950車道、昼間施工"},{"$f":"$C$16","v":76.51727272727274}]
[null,{"$f":"$U$16&$D$9&$T$16","v":"A975車道、昼間施工"},{"$f":"$D$16","v":91.228636363636355}]
[null,{"$f":"$U$16&$E$9&$T$16","v":"A9100車道、昼間施工"},{"$f":"$E$16","v":105.94000000000001}]
[null,{"$f":"$U$16&$F$9&$T$16","v":"A9125車道、昼間施工"},{"$f":"$F$16","v":120.65136363636363}]
[null,{"$f":"$U$16&$G$9&$T$16","v":"A9150車道、昼間施工"},{"$f":"$G$16","v":135.36272727272726}]
[null,{"$f":"$U$16&$H$9&$T$16","v":"A9200車道、昼間施工"},{"$f":"$H$16","v":164.78545454545457}]
[null,{"$f":"$U$16&$I$9&$T$16","v":"A9250車道、昼間施工"},{"$f":"$I$16","v":194.2081818181818}]
[null,{"$f":"$U$16&$J$9&$T$16","v":"A9300車道、昼間施工"},{"$f":"$J$16","v":223.63090909090911}]
[null,{"$f":"$U$16&$K$9&$T$16","v":"A9350車道、昼間施工"},{"$f":"$K$16","v":253.0536363636364}]
[null,{"$f":"$U$16&$L$9&$T$16","v":"A9400車道、昼間施工"},{"$f":"$L$16","v":282.47636363636366}]
[null,{"$f":"$U$16&$M$9&$T$16","v":"A9450車道、昼間施工"},{"$f":"$M$16","v":311.89909090909083}]
[null,{"$f":"$U$16&$N$9&$T$16","v":"A9500車道、昼間施工"},{"$f":"$N$16","v":341.32181818181812}]
[null,{"$f":"$U$16&$O$9&$T$16","v":"A9600車道、昼間施工"},{"$f":"$O$16","v":400.16727272727269}]
[null,{"$f":"$U$16&$P$9&$T$16","v":"A9700車道、昼間施工"},{"$f":"$P$16","v":459.01272727272726}]
[null,{"$f":"$U$16&$Q$9&$T$16","v":"A9800車道、昼間施工"},{"$f":"$Q$16","v":517.85818181818183}]
[null,{"$f":"$U$16&$R$9&$T$16","v":"A9900車道、昼間施工"},{"$f":"$R$16","v":576.70363636363629}]
[null,{"$f":"$U$16&$S$9&$T$16","v":"A91000車道、昼間施工"},{"$f":"$S$16","v":635.54909090909086}]
[null,{"$f":"$U$16&$C$9&$T$17","v":"A950車道、夜間施工"},{"$f":"$C$17","v":120.89545454545456}]
[null,{"$f":"$U$16&$D$9&$T$17","v":"A975車道、夜間施工"},{"$f":"$D$17","v":143.19772727272726}]
[null,{"$f":"$U$16&$E$9&$T$17","v":"A9100車道、夜間施工"},{"$f":"$E$17","v":165.5}]
[null,{"$f":"$U$16&$F$9&$T$17","v":"A9125車道、夜間施工"},{"$f":"$F$17","v":187.80227272727274}]
[null,{"$f":"$U$16&$G$9&$T$17","v":"A9150車道、夜間施工"},{"$f":"$G$17","v":210.10454545454544}]
[null,{"$f":"$U$16&$H$9&$T$17","v":"A9200車道、夜間施工"},{"$f":"$H$17","v":254.70909090909092}]
[null,{"$f":"$U$16&$I$9&$T$17","v":"A9250車道、夜間施工"},{"$f":"$I$17","v":299.31363636363636}]
[null,{"$f":"$U$16&$J$9&$T$17","v":"A9300車道、夜間施工"},{"$f":"$J$17","v":343.91818181818184}]
[null,{"$f":"$U$16&$K$9&$T$17","v":"A9350車道、夜間施工"},{"$f":"$K$17","v":388.52272727272725}]
[null,{"$f":"$U$16&$L$9&$T$17","v":"A9400車道、夜間施工"},{"$f":"$L$17","v":433.12727272727273}]
[null,{"$f":"$U$16&$M$9&$T$17","v":"A9450車道、夜間施工"},{"$f":"$M$17","v":477.7318181818182}]
[null,{"$f":"$U$16&$N$9&$T$17","v":"A9500車道、夜間施工"},{"$f":"$N$17","v":522.33636363636356}]
[null,{"$f":"$U$16&$O$9&$T$17","v":"A9600車道、夜間施工"},{"$f":"$O$17","v":611.5454545454545}]
[null,{"$f":"$U$16&$P$9&$T$17","v":"A9700車道、夜間施工"},{"$f":"$P$17","v":700.75454545454545}]
[null,{"$f":"$U$16&$Q$9&$T$17","v":"A9800車道、夜間施工"},{"$f":"$Q$17","v":789.96363636363628}]
[null,{"$f":"$U$16&$R$9&$T$17","v":"A9900車道、夜間施工"},{"$f":"$R$17","v":879.17272727272712}]
[null,{"$f":"$U$16&$S$9&$T$17","v":"A91000車道、夜間施工"},{"$f":"$S$17","v":968.38181818181818}]
[null,{"$f":"$U$18&$C$9&$T$18","v":"D150無舗装、昼間施工"},{"$f":"$C$18","v":68.518017840232218}]
[null,{"$f":"$U$18&$D$9&$T$18","v":"D175無舗装、昼間施工"},{"$f":"$D$18","v":77.25384939132131}]
[null,{"$f":"$U$18&$E$9&$T$18","v":"D1100無舗装、昼間施工"},{"$f":"$E$18","v":87.103471961102073}]
[null,{"$f":"$U$18&$F$9&$T$18","v":"D1125無舗装、昼間施工"},{"$f":"$F$18","v":98.208890397774994}]
[null,{"$f":"$U$18&$G$9&$T$18","v":"D1150無舗装、昼間施工"},{"$f":"$G$18","v":110.73021472059527}]
[null,{"$f":"$U$18&$H$9&$T$18","v":"D1200無舗装、昼間施工"},{"$f":"$H$18","v":140.76569137846346}]
[null,{"$f":"$U$18&$I$9&$T$18","v":"D1250無舗装、昼間施工"},{"$f":"$I$18","v":"-"}]
[null,{"$f":"$U$18&$J$9&$T$18","v":"D1300無舗装、昼間施工"},{"$f":"$J$18","v":"-"}]
[null,{"$f":"$U$18&$K$9&$T$18","v":"D1350無舗装、昼間施工"},{"$f":"$K$18","v":"-"}]
[null,{"$f":"$U$18&$L$9&$T$18","v":"D1400無舗装、昼間施工"},{"$f":"$L$18","v":"-"}]
[null,{"$f":"$U$18&$M$9&$T$18","v":"D1450無舗装、昼間施工"},{"$f":"$M$18","v":"-"}]
[null,{"$f":"$U$18&$N$9&$T$18","v":"D1500無舗装、昼間施工"},{"$f":"$N$18","v":"-"}]
[null,{"$f":"$U$18&$O$9&$T$18","v":"D1600無舗装、昼間施工"},{"$f":"$O$18","v":"-"}]
[null,{"$f":"$U$18&$P$9&$T$18","v":"D1700無舗装、昼間施工"},{"$f":"$P$18","v":"-"}]
[null,{"$f":"$U$18&$Q$9&$T$18","v":"D1800無舗装、昼間施工"},{"$f":"$Q$18","v":"-"}]
[null,{"$f":"$U$18&$R$9&$T$18","v":"D1900無舗装、昼間施工"},{"$f":"$R$18","v":"-"}]
[null,{"$f":"$U$18&$S$9&$T$18","v":"D11000無舗装、昼間施工"},{"$f":"$S$18","v":"-"}]
[null,{"$f":"$U$18&$C$9&$T$19","v":"D150歩道、昼間施工"},{"$f":"$C$19","v":68.518017840232218}]
[null,{"$f":"$U$18&$D$9&$T$19","v":"D175歩道、昼間施工"},{"$f":"$D$19","v":77.25384939132131}]
[null,{"$f":"$U$18&$E$9&$T$19","v":"D1100歩道、昼間施工"},{"$f":"$E$19","v":87.103471961102073}]
[null,{"$f":"$U$18&$F$9&$T$19","v":"D1125歩道、昼間施工"},{"$f":"$F$19","v":98.208890397774994}]
[null,{"$f":"$U$18&$G$9&$T$19","v":"D1150歩道、昼間施工"},{"$f":"$G$19","v":110.73021472059527}]
[null,{"$f":"$U$18&$H$9&$T$19","v":"D1200歩道、昼間施工"},{"$f":"$H$19","v":140.76569137846346}]
[null,{"$f":"$U$18&$I$9&$T$19","v":"D1250歩道、昼間施工"},{"$f":"$I$19","v":"-"}]
[null,{"$f":"$U$18&$J$9&$T$19","v":"D1300歩道、昼間施工"},{"$f":"$J$19","v":"-"}]
[null,{"$f":"$U$18&$K$9&$T$19","v":"D1350歩道、昼間施工"},{"$f":"$K$19","v":"-"}]
[null,{"$f":"$U$18&$L$9&$T$19","v":"D1400歩道、昼間施工"},{"$f":"$L$19","v":"-"}]
[null,{"$f":"$U$18&$M$9&$T$19","v":"D1450歩道、昼間施工"},{"$f":"$M$19","v":"-"}]
[null,{"$f":"$U$18&$N$9&$T$19","v":"D1500歩道、昼間施工"},{"$f":"$N$19","v":"-"}]
[null,{"$f":"$U$18&$O$9&$T$19","v":"D1600歩道、昼間施工"},{"$f":"$O$19","v":"-"}]
[null,{"$f":"$U$18&$P$9&$T$19","v":"D1700歩道、昼間施工"},{"$f":"$P$19","v":"-"}]
[null,{"$f":"$U$18&$Q$9&$T$19","v":"D1800歩道、昼間施工"},{"$f":"$Q$19","v":"-"}]
[null,{"$f":"$U$18&$R$9&$T$19","v":"D1900歩道、昼間施工"},{"$f":"$R$19","v":"-"}]
[null,{"$f":"$U$18&$S$9&$T$19","v":"D11000歩道、昼間施工"},{"$f":"$S$19","v":"-"}]
[null,{"$f":"$U$18&$C$9&$T$20","v":"D150車道、昼間施工"},{"$f":"$C$20","v":68.518017840232218}]
[null,{"$f":"$U$18&$D$9&$T$20","v":"D175車道、昼間施工"},{"$f":"$D$20","v":77.25384939132131}]
[null,{"$f":"$U$18&$E$9&$T$20","v":"D1100車道、昼間施工"},{"$f":"$E$20","v":87.103471961102073}]
[null,{"$f":"$U$18&$F$9&$T$20","v":"D1125車道、昼間施工"},{"$f":"$F$20","v":98.208890397774994}]
[null,{"$f":"$U$18&$G$9&$T$20","v":"D1150車道、昼間施工"},{"$f":"$G$20","v":110.73021472059527}]
[null,{"$f":"$U$18&$H$9&$T$20","v":"D1200車道、昼間施工"},{"$f":"$H$20","v":140.76569137846346}]
[null,{"$f":"$U$18&$I$9&$T$20","v":"D1250車道、昼間施工"},{"$f":"$I$20","v":"-"}]
[null,{"$f":"$U$18&$J$9&$T$20","v":"D1300車道、昼間施工"},{"$f":"$J$20","v":"-"}]
[null,{"$f":"$U$18&$K$9&$T$20","v":"D1350車道、昼間施工"},{"$f":"$K$20","v":"-"}]
[null,{"$f":"$U$18&$L$9&$T$20","v":"D1400車道、昼間施工"},{"$f":"$L$20","v":"-"}]
[null,{"$f":"$U$18&$M$9&$T$20","v":"D1450車道、昼間施工"},{"$f":"$M$20","v":"-"}]
[null,{"$f":"$U$18&$N$9&$T$20","v":"D1500車道、昼間施工"},{"$f":"$N$20","v":"-"}]
[null,{"$f":"$U$18&$O$9&$T$20","v":"D1600車道、昼間施工"},{"$f":"$O$20","v":"-"}]
[null,{"$f":"$U$18&$P$9&$T$20","v":"D1700車道、昼間施工"},{"$f":"$P$20","v":"-"}]
[null,{"$f":"$U$18&$Q$9&$T$20","v":"D1800車道、昼間施工"},{"$f":"$Q$20","v":"-"}]
[null,{"$f":"$U$18&$R$9&$T$20","v":"D1900車道、昼間施工"},{"$f":"$R$20","v":"-"}]
[null,{"$f":"$U$18&$S$9&$T$20","v":"D11000車道、昼間施工"},{"$f":"$S$20","v":"-"}]
[null,{"$f":"$U$18&$C$9&$T$21","v":"D150車道、夜間施工"},{"$f":"$C$21","v":68.518017840232218}]
[null,{"$f":"$U$18&$D$9&$T$21","v":"D175車道、夜間施工"},{"$f":"$D$21","v":77.25384939132131}]
[null,{"$f":"$U$18&$E$9&$T$21","v":"D1100車道、夜間施工"},{"$f":"$E$21","v":87.103471961102073}]
[null,{"$f":"$U$18&$F$9&$T$21","v":"D1125車道、夜間施工"},{"$f":"$F$21","v":98.208890397774994}]
[null,{"$f":"$U$18&$G$9&$T$21","v":"D1150車道、夜間施工"},{"$f":"$G$21","v":110.73021472059527}]
[null,{"$f":"$U$18&$H$9&$T$21","v":"D1200車道、夜間施工"},{"$f":"$H$21","v":140.76569137846346}]
[null,{"$f":"$U$18&$I$9&$T$21","v":"D1250車道、夜間施工"},{"$f":"$I$21","v":"-"}]
[null,{"$f":"$U$18&$J$9&$T$21","v":"D1300車道、夜間施工"},{"$f":"$J$21","v":"-"}]
[null,{"$f":"$U$18&$K$9&$T$21","v":"D1350車道、夜間施工"},{"$f":"$K$21","v":"-"}]
[null,{"$f":"$U$18&$L$9&$T$21","v":"D1400車道、夜間施工"},{"$f":"$L$21","v":"-"}]
[null,{"$f":"$U$18&$M$9&$T$21","v":"D1450車道、夜間施工"},{"$f":"$M$21","v":"-"}]
[null,{"$f":"$U$18&$N$9&$T$21","v":"D1500車道、夜間施工"},{"$f":"$N$21","v":"-"}]
[null,{"$f":"$U$18&$O$9&$T$21","v":"D1600車道、夜間施工"},{"$f":"$O$21","v":"-"}]
[null,{"$f":"$U$18&$P$9&$T$21","v":"D1700車道、夜間施工"},{"$f":"$P$21","v":"-"}]
[null,{"$f":"$U$18&$Q$9&$T$21","v":"D1800車道、夜間施工"},{"$f":"$Q$21","v":"-"}]
[null,{"$f":"$U$18&$R$9&$T$21","v":"D1900車道、夜間施工"},{"$f":"$R$21","v":"-"}]
[null,{"$f":"$U$18&$S$9&$T$21","v":"D11000車道、夜間施工"},{"$f":"$S$21","v":"-"}]
[null,{"$f":"$U$19&$C$9&$T$18","v":"D250無舗装、昼間施工"},{"$f":"$C$18","v":68.518017840232218}]
[null,{"$f":"$U$19&$D$9&$T$18","v":"D275無舗装、昼間施工"},{"$f":"$D$18","v":77.25384939132131}]
[null,{"$f":"$U$19&$E$9&$T$18","v":"D2100無舗装、昼間施工"},{"$f":"$E$18","v":87.103471961102073}]
[null,{"$f":"$U$19&$F$9&$T$18","v":"D2125無舗装、昼間施工"},{"$f":"$F$18","v":98.208890397774994}]
[null,{"$f":"$U$19&$G$9&$T$18","v":"D2150無舗装、昼間施工"},{"$f":"$G$18","v":110.73021472059527}]
[null,{"$f":"$U$19&$H$9&$T$18","v":"D2200無舗装、昼間施工"},{"$f":"$H$18","v":140.76569137846346}]
[null,{"$f":"$U$19&$I$9&$T$18","v":"D2250無舗装、昼間施工"},{"$f":"$I$18","v":"-"}]
[null,{"$f":"$U$19&$J$9&$T$18","v":"D2300無舗装、昼間施工"},{"$f":"$J$18","v":"-"}]
[null,{"$f":"$U$19&$K$9&$T$18","v":"D2350無舗装、昼間施工"},{"$f":"$K$18","v":"-"}]
[null,{"$f":"$U$19&$L$9&$T$18","v":"D2400無舗装、昼間施工"},{"$f":"$L$18","v":"-"}]
[null,{"$f":"$U$19&$M$9&$T$18","v":"D2450無舗装、昼間施工"},{"$f":"$M$18","v":"-"}]
[null,{"$f":"$U$19&$N$9&$T$18","v":"D2500無舗装、昼間施工"},{"$f":"$N$18","v":"-"}]
[null,{"$f":"$U$19&$O$9&$T$18","v":"D2600無舗装、昼間施工"},{"$f":"$O$18","v":"-"}]
[null,{"$f":"$U$19&$P$9&$T$18","v":"D2700無舗装、昼間施工"},{"$f":"$P$18","v":"-"}]
[null,{"$f":"$U$19&$Q$9&$T$18","v":"D2800無舗装、昼間施工"},{"$f":"$Q$18","v":"-"}]
[null,{"$f":"$U$19&$R$9&$T$18","v":"D2900無舗装、昼間施工"},{"$f":"$R$18","v":"-"}]
[null,{"$f":"$U$19&$S$9&$T$18","v":"D21000無舗装、昼間施工"},{"$f":"$S$18","v":"-"}]
[null,{"$f":"$U$19&$C$9&$T$19","v":"D250歩道、昼間施工"},{"$f":"$C$19","v":68.518017840232218}]
[null,{"$f":"$U$19&$D$9&$T$19","v":"D275歩道、昼間施工"},{"$f":"$D$19","v":77.25384939132131}]
[null,{"$f":"$U$19&$E$9&$T$19","v":"D2100歩道、昼間施工"},{"$f":"$E$19","v":87.103471961102073}]
[null,{"$f":"$U$19&$F$9&$T$19","v":"D2125歩道、昼間施工"},{"$f":"$F$19","v":98.208890397774994}]
[null,{"$f":"$U$19&$G$9&$T$19","v":"D2150歩道、昼間施工"},{"$f":"$G$19","v":110.73021472059527}]
[null,{"$f":"$U$19&$H$9&$T$19","v":"D2200歩道、昼間施工"},{"$f":"$H$19","v":140.76569137846346}]
[null,{"$f":"$U$19&$I$9&$T$19","v":"D2250歩道、昼間施工"},{"$f":"$I$19","v":"-"}]
[null,{"$f":"$U$19&$J$9&$T$19","v":"D2300歩道、昼間施工"},{"$f":"$J$19","v":"-"}]
[null,{"$f":"$U$19&$K$9&$T$19","v":"D2350歩道、昼間施工"},{"$f":"$K$19","v":"-"}]
[null,{"$f":"$U$19&$L$9&$T$19","v":"D2400歩道、昼間施工"},{"$f":"$L$19","v":"-"}]
[null,{"$f":"$U$19&$M$9&$T$19","v":"D2450歩道、昼間施工"},{"$f":"$M$19","v":"-"}]
[null,{"$f":"$U$19&$N$9&$T$19","v":"D2500歩道、昼間施工"},{"$f":"$N$19","v":"-"}]
[null,{"$f":"$U$19&$O$9&$T$19","v":"D2600歩道、昼間施工"},{"$f":"$O$19","v":"-"}]
[null,{"$f":"$U$19&$P$9&$T$19","v":"D2700歩道、昼間施工"},{"$f":"$P$19","v":"-"}]
[null,{"$f":"$U$19&$Q$9&$T$19","v":"D2800歩道、昼間施工"},{"$f":"$Q$19","v":"-"}]
[null,{"$f":"$U$19&$R$9&$T$19","v":"D2900歩道、昼間施工"},{"$f":"$R$19","v":"-"}]
[null,{"$f":"$U$19&$S$9&$T$19","v":"D21000歩道、昼間施工"},{"$f":"$S$19","v":"-"}]
[null,{"$f":"$U$19&$C$9&$T$20","v":"D250車道、昼間施工"},{"$f":"$C$20","v":68.518017840232218}]
[null,{"$f":"$U$19&$D$9&$T$20","v":"D275車道、昼間施工"},{"$f":"$D$20","v":77.25384939132131}]
[null,{"$f":"$U$19&$E$9&$T$20","v":"D2100車道、昼間施工"},{"$f":"$E$20","v":87.103471961102073}]
[null,{"$f":"$U$19&$F$9&$T$20","v":"D2125車道、昼間施工"},{"$f":"$F$20","v":98.208890397774994}]
[null,{"$f":"$U$19&$G$9&$T$20","v":"D2150車道、昼間施工"},{"$f":"$G$20","v":110.73021472059527}]
[null,{"$f":"$U$19&$H$9&$T$20","v":"D2200車道、昼間施工"},{"$f":"$H$20","v":140.76569137846346}]
[null,{"$f":"$U$19&$I$9&$T$20","v":"D2250車道、昼間施工"},{"$f":"$I$20","v":"-"}]
[null,{"$f":"$U$19&$J$9&$T$20","v":"D2300車道、昼間施工"},{"$f":"$J$20","v":"-"}]
[null,{"$f":"$U$19&$K$9&$T$20","v":"D2350車道、昼間施工"},{"$f":"$K$20","v":"-"}]
[null,{"$f":"$U$19&$L$9&$T$20","v":"D2400車道、昼間施工"},{"$f":"$L$20","v":"-"}]
[null,{"$f":"$U$19&$M$9&$T$20","v":"D2450車道、昼間施工"},{"$f":"$M$20","v":"-"}]
[null,{"$f":"$U$19&$N$9&$T$20","v":"D2500車道、昼間施工"},{"$f":"$N$20","v":"-"}]
[null,{"$f":"$U$19&$O$9&$T$20","v":"D2600車道、昼間施工"},{"$f":"$O$20","v":"-"}]
[null,{"$f":"$U$19&$P$9&$T$20","v":"D2700車道、昼間施工"},{"$f":"$P$20","v":"-"}]
[null,{"$f":"$U$19&$Q$9&$T$20","v":"D2800車道、昼間施工"},{"$f":"$Q$20","v":"-"}]
[null,{"$f":"$U$19&$R$9&$T$20","v":"D2900車道、昼間施工"},{"$f":"$R$20","v":"-"}]
[null,{"$f":"$U$19&$S$9&$T$20","v":"D21000車道、昼間施工"},{"$f":"$S$20","v":"-"}]
[null,{"$f":"$U$19&$C$9&$T$21","v":"D250車道、夜間施工"},{"$f":"$C$21","v":68.518017840232218}]
[null,{"$f":"$U$19&$D$9&$T$21","v":"D275車道、夜間施工"},{"$f":"$D$21","v":77.25384939132131}]
[null,{"$f":"$U$19&$E$9&$T$21","v":"D2100車道、夜間施工"},{"$f":"$E$21","v":87.103471961102073}]
[null,{"$f":"$U$19&$F$9&$T$21","v":"D2125車道、夜間施工"},{"$f":"$F$21","v":98.208890397774994}]
[null,{"$f":"$U$19&$G$9&$T$21","v":"D2150車道、夜間施工"},{"$f":"$G$21","v":110.73021472059527}]
[null,{"$f":"$U$19&$H$9&$T$21","v":"D2200車道、夜間施工"},{"$f":"$H$21","v":140.76569137846346}]
[null,{"$f":"$U$19&$I$9&$T$21","v":"D2250車道、夜間施工"},{"$f":"$I$21","v":"-"}]
[null,{"$f":"$U$19&$J$9&$T$21","v":"D2300車道、夜間施工"},{"$f":"$J$21","v":"-"}]
[null,{"$f":"$U$19&$K$9&$T$21","v":"D2350車道、夜間施工"},{"$f":"$K$21","v":"-"}]
[null,{"$f":"$U$19&$L$9&$T$21","v":"D2400車道、夜間施工"},{"$f":"$L$21","v":"-"}]
[null,{"$f":"$U$19&$M$9&$T$21","v":"D2450車道、夜間施工"},{"$f":"$M$21","v":"-"}]
[null,{"$f":"$U$19&$N$9&$T$21","v":"D2500車道、夜間施工"},{"$f":"$N$21","v":"-"}]
[null,{"$f":"$U$19&$O$9&$T$21","v":"D2600車道、夜間施工"},{"$f":"$O$21","v":"-"}]
[null,{"$f":"$U$19&$P$9&$T$21","v":"D2700車道、夜間施工"},{"$f":"$P$21","v":"-"}]
[null,{"$f":"$U$19&$Q$9&$T$21","v":"D2800車道、夜間施工"},{"$f":"$Q$21","v":"-"}]
[null,{"$f":"$U$19&$R$9&$T$21","v":"D2900車道、夜間施工"},{"$f":"$R$21","v":"-"}]
[null,{"$f":"$U$19&$S$9&$T$21","v":"D21000車道、夜間施工"},{"$f":"$S$21","v":"-"}]
[null,{"$f":"$U$20&$C$9&$T$18","v":"D950無舗装、昼間施工"},{"$f":"$C$18","v":68.518017840232218}]
[null,{"$f":"$U$20&$D$9&$T$18","v":"D975無舗装、昼間施工"},{"$f":"$D$18","v":77.25384939132131}]
[null,{"$f":"$U$20&$E$9&$T$18","v":"D9100無舗装、昼間施工"},{"$f":"$E$18","v":87.103471961102073}]
[null,{"$f":"$U$20&$F$9&$T$18","v":"D9125無舗装、昼間施工"},{"$f":"$F$18","v":98.208890397774994}]
[null,{"$f":"$U$20&$G$9&$T$18","v":"D9150無舗装、昼間施工"},{"$f":"$G$18","v":110.73021472059527}]
[null,{"$f":"$U$20&$H$9&$T$18","v":"D9200無舗装、昼間施工"},{"$f":"$H$18","v":140.76569137846346}]
[null,{"$f":"$U$20&$I$9&$T$18","v":"D9250無舗装、昼間施工"},{"$f":"$I$18","v":"-"}]
[null,{"$f":"$U$20&$J$9&$T$18","v":"D9300無舗装、昼間施工"},{"$f":"$J$18","v":"-"}]
[null,{"$f":"$U$20&$K$9&$T$18","v":"D9350無舗装、昼間施工"},{"$f":"$K$18","v":"-"}]
[null,{"$f":"$U$20&$L$9&$T$18","v":"D9400無舗装、昼間施工"},{"$f":"$L$18","v":"-"}]
[null,{"$f":"$U$20&$M$9&$T$18","v":"D9450無舗装、昼間施工"},{"$f":"$M$18","v":"-"}]
[null,{"$f":"$U$20&$N$9&$T$18","v":"D9500無舗装、昼間施工"},{"$f":"$N$18","v":"-"}]
[null,{"$f":"$U$20&$O$9&$T$18","v":"D9600無舗装、昼間施工"},{"$f":"$O$18","v":"-"}]
[null,{"$f":"$U$20&$P$9&$T$18","v":"D9700無舗装、昼間施工"},{"$f":"$P$18","v":"-"}]
[null,{"$f":"$U$20&$Q$9&$T$18","v":"D9800無舗装、昼間施工"},{"$f":"$Q$18","v":"-"}]
[null,{"$f":"$U$20&$R$9&$T$18","v":"D9900無舗装、昼間施工"},{"$f":"$R$18","v":"-"}]
[null,{"$f":"$U$20&$S$9&$T$18","v":"D91000無舗装、昼間施工"},{"$f":"$S$18","v":"-"}]
[null,{"$f":"$U$20&$C$9&$T$19","v":"D950歩道、昼間施工"},{"$f":"$C$19","v":68.518017840232218}]
[null,{"$f":"$U$20&$D$9&$T$19","v":"D975歩道、昼間施工"},{"$f":"$D$19","v":77.25384939132131}]
[null,{"$f":"$U$20&$E$9&$T$19","v":"D9100歩道、昼間施工"},{"$f":"$E$19","v":87.103471961102073}]
[null,{"$f":"$U$20&$F$9&$T$19","v":"D9125歩道、昼間施工"},{"$f":"$F$19","v":98.208890397774994}]
[null,{"$f":"$U$20&$G$9&$T$19","v":"D9150歩道、昼間施工"},{"$f":"$G$19","v":110.73021472059527}]
[null,{"$f":"$U$20&$H$9&$T$19","v":"D9200歩道、昼間施工"},{"$f":"$H$19","v":140.76569137846346}]
[null,{"$f":"$U$20&$I$9&$T$19","v":"D9250歩道、昼間施工"},{"$f":"$I$19","v":"-"}]
[null,{"$f":"$U$20&$J$9&$T$19","v":"D9300歩道、昼間施工"},{"$f":"$J$19","v":"-"}]
[null,{"$f":"$U$20&$K$9&$T$19","v":"D9350歩道、昼間施工"},{"$f":"$K$19","v":"-"}]
[null,{"$f":"$U$20&$L$9&$T$19","v":"D9400歩道、昼間施工"},{"$f":"$L$19","v":"-"}]
[null,{"$f":"$U$20&$M$9&$T$19","v":"D9450歩道、昼間施工"},{"$f":"$M$19","v":"-"}]
[null,{"$f":"$U$20&$N$9&$T$19","v":"D9500歩道、昼間施工"},{"$f":"$N$19","v":"-"}]
[null,{"$f":"$U$20&$O$9&$T$19","v":"D9600歩道、昼間施工"},{"$f":"$O$19","v":"-"}]
[null,{"$f":"$U$20&$P$9&$T$19","v":"D9700歩道、昼間施工"},{"$f":"$P$19","v":"-"}]
[null,{"$f":"$U$20&$Q$9&$T$19","v":"D9800歩道、昼間施工"},{"$f":"$Q$19","v":"-"}]
[null,{"$f":"$U$20&$R$9&$T$19","v":"D9900歩道、昼間施工"},{"$f":"$R$19","v":"-"}]
[null,{"$f":"$U$20&$S$9&$T$19","v":"D91000歩道、昼間施工"},{"$f":"$S$19","v":"-"}]
[null,{"$f":"$U$20&$C$9&$T$20","v":"D950車道、昼間施工"},{"$f":"$C$20","v":68.518017840232218}]
[null,{"$f":"$U$20&$D$9&$T$20","v":"D975車道、昼間施工"},{"$f":"$D$20","v":77.25384939132131}]
[null,{"$f":"$U$20&$E$9&$T$20","v":"D9100車道、昼間施工"},{"$f":"$E$20","v":87.103471961102073}]
[null,{"$f":"$U$20&$F$9&$T$20","v":"D9125車道、昼間施工"},{"$f":"$F$20","v":98.208890397774994}]
[null,{"$f":"$U$20&$G$9&$T$20","v":"D9150車道、昼間施工"},{"$f":"$G$20","v":110.73021472059527}]
[null,{"$f":"$U$20&$H$9&$T$20","v":"D9200車道、昼間施工"},{"$f":"$H$20","v":140.76569137846346}]
[null,{"$f":"$U$20&$I$9&$T$20","v":"D9250車道、昼間施工"},{"$f":"$I$20","v":"-"}]
[null,{"$f":"$U$20&$J$9&$T$20","v":"D9300車道、昼間施工"},{"$f":"$J$20","v":"-"}]
[null,{"$f":"$U$20&$K$9&$T$20","v":"D9350車道、昼間施工"},{"$f":"$K$20","v":"-"}]
[null,{"$f":"$U$20&$L$9&$T$20","v":"D9400車道、昼間施工"},{"$f":"$L$20","v":"-"}]
[null,{"$f":"$U$20&$M$9&$T$20","v":"D9450車道、昼間施工"},{"$f":"$M$20","v":"-"}]
[null,{"$f":"$U$20&$N$9&$T$20","v":"D9500車道、昼間施工"},{"$f":"$N$20","v":"-"}]
[null,{"$f":"$U$20&$O$9&$T$20","v":"D9600車道、昼間施工"},{"$f":"$O$20","v":"-"}]
[null,{"$f":"$U$20&$P$9&$T$20","v":"D9700車道、昼間施工"},{"$f":"$P$20","v":"-"}]
[null,{"$f":"$U$20&$Q$9&$T$20","v":"D9800車道、昼間施工"},{"$f":"$Q$20","v":"-"}]
[null,{"$f":"$U$20&$R$9&$T$20","v":"D9900車道、昼間施工"},{"$f":"$R$20","v":"-"}]
[null,{"$f":"$U$20&$S$9&$T$20","v":"D91000車道、昼間施工"},{"$f":"$S$20","v":"-"}]
[null,{"$f":"$U$22&$C$9&$T$22","v":"G150無舗装、昼間施工"},{"$f":"$C$22","v":39.346314487520957}]
[null,{"$f":"$U$22&$D$9&$T$22","v":"G175無舗装、昼間施工"},{"$f":"$D$22","v":45.146028366695212}]
[null,{"$f":"$U$22&$E$9&$T$22","v":"G1100無舗装、昼間施工"},{"$f":"$E$22","v":51.800629965809648}]
[null,{"$f":"$U$22&$F$9&$T$22","v":"G1125無舗装、昼間施工"},{"$f":"$F$22","v":59.436131193198037}]
[null,{"$f":"$U$22&$G$9&$T$22","v":"G1150無舗装、昼間施工"},{"$f":"$G$22","v":68.197118327455314}]
[null,{"$f":"$U$22&$H$9&$T$22","v":"G1200無舗装、昼間施工"},{"$f":"$H$22","v":89.783598215671788}]
[null,{"$f":"$U$22&$I$9&$T$22","v":"G1250無舗装、昼間施工"},{"$f":"$I$22","v":"-"}]
[null,{"$f":"$U$22&$J$9&$T$22","v":"G1300無舗装、昼間施工"},{"$f":"$J$22","v":"-"}]
[null,{"$f":"$U$22&$K$9&$T$22","v":"G1350無舗装、昼間施工"},{"$f":"$K$22","v":"-"}]
[null,{"$f":"$U$22&$L$9&$T$22","v":"G1400無舗装、昼間施工"},{"$f":"$L$22","v":"-"}]
[null,{"$f":"$U$22&$M$9&$T$22","v":"G1450無舗装、昼間施工"},{"$f":"$M$22","v":"-"}]
[null,{"$f":"$U$22&$N$9&$T$22","v":"G1500無舗装、昼間施工"},{"$f":"$N$22","v":"-"}]
[null,{"$f":"$U$22&$O$9&$T$22","v":"G1600無舗装、昼間施工"},{"$f":"$O$22","v":"-"}]
[null,{"$f":"$U$22&$P$9&$T$22","v":"G1700無舗装、昼間施工"},{"$f":"$P$22","v":"-"}]
[null,{"$f":"$U$22&$Q$9&$T$22","v":"G1800無舗装、昼間施工"},{"$f":"$Q$22","v":"-"}]
[null,{"$f":"$U$22&$R$9&$T$22","v":"G1900無舗装、昼間施工"},{"$f":"$R$22","v":"-"}]
[null,{"$f":"$U$22&$S$9&$T$22","v":"G11000無舗装、昼間施工"},{"$f":"$S$22","v":"-"}]
[null,{"$f":"$U$22&$C$9&$T$23","v":"G150歩道、昼間施工"},{"$f":"$C$23","v":60.572575793933858}]
[null,{"$f":"$U$22&$D$9&$T$23","v":"G175歩道、昼間施工"},{"$f":"$D$23","v":73.50031185021669}]
[null,{"$f":"$U$22&$E$9&$T$23","v":"G1100歩道、昼間施工"},{"$f":"$E$23","v":84.313565031152365}]
[null,{"$f":"$U$22&$F$9&$T$23","v":"G1125歩道、昼間施工"},{"$f":"$F$23","v":93.784964892185613}]
[null,{"$f":"$U$22&$G$9&$T$23","v":"G1150歩道、昼間施工"},{"$f":"$G$23","v":102.30823506788759}]
[null,{"$f":"$U$22&$H$9&$T$23","v":"G1200歩道、昼間施工"},{"$f":"$H$23","v":117.35966574124575}]
[null,{"$f":"$U$22&$I$9&$T$23","v":"G1250歩道、昼間施工"},{"$f":"$I$23","v":"-"}]
[null,{"$f":"$U$22&$J$9&$T$23","v":"G1300歩道、昼間施工"},{"$f":"$J$23","v":"-"}]
[null,{"$f":"$U$22&$K$9&$T$23","v":"G1350歩道、昼間施工"},{"$f":"$K$23","v":"-"}]
[null,{"$f":"$U$22&$L$9&$T$23","v":"G1400歩道、昼間施工"},{"$f":"$L$23","v":"-"}]
[null,{"$f":"$U$22&$M$9&$T$23","v":"G1450歩道、昼間施工"},{"$f":"$M$23","v":"-"}]
[null,{"$f":"$U$22&$N$9&$T$23","v":"G1500歩道、昼間施工"},{"$f":"$N$23","v":"-"}]
[null,{"$f":"$U$22&$O$9&$T$23","v":"G1600歩道、昼間施工"},{"$f":"$O$23","v":"-"}]
[null,{"$f":"$U$22&$P$9&$T$23","v":"G1700歩道、昼間施工"},{"$f":"$P$23","v":"-"}]
[null,{"$f":"$U$22&$Q$9&$T$23","v":"G1800歩道、昼間施工"},{"$f":"$Q$23","v":"-"}]
[null,{"$f":"$U$22&$R$9&$T$23","v":"G1900歩道、昼間施工"},{"$f":"$R$23","v":"-"}]
[null,{"$f":"$U$22&$S$9&$T$23","v":"G11000歩道、昼間施工"},{"$f":"$S$23","v":"-"}]
[null,{"$f":"$U$22&$C$9&$T$24","v":"G150車道、昼間施工"},{"$f":"$C$24","v":67.772774768494273}]
[null,{"$f":"$U$22&$D$9&$T$24","v":"G175車道、昼間施工"},{"$f":"$D$24","v":75.087985219946447}]
[null,{"$f":"$U$22&$E$9&$T$24","v":"G1100車道、昼間施工"},{"$f":"$E$24","v":83.192779750430745}]
[null,{"$f":"$U$22&$F$9&$T$24","v":"G1125車道、昼間施工"},{"$f":"$F$24","v":92.172383935068879}]
[null,{"$f":"$U$22&$G$9&$T$24","v":"G1150車道、昼間施工"},{"$f":"$G$24","v":102.12122236761483}]
[null,{"$f":"$U$22&$H$9&$T$24","v":"G1200車道、昼間施工"},{"$f":"$H$24","v":125.35636012092554}]
[null,{"$f":"$U$22&$I$9&$T$24","v":"G1250車道、昼間施工"},{"$f":"$I$24","v":"-"}]
[null,{"$f":"$U$22&$J$9&$T$24","v":"G1300車道、昼間施工"},{"$f":"$J$24","v":"-"}]
[null,{"$f":"$U$22&$K$9&$T$24","v":"G1350車道、昼間施工"},{"$f":"$K$24","v":"-"}]
[null,{"$f":"$U$22&$L$9&$T$24","v":"G1400車道、昼間施工"},{"$f":"$L$24","v":"-"}]
[null,{"$f":"$U$22&$M$9&$T$24","v":"G1450車道、昼間施工"},{"$f":"$M$24","v":"-"}]
[null,{"$f":"$U$22&$N$9&$T$24","v":"G1500車道、昼間施工"},{"$f":"$N$24","v":"-"}]
[null,{"$f":"$U$22&$O$9&$T$24","v":"G1600車道、昼間施工"},{"$f":"$O$24","v":"-"}]
[null,{"$f":"$U$22&$P$9&$T$24","v":"G1700車道、昼間施工"},{"$f":"$P$24","v":"-"}]
[null,{"$f":"$U$22&$Q$9&$T$24","v":"G1800車道、昼間施工"},{"$f":"$Q$24","v":"-"}]
[null,{"$f":"$U$22&$R$9&$T$24","v":"G1900車道、昼間施工"},{"$f":"$R$24","v":"-"}]
[null,{"$f":"$U$22&$S$9&$T$24","v":"G11000車道、昼間施工"},{"$f":"$S$24","v":"-"}]
[null,{"$f":"$U$22&$C$9&$T$25","v":"G150車道、夜間施工"},{"$f":"$C$25","v":67.270356293466378}]
[null,{"$f":"$U$22&$D$9&$T$25","v":"G175車道、夜間施工"},{"$f":"$D$25","v":87.901746045476514}]
[null,{"$f":"$U$22&$E$9&$T$25","v":"G1100車道、夜間施工"},{"$f":"$E$25","v":114.86065160909371}]
[null,{"$f":"$U$22&$F$9&$T$25","v":"G1125車道、夜間施工"},{"$f":"$F$25","v":150.08768177642497}]
[null,{"$f":"$U$22&$G$9&$T$25","v":"G1150車道、夜間施工"},{"$f":"$G$25","v":196.11861769412042}]
[null,{"$f":"$U$22&$H$9&$T$25","v":"G1200車道、夜間施工"},{"$f":"$H$25","v":334.86238905515154}]
[null,{"$f":"$U$22&$I$9&$T$25","v":"G1250車道、夜間施工"},{"$f":"$I$25","v":"-"}]
[null,{"$f":"$U$22&$J$9&$T$25","v":"G1300車道、夜間施工"},{"$f":"$J$25","v":"-"}]
[null,{"$f":"$U$22&$K$9&$T$25","v":"G1350車道、夜間施工"},{"$f":"$K$25","v":"-"}]
[null,{"$f":"$U$22&$L$9&$T$25","v":"G1400車道、夜間施工"},{"$f":"$L$25","v":"-"}]
[null,{"$f":"$U$22&$M$9&$T$25","v":"G1450車道、夜間施工"},{"$f":"$M$25","v":"-"}]
[null,{"$f":"$U$22&$N$9&$T$25","v":"G1500車道、夜間施工"},{"$f":"$N$25","v":"-"}]
[null,{"$f":"$U$22&$O$9&$T$25","v":"G1600車道、夜間施工"},{"$f":"$O$25","v":"-"}]
[null,{"$f":"$U$22&$P$9&$T$25","v":"G1700車道、夜間施工"},{"$f":"$P$25","v":"-"}]
[null,{"$f":"$U$22&$Q$9&$T$25","v":"G1800車道、夜間施工"},{"$f":"$Q$25","v":"-"}]
[null,{"$f":"$U$22&$R$9&$T$25","v":"G1900車道、夜間施工"},{"$f":"$R$25","v":"-"}]
[null,{"$f":"$U$22&$S$9&$T$25","v":"G11000車道、夜間施工"},{"$f":"$S$25","v":"-"}]
[null,{"$f":"$U$26&$C$9&$T$26","v":"A150無舗装、昼間施工"},{"$f":"$C$26","v":37.739274782792194}]
[null,{"$f":"$U$26&$D$9&$T$26","v":"A175無舗装、昼間施工"},{"$f":"$D$26","v":52.746312430323655}]
[null,{"$f":"$U$26&$E$9&$T$26","v":"A1100無舗装、昼間施工"},{"$f":"$E$26","v":66.88889441587024}]
[null,{"$f":"$U$26&$F$9&$T$26","v":"A1125無舗装、昼間施工"},{"$f":"$F$26","v":80.421582637175121}]
[null,{"$f":"$U$26&$G$9&$T$26","v":"A1150無舗装、昼間施工"},{"$f":"$G$26","v":93.487289919708118}]
[null,{"$f":"$U$26&$H$9&$T$26","v":"A1200無舗装、昼間施工"},{"$f":"$H$26","v":118.55352870260977}]
[null,{"$f":"$U$26&$I$9&$T$26","v":"A1250無舗装、昼間施工"},{"$f":"$I$26","v":142.53879494865018}]
[null,{"$f":"$U$26&$J$9&$T$26","v":"A1300無舗装、昼間施工"},{"$f":"$J$26","v":165.69638660667843}]
[null,{"$f":"$U$26&$K$9&$T$26","v":"A1350無舗装、昼間施工"},{"$f":"$K$26","v":188.18759925887554}]
[null,{"$f":"$U$26&$L$9&$T$26","v":"A1400無舗装、昼間施工"},{"$f":"$L$26","v":210.12365790435061}]
[null,{"$f":"$U$26&$M$9&$T$26","v":"A1450無舗装、昼間施工"},{"$f":"$M$26","v":231.58562073155252}]
[null,{"$f":"$U$26&$N$9&$T$26","v":"A1500無舗装、昼間施工"},{"$f":"$N$26","v":252.635019097742}]
[null,{"$f":"$U$26&$O$9&$T$26","v":"A1600無舗装、昼間施工"},{"$f":"$O$26","v":293.67941415447928}]
[null,{"$f":"$U$26&$P$9&$T$26","v":"A1700無舗装、昼間施工"},{"$f":"$P$26","v":333.54272252583337}]
[null,{"$f":"$U$26&$Q$9&$T$26","v":"A1800無舗装、昼間施工"},{"$f":"$Q$26","v":372.42207882195731}]
[null,{"$f":"$U$26&$R$9&$T$26","v":"A1900無舗装、昼間施工"},{"$f":"$R$26","v":410.46115015463198}]
[null,{"$f":"$U$26&$S$9&$T$26","v":"A11000無舗装、昼間施工"},{"$f":"$S$26","v":447.76899438156022}]
[null,{"$f":"$U$26&$C$9&$T$27","v":"A150歩道、昼間施工"},{"$f":"$C$27","v":91.497272727272716}]
[null,{"$f":"$U$26&$D$9&$T$27","v":"A175歩道、昼間施工"},{"$f":"$D$27","v":101.69272727272727}]
[null,{"$f":"$U$26&$E$9&$T$27","v":"A1100歩道、昼間施工"},{"$f":"$E$27","v":111.88818181818182}]
[null,{"$f":"$U$26&$F$9&$T$27","v":"A1125歩道、昼間施工"},{"$f":"$F$27","v":122.08363636363637}]
[null,{"$f":"$U$26&$G$9&$T$27","v":"A1150歩道、昼間施工"},{"$f":"$G$27","v":132.27909090909091}]
[null,{"$f":"$U$26&$H$9&$T$27","v":"A1200歩道、昼間施工"},{"$f":"$H$27","v":152.67000000000002}]
[null,{"$f":"$U$26&$I$9&$T$27","v":"A1250歩道、昼間施工"},{"$f":"$I$27","v":173.06090909090909}]
[null,{"$f":"$U$26&$J$9&$T$27","v":"A1300歩道、昼間施工"},{"$f":"$J$27","v":193.45181818181823}]
[null,{"$f":"$U$26&$K$9&$T$27","v":"A1350歩道、昼間施工"},{"$f":"$K$27","v":213.84272727272725}]
[null,{"$f":"$U$26&$L$9&$T$27","v":"A1400歩道、昼間施工"},{"$f":"$L$27","v":234.23363636363635}]
[null,{"$f":"$U$26&$M$9&$T$27","v":"A1450歩道、昼間施工"},{"$f":"$M$27","v":254.62454545454543}]
[null,{"$f":"$U$26&$N$9&$T$27","v":"A1500歩道、昼間施工"},{"$f":"$N$27","v":275.01545454545453}]
[null,{"$f":"$U$26&$O$9&$T$27","v":"A1600歩道、昼間施工"},{"$f":"$O$27","v":315.79727272727274}]
[null,{"$f":"$U$26&$P$9&$T$27","v":"A1700歩道、昼間施工"},{"$f":"$P$27","v":356.57909090909089}]
[null,{"$f":"$U$26&$Q$9&$T$27","v":"A1800歩道、昼間施工"},{"$f":"$Q$27","v":397.36090909090905}]
[null,{"$f":"$U$26&$R$9&$T$27","v":"A1900歩道、昼間施工"},{"$f":"$R$27","v":438.14272727272726}]
[null,{"$f":"$U$26&$S$9&$T$27","v":"A11000歩道、昼間施工"},{"$f":"$S$27","v":478.92454545454541}]
[null,{"$f":"$U$26&$C$9&$T$28","v":"A150車道、昼間施工"},{"$f":"$C$28","v":76.51727272727274}]
[null,{"$f":"$U$26&$D$9&$T$28","v":"A175車道、昼間施工"},{"$f":"$D$28","v":91.228636363636355}]
[null,{"$f":"$U$26&$E$9&$T$28","v":"A1100車道、昼間施工"},{"$f":"$E$28","v":105.94000000000001}]
[null,{"$f":"$U$26&$F$9&$T$28","v":"A1125車道、昼間施工"},{"$f":"$F$28","v":120.65136363636363}]
[null,{"$f":"$U$26&$G$9&$T$28","v":"A1150車道、昼間施工"},{"$f":"$G$28","v":135.36272727272726}]
[null,{"$f":"$U$26&$H$9&$T$28","v":"A1200車道、昼間施工"},{"$f":"$H$28","v":164.78545454545457}]
[null,{"$f":"$U$26&$I$9&$T$28","v":"A1250車道、昼間施工"},{"$f":"$I$28","v":194.2081818181818}]
[null,{"$f":"$U$26&$J$9&$T$28","v":"A1300車道、昼間施工"},{"$f":"$J$28","v":223.63090909090911}]
[null,{"$f":"$U$26&$K$9&$T$28","v":"A1350車道、昼間施工"},{"$f":"$K$28","v":253.0536363636364}]
[null,{"$f":"$U$26&$L$9&$T$28","v":"A1400車道、昼間施工"},{"$f":"$L$28","v":282.47636363636366}]
[null,{"$f":"$U$26&$M$9&$T$28","v":"A1450車道、昼間施工"},{"$f":"$M$28","v":311.89909090909083}]
[null,{"$f":"$U$26&$N$9&$T$28","v":"A1500車道、昼間施工"},{"$f":"$N$28","v":341.32181818181812}]
[null,{"$f":"$U$26&$O$9&$T$28","v":"A1600車道、昼間施工"},{"$f":"$O$28","v":400.16727272727269}]
[null,{"$f":"$U$26&$P$9&$T$28","v":"A1700車道、昼間施工"},{"$f":"$P$28","v":459.01272727272726}]
[null,{"$f":"$U$26&$Q$9&$T$28","v":"A1800車道、昼間施工"},{"$f":"$Q$28","v":517.85818181818183}]
[null,{"$f":"$U$26&$R$9&$T$28","v":"A1900車道、昼間施工"},{"$f":"$R$28","v":576.70363636363629}]
[null,{"$f":"$U$26&$S$9&$T$28","v":"A11000車道、昼間施工"},{"$f":"$S$28","v":635.54909090909086}]
[null,{"$f":"$U$26&$C$9&$T$29","v":"A150車道、夜間施工"},{"$f":"$C$29","v":120.89545454545456}]
[null,{"$f":"$U$26&$D$9&$T$29","v":"A175車道、夜間施工"},{"$f":"$D$29","v":143.19772727272726}]
[null,{"$f":"$U$26&$E$9&$T$29","v":"A1100車道、夜間施工"},{"$f":"$E$29","v":165.5}]
[null,{"$f":"$U$26&$F$9&$T$29","v":"A1125車道、夜間施工"},{"$f":"$F$29","v":187.80227272727274}]
[null,{"$f":"$U$26&$G$9&$T$29","v":"A1150車道、夜間施工"},{"$f":"$G$29","v":210.10454545454544}]
[null,{"$f":"$U$26&$H$9&$T$29","v":"A1200車道、夜間施工"},{"$f":"$H$29","v":254.70909090909092}]
[null,{"$f":"$U$26&$I$9&$T$29","v":"A1250車道、夜間施工"},{"$f":"$I$29","v":299.31363636363636}]
[null,{"$f":"$U$26&$J$9&$T$29","v":"A1300車道、夜間施工"},{"$f":"$J$29","v":343.91818181818184}]
[null,{"$f":"$U$26&$K$9&$T$29","v":"A1350車道、夜間施工"},{"$f":"$K$29","v":388.52272727272725}]
[null,{"$f":"$U$26&$L$9&$T$29","v":"A1400車道、夜間施工"},{"$f":"$L$29","v":433.12727272727273}]
[null,{"$f":"$U$26&$M$9&$T$29","v":"A1450車道、夜間施工"},{"$f":"$M$29","v":477.7318181818182}]
[null,{"$f":"$U$26&$N$9&$T$29","v":"A1500車道、夜間施工"},{"$f":"$N$29","v":522.33636363636356}]
[null,{"$f":"$U$26&$O$9&$T$29","v":"A1600車道、夜間施工"},{"$f":"$O$29","v":611.5454545454545}]
[null,{"$f":"$U$26&$P$9&$T$29","v":"A1700車道、夜間施工"},{"$f":"$P$29","v":700.75454545454545}]
[null,{"$f":"$U$26&$Q$9&$T$29","v":"A1800車道、夜間施工"},{"$f":"$Q$29","v":789.96363636363628}]
[null,{"$f":"$U$26&$R$9&$T$29","v":"A1900車道、夜間施工"},{"$f":"$R$29","v":879.17272727272712}]
[null,{"$f":"$U$26&$S$9&$T$29","v":"A11000車道、夜間施工"},{"$f":"$S$29","v":968.38181818181818}]
[null,{"$f":"$U$30&$C$9&$T$30","v":"B150無舗装、昼間施工"},{"$f":"$C$30","v":37.739274782792194}]
[null,{"$f":"$U$30&$D$9&$T$30","v":"B175無舗装、昼間施工"},{"$f":"$D$30","v":52.746312430323655}]
[null,{"$f":"$U$30&$E$9&$T$30","v":"B1100無舗装、昼間施工"},{"$f":"$E$30","v":66.88889441587024}]
[null,{"$f":"$U$30&$F$9&$T$30","v":"B1125無舗装、昼間施工"},{"$f":"$F$30","v":80.421582637175121}]
[null,{"$f":"$U$30&$G$9&$T$30","v":"B1150無舗装、昼間施工"},{"$f":"$G$30","v":93.487289919708118}]
[null,{"$f":"$U$30&$H$9&$T$30","v":"B1200無舗装、昼間施工"},{"$f":"$H$30","v":118.55352870260977}]
[null,{"$f":"$U$30&$I$9&$T$30","v":"B1250無舗装、昼間施工"},{"$f":"$I$30","v":142.53879494865018}]
[null,{"$f":"$U$30&$J$9&$T$30","v":"B1300無舗装、昼間施工"},{"$f":"$J$30","v":165.69638660667843}]
[null,{"$f":"$U$30&$K$9&$T$30","v":"B1350無舗装、昼間施工"},{"$f":"$K$30","v":188.18759925887554}]
[null,{"$f":"$U$30&$L$9&$T$30","v":"B1400無舗装、昼間施工"},{"$f":"$L$30","v":210.12365790435061}]
[null,{"$f":"$U$30&$M$9&$T$30","v":"B1450無舗装、昼間施工"},{"$f":"$M$30","v":231.58562073155252}]
[null,{"$f":"$U$30&$N$9&$T$30","v":"B1500無舗装、昼間施工"},{"$f":"$N$30","v":252.635019097742}]
[null,{"$f":"$U$30&$O$9&$T$30","v":"B1600無舗装、昼間施工"},{"$f":"$O$30","v":293.67941415447928}]
[null,{"$f":"$U$30&$P$9&$T$30","v":"B1700無舗装、昼間施工"},{"$f":"$P$30","v":333.54272252583337}]
[null,{"$f":"$U$30&$Q$9&$T$30","v":"B1800無舗装、昼間施工"},{"$f":"$Q$30","v":372.42207882195731}]
[null,{"$f":"$U$30&$R$9&$T$30","v":"B1900無舗装、昼間施工"},{"$f":"$R$30","v":410.46115015463198}]
[null,{"$f":"$U$30&$S$9&$T$30","v":"B11000無舗装、昼間施工"},{"$f":"$S$30","v":447.76899438156022}]
[null,{"$f":"$U$30&$C$9&$T$31","v":"B150歩道、昼間施工"},{"$f":"$C$31","v":91.497272727272716}]
[null,{"$f":"$U$30&$D$9&$T$31","v":"B175歩道、昼間施工"},{"$f":"$D$31","v":101.69272727272727}]
[null,{"$f":"$U$30&$E$9&$T$31","v":"B1100歩道、昼間施工"},{"$f":"$E$31","v":111.88818181818182}]
[null,{"$f":"$U$30&$F$9&$T$31","v":"B1125歩道、昼間施工"},{"$f":"$F$31","v":122.08363636363637}]
[null,{"$f":"$U$30&$G$9&$T$31","v":"B1150歩道、昼間施工"},{"$f":"$G$31","v":132.27909090909091}]
[null,{"$f":"$U$30&$H$9&$T$31","v":"B1200歩道、昼間施工"},{"$f":"$H$31","v":152.67000000000002}]
[null,{"$f":"$U$30&$I$9&$T$31","v":"B1250歩道、昼間施工"},{"$f":"$I$31","v":173.06090909090909}]
[null,{"$f":"$U$30&$J$9&$T$31","v":"B1300歩道、昼間施工"},{"$f":"$J$31","v":193.45181818181823}]
[null,{"$f":"$U$30&$K$9&$T$31","v":"B1350歩道、昼間施工"},{"$f":"$K$31","v":213.84272727272725}]
[null,{"$f":"$U$30&$L$9&$T$31","v":"B1400歩道、昼間施工"},{"$f":"$L$31","v":234.23363636363635}]
[null,{"$f":"$U$30&$M$9&$T$31","v":"B1450歩道、昼間施工"},{"$f":"$M$31","v":254.62454545454543}]
[null,{"$f":"$U$30&$N$9&$T$31","v":"B1500歩道、昼間施工"},{"$f":"$N$31","v":275.01545454545453}]
[null,{"$f":"$U$30&$O$9&$T$31","v":"B1600歩道、昼間施工"},{"$f":"$O$31","v":315.79727272727274}]
[null,{"$f":"$U$30&$P$9&$T$31","v":"B1700歩道、昼間施工"},{"$f":"$P$31","v":356.57909090909089}]
[null,{"$f":"$U$30&$Q$9&$T$31","v":"B1800歩道、昼間施工"},{"$f":"$Q$31","v":397.36090909090905}]
[null,{"$f":"$U$30&$R$9&$T$31","v":"B1900歩道、昼間施工"},{"$f":"$R$31","v":438.14272727272726}]
[null,{"$f":"$U$30&$S$9&$T$31","v":"B11000歩道、昼間施工"},{"$f":"$S$31","v":478.92454545454541}]
[null,{"$f":"$U$30&$C$9&$T$32","v":"B150車道、昼間施工"},{"$f":"$C$32","v":76.51727272727274}]
[null,{"$f":"$U$30&$D$9&$T$32","v":"B175車道、昼間施工"},{"$f":"$D$32","v":91.228636363636355}]
[null,{"$f":"$U$30&$E$9&$T$32","v":"B1100車道、昼間施工"},{"$f":"$E$32","v":105.94000000000001}]
[null,{"$f":"$U$30&$F$9&$T$32","v":"B1125車道、昼間施工"},{"$f":"$F$32","v":120.65136363636363}]
[null,{"$f":"$U$30&$G$9&$T$32","v":"B1150車道、昼間施工"},{"$f":"$G$32","v":135.36272727272726}]
[null,{"$f":"$U$30&$H$9&$T$32","v":"B1200車道、昼間施工"},{"$f":"$H$32","v":164.78545454545457}]
[null,{"$f":"$U$30&$I$9&$T$32","v":"B1250車道、昼間施工"},{"$f":"$I$32","v":194.2081818181818}]
[null,{"$f":"$U$30&$J$9&$T$32","v":"B1300車道、昼間施工"},{"$f":"$J$32","v":223.63090909090911}]
[null,{"$f":"$U$30&$K$9&$T$32","v":"B1350車道、昼間施工"},{"$f":"$K$32","v":253.0536363636364}]
[null,{"$f":"$U$30&$L$9&$T$32","v":"B1400車道、昼間施工"},{"$f":"$L$32","v":282.47636363636366}]
[null,{"$f":"$U$30&$M$9&$T$32","v":"B1450車道、昼間施工"},{"$f":"$M$32","v":311.89909090909083}]
[null,{"$f":"$U$30&$N$9&$T$32","v":"B1500車道、昼間施工"},{"$f":"$N$32","v":341.32181818181812}]
[null,{"$f":"$U$30&$O$9&$T$32","v":"B1600車道、昼間施工"},{"$f":"$O$32","v":400.16727272727269}]
[null,{"$f":"$U$30&$P$9&$T$32","v":"B1700車道、昼間施工"},{"$f":"$P$32","v":459.01272727272726}]
[null,{"$f":"$U$30&$Q$9&$T$32","v":"B1800車道、昼間施工"},{"$f":"$Q$32","v":517.85818181818183}]
[null,{"$f":"$U$30&$R$9&$T$32","v":"B1900車道、昼間施工"},{"$f":"$R$32","v":576.70363636363629}]
[null,{"$f":"$U$30&$S$9&$T$32","v":"B11000車道、昼間施工"},{"$f":"$S$32","v":635.54909090909086}]
[null,{"$f":"$U$30&$C$9&$T$33","v":"B150車道、夜間施工"},{"$f":"$C$33","v":120.89545454545456}]
[null,{"$f":"$U$30&$D$9&$T$33","v":"B175車道、夜間施工"},{"$f":"$D$33","v":143.19772727272726}]
[null,{"$f":"$U$30&$E$9&$T$33","v":"B1100車道、夜間施工"},{"$f":"$E$33","v":165.5}]
[null,{"$f":"$U$30&$F$9&$T$33","v":"B1125車道、夜間施工"},{"$f":"$F$33","v":187.80227272727274}]
[null,{"$f":"$U$30&$G$9&$T$33","v":"B1150車道、夜間施工"},{"$f":"$G$33","v":210.10454545454544}]
[null,{"$f":"$U$30&$H$9&$T$33","v":"B1200車道、夜間施工"},{"$f":"$H$33","v":254.70909090909092}]
[null,{"$f":"$U$30&$I$9&$T$33","v":"B1250車道、夜間施工"},{"$f":"$I$33","v":299.31363636363636}]
[null,{"$f":"$U$30&$J$9&$T$33","v":"B1300車道、夜間施工"},{"$f":"$J$33","v":343.91818181818184}]
[null,{"$f":"$U$30&$K$9&$T$33","v":"B1350車道、夜間施工"},{"$f":"$K$33","v":388.52272727272725}]
[null,{"$f":"$U$30&$L$9&$T$33","v":"B1400車道、夜間施工"},{"$f":"$L$33","v":433.12727272727273}]
[null,{"$f":"$U$30&$M$9&$T$33","v":"B1450車道、夜間施工"},{"$f":"$M$33","v":477.7318181818182}]
[null,{"$f":"$U$30&$N$9&$T$33","v":"B1500車道、夜間施工"},{"$f":"$N$33","v":522.33636363636356}]
[null,{"$f":"$U$30&$O$9&$T$33","v":"B1600車道、夜間施工"},{"$f":"$O$33","v":611.5454545454545}]
[null,{"$f":"$U$30&$P$9&$T$33","v":"B1700車道、夜間施工"},{"$f":"$P$33","v":700.75454545454545}]
[null,{"$f":"$U$30&$Q$9&$T$33","v":"B1800車道、夜間施工"},{"$f":"$Q$33","v":789.96363636363628}]
[null,{"$f":"$U$30&$R$9&$T$33","v":"B1900車道、夜間施工"},{"$f":"$R$33","v":879.17272727272712}]
[null,{"$f":"$U$30&$S$9&$T$33","v":"B11000車道、夜間施工"},{"$f":"$S$33","v":968.38181818181818}]
[null,{"$f":"$U$32&$C$9&$T$30","v":"B950無舗装、昼間施工"},{"$f":"$C$30","v":37.739274782792194}]
[null,{"$f":"$U$32&$D$9&$T$30","v":"B975無舗装、昼間施工"},{"$f":"$D$30","v":52.746312430323655}]
[null,{"$f":"$U$32&$E$9&$T$30","v":"B9100無舗装、昼間施工"},{"$f":"$E$30","v":66.88889441587024}]
[null,{"$f":"$U$32&$F$9&$T$30","v":"B9125無舗装、昼間施工"},{"$f":"$F$30","v":80.421582637175121}]
[null,{"$f":"$U$32&$G$9&$T$30","v":"B9150無舗装、昼間施工"},{"$f":"$G$30","v":93.487289919708118}]
[null,{"$f":"$U$32&$H$9&$T$30","v":"B9200無舗装、昼間施工"},{"$f":"$H$30","v":118.55352870260977}]
[null,{"$f":"$U$32&$I$9&$T$30","v":"B9250無舗装、昼間施工"},{"$f":"$I$30","v":142.53879494865018}]
[null,{"$f":"$U$32&$J$9&$T$30","v":"B9300無舗装、昼間施工"},{"$f":"$J$30","v":165.69638660667843}]
[null,{"$f":"$U$32&$K$9&$T$30","v":"B9350無舗装、昼間施工"},{"$f":"$K$30","v":188.18759925887554}]
[null,{"$f":"$U$32&$L$9&$T$30","v":"B9400無舗装、昼間施工"},{"$f":"$L$30","v":210.12365790435061}]
[null,{"$f":"$U$32&$M$9&$T$30","v":"B9450無舗装、昼間施工"},{"$f":"$M$30","v":231.58562073155252}]
[null,{"$f":"$U$32&$N$9&$T$30","v":"B9500無舗装、昼間施工"},{"$f":"$N$30","v":252.635019097742}]
[null,{"$f":"$U$32&$O$9&$T$30","v":"B9600無舗装、昼間施工"},{"$f":"$O$30","v":293.67941415447928}]
[null,{"$f":"$U$32&$P$9&$T$30","v":"B9700無舗装、昼間施工"},{"$f":"$P$30","v":333.54272252583337}]
[null,{"$f":"$U$32&$Q$9&$T$30","v":"B9800無舗装、昼間施工"},{"$f":"$Q$30","v":372.42207882195731}]
[null,{"$f":"$U$32&$R$9&$T$30","v":"B9900無舗装、昼間施工"},{"$f":"$R$30","v":410.46115015463198}]
[null,{"$f":"$U$32&$S$9&$T$30","v":"B91000無舗装、昼間施工"},{"$f":"$S$30","v":447.76899438156022}]
[null,{"$f":"$U$32&$C$9&$T$31","v":"B950歩道、昼間施工"},{"$f":"$C$31","v":91.497272727272716}]
[null,{"$f":"$U$32&$D$9&$T$31","v":"B975歩道、昼間施工"},{"$f":"$D$31","v":101.69272727272727}]
[null,{"$f":"$U$32&$E$9&$T$31","v":"B9100歩道、昼間施工"},{"$f":"$E$31","v":111.88818181818182}]
[null,{"$f":"$U$32&$F$9&$T$31","v":"B9125歩道、昼間施工"},{"$f":"$F$31","v":122.08363636363637}]
[null,{"$f":"$U$32&$G$9&$T$31","v":"B9150歩道、昼間施工"},{"$f":"$G$31","v":132.27909090909091}]
[null,{"$f":"$U$32&$H$9&$T$31","v":"B9200歩道、昼間施工"},{"$f":"$H$31","v":152.67000000000002}]
[null,{"$f":"$U$32&$I$9&$T$31","v":"B9250歩道、昼間施工"},{"$f":"$I$31","v":173.06090909090909}]
[null,{"$f":"$U$32&$J$9&$T$31","v":"B9300歩道、昼間施工"},{"$f":"$J$31","v":193.45181818181823}]
[null,{"$f":"$U$32&$K$9&$T$31","v":"B9350歩道、昼間施工"},{"$f":"$K$31","v":213.84272727272725}]
[null,{"$f":"$U$32&$L$9&$T$31","v":"B9400歩道、昼間施工"},{"$f":"$L$31","v":234.23363636363635}]
[null,{"$f":"$U$32&$M$9&$T$31","v":"B9450歩道、昼間施工"},{"$f":"$M$31","v":254.62454545454543}]
[null,{"$f":"$U$32&$N$9&$T$31","v":"B9500歩道、昼間施工"},{"$f":"$N$31","v":275.01545454545453}]
[null,{"$f":"$U$32&$O$9&$T$31","v":"B9600歩道、昼間施工"},{"$f":"$O$31","v":315.79727272727274}]
[null,{"$f":"$U$32&$P$9&$T$31","v":"B9700歩道、昼間施工"},{"$f":"$P$31","v":356.57909090909089}]
[null,{"$f":"$U$32&$Q$9&$T$31","v":"B9800歩道、昼間施工"},{"$f":"$Q$31","v":397.36090909090905}]
[null,{"$f":"$U$32&$R$9&$T$31","v":"B9900歩道、昼間施工"},{"$f":"$R$31","v":438.14272727272726}]
[null,{"$f":"$U$32&$S$9&$T$31","v":"B91000歩道、昼間施工"},{"$f":"$S$31","v":478.92454545454541}]
[null,{"$f":"$U$32&$C$9&$T$32","v":"B950車道、昼間施工"},{"$f":"$C$32","v":76.51727272727274}]
[null,{"$f":"$U$32&$D$9&$T$32","v":"B975車道、昼間施工"},{"$f":"$D$32","v":91.228636363636355}]
[null,{"$f":"$U$32&$E$9&$T$32","v":"B9100車道、昼間施工"},{"$f":"$E$32","v":105.94000000000001}]
[null,{"$f":"$U$32&$F$9&$T$32","v":"B9125車道、昼間施工"},{"$f":"$F$32","v":120.65136363636363}]
[null,{"$f":"$U$32&$G$9&$T$32","v":"B9150車道、昼間施工"},{"$f":"$G$32","v":135.36272727272726}]
[null,{"$f":"$U$32&$H$9&$T$32","v":"B9200車道、昼間施工"},{"$f":"$H$32","v":164.78545454545457}]
[null,{"$f":"$U$32&$I$9&$T$32","v":"B9250車道、昼間施工"},{"$f":"$I$32","v":194.2081818181818}]
[null,{"$f":"$U$32&$J$9&$T$32","v":"B9300車道、昼間施工"},{"$f":"$J$32","v":223.63090909090911}]
[null,{"$f":"$U$32&$K$9&$T$32","v":"B9350車道、昼間施工"},{"$f":"$K$32","v":253.0536363636364}]
[null,{"$f":"$U$32&$L$9&$T$32","v":"B9400車道、昼間施工"},{"$f":"$L$32","v":282.47636363636366}]
[null,{"$f":"$U$32&$M$9&$T$32","v":"B9450車道、昼間施工"},{"$f":"$M$32","v":311.89909090909083}]
[null,{"$f":"$U$32&$N$9&$T$32","v":"B9500車道、昼間施工"},{"$f":"$N$32","v":341.32181818181812}]
[null,{"$f":"$U$32&$O$9&$T$32","v":"B9600車道、昼間施工"},{"$f":"$O$32","v":400.16727272727269}]
[null,{"$f":"$U$32&$P$9&$T$32","v":"B9700車道、昼間施工"},{"$f":"$P$32","v":459.01272727272726}]
[null,{"$f":"$U$32&$Q$9&$T$32","v":"B9800車道、昼間施工"},{"$f":"$Q$32","v":517.85818181818183}]
[null,{"$f":"$U$32&$R$9&$T$32","v":"B9900車道、昼間施工"},{"$f":"$R$32","v":576.70363636363629}]
[null,{"$f":"$U$32&$S$9&$T$32","v":"B91000車道、昼間施工"},{"$f":"$S$32","v":635.54909090909086}]
[null,{"$f":"$U$32&$C$9&$T$33","v":"B950車道、夜間施工"},{"$f":"$C$33","v":120.89545454545456}]
[null,{"$f":"$U$32&$D$9&$T$33","v":"B975車道、夜間施工"},{"$f":"$D$33","v":143.19772727272726}]
[null,{"$f":"$U$32&$E$9&$T$33","v":"B9100車道、夜間施工"},{"$f":"$E$33","v":165.5}]
[null,{"$f":"$U$32&$F$9&$T$33","v":"B9125車道、夜間施工"},{"$f":"$F$33","v":187.80227272727274}]
[null,{"$f":"$U$32&$G$9&$T$33","v":"B9150車道、夜間施工"},{"$f":"$G$33","v":210.10454545454544}]
[null,{"$f":"$U$32&$H$9&$T$33","v":"B9200車道、夜間施工"},{"$f":"$H$33","v":254.70909090909092}]
[null,{"$f":"$U$32&$I$9&$T$33","v":"B9250車道、夜間施工"},{"$f":"$I$33","v":299.31363636363636}]
[null,{"$f":"$U$32&$J$9&$T$33","v":"B9300車道、夜間施工"},{"$f":"$J$33","v":343.91818181818184}]
[null,{"$f":"$U$32&$K$9&$T$33","v":"B9350車道、夜間施工"},{"$f":"$K$33","v":388.52272727272725}]
[null,{"$f":"$U$32&$L$9&$T$33","v":"B9400車道、夜間施工"},{"$f":"$L$33","v":433.12727272727273}]
[null,{"$f":"$U$32&$M$9&$T$33","v":"B9450車道、夜間施工"},{"$f":"$M$33","v":477.7318181818182}]
[null,{"$f":"$U$32&$N$9&$T$33","v":"B9500車道、夜間施工"},{"$f":"$N$33","v":522.33636363636356}]
[null,{"$f":"$U$32&$O$9&$T$33","v":"B9600車道、夜間施工"},{"$f":"$O$33","v":611.5454545454545}]
[null,{"$f":"$U$32&$P$9&$T$33","v":"B9700車道、夜間施工"},{"$f":"$P$33","v":700.75454545454545}]
[null,{"$f":"$U$32&$Q$9&$T$33","v":"B9800車道、夜間施工"},{"$f":"$Q$33","v":789.96363636363628}]
[null,{"$f":"$U$32&$R$9&$T$33","v":"B9900車道、夜間施工"},{"$f":"$R$33","v":879.17272727272712}]
[null,{"$f":"$U$32&$S$9&$T$33","v":"B91000車道、夜間施工"},{"$f":"$S$33","v":968.38181818181818}]
[null,{"$f":"$U$34&$C$9&$T$34","v":"H150無舗装、昼間施工"},{"$f":"$C$34","v":37.739274782792194}]
[null,{"$f":"$U$34&$D$9&$T$34","v":"H175無舗装、昼間施工"},{"$f":"$D$34","v":52.746312430323655}]
[null,{"$f":"$U$34&$E$9&$T$34","v":"H1100無舗装、昼間施工"},{"$f":"$E$34","v":66.88889441587024}]
[null,{"$f":"$U$34&$F$9&$T$34","v":"H1125無舗装、昼間施工"},{"$f":"$F$34","v":80.421582637175121}]
[null,{"$f":"$U$34&$G$9&$T$34","v":"H1150無舗装、昼間施工"},{"$f":"$G$34","v":93.487289919708118}]
[null,{"$f":"$U$34&$H$9&$T$34","v":"H1200無舗装、昼間施工"},{"$f":"$H$34","v":118.55352870260977}]
[null,{"$f":"$U$34&$I$9&$T$34","v":"H1250無舗装、昼間施工"},{"$f":"$I$34","v":142.53879494865018}]
[null,{"$f":"$U$34&$J$9&$T$34","v":"H1300無舗装、昼間施工"},{"$f":"$J$34","v":165.69638660667843}]
[null,{"$f":"$U$34&$K$9&$T$34","v":"H1350無舗装、昼間施工"},{"$f":"$K$34","v":188.18759925887554}]
[null,{"$f":"$U$34&$L$9&$T$34","v":"H1400無舗装、昼間施工"},{"$f":"$L$34","v":210.12365790435061}]
[null,{"$f":"$U$34&$M$9&$T$34","v":"H1450無舗装、昼間施工"},{"$f":"$M$34","v":231.58562073155252}]
[null,{"$f":"$U$34&$N$9&$T$34","v":"H1500無舗装、昼間施工"},{"$f":"$N$34","v":252.635019097742}]
[null,{"$f":"$U$34&$O$9&$T$34","v":"H1600無舗装、昼間施工"},{"$f":"$O$34","v":293.67941415447928}]
[null,{"$f":"$U$34&$P$9&$T$34","v":"H1700無舗装、昼間施工"},{"$f":"$P$34","v":333.54272252583337}]
[null,{"$f":"$U$34&$Q$9&$T$34","v":"H1800無舗装、昼間施工"},{"$f":"$Q$34","v":372.42207882195731}]
[null,{"$f":"$U$34&$R$9&$T$34","v":"H1900無舗装、昼間施工"},{"$f":"$R$34","v":410.46115015463198}]
[null,{"$f":"$U$34&$S$9&$T$34","v":"H11000無舗装、昼間施工"},{"$f":"$S$34","v":447.76899438156022}]
[null,{"$f":"$U$34&$C$9&$T$35","v":"H150歩道、昼間施工"},{"$f":"$C$35","v":91.497272727272716}]
[null,{"$f":"$U$34&$D$9&$T$35","v":"H175歩道、昼間施工"},{"$f":"$D$35","v":101.69272727272727}]
[null,{"$f":"$U$34&$E$9&$T$35","v":"H1100歩道、昼間施工"},{"$f":"$E$35","v":111.88818181818182}]
[null,{"$f":"$U$34&$F$9&$T$35","v":"H1125歩道、昼間施工"},{"$f":"$F$35","v":122.08363636363637}]
[null,{"$f":"$U$34&$G$9&$T$35","v":"H1150歩道、昼間施工"},{"$f":"$G$35","v":132.27909090909091}]
[null,{"$f":"$U$34&$H$9&$T$35","v":"H1200歩道、昼間施工"},{"$f":"$H$35","v":152.67000000000002}]
[null,{"$f":"$U$34&$I$9&$T$35","v":"H1250歩道、昼間施工"},{"$f":"$I$35","v":173.06090909090909}]
[null,{"$f":"$U$34&$J$9&$T$35","v":"H1300歩道、昼間施工"},{"$f":"$J$35","v":193.45181818181823}]
[null,{"$f":"$U$34&$K$9&$T$35","v":"H1350歩道、昼間施工"},{"$f":"$K$35","v":213.84272727272725}]
[null,{"$f":"$U$34&$L$9&$T$35","v":"H1400歩道、昼間施工"},{"$f":"$L$35","v":234.23363636363635}]
[null,{"$f":"$U$34&$M$9&$T$35","v":"H1450歩道、昼間施工"},{"$f":"$M$35","v":254.62454545454543}]
[null,{"$f":"$U$34&$N$9&$T$35","v":"H1500歩道、昼間施工"},{"$f":"$N$35","v":275.01545454545453}]
[null,{"$f":"$U$34&$O$9&$T$35","v":"H1600歩道、昼間施工"},{"$f":"$O$35","v":315.79727272727274}]
[null,{"$f":"$U$34&$P$9&$T$35","v":"H1700歩道、昼間施工"},{"$f":"$P$35","v":356.57909090909089}]
[null,{"$f":"$U$34&$Q$9&$T$35","v":"H1800歩道、昼間施工"},{"$f":"$Q$35","v":397.36090909090905}]
[null,{"$f":"$U$34&$R$9&$T$35","v":"H1900歩道、昼間施工"},{"$f":"$R$35","v":438.14272727272726}]
[null,{"$f":"$U$34&$S$9&$T$35","v":"H11000歩道、昼間施工"},{"$f":"$S$35","v":478.92454545454541}]
[null,{"$f":"$U$34&$C$9&$T$36","v":"H150車道、昼間施工"},{"$f":"$C$36","v":76.51727272727274}]
[null,{"$f":"$U$34&$D$9&$T$36","v":"H175車道、昼間施工"},{"$f":"$D$36","v":91.228636363636355}]
[null,{"$f":"$U$34&$E$9&$T$36","v":"H1100車道、昼間施工"},{"$f":"$E$36","v":105.94000000000001}]
[null,{"$f":"$U$34&$F$9&$T$36","v":"H1125車道、昼間施工"},{"$f":"$F$36","v":120.65136363636363}]
[null,{"$f":"$U$34&$G$9&$T$36","v":"H1150車道、昼間施工"},{"$f":"$G$36","v":135.36272727272726}]
[null,{"$f":"$U$34&$H$9&$T$36","v":"H1200車道、昼間施工"},{"$f":"$H$36","v":164.78545454545457}]
[null,{"$f":"$U$34&$I$9&$T$36","v":"H1250車道、昼間施工"},{"$f":"$I$36","v":194.2081818181818}]
[null,{"$f":"$U$34&$J$9&$T$36","v":"H1300車道、昼間施工"},{"$f":"$J$36","v":223.63090909090911}]
[null,{"$f":"$U$34&$K$9&$T$36","v":"H1350車道、昼間施工"},{"$f":"$K$36","v":253.0536363636364}]
[null,{"$f":"$U$34&$L$9&$T$36","v":"H1400車道、昼間施工"},{"$f":"$L$36","v":282.47636363636366}]
[null,{"$f":"$U$34&$M$9&$T$36","v":"H1450車道、昼間施工"},{"$f":"$M$36","v":311.89909090909083}]
[null,{"$f":"$U$34&$N$9&$T$36","v":"H1500車道、昼間施工"},{"$f":"$N$36","v":341.32181818181812}]
[null,{"$f":"$U$34&$O$9&$T$36","v":"H1600車道、昼間施工"},{"$f":"$O$36","v":400.16727272727269}]
[null,{"$f":"$U$34&$P$9&$T$36","v":"H1700車道、昼間施工"},{"$f":"$P$36","v":459.01272727272726}]
[null,{"$f":"$U$34&$Q$9&$T$36","v":"H1800車道、昼間施工"},{"$f":"$Q$36","v":517.85818181818183}]
[null,{"$f":"$U$34&$R$9&$T$36","v":"H1900車道、昼間施工"},{"$f":"$R$36","v":576.70363636363629}]
[null,{"$f":"$U$34&$S$9&$T$36","v":"H11000車道、昼間施工"},{"$f":"$S$36","v":635.54909090909086}]
[null,{"$f":"$U$34&$C$9&$T$37","v":"H150車道、夜間施工"},{"$f":"$C$37","v":120.89545454545456}]
[null,{"$f":"$U$34&$D$9&$T$37","v":"H175車道、夜間施工"},{"$f":"$D$37","v":143.19772727272726}]
[null,{"$f":"$U$34&$E$9&$T$37","v":"H1100車道、夜間施工"},{"$f":"$E$37","v":165.5}]
[null,{"$f":"$U$34&$F$9&$T$37","v":"H1125車道、夜間施工"},{"$f":"$F$37","v":187.80227272727274}]
[null,{"$f":"$U$34&$G$9&$T$37","v":"H1150車道、夜間施工"},{"$f":"$G$37","v":210.10454545454544}]
[null,{"$f":"$U$34&$H$9&$T$37","v":"H1200車道、夜間施工"},{"$f":"$H$37","v":254.70909090909092}]
[null,{"$f":"$U$34&$I$9&$T$37","v":"H1250車道、夜間施工"},{"$f":"$I$37","v":299.31363636363636}]
[null,{"$f":"$U$34&$J$9&$T$37","v":"H1300車道、夜間施工"},{"$f":"$J$37","v":343.91818181818184}]
[null,{"$f":"$U$34&$K$9&$T$37","v":"H1350車道、夜間施工"},{"$f":"$K$37","v":388.52272727272725}]
[null,{"$f":"$U$34&$L$9&$T$37","v":"H1400車道、夜間施工"},{"$f":"$L$37","v":433.12727272727273}]
[null,{"$f":"$U$34&$M$9&$T$37","v":"H1450車道、夜間施工"},{"$f":"$M$37","v":477.7318181818182}]
[null,{"$f":"$U$34&$N$9&$T$37","v":"H1500車道、夜間施工"},{"$f":"$N$37","v":522.33636363636356}]
[null,{"$f":"$U$34&$O$9&$T$37","v":"H1600車道、夜間施工"},{"$f":"$O$37","v":611.5454545454545}]
[null,{"$f":"$U$34&$P$9&$T$37","v":"H1700車道、夜間施工"},{"$f":"$P$37","v":700.75454545454545}]
[null,{"$f":"$U$34&$Q$9&$T$37","v":"H1800車道、夜間施工"},{"$f":"$Q$37","v":789.96363636363628}]
[null,{"$f":"$U$34&$R$9&$T$37","v":"H1900車道、夜間施工"},{"$f":"$R$37","v":879.17272727272712}]
[null,{"$f":"$U$34&$S$9&$T$37","v":"H11000車道、夜間施工"},{"$f":"$S$37","v":968.38181818181818}]
[null,{"$f":"$U$36&$C$9&$T$34","v":"H950無舗装、昼間施工"},{"$f":"$C$34","v":37.739274782792194}]
[null,{"$f":"$U$36&$D$9&$T$34","v":"H975無舗装、昼間施工"},{"$f":"$D$34","v":52.746312430323655}]
[null,{"$f":"$U$36&$E$9&$T$34","v":"H9100無舗装、昼間施工"},{"$f":"$E$34","v":66.88889441587024}]
[null,{"$f":"$U$36&$F$9&$T$34","v":"H9125無舗装、昼間施工"},{"$f":"$F$34","v":80.421582637175121}]
[null,{"$f":"$U$36&$G$9&$T$34","v":"H9150無舗装、昼間施工"},{"$f":"$G$34","v":93.487289919708118}]
[null,{"$f":"$U$36&$H$9&$T$34","v":"H9200無舗装、昼間施工"},{"$f":"$H$34","v":118.55352870260977}]
[null,{"$f":"$U$36&$I$9&$T$34","v":"H9250無舗装、昼間施工"},{"$f":"$I$34","v":142.53879494865018}]
[null,{"$f":"$U$36&$J$9&$T$34","v":"H9300無舗装、昼間施工"},{"$f":"$J$34","v":165.69638660667843}]
[null,{"$f":"$U$36&$K$9&$T$34","v":"H9350無舗装、昼間施工"},{"$f":"$K$34","v":188.18759925887554}]
[null,{"$f":"$U$36&$L$9&$T$34","v":"H9400無舗装、昼間施工"},{"$f":"$L$34","v":210.12365790435061}]
[null,{"$f":"$U$36&$M$9&$T$34","v":"H9450無舗装、昼間施工"},{"$f":"$M$34","v":231.58562073155252}]
[null,{"$f":"$U$36&$N$9&$T$34","v":"H9500無舗装、昼間施工"},{"$f":"$N$34","v":252.635019097742}]
[null,{"$f":"$U$36&$O$9&$T$34","v":"H9600無舗装、昼間施工"},{"$f":"$O$34","v":293.67941415447928}]
[null,{"$f":"$U$36&$P$9&$T$34","v":"H9700無舗装、昼間施工"},{"$f":"$P$34","v":333.54272252583337}]
[null,{"$f":"$U$36&$Q$9&$T$34","v":"H9800無舗装、昼間施工"},{"$f":"$Q$34","v":372.42207882195731}]
[null,{"$f":"$U$36&$R$9&$T$34","v":"H9900無舗装、昼間施工"},{"$f":"$R$34","v":410.46115015463198}]
[null,{"$f":"$U$36&$S$9&$T$34","v":"H91000無舗装、昼間施工"},{"$f":"$S$34","v":447.76899438156022}]
[null,{"$f":"$U$36&$C$9&$T$35","v":"H950歩道、昼間施工"},{"$f":"$C$35","v":91.497272727272716}]
[null,{"$f":"$U$36&$D$9&$T$35","v":"H975歩道、昼間施工"},{"$f":"$D$35","v":101.69272727272727}]
[null,{"$f":"$U$36&$E$9&$T$35","v":"H9100歩道、昼間施工"},{"$f":"$E$35","v":111.88818181818182}]
[null,{"$f":"$U$36&$F$9&$T$35","v":"H9125歩道、昼間施工"},{"$f":"$F$35","v":122.08363636363637}]
[null,{"$f":"$U$36&$G$9&$T$35","v":"H9150歩道、昼間施工"},{"$f":"$G$35","v":132.27909090909091}]
[null,{"$f":"$U$36&$H$9&$T$35","v":"H9200歩道、昼間施工"},{"$f":"$H$35","v":152.67000000000002}]
[null,{"$f":"$U$36&$I$9&$T$35","v":"H9250歩道、昼間施工"},{"$f":"$I$35","v":173.06090909090909}]
[null,{"$f":"$U$36&$J$9&$T$35","v":"H9300歩道、昼間施工"},{"$f":"$J$35","v":193.45181818181823}]
[null,{"$f":"$U$36&$K$9&$T$35","v":"H9350歩道、昼間施工"},{"$f":"$K$35","v":213.84272727272725}]
[null,{"$f":"$U$36&$L$9&$T$35","v":"H9400歩道、昼間施工"},{"$f":"$L$35","v":234.23363636363635}]
[null,{"$f":"$U$36&$M$9&$T$35","v":"H9450歩道、昼間施工"},{"$f":"$M$35","v":254.62454545454543}]
[null,{"$f":"$U$36&$N$9&$T$35","v":"H9500歩道、昼間施工"},{"$f":"$N$35","v":275.01545454545453}]
[null,{"$f":"$U$36&$O$9&$T$35","v":"H9600歩道、昼間施工"},{"$f":"$O$35","v":315.79727272727274}]
[null,{"$f":"$U$36&$P$9&$T$35","v":"H9700歩道、昼間施工"},{"$f":"$P$35","v":356.57909090909089}]
[null,{"$f":"$U$36&$Q$9&$T$35","v":"H9800歩道、昼間施工"},{"$f":"$Q$35","v":397.36090909090905}]
[null,{"$f":"$U$36&$R$9&$T$35","v":"H9900歩道、昼間施工"},{"$f":"$R$35","v":438.14272727272726}]
[null,{"$f":"$U$36&$S$9&$T$35","v":"H91000歩道、昼間施工"},{"$f":"$S$35","v":478.92454545454541}]
[null,{"$f":"$U$36&$C$9&$T$36","v":"H950車道、昼間施工"},{"$f":"$C$36","v":76.51727272727274}]
[null,{"$f":"$U$36&$D$9&$T$36","v":"H975車道、昼間施工"},{"$f":"$D$36","v":91.228636363636355}]
[null,{"$f":"$U$36&$E$9&$T$36","v":"H9100車道、昼間施工"},{"$f":"$E$36","v":105.94000000000001}]
[null,{"$f":"$U$36&$F$9&$T$36","v":"H9125車道、昼間施工"},{"$f":"$F$36","v":120.65136363636363}]
[null,{"$f":"$U$36&$G$9&$T$36","v":"H9150車道、昼間施工"},{"$f":"$G$36","v":135.36272727272726}]
[null,{"$f":"$U$36&$H$9&$T$36","v":"H9200車道、昼間施工"},{"$f":"$H$36","v":164.78545454545457}]
[null,{"$f":"$U$36&$I$9&$T$36","v":"H9250車道、昼間施工"},{"$f":"$I$36","v":194.2081818181818}]
[null,{"$f":"$U$36&$J$9&$T$36","v":"H9300車道、昼間施工"},{"$f":"$J$36","v":223.63090909090911}]
[null,{"$f":"$U$36&$K$9&$T$36","v":"H9350車道、昼間施工"},{"$f":"$K$36","v":253.0536363636364}]
[null,{"$f":"$U$36&$L$9&$T$36","v":"H9400車道、昼間施工"},{"$f":"$L$36","v":282.47636363636366}]
[null,{"$f":"$U$36&$M$9&$T$36","v":"H9450車道、昼間施工"},{"$f":"$M$36","v":311.89909090909083}]
[null,{"$f":"$U$36&$N$9&$T$36","v":"H9500車道、昼間施工"},{"$f":"$N$36","v":341.32181818181812}]
[null,{"$f":"$U$36&$O$9&$T$36","v":"H9600車道、昼間施工"},{"$f":"$O$36","v":400.16727272727269}]
[null,{"$f":"$U$36&$P$9&$T$36","v":"H9700車道、昼間施工"},{"$f":"$P$36","v":459.01272727272726}]
[null,{"$f":"$U$36&$Q$9&$T$36","v":"H9800車道、昼間施工"},{"$f":"$Q$36","v":517.85818181818183}]
[null,{"$f":"$U$36&$R$9&$T$36","v":"H9900車道、昼間施工"},{"$f":"$R$36","v":576.70363636363629}]
[null,{"$f":"$U$36&$S$9&$T$36","v":"H91000車道、昼間施工"},{"$f":"$S$36","v":635.54909090909086}]
[null,{"$f":"$U$36&$C$9&$T$37","v":"H950車道、夜間施工"},{"$f":"$C$37","v":120.89545454545456}]
[null,{"$f":"$U$36&$D$9&$T$37","v":"H975車道、夜間施工"},{"$f":"$D$37","v":143.19772727272726}]
[null,{"$f":"$U$36&$E$9&$T$37","v":"H9100車道、夜間施工"},{"$f":"$E$37","v":165.5}]
[null,{"$f":"$U$36&$F$9&$T$37","v":"H9125車道、夜間施工"},{"$f":"$F$37","v":187.80227272727274}]
[null,{"$f":"$U$36&$G$9&$T$37","v":"H9150車道、夜間施工"},{"$f":"$G$37","v":210.10454545454544}]
[null,{"$f":"$U$36&$H$9&$T$37","v":"H9200車道、夜間施工"},{"$f":"$H$37","v":254.70909090909092}]
[null,{"$f":"$U$36&$I$9&$T$37","v":"H9250車道、夜間施工"},{"$f":"$I$37","v":299.31363636363636}]
[null,{"$f":"$U$36&$J$9&$T$37","v":"H9300車道、夜間施工"},{"$f":"$J$37","v":343.91818181818184}]
[null,{"$f":"$U$36&$K$9&$T$37","v":"H9350車道、夜間施工"},{"$f":"$K$37","v":388.52272727272725}]
[null,{"$f":"$U$36&$L$9&$T$37","v":"H9400車道、夜間施工"},{"$f":"$L$37","v":433.12727272727273}]
[null,{"$f":"$U$36&$M$9&$T$37","v":"H9450車道、夜間施工"},{"$f":"$M$37","v":477.7318181818182}]
[null,{"$f":"$U$36&$N$9&$T$37","v":"H9500車道、夜間施工"},{"$f":"$N$37","v":522.33636363636356}]
[null,{"$f":"$U$36&$O$9&$T$37","v":"H9600車道、夜間施工"},{"$f":"$O$37","v":611.5454545454545}]
[null,{"$f":"$U$36&$P$9&$T$37","v":"H9700車道、夜間施工"},{"$f":"$P$37","v":700.75454545454545}]
[null,{"$f":"$U$36&$Q$9&$T$37","v":"H9800車道、夜間施工"},{"$f":"$Q$37","v":789.96363636363628}]
[null,{"$f":"$U$36&$R$9&$T$37","v":"H9900車道、夜間施工"},{"$f":"$R$37","v":879.17272727272712}]
[null,{"$f":"$U$36&$S$9&$T$37","v":"H91000車道、夜間施工"},{"$f":"$S$37","v":968.38181818181818}]
[null,{"$f":"$U$38&$C$9&$T$38","v":"Z950無舗装、昼間施工"},{"$f":"$C$38","v":39.346314487520957}]
[null,{"$f":"$U$38&$D$9&$T$38","v":"Z975無舗装、昼間施工"},{"$f":"$D$38","v":45.146028366695212}]
[null,{"$f":"$U$38&$E$9&$T$38","v":"Z9100無舗装、昼間施工"},{"$f":"$E$38","v":51.800629965809648}]
[null,{"$f":"$U$38&$F$9&$T$38","v":"Z9125無舗装、昼間施工"},{"$f":"$F$38","v":59.436131193198037}]
[null,{"$f":"$U$38&$G$9&$T$38","v":"Z9150無舗装、昼間施工"},{"$f":"$G$38","v":68.197118327455314}]
[null,{"$f":"$U$38&$H$9&$T$38","v":"Z9200無舗装、昼間施工"},{"$f":"$H$38","v":89.783598215671788}]
[null,{"$f":"$U$38&$I$9&$T$38","v":"Z9250無舗装、昼間施工"},{"$f":"$I$38","v":142.53879494865018}]
[null,{"$f":"$U$38&$J$9&$T$38","v":"Z9300無舗装、昼間施工"},{"$f":"$J$38","v":165.69638660667843}]
[null,{"$f":"$U$38&$K$9&$T$38","v":"Z9350無舗装、昼間施工"},{"$f":"$K$38","v":188.18759925887554}]
[null,{"$f":"$U$38&$L$9&$T$38","v":"Z9400無舗装、昼間施工"},{"$f":"$L$38","v":210.12365790435061}]
[null,{"$f":"$U$38&$M$9&$T$38","v":"Z9450無舗装、昼間施工"},{"$f":"$M$38","v":231.58562073155252}]
[null,{"$f":"$U$38&$N$9&$T$38","v":"Z9500無舗装、昼間施工"},{"$f":"$N$38","v":252.635019097742}]
[null,{"$f":"$U$38&$O$9&$T$38","v":"Z9600無舗装、昼間施工"},{"$f":"$O$38","v":293.67941415447928}]
[null,{"$f":"$U$38&$P$9&$T$38","v":"Z9700無舗装、昼間施工"},{"$f":"$P$38","v":333.54272252583337}]
[null,{"$f":"$U$38&$Q$9&$T$38","v":"Z9800無舗装、昼間施工"},{"$f":"$Q$38","v":372.42207882195731}]
[null,{"$f":"$U$38&$R$9&$T$38","v":"Z9900無舗装、昼間施工"},{"$f":"$R$38","v":410.46115015463198}]
[null,{"$f":"$U$38&$S$9&$T$38","v":"Z91000無舗装、昼間施工"},{"$f":"$S$38","v":447.76899438156022}]
[null,{"$f":"$U$38&$C$9&$T$39","v":"Z950歩道、昼間施工"},{"$f":"$C$39","v":60.572575793933858}]
[null,{"$f":"$U$38&$D$9&$T$39","v":"Z975歩道、昼間施工"},{"$f":"$D$39","v":73.50031185021669}]
[null,{"$f":"$U$38&$E$9&$T$39","v":"Z9100歩道、昼間施工"},{"$f":"$E$39","v":84.313565031152365}]
[null,{"$f":"$U$38&$F$9&$T$39","v":"Z9125歩道、昼間施工"},{"$f":"$F$39","v":93.784964892185613}]
[null,{"$f":"$U$38&$G$9&$T$39","v":"Z9150歩道、昼間施工"},{"$f":"$G$39","v":102.30823506788759}]
[null,{"$f":"$U$38&$H$9&$T$39","v":"Z9200歩道、昼間施工"},{"$f":"$H$39","v":117.35966574124575}]
[null,{"$f":"$U$38&$I$9&$T$39","v":"Z9250歩道、昼間施工"},{"$f":"$I$39","v":173.06090909090909}]
[null,{"$f":"$U$38&$J$9&$T$39","v":"Z9300歩道、昼間施工"},{"$f":"$J$39","v":193.45181818181823}]
[null,{"$f":"$U$38&$K$9&$T$39","v":"Z9350歩道、昼間施工"},{"$f":"$K$39","v":213.84272727272725}]
[null,{"$f":"$U$38&$L$9&$T$39","v":"Z9400歩道、昼間施工"},{"$f":"$L$39","v":234.23363636363635}]
[null,{"$f":"$U$38&$M$9&$T$39","v":"Z9450歩道、昼間施工"},{"$f":"$M$39","v":254.62454545454543}]
[null,{"$f":"$U$38&$N$9&$T$39","v":"Z9500歩道、昼間施工"},{"$f":"$N$39","v":275.01545454545453}]
[null,{"$f":"$U$38&$O$9&$T$39","v":"Z9600歩道、昼間施工"},{"$f":"$O$39","v":315.79727272727274}]
[null,{"$f":"$U$38&$P$9&$T$39","v":"Z9700歩道、昼間施工"},{"$f":"$P$39","v":356.57909090909089}]
[null,{"$f":"$U$38&$Q$9&$T$39","v":"Z9800歩道、昼間施工"},{"$f":"$Q$39","v":397.36090909090905}]
[null,{"$f":"$U$38&$R$9&$T$39","v":"Z9900歩道、昼間施工"},{"$f":"$R$39","v":438.14272727272726}]
[null,{"$f":"$U$38&$S$9&$T$39","v":"Z91000歩道、昼間施工"},{"$f":"$S$39","v":478.92454545454541}]
[null,{"$f":"$U$38&$C$9&$T$40","v":"Z950車道、昼間施工"},{"$f":"$C$40","v":67.772774768494273}]
[null,{"$f":"$U$38&$D$9&$T$40","v":"Z975車道、昼間施工"},{"$f":"$D$40","v":75.087985219946447}]
[null,{"$f":"$U$38&$E$9&$T$40","v":"Z9100車道、昼間施工"},{"$f":"$E$40","v":83.192779750430745}]
[null,{"$f":"$U$38&$F$9&$T$40","v":"Z9125車道、昼間施工"},{"$f":"$F$40","v":92.172383935068879}]
[null,{"$f":"$U$38&$G$9&$T$40","v":"Z9150車道、昼間施工"},{"$f":"$G$40","v":102.12122236761483}]
[null,{"$f":"$U$38&$H$9&$T$40","v":"Z9200車道、昼間施工"},{"$f":"$H$40","v":125.35636012092554}]
[null,{"$f":"$U$38&$I$9&$T$40","v":"Z9250車道、昼間施工"},{"$f":"$I$40","v":194.2081818181818}]
[null,{"$f":"$U$38&$J$9&$T$40","v":"Z9300車道、昼間施工"},{"$f":"$J$40","v":223.63090909090911}]
[null,{"$f":"$U$38&$K$9&$T$40","v":"Z9350車道、昼間施工"},{"$f":"$K$40","v":253.0536363636364}]
[null,{"$f":"$U$38&$L$9&$T$40","v":"Z9400車道、昼間施工"},{"$f":"$L$40","v":282.47636363636366}]
[null,{"$f":"$U$38&$M$9&$T$40","v":"Z9450車道、昼間施工"},{"$f":"$M$40","v":311.89909090909083}]
[null,{"$f":"$U$38&$N$9&$T$40","v":"Z9500車道、昼間施工"},{"$f":"$N$40","v":341.32181818181812}]
[null,{"$f":"$U$38&$O$9&$T$40","v":"Z9600車道、昼間施工"},{"$f":"$O$40","v":400.16727272727269}]
[null,{"$f":"$U$38&$P$9&$T$40","v":"Z9700車道、昼間施工"},{"$f":"$P$40","v":459.01272727272726}]
[null,{"$f":"$U$38&$Q$9&$T$40","v":"Z9800車道、昼間施工"},{"$f":"$Q$40","v":517.85818181818183}]
[null,{"$f":"$U$38&$R$9&$T$40","v":"Z9900車道、昼間施工"},{"$f":"$R$40","v":576.70363636363629}]
[null,{"$f":"$U$38&$S$9&$T$40","v":"Z91000車道、昼間施工"},{"$f":"$S$40","v":635.54909090909086}]
[null,{"$f":"$U$38&$C$9&$T$41","v":"Z950車道、夜間施工"},{"$f":"$C$41","v":67.270356293466378}]
[null,{"$f":"$U$38&$D$9&$T$41","v":"Z975車道、夜間施工"},{"$f":"$D$41","v":87.901746045476514}]
[null,{"$f":"$U$38&$E$9&$T$41","v":"Z9100車道、夜間施工"},{"$f":"$E$41","v":114.86065160909371}]
[null,{"$f":"$U$38&$F$9&$T$41","v":"Z9125車道、夜間施工"},{"$f":"$F$41","v":150.08768177642497}]
[null,{"$f":"$U$38&$G$9&$T$41","v":"Z9150車道、夜間施工"},{"$f":"$G$41","v":196.11861769412042}]
[null,{"$f":"$U$38&$H$9&$T$41","v":"Z9200車道、夜間施工"},{"$f":"$H$41","v":334.86238905515154}]
[null,{"$f":"$U$38&$I$9&$T$41","v":"Z9250車道、夜間施工"},{"$f":"$I$41","v":299.31363636363636}]
[null,{"$f":"$U$38&$J$9&$T$41","v":"Z9300車道、夜間施工"},{"$f":"$J$41","v":343.91818181818184}]
[null,{"$f":"$U$38&$K$9&$T$41","v":"Z9350車道、夜間施工"},{"$f":"$K$41","v":388.52272727272725}]
[null,{"$f":"$U$38&$L$9&$T$41","v":"Z9400車道、夜間施工"},{"$f":"$L$41","v":433.12727272727273}]
[null,{"$f":"$U$38&$M$9&$T$41","v":"Z9450車道、夜間施工"},{"$f":"$M$41","v":477.7318181818182}]
[null,{"$f":"$U$38&$N$9&$T$41","v":"Z9500車道、夜間施工"},{"$f":"$N$41","v":522.33636363636356}]
[null,{"$f":"$U$38&$O$9&$T$41","v":"Z9600車道、夜間施工"},{"$f":"$O$41","v":611.5454545454545}]
[null,{"$f":"$U$38&$P$9&$T$41","v":"Z9700車道、夜間施工"},{"$f":"$P$41","v":700.75454545454545}]
[null,{"$f":"$U$38&$Q$9&$T$41","v":"Z9800車道、夜間施工"},{"$f":"$Q$41","v":789.96363636363628}]
[null,{"$f":"$U$38&$R$9&$T$41","v":"Z9900車道、夜間施工"},{"$f":"$R$41","v":879.17272727272712}]
[null,{"$f":"$U$38&$S$9&$T$41","v":"Z91000車道、夜間施工"},{"$f":"$S$41","v":968.38181818181818}]