{"text_format":"1","workbook":"xlsx","n_sheets":11,"sheets":["□ＭＥＮＵ","基本情報_集計","入力","棄却前データ","抽出条件","全体データ","抽出データ","演算","データ_指標","データ_人数","改訂履歴"],"not_rendered":{"charts":0,"images":1,"macros":1,"external_links":0,"defined_names":30,"comments":1,"pivot_tables":0},"unopened":[],"bounds":{"document_bytes":16777216,"sheet_cells":100000,"rows_first":2000,"rows_last":500,"rows_between":2000,"halvings":0,"cell_chars":16384,"cell_head_chars":4096},"cells_cut":0,"cells_raw":0,"read":"whole","date_system":"1900"}

{"sheet":"□ＭＥＮＵ","index":0,"n_rows":10,"n_cols":6,"rows_kept":10,"cut":false,"hidden":false,"merged":[[9,5,9,27]]}
[]
[]
[]
[]
[]
[]
[]
[]
[]
[null,null,null,null,null,"安全アンケート集計システム"]

{"sheet":"基本情報_集計","index":1,"n_rows":31,"n_cols":41,"rows_kept":31,"cut":false,"hidden":false,"merged":[[8,27,8,30],[9,27,9,30]]}
["項目","値",null,"No.","自社階層","階層",null,"No.","属性２","属性３","属性４","属性５","属性６","属性７","属性８","属性９","属性１０",null,null,null,null,null,"項目","値",null,"棄却",null,null,null,null,null,null,{"$f":"IF(AG3=\"\",\"\",VLOOKUP(AG3,OFFSET(lst属性,0,0,,2),2,0))","v":{"$error":"#N/A"}},null,{"$f":"IF(AI3=\"\",\"\",VLOOKUP(AI3,OFFSET(lst属性,0,0,,2),2,0))","v":{"$error":"#N/A"}},{"$f":"IF(AJ3=\"\",\"\",VLOOKUP(AJ3,OFFSET(lst属性,0,0,,2),2,0))","v":1},null,null,"【属性 実績】",3,1]
["会社の正式名称",null,null,1,"経営者層",1,null,1,null,null,null,null,null,null,null,null,null,null,null,null,null,null,"設問数",58,null,"<>1",null,null,null,null,null,null,"単純集計",null,"クロス集計",null,null,null,"階層別",3]
["グラフに表示する\n会社名の表示",null,null,2,"管理職層",2,null,2,null,null,null,null,null,null,null,null,null,null,null,null,null,null,"棄却分母",40,null,null,null,null,null,null,null,null,"支店事業部",null,"支店事業部","自社階層"]
[null,null,null,3,"一般職層",3,null,3,null,null,null,null,null,null,null,null,null,null,null,null,null,null,"欠損値\n棄却範囲（を超える）",0.1]
[null,null,null,4,null,null,null,4,null,null,null,null,null,null,null,null,null,null,null,null,null,null,"回答の集中\n棄却範囲（を超える）",0.8]
[null,null,null,5,null,null,null,5]
[null,null,null,6,null,null,null,6,null,null,null,null,null,null,null,null,null,null,null,null,null,null,"欠損値10%以上（件）",2]
[null,null,null,7,null,null,null,7,null,null,null,null,null,null,null,null,null,null,null,null,null,null,"回答の集中80%以上（件）",1]
[null,null,null,8,null,null,null,8,null,null,null,null,null,null,null,null,null,null,null,null,null,null,"サンプル数　計",78,null,null,null,"経営者層、管理職層、現業職層の３層のみで集計する場合は、チェックマークを外してください。"]
[null,null,null,9,null,null,null,9,null,null,null,null,null,null,null,null,null,null,null,null,null,null,"有効とするサンプル数　計",75,null,null,null,"３層に合わせて自社の階層でも集計を行う場合は、チェックマークを入れてください。"]
[null,null,null,10,null,null,null,10,null,null,null,null,null,null,null,null,null,null,null,null,null,null,"無効とするサンプル数　計",{"$f":"件数サンプル数-件数有効数","v":3}]
[null,null,null,11,null,null,null,11,null,null,null,null,null,null,null,null,null,null,null,null,null,null,null,null,null,{"$f":"$E$1","v":"自社階層"},1]
[null,null,null,12,null,null,null,12,null,null,null,null,null,null,null,null,null,null,null,null,null,null,null,null,null,{"$f":"$F$1","v":"階層"},2]
[null,null,null,13,null,null,null,13,null,null,null,null,null,null,null,null,null,null,null,null,null,null,null,null,null,{"$f":"$I$1","v":"属性２"},3]
[null,null,null,14,null,null,null,14,null,null,null,null,null,null,null,null,null,null,null,null,null,null,null,null,null,{"$f":"$J$1","v":"属性３"},4]
[null,null,null,15,null,null,null,15,null,null,null,null,null,null,null,null,null,null,null,null,null,null,null,null,null,{"$f":"K1","v":"属性４"},5]
[null,null,null,16,null,null,null,16,null,null,null,null,null,null,null,null,null,null,null,null,null,null,null,null,null,{"$f":"L1","v":"属性５"},6]
[null,null,null,17,null,null,null,17,null,null,null,null,null,null,null,null,null,null,null,null,null,null,null,null,null,{"$f":"M1","v":"属性６"},7]
[null,null,null,18,null,null,null,18,null,null,null,null,null,null,null,null,null,null,null,null,null,null,null,null,null,{"$f":"N1","v":"属性７"},8]
[null,null,null,19,null,null,null,19,null,null,null,null,null,null,null,null,null,null,null,null,null,null,null,null,null,{"$f":"O1","v":"属性８"},9]
[null,null,null,20,null,null,null,20,null,null,null,null,null,null,null,null,null,null,null,null,null,null,null,null,null,{"$f":"P1","v":"属性９"},10]
[null,null,null,null,null,null,null,21,null,null,null,null,null,null,null,null,null,null,null,null,null,null,null,null,null,{"$f":"Q1","v":"属性１０"},11]
[null,null,null,null,null,null,null,22]
[null,null,null,null,null,null,null,23]
[null,null,null,null,null,null,null,24]
[null,null,null,null,null,null,null,25]
[null,null,null,null,null,null,null,26]
[null,null,null,null,null,null,null,27]
[null,null,null,null,null,null,null,28]
[null,null,null,null,null,null,null,29]
[null,null,null,null,null,null,null,30]

{"sheet":"入力","index":2,"n_rows":4999,"n_cols":69,"rows_kept":4999,"cut":false,"hidden":false,"merged":[]}
["No.",{"$f":"基本情報_集計!E1","v":"自社階層"},{"$f":"基本情報_集計!I1","v":"属性２"},{"$f":"基本情報_集計!J1","v":"属性３"},{"$f":"基本情報_集計!K1","v":"属性４"},{"$f":"基本情報_集計!L1","v":"属性５"},{"$f":"基本情報_集計!M1","v":"属性６"},{"$f":"基本情報_集計!N1","v":"属性７"},{"$f":"基本情報_集計!O1","v":"属性８"},{"$f":"基本情報_集計!P1","v":"属性９"},{"$f":"基本情報_集計!Q1","v":"属性１０"},"問1","問2","問3","問4","問5","問6","問7","問8","問9","問10","問11","問12","問13","問14","問15","問16","問17","問18","問19","問20","問21","問22","問23","問24","問25","問26","問27","問28","問29","問30","問31","問32","問33","問34","問35","問36","問37","問38","問39","問40","問41","問42","問43","問44","問45","問46","問47","問48","問49","問50","問51","問52","問53","問54","問55","問56","問57","問58"]
[1]
[{"$f":"IF(L3=\"\",\"\",A2+1)","v":""}]
[""]
[""]
[""]
[""]
[""]
[""]
[""]
[""]
[""]
[""]
[""]
[""]
[""]
[""]
[""]
[""]
[""]
[""]
[""]
[""]
[""]
[""]
[""]
[""]
[""]
[""]
[""]
[""]
[""]
[""]
[""]
[""]
[""]
[""]
[""]
[""]
[""]
[""]
[""]
[""]
[""]
[""]
[""]
[""]
[""]
[""]
[""]
[""]
[""]
[""]
[""]
[""]
[""]
[""]
[""]
[""]
[""]
[""]
[""]
[""]
[""]
[""]
[""]
[{"$f":"IF(L67=\"\",\"\",A66+1)","v":""}]
[""]
[""]
[""]
[""]
[""]
[""]
[""]
[""]
[""]
[""]
[""]
[""]
[""]
[""]
[""]
[""]
[""]
[""]
[""]
[""]
[""]
[""]
[""]
[""]
[""]
[""]
[""]
[""]
[""]
[""]
[""]
[""]
[""]
[""]
[""]
[""]
[""]
[""]
[""]
[""]
[""]
[""]
[""]
[""]
[""]
[""]
[""]
[""]
[""]
[""]
[""]
[""]
[""]
[""]
[""]
[""]
[""]
[""]
[""]
[""]
[""]
[""]
[""]
[{"$f":"IF(L131=\"\",\"\",A130+1)","v":""}]
[""]
[""]
[""]
[""]
[""]
[""]
[""]
[""]
[""]
[""]
[""]
[""]
[""]
[""]
[""]
[""]
[""]
[""]
[""]
[""]
[""]
[""]
[""]
[""]
[""]
[""]
[""]
[""]
[""]
[""]
[""]
[""]
[""]
[""]
[""]
[""]
[""]
[""]
[""]
[""]
[""]
[""]
[""]
[""]
[""]
[""]
[""]
[""]
[""]
[""]
[""]
[""]
[""]
[""]
[""]
[""]
[""]
[""]
[""]
[""]
[""]
[""]
[""]
[{"$f":"IF(L195=\"\",\"\",A194+1)","v":""}]
[""]
[""]
[""]
[""]
[""]
[""]
[""]
[""]
[""]
[""]
[""]
[""]
[""]
[""]
[""]
[""]
[""]
[""]
[""]
[""]
[""]
[""]
[""]
[""]
[""]
[""]
[""]
[""]
[""]
[""]
[""]
[""]
[""]
[""]
[""]
[""]
[""]
[""]
[""]
[""]
[""]
[""]
[""]
[""]
[""]
[""]
[""]
[""]
[""]
[""]
[""]
[""]
[""]
[""]
[""]
[""]
[""]
[""]
[""]
[""]
[""]
[""]
[""]
[{"$f":"IF(L259=\"\",\"\",A258+1)","v":""}]
[""]
[""]
[""]
[""]
[""]
[""]
[""]
[""]
[""]
[""]
[""]
[""]
[""]
[""]
[""]
[""]
[""]
[""]
[""]
[""]
[""]
[""]
[""]
[""]
[""]
[""]
[""]
[""]
[""]
[""]
[""]
[""]
[""]
[""]
[""]
[""]
[""]
[""]
[""]
[""]
[""]
[""]
[""]
[""]
[""]
[""]
[""]
[""]
[""]
[""]
[""]
[""]
[""]
[""]
[""]
[""]
[""]
[""]
[""]
[""]
[""]
[""]
[""]
[{"$f":"IF(L323=\"\",\"\",A322+1)","v":""}]
[""]
[""]
[""]
[""]
[""]
[""]
[""]
[""]
[""]
[""]
[""]
[""]
[""]
[""]
[""]
[""]
[""]
[""]
[""]
[""]
[""]
[""]
[""]
[""]
[""]
[""]
[""]
[""]
[""]
[""]
[""]
[""]
[""]
[""]
[""]
[""]
[""]
[""]
[""]
[""]
[""]
[""]
[""]
[""]
[""]
[""]
[""]
[""]
[""]
[""]
[""]
[""]
[""]
[""]
[""]
[""]
[""]
[""]
[""]
[""]
[""]
[""]
[""]
[{"$f":"IF(L387=\"\",\"\",A386+1)","v":""}]
[""]
[""]
[""]
[""]
[""]
[""]
[""]
[""]
[""]
[""]
[""]
[""]
[""]
[""]
[""]
[""]
[""]
[""]
[""]
[""]
[""]
[""]
[""]
[""]
[""]
[""]
[""]
[""]
[""]
[""]
[""]
[""]
[""]
[""]
[""]
[""]
[""]
[""]
[""]
[""]
[""]
[""]
[""]
[""]
[""]
[""]
[""]
[""]
[""]
[""]
[""]
[""]
[""]
[""]
[""]
[""]
[""]
[""]
[""]
[""]
[""]
[""]
[""]
[{"$f":"IF(L451=\"\",\"\",A450+1)","v":""}]
[""]
[""]
[""]
[""]
[""]
[""]
[""]
[""]
[""]
[""]
[""]
[""]
[""]
[""]
[""]
[""]
[""]
[""]
[""]
[""]
[""]
[""]
[""]
[""]
[""]
[""]
[""]
[""]
[""]
[""]
[""]
[""]
[""]
[""]
[""]
[""]
[""]
[""]
[""]
[""]
[""]
[""]
[""]
[""]
[""]
[""]
[""]
[""]
[""]
[""]
[""]
[""]
[""]
[""]
[""]
[""]
[""]
[""]
[""]
[""]
[""]
[""]
[""]
[{"$f":"IF(L515=\"\",\"\",A514+1)","v":""}]
[""]
[""]
[""]
[""]
[""]
[""]
[""]
[""]
[""]
[""]
[""]
[""]
[""]
[""]
[""]
[""]
[""]
[""]
[""]
[""]
[""]
[""]
[""]
[""]
[""]
[""]
[""]
[""]
[""]
[""]
[""]
[""]
[""]
[""]
[""]
[""]
[""]
[""]
[""]
[""]
[""]
[""]
[""]
[""]
[""]
[""]
[""]
[""]
[""]
[""]
[""]
[""]
[""]
[""]
[""]
[""]
[""]
[""]
[""]
[""]
[""]
[""]
[""]
[{"$f":"IF(L579=\"\",\"\",A578+1)","v":""}]
[""]
[""]
[""]
[""]
[""]
[""]
[""]
[""]
[""]
[""]
[""]
[""]
[""]
[""]
[""]
[""]
[""]
[""]
[""]
[""]
[""]
[""]
[""]
[""]
[""]
[""]
[""]
[""]
[""]
[""]
[""]
[""]
[""]
[""]
[""]
[""]
[""]
[""]
[""]
[""]
[""]
[""]
[""]
[""]
[""]
[""]
[""]
[""]
[""]
[""]
[""]
[""]
[""]
[""]
[""]
[""]
[""]
[""]
[""]
[""]
[""]
[""]
[""]
[{"$f":"IF(L643=\"\",\"\",A642+1)","v":""}]
[""]
[""]
[""]
[""]
[""]
[""]
[""]
[""]
[""]
[""]
[""]
[""]
[""]
[""]
[""]
[""]
[""]
[""]
[""]
[""]
[""]
[""]
[""]
[""]
[""]
[""]
[""]
[""]
[""]
[""]
[""]
[""]
[""]
[""]
[""]
[""]
[""]
[""]
[""]
[""]
[""]
[""]
[""]
[""]
[""]
[""]
[""]
[""]
[""]
[""]
[""]
[""]
[""]
[""]
[""]
[""]
[""]
[""]
[""]
[""]
[""]
[""]
[""]
[{"$f":"IF(L707=\"\",\"\",A706+1)","v":""}]
[""]
[""]
[""]
[""]
[""]
[""]
[""]
[""]
[""]
[""]
[""]
[""]
[""]
[""]
[""]
[""]
[""]
[""]
[""]
[""]
[""]
[""]
[""]
[""]
[""]
[""]
[""]
[""]
[""]
[""]
[""]
[""]
[""]
[""]
[""]
[""]
[""]
[""]
[""]
[""]
[""]
[""]
[""]
[""]
[""]
[""]
[""]
[""]
[""]
[""]
[""]
[""]
[""]
[""]
[""]
[""]
[""]
[""]
[""]
[""]
[""]
[""]
[""]
[{"$f":"IF(L771=\"\",\"\",A770+1)","v":""}]
[""]
[""]
[""]
[""]
[""]
[""]
[""]
[""]
[""]
[""]
[""]
[""]
[""]
[""]
[""]
[""]
[""]
[""]
[""]
[""]
[""]
[""]
[""]
[""]
[""]
[""]
[""]
[""]
[""]
[""]
[""]
[""]
[""]
[""]
[""]
[""]
[""]
[""]
[""]
[""]
[""]
[""]
[""]
[""]
[""]
[""]
[""]
[""]
[""]
[""]
[""]
[""]
[""]
[""]
[""]
[""]
[""]
[""]
[""]
[""]
[""]
[""]
[""]
[{"$f":"IF(L835=\"\",\"\",A834+1)","v":""}]
[""]
[""]
[""]
[""]
[""]
[""]
[""]
[""]
[""]
[""]
[""]
[""]
[""]
[""]
[""]
[""]
[""]
[""]
[""]
[""]
[""]
[""]
[""]
[""]
[""]
[""]
[""]
[""]
[""]
[""]
[""]
[""]
[""]
[""]
[""]
[""]
[""]
[""]
[""]
[""]
[""]
[""]
[""]
[""]
[""]
[""]
[""]
[""]
[""]
[""]
[""]
[""]
[""]
[""]
[""]
[""]
[""]
[""]
[""]
[""]
[""]
[""]
[""]
[{"$f":"IF(L899=\"\",\"\",A898+1)","v":""}]
[""]
[""]
[""]
[""]
[""]
[""]
[""]
[""]
[""]
[""]
[""]
[""]
[""]
[""]
[""]
[""]
[""]
[""]
[""]
[""]
[""]
[""]
[""]
[""]
[""]
[""]
[""]
[""]
[""]
[""]
[""]
[""]
[""]
[""]
[""]
[""]
[""]
[""]
[""]
[""]
[""]
[""]
[""]
[""]
[""]
[""]
[""]
[""]
[""]
[""]
[""]
[""]
[""]
[""]
[""]
[""]
[""]
[""]
[""]
[""]
[""]
[""]
[""]
[{"$f":"IF(L963=\"\",\"\",A962+1)","v":""}]
[""]
[""]
[""]
[""]
[""]
[""]
[""]
[""]
[""]
[""]
[""]
[""]
[""]
[""]
[""]
[""]
[""]
[""]
[""]
[""]
[""]
[""]
[""]
[""]
[""]
[""]
[""]
[""]
[""]
[""]
[""]
[""]
[""]
[""]
[""]
[""]
[""]
[""]
[""]
[""]
[""]
[""]
[""]
[""]
[""]
[""]
[""]
[""]
[""]
[""]
[""]
[""]
[""]
[""]
[""]
[""]
[""]
[""]
[""]
[""]
[""]
[""]
[""]
[{"$f":"IF(L1027=\"\",\"\",A1026+1)","v":""}]
[""]
[""]
[""]
[""]
[""]
[""]
[""]
[""]
[""]
[""]
[""]
[""]
[""]
[""]
[""]
[""]
[""]
[""]
[""]
[""]
[""]
[""]
[""]
[""]
[""]
[""]
[""]
[""]
[""]
[""]
[""]
[""]
[""]
[""]
[""]
[""]
[""]
[""]
[""]
[""]
[""]
[""]
[""]
[""]
[""]
[""]
[""]
[""]
[""]
[""]
[""]
[""]
[""]
[""]
[""]
[""]
[""]
[""]
[""]
[""]
[""]
[""]
[""]
[{"$f":"IF(L1091=\"\",\"\",A1090+1)","v":""}]
[""]
[""]
[""]
[""]
[""]
[""]
[""]
[""]
[""]
[""]
[""]
[""]
[""]
[""]
[""]
[""]
[""]
[""]
[""]
[""]
[""]
[""]
[""]
[""]
[""]
[""]
[""]
[""]
[""]
[""]
[""]
[""]
[""]
[""]
[""]
[""]
[""]
[""]
[""]
[""]
[""]
[""]
[""]
[""]
[""]
[""]
[""]
[""]
[""]
[""]
[""]
[""]
[""]
[""]
[""]
[""]
[""]
[""]
[""]
[""]
[""]
[""]
[""]
[{"$f":"IF(L1155=\"\",\"\",A1154+1)","v":""}]
[""]
[""]
[""]
[""]
[""]
[""]
[""]
[""]
[""]
[""]
[""]
[""]
[""]
[""]
[""]
[""]
[""]
[""]
[""]
[""]
[""]
[""]
[""]
[""]
[""]
[""]
[""]
[""]
[""]
[""]
[""]
[""]
[""]
[""]
[""]
[""]
[""]
[""]
[""]
[""]
[""]
[""]
[""]
[""]
[""]
[""]
[""]
[""]
[""]
[""]
[""]
[""]
[""]
[""]
[""]
[""]
[""]
[""]
[""]
[""]
[""]
[""]
[""]
[{"$f":"IF(L1219=\"\",\"\",A1218+1)","v":""}]
[""]
[""]
[""]
[""]
[""]
[""]
[""]
[""]
[""]
[""]
[""]
[""]
[""]
[""]
[""]
[""]
[""]
[""]
[""]
[""]
[""]
[""]
[""]
[""]
[""]
[""]
[""]
[""]
[""]
[""]
[""]
[""]
[""]
[""]
[""]
[""]
[""]
[""]
[""]
[""]
[""]
[""]
[""]
[""]
[""]
[""]
[""]
[""]
[""]
[""]
[""]
[""]
[""]
[""]
[""]
[""]
[""]
[""]
[""]
[""]
[""]
[""]
[""]
[{"$f":"IF(L1283=\"\",\"\",A1282+1)","v":""}]
[""]
[""]
[""]
[""]
[""]
[""]
[""]
[""]
[""]
[""]
[""]
[""]
[""]
[""]
[""]
[""]
[""]
[""]
[""]
[""]
[""]
[""]
[""]
[""]
[""]
[""]
[""]
[""]
[""]
[""]
[""]
[""]
[""]
[""]
[""]
[""]
[""]
[""]
[""]
[""]
[""]
[""]
[""]
[""]
[""]
[""]
[""]
[""]
[""]
[""]
[""]
[""]
[""]
[""]
[""]
[""]
[""]
[""]
[""]
[""]
[""]
[""]
[""]
[{"$f":"IF(L1347=\"\",\"\",A1346+1)","v":""}]
[""]
[""]
[""]
[""]
[""]
[""]
[""]
[""]
[""]
[""]
[""]
[""]
[""]
[""]
[""]
[""]
[""]
[""]
[""]
[""]
[""]
[""]
[""]
[""]
[""]
[""]
[""]
[""]
[""]
[""]
[""]
[""]
[""]
[""]
[""]
[""]
[""]
[""]
[""]
[""]
[""]
[""]
[""]
[""]
[""]
[""]
[""]
[""]
[""]
[""]
[""]
[""]
[""]
[""]
[""]
[""]
[""]
[""]
[""]
[""]
[""]
[""]
[""]
[{"$f":"IF(L1411=\"\",\"\",A1410+1)","v":""}]
[""]
[""]
[""]
[""]
[""]
[""]
[""]
[""]
[""]
[""]
[""]
[""]
[""]
[""]
[""]
[""]
[""]
[""]
[""]
[""]
[""]
[""]
[""]
[""]
[""]
[""]
[""]
[""]
[""]
[""]
[""]
[""]
[""]
[""]
[""]
[""]
[""]
[""]
[""]
[""]
[""]
[""]
[""]
[""]
[""]
[""]
[""]
[""]
[""]
[""]
[""]
[""]
[""]
[""]
[""]
[""]
[""]
[""]
[""]
[""]
[""]
[""]
[""]
[{"$f":"IF(L1475=\"\",\"\",A1474+1)","v":""}]
[""]
[""]
[""]
[""]
[""]
[""]
[""]
[""]
[""]
[""]
[""]
[""]
[""]
[""]
[""]
[""]
[""]
[""]
[""]
[""]
[""]
[""]
[""]
[""]
[""]
[""]
[""]
[""]
[""]
[""]
[""]
[""]
[""]
[""]
[""]
[""]
[""]
[""]
[""]
[""]
[""]
[""]
[""]
[""]
[""]
[""]
[""]
[""]
[""]
[""]
[""]
[""]
[""]
[""]
[""]
[""]
[""]
[""]
[""]
[""]
[""]
[""]
[""]
[{"$f":"IF(L1539=\"\",\"\",A1538+1)","v":""}]
[""]
[""]
[""]
[""]
[""]
[""]
[""]
[""]
[""]
[""]
[""]
[""]
[""]
[""]
[""]
[""]
[""]
[""]
[""]
[""]
[""]
[""]
[""]
[""]
[""]
[""]
[""]
[""]
[""]
[""]
[""]
[""]
[""]
[""]
[""]
[""]
[""]
[""]
[""]
[""]
[""]
[""]
[""]
[""]
[""]
[""]
[""]
[""]
[""]
[""]
[""]
[""]
[""]
[""]
[""]
[""]
[""]
[""]
[""]
[""]
[""]
[""]
[""]
[{"$f":"IF(L1603=\"\",\"\",A1602+1)","v":""}]
[""]
[""]
[""]
[""]
[""]
[""]
[""]
[""]
[""]
[""]
[""]
[""]
[""]
[""]
[""]
[""]
[""]
[""]
[""]
[""]
[""]
[""]
[""]
[""]
[""]
[""]
[""]
[""]
[""]
[""]
[""]
[""]
[""]
[""]
[""]
[""]
[""]
[""]
[""]
[""]
[""]
[""]
[""]
[""]
[""]
[""]
[""]
[""]
[""]
[""]
[""]
[""]
[""]
[""]
[""]
[""]
[""]
[""]
[""]
[""]
[""]
[""]
[""]
[{"$f":"IF(L1667=\"\",\"\",A1666+1)","v":""}]
[""]
[""]
[""]
[""]
[""]
[""]
[""]
[""]
[""]
[""]
[""]
[""]
[""]
[""]
[""]
[""]
[""]
[""]
[""]
[""]
[""]
[""]
[""]
[""]
[""]
[""]
[""]
[""]
[""]
[""]
[""]
[""]
[""]
[""]
[""]
[""]
[""]
[""]
[""]
[""]
[""]
[""]
[""]
[""]
[""]
[""]
[""]
[""]
[""]
[""]
[""]
[""]
[""]
[""]
[""]
[""]
[""]
[""]
[""]
[""]
[""]
[""]
[""]
[{"$f":"IF(L1731=\"\",\"\",A1730+1)","v":""}]
[""]
[""]
[""]
[""]
[""]
[""]
[""]
[""]
[""]
[""]
[""]
[""]
[""]
[""]
[""]
[""]
[""]
[""]
[""]
[""]
[""]
[""]
[""]
[""]
[""]
[""]
[""]
[""]
[""]
[""]
[""]
[""]
[""]
[""]
[""]
[""]
[""]
[""]
[""]
[""]
[""]
[""]
[""]
[""]
[""]
[""]
[""]
[""]
[""]
[""]
[""]
[""]
[""]
[""]
[""]
[""]
[""]
[""]
[""]
[""]
[""]
[""]
[""]
[{"$f":"IF(L1795=\"\",\"\",A1794+1)","v":""}]
[""]
[""]
[""]
[""]
[""]
[""]
[""]
[""]
[""]
[""]
[""]
[""]
[""]
[""]
[""]
[""]
[""]
[""]
[""]
[""]
[""]
[""]
[""]
[""]
[""]
[""]
[""]
[""]
[""]
[""]
[""]
[""]
[""]
[""]
[""]
[""]
[""]
[""]
[""]
[""]
[""]
[""]
[""]
[""]
[""]
[""]
[""]
[""]
[""]
[""]
[""]
[""]
[""]
[""]
[""]
[""]
[""]
[""]
[""]
[""]
[""]
[""]
[""]
[{"$f":"IF(L1859=\"\",\"\",A1858+1)","v":""}]
[""]
[""]
[""]
[""]
[""]
[""]
[""]
[""]
[""]
[""]
[""]
[""]
[""]
[""]
[""]
[""]
[""]
[""]
[""]
[""]
[""]
[""]
[""]
[""]
[""]
[""]
[""]
[""]
[""]
[""]
[""]
[""]
[""]
[""]
[""]
[""]
[""]
[""]
[""]
[""]
[""]
[""]
[""]
[""]
[""]
[""]
[""]
[""]
[""]
[""]
[""]
[""]
[""]
[""]
[""]
[""]
[""]
[""]
[""]
[""]
[""]
[""]
[""]
[{"$f":"IF(L1923=\"\",\"\",A1922+1)","v":""}]
[""]
[""]
[""]
[""]
[""]
[""]
[""]
[""]
[""]
[""]
[""]
[""]
[""]
[""]
[""]
[""]
[""]
[""]
[""]
[""]
[""]
[""]
[""]
[""]
[""]
[""]
[""]
[""]
[""]
[""]
[""]
[""]
[""]
[""]
[""]
[""]
[""]
[""]
[""]
[""]
[""]
[""]
[""]
[""]
[""]
[""]
[""]
[""]
[""]
[""]
[""]
[""]
[""]
[""]
[""]
[""]
[""]
[""]
[""]
[""]
[""]
[""]
[""]
[{"$f":"IF(L1987=\"\",\"\",A1986+1)","v":""}]
[""]
[""]
[""]
[""]
[""]
[""]
[""]
[""]
[""]
[""]
[""]
[""]
[""]
[{"$f":"IF(L2001=\"\",\"\",A2000+1)","v":""}]
[""]
[""]
[""]
[""]
[""]
[""]
[""]
[""]
[""]
[""]
[""]
[""]
[""]
[""]
[""]
[""]
[""]
[""]
[""]
[""]
[""]
[""]
[""]
[""]
[""]
[""]
[""]
[""]
[""]
[""]
[""]
[""]
[""]
[""]
[""]
[""]
[""]
[""]
[""]
[""]
[""]
[""]
[""]
[""]
[""]
[""]
[""]
[""]
[""]
[""]
[""]
[""]
[""]
[""]
[""]
[""]
[""]
[""]
[""]
[""]
[""]
[""]
[""]
[{"$f":"IF(L2065=\"\",\"\",A2064+1)","v":""}]
[""]
[""]
[""]
[""]
[""]
[""]
[""]
[""]
[""]
[""]
[""]
[""]
[""]
[""]
[""]
[""]
[""]
[""]
[""]
[""]
[""]
[""]
[""]
[""]
[""]
[""]
[""]
[""]
[""]
[""]
[""]
[""]
[""]
[""]
[""]
[""]
[""]
[""]
[""]
[""]
[""]
[""]
[""]
[""]
[""]
[""]
[""]
[""]
[""]
[""]
[""]
[""]
[""]
[""]
[""]
[""]
[""]
[""]
[""]
[""]
[""]
[""]
[""]
[{"$f":"IF(L2129=\"\",\"\",A2128+1)","v":""}]
[""]
[""]
[""]
[""]
[""]
[""]
[""]
[""]
[""]
[""]
[""]
[""]
[""]
[""]
[""]
[""]
[""]
[""]
[""]
[""]
[""]
[""]
[""]
[""]
[""]
[""]
[""]
[""]
[""]
[""]
[""]
[""]
[""]
[""]
[""]
[""]
[""]
[""]
[""]
[""]
[""]
[""]
[""]
[""]
[""]
[""]
[""]
[""]
[""]
[""]
[""]
[""]
[""]
[""]
[""]
[""]
[""]
[""]
[""]
[""]
[""]
[""]
[""]
[{"$f":"IF(L2193=\"\",\"\",A2192+1)","v":""}]
[""]
[""]
[""]
[""]
[""]
[""]
[""]
[""]
[""]
[""]
[""]
[""]
[""]
[""]
[""]
[""]
[""]
[""]
[""]
[""]
[""]
[""]
[""]
[""]
[""]
[""]
[""]
[""]
[""]
[""]
[""]
[""]
[""]
[""]
[""]
[""]
[""]
[""]
[""]
[""]
[""]
[""]
[""]
[""]
[""]
[""]
[""]
[""]
[""]
[""]
[""]
[""]
[""]
[""]
[""]
[""]
[""]
[""]
[""]
[""]
[""]
[""]
[""]
[{"$f":"IF(L2257=\"\",\"\",A2256+1)","v":""}]
[""]
[""]
[""]
[""]
[""]
[""]
[""]
[""]
[""]
[""]
[""]
[""]
[""]
[""]
[""]
[""]
[""]
[""]
[""]
[""]
[""]
[""]
[""]
[""]
[""]
[""]
[""]
[""]
[""]
[""]
[""]
[""]
[""]
[""]
[""]
[""]
[""]
[""]
[""]
[""]
[""]
[""]
[""]
[""]
[""]
[""]
[""]
[""]
[""]
[""]
[""]
[""]
[""]
[""]
[""]
[""]
[""]
[""]
[""]
[""]
[""]
[""]
[""]
[{"$f":"IF(L2321=\"\",\"\",A2320+1)","v":""}]
[""]
[""]
[""]
[""]
[""]
[""]
[""]
[""]
[""]
[""]
[""]
[""]
[""]
[""]
[""]
[""]
[""]
[""]
[""]
[""]
[""]
[""]
[""]
[""]
[""]
[""]
[""]
[""]
[""]
[""]
[""]
[""]
[""]
[""]
[""]
[""]
[""]
[""]
[""]
[""]
[""]
[""]
[""]
[""]
[""]
[""]
[""]
[""]
[""]
[""]
[""]
[""]
[""]
[""]
[""]
[""]
[""]
[""]
[""]
[""]
[""]
[""]
[""]
[{"$f":"IF(L2385=\"\",\"\",A2384+1)","v":""}]
[""]
[""]
[""]
[""]
[""]
[""]
[""]
[""]
[""]
[""]
[""]
[""]
[""]
[""]
[""]
[""]
[""]
[""]
[""]
[""]
[""]
[""]
[""]
[""]
[""]
[""]
[""]
[""]
[""]
[""]
[""]
[""]
[""]
[""]
[""]
[""]
[""]
[""]
[""]
[""]
[""]
[""]
[""]
[""]
[""]
[""]
[""]
[""]
[""]
[""]
[""]
[""]
[""]
[""]
[""]
[""]
[""]
[""]
[""]
[""]
[""]
[""]
[""]
[{"$f":"IF(L2449=\"\",\"\",A2448+1)","v":""}]
[""]
[""]
[""]
[""]
[""]
[""]
[""]
[""]
[""]
[""]
[""]
[""]
[""]
[""]
[""]
[""]
[""]
[""]
[""]
[""]
[""]
[""]
[""]
[""]
[""]
[""]
[""]
[""]
[""]
[""]
[""]
[""]
[""]
[""]
[""]
[""]
[""]
[""]
[""]
[""]
[""]
[""]
[""]
[""]
[""]
[""]
[""]
[""]
[""]
[""]
[""]
[""]
[""]
[""]
[""]
[""]
[""]
[""]
[""]
[""]
[""]
[""]
[""]
[{"$f":"IF(L2513=\"\",\"\",A2512+1)","v":""}]
[""]
[""]
[""]
[""]
[""]
[""]
[""]
[""]
[""]
[""]
[""]
[""]
[""]
[""]
[""]
[""]
[""]
[""]
[""]
[""]
[""]
[""]
[""]
[""]
[""]
[""]
[""]
[""]
[""]
[""]
[""]
[""]
[""]
[""]
[""]
[""]
[""]
[""]
[""]
[""]
[""]
[""]
[""]
[""]
[""]
[""]
[""]
[""]
[""]
[""]
[""]
[""]
[""]
[""]
[""]
[""]
[""]
[""]
[""]
[""]
[""]
[""]
[""]
[{"$f":"IF(L2577=\"\",\"\",A2576+1)","v":""}]
[""]
[""]
[""]
[""]
[""]
[""]
[""]
[""]
[""]
[""]
[""]
[""]
[""]
[""]
[""]
[""]
[""]
[""]
[""]
[""]
[""]
[""]
[""]
[""]
[""]
[""]
[""]
[""]
[""]
[""]
[""]
[""]
[""]
[""]
[""]
[""]
[""]
[""]
[""]
[""]
[""]
[""]
[""]
[""]
[""]
[""]
[""]
[""]
[""]
[""]
[""]
[""]
[""]
[""]
[""]
[""]
[""]
[""]
[""]
[""]
[""]
[""]
[""]
[{"$f":"IF(L2641=\"\",\"\",A2640+1)","v":""}]
[""]
[""]
[""]
[""]
[""]
[""]
[""]
[""]
[""]
[""]
[""]
[""]
[""]
[""]
[""]
[""]
[""]
[""]
[""]
[""]
[""]
[""]
[""]
[""]
[""]
[""]
[""]
[""]
[""]
[""]
[""]
[""]
[""]
[""]
[""]
[""]
[""]
[""]
[""]
[""]
[""]
[""]
[""]
[""]
[""]
[""]
[""]
[""]
[""]
[""]
[""]
[""]
[""]
[""]
[""]
[""]
[""]
[""]
[""]
[""]
[""]
[""]
[""]
[{"$f":"IF(L2705=\"\",\"\",A2704+1)","v":""}]
[""]
[""]
[""]
[""]
[""]
[""]
[""]
[""]
[""]
[""]
[""]
[""]
[""]
[""]
[""]
[""]
[""]
[""]
[""]
[""]
[""]
[""]
[""]
[""]
[""]
[""]
[""]
[""]
[""]
[""]
[""]
[""]
[""]
[""]
[""]
[""]
[""]
[""]
[""]
[""]
[""]
[""]
[""]
[""]
[""]
[""]
[""]
[""]
[""]
[""]
[""]
[""]
[""]
[""]
[""]
[""]
[""]
[""]
[""]
[""]
[""]
[""]
[""]
[{"$f":"IF(L2769=\"\",\"\",A2768+1)","v":""}]
[""]
[""]
[""]
[""]
[""]
[""]
[""]
[""]
[""]
[""]
[""]
[""]
[""]
[""]
[""]
[""]
[""]
[""]
[""]
[""]
[""]
[""]
[""]
[""]
[""]
[""]
[""]
[""]
[""]
[""]
[""]
[""]
[""]
[""]
[""]
[""]
[""]
[""]
[""]
[""]
[""]
[""]
[""]
[""]
[""]
[""]
[""]
[""]
[""]
[""]
[""]
[""]
[""]
[""]
[""]
[""]
[""]
[""]
[""]
[""]
[""]
[""]
[""]
[{"$f":"IF(L2833=\"\",\"\",A2832+1)","v":""}]
[""]
[""]
[""]
[""]
[""]
[""]
[""]
[""]
[""]
[""]
[""]
[""]
[""]
[""]
[""]
[""]
[""]
[""]
[""]
[""]
[""]
[""]
[""]
[""]
[""]
[""]
[""]
[""]
[""]
[""]
[""]
[""]
[""]
[""]
[""]
[""]
[""]
[""]
[""]
[""]
[""]
[""]
[""]
[""]
[""]
[""]
[""]
[""]
[""]
[""]
[""]
[""]
[""]
[""]
[""]
[""]
[""]
[""]
[""]
[""]
[""]
[""]
[""]
[{"$f":"IF(L2897=\"\",\"\",A2896+1)","v":""}]
[""]
[""]
[""]
[""]
[""]
[""]
[""]
[""]
[""]
[""]
[""]
[""]
[""]
[""]
[""]
[""]
[""]
[""]
[""]
[""]
[""]
[""]
[""]
[""]
[""]
[""]
[""]
[""]
[""]
[""]
[""]
[""]
[""]
[""]
[""]
[""]
[""]
[""]
[""]
[""]
[""]
[""]
[""]
[""]
[""]
[""]
[""]
[""]
[""]
[""]
[""]
[""]
[""]
[""]
[""]
[""]
[""]
[""]
[""]
[""]
[""]
[""]
[""]
[{"$f":"IF(L2961=\"\",\"\",A2960+1)","v":""}]
[""]
[""]
[""]
[""]
[""]
[""]
[""]
[""]
[""]
[""]
[""]
[""]
[""]
[""]
[""]
[""]
[""]
[""]
[""]
[""]
[""]
[""]
[""]
[""]
[""]
[""]
[""]
[""]
[""]
[""]
[""]
[""]
[""]
[""]
[""]
[""]
[""]
[""]
[""]
[""]
[""]
[""]
[""]
[""]
[""]
[""]
[""]
[""]
[""]
[""]
[""]
[""]
[""]
[""]
[""]
[""]
[""]
[""]
[""]
[""]
[""]
[""]
[""]
[{"$f":"IF(L3025=\"\",\"\",A3024+1)","v":""}]
[""]
[""]
[""]
[""]
[""]
[""]
[""]
[""]
[""]
[""]
[""]
[""]
[""]
[""]
[""]
[""]
[""]
[""]
[""]
[""]
[""]
[""]
[""]
[""]
[""]
[""]
[""]
[""]
[""]
[""]
[""]
[""]
[""]
[""]
[""]
[""]
[""]
[""]
[""]
[""]
[""]
[""]
[""]
[""]
[""]
[""]
[""]
[""]
[""]
[""]
[""]
[""]
[""]
[""]
[""]
[""]
[""]
[""]
[""]
[""]
[""]
[""]
[""]
[{"$f":"IF(L3089=\"\",\"\",A3088+1)","v":""}]
[""]
[""]
[""]
[""]
[""]
[""]
[""]
[""]
[""]
[""]
[""]
[""]
[""]
[""]
[""]
[""]
[""]
[""]
[""]
[""]
[""]
[""]
[""]
[""]
[""]
[""]
[""]
[""]
[""]
[""]
[""]
[""]
[""]
[""]
[""]
[""]
[""]
[""]
[""]
[""]
[""]
[""]
[""]
[""]
[""]
[""]
[""]
[""]
[""]
[""]
[""]
[""]
[""]
[""]
[""]
[""]
[""]
[""]
[""]
[""]
[""]
[""]
[""]
[{"$f":"IF(L3153=\"\",\"\",A3152+1)","v":""}]
[""]
[""]
[""]
[""]
[""]
[""]
[""]
[""]
[""]
[""]
[""]
[""]
[""]
[""]
[""]
[""]
[""]
[""]
[""]
[""]
[""]
[""]
[""]
[""]
[""]
[""]
[""]
[""]
[""]
[""]
[""]
[""]
[""]
[""]
[""]
[""]
[""]
[""]
[""]
[""]
[""]
[""]
[""]
[""]
[""]
[""]
[""]
[""]
[""]
[""]
[""]
[""]
[""]
[""]
[""]
[""]
[""]
[""]
[""]
[""]
[""]
[""]
[""]
[{"$f":"IF(L3217=\"\",\"\",A3216+1)","v":""}]
[""]
[""]
[""]
[""]
[""]
[""]
[""]
[""]
[""]
[""]
[""]
[""]
[""]
[""]
[""]
[""]
[""]
[""]
[""]
[""]
[""]
[""]
[""]
[""]
[""]
[""]
[""]
[""]
[""]
[""]
[""]
[""]
[""]
[""]
[""]
[""]
[""]
[""]
[""]
[""]
[""]
[""]
[""]
[""]
[""]
[""]
[""]
[""]
[""]
[""]
[""]
[""]
[""]
[""]
[""]
[""]
[""]
[""]
[""]
[""]
[""]
[""]
[""]
[{"$f":"IF(L3281=\"\",\"\",A3280+1)","v":""}]
[""]
[""]
[""]
[""]
[""]
[""]
[""]
[""]
[""]
[""]
[""]
[""]
[""]
[""]
[""]
[""]
[""]
[""]
[""]
[""]
[""]
[""]
[""]
[""]
[""]
[""]
[""]
[""]
[""]
[""]
[""]
[""]
[""]
[""]
[""]
[""]
[""]
[""]
[""]
[""]
[""]
[""]
[""]
[""]
[""]
[""]
[""]
[""]
[""]
[""]
[""]
[""]
[""]
[""]
[""]
[""]
[""]
[""]
[""]
[""]
[""]
[""]
[""]
[{"$f":"IF(L3345=\"\",\"\",A3344+1)","v":""}]
[""]
[""]
[""]
[""]
[""]
[""]
[""]
[""]
[""]
[""]
[""]
[""]
[""]
[""]
[""]
[""]
[""]
[""]
[""]
[""]
[""]
[""]
[""]
[""]
[""]
[""]
[""]
[""]
[""]
[""]
[""]
[""]
[""]
[""]
[""]
[""]
[""]
[""]
[""]
[""]
[""]
[""]
[""]
[""]
[""]
[""]
[""]
[""]
[""]
[""]
[""]
[""]
[""]
[""]
[""]
[""]
[""]
[""]
[""]
[""]
[""]
[""]
[""]
[{"$f":"IF(L3409=\"\",\"\",A3408+1)","v":""}]
[""]
[""]
[""]
[""]
[""]
[""]
[""]
[""]
[""]
[""]
[""]
[""]
[""]
[""]
[""]
[""]
[""]
[""]
[""]
[""]
[""]
[""]
[""]
[""]
[""]
[""]
[""]
[""]
[""]
[""]
[""]
[""]
[""]
[""]
[""]
[""]
[""]
[""]
[""]
[""]
[""]
[""]
[""]
[""]
[""]
[""]
[""]
[""]
[""]
[""]
[""]
[""]
[""]
[""]
[""]
[""]
[""]
[""]
[""]
[""]
[""]
[""]
[""]
[{"$f":"IF(L3473=\"\",\"\",A3472+1)","v":""}]
[""]
[""]
[""]
[""]
[""]
[""]
[""]
[""]
[""]
[""]
[""]
[""]
[""]
[""]
[""]
[""]
[""]
[""]
[""]
[""]
[""]
[""]
[""]
[""]
[""]
[""]
[""]
[""]
[""]
[""]
[""]
[""]
[""]
[""]
[""]
[""]
[""]
[""]
[""]
[""]
[""]
[""]
[""]
[""]
[""]
[""]
[""]
[""]
[""]
[""]
[""]
[""]
[""]
[""]
[""]
[""]
[""]
[""]
[""]
[""]
[""]
[""]
[""]
[{"$f":"IF(L3537=\"\",\"\",A3536+1)","v":""}]
[""]
[""]
[""]
[""]
[""]
[""]
[""]
[""]
[""]
[""]
[""]
[""]
[""]
[""]
[""]
[""]
[""]
[""]
[""]
[""]
[""]
[""]
[""]
[""]
[""]
[""]
[""]
[""]
[""]
[""]
[""]
[""]
[""]
[""]
[""]
[""]
[""]
[""]
[""]
[""]
[""]
[""]
[""]
[""]
[""]
[""]
[""]
[""]
[""]
[""]
[""]
[""]
[""]
[""]
[""]
[""]
[""]
[""]
[""]
[""]
[""]
[""]
[""]
[{"$f":"IF(L3601=\"\",\"\",A3600+1)","v":""}]
[""]
[""]
[""]
[""]
[""]
[""]
[""]
[""]
[""]
[""]
[""]
[""]
[""]
[""]
[""]
[""]
[""]
[""]
[""]
[""]
[""]
[""]
[""]
[""]
[""]
[""]
[""]
[""]
[""]
[""]
[""]
[""]
[""]
[""]
[""]
[""]
[""]
[""]
[""]
[""]
[""]
[""]
[""]
[""]
[""]
[""]
[""]
[""]
[""]
[""]
[""]
[""]
[""]
[""]
[""]
[""]
[""]
[""]
[""]
[""]
[""]
[""]
[""]
[{"$f":"IF(L3665=\"\",\"\",A3664+1)","v":""}]
[""]
[""]
[""]
[""]
[""]
[""]
[""]
[""]
[""]
[""]
[""]
[""]
[""]
[""]
[""]
[""]
[""]
[""]
[""]
[""]
[""]
[""]
[""]
[""]
[""]
[""]
[""]
[""]
[""]
[""]
[""]
[""]
[""]
[""]
[""]
[""]
[""]
[""]
[""]
[""]
[""]
[""]
[""]
[""]
[""]
[""]
[""]
[""]
[""]
[""]
[""]
[""]
[""]
[""]
[""]
[""]
[""]
[""]
[""]
[""]
[""]
[""]
[""]
[{"$f":"IF(L3729=\"\",\"\",A3728+1)","v":""}]
[""]
[""]
[""]
[""]
[""]
[""]
[""]
[""]
[""]
[""]
[""]
[""]
[""]
[""]
[""]
[""]
[""]
[""]
[""]
[""]
[""]
[""]
[""]
[""]
[""]
[""]
[""]
[""]
[""]
[""]
[""]
[""]
[""]
[""]
[""]
[""]
[""]
[""]
[""]
[""]
[""]
[""]
[""]
[""]
[""]
[""]
[""]
[""]
[""]
[""]
[""]
[""]
[""]
[""]
[""]
[""]
[""]
[""]
[""]
[""]
[""]
[""]
[""]
[{"$f":"IF(L3793=\"\",\"\",A3792+1)","v":""}]
[""]
[""]
[""]
[""]
[""]
[""]
[""]
[""]
[""]
[""]
[""]
[""]
[""]
[""]
[""]
[""]
[""]
[""]
[""]
[""]
[""]
[""]
[""]
[""]
[""]
[""]
[""]
[""]
[""]
[""]
[""]
[""]
[""]
[""]
[""]
[""]
[""]
[""]
[""]
[""]
[""]
[""]
[""]
[""]
[""]
[""]
[""]
[""]
[""]
[""]
[""]
[""]
[""]
[""]
[""]
[""]
[""]
[""]
[""]
[""]
[""]
[""]
[""]
[{"$f":"IF(L3857=\"\",\"\",A3856+1)","v":""}]
[""]
[""]
[""]
[""]
[""]
[""]
[""]
[""]
[""]
[""]
[""]
[""]
[""]
[""]
[""]
[""]
[""]
[""]
[""]
[""]
[""]
[""]
[""]
[""]
[""]
[""]
[""]
[""]
[""]
[""]
[""]
[""]
[""]
[""]
[""]
[""]
[""]
[""]
[""]
[""]
[""]
[""]
[""]
[""]
[""]
[""]
[""]
[""]
[""]
[""]
[""]
[""]
[""]
[""]
[""]
[""]
[""]
[""]
[""]
[""]
[""]
[""]
[""]
[{"$f":"IF(L3921=\"\",\"\",A3920+1)","v":""}]
[""]
[""]
[""]
[""]
[""]
[""]
[""]
[""]
[""]
[""]
[""]
[""]
[""]
[""]
[""]
[""]
[""]
[""]
[""]
[""]
[""]
[""]
[""]
[""]
[""]
[""]
[""]
[""]
[""]
[""]
[""]
[""]
[""]
[""]
[""]
[""]
[""]
[""]
[""]
[""]
[""]
[""]
[""]
[""]
[""]
[""]
[""]
[""]
[""]
[""]
[""]
[""]
[""]
[""]
[""]
[""]
[""]
[""]
[""]
[""]
[""]
[""]
[""]
[{"$f":"IF(L3985=\"\",\"\",A3984+1)","v":""}]
[""]
[""]
[""]
[""]
[""]
[""]
[""]
[""]
[""]
[""]
[""]
[""]
[""]
[""]
[""]
[""]
[""]
[""]
[""]
[""]
[""]
[""]
[""]
[""]
[""]
[""]
[""]
[""]
[""]
[""]
[""]
[""]
[""]
[""]
[""]
[""]
[""]
[""]
[""]
[""]
[""]
[""]
[""]
[""]
[""]
[""]
[""]
[""]
[""]
[""]
[""]
[""]
[""]
[""]
[""]
[""]
[""]
[""]
[""]
[""]
[""]
[""]
[""]
[{"$f":"IF(L4049=\"\",\"\",A4048+1)","v":""}]
[""]
[""]
[""]
[""]
[""]
[""]
[""]
[""]
[""]
[""]
[""]
[""]
[""]
[""]
[""]
[""]
[""]
[""]
[""]
[""]
[""]
[""]
[""]
[""]
[""]
[""]
[""]
[""]
[""]
[""]
[""]
[""]
[""]
[""]
[""]
[""]
[""]
[""]
[""]
[""]
[""]
[""]
[""]
[""]
[""]
[""]
[""]
[""]
[""]
[""]
[""]
[""]
[""]
[""]
[""]
[""]
[""]
[""]
[""]
[""]
[""]
[""]
[""]
[{"$f":"IF(L4113=\"\",\"\",A4112+1)","v":""}]
[""]
[""]
[""]
[""]
[""]
[""]
[""]
[""]
[""]
[""]
[""]
[""]
[""]
[""]
[""]
[""]
[""]
[""]
[""]
[""]
[""]
[""]
[""]
[""]
[""]
[""]
[""]
[""]
[""]
[""]
[""]
[""]
[""]
[""]
[""]
[""]
[""]
[""]
[""]
[""]
[""]
[""]
[""]
[""]
[""]
[""]
[""]
[""]
[""]
[""]
[""]
[""]
[""]
[""]
[""]
[""]
[""]
[""]
[""]
[""]
[""]
[""]
[""]
[{"$f":"IF(L4177=\"\",\"\",A4176+1)","v":""}]
[""]
[""]
[""]
[""]
[""]
[""]
[""]
[""]
[""]
[""]
[""]
[""]
[""]
[""]
[""]
[""]
[""]
[""]
[""]
[""]
[""]
[""]
[""]
[""]
[""]
[""]
[""]
[""]
[""]
[""]
[""]
[""]
[""]
[""]
[""]
[""]
[""]
[""]
[""]
[""]
[""]
[""]
[""]
[""]
[""]
[""]
[""]
[""]
[""]
[""]
[""]
[""]
[""]
[""]
[""]
[""]
[""]
[""]
[""]
[""]
[""]
[""]
[""]
[{"$f":"IF(L4241=\"\",\"\",A4240+1)","v":""}]
[""]
[""]
[""]
[""]
[""]
[""]
[""]
[""]
[""]
[""]
[""]
[""]
[""]
[""]
[""]
[""]
[""]
[""]
[""]
[""]
[""]
[""]
[""]
[""]
[""]
[""]
[""]
[""]
[""]
[""]
[""]
[""]
[""]
[""]
[""]
[""]
[""]
[""]
[""]
[""]
[""]
[""]
[""]
[""]
[""]
[""]
[""]
[""]
[""]
[""]
[""]
[""]
[""]
[""]
[""]
[""]
[""]
[""]
[""]
[""]
[""]
[""]
[""]
[{"$f":"IF(L4305=\"\",\"\",A4304+1)","v":""}]
[""]
[""]
[""]
[""]
[""]
[""]
[""]
[""]
[""]
[""]
[""]
[""]
[""]
[""]
[""]
[""]
[""]
[""]
[""]
[""]
[""]
[""]
[""]
[""]
[""]
[""]
[""]
[""]
[""]
[""]
[""]
[""]
[""]
[""]
[""]
[""]
[""]
[""]
[""]
[""]
[""]
[""]
[""]
[""]
[""]
[""]
[""]
[""]
[""]
[""]
[""]
[""]
[""]
[""]
[""]
[""]
[""]
[""]
[""]
[""]
[""]
[""]
[""]
[{"$f":"IF(L4369=\"\",\"\",A4368+1)","v":""}]
[""]
[""]
[""]
[""]
[""]
[""]
[""]
[""]
[""]
[""]
[""]
[""]
[""]
[""]
[""]
[""]
[""]
[""]
[""]
[""]
[""]
[""]
[""]
[""]
[""]
[""]
[""]
[""]
[""]
[""]
[""]
[""]
[""]
[""]
[""]
[""]
[""]
[""]
[""]
[""]
[""]
[""]
[""]
[""]
[""]
[""]
[""]
[""]
[""]
[""]
[""]
[""]
[""]
[""]
[""]
[""]
[""]
[""]
[""]
[""]
[""]
[""]
[""]
[{"$f":"IF(L4433=\"\",\"\",A4432+1)","v":""}]
[""]
[""]
[""]
[""]
[""]
[""]
[""]
[""]
[""]
[""]
[""]
[""]
[""]
[""]
[""]
[""]
[""]
[""]
[""]
[""]
[""]
[""]
[""]
[""]
[""]
[""]
[""]
[""]
[""]
[""]
[""]
[""]
[""]
[""]
[""]
[""]
[""]
[""]
[""]
[""]
[""]
[""]
[""]
[""]
[""]
[""]
[""]
[""]
[""]
[""]
[""]
[""]
[""]
[""]
[""]
[""]
[""]
[""]
[""]
[""]
[""]
[""]
[""]
[{"$f":"IF(L4497=\"\",\"\",A4496+1)","v":""}]
[""]
[""]
[""]
[""]
[""]
[""]
[""]
[""]
[""]
[""]
[""]
[""]
[""]
[""]
[""]
[""]
[""]
[""]
[""]
[""]
[""]
[""]
[""]
[""]
[""]
[""]
[""]
[""]
[""]
[""]
[""]
[""]
[""]
[""]
[""]
[""]
[""]
[""]
[""]
[""]
[""]
[""]
[""]
[""]
[""]
[""]
[""]
[""]
[""]
[""]
[""]
[""]
[""]
[""]
[""]
[""]
[""]
[""]
[""]
[""]
[""]
[""]
[""]
[{"$f":"IF(L4561=\"\",\"\",A4560+1)","v":""}]
[""]
[""]
[""]
[""]
[""]
[""]
[""]
[""]
[""]
[""]
[""]
[""]
[""]
[""]
[""]
[""]
[""]
[""]
[""]
[""]
[""]
[""]
[""]
[""]
[""]
[""]
[""]
[""]
[""]
[""]
[""]
[""]
[""]
[""]
[""]
[""]
[""]
[""]
[""]
[""]
[""]
[""]
[""]
[""]
[""]
[""]
[""]
[""]
[""]
[""]
[""]
[""]
[""]
[""]
[""]
[""]
[""]
[""]
[""]
[""]
[""]
[""]
[""]
[{"$f":"IF(L4625=\"\",\"\",A4624+1)","v":""}]
[""]
[""]
[""]
[""]
[""]
[""]
[""]
[""]
[""]
[""]
[""]
[""]
[""]
[""]
[""]
[""]
[""]
[""]
[""]
[""]
[""]
[""]
[""]
[""]
[""]
[""]
[""]
[""]
[""]
[""]
[""]
[""]
[""]
[""]
[""]
[""]
[""]
[""]
[""]
[""]
[""]
[""]
[""]
[""]
[""]
[""]
[""]
[""]
[""]
[""]
[""]
[""]
[""]
[""]
[""]
[""]
[""]
[""]
[""]
[""]
[""]
[""]
[""]
[{"$f":"IF(L4689=\"\",\"\",A4688+1)","v":""}]
[""]
[""]
[""]
[""]
[""]
[""]
[""]
[""]
[""]
[""]
[""]
[""]
[""]
[""]
[""]
[""]
[""]
[""]
[""]
[""]
[""]
[""]
[""]
[""]
[""]
[""]
[""]
[""]
[""]
[""]
[""]
[""]
[""]
[""]
[""]
[""]
[""]
[""]
[""]
[""]
[""]
[""]
[""]
[""]
[""]
[""]
[""]
[""]
[""]
[""]
[""]
[""]
[""]
[""]
[""]
[""]
[""]
[""]
[""]
[""]
[""]
[""]
[""]
[{"$f":"IF(L4753=\"\",\"\",A4752+1)","v":""}]
[""]
[""]
[""]
[""]
[""]
[""]
[""]
[""]
[""]
[""]
[""]
[""]
[""]
[""]
[""]
[""]
[""]
[""]
[""]
[""]
[""]
[""]
[""]
[""]
[""]
[""]
[""]
[""]
[""]
[""]
[""]
[""]
[""]
[""]
[""]
[""]
[""]
[""]
[""]
[""]
[""]
[""]
[""]
[""]
[""]
[""]
[""]
[""]
[""]
[""]
[""]
[""]
[""]
[""]
[""]
[""]
[""]
[""]
[""]
[""]
[""]
[""]
[""]
[{"$f":"IF(L4817=\"\",\"\",A4816+1)","v":""}]
[""]
[""]
[""]
[""]
[""]
[""]
[""]
[""]
[""]
[""]
[""]
[""]
[""]
[""]
[""]
[""]
[""]
[""]
[""]
[""]
[""]
[""]
[""]
[""]
[""]
[""]
[""]
[""]
[""]
[""]
[""]
[""]
[""]
[""]
[""]
[""]
[""]
[""]
[""]
[""]
[""]
[""]
[""]
[""]
[""]
[""]
[""]
[""]
[""]
[""]
[""]
[""]
[""]
[""]
[""]
[""]
[""]
[""]
[""]
[""]
[""]
[""]
[""]
[{"$f":"IF(L4881=\"\",\"\",A4880+1)","v":""}]
[""]
[""]
[""]
[""]
[""]
[""]
[""]
[""]
[""]
[""]
[""]
[""]
[""]
[""]
[""]
[""]
[""]
[""]
[""]
[""]
[""]
[""]
[""]
[""]
[""]
[""]
[""]
[""]
[""]
[""]
[""]
[""]
[""]
[""]
[""]
[""]
[""]
[""]
[""]
[""]
[""]
[""]
[""]
[""]
[""]
[""]
[""]
[""]
[""]
[""]
[""]
[""]
[""]
[""]
[""]
[""]
[""]
[""]
[""]
[""]
[""]
[""]
[""]
[{"$f":"IF(L4945=\"\",\"\",A4944+1)","v":""}]
[""]
[""]
[""]
[""]
[""]
[""]
[""]
[""]
[""]
[""]
[""]
[""]
[""]
[""]
[""]
[""]
[""]
[""]
[""]
[""]
[""]
[""]
[""]
[""]
[""]
[""]
[""]
[""]
[""]
[""]
[""]
[""]
[""]
[""]
[""]
[""]
[""]
[""]
[""]
[""]
[""]
[""]
[""]
[""]
[""]
[""]
[""]
[""]
[""]
[""]
[""]
[""]
[""]
[""]

{"sheet":"棄却前データ","index":3,"n_rows":79,"n_cols":161,"rows_kept":79,"cut":false,"hidden":false,"merged":[]}
["No.",{"$f":"基本情報_集計!$E$1","v":"自社階層"},{"$f":"基本情報_集計!$I$1","v":"属性２"},{"$f":"基本情報_集計!$J$1","v":"属性３"},{"$f":"基本情報_集計!$K$1","v":"属性４"},{"$f":"基本情報_集計!$L$1","v":"属性５"},{"$f":"基本情報_集計!$M$1","v":"属性６"},{"$f":"基本情報_集計!$N$1","v":"属性７"},{"$f":"基本情報_集計!$O$1","v":"属性８"},{"$f":"基本情報_集計!$P$1","v":"属性９"},{"$f":"基本情報_集計!$Q$1","v":"属性１０"},"問1","問2","問3","問4","問5","問6","問7","問8","問9","問10","問11","問12","問13","問14","問15","問16","問17","問18","問19","問20","問21","問22","問23","問24","問25","問26","問27","問28","問29","問30","問31","問32","問33","問34","問35","問36","問37","問38","問39","問40","問41","問42","問43","問44","問45","問46","問47","問48","問49","問50","問51","問52","問53","問54","問55","問56","問57","問58","階層","[999]","[1]","[2]","[3]","[4]","[5]","欠損値","回答集中","棄却",null,null,null,"No.",{"$f":"基本情報_集計!$E$1","v":"自社階層"},{"$f":"基本情報_集計!$I$1","v":"属性２"},{"$f":"基本情報_集計!$J$1","v":"属性３"},{"$f":"基本情報_集計!$K$1","v":"属性４"},{"$f":"基本情報_集計!$L$1","v":"属性５"},{"$f":"基本情報_集計!$M$1","v":"属性６"},{"$f":"基本情報_集計!$N$1","v":"属性７"},{"$f":"基本情報_集計!$O$1","v":"属性８"},{"$f":"基本情報_集計!$P$1","v":"属性９"},{"$f":"基本情報_集計!$Q$1","v":"属性１０"},"問1","問2","問3","問4","問5","問6","問7","問8","問9","問10","問11","問12","問13","問14","問15","問16","問17","問18","問19","問20","問21","問22","問23","問24","問25","問26","問27","問28","問29","問30","問31","問32","問33","問34","問35","問36","問37","問38","問39","問40","問41","問42","問43","問44","問45","問46","問47","問48","問49","問50","問51","問52","問53","問54","問55","問56","問57","問58","階層","[999]","[1]","[2]","[3]","[4]","[5]","欠損値","回答集中","棄却"]
[1,null,null,null,null,null,null,null,null,null,null,5,4,4,5,4,4,4,4,4,4,4,5,5,5,4,4,5,5,5,5,5,5,5,4,3,3,3,4,5,5,5,4,4,4,3,5,5,5,3,5,5,5,5,4,5,5,5,5,5,5,5,4,5,4,4,4,5,5,3,0,0,0,8.6206896551724144E-2,0.36206896551724138,0.55172413793103448,null,null,null,null,null,null,1,3,4,5,5,null,null,null,null,null,null,5,4,4,5,4,4,4,4,4,4,4,5,5,5,4,4,5,5,5,5,5,5,5,4,3,3,3,4,5,5,5,4,4,4,3,5,5,5,3,5,5,5,5,4,5,5,5,5,5,5,5,4,5,4,4,4,5,5,3,0,0,0,8.6206896551724144E-2,0.36206896551724138,0.55172413793103448]
[2,null,null,null,null,null,null,null,null,null,null,4,4,5,5,5,4,5,5,5,5,5,5,5,5,5,5,5,5,5,5,5,5,5,4,3,5,5,4,5,5,3,4,4,4,4,3,5,4,3,5,5,5,5,999,3,5,5,5,3,3,4,4,3,3,4,4,5,5,3,0,0,0,0.15517241379310345,0.2413793103448276,0.58620689655172409,null,null,null,null,null,null,2,3,8,6,5,null,null,null,null,null,null,4,4,5,5,5,4,5,5,5,5,5,5,5,5,5,5,5,5,5,5,5,5,5,4,3,5,5,4,5,5,3,4,4,4,4,3,5,4,3,5,5,5,5,"n",3,5,5,5,3,3,4,4,3,3,4,4,5,5,3,0,0,0,0.15517241379310345,0.2413793103448276,0.58620689655172409]
[3,null,null,null,null,null,null,null,null,null,null,3,2,3,3,4,3,1,4,2,5,5,5,4,4,3,5,5,4,5,4,5,5,2,3,4,4,3,4,3,3,3,4,4,3,4,5,5,4,3,1,5,4,5,2,3,2,3,3,1,4,2,4,2,1,1,1,1,3,3,0,0.1206896551724138,0.1206896551724138,0.27586206896551724,0.27586206896551724,0.20689655172413793,null,null,null,null,null,null,3,3,8,6,5,null,null,null,null,null,null,3,2,3,3,4,3,1,4,2,5,5,5,4,4,3,5,5,4,5,4,5,5,2,3,4,4,3,4,3,3,3,4,4,3,4,5,5,4,3,1,5,4,5,2,3,2,3,3,1,4,2,4,2,1,1,1,1,3,3,0,0.1206896551724138,0.1206896551724138,0.27586206896551724,0.27586206896551724,0.20689655172413793]
[4,null,null,null,null,null,null,null,null,null,null,4,3,4,4,5,2,3,4,2,2,5,3,3,4,3,5,2,2,4,4,2,4,3,1,2,4,3,4,3,5,3,3,5,4,5,3,4,5,4,2,2,2,4,3,5,4,4,5,2,2,1,1,3,2,1,2,1,3,3,0,8.6206896551724144E-2,0.2413793103448276,0.2413793103448276,0.27586206896551724,0.15517241379310345,null,null,null,null,null,null,4,3,8,3,2,null,null,null,null,null,null,4,3,4,4,5,2,3,4,2,2,5,3,3,4,3,5,2,2,4,4,2,4,3,1,2,4,3,4,3,5,3,3,5,4,5,3,4,5,4,2,2,2,4,3,5,4,4,5,2,2,1,1,3,2,1,2,1,3,3,0,8.6206896551724144E-2,0.2413793103448276,0.2413793103448276,0.27586206896551724,0.15517241379310345]
[5,null,null,null,null,null,null,null,null,null,null,5,4,4,4,4,5,5,5,5,5,5,5,5,5,5,5,5,5,5,5,5,5,5,1,1,5,3,5,3,5,3,4,4,4,4,4,5,4,4,999,5,5,5,5,5,5,5,5,999,999,999,999,4,4,5,3,5,5,1,0.1,3.4482758620689655E-2,0,6.8965517241379309E-2,0.22413793103448276,0.58620689655172409,1,null,1,null,null,null,6,1,1,1,5,null,null,null,null,null,null,4,4,4,4,4,4,3,4,3,3,3,3,3,3,3,4,4,3,4,4,4,4,4,4,4,4,3,4,5,4,3,5,4,4,4,3,4,4,4,3,4,4,4,4,4,4,3,4,3,4,4,4,4,4,4,4,4,4,1,0,0,0,0.25862068965517243,0.7068965517241379,3.4482758620689655E-2]
[6,null,null,null,null,null,null,null,null,null,null,4,4,4,4,4,4,3,4,3,3,3,3,3,3,3,4,4,3,4,4,4,4,4,4,4,4,3,4,5,4,3,5,4,4,4,3,4,4,4,3,4,4,4,4,4,4,3,4,3,4,4,4,4,4,4,4,4,4,1,0,0,0,0.25862068965517243,0.7068965517241379,3.4482758620689655E-2,null,null,null,null,null,null,7,3,2,3,2,null,null,null,null,null,null,3,3,3,2,3,2,2,2,1,1,1,1,2,3,3,3,3,2,2,2,2,3,3,3,3,3,3,4,4,3,2,2,3,3,2,3,4,5,3,1,3,2,2,1,2,2,2,2,1,1,1,1,2,1,1,1,1,1,3,0,0.25862068965517243,0.32758620689655171,0.34482758620689657,5.1724137931034482E-2,1.7241379310344827E-2]
[7,null,null,null,null,null,null,null,null,null,null,3,3,3,2,3,2,2,2,1,1,1,1,2,3,3,3,3,2,2,2,2,3,3,3,3,3,3,4,4,3,2,2,3,3,2,3,4,5,3,1,3,2,2,1,2,2,2,2,1,1,1,1,2,1,1,1,1,1,3,0,0.25862068965517243,0.32758620689655171,0.34482758620689657,5.1724137931034482E-2,1.7241379310344827E-2,null,null,null,null,null,null,8,3,2,3,5,null,null,null,null,null,null,2,3,3,2,3,2,2,4,3,2,2,2,2,4,3,3,3,2,4,3,2,4,3,3,2,4,3,4,1,4,3,3,5,3,4,3,4,3,3,2,2,4,3,2,3,2,4,2,2,3,2,2,2,2,2,2,2,2,3,0,1.7241379310344827E-2,0.43103448275862066,0.34482758620689657,0.18965517241379309,1.7241379310344827E-2]
[8,null,null,null,null,null,null,null,null,null,null,2,3,3,2,3,2,2,4,3,2,2,2,2,4,3,3,3,2,4,3,2,4,3,3,2,4,3,4,1,4,3,3,5,3,4,3,4,3,3,2,2,4,3,2,3,2,4,2,2,3,2,2,2,2,2,2,2,2,3,0,1.7241379310344827E-2,0.43103448275862066,0.34482758620689657,0.18965517241379309,1.7241379310344827E-2,null,null,null,null,null,null,9,3,2,6,5,null,null,null,null,null,null,5,5,5,5,5,5,5,5,5,5,5,4,5,5,5,5,5,4,4,4,4,5,5,5,4,5,2,4,4,3,5,5,5,5,5,4,4,4,4,4,5,5,5,5,5,5,5,5,5,5,5,5,5,5,5,5,5,5,3,0,0,1.7241379310344827E-2,1.7241379310344827E-2,0.22413793103448276,0.74137931034482762]
[9,null,null,null,null,null,null,null,null,null,null,5,5,5,5,5,5,5,5,5,5,5,4,5,5,5,5,5,4,4,4,4,5,5,5,4,5,2,4,4,3,5,5,5,5,5,4,4,4,4,4,5,5,5,5,5,5,5,5,5,5,5,5,5,5,5,5,5,5,3,0,0,1.7241379310344827E-2,1.7241379310344827E-2,0.22413793103448276,0.74137931034482762,null,null,null,null,null,null,10,3,2,3,5,null,null,null,null,null,null,2,2,3,3,3,2,1,3,1,4,3,2,2,4,2,3,2,3,3,3,3,2,3,2,1,5,5,4,4,4,3,5,4,4,3,5,4,4,3,1,4,4,3,1,3,4,3,3,2,3,2,3,3,1,2,2,2,2,3,0,0.10344827586206896,0.25862068965517243,0.36206896551724138,0.20689655172413793,6.8965517241379309E-2]
[10,null,null,null,null,null,null,null,null,null,null,2,2,3,3,3,2,1,3,1,4,3,2,2,4,2,3,2,3,3,3,3,2,3,2,1,5,5,4,4,4,3,5,4,4,3,5,4,4,3,1,4,4,3,1,3,4,3,3,2,3,2,3,3,1,2,2,2,2,3,0,0.10344827586206896,0.25862068965517243,0.36206896551724138,0.20689655172413793,6.8965517241379309E-2,null,null,null,null,null,null,11,3,2,3,5,null,null,null,null,null,null,1,2,2,2,3,1,1,3,2,2,4,5,5,4,4,4,4,1,5,5,5,4,1,1,1,4,3,4,2,1,1,4,1,1,2,3,3,2,4,3,3,1,3,1,1,3,3,3,3,4,3,3,2,3,3,3,3,3,3,0,0.2413793103448276,0.15517241379310345,0.32758620689655171,0.18965517241379309,8.6206896551724144E-2]
[11,null,null,null,null,null,null,null,null,null,null,1,2,2,2,3,1,1,3,2,2,4,5,5,4,4,4,4,1,5,5,5,4,1,1,1,4,3,4,2,1,1,4,1,1,2,3,3,2,4,3,3,1,3,1,1,3,3,3,3,4,3,3,2,3,3,3,3,3,3,0,0.2413793103448276,0.15517241379310345,0.32758620689655171,0.18965517241379309,8.6206896551724144E-2,null,null,null,null,null,null,12,3,2,3,5,null,null,null,null,null,null,1,4,4,3,3,4,3,4,3,4,5,4,5,5,5,4,5,5,5,4,4,5,4,5,3,5,5,5,5,5,5,4,5,3,4,5,5,4,5,1,4,4,3,3,3,1,4,4,1,1,1,1,1,3,1,1,1,1,3,0,0.20689655172413793,0,0.17241379310344829,0.29310344827586204,0.32758620689655171]
[12,null,null,null,null,null,null,null,null,null,null,1,4,4,3,3,4,3,4,3,4,5,4,5,5,5,4,5,5,5,4,4,5,4,5,3,5,5,5,5,5,5,4,5,3,4,5,5,4,5,1,4,4,3,3,3,1,4,4,1,1,1,1,1,3,1,1,1,1,3,0,0.20689655172413793,0,0.17241379310344829,0.29310344827586204,0.32758620689655171,null,null,null,null,null,null,13,3,2,3,5,null,null,null,null,null,null,2,4,3,4,4,2,2,3,3,4,4,"n","n",4,4,4,4,4,4,4,3,4,4,4,2,5,5,5,3,5,5,4,3,4,4,5,3,4,3,3,5,4,4,3,3,4,4,4,3,4,3,3,4,"n",3,3,3,2,3,7.4999999999999997E-2,0,8.6206896551724144E-2,0.29310344827586204,0.44827586206896552,0.1206896551724138]
[13,null,null,null,null,null,null,null,null,null,null,2,4,3,4,4,2,2,3,3,4,4,999,999,4,4,4,4,4,4,4,3,4,4,4,2,5,5,5,3,5,5,4,3,4,4,5,3,4,3,3,5,4,4,3,3,4,4,4,3,4,3,3,4,999,3,3,3,2,3,7.4999999999999997E-2,0,8.6206896551724144E-2,0.29310344827586204,0.44827586206896552,0.1206896551724138,null,null,null,null,null,null,14,3,2,3,5,null,null,null,null,null,null,1,2,3,4,5,4,3,2,1,2,2,2,2,2,2,2,2,2,2,2,3,3,3,3,3,4,2,3,4,3,5,2,1,4,3,5,1,5,3,4,5,5,5,5,5,5,5,5,5,5,4,3,2,1,2,3,4,5,3,0,8.6206896551724144E-2,0.29310344827586204,0.22413793103448276,0.13793103448275862,0.25862068965517243]
[14,null,null,null,null,null,null,null,null,null,null,1,2,3,4,5,4,3,2,1,2,2,2,2,2,2,2,2,2,2,2,3,3,3,3,3,4,2,3,4,3,5,2,1,4,3,5,1,5,3,4,5,5,5,5,5,5,5,5,5,5,4,3,2,1,2,3,4,5,3,0,8.6206896551724144E-2,0.29310344827586204,0.22413793103448276,0.13793103448275862,0.25862068965517243,null,null,null,null,null,null,15,3,2,3,5,null,null,null,null,null,null,5,5,4,4,5,4,4,5,4,5,4,4,4,5,4,5,4,5,4,4,5,5,5,4,4,4,4,5,5,3,4,5,4,5,4,3,5,4,3,4,5,5,5,5,5,5,4,5,3,5,4,4,4,4,4,4,4,4,3,0,0,0,6.8965517241379309E-2,0.51724137931034486,0.41379310344827586]
[15,null,null,null,null,null,null,null,null,null,null,5,5,4,4,5,4,4,5,4,5,4,4,4,5,4,5,4,5,4,4,5,5,5,4,4,4,4,5,5,3,4,5,4,5,4,3,5,4,3,4,5,5,5,5,5,5,4,5,3,5,4,4,4,4,4,4,4,4,3,0,0,0,6.8965517241379309E-2,0.51724137931034486,0.41379310344827586,null,null,null,null,null,null,16,3,4,4,1,null,null,null,null,null,null,2,2,2,3,2,2,1,2,3,3,4,2,3,5,3,4,4,4,3,2,3,4,4,3,4,4,3,4,3,3,4,5,4,4,5,5,4,4,3,3,4,2,2,4,3,4,4,4,2,3,2,3,3,3,2,3,3,1,3,0,3.4482758620689655E-2,0.22413793103448276,0.34482758620689657,0.32758620689655171,6.8965517241379309E-2]
[16,null,null,null,null,null,null,null,null,null,null,2,2,2,3,2,2,1,2,3,3,4,2,3,5,3,4,4,4,3,2,3,4,4,3,4,4,3,4,3,3,4,5,4,4,5,5,4,4,3,3,4,2,2,4,3,4,4,4,2,3,2,3,3,3,2,3,3,1,3,0,3.4482758620689655E-2,0.22413793103448276,0.34482758620689657,0.32758620689655171,6.8965517241379309E-2,null,null,null,null,null,null,17,3,4,4,2,null,null,null,null,null,null,2,2,2,1,1,1,1,1,1,2,3,3,3,5,4,1,4,3,4,3,3,3,2,2,2,4,3,4,3,3,3,4,4,4,3,3,4,4,3,1,2,2,2,1,2,4,1,1,1,4,3,1,3,1,1,1,1,2,3,0,0.29310344827586204,0.20689655172413793,0.27586206896551724,0.20689655172413793,1.7241379310344827E-2]
[17,null,null,null,null,null,null,null,null,null,null,2,2,2,1,1,1,1,1,1,2,3,3,3,5,4,1,4,3,4,3,3,3,2,2,2,4,3,4,3,3,3,4,4,4,3,3,4,4,3,1,2,2,2,1,2,4,1,1,1,4,3,1,3,1,1,1,1,2,3,0,0.29310344827586204,0.20689655172413793,0.27586206896551724,0.20689655172413793,1.7241379310344827E-2,null,null,null,null,null,null,18,3,4,4,2,null,null,null,null,null,null,1,3,3,3,3,1,2,1,2,1,1,3,2,3,2,1,4,3,3,3,2,3,3,4,3,4,3,4,5,5,5,2,4,3,2,3,5,4,4,3,1,2,1,1,3,2,1,1,1,1,2,1,1,1,1,1,1,1,3,0,0.34482758620689657,0.17241379310344829,0.29310344827586204,0.1206896551724138,6.8965517241379309E-2]
[18,null,null,null,null,null,null,null,null,null,null,1,3,3,3,3,1,2,1,2,1,1,3,2,3,2,1,4,3,3,3,2,3,3,4,3,4,3,4,5,5,5,2,4,3,2,3,5,4,4,3,1,2,1,1,3,2,1,1,1,1,2,1,1,1,1,1,1,1,3,0,0.34482758620689657,0.17241379310344829,0.29310344827586204,0.1206896551724138,6.8965517241379309E-2,null,null,null,null,null,null,19,3,4,4,5,null,null,null,null,null,null,2,3,4,2,2,3,2,3,4,3,5,4,4,4,3,3,4,2,4,2,4,5,3,4,3,4,3,4,3,4,4,4,4,3,3,5,5,5,3,3,4,2,3,3,4,3,3,3,3,3,4,2,4,3,2,3,2,2,3,0,0,0.18965517241379309,0.39655172413793105,0.32758620689655171,8.6206896551724144E-2]
[19,null,null,null,null,null,null,null,null,null,null,2,3,4,2,2,3,2,3,4,3,5,4,4,4,3,3,4,2,4,2,4,5,3,4,3,4,3,4,3,4,4,4,4,3,3,5,5,5,3,3,4,2,3,3,4,3,3,3,3,3,4,2,4,3,2,3,2,2,3,0,0,0.18965517241379309,0.39655172413793105,0.32758620689655171,8.6206896551724144E-2,null,null,null,null,null,null,20,3,4,4,5,null,null,null,null,null,null,4,4,3,2,3,3,2,3,3,3,3,3,3,4,3,3,3,3,4,4,3,3,3,3,3,4,2,3,4,4,3,4,4,4,2,3,4,3,1,3,3,3,2,"n",3,4,3,3,2,3,2,2,4,3,3,3,3,3,3,0,1.7241379310344827E-2,0.13793103448275862,0.58620689655172409,0.2413793103448276,0]
[20,null,null,null,null,null,null,null,null,null,null,4,4,3,2,3,3,2,3,3,3,3,3,3,4,3,3,3,3,4,4,3,3,3,3,3,4,2,3,4,4,3,4,4,4,2,3,4,3,1,3,3,3,2,999,3,4,3,3,2,3,2,2,4,3,3,3,3,3,3,0,1.7241379310344827E-2,0.13793103448275862,0.58620689655172409,0.2413793103448276,0,null,null,null,null,null,null,21,3,4,4,4,null,null,null,null,null,null,3,3,3,4,4,3,2,2,3,2,2,2,2,3,3,4,4,3,4,4,2,4,4,4,3,3,5,4,4,4,2,4,5,4,4,3,4,3,3,3,5,3,2,2,3,4,2,2,2,4,3,2,4,2,3,2,2,2,3,0,0,0.31034482758620691,0.31034482758620691,0.32758620689655171,5.1724137931034482E-2]
[21,null,null,null,null,null,null,null,null,null,null,3,3,3,4,4,3,2,2,3,2,2,2,2,3,3,4,4,3,4,4,2,4,4,4,3,3,5,4,4,4,2,4,5,4,4,3,4,3,3,3,5,3,2,2,3,4,2,2,2,4,3,2,4,2,3,2,2,2,3,0,0,0.31034482758620691,0.31034482758620691,0.32758620689655171,5.1724137931034482E-2,null,null,null,null,null,null,22,3,4,4,5,null,null,null,null,null,null,2,4,3,2,3,3,3,4,3,3,3,2,3,4,3,4,2,2,3,2,4,4,3,4,3,2,3,5,3,3,3,3,3,4,3,3,4,3,3,3,4,4,3,3,4,3,3,4,2,4,3,3,3,3,4,3,3,3,3,0,0,0.13793103448275862,0.58620689655172409,0.25862068965517243,1.7241379310344827E-2]
[22,null,null,null,null,null,null,null,null,null,null,2,4,3,2,3,3,3,4,3,3,3,2,3,4,3,4,2,2,3,2,4,4,3,4,3,2,3,5,3,3,3,3,3,4,3,3,4,3,3,3,4,4,3,3,4,3,3,4,2,4,3,3,3,3,4,3,3,3,3,0,0,0.13793103448275862,0.58620689655172409,0.25862068965517243,1.7241379310344827E-2,null,null,null,null,null,null,23,3,4,4,5,null,null,null,null,null,null,1,2,3,3,2,2,2,1,4,3,3,2,2,3,2,4,4,1,3,2,2,3,2,2,2,5,3,5,3,5,3,4,5,4,4,5,5,5,3,"n",4,2,1,1,2,2,2,2,1,1,2,2,2,1,2,3,1,1,3,0,0.17241379310344829,0.36206896551724138,0.20689655172413793,0.1206896551724138,0.1206896551724138]
[23,null,null,null,null,null,null,null,null,null,null,1,2,3,3,2,2,2,1,4,3,3,2,2,3,2,4,4,1,3,2,2,3,2,2,2,5,3,5,3,5,3,4,5,4,4,5,5,5,3,999,4,2,1,1,2,2,2,2,1,1,2,2,2,1,2,3,1,1,3,0,0.17241379310344829,0.36206896551724138,0.20689655172413793,0.1206896551724138,0.1206896551724138,null,null,null,null,null,null,24,3,4,4,1,null,null,null,null,null,null,4,4,5,5,5,4,3,3,2,4,4,4,5,4,4,4,5,4,4,2,3,5,4,3,3,4,3,5,3,5,5,4,4,5,4,3,4,4,3,4,4,5,4,4,5,5,4,3,4,4,5,3,4,4,3,3,3,3,3,0,0,3.4482758620689655E-2,0.25862068965517243,0.46551724137931033,0.2413793103448276]
[24,null,null,null,null,null,null,null,null,null,null,4,4,5,5,5,4,3,3,2,4,4,4,5,4,4,4,5,4,4,2,3,5,4,3,3,4,3,5,3,5,5,4,4,5,4,3,4,4,3,4,4,5,4,4,5,5,4,3,4,4,5,3,4,4,3,3,3,3,3,0,0,3.4482758620689655E-2,0.25862068965517243,0.46551724137931033,0.2413793103448276,null,null,null,null,null,null,25,3,4,4,1,null,null,null,null,null,null,1,3,3,3,3,3,2,3,3,1,2,2,2,4,3,3,3,3,3,3,1,3,3,1,1,3,3,5,1,1,2,4,2,5,5,1,5,2,1,3,3,3,3,3,3,3,3,3,1,1,1,1,1,1,1,1,1,1,3,0,0.32758620689655171,0.1206896551724138,0.44827586206896552,3.4482758620689655E-2,6.8965517241379309E-2]
[25,null,null,null,null,null,null,null,null,null,null,1,3,3,3,3,3,2,3,3,1,2,2,2,4,3,3,3,3,3,3,1,3,3,1,1,3,3,5,1,1,2,4,2,5,5,1,5,2,1,3,3,3,3,3,3,3,3,3,1,1,1,1,1,1,1,1,1,1,3,0,0.32758620689655171,0.1206896551724138,0.44827586206896552,3.4482758620689655E-2,6.8965517241379309E-2,null,null,null,null,null,null,26,3,4,4,1,null,null,null,null,null,null,4,2,4,4,3,3,4,3,3,4,5,3,3,5,3,4,3,2,4,3,3,4,3,3,3,3,3,4,4,4,4,4,4,2,5,4,4,4,4,"n","n","n",3,3,3,3,3,3,3,4,3,4,3,3,3,3,3,3,3,0,0,5.1724137931034482E-2,0.5,0.34482758620689657,5.1724137931034482E-2]
[26,null,null,null,null,null,null,null,null,null,null,4,2,4,4,3,3,4,3,3,4,5,3,3,5,3,4,3,2,4,3,3,4,3,3,3,3,3,4,4,4,4,4,4,2,5,4,4,4,4,999,999,999,3,3,3,3,3,3,3,4,3,4,3,3,3,3,3,3,3,0,0,5.1724137931034482E-2,0.5,0.34482758620689657,5.1724137931034482E-2,null,null,null,null,null,null,27,3,4,4,5,null,null,null,null,null,null,2,2,2,3,3,2,1,2,2,3,3,3,3,4,3,5,4,3,3,3,4,4,3,3,4,3,3,5,3,5,3,4,4,4,5,3,4,4,4,2,4,3,3,2,3,4,3,2,2,3,3,3,4,2,2,2,2,2,3,0,1.7241379310344827E-2,0.25862068965517243,0.41379310344827586,0.2413793103448276,6.8965517241379309E-2]
[27,null,null,null,null,null,null,null,null,null,null,2,2,2,3,3,2,1,2,2,3,3,3,3,4,3,5,4,3,3,3,4,4,3,3,4,3,3,5,3,5,3,4,4,4,5,3,4,4,4,2,4,3,3,2,3,4,3,2,2,3,3,3,4,2,2,2,2,2,3,0,1.7241379310344827E-2,0.25862068965517243,0.41379310344827586,0.2413793103448276,6.8965517241379309E-2,null,null,null,null,null,null,28,3,4,4,5,null,null,null,null,null,null,2,4,2,2,2,2,2,2,3,2,2,2,3,4,3,3,4,4,4,4,4,4,4,2,2,5,3,4,3,3,3,4,4,3,4,3,4,3,3,"n",5,2,2,2,3,3,3,3,2,3,2,3,4,2,2,3,2,3,3,0,0,0.34482758620689657,0.34482758620689657,0.25862068965517243,3.4482758620689655E-2]
[28,null,null,null,null,null,null,null,null,null,null,2,4,2,2,2,2,2,2,3,2,2,2,3,4,3,3,4,4,4,4,4,4,4,2,2,5,3,4,3,3,3,4,4,3,4,3,4,3,3,999,5,2,2,2,3,3,3,3,2,3,2,3,4,2,2,3,2,3,3,0,0,0.34482758620689657,0.34482758620689657,0.25862068965517243,3.4482758620689655E-2,null,null,null,null,null,null,29,3,4,4,5,null,null,null,null,null,null,3,3,3,2,2,3,2,2,3,2,2,2,2,4,2,4,3,2,2,2,3,2,3,3,3,3,3,3,1,2,3,5,3,3,2,2,1,2,3,3,4,2,2,2,3,2,2,2,2,2,3,3,4,3,4,2,2,3,3,0,3.4482758620689655E-2,0.46551724137931033,0.39655172413793105,8.6206896551724144E-2,1.7241379310344827E-2]
[29,null,null,null,null,null,null,null,null,null,null,3,3,3,2,2,3,2,2,3,2,2,2,2,4,2,4,3,2,2,2,3,2,3,3,3,3,3,3,1,2,3,5,3,3,2,2,1,2,3,3,4,2,2,2,3,2,2,2,2,2,3,3,4,3,4,2,2,3,3,0,3.4482758620689655E-2,0.46551724137931033,0.39655172413793105,8.6206896551724144E-2,1.7241379310344827E-2,null,null,null,null,null,null,30,3,4,4,1,null,null,null,null,null,null,2,3,3,4,4,2,2,2,4,4,4,3,3,4,4,4,2,2,4,3,3,4,4,4,2,5,3,4,2,1,5,4,1,2,2,3,3,4,3,2,4,3,3,2,4,4,3,2,2,3,3,3,4,2,2,3,2,3,3,0,3.4482758620689655E-2,0.29310344827586204,0.31034482758620691,0.32758620689655171,3.4482758620689655E-2]
[30,null,null,null,null,null,null,null,null,null,null,2,3,3,4,4,2,2,2,4,4,4,3,3,4,4,4,2,2,4,3,3,4,4,4,2,5,3,4,2,1,5,4,1,2,2,3,3,4,3,2,4,3,3,2,4,4,3,2,2,3,3,3,4,2,2,3,2,3,3,0,3.4482758620689655E-2,0.29310344827586204,0.31034482758620691,0.32758620689655171,3.4482758620689655E-2,null,null,null,null,null,null,31,1,4,1,4,null,null,null,null,null,null,5,4,4,3,5,3,3,4,3,5,5,5,5,5,5,4,4,4,5,5,5,5,5,5,5,4,3,5,5,5,5,4,4,4,3,5,5,5,3,5,5,4,4,3,3,5,4,4,5,5,5,5,4,5,5,5,5,5,1,0,0,0,0.15517241379310345,0.25862068965517243,0.58620689655172409]
[31,null,null,null,null,null,null,null,null,null,null,5,4,4,3,5,3,3,4,3,5,5,5,5,5,5,4,4,4,5,5,5,5,5,5,5,4,3,5,5,5,5,4,4,4,3,5,5,5,3,5,5,4,4,3,3,5,4,4,5,5,5,5,4,5,5,5,5,5,1,0,0,0,0.15517241379310345,0.25862068965517243,0.58620689655172409,null,null,null,null,null,null,32,3,4,5,5,null,null,null,null,null,null,2,1,1,1,2,1,1,2,1,2,2,2,3,5,4,2,4,3,4,3,4,4,3,1,2,2,3,4,3,3,1,5,4,2,2,1,4,1,4,1,5,2,2,1,2,3,2,2,2,2,2,2,3,1,2,2,1,1,3,0,0.25862068965517243,0.37931034482758619,0.15517241379310345,0.15517241379310345,5.1724137931034482E-2]
[32,null,null,null,null,null,null,null,null,null,null,2,1,1,1,2,1,1,2,1,2,2,2,3,5,4,2,4,3,4,3,4,4,3,1,2,2,3,4,3,3,1,5,4,2,2,1,4,1,4,1,5,2,2,1,2,3,2,2,2,2,2,2,3,1,2,2,1,1,3,0,0.25862068965517243,0.37931034482758619,0.15517241379310345,0.15517241379310345,5.1724137931034482E-2,null,null,null,null,null,null,33,3,4,5,5,null,null,null,null,null,null,2,2,2,3,3,2,2,2,2,3,3,4,3,3,3,4,3,3,3,3,3,3,2,3,4,4,3,4,3,3,3,5,3,3,5,2,4,3,1,2,1,2,3,3,3,3,3,3,2,1,2,2,2,2,2,2,2,3,3,0,5.1724137931034482E-2,0.32758620689655171,0.48275862068965519,0.10344827586206896,3.4482758620689655E-2]
[33,null,null,null,null,null,null,null,null,null,null,2,2,2,3,3,2,2,2,2,3,3,4,3,3,3,4,3,3,3,3,3,3,2,3,4,4,3,4,3,3,3,5,3,3,5,2,4,3,1,2,1,2,3,3,3,3,3,3,2,1,2,2,2,2,2,2,2,3,3,0,5.1724137931034482E-2,0.32758620689655171,0.48275862068965519,0.10344827586206896,3.4482758620689655E-2,null,null,null,null,null,null,34,3,4,5,5,null,null,null,null,null,null,4,4,4,3,4,2,4,3,4,4,4,4,3,5,4,4,4,4,4,4,4,4,4,3,5,5,4,5,4,5,5,4,"n",4,4,5,5,5,5,3,5,4,4,3,3,4,4,4,4,4,4,4,3,3,4,4,4,4,3,2.5000000000000001E-2,0,1.7241379310344827E-2,0.15517241379310345,0.62068965517241381,0.18965517241379309]
[34,null,null,null,null,null,null,null,null,null,null,4,4,4,3,4,2,4,3,4,4,4,4,3,5,4,4,4,4,4,4,4,4,4,3,5,5,4,5,4,5,5,4,999,4,4,5,5,5,5,3,5,4,4,3,3,4,4,4,4,4,4,4,3,3,4,4,4,4,3,2.5000000000000001E-2,0,1.7241379310344827E-2,0.15517241379310345,0.62068965517241381,0.18965517241379309,null,null,null,null,null,null,35,3,4,5,5,null,null,null,null,null,null,3,4,1,1,1,1,1,3,3,5,3,3,3,5,5,3,5,5,5,5,5,5,4,3,3,4,3,5,2,4,5,5,4,4,5,5,1,1,2,1,5,1,1,1,4,1,1,1,1,3,4,2,3,2,2,2,2,2,3,0,0.25862068965517243,0.13793103448275862,0.20689655172413793,0.13793103448275862,0.25862068965517243]
[35,null,null,null,null,null,null,null,null,null,null,3,4,1,1,1,1,1,3,3,5,3,3,3,5,5,3,5,5,5,5,5,5,4,3,3,4,3,5,2,4,5,5,4,4,5,5,1,1,2,1,5,1,1,1,4,1,1,1,1,3,4,2,3,2,2,2,2,2,3,0,0.25862068965517243,0.13793103448275862,0.20689655172413793,0.13793103448275862,0.25862068965517243,null,null,null,null,null,null,36,3,4,5,5,null,null,null,null,null,null,4,4,3,3,2,1,1,1,1,5,5,1,1,5,3,4,3,3,4,3,4,4,4,1,5,4,3,3,4,3,4,4,5,4,4,5,4,3,4,2,5,2,3,1,3,3,3,2,2,2,1,4,3,1,2,2,1,2,3,0,0.18965517241379309,0.15517241379310345,0.25862068965517243,0.27586206896551724,0.1206896551724138]
[36,null,null,null,null,null,null,null,null,null,null,4,4,3,3,2,1,1,1,1,5,5,1,1,5,3,4,3,3,4,3,4,4,4,1,5,4,3,3,4,3,4,4,5,4,4,5,4,3,4,2,5,2,3,1,3,3,3,2,2,2,1,4,3,1,2,2,1,2,3,0,0.18965517241379309,0.15517241379310345,0.25862068965517243,0.27586206896551724,0.1206896551724138,null,null,null,null,null,null,37,3,4,5,5,null,null,null,null,null,null,2,3,2,2,2,2,2,2,3,3,4,2,3,4,3,3,3,3,3,4,3,4,2,4,2,2,3,3,3,3,2,3,3,3,3,4,3,5,4,3,4,2,4,2,3,3,2,3,2,4,4,4,3,3,4,3,2,4,3,0,0,0.29310344827586204,0.44827586206896552,0.2413793103448276,1.7241379310344827E-2]
[37,null,null,null,null,null,null,null,null,null,null,2,3,2,2,2,2,2,2,3,3,4,2,3,4,3,3,3,3,3,4,3,4,2,4,2,2,3,3,3,3,2,3,3,3,3,4,3,5,4,3,4,2,4,2,3,3,2,3,2,4,4,4,3,3,4,3,2,4,3,0,0,0.29310344827586204,0.44827586206896552,0.2413793103448276,1.7241379310344827E-2,null,null,null,null,null,null,38,3,4,5,5,null,null,null,null,null,null,3,5,4,4,3,3,3,4,4,3,1,1,3,4,4,1,4,4,4,4,2,4,4,5,4,4,3,4,3,5,5,4,4,5,4,3,5,5,3,4,4,4,4,4,4,4,4,4,4,4,4,3,4,4,5,4,4,4,3,0,5.1724137931034482E-2,1.7241379310344827E-2,0.18965517241379309,0.60344827586206895,0.13793103448275862]
[38,null,null,null,null,null,null,null,null,null,null,3,5,4,4,3,3,3,4,4,3,1,1,3,4,4,1,4,4,4,4,2,4,4,5,4,4,3,4,3,5,5,4,4,5,4,3,5,5,3,4,4,4,4,4,4,4,4,4,4,4,4,3,4,4,5,4,4,4,3,0,5.1724137931034482E-2,1.7241379310344827E-2,0.18965517241379309,0.60344827586206895,0.13793103448275862,null,null,null,null,null,null,39,3,7,5,5,null,null,null,null,null,null,2,3,2,2,4,2,2,3,2,4,4,3,3,4,4,4,4,3,3,4,3,4,4,3,3,4,3,4,3,3,3,4,5,4,3,5,5,4,4,"n",5,3,3,3,3,4,4,4,2,3,3,4,4,2,3,3,3,2,3,0,0,0.15517241379310345,0.39655172413793105,0.36206896551724138,6.8965517241379309E-2]
[39,null,null,null,null,null,null,null,null,null,null,2,3,2,2,4,2,2,3,2,4,4,3,3,4,4,4,4,3,3,4,3,4,4,3,3,4,3,4,3,3,3,4,5,4,3,5,5,4,4,999,5,3,3,3,3,4,4,4,2,3,3,4,4,2,3,3,3,2,3,0,0,0.15517241379310345,0.39655172413793105,0.36206896551724138,6.8965517241379309E-2,null,null,null,null,null,null,40,3,6,4,1,null,null,null,null,null,null,3,4,4,4,4,2,2,4,4,3,2,2,2,3,3,4,3,3,3,2,3,4,4,3,4,4,3,4,3,3,4,4,5,3,2,5,4,4,4,3,3,3,2,3,4,4,4,4,3,2,3,3,4,3,3,4,2,3,3,0,0,0.17241379310344829,0.39655172413793105,0.39655172413793105,3.4482758620689655E-2]
[40,null,null,null,null,null,null,null,null,null,null,3,4,4,4,4,2,2,4,4,3,2,2,2,3,3,4,3,3,3,2,3,4,4,3,4,4,3,4,3,3,4,4,5,3,2,5,4,4,4,3,3,3,2,3,4,4,4,4,3,2,3,3,4,3,3,4,2,3,3,0,0,0.17241379310344829,0.39655172413793105,0.39655172413793105,3.4482758620689655E-2,null,null,null,null,null,null,41,3,6,4,2,null,null,null,null,null,null,5,5,5,5,5,4,4,4,5,4,5,4,4,4,4,4,4,5,4,4,5,5,5,4,4,4,3,4,3,5,3,3,5,3,5,5,5,3,3,5,5,4,4,3,4,4,4,4,3,3,4,4,5,4,4,4,4,4,3,0,0,0,0.17241379310344829,0.5,0.32758620689655171]
[41,null,null,null,null,null,null,null,null,null,null,5,5,5,5,5,4,4,4,5,4,5,4,4,4,4,4,4,5,4,4,5,5,5,4,4,4,3,4,3,5,3,3,5,3,5,5,5,3,3,5,5,4,4,3,4,4,4,4,3,3,4,4,5,4,4,4,4,4,3,0,0,0,0.17241379310344829,0.5,0.32758620689655171,null,null,null,null,null,null,42,3,6,4,5,null,null,null,null,null,null,3,3,3,4,4,3,3,4,4,3,3,3,3,4,3,4,3,2,2,3,2,2,2,2,2,5,3,3,4,3,3,2,4,4,5,5,5,5,4,1,2,4,2,3,3,3,3,3,2,2,2,1,4,4,4,1,3,1,3,0,6.8965517241379309E-2,0.22413793103448276,0.37931034482758619,0.2413793103448276,8.6206896551724144E-2]
[42,null,null,null,null,null,null,null,null,null,null,3,3,3,4,4,3,3,4,4,3,3,3,3,4,3,4,3,2,2,3,2,2,2,2,2,5,3,3,4,3,3,2,4,4,5,5,5,5,4,1,2,4,2,3,3,3,3,3,2,2,2,1,4,4,4,1,3,1,3,0,6.8965517241379309E-2,0.22413793103448276,0.37931034482758619,0.2413793103448276,8.6206896551724144E-2,null,null,null,null,null,null,43,3,6,4,5,null,null,null,null,null,null,3,3,3,4,3,3,3,3,3,2,4,3,4,4,3,4,4,4,4,4,3,4,4,3,2,5,4,4,3,5,3,4,4,4,5,5,4,5,4,3,"n",4,3,3,3,3,4,3,3,3,4,3,3,3,4,3,3,3,3,0,0,3.4482758620689655E-2,0.48275862068965519,0.37931034482758619,8.6206896551724144E-2]
[43,null,null,null,null,null,null,null,null,null,null,3,3,3,4,3,3,3,3,3,2,4,3,4,4,3,4,4,4,4,4,3,4,4,3,2,5,4,4,3,5,3,4,4,4,5,5,4,5,4,3,999,4,3,3,3,3,4,3,3,3,4,3,3,3,4,3,3,3,3,0,0,3.4482758620689655E-2,0.48275862068965519,0.37931034482758619,8.6206896551724144E-2,null,null,null,null,null,null,44,3,6,4,5,null,null,null,null,null,null,3,3,3,3,3,3,3,3,2,3,3,2,2,4,3,4,3,3,2,2,3,3,2,2,2,5,5,4,4,3,4,5,5,4,5,2,1,"n",4,3,3,3,3,2,3,4,3,2,1,3,2,1,3,2,2,3,2,3,3,2.5000000000000001E-2,5.1724137931034482E-2,0.25862068965517243,0.44827586206896552,0.13793103448275862,8.6206896551724144E-2]
[44,null,null,null,null,null,null,null,null,null,null,3,3,3,3,3,3,3,3,2,3,3,2,2,4,3,4,3,3,2,2,3,3,2,2,2,5,5,4,4,3,4,5,5,4,5,2,1,999,4,3,3,3,3,2,3,4,3,2,1,3,2,1,3,2,2,3,2,3,3,2.5000000000000001E-2,5.1724137931034482E-2,0.25862068965517243,0.44827586206896552,0.13793103448275862,8.6206896551724144E-2,null,null,null,null,null,null,45,3,7,6,5,null,null,null,null,null,null,3,4,5,5,3,3,2,2,2,2,2,4,4,3,4,4,4,2,2,3,3,3,2,3,3,3,5,5,4,3,3,3,5,3,2,5,5,5,3,3,1,1,1,1,4,4,3,3,1,1,5,3,3,2,2,2,2,2,3,0,0.10344827586206896,0.2413793103448276,0.34482758620689657,0.15517241379310345,0.15517241379310345]
[45,null,null,null,null,null,null,null,null,null,null,3,4,5,5,3,3,2,2,2,2,2,4,4,3,4,4,4,2,2,3,3,3,2,3,3,3,5,5,4,3,3,3,5,3,2,5,5,5,3,3,1,1,1,1,4,4,3,3,1,1,5,3,3,2,2,2,2,2,3,0,0.10344827586206896,0.2413793103448276,0.34482758620689657,0.15517241379310345,0.15517241379310345,null,null,null,null,null,null,46,3,5,4,5,null,null,null,null,null,null,3,4,4,4,4,4,4,4,4,4,4,5,4,4,4,4,4,4,4,4,4,4,4,4,4,4,5,5,5,3,3,1,5,4,4,5,5,5,4,4,5,3,3,3,5,5,5,5,5,4,3,5,5,4,3,5,3,5,3,0,1.7241379310344827E-2,0,0.15517241379310345,0.51724137931034486,0.31034482758620691]
[46,null,null,null,null,null,null,null,null,null,null,3,4,4,4,4,4,4,4,4,4,4,5,4,4,4,4,4,4,4,4,4,4,4,4,4,4,5,5,5,3,3,1,5,4,4,5,5,5,4,4,5,3,3,3,5,5,5,5,5,4,3,5,5,4,3,5,3,5,3,0,1.7241379310344827E-2,0,0.15517241379310345,0.51724137931034486,0.31034482758620691,null,null,null,null,null,null,47,3,5,3,4,null,null,null,null,null,null,2,4,3,3,4,2,2,3,2,4,4,3,3,4,4,3,2,3,5,4,4,5,4,3,2,5,5,5,3,4,3,5,4,3,5,5,4,4,3,4,2,2,2,2,3,4,4,4,3,4,4,3,4,2,4,3,2,2,3,0,0,0.22413793103448276,0.27586206896551724,0.36206896551724138,0.13793103448275862]
[47,null,null,null,null,null,null,null,null,null,null,2,4,3,3,4,2,2,3,2,4,4,3,3,4,4,3,2,3,5,4,4,5,4,3,2,5,5,5,3,4,3,5,4,3,5,5,4,4,3,4,2,2,2,2,3,4,4,4,3,4,4,3,4,2,4,3,2,2,3,0,0,0.22413793103448276,0.27586206896551724,0.36206896551724138,0.13793103448275862,null,null,null,null,null,null,48,3,5,6,5,null,null,null,null,null,null,1,5,3,4,5,1,2,4,1,5,5,5,5,4,5,4,5,5,5,5,5,5,3,1,1,4,3,4,5,5,4,5,5,4,4,5,5,5,4,3,5,4,4,1,1,5,3,5,4,3,2,2,5,2,2,3,3,3,3,0,0.1206896551724138,8.6206896551724144E-2,0.15517241379310345,0.22413793103448276,0.41379310344827586]
[48,null,null,null,null,null,null,null,null,null,null,1,5,3,4,5,1,2,4,1,5,5,5,5,4,5,4,5,5,5,5,5,5,3,1,1,4,3,4,5,5,4,5,5,4,4,5,5,5,4,3,5,4,4,1,1,5,3,5,4,3,2,2,5,2,2,3,3,3,3,0,0.1206896551724138,8.6206896551724144E-2,0.15517241379310345,0.22413793103448276,0.41379310344827586,null,null,null,null,null,null,49,3,5,3,5,null,null,null,null,null,null,2,5,3,3,5,4,3,4,2,4,3,3,3,4,3,3,4,3,3,3,3,3,4,3,3,4,3,5,5,5,3,4,4,4,4,3,5,4,3,3,4,2,4,3,3,3,3,3,3,3,3,3,4,3,3,4,4,3,3,0,0,5.1724137931034482E-2,0.55172413793103448,0.29310344827586204,0.10344827586206896]
[49,null,null,null,null,null,null,null,null,null,null,2,5,3,3,5,4,3,4,2,4,3,3,3,4,3,3,4,3,3,3,3,3,4,3,3,4,3,5,5,5,3,4,4,4,4,3,5,4,3,3,4,2,4,3,3,3,3,3,3,3,3,3,4,3,3,4,4,3,3,0,0,5.1724137931034482E-2,0.55172413793103448,0.29310344827586204,0.10344827586206896,null,null,null,null,null,null,50,3,5,6,5,null,null,null,null,null,null,3,5,5,3,4,4,3,2,2,5,4,4,4,5,5,5,5,5,5,5,5,5,4,1,3,5,5,4,5,5,4,5,4,4,4,5,5,5,4,2,5,3,3,4,4,1,2,4,2,2,2,2,5,2,2,2,1,2,3,0,5.1724137931034482E-2,0.20689655172413793,0.10344827586206896,0.25862068965517243,0.37931034482758619]
[50,null,null,null,null,null,null,null,null,null,null,3,5,5,3,4,4,3,2,2,5,4,4,4,5,5,5,5,5,5,5,5,5,4,1,3,5,5,4,5,5,4,5,4,4,4,5,5,5,4,2,5,3,3,4,4,1,2,4,2,2,2,2,5,2,2,2,1,2,3,0,5.1724137931034482E-2,0.20689655172413793,0.10344827586206896,0.25862068965517243,0.37931034482758619,null,null,null,null,null,null,51,3,5,3,5,null,null,null,null,null,null,4,4,4,4,4,4,4,3,4,4,4,5,5,5,4,5,5,5,5,4,4,4,5,5,4,4,4,5,3,4,3,4,5,4,3,5,5,4,3,4,5,4,4,4,5,5,4,5,4,4,4,4,5,4,4,4,4,4,3,0,0,0,8.6206896551724144E-2,0.60344827586206895,0.31034482758620691]
[51,null,null,null,null,null,null,null,null,null,null,4,4,4,4,4,4,4,3,4,4,4,5,5,5,4,5,5,5,5,4,4,4,5,5,4,4,4,5,3,4,3,4,5,4,3,5,5,4,3,4,5,4,4,4,5,5,4,5,4,4,4,4,5,4,4,4,4,4,3,0,0,0,8.6206896551724144E-2,0.60344827586206895,0.31034482758620691,null,null,null,null,null,null,52,3,5,3,2,null,null,null,null,null,null,1,1,1,1,1,1,1,1,1,1,1,1,1,4,3,3,3,3,3,3,4,4,4,2,3,2,3,4,3,4,3,2,5,4,4,3,4,3,3,1,3,1,2,2,2,1,1,1,1,1,1,1,1,1,1,1,1,1,3,0,0.48275862068965519,0.10344827586206896,0.2413793103448276,0.15517241379310345,1.7241379310344827E-2]
[52,null,null,null,null,null,null,null,null,null,null,1,1,1,1,1,1,1,1,1,1,1,1,1,4,3,3,3,3,3,3,4,4,4,2,3,2,3,4,3,4,3,2,5,4,4,3,4,3,3,1,3,1,2,2,2,1,1,1,1,1,1,1,1,1,1,1,1,1,3,0,0.48275862068965519,0.10344827586206896,0.2413793103448276,0.15517241379310345,1.7241379310344827E-2,null,null,null,null,null,null,53,3,5,3,4,null,null,null,null,null,null,1,2,3,3,2,2,2,2,2,3,3,1,2,3,2,2,4,4,4,4,4,3,4,3,2,3,3,3,4,3,2,3,1,3,4,1,1,5,3,2,2,1,1,1,2,2,2,2,2,3,2,2,2,2,1,2,2,3,3,0,0.15517241379310345,0.41379310344827586,0.27586206896551724,0.13793103448275862,1.7241379310344827E-2]
[53,null,null,null,null,null,null,null,null,null,null,1,2,3,3,2,2,2,2,2,3,3,1,2,3,2,2,4,4,4,4,4,3,4,3,2,3,3,3,4,3,2,3,1,3,4,1,1,5,3,2,2,1,1,1,2,2,2,2,2,3,2,2,2,2,1,2,2,3,3,0,0.15517241379310345,0.41379310344827586,0.27586206896551724,0.13793103448275862,1.7241379310344827E-2,null,null,null,null,null,null,54,3,5,3,5,null,null,null,null,null,null,1,2,1,1,4,1,1,4,1,3,2,2,2,2,2,2,5,1,1,3,5,5,3,1,3,5,3,4,4,5,5,4,5,4,5,3,5,5,5,1,1,1,1,1,1,3,2,2,1,1,1,1,2,1,1,1,1,1,3,0,0.41379310344827586,0.17241379310344829,0.1206896551724138,0.10344827586206896,0.18965517241379309]
[54,null,null,null,null,null,null,null,null,null,null,1,2,1,1,4,1,1,4,1,3,2,2,2,2,2,2,5,1,1,3,5,5,3,1,3,5,3,4,4,5,5,4,5,4,5,3,5,5,5,1,1,1,1,1,1,3,2,2,1,1,1,1,2,1,1,1,1,1,3,0,0.41379310344827586,0.17241379310344829,0.1206896551724138,0.10344827586206896,0.18965517241379309,null,null,null,null,null,null,55,3,5,3,2,null,null,null,null,null,null,1,2,1,2,2,1,1,2,1,1,1,2,3,3,3,3,4,3,4,3,3,3,3,1,2,4,3,4,1,3,2,3,2,2,5,2,"n",5,2,1,2,2,1,1,1,2,2,1,1,1,1,1,1,1,1,1,1,1,3,2.5000000000000001E-2,0.41379310344827586,0.25862068965517243,0.20689655172413793,6.8965517241379309E-2,3.4482758620689655E-2]
[55,null,null,null,null,null,null,null,null,null,null,1,2,1,2,2,1,1,2,1,1,1,2,3,3,3,3,4,3,4,3,3,3,3,1,2,4,3,4,1,3,2,3,2,2,5,2,999,5,2,1,2,2,1,1,1,2,2,1,1,1,1,1,1,1,1,1,1,1,3,2.5000000000000001E-2,0.41379310344827586,0.25862068965517243,0.20689655172413793,6.8965517241379309E-2,3.4482758620689655E-2,null,null,null,null,null,null,56,3,5,2,5,null,null,null,null,null,null,3,5,5,4,5,4,3,3,4,4,5,5,5,5,5,5,5,5,5,5,5,5,4,4,4,4,3,5,5,5,3,4,5,4,5,5,5,5,5,3,3,2,3,4,3,3,4,4,2,3,3,3,4,4,3,4,4,3,3,0,0,3.4482758620689655E-2,0.25862068965517243,0.29310344827586204,0.41379310344827586]
[56,null,null,null,null,null,null,null,null,null,null,3,5,5,4,5,4,3,3,4,4,5,5,5,5,5,5,5,5,5,5,5,5,4,4,4,4,3,5,5,5,3,4,5,4,5,5,5,5,5,3,3,2,3,4,3,3,4,4,2,3,3,3,4,4,3,4,4,3,3,0,0,3.4482758620689655E-2,0.25862068965517243,0.29310344827586204,0.41379310344827586,null,null,null,null,null,null,57,3,5,2,5,null,null,null,null,null,null,2,3,3,3,4,3,3,3,3,5,4,3,3,4,4,3,4,4,4,4,4,4,4,3,2,5,3,4,3,3,3,5,4,4,3,5,4,3,4,3,4,3,3,3,3,4,2,3,2,2,2,2,3,3,3,3,3,3,3,0,0,0.1206896551724138,0.5,0.31034482758620691,6.8965517241379309E-2]
[57,null,null,null,null,null,null,null,null,null,null,2,3,3,3,4,3,3,3,3,5,4,3,3,4,4,3,4,4,4,4,4,4,4,3,2,5,3,4,3,3,3,5,4,4,3,5,4,3,4,3,4,3,3,3,3,4,2,3,2,2,2,2,3,3,3,3,3,3,3,0,0,0.1206896551724138,0.5,0.31034482758620691,6.8965517241379309E-2,null,null,null,null,null,null,58,3,5,2,5,null,null,null,null,null,null,2,2,1,2,2,2,2,2,2,5,4,3,3,5,2,5,4,3,5,5,5,5,4,2,2,5,3,4,4,5,4,4,4,4,5,5,5,4,3,2,5,4,4,3,5,4,3,3,4,2,4,2,2,2,4,4,4,3,3,0,1.7241379310344827E-2,0.27586206896551724,0.15517241379310345,0.31034482758620691,0.2413793103448276]
[58,null,null,null,null,null,null,null,null,null,null,2,2,1,2,2,2,2,2,2,5,4,3,3,5,2,5,4,3,5,5,5,5,4,2,2,5,3,4,4,5,4,4,4,4,5,5,5,4,3,2,5,4,4,3,5,4,3,3,4,2,4,2,2,2,4,4,4,3,3,0,1.7241379310344827E-2,0.27586206896551724,0.15517241379310345,0.31034482758620691,0.2413793103448276,null,null,null,null,null,null,59,3,5,2,5,null,null,null,null,null,null,2,3,3,2,3,1,1,2,2,3,3,3,3,3,3,3,3,3,4,4,5,5,2,2,1,5,3,4,3,3,3,5,5,4,3,5,5,3,3,1,2,1,1,1,1,1,1,1,1,1,1,1,1,1,1,1,1,1,3,0,0.36206896551724138,0.1206896551724138,0.32758620689655171,6.8965517241379309E-2,0.1206896551724138]
[59,null,null,null,null,null,null,null,null,null,null,2,3,3,2,3,1,1,2,2,3,3,3,3,3,3,3,3,3,4,4,5,5,2,2,1,5,3,4,3,3,3,5,5,4,3,5,5,3,3,1,2,1,1,1,1,1,1,1,1,1,1,1,1,1,1,1,1,1,3,0,0.36206896551724138,0.1206896551724138,0.32758620689655171,6.8965517241379309E-2,0.1206896551724138,null,null,null,null,null,null,60,999,7,5,1,null,null,null,null,null,null,3,4,4,3,3,3,3,4,4,3,3,3,3,4,3,3,3,3,3,3,3,3,3,4,4,4,3,5,2,3,3,4,5,3,4,5,3,5,3,3,5,4,4,3,4,4,4,4,3,3,3,4,3,4,4,3,4,4,999,0,0,1.7241379310344827E-2,0.53448275862068961,0.36206896551724138,8.6206896551724144E-2]
[60,null,null,null,null,null,null,null,null,null,null,3,4,4,3,3,3,3,4,4,3,3,3,3,4,3,3,3,3,3,3,3,3,3,4,4,4,3,5,2,3,3,4,5,3,4,5,3,5,3,3,5,4,4,3,4,4,4,4,3,3,3,4,3,4,4,3,4,4,999,0,0,1.7241379310344827E-2,0.53448275862068961,0.36206896551724138,8.6206896551724144E-2,null,null,null,null,null,null,61,999,7,5,1,null,null,null,null,null,null,3,4,4,3,5,3,2,4,2,3,4,2,3,2,2,3,4,4,4,3,2,4,4,3,2,4,3,4,3,4,5,4,5,4,4,5,4,5,3,4,3,4,3,2,3,5,4,3,2,3,3,3,4,3,4,3,4,4,999,0,0,0.15517241379310345,0.34482758620689657,0.39655172413793105,0.10344827586206896]
[61,null,null,null,null,null,null,null,null,null,null,3,4,4,3,5,3,2,4,2,3,4,2,3,2,2,3,4,4,4,3,2,4,4,3,2,4,3,4,3,4,5,4,5,4,4,5,4,5,3,4,3,4,3,2,3,5,4,3,2,3,3,3,4,3,4,3,4,4,999,0,0,0.15517241379310345,0.34482758620689657,0.39655172413793105,0.10344827586206896,null,null,null,null,null,null,62,3,7,5,5,null,null,null,null,null,null,3,4,4,4,5,3,3,4,3,4,4,3,3,4,3,3,4,3,4,4,3,5,4,5,5,5,3,5,4,4,5,4,5,4,4,3,3,4,4,3,5,4,4,3,4,5,5,4,4,4,5,4,4,3,4,4,4,5,3,0,0,0,0.27586206896551724,0.5,0.22413793103448276]
[62,null,null,null,null,null,null,null,null,null,null,3,4,4,4,5,3,3,4,3,4,4,3,3,4,3,3,4,3,4,4,3,5,4,5,5,5,3,5,4,4,5,4,5,4,4,3,3,4,4,3,5,4,4,3,4,5,5,4,4,4,5,4,4,3,4,4,4,5,3,0,0,0,0.27586206896551724,0.5,0.22413793103448276,null,null,null,null,null,null,63,3,7,5,1,null,null,null,null,null,null,2,4,5,5,5,2,3,4,4,2,4,3,3,3,3,4,3,2,3,2,3,2,3,4,4,4,3,5,3,5,5,3,4,4,4,5,5,4,3,2,5,5,3,2,3,5,3,4,2,4,3,4,5,3,2,3,2,3,3,0,0,0.18965517241379309,0.34482758620689657,0.25862068965517243,0.20689655172413793]
[63,null,null,null,null,null,null,null,null,null,null,2,4,5,5,5,2,3,4,4,2,4,3,3,3,3,4,3,2,3,2,3,2,3,4,4,4,3,5,3,5,5,3,4,4,4,5,5,4,3,2,5,5,3,2,3,5,3,4,2,4,3,4,5,3,2,3,2,3,3,0,0,0.18965517241379309,0.34482758620689657,0.25862068965517243,0.20689655172413793,null,null,null,null,null,null,64,3,8,3,5,null,null,null,null,null,null,5,4,4,3,3,3,4,3,4,5,5,4,4,5,4,4,3,4,3,5,4,3,4,3,3,4,4,5,4,5,5,4,4,4,5,4,5,4,4,3,2,4,2,3,4,2,3,3,2,4,3,2,4,2,3,3,3,3,3,0,0,0.10344827586206896,0.31034482758620691,0.41379310344827586,0.17241379310344829]
[64,null,null,null,null,null,null,null,null,null,null,5,4,4,3,3,3,4,3,4,5,5,4,4,5,4,4,3,4,3,5,4,3,4,3,3,4,4,5,4,5,5,4,4,4,5,4,5,4,4,3,2,4,2,3,4,2,3,3,2,4,3,2,4,2,3,3,3,3,3,0,0,0.10344827586206896,0.31034482758620691,0.41379310344827586,0.17241379310344829,null,null,null,null,null,null,66,3,8,5,1,null,null,null,null,null,null,3,5,3,3,2,5,5,5,3,3,3,3,3,5,3,5,5,5,3,2,5,5,5,5,5,4,3,3,3,4,3,4,4,5,5,5,5,4,3,5,5,5,5,3,3,5,5,5,3,5,3,5,5,5,5,3,5,5,3,0,0,3.4482758620689655E-2,0.34482758620689657,8.6206896551724144E-2,0.53448275862068961]
[65,null,null,null,null,null,null,null,null,null,null,3,3,3,3,2,2,2,2,2,3,3,3,3,4,3,4,4,3,2,2,3,3,3,2,1,3,5,999,999,999,3,999,999,999,5,999,999,5,3,999,3,3,3,3,3,3,3,3,3,3,3,3,3,3,3,3,3,3,3,0.2,1.7241379310344827E-2,0.13793103448275862,0.58620689655172409,5.1724137931034482E-2,5.1724137931034482E-2,1,null,1,null,null,null,67,3,8,5,1,null,null,null,null,null,null,4,5,5,5,1,5,5,3,2,4,4,4,5,5,4,5,5,4,2,1,4,5,3,5,5,2,3,4,3,3,3,5,5,5,4,5,4,4,3,4,5,5,5,3,5,5,3,5,2,3,3,3,5,3,3,3,5,4,3,0,3.4482758620689655E-2,6.8965517241379309E-2,0.25862068965517243,0.22413793103448276,0.41379310344827586]
[66,null,null,null,null,null,null,null,null,null,null,3,5,3,3,2,5,5,5,3,3,3,3,3,5,3,5,5,5,3,2,5,5,5,5,5,4,3,3,3,4,3,4,4,5,5,5,5,4,3,5,5,5,5,3,3,5,5,5,3,5,3,5,5,5,5,3,5,5,3,0,0,3.4482758620689655E-2,0.34482758620689657,8.6206896551724144E-2,0.53448275862068961,null,null,null,null,null,null,68,3,8,5,5,null,null,null,null,null,null,2,4,3,3,2,2,3,3,2,3,3,3,3,4,4,4,5,4,3,3,4,4,4,3,3,3,5,4,5,5,5,4,4,5,3,5,5,5,4,2,4,4,3,2,3,4,3,4,4,4,3,3,4,3,3,4,3,3,3,0,0,0.10344827586206896,0.39655172413793105,0.34482758620689657,0.15517241379310345]
[67,null,null,null,null,null,null,null,null,null,null,4,5,5,5,1,5,5,3,2,4,4,4,5,5,4,5,5,4,2,1,4,5,3,5,5,2,3,4,3,3,3,5,5,5,4,5,4,4,3,4,5,5,5,3,5,5,3,5,2,3,3,3,5,3,3,3,5,4,3,0,3.4482758620689655E-2,6.8965517241379309E-2,0.25862068965517243,0.22413793103448276,0.41379310344827586,null,null,null,null,null,null,69,3,5,2,5,null,null,null,null,null,null,2,2,2,3,4,3,2,4,2,4,4,3,3,4,4,4,3,2,4,3,4,4,4,4,2,2,3,4,3,3,4,5,3,3,3,4,3,3,3,2,3,2,3,2,2,4,3,2,2,3,2,2,3,1,1,1,1,1,3,0,8.6206896551724144E-2,0.27586206896551724,0.34482758620689657,0.27586206896551724,1.7241379310344827E-2]
[68,null,null,null,null,null,null,null,null,null,null,2,4,3,3,2,2,3,3,2,3,3,3,3,4,4,4,5,4,3,3,4,4,4,3,3,3,5,4,5,5,5,4,4,5,3,5,5,5,4,2,4,4,3,2,3,4,3,4,4,4,3,3,4,3,3,4,3,3,3,0,0,0.10344827586206896,0.39655172413793105,0.34482758620689657,0.15517241379310345,null,null,null,null,null,null,70,3,7,5,5,null,null,null,null,null,null,2,4,3,3,4,3,3,3,2,3,4,4,4,5,3,3,3,4,4,3,4,4,4,3,3,4,3,3,3,3,3,4,3,4,4,5,4,5,3,3,4,2,3,2,3,3,3,3,3,3,4,3,3,3,4,3,3,3,3,0,0,6.8965517241379309E-2,0.56896551724137934,0.31034482758620691,5.1724137931034482E-2]
[69,null,null,null,null,null,null,null,null,null,null,2,2,2,3,4,3,2,4,2,4,4,3,3,4,4,4,3,2,4,3,4,4,4,4,2,2,3,4,3,3,4,5,3,3,3,4,3,3,3,2,3,2,3,2,2,4,3,2,2,3,2,2,3,1,1,1,1,1,3,0,8.6206896551724144E-2,0.27586206896551724,0.34482758620689657,0.27586206896551724,1.7241379310344827E-2,null,null,null,null,null,null,71,3,7,5,5,null,null,null,null,null,null,2,4,3,3,5,3,2,4,3,4,4,4,4,4,4,5,4,3,4,3,4,5,4,3,5,5,3,4,4,4,4,4,5,4,3,5,5,4,4,3,5,4,4,3,4,4,4,4,3,2,2,3,3,2,3,4,2,3,3,0,0,0.10344827586206896,0.27586206896551724,0.46551724137931033,0.15517241379310345]
[70,null,null,null,null,null,null,null,null,null,null,2,4,3,3,4,3,3,3,2,3,4,4,4,5,3,3,3,4,4,3,4,4,4,3,3,4,3,3,3,3,3,4,3,4,4,5,4,5,3,3,4,2,3,2,3,3,3,3,3,3,4,3,3,3,4,3,3,3,3,0,0,6.8965517241379309E-2,0.56896551724137934,0.31034482758620691,5.1724137931034482E-2,null,null,null,null,null,null,72,999,7,5,1,null,null,null,null,null,null,3,3,4,2,4,2,2,4,3,3,3,3,2,4,3,4,4,3,4,3,3,5,4,4,4,1,3,4,3,5,3,4,5,4,2,3,5,4,3,3,3,2,3,3,3,5,4,4,3,3,3,3,3,3,3,4,4,2,999,0,1.7241379310344827E-2,0.1206896551724138,0.46551724137931033,0.31034482758620691,8.6206896551724144E-2]
[71,null,null,null,null,null,null,null,null,null,null,2,4,3,3,5,3,2,4,3,4,4,4,4,4,4,5,4,3,4,3,4,5,4,3,5,5,3,4,4,4,4,4,5,4,3,5,5,4,4,3,5,4,4,3,4,4,4,4,3,2,2,3,3,2,3,4,2,3,3,0,0,0.10344827586206896,0.27586206896551724,0.46551724137931033,0.15517241379310345,null,null,null,null,null,null,73,3,7,5,1,null,null,null,null,null,null,4,4,5,5,5,3,3,5,3,3,3,2,2,3,3,4,3,2,2,2,2,3,3,3,5,4,3,4,5,5,5,4,5,5,5,5,3,5,4,3,5,2,3,4,4,4,3,3,3,3,2,2,4,3,3,3,3,3,3,0,0,0.15517241379310345,0.41379310344827586,0.18965517241379309,0.2413793103448276]
[72,null,null,null,null,null,null,null,null,null,null,3,3,4,2,4,2,2,4,3,3,3,3,2,4,3,4,4,3,4,3,3,5,4,4,4,1,3,4,3,5,3,4,5,4,2,3,5,4,3,3,3,2,3,3,3,5,4,4,3,3,3,3,3,3,3,4,4,2,999,0,1.7241379310344827E-2,0.1206896551724138,0.46551724137931033,0.31034482758620691,8.6206896551724144E-2,null,null,null,null,null,null,74,3,7,5,1,null,null,null,null,null,null,4,4,3,3,4,3,3,4,3,4,4,3,3,4,3,4,5,3,3,3,3,5,3,1,4,5,3,4,4,5,5,4,5,4,3,5,5,4,5,4,5,3,3,3,3,5,5,4,3,3,3,3,4,3,3,4,4,5,3,0,1.7241379310344827E-2,0,0.43103448275862066,0.32758620689655171,0.22413793103448276]
[73,null,null,null,null,null,null,null,null,null,null,4,4,5,5,5,3,3,5,3,3,3,2,2,3,3,4,3,2,2,2,2,3,3,3,5,4,3,4,5,5,5,4,5,5,5,5,3,5,4,3,5,2,3,4,4,4,3,3,3,3,2,2,4,3,3,3,3,3,3,0,0,0.15517241379310345,0.41379310344827586,0.18965517241379309,0.2413793103448276,null,null,null,null,null,null,75,3,7,5,5,null,null,null,null,null,null,3,4,4,3,4,3,3,4,3,4,4,4,4,4,4,4,5,4,5,4,4,4,4,2,5,4,3,5,5,5,5,4,5,4,4,5,5,4,4,5,5,2,3,4,3,4,3,3,3,4,4,3,4,4,3,3,3,4,3,0,0,3.4482758620689655E-2,0.25862068965517243,0.5,0.20689655172413793]
[74,null,null,null,null,null,null,null,null,null,null,4,4,3,3,4,3,3,4,3,4,4,3,3,4,3,4,5,3,3,3,3,5,3,1,4,5,3,4,4,5,5,4,5,4,3,5,5,4,5,4,5,3,3,3,3,5,5,4,3,3,3,3,4,3,3,4,4,5,3,0,1.7241379310344827E-2,0,0.43103448275862066,0.32758620689655171,0.22413793103448276,null,null,null,null,null,null,76,3,7,5,5,null,null,null,null,null,null,1,4,2,2,2,1,1,2,2,3,2,2,4,4,2,3,4,3,4,3,3,4,3,2,4,3,3,4,3,3,3,2,5,3,4,3,4,4,3,"n","n",2,2,1,2,4,2,2,1,1,1,2,4,1,3,3,3,2,3,0,0.13793103448275862,0.29310344827586204,0.29310344827586204,0.22413793103448276,1.7241379310344827E-2]
[75,null,null,null,null,null,null,null,null,null,null,3,4,4,3,4,3,3,4,3,4,4,4,4,4,4,4,5,4,5,4,4,4,4,2,5,4,3,5,5,5,5,4,5,4,4,5,5,4,4,5,5,2,3,4,3,4,3,3,3,4,4,3,4,4,3,3,3,4,3,0,0,3.4482758620689655E-2,0.25862068965517243,0.5,0.20689655172413793,null,null,null,null,null,null,77,3,8,6,4,null,null,null,null,null,null,2,4,4,4,5,3,4,4,3,5,5,5,5,5,4,4,5,5,5,5,5,5,5,1,3,4,3,5,3,5,5,4,3,4,4,5,5,4,4,1,5,2,4,4,5,5,4,4,2,2,3,4,4,3,4,4,4,4,3,0,3.4482758620689655E-2,6.8965517241379309E-2,0.13793103448275862,0.39655172413793105,0.36206896551724138]
[76,null,null,null,null,null,null,null,null,null,null,1,4,2,2,2,1,1,2,2,3,2,2,4,4,2,3,4,3,4,3,3,4,3,2,4,3,3,4,3,3,3,2,5,3,4,3,4,4,3,999,999,2,2,1,2,4,2,2,1,1,1,2,4,1,3,3,3,2,3,0,0.13793103448275862,0.29310344827586204,0.29310344827586204,0.22413793103448276,1.7241379310344827E-2]
[77,null,null,null,null,null,null,null,null,null,null,2,4,4,4,5,3,4,4,3,5,5,5,5,5,4,4,5,5,5,5,5,5,5,1,3,4,3,5,3,5,5,4,3,4,4,5,5,4,4,1,5,2,4,4,5,5,4,4,2,2,3,4,4,3,4,4,4,4,3,0,3.4482758620689655E-2,6.8965517241379309E-2,0.13793103448275862,0.39655172413793105,0.36206896551724138]
[78,null,null,null,null,null,null,null,null,null,null,3,3,3,3,3,3,3,3,3,3,3,3,3,3,3,3,3,3,3,3,3,3,3,3,3,4,3,4,3,4,3,5,4,4,4,3,5,5,3,3,3,3,3,3,3,3,3,3,3,3,3,3,3,3,999,3,3,3,3,2.5000000000000001E-2,0,0,0.82758620689655171,0.10344827586206896,5.1724137931034482E-2,null,1,1]

{"sheet":"抽出条件","index":4,"n_rows":2,"n_cols":1,"rows_kept":2,"cut":false,"hidden":false,"merged":[]}
["階層"]
[3]

{"sheet":"全体データ","index":5,"n_rows":76,"n_cols":89,"rows_kept":76,"cut":false,"hidden":false,"merged":[]}
["No.","階層",{"$f":"基本情報_集計!$E$1","v":"自社階層"},{"$f":"基本情報_集計!$I$1","v":"属性２"},{"$f":"基本情報_集計!$J$1","v":"属性３"},{"$f":"基本情報_集計!$K$1","v":"属性４"},{"$f":"基本情報_集計!$L$1","v":"属性５"},{"$f":"基本情報_集計!$M$1","v":"属性６"},{"$f":"基本情報_集計!$N$1","v":"属性７"},{"$f":"基本情報_集計!$O$1","v":"属性８"},{"$f":"基本情報_集計!$P$1","v":"属性９"},{"$f":"基本情報_集計!$Q$1","v":"属性１０"},"問1","問2","問3","問4","問5","問6","問7","問8","問9","問10","問11","問12","問13","問14","問15","問16","問17","問18","問19","問20","問21","問22","問23","問24","問25","問26","問27","問28","問29","問30","問31","問32","問33","問34","問35","問36","問37","問38","問39","問40","問41","問42","問43","問44","問45","問46","問47","問48","問49","問50","問51","問52","問53","問54","問55","問56","問57","問58","Ⅰ","Ⅱ","Ⅲ","Ⅳ","Ⅴ","区分1","区分2","区分3","区分4","区分5","区分6","区分7","区分8","区分9","区分10","区分11","区分12","区分13","区分14"]
[1,3,3,4,5,5,null,null,null,null,null,null,5,4,4,5,4,4,4,4,4,4,4,5,5,5,4,4,5,5,5,5,5,5,5,4,3,3,3,4,5,5,5,4,4,4,3,5,5,5,3,5,5,5,5,4,5,5,5,5,5,5,5,4,5,4,4,4,5,5,4.5999999999999996,4.5625,4.8888888888888893,4.2222222222222223,4.1428571428571432,4.666666666666667,4.333333333333333,4.75,4.4285714285714288,4.666666666666667,5,4.666666666666667,5,4.333333333333333,4.333333333333333,4,3.6,4.4000000000000004,4.5]
[2,3,3,8,6,5,null,null,null,null,null,null,4,4,5,5,5,4,5,5,5,5,5,5,5,5,5,5,5,5,5,5,5,5,5,4,3,5,5,4,5,5,3,4,4,4,4,3,5,4,3,5,5,5,5,3,3,5,5,5,3,3,4,4,3,3,4,4,5,5,3.8,4.8125,4.5555555555555554,4.666666666666667,4.1428571428571432,3.3333333333333335,3.3333333333333335,4.5,5,4.666666666666667,5,3.6666666666666665,5,5,4,5,4.4000000000000004,4,4]
[3,3,3,8,6,5,null,null,null,null,null,null,3,2,3,3,4,3,1,4,2,5,5,5,4,4,3,5,5,4,5,4,5,5,2,3,4,4,3,4,3,3,3,4,4,3,4,5,5,4,3,1,5,4,5,2,3,2,3,3,1,4,2,4,2,1,1,1,1,3,2,4.25,3.1111111111111112,2.7777777777777777,3.7142857142857144,2,1.3333333333333333,2.5,4.4285714285714288,4.1111111111111107,3.3333333333333335,3.3333333333333335,2.6666666666666665,3.3333333333333335,2.6666666666666665,2.3333333333333335,3.8,3.6,3.75]
[4,3,3,8,3,2,null,null,null,null,null,null,4,3,4,4,5,2,3,4,2,2,5,3,3,4,3,5,2,2,4,4,2,4,3,1,2,4,3,4,3,5,3,3,5,4,5,3,4,5,4,2,2,2,4,3,5,4,4,5,2,2,1,1,3,2,1,2,1,3,1.8,3.0625,3.4444444444444446,3.4444444444444446,3.9285714285714284,2,2,1.5,3.5714285714285716,2.6666666666666665,2,4,4.333333333333333,4.333333333333333,3,3,4.2,3.6,4]
[6,1,1,1,1,5,null,null,null,null,null,null,4,4,4,4,4,4,3,4,3,3,3,3,3,3,3,4,4,3,4,4,4,4,4,4,4,4,3,4,5,4,3,5,4,4,4,3,4,4,4,3,4,4,4,4,4,4,3,4,3,4,4,4,4,4,4,4,4,4,3.9,3.5625,3.7777777777777777,3.7777777777777777,3.9285714285714284,3.6666666666666665,4,4,3.1428571428571428,3.8888888888888888,3.6666666666666665,4,3.6666666666666665,4,4,3.3333333333333335,3.8,4.2,3.75]
[7,3,3,2,3,2,null,null,null,null,null,null,3,3,3,2,3,2,2,2,1,1,1,1,2,3,3,3,3,2,2,2,2,3,3,3,3,3,3,4,4,3,2,2,3,3,2,3,4,5,3,1,3,2,2,1,2,2,2,2,1,1,1,1,2,1,1,1,1,1,1.1000000000000001,2.3125,1.8888888888888888,2.3333333333333335,3.1428571428571428,1,1.3333333333333333,1,2,2.5555555555555554,2,1.6666666666666667,2,2.6666666666666665,2.6666666666666665,1.6666666666666667,3.4,3,3]
[8,3,3,2,3,5,null,null,null,null,null,null,2,3,3,2,3,2,2,4,3,2,2,2,2,4,3,3,3,2,4,3,2,4,3,3,2,4,3,4,1,4,3,3,5,3,4,3,4,3,3,2,2,4,3,2,3,2,4,2,2,3,2,2,2,2,2,2,2,2,2.1,2.75,2.6666666666666665,2.6666666666666665,3.3571428571428572,2.3333333333333335,2,2,2.5714285714285716,2.8888888888888888,2.6666666666666665,2.6666666666666665,2.6666666666666665,2.6666666666666665,2.3333333333333335,3,3.6,2.8,3.75]
[9,3,3,2,6,5,null,null,null,null,null,null,5,5,5,5,5,5,5,5,5,5,5,4,5,5,5,5,5,4,4,4,4,5,5,5,4,5,2,4,4,3,5,5,5,5,5,4,4,4,4,4,5,5,5,5,5,5,5,5,5,5,5,5,5,5,5,5,5,5,5,4.625,4.8888888888888893,5,4.2142857142857144,5,5,5,4.8571428571428568,4.4444444444444446,4.666666666666667,5,5,5,5,5,4,4,4.75]
[10,3,3,2,3,5,null,null,null,null,null,null,2,2,3,3,3,2,1,3,1,4,3,2,2,4,2,3,2,3,3,3,3,2,3,2,1,5,5,4,4,4,3,5,4,4,3,5,4,4,3,1,4,4,3,1,3,4,3,3,2,3,2,3,3,1,2,2,2,2,2.2000000000000002,2.625,2.8888888888888888,2.2222222222222223,4.0714285714285712,2.3333333333333335,2,2.25,2.8571428571428572,2.4444444444444446,3,2.3333333333333335,3.3333333333333335,3,2,1.6666666666666667,4.2,4.2,3.75]
[11,3,3,2,3,5,null,null,null,null,null,null,1,2,2,2,3,1,1,3,2,2,4,5,5,4,4,4,4,1,5,5,5,4,1,1,1,4,3,4,2,1,1,4,1,1,2,3,3,2,4,3,3,1,3,1,1,3,3,3,3,4,3,3,2,3,3,3,3,3,3,3.4375,2.3333333333333335,1.8888888888888888,2.5,3.3333333333333335,2.6666666666666665,3,4,3,2.3333333333333335,1.6666666666666667,3,2.3333333333333335,1.3333333333333333,2,3,2.8,1.5]
[12,3,3,2,3,5,null,null,null,null,null,null,1,4,4,3,3,4,3,4,3,4,5,4,5,5,5,4,5,5,5,4,4,5,4,5,3,5,5,5,5,5,5,4,5,3,4,5,5,4,5,1,4,4,3,3,3,1,4,4,1,1,1,1,1,3,1,1,1,1,1.2,4.5,3,3.2222222222222223,4.6428571428571432,1,1.6666666666666667,1,4.5714285714285712,4.4444444444444446,3,3,3,3.3333333333333335,3,3.3333333333333335,4.5999999999999996,4.8,4.5]
[13,3,3,2,3,5,null,null,null,null,null,null,2,4,3,4,4,2,2,3,3,4,4,3,3,4,4,4,4,4,4,4,3,4,4,4,2,5,5,5,3,5,5,4,3,4,4,5,3,4,3,3,5,4,4,3,3,4,4,4,3,4,3,3,4,3,3,3,3,2,3.1,3.6875,3.7777777777777777,3,4.1428571428571432,3.3333333333333335,3.3333333333333335,2.75,3.7142857142857144,3.6666666666666665,4,3.3333333333333335,4,3.6666666666666665,2.6666666666666665,2.6666666666666665,4.5999999999999996,4,3.75]
[14,3,3,2,3,5,null,null,null,null,null,null,1,2,3,4,5,4,3,2,1,2,2,2,2,2,2,2,2,2,2,2,3,3,3,3,3,4,2,3,4,3,5,2,1,4,3,5,1,5,3,4,5,5,5,5,5,5,5,5,5,5,4,3,2,1,2,3,4,5,3.4,2.3125,4.8888888888888893,2.7777777777777777,3.2142857142857144,4.333333333333333,1.6666666666666667,4,2,2.5555555555555554,4.666666666666667,5,5,4,2.3333333333333335,2,3.4,3.4,2.75]
[15,3,3,2,3,5,null,null,null,null,null,null,5,5,4,4,5,4,4,5,4,5,4,4,4,5,4,5,4,5,4,4,5,5,5,4,4,4,4,5,5,3,4,5,4,5,4,3,5,4,3,4,5,5,5,5,5,5,4,5,3,5,4,4,4,4,4,4,4,4,4,4.4375,4.7777777777777777,4.4444444444444446,4.1428571428571432,4,4,4,4.4285714285714288,4.4444444444444446,4.666666666666667,5,4.666666666666667,4.333333333333333,4.666666666666667,4.333333333333333,4.2,3.8,4.5]
[16,3,3,4,4,1,null,null,null,null,null,null,2,2,2,3,2,2,1,2,3,3,4,2,3,5,3,4,4,4,3,2,3,4,4,3,4,4,3,4,3,3,4,5,4,4,5,5,4,4,3,3,4,2,2,4,3,4,4,4,2,3,2,3,3,3,2,3,3,1,2.5,3.4375,3.3333333333333335,2.1111111111111112,3.9285714285714284,2.6666666666666665,2.6666666666666665,2.25,3.4285714285714284,3.4444444444444446,3,3,4,2.3333333333333335,2,2,4,3.8,4]
[17,3,3,4,4,2,null,null,null,null,null,null,2,2,2,1,1,1,1,1,1,2,3,3,3,5,4,1,4,3,4,3,3,3,2,2,2,4,3,4,3,3,3,4,4,4,3,3,4,4,3,1,2,2,2,1,2,4,1,1,1,4,3,1,3,1,1,1,1,2,1.8,2.9375,1.7777777777777777,1.3333333333333333,3.5,2,1.6666666666666667,1.75,3,2.8888888888888888,1.6666666666666667,1.6666666666666667,2,1.3333333333333333,1.6666666666666667,1,3.6,3.2,3.75]
[18,3,3,4,4,2,null,null,null,null,null,null,1,3,3,3,3,1,2,1,2,1,1,3,2,3,2,1,4,3,3,3,2,3,3,4,3,4,3,4,5,5,5,2,4,3,2,3,5,4,4,3,1,2,1,1,3,2,1,1,1,1,2,1,1,1,1,1,1,1,1.1000000000000001,2.5625,1.6666666666666667,2.1111111111111112,3.7857142857142856,1,1,1.25,1.8571428571428572,3.1111111111111112,2,1.6666666666666667,1.3333333333333333,3,1.6666666666666667,1.6666666666666667,3.4,3.8,4.25]
[19,3,3,4,4,5,null,null,null,null,null,null,2,3,4,2,2,3,2,3,4,3,5,4,4,4,3,3,4,2,4,2,4,5,3,4,3,4,3,4,3,4,4,4,4,3,3,5,5,5,3,3,4,2,3,3,4,3,3,3,3,3,4,2,4,3,2,3,2,2,2.8,3.5625,3.1111111111111112,2.7777777777777777,3.8571428571428572,3,3,2.5,3.7142857142857144,3.4444444444444446,3,3.3333333333333335,3,2.6666666666666665,2.6666666666666665,3,3.8,3.8,4]
[20,3,3,4,4,5,null,null,null,null,null,null,4,4,3,2,3,3,2,3,3,3,3,3,3,4,3,3,3,3,4,4,3,3,3,3,3,4,2,3,4,4,3,4,4,4,2,3,4,3,1,3,3,3,2,3,3,4,3,3,2,3,2,2,4,3,3,3,3,3,2.8,3.1875,3,3,3.2142857142857144,2.6666666666666665,3.3333333333333335,2.5,3.1428571428571428,3.2222222222222223,3,2.6666666666666665,3.3333333333333335,2.6666666666666665,3.6666666666666665,2.6666666666666665,2.8,3.2,3.75]
[21,3,3,4,4,4,null,null,null,null,null,null,3,3,3,4,4,3,2,2,3,2,2,2,2,3,3,4,4,3,4,4,2,4,4,4,3,3,5,4,4,4,2,4,5,4,4,3,4,3,3,3,5,3,2,2,3,4,2,2,2,4,3,2,4,2,3,2,2,2,2.6,3.125,2.8888888888888888,3,3.7142857142857144,2.6666666666666665,3,2.25,2.5714285714285716,3.5555555555555554,3.6666666666666665,2.3333333333333335,2.6666666666666665,3.6666666666666665,3,2.3333333333333335,3.8,3.6,3.75]
[22,3,3,4,4,5,null,null,null,null,null,null,2,4,3,2,3,3,3,4,3,3,3,2,3,4,3,4,2,2,3,2,4,4,3,4,3,2,3,5,3,3,3,3,3,4,3,3,4,3,3,3,4,4,3,3,4,3,3,4,2,4,3,3,3,3,4,3,3,3,3.1,3.0625,3.4444444444444446,3,3.2142857142857144,3,3.3333333333333335,3,3.1428571428571428,3,3.6666666666666665,3.3333333333333335,3.3333333333333335,2.6666666666666665,3,3.3333333333333335,3.2,3,3.5]
[23,3,3,4,4,5,null,null,null,null,null,null,1,2,3,3,2,2,2,1,4,3,3,2,2,3,2,4,4,1,3,2,2,3,2,2,2,5,3,5,3,5,3,4,5,4,4,5,5,5,3,3,4,2,1,1,2,2,2,2,1,1,2,2,2,1,2,3,1,1,1.6,2.5,2.1111111111111112,2.2222222222222223,4.2142857142857144,1.6666666666666667,1.6666666666666667,1.5,2.7142857142857144,2.3333333333333335,3,1.3333333333333333,2,2.6666666666666665,1.6666666666666667,2.3333333333333335,4.4000000000000004,4,4.25]
[24,3,3,4,4,1,null,null,null,null,null,null,4,4,5,5,5,4,3,3,2,4,4,4,5,4,4,4,5,4,4,2,3,5,4,3,3,4,3,5,3,5,5,4,4,5,4,3,4,4,3,4,4,5,4,4,5,5,4,3,4,4,5,3,4,4,3,3,3,3,3.6,3.875,4.2222222222222223,3.8888888888888888,4,3.6666666666666665,3.6666666666666665,3.5,4.1428571428571432,3.6666666666666665,4.333333333333333,4.333333333333333,4,5,4,2.6666666666666665,4,3.6,4.5]
[25,3,3,4,4,1,null,null,null,null,null,null,1,3,3,3,3,3,2,3,3,1,2,2,2,4,3,3,3,3,3,3,1,3,3,1,1,3,3,5,1,1,2,4,2,5,5,1,5,2,1,3,3,3,3,3,3,3,3,3,1,1,1,1,1,1,1,1,1,1,1,2.375,3,2.6666666666666665,2.8571428571428572,1,1,1,2.4285714285714284,2.3333333333333335,3,3,3,3,2.3333333333333335,2.6666666666666665,3.6,1.6,3.5]
[26,3,3,4,4,1,null,null,null,null,null,null,4,2,4,4,3,3,4,3,3,4,5,3,3,5,3,4,3,2,4,3,3,4,3,3,3,3,3,4,4,4,4,4,4,2,5,4,4,4,4,3,4,3,3,3,3,3,3,3,3,4,3,4,3,3,3,3,3,3,3.2,3.4375,3.1111111111111112,3.3333333333333335,3.7857142857142856,3.3333333333333335,3,3.25,3.8571428571428572,3.1111111111111112,3.3333333333333335,3,3,3.6666666666666665,3,3.3333333333333335,3.8,4,3.5]
[27,3,3,4,4,5,null,null,null,null,null,null,2,2,2,3,3,2,1,2,2,3,3,3,3,4,3,5,4,3,3,3,4,4,3,3,4,3,3,5,3,5,3,4,4,4,5,3,4,4,4,2,4,3,3,2,3,4,3,2,2,3,3,3,4,2,2,2,2,2,2.5,3.4375,2.8888888888888888,2.1111111111111112,3.8571428571428572,2.3333333333333335,2.6666666666666665,2.5,3.4285714285714284,3.4444444444444446,3,2.6666666666666665,3,2.6666666666666665,2,1.6666666666666667,4,3.8,3.75]
[28,3,3,4,4,5,null,null,null,null,null,null,2,4,2,2,2,2,2,2,3,2,2,2,3,4,3,3,4,4,4,4,4,4,4,2,2,5,3,4,3,3,3,4,4,3,4,3,4,3,3,3,5,2,2,2,3,3,3,3,2,3,2,3,4,2,2,3,2,3,2.6,3.1875,2.8888888888888888,2.3333333333333335,3.5,2.6666666666666665,2.6666666666666665,2.5,2.7142857142857144,3.5555555555555554,3.3333333333333335,2.3333333333333335,3,2,2.6666666666666665,2.3333333333333335,3.8,3.2,3.5]
[29,3,3,4,4,5,null,null,null,null,null,null,3,3,3,2,2,3,2,2,3,2,2,2,2,4,2,4,3,2,2,2,3,2,3,3,3,3,3,3,1,2,3,5,3,3,2,2,1,2,3,3,4,2,2,2,3,2,2,2,2,2,3,3,4,3,4,2,2,3,2.8,2.5625,2.4444444444444446,2.5555555555555554,2.5714285714285716,2,3.6666666666666665,2.75,2.5714285714285716,2.5555555555555554,3,2.3333333333333335,2,2.3333333333333335,3,2.3333333333333335,2.6,2.6,2.5]
[30,3,3,4,4,1,null,null,null,null,null,null,2,3,3,4,4,2,2,2,4,4,4,3,3,4,4,4,2,2,4,3,3,4,4,4,2,5,3,4,2,1,5,4,1,2,2,3,3,4,3,2,4,3,3,2,4,4,3,2,2,3,3,3,4,2,2,3,2,3,2.7,3.375,3,2.8888888888888888,3,2.6666666666666665,2.6666666666666665,2.75,3.7142857142857144,3.1111111111111112,3,3,3,3.6666666666666665,2.3333333333333335,2.6666666666666665,3.6,2.6,2.75]
[31,1,1,4,1,4,null,null,null,null,null,null,5,4,4,3,5,3,3,4,3,5,5,5,5,5,5,4,4,4,5,5,5,5,5,5,5,4,3,5,5,5,5,4,4,4,3,5,5,5,3,5,5,4,4,3,3,5,4,4,5,5,5,5,4,5,5,5,5,5,4.9000000000000004,4.8125,4.1111111111111107,3.7777777777777777,4.2857142857142856,5,4.666666666666667,5,4.8571428571428568,4.7777777777777777,4.666666666666667,3.3333333333333335,4.333333333333333,4,4,3.3333333333333335,4,4.4000000000000004,4.5]
[32,3,3,4,5,5,null,null,null,null,null,null,2,1,1,1,2,1,1,2,1,2,2,2,3,5,4,2,4,3,4,3,4,4,3,1,2,2,3,4,3,3,1,5,4,2,2,1,4,1,4,1,5,2,2,1,2,3,2,2,2,2,2,2,3,1,2,2,1,1,1.8,3,2.2222222222222223,1.3333333333333333,2.7857142857142856,2,2,1.5,2.8571428571428572,3.1111111111111112,2.6666666666666665,1.6666666666666667,2.3333333333333335,1.3333333333333333,1.3333333333333333,1.3333333333333333,2.4,3.2,2.75]
[33,3,3,4,5,5,null,null,null,null,null,null,2,2,2,3,3,2,2,2,2,3,3,4,3,3,3,4,3,3,3,3,3,3,2,3,4,4,3,4,3,3,3,5,3,3,5,2,4,3,1,2,1,2,3,3,3,3,3,3,2,1,2,2,2,2,2,2,2,3,2,3.125,2.5555555555555554,2.2222222222222223,3.2857142857142856,1.6666666666666667,2,2.25,3.2857142857142856,3,1.6666666666666667,3,3,2.6666666666666665,2,2,3.8,2.8,3.25]
[34,3,3,4,5,5,null,null,null,null,null,null,4,4,4,3,4,2,4,3,4,4,4,4,3,5,4,4,4,4,4,4,4,4,4,3,5,5,4,5,4,5,5,4,4,4,4,5,5,5,5,3,5,4,4,3,3,4,4,4,4,4,4,4,3,3,4,4,4,4,3.8,4,3.7777777777777777,3.5555555555555554,4.5714285714285712,4,3.3333333333333335,4,4,4,4,3.3333333333333335,4,3.6666666666666665,3.3333333333333335,3.6666666666666665,4.5999999999999996,4.5999999999999996,4.5]
[35,3,3,4,5,5,null,null,null,null,null,null,3,4,1,1,1,1,1,3,3,5,3,3,3,5,5,3,5,5,5,5,5,5,4,3,3,4,3,5,2,4,5,5,4,4,5,5,1,1,2,1,5,1,1,1,4,1,1,1,1,3,4,2,3,2,2,2,2,2,2.2999999999999998,4.1875,1.7777777777777777,2,3.5714285714285716,2,2.3333333333333335,2.5,3.8571428571428572,4.4444444444444446,2.3333333333333335,2,1,1,2.6666666666666665,2.3333333333333335,3.6,3.6,3.5]
[36,3,3,4,5,5,null,null,null,null,null,null,4,4,3,3,2,1,1,1,1,5,5,1,1,5,3,4,3,3,4,3,4,4,4,1,5,4,3,3,4,3,4,4,5,4,4,5,4,3,4,2,5,2,3,1,3,3,3,2,2,2,1,4,3,1,2,2,1,2,2,3.4375,2.6666666666666665,2.2222222222222223,3.8571428571428572,2,2,2,3.4285714285714284,3.4444444444444446,3,2.3333333333333335,2.6666666666666665,2.6666666666666665,3,1,3.4,4,4.25]
[37,3,3,4,5,5,null,null,null,null,null,null,2,3,2,2,2,2,2,2,3,3,4,2,3,4,3,3,3,3,3,4,3,4,2,4,2,2,3,3,3,3,2,3,3,3,3,4,3,5,4,3,4,2,4,2,3,3,2,3,2,4,4,4,3,3,4,3,2,4,3.3,3.125,2.8888888888888888,2.2222222222222223,3.1428571428571428,3,3.3333333333333335,3.5,3.1428571428571428,3.1111111111111112,3,3,2.6666666666666665,2,2.3333333333333335,2.3333333333333335,3.2,3.4,2.75]
[38,3,3,4,5,5,null,null,null,null,null,null,3,5,4,4,3,3,3,4,4,3,1,1,3,4,4,1,4,4,4,4,2,4,4,5,4,4,3,4,3,5,5,4,4,5,4,3,5,5,3,4,4,4,4,4,4,4,4,4,4,4,4,3,4,4,5,4,4,4,4,3.25,4,3.6666666666666665,4.0714285714285712,4,4.333333333333333,3.75,2.4285714285714284,3.8888888888888888,4,4,4,3.6666666666666665,3.6666666666666665,3.6666666666666665,4,3.6,4.75]
[39,3,3,7,5,5,null,null,null,null,null,null,2,3,2,2,4,2,2,3,2,4,4,3,3,4,4,4,4,3,3,4,3,4,4,3,3,4,3,4,3,3,3,4,5,4,3,5,5,4,4,3,5,3,3,3,3,4,4,4,2,3,3,4,4,2,3,3,3,2,2.9,3.5625,3.5555555555555554,2.4444444444444446,3.8571428571428572,2.6666666666666665,3,3,3.7142857142857144,3.4444444444444446,3.6666666666666665,3,4,2.6666666666666665,2.3333333333333335,2.3333333333333335,3.6,3.8,4.25]
[40,3,3,6,4,1,null,null,null,null,null,null,3,4,4,4,4,2,2,4,4,3,2,2,2,3,3,4,3,3,3,2,3,4,4,3,4,4,3,4,3,3,4,4,5,3,2,5,4,4,4,3,3,3,2,3,4,4,4,4,3,2,3,3,4,3,3,4,2,3,3,3,3.3333333333333335,3.4444444444444446,3.7142857142857144,3,3.3333333333333335,2.75,2.7142857142857144,3.2222222222222223,3,3,4,4,3,3.3333333333333335,3.4,3.8,4]
[41,3,3,6,4,2,null,null,null,null,null,null,5,5,5,5,5,4,4,4,5,4,5,4,4,4,4,4,4,5,4,4,5,5,5,4,4,4,3,4,3,5,3,3,5,3,5,5,5,3,3,5,5,4,4,3,4,4,4,4,3,3,4,4,5,4,4,4,4,4,3.9,4.3125,4.1111111111111107,4.666666666666667,3.8571428571428572,3.3333333333333335,4.333333333333333,4,4.1428571428571432,4.4444444444444446,4.666666666666667,3.6666666666666665,4,5,4.666666666666667,4.333333333333333,3.8,3.8,4]
[42,3,3,6,4,5,null,null,null,null,null,null,3,3,3,4,4,3,3,4,4,3,3,3,3,4,3,4,3,2,2,3,2,2,2,2,2,5,3,3,4,3,3,2,4,4,5,5,5,5,4,1,2,4,2,3,3,3,3,3,2,2,2,1,4,4,4,1,3,1,2.4,2.6875,2.6666666666666665,3.4444444444444446,3.9285714285714284,1.6666666666666667,4,1.75,3.2857142857142856,2.2222222222222223,2.3333333333333335,2.6666666666666665,3,3.6666666666666665,3,3.6666666666666665,4.2,3.6,4]
[43,3,3,6,4,5,null,null,null,null,null,null,3,3,3,4,3,3,3,3,3,2,4,3,4,4,3,4,4,4,4,4,3,4,4,3,2,5,4,4,3,5,3,4,4,4,5,5,4,5,4,3,4,4,3,3,3,3,4,3,3,3,4,3,3,3,4,3,3,3,3.2,3.5,3.3333333333333335,3.1111111111111112,4.2142857142857144,3,3.3333333333333335,3.25,3.4285714285714284,3.5555555555555554,3.6666666666666665,3,3.3333333333333335,3.3333333333333335,3,3,4.5999999999999996,4.2,3.75]
[44,3,3,6,4,5,null,null,null,null,null,null,3,3,3,3,3,3,3,3,2,3,3,2,2,4,3,4,3,3,2,2,3,3,2,2,2,5,5,4,4,3,4,5,5,4,5,2,1,4,4,3,3,3,3,2,3,4,3,2,1,3,2,1,3,2,2,3,2,3,2.2000000000000002,2.6875,2.8888888888888888,2.8888888888888888,3.9285714285714284,2.3333333333333335,2.3333333333333335,2,3,2.4444444444444446,3,2.6666666666666665,3,3,3,2.6666666666666665,4.5999999999999996,3.6,3.5]
[45,3,3,7,6,5,null,null,null,null,null,null,3,4,5,5,3,3,2,2,2,2,2,4,4,3,4,4,4,2,2,3,3,3,2,3,3,3,5,5,4,3,3,3,5,3,2,5,5,5,3,3,1,1,1,1,4,4,3,3,1,1,5,3,3,2,2,2,2,2,2.2999999999999998,3,2.3333333333333335,3.2222222222222223,3.8571428571428572,1.3333333333333333,2.3333333333333335,3,3.2857142857142856,2.7777777777777777,1.6666666666666667,2,3.3333333333333335,4.333333333333333,3.3333333333333335,2,4,3.6,4]
[46,3,3,5,4,5,null,null,null,null,null,null,3,4,4,4,4,4,4,4,4,4,4,5,4,4,4,4,4,4,4,4,4,4,4,4,4,4,5,5,5,3,3,1,5,4,4,5,5,5,4,4,5,3,3,3,5,5,5,5,5,4,3,5,5,4,3,5,3,5,4.2,4.0625,4.2222222222222223,3.8888888888888888,4.1428571428571432,4.666666666666667,4,4,4.1428571428571432,4,4,3.6666666666666665,5,4,3.6666666666666665,4,4.5999999999999996,3.6,4.25]
[47,3,3,5,3,4,null,null,null,null,null,null,2,4,3,3,4,2,2,3,2,4,4,3,3,4,4,3,2,3,5,4,4,5,4,3,2,5,5,5,3,4,3,5,4,3,5,5,4,4,3,4,2,2,2,2,3,4,4,4,3,4,4,3,4,2,4,3,2,2,3.1,3.5625,3,2.7777777777777777,4.1428571428571432,3.3333333333333335,3.3333333333333335,2.75,3.5714285714285716,3.5555555555555554,2.6666666666666665,2.3333333333333335,4,3.3333333333333335,2.6666666666666665,2.3333333333333335,4.8,4,3.5]
[48,3,3,5,6,5,null,null,null,null,null,null,1,5,3,4,5,1,2,4,1,5,5,5,5,4,5,4,5,5,5,5,5,5,3,1,1,4,3,4,5,5,4,5,5,4,4,5,5,5,4,3,5,4,4,1,1,5,3,5,4,3,2,2,5,2,2,3,3,3,2.9,4.25,3.4444444444444446,2.8888888888888888,4.4285714285714288,3.3333333333333335,3,2.5,4.7142857142857144,3.8888888888888888,4,2,4.333333333333333,4,2.3333333333333335,2.3333333333333335,4,4.8,4.5]
[49,3,3,5,3,5,null,null,null,null,null,null,2,5,3,3,5,4,3,4,2,4,3,3,3,4,3,3,4,3,3,3,3,3,4,3,3,4,3,5,5,5,3,4,4,4,4,3,5,4,3,3,4,2,4,3,3,3,3,3,3,3,3,3,4,3,3,4,4,3,3.3,3.25,3.1111111111111112,3.4444444444444446,4,3.3333333333333335,3.3333333333333335,3.25,3.2857142857142856,3.2222222222222223,3,3.3333333333333335,3,3.6666666666666665,3.6666666666666665,3,4,4,4]
[50,3,3,5,6,5,null,null,null,null,null,null,3,5,5,3,4,4,3,2,2,5,4,4,4,5,5,5,5,5,5,5,5,5,4,1,3,5,5,4,5,5,4,5,4,4,4,5,5,5,4,2,5,3,3,4,4,1,2,4,2,2,2,2,5,2,2,2,1,2,2.2000000000000002,4.375,3.1111111111111112,3.4444444444444446,4.5714285714285712,2,3,1.75,4.5714285714285712,4.2222222222222223,3.3333333333333335,3.6666666666666665,2.3333333333333335,4,4,2.3333333333333335,4.5999999999999996,4.8,4.25]
[51,3,3,5,3,5,null,null,null,null,null,null,4,4,4,4,4,4,4,3,4,4,4,5,5,5,4,5,5,5,5,4,4,4,5,5,4,4,4,5,3,4,3,4,5,4,3,5,5,4,3,4,5,4,4,4,5,5,4,5,4,4,4,4,5,4,4,4,4,4,4.0999999999999996,4.5625,4.4444444444444446,3.8888888888888888,4,4,4.333333333333333,4,4.5714285714285712,4.5555555555555554,4.333333333333333,4.333333333333333,4.666666666666667,4,4,3.6666666666666665,4,3.8,4.25]
[52,3,3,5,3,2,null,null,null,null,null,null,1,1,1,1,1,1,1,1,1,1,1,1,1,4,3,3,3,3,3,3,4,4,4,2,3,2,3,4,3,4,3,2,5,4,4,3,4,3,3,1,3,1,2,2,2,1,1,1,1,1,1,1,1,1,1,1,1,1,1,2.6875,1.5555555555555556,1,3.3571428571428572,1,1,1,2,3.2222222222222223,1.6666666666666667,2,1,1,1,1,3.2,3,4]
[53,3,3,5,3,4,null,null,null,null,null,null,1,2,3,3,2,2,2,2,2,3,3,1,2,3,2,2,4,4,4,4,4,3,4,3,2,3,3,3,4,3,2,3,1,3,4,1,1,5,3,2,2,1,1,1,2,2,2,2,2,3,2,2,2,2,1,2,2,3,2.1,3,1.6666666666666667,2.1111111111111112,2.7857142857142856,2.3333333333333335,1.6666666666666667,2.25,2.2857142857142856,3.5555555555555554,1.6666666666666667,1.3333333333333333,2,2.6666666666666665,1.6666666666666667,2,3.6,2.8,1.75]
[54,3,3,5,3,5,null,null,null,null,null,null,1,2,1,1,4,1,1,4,1,3,2,2,2,2,2,2,5,1,1,3,5,5,3,1,3,5,3,4,4,5,5,4,5,4,5,3,5,5,5,1,1,1,1,1,1,3,2,2,1,1,1,1,2,1,1,1,1,1,1.1000000000000001,2.625,1.4444444444444444,1.7777777777777777,4.4285714285714288,1,1.3333333333333333,1,2.1428571428571428,3,1,1,2.3333333333333335,2,1.3333333333333333,2,4.4000000000000004,4.2,4.75]
[55,3,3,5,3,2,null,null,null,null,null,null,1,2,1,2,2,1,1,2,1,1,1,2,3,3,3,3,4,3,4,3,3,3,3,1,2,4,3,4,1,3,2,3,2,2,5,2,4,5,2,1,2,2,1,1,1,2,2,1,1,1,1,1,1,1,1,1,1,1,1,2.625,1.4444444444444444,1.4444444444444444,3,1,1,1,2.2857142857142856,2.8888888888888888,1.6666666666666667,1,1.6666666666666667,1.6666666666666667,1.3333333333333333,1.3333333333333333,4.2,2.2000000000000002,2.5]
[56,3,3,5,2,5,null,null,null,null,null,null,3,5,5,4,5,4,3,3,4,4,5,5,5,5,5,5,5,5,5,5,5,5,4,4,4,4,3,5,5,5,3,4,5,4,5,5,5,5,5,3,3,2,3,4,3,3,4,4,2,3,3,3,4,4,3,4,4,3,3.3,4.75,3.2222222222222223,4,4.5,3,3.6666666666666665,3.25,4.8571428571428568,4.666666666666667,2.6666666666666665,3.3333333333333335,3.6666666666666665,4.666666666666667,4,3.3333333333333335,4.4000000000000004,4.8,4.25]
[57,3,3,5,2,5,null,null,null,null,null,null,2,3,3,3,4,3,3,3,3,5,4,3,3,4,4,3,4,4,4,4,4,4,4,3,2,5,3,4,3,3,3,5,4,4,3,5,4,3,4,3,4,3,3,3,3,4,2,3,2,2,2,2,3,3,3,3,3,3,2.6,3.6875,3.1111111111111112,3,3.7857142857142856,2.3333333333333335,3,2.5,3.7142857142857144,3.6666666666666665,3.3333333333333335,3,3,3.3333333333333335,2.6666666666666665,3,3.6,4,3.75]
[58,3,3,5,2,5,null,null,null,null,null,null,2,2,1,2,2,2,2,2,2,5,4,3,3,5,2,5,4,3,5,5,5,5,4,2,2,5,3,4,4,5,4,4,4,4,5,5,5,4,3,2,5,4,4,3,5,4,3,3,4,2,4,2,2,2,4,4,4,3,3.1,3.875,3.6666666666666665,1.8888888888888888,4.2142857142857144,3.3333333333333335,2.6666666666666665,3.25,3.8571428571428572,3.8888888888888888,3.6666666666666665,4,3.3333333333333335,1.6666666666666667,2,2,4.2,4.2,4.25]
[59,3,3,5,2,5,null,null,null,null,null,null,2,3,3,2,3,1,1,2,2,3,3,3,3,3,3,3,3,3,4,4,5,5,2,2,1,5,3,4,3,3,3,5,5,4,3,5,5,3,3,1,2,1,1,1,1,1,1,1,1,1,1,1,1,1,1,1,1,1,1,3.125,1.1111111111111112,2.1111111111111112,3.8571428571428572,1,1,1,3,3.2222222222222223,1.3333333333333333,1,1,2.6666666666666665,2,1.6666666666666667,3.6,3.8,4.25]
[60,999,999,7,5,1,null,null,null,null,null,null,3,4,4,3,3,3,3,4,4,3,3,3,3,4,3,3,3,3,3,3,3,3,3,4,4,4,3,5,2,3,3,4,5,3,4,5,3,5,3,3,5,4,4,3,4,4,4,4,3,3,3,4,3,4,4,3,4,4,3.5,3.1875,3.8888888888888888,3.4444444444444446,3.7142857142857144,3,3.6666666666666665,3.75,3.1428571428571428,3.2222222222222223,4,3.6666666666666665,4,3.3333333333333335,3.3333333333333335,3.6666666666666665,4.2,3.4,3.5]
[61,999,999,7,5,1,null,null,null,null,null,null,3,4,4,3,5,3,2,4,2,3,4,2,3,2,2,3,4,4,4,3,2,4,4,3,2,4,3,4,3,4,5,4,5,4,4,5,4,5,3,4,3,4,3,2,3,5,4,3,2,3,3,3,4,3,4,3,4,4,3.3,3.0625,3.4444444444444446,3.3333333333333335,4.0714285714285712,2.6666666666666665,3.6666666666666665,3.5,2.7142857142857144,3.3333333333333335,3.6666666666666665,2.6666666666666665,4,4,3.3333333333333335,2.6666666666666665,4,3.8,4.5]
[62,3,3,7,5,5,null,null,null,null,null,null,3,4,4,4,5,3,3,4,3,4,4,3,3,4,3,3,4,3,4,4,3,5,4,5,5,5,3,5,4,4,5,4,5,4,4,3,3,4,4,3,5,4,4,3,4,5,5,4,4,4,5,4,4,3,4,4,4,5,4.0999999999999996,3.8125,4.1111111111111107,3.6666666666666665,4.0714285714285712,4,3.6666666666666665,4.5,3.4285714285714284,4.1111111111111107,4,3.6666666666666665,4.666666666666667,4.333333333333333,3.3333333333333335,3.3333333333333335,4.2,3.8,4.25]
[63,3,3,7,5,1,null,null,null,null,null,null,2,4,5,5,5,2,3,4,4,2,4,3,3,3,3,4,3,2,3,2,3,2,3,4,4,4,3,5,3,5,5,3,4,4,4,5,5,4,3,2,5,5,3,2,3,5,3,4,2,4,3,4,5,3,2,3,2,3,3.1,3,3.5555555555555554,3.7777777777777777,4.0714285714285712,3,3.3333333333333335,3,3.1428571428571428,2.8888888888888888,4,2.6666666666666665,4,5,2.6666666666666665,3.6666666666666665,4,3.8,4.5]
[64,3,3,8,3,5,null,null,null,null,null,null,5,4,4,3,3,3,4,3,4,5,5,4,4,5,4,4,3,4,3,5,4,3,4,3,3,4,4,5,4,5,5,4,4,4,5,4,5,4,4,3,2,4,2,3,4,2,3,3,2,4,3,2,4,2,3,3,3,3,2.9,3.9375,2.8888888888888888,3.6666666666666665,4.3571428571428568,3,3,2.75,4.4285714285714288,3.5555555555555554,3,3,2.6666666666666665,3.3333333333333335,4,3.6666666666666665,4.4000000000000004,4.2,4.5]
[66,3,3,8,5,1,null,null,null,null,null,null,3,5,3,3,2,5,5,5,3,3,3,3,3,5,3,5,5,5,3,2,5,5,5,5,5,4,3,3,3,4,3,4,4,5,5,5,5,4,3,5,5,5,5,3,3,5,5,5,3,5,3,5,5,5,5,3,5,5,4.4000000000000004,4.0625,4.5555555555555554,3.7777777777777777,3.9285714285714284,3.6666666666666665,5,4.5,3.5714285714285716,4.4444444444444446,5,3.6666666666666665,5,2.6666666666666665,4.333333333333333,4.333333333333333,3.8,3.8,4.25]
[67,3,3,8,5,1,null,null,null,null,null,null,4,5,5,5,1,5,5,3,2,4,4,4,5,5,4,5,5,4,2,1,4,5,3,5,5,2,3,4,3,3,3,5,5,5,4,5,4,4,3,4,5,5,5,3,5,5,3,5,2,3,3,3,5,3,3,3,5,4,3.4,4.0625,4.4444444444444446,3.8888888888888888,3.7857142857142856,2.6666666666666665,3.6666666666666665,3.75,4.4285714285714288,3.7777777777777777,4.666666666666667,4.333333333333333,4.333333333333333,3.6666666666666665,4.666666666666667,3.3333333333333335,3.4,3.8,4.25]
[68,3,3,8,5,5,null,null,null,null,null,null,2,4,3,3,2,2,3,3,2,3,3,3,3,4,4,4,5,4,3,3,4,4,4,3,3,3,5,4,5,5,5,4,4,5,3,5,5,5,4,2,4,4,3,2,3,4,3,4,4,4,3,3,4,3,3,4,3,3,3.4,3.5625,3.2222222222222223,2.6666666666666665,4.4285714285714288,4,3.3333333333333335,3,3.4285714285714284,3.6666666666666665,3.3333333333333335,2.6666666666666665,3.6666666666666665,2.6666666666666665,2.6666666666666665,2.6666666666666665,4,4.5999999999999996,4.75]
[69,3,3,5,2,5,null,null,null,null,null,null,2,2,2,3,4,3,2,4,2,4,4,3,3,4,4,4,3,2,4,3,4,4,4,4,2,2,3,4,3,3,4,5,3,3,3,4,3,3,3,2,3,2,3,2,2,4,3,2,2,3,2,2,3,1,1,1,1,1,1.7,3.5,2.5555555555555554,2.6666666666666665,3.2857142857142856,2,1.6666666666666667,1.5,3.7142857142857144,3.3333333333333335,2.3333333333333335,2.3333333333333335,3,3,2.3333333333333335,2.6666666666666665,3,3.6,3.25]
[70,3,3,7,5,5,null,null,null,null,null,null,2,4,3,3,4,3,3,3,2,3,4,4,4,5,3,3,3,4,4,3,4,4,4,3,3,4,3,3,3,3,3,4,3,4,4,5,4,5,3,3,4,2,3,2,3,3,3,3,3,3,4,3,3,3,4,3,3,3,3.2,3.625,2.8888888888888888,3,3.6428571428571428,3,3.3333333333333335,3.25,3.7142857142857144,3.5555555555555554,3,2.6666666666666665,3,3.3333333333333335,3,2.6666666666666665,3.8,3.6,3.5]
[71,3,3,7,5,5,null,null,null,null,null,null,2,4,3,3,5,3,2,4,3,4,4,4,4,4,4,5,4,3,4,3,4,5,4,3,5,5,3,4,4,4,4,4,5,4,3,5,5,4,4,3,5,4,4,3,4,4,4,4,3,2,2,3,3,2,3,4,2,3,2.7,4,3.8888888888888888,3.2222222222222223,4.1428571428571432,3,2.6666666666666665,2.5,4.1428571428571432,3.8888888888888888,4,3.6666666666666665,4,3.6666666666666665,3,3,3.8,4.2,4.5]
[72,999,999,7,5,1,null,null,null,null,null,null,3,3,4,2,4,2,2,4,3,3,3,3,2,4,3,4,4,3,4,3,3,5,4,4,4,1,3,4,3,5,3,4,5,4,2,3,5,4,3,3,3,2,3,3,3,5,4,4,3,3,3,3,3,3,3,4,4,2,3.1,3.5,3.3333333333333335,3,3.5,3.3333333333333335,3,3,3.1428571428571428,3.7777777777777777,2.6666666666666665,3,4.333333333333333,3.3333333333333335,2.6666666666666665,3,2.8,3.6,4.25]
[73,3,3,7,5,1,null,null,null,null,null,null,4,4,5,5,5,3,3,5,3,3,3,2,2,3,3,4,3,2,2,2,2,3,3,3,5,4,3,4,5,5,5,4,5,5,5,5,3,5,4,3,5,2,3,4,4,4,3,3,3,3,2,2,4,3,3,3,3,3,2.9,2.8125,3.4444444444444446,4.1111111111111107,4.4285714285714288,3,3.3333333333333335,2.5,2.8571428571428572,2.7777777777777777,3.3333333333333335,3.6666666666666665,3.3333333333333335,5,3.6666666666666665,3.6666666666666665,4.2,4.5999999999999996,4.5]
[74,3,3,7,5,1,null,null,null,null,null,null,4,4,3,3,4,3,3,4,3,4,4,3,3,4,3,4,5,3,3,3,3,5,3,1,4,5,3,4,4,5,5,4,5,4,3,5,5,4,5,4,5,3,3,3,3,5,5,4,3,3,3,3,4,3,3,4,4,5,3.5,3.4375,3.8888888888888888,3.4444444444444446,4.3571428571428568,3.3333333333333335,3.3333333333333335,3.75,3.5714285714285716,3.3333333333333335,4,3,4.666666666666667,3.3333333333333335,3.6666666666666665,3.3333333333333335,3.8,4.5999999999999996,4.75]
[75,3,3,7,5,5,null,null,null,null,null,null,3,4,4,3,4,3,3,4,3,4,4,4,4,4,4,4,5,4,5,4,4,4,4,2,5,4,3,5,5,5,5,4,5,4,4,5,5,4,4,5,5,2,3,4,3,4,3,3,3,4,4,3,4,4,3,3,3,4,3.5,4.0625,3.5555555555555554,3.4444444444444446,4.4285714285714288,3.3333333333333335,3.6666666666666665,3.5,4,4.1111111111111107,4,3.3333333333333335,3.3333333333333335,3.6666666666666665,3.3333333333333335,3.3333333333333335,4,4.5999999999999996,4.75]
[76,3,3,7,5,5,null,null,null,null,null,null,1,4,2,2,2,1,1,2,2,3,2,2,4,4,2,3,4,3,4,3,3,4,3,2,4,3,3,4,3,3,3,2,5,3,4,3,4,4,3,3,4,2,2,1,2,4,2,2,1,1,1,2,4,1,3,3,3,2,2.1,3.125,2.4444444444444446,1.8888888888888888,3.3571428571428572,1.6666666666666667,2.6666666666666665,2,2.8571428571428572,3.3333333333333335,3,1.6666666666666667,2.6666666666666665,2,2,1.6666666666666667,3.6,2.8,3.75]
[77,3,3,8,6,4,null,null,null,null,null,null,2,4,4,4,5,3,4,4,3,5,5,5,5,5,4,4,5,5,5,5,5,5,5,1,3,4,3,5,3,5,5,4,3,4,4,5,5,4,4,1,5,2,4,4,5,5,4,4,2,2,3,4,4,3,4,4,4,4,3.4,4.5,3.7777777777777777,3.6666666666666665,4.1428571428571432,2.6666666666666665,3.6666666666666665,3.75,4.7142857142857144,4.333333333333333,2.6666666666666665,4.333333333333333,4.333333333333333,4.333333333333333,3,3.6666666666666665,4,4.2,4.25]

{"sheet":"抽出データ","index":6,"n_rows":71,"n_cols":89,"rows_kept":71,"cut":false,"hidden":false,"merged":[]}
["No.","階層","自社階層","属性１","属性２","属性３","属性４","属性５","属性６","属性７","属性８","属性９","問1","問2","問3","問4","問5","問6","問7","問8","問9","問10","問11","問12","問13","問14","問15","問16","問17","問18","問19","問20","問21","問22","問23","問24","問25","問26","問27","問28","問29","問30","問31","問32","問33","問34","問35","問36","問37","問38","問39","問40","問41","問42","問43","問44","問45","問46","問47","問48","問49","問50","問51","問52","問53","問54","問55","問56","問57","問58","Ⅰ","Ⅱ","Ⅲ","Ⅳ","Ⅴ","区分1","区分2","区分3","区分4","区分5","区分6","区分7","区分8","区分9","区分10","区分11","区分12","区分13","区分14"]
[1,3,3,4,5,5,null,null,null,null,null,null,5,4,4,5,4,4,4,4,4,4,4,5,5,5,4,4,5,5,5,5,5,5,5,4,3,3,3,4,5,5,5,4,4,4,3,5,5,5,3,5,5,5,5,4,5,5,5,5,5,5,5,4,5,4,4,4,5,5,4.5999999999999996,4.5625,4.8888888888888893,4.2222222222222223,4.1428571428571432,4.666666666666667,4.333333333333333,4.75,4.4285714285714288,4.666666666666667,5,4.666666666666667,5,4.333333333333333,4.333333333333333,4,3.6,4.4000000000000004,4.5]
[2,3,3,8,6,5,null,null,null,null,null,null,4,4,5,5,5,4,5,5,5,5,5,5,5,5,5,5,5,5,5,5,5,5,5,4,3,5,5,4,5,5,3,4,4,4,4,3,5,4,3,5,5,5,5,3,3,5,5,5,3,3,4,4,3,3,4,4,5,5,3.8,4.8125,4.5555555555555554,4.666666666666667,4.1428571428571432,3.3333333333333335,3.3333333333333335,4.5,5,4.666666666666667,5,3.6666666666666665,5,5,4,5,4.4000000000000004,4,4]
[3,3,3,8,6,5,null,null,null,null,null,null,3,2,3,3,4,3,1,4,2,5,5,5,4,4,3,5,5,4,5,4,5,5,2,3,4,4,3,4,3,3,3,4,4,3,4,5,5,4,3,1,5,4,5,2,3,2,3,3,1,4,2,4,2,1,1,1,1,3,2,4.25,3.1111111111111112,2.7777777777777777,3.7142857142857144,2,1.3333333333333333,2.5,4.4285714285714288,4.1111111111111107,3.3333333333333335,3.3333333333333335,2.6666666666666665,3.3333333333333335,2.6666666666666665,2.3333333333333335,3.8,3.6,3.75]
[4,3,3,8,3,2,null,null,null,null,null,null,4,3,4,4,5,2,3,4,2,2,5,3,3,4,3,5,2,2,4,4,2,4,3,1,2,4,3,4,3,5,3,3,5,4,5,3,4,5,4,2,2,2,4,3,5,4,4,5,2,2,1,1,3,2,1,2,1,3,1.8,3.0625,3.4444444444444446,3.4444444444444446,3.9285714285714284,2,2,1.5,3.5714285714285716,2.6666666666666665,2,4,4.333333333333333,4.333333333333333,3,3,4.2,3.6,4]
[7,3,3,2,3,2,null,null,null,null,null,null,3,3,3,2,3,2,2,2,1,1,1,1,2,3,3,3,3,2,2,2,2,3,3,3,3,3,3,4,4,3,2,2,3,3,2,3,4,5,3,1,3,2,2,1,2,2,2,2,1,1,1,1,2,1,1,1,1,1,1.1000000000000001,2.3125,1.8888888888888888,2.3333333333333335,3.1428571428571428,1,1.3333333333333333,1,2,2.5555555555555554,2,1.6666666666666667,2,2.6666666666666665,2.6666666666666665,1.6666666666666667,3.4,3,3]
[8,3,3,2,3,5,null,null,null,null,null,null,2,3,3,2,3,2,2,4,3,2,2,2,2,4,3,3,3,2,4,3,2,4,3,3,2,4,3,4,1,4,3,3,5,3,4,3,4,3,3,2,2,4,3,2,3,2,4,2,2,3,2,2,2,2,2,2,2,2,2.1,2.75,2.6666666666666665,2.6666666666666665,3.3571428571428572,2.3333333333333335,2,2,2.5714285714285716,2.8888888888888888,2.6666666666666665,2.6666666666666665,2.6666666666666665,2.6666666666666665,2.3333333333333335,3,3.6,2.8,3.75]
[9,3,3,2,6,5,null,null,null,null,null,null,5,5,5,5,5,5,5,5,5,5,5,4,5,5,5,5,5,4,4,4,4,5,5,5,4,5,2,4,4,3,5,5,5,5,5,4,4,4,4,4,5,5,5,5,5,5,5,5,5,5,5,5,5,5,5,5,5,5,5,4.625,4.8888888888888893,5,4.2142857142857144,5,5,5,4.8571428571428568,4.4444444444444446,4.666666666666667,5,5,5,5,5,4,4,4.75]
[10,3,3,2,3,5,null,null,null,null,null,null,2,2,3,3,3,2,1,3,1,4,3,2,2,4,2,3,2,3,3,3,3,2,3,2,1,5,5,4,4,4,3,5,4,4,3,5,4,4,3,1,4,4,3,1,3,4,3,3,2,3,2,3,3,1,2,2,2,2,2.2000000000000002,2.625,2.8888888888888888,2.2222222222222223,4.0714285714285712,2.3333333333333335,2,2.25,2.8571428571428572,2.4444444444444446,3,2.3333333333333335,3.3333333333333335,3,2,1.6666666666666667,4.2,4.2,3.75]
[11,3,3,2,3,5,null,null,null,null,null,null,1,2,2,2,3,1,1,3,2,2,4,5,5,4,4,4,4,1,5,5,5,4,1,1,1,4,3,4,2,1,1,4,1,1,2,3,3,2,4,3,3,1,3,1,1,3,3,3,3,4,3,3,2,3,3,3,3,3,3,3.4375,2.3333333333333335,1.8888888888888888,2.5,3.3333333333333335,2.6666666666666665,3,4,3,2.3333333333333335,1.6666666666666667,3,2.3333333333333335,1.3333333333333333,2,3,2.8,1.5]
[12,3,3,2,3,5,null,null,null,null,null,null,1,4,4,3,3,4,3,4,3,4,5,4,5,5,5,4,5,5,5,4,4,5,4,5,3,5,5,5,5,5,5,4,5,3,4,5,5,4,5,1,4,4,3,3,3,1,4,4,1,1,1,1,1,3,1,1,1,1,1.2,4.5,3,3.2222222222222223,4.6428571428571432,1,1.6666666666666667,1,4.5714285714285712,4.4444444444444446,3,3,3,3.3333333333333335,3,3.3333333333333335,4.5999999999999996,4.8,4.5]
[13,3,3,2,3,5,null,null,null,null,null,null,2,4,3,4,4,2,2,3,3,4,4,3,3,4,4,4,4,4,4,4,3,4,4,4,2,5,5,5,3,5,5,4,3,4,4,5,3,4,3,3,5,4,4,3,3,4,4,4,3,4,3,3,4,3,3,3,3,2,3.1,3.6875,3.7777777777777777,3,4.1428571428571432,3.3333333333333335,3.3333333333333335,2.75,3.7142857142857144,3.6666666666666665,4,3.3333333333333335,4,3.6666666666666665,2.6666666666666665,2.6666666666666665,4.5999999999999996,4,3.75]
[14,3,3,2,3,5,null,null,null,null,null,null,1,2,3,4,5,4,3,2,1,2,2,2,2,2,2,2,2,2,2,2,3,3,3,3,3,4,2,3,4,3,5,2,1,4,3,5,1,5,3,4,5,5,5,5,5,5,5,5,5,5,4,3,2,1,2,3,4,5,3.4,2.3125,4.8888888888888893,2.7777777777777777,3.2142857142857144,4.333333333333333,1.6666666666666667,4,2,2.5555555555555554,4.666666666666667,5,5,4,2.3333333333333335,2,3.4,3.4,2.75]
[15,3,3,2,3,5,null,null,null,null,null,null,5,5,4,4,5,4,4,5,4,5,4,4,4,5,4,5,4,5,4,4,5,5,5,4,4,4,4,5,5,3,4,5,4,5,4,3,5,4,3,4,5,5,5,5,5,5,4,5,3,5,4,4,4,4,4,4,4,4,4,4.4375,4.7777777777777777,4.4444444444444446,4.1428571428571432,4,4,4,4.4285714285714288,4.4444444444444446,4.666666666666667,5,4.666666666666667,4.333333333333333,4.666666666666667,4.333333333333333,4.2,3.8,4.5]
[16,3,3,4,4,1,null,null,null,null,null,null,2,2,2,3,2,2,1,2,3,3,4,2,3,5,3,4,4,4,3,2,3,4,4,3,4,4,3,4,3,3,4,5,4,4,5,5,4,4,3,3,4,2,2,4,3,4,4,4,2,3,2,3,3,3,2,3,3,1,2.5,3.4375,3.3333333333333335,2.1111111111111112,3.9285714285714284,2.6666666666666665,2.6666666666666665,2.25,3.4285714285714284,3.4444444444444446,3,3,4,2.3333333333333335,2,2,4,3.8,4]
[17,3,3,4,4,2,null,null,null,null,null,null,2,2,2,1,1,1,1,1,1,2,3,3,3,5,4,1,4,3,4,3,3,3,2,2,2,4,3,4,3,3,3,4,4,4,3,3,4,4,3,1,2,2,2,1,2,4,1,1,1,4,3,1,3,1,1,1,1,2,1.8,2.9375,1.7777777777777777,1.3333333333333333,3.5,2,1.6666666666666667,1.75,3,2.8888888888888888,1.6666666666666667,1.6666666666666667,2,1.3333333333333333,1.6666666666666667,1,3.6,3.2,3.75]
[18,3,3,4,4,2,null,null,null,null,null,null,1,3,3,3,3,1,2,1,2,1,1,3,2,3,2,1,4,3,3,3,2,3,3,4,3,4,3,4,5,5,5,2,4,3,2,3,5,4,4,3,1,2,1,1,3,2,1,1,1,1,2,1,1,1,1,1,1,1,1.1000000000000001,2.5625,1.6666666666666667,2.1111111111111112,3.7857142857142856,1,1,1.25,1.8571428571428572,3.1111111111111112,2,1.6666666666666667,1.3333333333333333,3,1.6666666666666667,1.6666666666666667,3.4,3.8,4.25]
[19,3,3,4,4,5,null,null,null,null,null,null,2,3,4,2,2,3,2,3,4,3,5,4,4,4,3,3,4,2,4,2,4,5,3,4,3,4,3,4,3,4,4,4,4,3,3,5,5,5,3,3,4,2,3,3,4,3,3,3,3,3,4,2,4,3,2,3,2,2,2.8,3.5625,3.1111111111111112,2.7777777777777777,3.8571428571428572,3,3,2.5,3.7142857142857144,3.4444444444444446,3,3.3333333333333335,3,2.6666666666666665,2.6666666666666665,3,3.8,3.8,4]
[20,3,3,4,4,5,null,null,null,null,null,null,4,4,3,2,3,3,2,3,3,3,3,3,3,4,3,3,3,3,4,4,3,3,3,3,3,4,2,3,4,4,3,4,4,4,2,3,4,3,1,3,3,3,2,3,3,4,3,3,2,3,2,2,4,3,3,3,3,3,2.8,3.1875,3,3,3.2142857142857144,2.6666666666666665,3.3333333333333335,2.5,3.1428571428571428,3.2222222222222223,3,2.6666666666666665,3.3333333333333335,2.6666666666666665,3.6666666666666665,2.6666666666666665,2.8,3.2,3.75]
[21,3,3,4,4,4,null,null,null,null,null,null,3,3,3,4,4,3,2,2,3,2,2,2,2,3,3,4,4,3,4,4,2,4,4,4,3,3,5,4,4,4,2,4,5,4,4,3,4,3,3,3,5,3,2,2,3,4,2,2,2,4,3,2,4,2,3,2,2,2,2.6,3.125,2.8888888888888888,3,3.7142857142857144,2.6666666666666665,3,2.25,2.5714285714285716,3.5555555555555554,3.6666666666666665,2.3333333333333335,2.6666666666666665,3.6666666666666665,3,2.3333333333333335,3.8,3.6,3.75]
[22,3,3,4,4,5,null,null,null,null,null,null,2,4,3,2,3,3,3,4,3,3,3,2,3,4,3,4,2,2,3,2,4,4,3,4,3,2,3,5,3,3,3,3,3,4,3,3,4,3,3,3,4,4,3,3,4,3,3,4,2,4,3,3,3,3,4,3,3,3,3.1,3.0625,3.4444444444444446,3,3.2142857142857144,3,3.3333333333333335,3,3.1428571428571428,3,3.6666666666666665,3.3333333333333335,3.3333333333333335,2.6666666666666665,3,3.3333333333333335,3.2,3,3.5]
[23,3,3,4,4,5,null,null,null,null,null,null,1,2,3,3,2,2,2,1,4,3,3,2,2,3,2,4,4,1,3,2,2,3,2,2,2,5,3,5,3,5,3,4,5,4,4,5,5,5,3,3,4,2,1,1,2,2,2,2,1,1,2,2,2,1,2,3,1,1,1.6,2.5,2.1111111111111112,2.2222222222222223,4.2142857142857144,1.6666666666666667,1.6666666666666667,1.5,2.7142857142857144,2.3333333333333335,3,1.3333333333333333,2,2.6666666666666665,1.6666666666666667,2.3333333333333335,4.4000000000000004,4,4.25]
[24,3,3,4,4,1,null,null,null,null,null,null,4,4,5,5,5,4,3,3,2,4,4,4,5,4,4,4,5,4,4,2,3,5,4,3,3,4,3,5,3,5,5,4,4,5,4,3,4,4,3,4,4,5,4,4,5,5,4,3,4,4,5,3,4,4,3,3,3,3,3.6,3.875,4.2222222222222223,3.8888888888888888,4,3.6666666666666665,3.6666666666666665,3.5,4.1428571428571432,3.6666666666666665,4.333333333333333,4.333333333333333,4,5,4,2.6666666666666665,4,3.6,4.5]
[25,3,3,4,4,1,null,null,null,null,null,null,1,3,3,3,3,3,2,3,3,1,2,2,2,4,3,3,3,3,3,3,1,3,3,1,1,3,3,5,1,1,2,4,2,5,5,1,5,2,1,3,3,3,3,3,3,3,3,3,1,1,1,1,1,1,1,1,1,1,1,2.375,3,2.6666666666666665,2.8571428571428572,1,1,1,2.4285714285714284,2.3333333333333335,3,3,3,3,2.3333333333333335,2.6666666666666665,3.6,1.6,3.5]
[26,3,3,4,4,1,null,null,null,null,null,null,4,2,4,4,3,3,4,3,3,4,5,3,3,5,3,4,3,2,4,3,3,4,3,3,3,3,3,4,4,4,4,4,4,2,5,4,4,4,4,3,4,3,3,3,3,3,3,3,3,4,3,4,3,3,3,3,3,3,3.2,3.4375,3.1111111111111112,3.3333333333333335,3.7857142857142856,3.3333333333333335,3,3.25,3.8571428571428572,3.1111111111111112,3.3333333333333335,3,3,3.6666666666666665,3,3.3333333333333335,3.8,4,3.5]
[27,3,3,4,4,5,null,null,null,null,null,null,2,2,2,3,3,2,1,2,2,3,3,3,3,4,3,5,4,3,3,3,4,4,3,3,4,3,3,5,3,5,3,4,4,4,5,3,4,4,4,2,4,3,3,2,3,4,3,2,2,3,3,3,4,2,2,2,2,2,2.5,3.4375,2.8888888888888888,2.1111111111111112,3.8571428571428572,2.3333333333333335,2.6666666666666665,2.5,3.4285714285714284,3.4444444444444446,3,2.6666666666666665,3,2.6666666666666665,2,1.6666666666666667,4,3.8,3.75]
[28,3,3,4,4,5,null,null,null,null,null,null,2,4,2,2,2,2,2,2,3,2,2,2,3,4,3,3,4,4,4,4,4,4,4,2,2,5,3,4,3,3,3,4,4,3,4,3,4,3,3,3,5,2,2,2,3,3,3,3,2,3,2,3,4,2,2,3,2,3,2.6,3.1875,2.8888888888888888,2.3333333333333335,3.5,2.6666666666666665,2.6666666666666665,2.5,2.7142857142857144,3.5555555555555554,3.3333333333333335,2.3333333333333335,3,2,2.6666666666666665,2.3333333333333335,3.8,3.2,3.5]
[29,3,3,4,4,5,null,null,null,null,null,null,3,3,3,2,2,3,2,2,3,2,2,2,2,4,2,4,3,2,2,2,3,2,3,3,3,3,3,3,1,2,3,5,3,3,2,2,1,2,3,3,4,2,2,2,3,2,2,2,2,2,3,3,4,3,4,2,2,3,2.8,2.5625,2.4444444444444446,2.5555555555555554,2.5714285714285716,2,3.6666666666666665,2.75,2.5714285714285716,2.5555555555555554,3,2.3333333333333335,2,2.3333333333333335,3,2.3333333333333335,2.6,2.6,2.5]
[30,3,3,4,4,1,null,null,null,null,null,null,2,3,3,4,4,2,2,2,4,4,4,3,3,4,4,4,2,2,4,3,3,4,4,4,2,5,3,4,2,1,5,4,1,2,2,3,3,4,3,2,4,3,3,2,4,4,3,2,2,3,3,3,4,2,2,3,2,3,2.7,3.375,3,2.8888888888888888,3,2.6666666666666665,2.6666666666666665,2.75,3.7142857142857144,3.1111111111111112,3,3,3,3.6666666666666665,2.3333333333333335,2.6666666666666665,3.6,2.6,2.75]
[32,3,3,4,5,5,null,null,null,null,null,null,2,1,1,1,2,1,1,2,1,2,2,2,3,5,4,2,4,3,4,3,4,4,3,1,2,2,3,4,3,3,1,5,4,2,2,1,4,1,4,1,5,2,2,1,2,3,2,2,2,2,2,2,3,1,2,2,1,1,1.8,3,2.2222222222222223,1.3333333333333333,2.7857142857142856,2,2,1.5,2.8571428571428572,3.1111111111111112,2.6666666666666665,1.6666666666666667,2.3333333333333335,1.3333333333333333,1.3333333333333333,1.3333333333333333,2.4,3.2,2.75]
[33,3,3,4,5,5,null,null,null,null,null,null,2,2,2,3,3,2,2,2,2,3,3,4,3,3,3,4,3,3,3,3,3,3,2,3,4,4,3,4,3,3,3,5,3,3,5,2,4,3,1,2,1,2,3,3,3,3,3,3,2,1,2,2,2,2,2,2,2,3,2,3.125,2.5555555555555554,2.2222222222222223,3.2857142857142856,1.6666666666666667,2,2.25,3.2857142857142856,3,1.6666666666666667,3,3,2.6666666666666665,2,2,3.8,2.8,3.25]
[34,3,3,4,5,5,null,null,null,null,null,null,4,4,4,3,4,2,4,3,4,4,4,4,3,5,4,4,4,4,4,4,4,4,4,3,5,5,4,5,4,5,5,4,4,4,4,5,5,5,5,3,5,4,4,3,3,4,4,4,4,4,4,4,3,3,4,4,4,4,3.8,4,3.7777777777777777,3.5555555555555554,4.5714285714285712,4,3.3333333333333335,4,4,4,4,3.3333333333333335,4,3.6666666666666665,3.3333333333333335,3.6666666666666665,4.5999999999999996,4.5999999999999996,4.5]
[35,3,3,4,5,5,null,null,null,null,null,null,3,4,1,1,1,1,1,3,3,5,3,3,3,5,5,3,5,5,5,5,5,5,4,3,3,4,3,5,2,4,5,5,4,4,5,5,1,1,2,1,5,1,1,1,4,1,1,1,1,3,4,2,3,2,2,2,2,2,2.2999999999999998,4.1875,1.7777777777777777,2,3.5714285714285716,2,2.3333333333333335,2.5,3.8571428571428572,4.4444444444444446,2.3333333333333335,2,1,1,2.6666666666666665,2.3333333333333335,3.6,3.6,3.5]
[36,3,3,4,5,5,null,null,null,null,null,null,4,4,3,3,2,1,1,1,1,5,5,1,1,5,3,4,3,3,4,3,4,4,4,1,5,4,3,3,4,3,4,4,5,4,4,5,4,3,4,2,5,2,3,1,3,3,3,2,2,2,1,4,3,1,2,2,1,2,2,3.4375,2.6666666666666665,2.2222222222222223,3.8571428571428572,2,2,2,3.4285714285714284,3.4444444444444446,3,2.3333333333333335,2.6666666666666665,2.6666666666666665,3,1,3.4,4,4.25]
[37,3,3,4,5,5,null,null,null,null,null,null,2,3,2,2,2,2,2,2,3,3,4,2,3,4,3,3,3,3,3,4,3,4,2,4,2,2,3,3,3,3,2,3,3,3,3,4,3,5,4,3,4,2,4,2,3,3,2,3,2,4,4,4,3,3,4,3,2,4,3.3,3.125,2.8888888888888888,2.2222222222222223,3.1428571428571428,3,3.3333333333333335,3.5,3.1428571428571428,3.1111111111111112,3,3,2.6666666666666665,2,2.3333333333333335,2.3333333333333335,3.2,3.4,2.75]
[38,3,3,4,5,5,null,null,null,null,null,null,3,5,4,4,3,3,3,4,4,3,1,1,3,4,4,1,4,4,4,4,2,4,4,5,4,4,3,4,3,5,5,4,4,5,4,3,5,5,3,4,4,4,4,4,4,4,4,4,4,4,4,3,4,4,5,4,4,4,4,3.25,4,3.6666666666666665,4.0714285714285712,4,4.333333333333333,3.75,2.4285714285714284,3.8888888888888888,4,4,4,3.6666666666666665,3.6666666666666665,3.6666666666666665,4,3.6,4.75]
[39,3,3,7,5,5,null,null,null,null,null,null,2,3,2,2,4,2,2,3,2,4,4,3,3,4,4,4,4,3,3,4,3,4,4,3,3,4,3,4,3,3,3,4,5,4,3,5,5,4,4,3,5,3,3,3,3,4,4,4,2,3,3,4,4,2,3,3,3,2,2.9,3.5625,3.5555555555555554,2.4444444444444446,3.8571428571428572,2.6666666666666665,3,3,3.7142857142857144,3.4444444444444446,3.6666666666666665,3,4,2.6666666666666665,2.3333333333333335,2.3333333333333335,3.6,3.8,4.25]
[40,3,3,6,4,1,null,null,null,null,null,null,3,4,4,4,4,2,2,4,4,3,2,2,2,3,3,4,3,3,3,2,3,4,4,3,4,4,3,4,3,3,4,4,5,3,2,5,4,4,4,3,3,3,2,3,4,4,4,4,3,2,3,3,4,3,3,4,2,3,3,3,3.3333333333333335,3.4444444444444446,3.7142857142857144,3,3.3333333333333335,2.75,2.7142857142857144,3.2222222222222223,3,3,4,4,3,3.3333333333333335,3.4,3.8,4]
[41,3,3,6,4,2,null,null,null,null,null,null,5,5,5,5,5,4,4,4,5,4,5,4,4,4,4,4,4,5,4,4,5,5,5,4,4,4,3,4,3,5,3,3,5,3,5,5,5,3,3,5,5,4,4,3,4,4,4,4,3,3,4,4,5,4,4,4,4,4,3.9,4.3125,4.1111111111111107,4.666666666666667,3.8571428571428572,3.3333333333333335,4.333333333333333,4,4.1428571428571432,4.4444444444444446,4.666666666666667,3.6666666666666665,4,5,4.666666666666667,4.333333333333333,3.8,3.8,4]
[42,3,3,6,4,5,null,null,null,null,null,null,3,3,3,4,4,3,3,4,4,3,3,3,3,4,3,4,3,2,2,3,2,2,2,2,2,5,3,3,4,3,3,2,4,4,5,5,5,5,4,1,2,4,2,3,3,3,3,3,2,2,2,1,4,4,4,1,3,1,2.4,2.6875,2.6666666666666665,3.4444444444444446,3.9285714285714284,1.6666666666666667,4,1.75,3.2857142857142856,2.2222222222222223,2.3333333333333335,2.6666666666666665,3,3.6666666666666665,3,3.6666666666666665,4.2,3.6,4]
[43,3,3,6,4,5,null,null,null,null,null,null,3,3,3,4,3,3,3,3,3,2,4,3,4,4,3,4,4,4,4,4,3,4,4,3,2,5,4,4,3,5,3,4,4,4,5,5,4,5,4,3,4,4,3,3,3,3,4,3,3,3,4,3,3,3,4,3,3,3,3.2,3.5,3.3333333333333335,3.1111111111111112,4.2142857142857144,3,3.3333333333333335,3.25,3.4285714285714284,3.5555555555555554,3.6666666666666665,3,3.3333333333333335,3.3333333333333335,3,3,4.5999999999999996,4.2,3.75]
[44,3,3,6,4,5,null,null,null,null,null,null,3,3,3,3,3,3,3,3,2,3,3,2,2,4,3,4,3,3,2,2,3,3,2,2,2,5,5,4,4,3,4,5,5,4,5,2,1,4,4,3,3,3,3,2,3,4,3,2,1,3,2,1,3,2,2,3,2,3,2.2000000000000002,2.6875,2.8888888888888888,2.8888888888888888,3.9285714285714284,2.3333333333333335,2.3333333333333335,2,3,2.4444444444444446,3,2.6666666666666665,3,3,3,2.6666666666666665,4.5999999999999996,3.6,3.5]
[45,3,3,7,6,5,null,null,null,null,null,null,3,4,5,5,3,3,2,2,2,2,2,4,4,3,4,4,4,2,2,3,3,3,2,3,3,3,5,5,4,3,3,3,5,3,2,5,5,5,3,3,1,1,1,1,4,4,3,3,1,1,5,3,3,2,2,2,2,2,2.2999999999999998,3,2.3333333333333335,3.2222222222222223,3.8571428571428572,1.3333333333333333,2.3333333333333335,3,3.2857142857142856,2.7777777777777777,1.6666666666666667,2,3.3333333333333335,4.333333333333333,3.3333333333333335,2,4,3.6,4]
[46,3,3,5,4,5,null,null,null,null,null,null,3,4,4,4,4,4,4,4,4,4,4,5,4,4,4,4,4,4,4,4,4,4,4,4,4,4,5,5,5,3,3,1,5,4,4,5,5,5,4,4,5,3,3,3,5,5,5,5,5,4,3,5,5,4,3,5,3,5,4.2,4.0625,4.2222222222222223,3.8888888888888888,4.1428571428571432,4.666666666666667,4,4,4.1428571428571432,4,4,3.6666666666666665,5,4,3.6666666666666665,4,4.5999999999999996,3.6,4.25]
[47,3,3,5,3,4,null,null,null,null,null,null,2,4,3,3,4,2,2,3,2,4,4,3,3,4,4,3,2,3,5,4,4,5,4,3,2,5,5,5,3,4,3,5,4,3,5,5,4,4,3,4,2,2,2,2,3,4,4,4,3,4,4,3,4,2,4,3,2,2,3.1,3.5625,3,2.7777777777777777,4.1428571428571432,3.3333333333333335,3.3333333333333335,2.75,3.5714285714285716,3.5555555555555554,2.6666666666666665,2.3333333333333335,4,3.3333333333333335,2.6666666666666665,2.3333333333333335,4.8,4,3.5]
[48,3,3,5,6,5,null,null,null,null,null,null,1,5,3,4,5,1,2,4,1,5,5,5,5,4,5,4,5,5,5,5,5,5,3,1,1,4,3,4,5,5,4,5,5,4,4,5,5,5,4,3,5,4,4,1,1,5,3,5,4,3,2,2,5,2,2,3,3,3,2.9,4.25,3.4444444444444446,2.8888888888888888,4.4285714285714288,3.3333333333333335,3,2.5,4.7142857142857144,3.8888888888888888,4,2,4.333333333333333,4,2.3333333333333335,2.3333333333333335,4,4.8,4.5]
[49,3,3,5,3,5,null,null,null,null,null,null,2,5,3,3,5,4,3,4,2,4,3,3,3,4,3,3,4,3,3,3,3,3,4,3,3,4,3,5,5,5,3,4,4,4,4,3,5,4,3,3,4,2,4,3,3,3,3,3,3,3,3,3,4,3,3,4,4,3,3.3,3.25,3.1111111111111112,3.4444444444444446,4,3.3333333333333335,3.3333333333333335,3.25,3.2857142857142856,3.2222222222222223,3,3.3333333333333335,3,3.6666666666666665,3.6666666666666665,3,4,4,4]
[50,3,3,5,6,5,null,null,null,null,null,null,3,5,5,3,4,4,3,2,2,5,4,4,4,5,5,5,5,5,5,5,5,5,4,1,3,5,5,4,5,5,4,5,4,4,4,5,5,5,4,2,5,3,3,4,4,1,2,4,2,2,2,2,5,2,2,2,1,2,2.2000000000000002,4.375,3.1111111111111112,3.4444444444444446,4.5714285714285712,2,3,1.75,4.5714285714285712,4.2222222222222223,3.3333333333333335,3.6666666666666665,2.3333333333333335,4,4,2.3333333333333335,4.5999999999999996,4.8,4.25]
[51,3,3,5,3,5,null,null,null,null,null,null,4,4,4,4,4,4,4,3,4,4,4,5,5,5,4,5,5,5,5,4,4,4,5,5,4,4,4,5,3,4,3,4,5,4,3,5,5,4,3,4,5,4,4,4,5,5,4,5,4,4,4,4,5,4,4,4,4,4,4.0999999999999996,4.5625,4.4444444444444446,3.8888888888888888,4,4,4.333333333333333,4,4.5714285714285712,4.5555555555555554,4.333333333333333,4.333333333333333,4.666666666666667,4,4,3.6666666666666665,4,3.8,4.25]
[52,3,3,5,3,2,null,null,null,null,null,null,1,1,1,1,1,1,1,1,1,1,1,1,1,4,3,3,3,3,3,3,4,4,4,2,3,2,3,4,3,4,3,2,5,4,4,3,4,3,3,1,3,1,2,2,2,1,1,1,1,1,1,1,1,1,1,1,1,1,1,2.6875,1.5555555555555556,1,3.3571428571428572,1,1,1,2,3.2222222222222223,1.6666666666666667,2,1,1,1,1,3.2,3,4]
[53,3,3,5,3,4,null,null,null,null,null,null,1,2,3,3,2,2,2,2,2,3,3,1,2,3,2,2,4,4,4,4,4,3,4,3,2,3,3,3,4,3,2,3,1,3,4,1,1,5,3,2,2,1,1,1,2,2,2,2,2,3,2,2,2,2,1,2,2,3,2.1,3,1.6666666666666667,2.1111111111111112,2.7857142857142856,2.3333333333333335,1.6666666666666667,2.25,2.2857142857142856,3.5555555555555554,1.6666666666666667,1.3333333333333333,2,2.6666666666666665,1.6666666666666667,2,3.6,2.8,1.75]
[54,3,3,5,3,5,null,null,null,null,null,null,1,2,1,1,4,1,1,4,1,3,2,2,2,2,2,2,5,1,1,3,5,5,3,1,3,5,3,4,4,5,5,4,5,4,5,3,5,5,5,1,1,1,1,1,1,3,2,2,1,1,1,1,2,1,1,1,1,1,1.1000000000000001,2.625,1.4444444444444444,1.7777777777777777,4.4285714285714288,1,1.3333333333333333,1,2.1428571428571428,3,1,1,2.3333333333333335,2,1.3333333333333333,2,4.4000000000000004,4.2,4.75]
[55,3,3,5,3,2,null,null,null,null,null,null,1,2,1,2,2,1,1,2,1,1,1,2,3,3,3,3,4,3,4,3,3,3,3,1,2,4,3,4,1,3,2,3,2,2,5,2,4,5,2,1,2,2,1,1,1,2,2,1,1,1,1,1,1,1,1,1,1,1,1,2.625,1.4444444444444444,1.4444444444444444,3,1,1,1,2.2857142857142856,2.8888888888888888,1.6666666666666667,1,1.6666666666666667,1.6666666666666667,1.3333333333333333,1.3333333333333333,4.2,2.2000000000000002,2.5]
[56,3,3,5,2,5,null,null,null,null,null,null,3,5,5,4,5,4,3,3,4,4,5,5,5,5,5,5,5,5,5,5,5,5,4,4,4,4,3,5,5,5,3,4,5,4,5,5,5,5,5,3,3,2,3,4,3,3,4,4,2,3,3,3,4,4,3,4,4,3,3.3,4.75,3.2222222222222223,4,4.5,3,3.6666666666666665,3.25,4.8571428571428568,4.666666666666667,2.6666666666666665,3.3333333333333335,3.6666666666666665,4.666666666666667,4,3.3333333333333335,4.4000000000000004,4.8,4.25]
[57,3,3,5,2,5,null,null,null,null,null,null,2,3,3,3,4,3,3,3,3,5,4,3,3,4,4,3,4,4,4,4,4,4,4,3,2,5,3,4,3,3,3,5,4,4,3,5,4,3,4,3,4,3,3,3,3,4,2,3,2,2,2,2,3,3,3,3,3,3,2.6,3.6875,3.1111111111111112,3,3.7857142857142856,2.3333333333333335,3,2.5,3.7142857142857144,3.6666666666666665,3.3333333333333335,3,3,3.3333333333333335,2.6666666666666665,3,3.6,4,3.75]
[58,3,3,5,2,5,null,null,null,null,null,null,2,2,1,2,2,2,2,2,2,5,4,3,3,5,2,5,4,3,5,5,5,5,4,2,2,5,3,4,4,5,4,4,4,4,5,5,5,4,3,2,5,4,4,3,5,4,3,3,4,2,4,2,2,2,4,4,4,3,3.1,3.875,3.6666666666666665,1.8888888888888888,4.2142857142857144,3.3333333333333335,2.6666666666666665,3.25,3.8571428571428572,3.8888888888888888,3.6666666666666665,4,3.3333333333333335,1.6666666666666667,2,2,4.2,4.2,4.25]
[59,3,3,5,2,5,null,null,null,null,null,null,2,3,3,2,3,1,1,2,2,3,3,3,3,3,3,3,3,3,4,4,5,5,2,2,1,5,3,4,3,3,3,5,5,4,3,5,5,3,3,1,2,1,1,1,1,1,1,1,1,1,1,1,1,1,1,1,1,1,1,3.125,1.1111111111111112,2.1111111111111112,3.8571428571428572,1,1,1,3,3.2222222222222223,1.3333333333333333,1,1,2.6666666666666665,2,1.6666666666666667,3.6,3.8,4.25]
[62,3,3,7,5,5,null,null,null,null,null,null,3,4,4,4,5,3,3,4,3,4,4,3,3,4,3,3,4,3,4,4,3,5,4,5,5,5,3,5,4,4,5,4,5,4,4,3,3,4,4,3,5,4,4,3,4,5,5,4,4,4,5,4,4,3,4,4,4,5,4.0999999999999996,3.8125,4.1111111111111107,3.6666666666666665,4.0714285714285712,4,3.6666666666666665,4.5,3.4285714285714284,4.1111111111111107,4,3.6666666666666665,4.666666666666667,4.333333333333333,3.3333333333333335,3.3333333333333335,4.2,3.8,4.25]
[63,3,3,7,5,1,null,null,null,null,null,null,2,4,5,5,5,2,3,4,4,2,4,3,3,3,3,4,3,2,3,2,3,2,3,4,4,4,3,5,3,5,5,3,4,4,4,5,5,4,3,2,5,5,3,2,3,5,3,4,2,4,3,4,5,3,2,3,2,3,3.1,3,3.5555555555555554,3.7777777777777777,4.0714285714285712,3,3.3333333333333335,3,3.1428571428571428,2.8888888888888888,4,2.6666666666666665,4,5,2.6666666666666665,3.6666666666666665,4,3.8,4.5]
[64,3,3,8,3,5,null,null,null,null,null,null,5,4,4,3,3,3,4,3,4,5,5,4,4,5,4,4,3,4,3,5,4,3,4,3,3,4,4,5,4,5,5,4,4,4,5,4,5,4,4,3,2,4,2,3,4,2,3,3,2,4,3,2,4,2,3,3,3,3,2.9,3.9375,2.8888888888888888,3.6666666666666665,4.3571428571428568,3,3,2.75,4.4285714285714288,3.5555555555555554,3,3,2.6666666666666665,3.3333333333333335,4,3.6666666666666665,4.4000000000000004,4.2,4.5]
[66,3,3,8,5,1,null,null,null,null,null,null,3,5,3,3,2,5,5,5,3,3,3,3,3,5,3,5,5,5,3,2,5,5,5,5,5,4,3,3,3,4,3,4,4,5,5,5,5,4,3,5,5,5,5,3,3,5,5,5,3,5,3,5,5,5,5,3,5,5,4.4000000000000004,4.0625,4.5555555555555554,3.7777777777777777,3.9285714285714284,3.6666666666666665,5,4.5,3.5714285714285716,4.4444444444444446,5,3.6666666666666665,5,2.6666666666666665,4.333333333333333,4.333333333333333,3.8,3.8,4.25]
[67,3,3,8,5,1,null,null,null,null,null,null,4,5,5,5,1,5,5,3,2,4,4,4,5,5,4,5,5,4,2,1,4,5,3,5,5,2,3,4,3,3,3,5,5,5,4,5,4,4,3,4,5,5,5,3,5,5,3,5,2,3,3,3,5,3,3,3,5,4,3.4,4.0625,4.4444444444444446,3.8888888888888888,3.7857142857142856,2.6666666666666665,3.6666666666666665,3.75,4.4285714285714288,3.7777777777777777,4.666666666666667,4.333333333333333,4.333333333333333,3.6666666666666665,4.666666666666667,3.3333333333333335,3.4,3.8,4.25]
[68,3,3,8,5,5,null,null,null,null,null,null,2,4,3,3,2,2,3,3,2,3,3,3,3,4,4,4,5,4,3,3,4,4,4,3,3,3,5,4,5,5,5,4,4,5,3,5,5,5,4,2,4,4,3,2,3,4,3,4,4,4,3,3,4,3,3,4,3,3,3.4,3.5625,3.2222222222222223,2.6666666666666665,4.4285714285714288,4,3.3333333333333335,3,3.4285714285714284,3.6666666666666665,3.3333333333333335,2.6666666666666665,3.6666666666666665,2.6666666666666665,2.6666666666666665,2.6666666666666665,4,4.5999999999999996,4.75]
[69,3,3,5,2,5,null,null,null,null,null,null,2,2,2,3,4,3,2,4,2,4,4,3,3,4,4,4,3,2,4,3,4,4,4,4,2,2,3,4,3,3,4,5,3,3,3,4,3,3,3,2,3,2,3,2,2,4,3,2,2,3,2,2,3,1,1,1,1,1,1.7,3.5,2.5555555555555554,2.6666666666666665,3.2857142857142856,2,1.6666666666666667,1.5,3.7142857142857144,3.3333333333333335,2.3333333333333335,2.3333333333333335,3,3,2.3333333333333335,2.6666666666666665,3,3.6,3.25]
[70,3,3,7,5,5,null,null,null,null,null,null,2,4,3,3,4,3,3,3,2,3,4,4,4,5,3,3,3,4,4,3,4,4,4,3,3,4,3,3,3,3,3,4,3,4,4,5,4,5,3,3,4,2,3,2,3,3,3,3,3,3,4,3,3,3,4,3,3,3,3.2,3.625,2.8888888888888888,3,3.6428571428571428,3,3.3333333333333335,3.25,3.7142857142857144,3.5555555555555554,3,2.6666666666666665,3,3.3333333333333335,3,2.6666666666666665,3.8,3.6,3.5]
[71,3,3,7,5,5,null,null,null,null,null,null,2,4,3,3,5,3,2,4,3,4,4,4,4,4,4,5,4,3,4,3,4,5,4,3,5,5,3,4,4,4,4,4,5,4,3,5,5,4,4,3,5,4,4,3,4,4,4,4,3,2,2,3,3,2,3,4,2,3,2.7,4,3.8888888888888888,3.2222222222222223,4.1428571428571432,3,2.6666666666666665,2.5,4.1428571428571432,3.8888888888888888,4,3.6666666666666665,4,3.6666666666666665,3,3,3.8,4.2,4.5]
[73,3,3,7,5,1,null,null,null,null,null,null,4,4,5,5,5,3,3,5,3,3,3,2,2,3,3,4,3,2,2,2,2,3,3,3,5,4,3,4,5,5,5,4,5,5,5,5,3,5,4,3,5,2,3,4,4,4,3,3,3,3,2,2,4,3,3,3,3,3,2.9,2.8125,3.4444444444444446,4.1111111111111107,4.4285714285714288,3,3.3333333333333335,2.5,2.8571428571428572,2.7777777777777777,3.3333333333333335,3.6666666666666665,3.3333333333333335,5,3.6666666666666665,3.6666666666666665,4.2,4.5999999999999996,4.5]
[74,3,3,7,5,1,null,null,null,null,null,null,4,4,3,3,4,3,3,4,3,4,4,3,3,4,3,4,5,3,3,3,3,5,3,1,4,5,3,4,4,5,5,4,5,4,3,5,5,4,5,4,5,3,3,3,3,5,5,4,3,3,3,3,4,3,3,4,4,5,3.5,3.4375,3.8888888888888888,3.4444444444444446,4.3571428571428568,3.3333333333333335,3.3333333333333335,3.75,3.5714285714285716,3.3333333333333335,4,3,4.666666666666667,3.3333333333333335,3.6666666666666665,3.3333333333333335,3.8,4.5999999999999996,4.75]
[75,3,3,7,5,5,null,null,null,null,null,null,3,4,4,3,4,3,3,4,3,4,4,4,4,4,4,4,5,4,5,4,4,4,4,2,5,4,3,5,5,5,5,4,5,4,4,5,5,4,4,5,5,2,3,4,3,4,3,3,3,4,4,3,4,4,3,3,3,4,3.5,4.0625,3.5555555555555554,3.4444444444444446,4.4285714285714288,3.3333333333333335,3.6666666666666665,3.5,4,4.1111111111111107,4,3.3333333333333335,3.3333333333333335,3.6666666666666665,3.3333333333333335,3.3333333333333335,4,4.5999999999999996,4.75]
[76,3,3,7,5,5,null,null,null,null,null,null,1,4,2,2,2,1,1,2,2,3,2,2,4,4,2,3,4,3,4,3,3,4,3,2,4,3,3,4,3,3,3,2,5,3,4,3,4,4,3,3,4,2,2,1,2,4,2,2,1,1,1,2,4,1,3,3,3,2,2.1,3.125,2.4444444444444446,1.8888888888888888,3.3571428571428572,1.6666666666666667,2.6666666666666665,2,2.8571428571428572,3.3333333333333335,3,1.6666666666666667,2.6666666666666665,2,2,1.6666666666666667,3.6,2.8,3.75]
[77,3,3,8,6,4,null,null,null,null,null,null,2,4,4,4,5,3,4,4,3,5,5,5,5,5,4,4,5,5,5,5,5,5,5,1,3,4,3,5,3,5,5,4,3,4,4,5,5,4,4,1,5,2,4,4,5,5,4,4,2,2,3,4,4,3,4,4,4,4,3.4,4.5,3.7777777777777777,3.6666666666666665,4.1428571428571432,2.6666666666666665,3.6666666666666665,3.75,4.7142857142857144,4.333333333333333,2.6666666666666665,4.333333333333333,4.333333333333333,4.333333333333333,3,3.6666666666666665,4,4.2,4.25]

{"sheet":"演算","index":7,"n_rows":143,"n_cols":82,"rows_kept":143,"cut":false,"hidden":false,"merged":[]}
[null,"全体データ",null,null,null,null,null,null,null,null,null,null,null,null,"抽出データ",null,null,null,null,null,null,null,null,null,"全体データ"]
[null,null,null,null,null,null,null,null,null,null,null,null,null,null,null,null,null,null,null,null,null,null,null,null,{"$f":"$J$86","v":12},{"$f":"$J$87","v":2},{"$f":"$J$88","v":6},{"$f":"$J$89","v":5},{"$f":"$J$90","v":4},{"$f":"$J$91","v":12},{"$f":"$J$92","v":14},{"$f":"$J$93","v":5},{"$f":"$J$94","v":10},{"$f":"$J$95","v":5},{"$f":"$J$96","v":5},{"$f":"$J$97","v":5},{"$f":"$J$98","v":2},{"$f":"$J$99","v":0},{"$f":"$J$100","v":0},{"$f":"$J$101","v":3},{"$f":"$J$102","v":0},{"$f":"$J$103","v":3},{"$f":"$J$104","v":1},{"$f":"$J$105","v":1},{"$f":"$J$106","v":1},{"$f":"$J$107","v":0},{"$f":"$J$108","v":1},{"$f":"$J$109","v":11},{"$f":"$J$110","v":5},{"$f":"$J$111","v":1},{"$f":"$J$112","v":0},{"$f":"$J$113","v":0},{"$f":"$J$114","v":4},{"$f":"$J$115","v":3},{"$f":"$J$116","v":2},{"$f":"$J$117","v":1},{"$f":"$J$118","v":4},{"$f":"$J$119","v":1},{"$f":"$J$120","v":0},{"$f":"$J$121","v":3},{"$f":"$J$122","v":5},{"$f":"$J$123","v":2},{"$f":"$J$124","v":3},{"$f":"$J$125","v":13},{"$f":"$J$126","v":4},{"$f":"$J$127","v":7},{"$f":"$J$128","v":8},{"$f":"$J$129","v":16},{"$f":"$J$130","v":5},{"$f":"$J$131","v":5},{"$f":"$J$132","v":5},{"$f":"$J$133","v":6},{"$f":"$J$134","v":15},{"$f":"$J$135","v":12},{"$f":"$J$136","v":10},{"$f":"$J$137","v":12},{"$f":"$J$138","v":6},{"$f":"$J$139","v":16},{"$f":"$J$140","v":13},{"$f":"$J$141","v":12},{"$f":"$J$142","v":16},{"$f":"$J$143","v":13}]
[null,"領域","Ⅰ．トップの価値観・行動の充実と浸透",1,null,null,null,null,null,null,{"$f":"AVERAGE(K22:K31)","v":-0.18533333333333329},{"$f":"STDEV(OFFSET(rng全体データ,0,$D3+69,,1))","v":0.96320037113518164},{"$f":"L3/SQRT($K$84)","v":0.1112207987116889},null,null,null,null,null,null,{"$f":"AVERAGE(T22:T31)","v":-0.25142857142857145},{"$f":"STDEV(OFFSET(rng抽出データ,0,$D3+69,,1))","v":0.94818558342822223},{"$f":"U3/SQRT($T$84)","v":0.11332985362718347},null,null,{"$f":"$I$86","v":25},{"$f":"$I$87","v":15},{"$f":"$I$88","v":10},{"$f":"$I$89","v":15},{"$f":"$I$90","v":14},{"$f":"$I$91","v":21},{"$f":"$I$92","v":25},{"$f":"$I$93","v":18},{"$f":"$I$94","v":22},{"$f":"$I$95","v":12},{"$f":"$I$96","v":11},{"$f":"$I$97","v":19},{"$f":"$I$98","v":15},{"$f":"$I$99","v":3},{"$f":"$I$100","v":10},{"$f":"$I$101","v":4},{"$f":"$I$102","v":6},{"$f":"$I$103","v":14},{"$f":"$I$104","v":8},{"$f":"$I$105","v":13},{"$f":"$I$106","v":10},{"$f":"$I$107","v":4},{"$f":"$I$108","v":9},{"$f":"$I$109","v":11},{"$f":"$I$110","v":19},{"$f":"$I$111","v":6},{"$f":"$I$112","v":3},{"$f":"$I$113","v":0},{"$f":"$I$114","v":4},{"$f":"$I$115","v":1},{"$f":"$I$116","v":6},{"$f":"$I$117","v":6},{"$f":"$I$118","v":2},{"$f":"$I$119","v":4},{"$f":"$I$120","v":10},{"$f":"$I$121","v":4},{"$f":"$I$122","v":0},{"$f":"$I$123","v":3},{"$f":"$I$124","v":2},{"$f":"$I$125","v":12},{"$f":"$I$126","v":9},{"$f":"$I$127","v":24},{"$f":"$I$128","v":14},{"$f":"$I$129","v":16},{"$f":"$I$130","v":8},{"$f":"$I$131","v":9},{"$f":"$I$132","v":12},{"$f":"$I$133","v":14},{"$f":"$I$134","v":27},{"$f":"$I$135","v":11},{"$f":"$I$136","v":19},{"$f":"$I$137","v":17},{"$f":"$I$138","v":10},{"$f":"$I$139","v":18},{"$f":"$I$140","v":18},{"$f":"$I$141","v":13},{"$f":"$I$142","v":18},{"$f":"$I$143","v":15}]
[null,"領域","Ⅱ．マネジメントサイクルの充実と浸透",2,null,null,null,null,null,null,{"$f":"AVERAGE(K32:K47)","v":0.47916666666666674},{"$f":"STDEV(OFFSET(rng全体データ,0,$D4+69,,1))","v":0.66066591269581765},{"$f":"L4/SQRT($K$84)","v":7.6287128507868021E-2},null,null,null,null,null,null,{"$f":"AVERAGE(T32:T47)","v":0.46875},{"$f":"STDEV(OFFSET(rng抽出データ,0,$D4+69,,1))","v":0.66210081629766093},{"$f":"U4/SQRT($T$84)","v":7.9136183790262007E-2},null,null,{"$f":"$H$86","v":20},{"$f":"$H$87","v":17},{"$f":"$H$88","v":29},{"$f":"$H$89","v":28},{"$f":"$H$90","v":19},{"$f":"$H$91","v":26},{"$f":"$H$92","v":23},{"$f":"$H$93","v":21},{"$f":"$H$94","v":25},{"$f":"$H$95","v":24},{"$f":"$H$96","v":19},{"$f":"$H$97","v":26},{"$f":"$H$98","v":33},{"$f":"$H$99","v":13},{"$f":"$H$100","v":33},{"$f":"$H$101","v":20},{"$f":"$H$102","v":20},{"$f":"$H$103","v":27},{"$f":"$H$104","v":19},{"$f":"$H$105","v":26},{"$f":"$H$106","v":25},{"$f":"$H$107","v":16},{"$f":"$H$108","v":23},{"$f":"$H$109","v":27},{"$f":"$H$110","v":24},{"$f":"$H$111","v":11},{"$f":"$H$112","v":56},{"$f":"$H$113","v":9},{"$f":"$H$114","v":33},{"$f":"$H$115","v":28},{"$f":"$H$116","v":33},{"$f":"$H$117","v":9},{"$f":"$H$118","v":9},{"$f":"$H$119","v":18},{"$f":"$H$120","v":16},{"$f":"$H$121","v":23},{"$f":"$H$122","v":8},{"$f":"$H$123","v":12},{"$f":"$H$124","v":39},{"$f":"$H$125","v":33},{"$f":"$H$126","v":11},{"$f":"$H$127","v":13},{"$f":"$H$128","v":28},{"$f":"$H$129","v":29},{"$f":"$H$130","v":36},{"$f":"$H$131","v":16},{"$f":"$H$132","v":28},{"$f":"$H$133","v":22},{"$f":"$H$134","v":20},{"$f":"$H$135","v":26},{"$f":"$H$136","v":24},{"$f":"$H$137","v":26},{"$f":"$H$138","v":21},{"$f":"$H$139","v":26},{"$f":"$H$140","v":21},{"$f":"$H$141","v":29},{"$f":"$H$142","v":19},{"$f":"$H$143","v":26}]
[null,"領域","Ⅲ．教育訓練の充実",3,null,null,null,null,null,null,{"$f":"AVERAGE(K48:K56)","v":0.17925925925925926},{"$f":"STDEV(OFFSET(rng全体データ,0,$D5+69,,1))","v":0.88473001058858081},0.1021598219546915,null,null,null,null,null,null,{"$f":"AVERAGE(T48:T56)","v":0.14126984126984127},{"$f":"STDEV(OFFSET(rng抽出データ,0,$D5+69,,1))","v":0.90086962788480396},0.1076745152528347,null,null,{"$f":"$G$86","v":12},{"$f":"$G$87","v":31},{"$f":"$G$88","v":20},{"$f":"$G$89","v":18},{"$f":"$G$90","v":21},{"$f":"$G$91","v":13},{"$f":"$G$92","v":9},{"$f":"$G$93","v":26},{"$f":"$G$94","v":15},{"$f":"$G$95","v":21},{"$f":"$G$96","v":26},{"$f":"$G$97","v":15},{"$f":"$G$98","v":13},{"$f":"$G$99","v":37},{"$f":"$G$100","v":24},{"$f":"$G$101","v":35},{"$f":"$G$102","v":31},{"$f":"$G$103","v":19},{"$f":"$G$104","v":32},{"$f":"$G$105","v":24},{"$f":"$G$106","v":23},{"$f":"$G$107","v":30},{"$f":"$G$108","v":33},{"$f":"$G$109","v":18},{"$f":"$G$110","v":18},{"$f":"$G$111","v":36},{"$f":"$G$112","v":5},{"$f":"$G$113","v":43},{"$f":"$G$114","v":19},{"$f":"$G$115","v":15},{"$f":"$G$116","v":12},{"$f":"$G$117","v":42},{"$f":"$G$118","v":31},{"$f":"$G$119","v":43},{"$f":"$G$120","v":29},{"$f":"$G$121","v":5},{"$f":"$G$122","v":28},{"$f":"$G$123","v":33},{"$f":"$G$124","v":26},{"$f":"$G$125","v":11},{"$f":"$G$126","v":20},{"$f":"$G$127","v":22},{"$f":"$G$128","v":17},{"$f":"$G$129","v":11},{"$f":"$G$130","v":15},{"$f":"$G$131","v":27},{"$f":"$G$132","v":22},{"$f":"$G$133","v":22},{"$f":"$G$134","v":8},{"$f":"$G$135","v":20},{"$f":"$G$136","v":16},{"$f":"$G$137","v":16},{"$f":"$G$138","v":28},{"$f":"$G$139","v":12},{"$f":"$G$140","v":19},{"$f":"$G$141","v":18},{"$f":"$G$142","v":16},{"$f":"$G$143","v":12}]
[null,"領域","Ⅳ．現場管理の充実",4,null,null,null,null,null,null,{"$f":"AVERAGE(K57:K65)","v":-8.8888888888888976E-3},{"$f":"STDEV(OFFSET(rng全体データ,0,$D6+69,,1))","v":0.84001525321009629},9.6996606512848138E-2,null,null,null,null,null,null,{"$f":"AVERAGE(T57:T65)","v":-4.2857142857142899E-2},{"$f":"STDEV(OFFSET(rng抽出データ,0,$D6+69,,1))","v":0.85613838339584658},0.10232810893840136,null,null,{"$f":"$F$86","v":6},{"$f":"$F$87","v":10},{"$f":"$F$88","v":10},{"$f":"$F$89","v":9},{"$f":"$F$90","v":17},{"$f":"$F$91","v":3},{"$f":"$F$92","v":4},{"$f":"$F$93","v":5},{"$f":"$F$94","v":3},{"$f":"$F$95","v":13},{"$f":"$F$96","v":14},{"$f":"$F$97","v":10},{"$f":"$F$98","v":12},{"$f":"$F$99","v":22},{"$f":"$F$100","v":8},{"$f":"$F$101","v":13},{"$f":"$F$102","v":18},{"$f":"$F$103","v":12},{"$f":"$F$104","v":15},{"$f":"$F$105","v":11},{"$f":"$F$106","v":16},{"$f":"$F$107","v":25},{"$f":"$F$108","v":9},{"$f":"$F$109","v":8},{"$f":"$F$110","v":9},{"$f":"$F$111","v":21},{"$f":"$F$112","v":11},{"$f":"$F$113","v":23},{"$f":"$F$114","v":15},{"$f":"$F$115","v":28},{"$f":"$F$116","v":22},{"$f":"$F$117","v":17},{"$f":"$F$118","v":29},{"$f":"$F$119","v":9},{"$f":"$F$120","v":20},{"$f":"$F$121","v":40},{"$f":"$F$122","v":34},{"$f":"$F$123","v":25},{"$f":"$F$124","v":5},{"$f":"$F$125","v":6},{"$f":"$F$126","v":31},{"$f":"$F$127","v":9},{"$f":"$F$128","v":8},{"$f":"$F$129","v":3},{"$f":"$F$130","v":11},{"$f":"$F$131","v":18},{"$f":"$F$132","v":8},{"$f":"$F$133","v":11},{"$f":"$F$134","v":5},{"$f":"$F$135","v":6},{"$f":"$F$136","v":6},{"$f":"$F$137","v":4},{"$f":"$F$138","v":10},{"$f":"$F$139","v":3},{"$f":"$F$140","v":4},{"$f":"$F$141","v":3},{"$f":"$F$142","v":6},{"$f":"$F$143","v":9}]
[null,"領域","Ⅴ．職場メンバーの積極心",5,null,null,null,null,null,null,{"$f":"AVERAGE(K66:K79)","v":0.81523809523809543},{"$f":"STDEV(OFFSET(rng全体データ,0,$D7+69,,1))","v":0.49669249856626735},5.7353109550340446E-2,null,null,null,null,null,null,{"$f":"AVERAGE(T66:T79)","v":0.8091836734693878},{"$f":"STDEV(OFFSET(rng抽出データ,0,$D7+69,,1))","v":0.50853720611055686},6.0781821765431877E-2]
[null,"区分","１．経営理念（トップの価値観）",1,1,null,null,null,null,null,{"$f":"SUMIF($E$22:$E$79,D8,$K$22:$K$79)/COUNTIF($E$22:$E$79,D8)","v":-0.24444444444444446},{"$f":"STDEV(OFFSET(rng全体データ,0,$D8+74,,1))","v":1.0005003753127717},0.11552783220223006,null,null,null,null,null,null,{"$f":"SUMIF($E$22:$E$79,D8,$T$22:$T$79)/COUNTIF($E$22:$E$79,D8)","v":-0.3000000000000001},{"$f":"STDEV(OFFSET(rng抽出データ,0,$D8+74,,1))","v":0.98972173580846523},0.1182943733918374]
[null,"区分","２．マネジメントシステム",2,1,null,null,null,null,null,{"$f":"SUMIF($E$22:$E$79,D9,$K$22:$K$79)/COUNTIF($E$22:$E$79,D9)","v":-0.10222222222222221},0.99995995915832558,0.11546543031978128,null,null,null,null,null,null,-0.16666666666666666,0.99394300908754862,0.11879891205093533,null,null,"抽出データ"]
[null,"区分","３．現場重視の行動・姿勢",3,1,null,null,null,null,null,-0.20333333333333325,1.0419360012163084,0.12031240615611956,null,null,null,null,null,null,-0.27857142857142858,1.0228750128561486,0.12225694791389545,null,null,{"$f":"$S$86","v":12},{"$f":"$S$87","v":2},{"$f":"$S$88","v":6},{"$f":"$S$89","v":5},{"$f":"$S$90","v":4},{"$f":"$S$91","v":12},{"$f":"$S$92","v":14},{"$f":"$S$93","v":5},{"$f":"$S$94","v":10},{"$f":"$S$95","v":5},{"$f":"$S$96","v":5},{"$f":"$S$97","v":5},{"$f":"$S$98","v":2},{"$f":"$S$99","v":0},{"$f":"$S$100","v":0},{"$f":"$S$101","v":3},{"$f":"$S$102","v":0},{"$f":"$S$103","v":3},{"$f":"$S$104","v":1},{"$f":"$S$105","v":1},{"$f":"$S$106","v":1},{"$f":"$S$107","v":0},{"$f":"$S$108","v":1},{"$f":"$S$109","v":11},{"$f":"$S$110","v":5},{"$f":"$S$111","v":0},{"$f":"$S$112","v":0},{"$f":"$S$113","v":0},{"$f":"$S$114","v":4},{"$f":"$S$115","v":3},{"$f":"$S$116","v":2},{"$f":"$S$117","v":1},{"$f":"$S$118","v":4},{"$f":"$S$119","v":1},{"$f":"$S$120","v":0},{"$f":"$S$121","v":3},{"$f":"$S$122","v":5},{"$f":"$S$123","v":2},{"$f":"$S$124","v":3},{"$f":"$S$125","v":13},{"$f":"$S$126","v":4},{"$f":"$S$127","v":7},{"$f":"$S$128","v":8},{"$f":"$S$129","v":16},{"$f":"$S$130","v":5},{"$f":"$S$131","v":5},{"$f":"$S$132","v":5},{"$f":"$S$133","v":6},{"$f":"$S$134","v":15},{"$f":"$S$135","v":12},{"$f":"$S$136","v":10},{"$f":"$S$137","v":12},{"$f":"$S$138","v":6},{"$f":"$S$139","v":16},{"$f":"$S$140","v":13},{"$f":"$S$141","v":12},{"$f":"$S$142","v":16},{"$f":"$S$143","v":13}]
[null,"区分","１．PDCAの実践",4,2,null,null,null,null,null,0.45904761904761909,0.79341377842279759,9.161553171023204E-2,null,null,null,null,null,null,0.46326530612244893,0.79648581687542608,9.5198263525858404E-2,null,null,{"$f":"$R$86","v":25},{"$f":"$R$87","v":15},{"$f":"$R$88","v":10},{"$f":"$R$89","v":14},{"$f":"$R$90","v":14},{"$f":"$R$91","v":20},{"$f":"$R$92","v":23},{"$f":"$R$93","v":18},{"$f":"$R$94","v":21},{"$f":"$R$95","v":12},{"$f":"$R$96","v":11},{"$f":"$R$97","v":18},{"$f":"$R$98","v":14},{"$f":"$R$99","v":2},{"$f":"$R$100","v":9},{"$f":"$R$101","v":4},{"$f":"$R$102","v":6},{"$f":"$R$103","v":14},{"$f":"$R$104","v":8},{"$f":"$R$105","v":13},{"$f":"$R$106","v":9},{"$f":"$R$107","v":4},{"$f":"$R$108","v":9},{"$f":"$R$109","v":11},{"$f":"$R$110","v":18},{"$f":"$R$111","v":6},{"$f":"$R$112","v":3},{"$f":"$R$113","v":0},{"$f":"$R$114","v":3},{"$f":"$R$115","v":1},{"$f":"$R$116","v":6},{"$f":"$R$117","v":6},{"$f":"$R$118","v":2},{"$f":"$R$119","v":4},{"$f":"$R$120","v":9},{"$f":"$R$121","v":4},{"$f":"$R$122","v":0},{"$f":"$R$123","v":3},{"$f":"$R$124","v":2},{"$f":"$R$125","v":12},{"$f":"$R$126","v":9},{"$f":"$R$127","v":23},{"$f":"$R$128","v":14},{"$f":"$R$129","v":15},{"$f":"$R$130","v":8},{"$f":"$R$131","v":9},{"$f":"$R$132","v":12},{"$f":"$R$133","v":14},{"$f":"$R$134","v":26},{"$f":"$R$135","v":11},{"$f":"$R$136","v":19},{"$f":"$R$137","v":17},{"$f":"$R$138","v":10},{"$f":"$R$139","v":18},{"$f":"$R$140","v":18},{"$f":"$R$141","v":13},{"$f":"$R$142","v":18},{"$f":"$R$143","v":14}]
[null,"区分","２．コミュニケーションの実践",5,2,null,null,null,null,null,0.49481481481481498,0.6461542331911545,7.4611464094185842E-2,null,null,null,null,null,null,0.473015873015873,0.64696760606801962,7.7327419208508094E-2,null,null,{"$f":"$Q$86","v":17},{"$f":"$Q$87","v":16},{"$f":"$Q$88","v":29},{"$f":"$Q$89","v":25},{"$f":"$Q$90","v":18},{"$f":"$Q$91","v":23},{"$f":"$Q$92","v":20},{"$f":"$Q$93","v":21},{"$f":"$Q$94","v":22},{"$f":"$Q$95","v":20},{"$f":"$Q$96","v":16},{"$f":"$Q$97","v":23},{"$f":"$Q$98","v":30},{"$f":"$Q$99","v":12},{"$f":"$Q$100","v":30},{"$f":"$Q$101","v":18},{"$f":"$Q$102","v":19},{"$f":"$Q$103","v":24},{"$f":"$Q$104","v":18},{"$f":"$Q$105","v":23},{"$f":"$Q$106","v":23},{"$f":"$Q$107","v":15},{"$f":"$Q$108","v":22},{"$f":"$Q$109","v":26},{"$f":"$Q$110","v":24},{"$f":"$Q$111","v":11},{"$f":"$Q$112","v":51},{"$f":"$Q$113","v":9},{"$f":"$Q$114","v":31},{"$f":"$Q$115","v":27},{"$f":"$Q$116","v":30},{"$f":"$Q$117","v":9},{"$f":"$Q$118","v":9},{"$f":"$Q$119","v":17},{"$f":"$Q$120","v":15},{"$f":"$Q$121","v":21},{"$f":"$Q$122","v":7},{"$f":"$Q$123","v":12},{"$f":"$Q$124","v":35},{"$f":"$Q$125","v":30},{"$f":"$Q$126","v":9},{"$f":"$Q$127","v":13},{"$f":"$Q$128","v":26},{"$f":"$Q$129","v":26},{"$f":"$Q$130","v":33},{"$f":"$Q$131","v":16},{"$f":"$Q$132","v":27},{"$f":"$Q$133","v":21},{"$f":"$Q$134","v":17},{"$f":"$Q$135","v":23},{"$f":"$Q$136","v":21},{"$f":"$Q$137","v":24},{"$f":"$Q$138","v":19},{"$f":"$Q$139","v":24},{"$f":"$Q$140","v":20},{"$f":"$Q$141","v":27},{"$f":"$Q$142","v":19},{"$f":"$Q$143","v":26}]
[null,"区分","１．採用・教育の充実",6,3,null,null,null,null,null,0.23111111111111113,0.94435788333227599,0.10904505563064694,null,null,null,null,null,null,0.19523809523809529,0.95214455313125523,0.11380304101243878,null,null,{"$f":"$P$86","v":11},{"$f":"$P$87","v":27},{"$f":"$P$88","v":15},{"$f":"$P$89","v":17},{"$f":"$P$90","v":19},{"$f":"$P$91","v":12},{"$f":"$P$92","v":9},{"$f":"$P$93","v":21},{"$f":"$P$94","v":14},{"$f":"$P$95","v":21},{"$f":"$P$96","v":25},{"$f":"$P$97","v":15},{"$f":"$P$98","v":13},{"$f":"$P$99","v":35},{"$f":"$P$100","v":24},{"$f":"$P$101","v":32},{"$f":"$P$102","v":27},{"$f":"$P$103","v":17},{"$f":"$P$104","v":29},{"$f":"$P$105","v":23},{"$f":"$P$106","v":22},{"$f":"$P$107","v":28},{"$f":"$P$108","v":30},{"$f":"$P$109","v":15},{"$f":"$P$110","v":15},{"$f":"$P$111","v":32},{"$f":"$P$112","v":5},{"$f":"$P$113","v":40},{"$f":"$P$114","v":19},{"$f":"$P$115","v":13},{"$f":"$P$116","v":12},{"$f":"$P$117","v":38},{"$f":"$P$118","v":29},{"$f":"$P$119","v":39},{"$f":"$P$120","v":26},{"$f":"$P$121","v":5},{"$f":"$P$122","v":26},{"$f":"$P$123","v":31},{"$f":"$P$124","v":25},{"$f":"$P$125","v":10},{"$f":"$P$126","v":19},{"$f":"$P$127","v":18},{"$f":"$P$128","v":14},{"$f":"$P$129","v":10},{"$f":"$P$130","v":13},{"$f":"$P$131","v":25},{"$f":"$P$132","v":18},{"$f":"$P$133","v":18},{"$f":"$P$134","v":8},{"$f":"$P$135","v":19},{"$f":"$P$136","v":15},{"$f":"$P$137","v":14},{"$f":"$P$138","v":25},{"$f":"$P$139","v":10},{"$f":"$P$140","v":16},{"$f":"$P$141","v":16},{"$f":"$P$142","v":12},{"$f":"$P$143","v":9}]
[null,"区分","２．リーダー教育の充実",7,3,null,null,null,null,null,-4.0000000000000036E-2,0.95225353072949648,0.10995676646068926,null,null,null,null,null,null,-6.6666666666666721E-2,0.97240508977233164,0.11622463831582701,null,null,{"$f":"$O$86","v":5},{"$f":"$O$87","v":10},{"$f":"$O$88","v":10},{"$f":"$O$89","v":9},{"$f":"$O$90","v":15},{"$f":"$O$91","v":3},{"$f":"$O$92","v":4},{"$f":"$O$93","v":5},{"$f":"$O$94","v":3},{"$f":"$O$95","v":12},{"$f":"$O$96","v":13},{"$f":"$O$97","v":9},{"$f":"$O$98","v":11},{"$f":"$O$99","v":21},{"$f":"$O$100","v":7},{"$f":"$O$101","v":13},{"$f":"$O$102","v":18},{"$f":"$O$103","v":12},{"$f":"$O$104","v":14},{"$f":"$O$105","v":10},{"$f":"$O$106","v":15},{"$f":"$O$107","v":23},{"$f":"$O$108","v":8},{"$f":"$O$109","v":7},{"$f":"$O$110","v":8},{"$f":"$O$111","v":21},{"$f":"$O$112","v":11},{"$f":"$O$113","v":21},{"$f":"$O$114","v":13},{"$f":"$O$115","v":26},{"$f":"$O$116","v":20},{"$f":"$O$117","v":16},{"$f":"$O$118","v":26},{"$f":"$O$119","v":9},{"$f":"$O$120","v":20},{"$f":"$O$121","v":37},{"$f":"$O$122","v":32},{"$f":"$O$123","v":22},{"$f":"$O$124","v":5},{"$f":"$O$125","v":5},{"$f":"$O$126","v":29},{"$f":"$O$127","v":9},{"$f":"$O$128","v":8},{"$f":"$O$129","v":3},{"$f":"$O$130","v":11},{"$f":"$O$131","v":15},{"$f":"$O$132","v":8},{"$f":"$O$133","v":11},{"$f":"$O$134","v":4},{"$f":"$O$135","v":5},{"$f":"$O$136","v":5},{"$f":"$O$137","v":3},{"$f":"$O$138","v":10},{"$f":"$O$139","v":2},{"$f":"$O$140","v":3},{"$f":"$O$141","v":2},{"$f":"$O$142","v":5},{"$f":"$O$143","v":8}]
[null,"区分","３．安全教育の充実",8,3,null,null,null,null,null,0.34666666666666668,1.0111094611081146,0.11675286391018948,null,null,null,null,null,null,0.29523809523809524,1.0255085649984643,0.12257171760036241]
[null,"区分","１．現場コミュニケーション",9,4,null,null,null,null,null,0.27555555555555555,0.97779142769614835,0.11290562879833593,null,null,null,null,null,null,0.24285714285714274,1.0006783988270127,0.11960394510209781]
[null,"区分","２．日常管理の充実",10,4,null,null,null,null,null,-8.4444444444444475E-2,0.90559378316113737,0.10456896289690684,null,null,null,null,null,null,-0.12380952380952381,0.91537489758491686,0.10940822658600331]
[null,"区分","３．現場管理施策の充実",11,4,null,null,null,null,null,-0.21777777777777776,0.89458385871883683,0.10329764632880291,null,null,null,null,null,null,-0.24761904761904763,0.91452004128511344,0.10930605171536384]
[null,"区分","１．基本行動への意識",12,5,null,null,null,null,null,0.84800000000000009,0.49738777085348329,5.7433392678777291E-2,null,null,null,null,null,null,0.85428571428571443,0.49685553678171701,5.9385595226770525E-2]
[null,"区分","２．職務への意識",13,5,null,null,null,null,null,0.72533333333333339,0.62365386565316949,7.2013345443201621E-2,null,null,null,null,null,null,0.7142857142857143,0.63663192430112026,7.6092068954030687E-2]
[null,"区分","３．人間関係への意識",14,5,null,null,null,null,null,0.88666666666666671,0.67319996895290912,7.7734436658681946E-2,null,null,null,null,null,null,0.87142857142857155,0.68596549056370659,8.1988557933784414E-2]
[null,"項目","経営姿勢への共感",49,1,{"$f":"COUNTIF(OFFSET(rng全体データ,0,$D22+11,,1),5)","v":5},{"$f":"COUNTIF(OFFSET(rng全体データ,0,$D22+11,,1),4)","v":8},{"$f":"COUNTIF(OFFSET(rng全体データ,0,$D22+11,,1),3)","v":20},{"$f":"COUNTIF(OFFSET(rng全体データ,0,$D22+11,,1),2)","v":27},{"$f":"COUNTIF(OFFSET(rng全体データ,0,$D22+11,,1),1)","v":15},{"$f":"AVERAGE(OFFSET(rng全体データ,0,$D22+11,,1))-3","v":-0.52},{"$f":"STDEV(OFFSET(rng全体データ,0,$D22+11,,1))","v":1.1313708498984762},{"$f":"L22/SQRT(SUM(F22:J22))","v":0.13063945294843618},null,{"$f":"COUNTIF(OFFSET(rng抽出データ,0,$D22+11,,1),5)","v":4},{"$f":"COUNTIF(OFFSET(rng抽出データ,0,$D22+11,,1),4)","v":8},{"$f":"COUNTIF(OFFSET(rng抽出データ,0,$D22+11,,1),3)","v":17},{"$f":"COUNTIF(OFFSET(rng抽出データ,0,$D22+11,,1),2)","v":26},{"$f":"COUNTIF(OFFSET(rng抽出データ,0,$D22+11,,1),1)","v":15},{"$f":"AVERAGE(OFFSET(rng抽出データ,0,$D22+11,,1))-3","v":-0.57142857142857162},{"$f":"STDEV(OFFSET(rng抽出データ,0,$D22+11,,1))","v":1.123806014662732},{"$f":"U22/SQRT(SUM(O22:S22))","v":0.13432051000669643}]
[null,"項目","安全に関するコンプライアンスの浸透",50,1,6,20,26,11,12,-4.0000000000000036E-2,1.1790972268096767,{"$f":"L23/SQRT(SUM(F23:J23))","v":0.1361504202598616},null,5,19,23,11,12,-8.5714285714285854E-2,1.188627964892041,{"$f":"U23/SQRT(SUM(O23:S23))","v":0.14206821494938845}]
[null,"項目","経営執行の監視（コーポレートガバナンス）",56,1,3,18,29,13,12,-0.17333333333333334,1.0951161031047252,0.12645311538428139,null,2,16,27,13,12,-0.24285714285714288,1.082612437320482,0.1293969357906678]
[null,"項目","継続的改善",53,2,10,28,21,10,6,0.34666666666666668,1.1209712648308952,0.12943861230079051,null,10,25,19,10,6,0.32857142857142874,1.1511988530101318,0.13759458041506489]
[null,"項目","管理者育成（人材育成）",54,2,3,12,26,18,16,-0.42666666666666675,1.1171069456090263,0.12899239915219438,null,2,10,24,18,16,-0.51428571428571423,1.0867163295692122,0.1298874447331986]
[null,"項目","現場情報の活用",55,2,4,19,21,18,13,-0.22666666666666657,1.1691222548762155,0.13499860971367303,null,3,16,20,18,13,-0.3142857142857145,1.1489485696648871,0.13732562011173036]
[null,"項目","率先垂範への共感",51,3,6,16,24,19,10,-0.1466666666666665,1.1471861383559496,0.13246564515808296,null,5,15,21,19,10,-0.20000000000000018,1.1496691395504983,0.1374117446859611]
[null,"項目","問題解決の意思決定",52,3,4,16,26,17,12,-0.22666666666666657,1.1219352649501391,0.12954992544645938,null,3,14,24,17,12,-0.29999999999999982,1.1079423414077367,0.13242443839434612]
[null,"項目","安全理念・方針の浸透",57,3,6,16,19,18,16,-0.29333333333333345,1.2495765048373153,0.14428866628817114,null,5,12,19,18,16,-0.39999999999999991,1.2205961954978264,0.14588914933037186]
[null,"項目","経営者による現場コミュニケーション",58,3,9,12,26,15,13,-0.1466666666666665,1.2378417718966557,0.14293365604373948,null,8,9,26,14,13,-0.21428571428571441,1.2264341754653949,0.14658692139816776]
[null,"項目","安全の理念・方針の理解",10,4,13,21,24,12,5,0.33333333333333348,1.1429375776070652,0.13197506361967556,null,12,21,20,12,5,0.32857142857142874,1.163720029224478,0.13909114721845528]
[null,"項目","安全目標の設定",11,4,14,26,19,11,5,0.43999999999999995,1.1536077369759665,0.13320714749646184,null,13,25,16,11,5,0.42857142857142838,1.1742580583405162,0.14035068260700403]
[null,"項目","取り組み計画の具体化",12,4,10,15,26,19,5,8.0000000000000071E-2,1.1241813838450554,0.12980928491618174,null,9,15,23,18,5,7.1428571428571619E-2,1.133436848274713,0.13547161479317432]
[null,"項目","計画の実行",13,4,12,13,33,15,2,0.24000000000000021,1.0376689051700239,0.11981968434592349,null,11,13,30,14,2,0.24285714285714288,1.0416780537679884,0.12450434115792705]
[null,"項目","改善志向",14,4,22,37,13,3,0,1.04,0.79593562146288876,9.1906729061842177E-2,null,21,35,12,2,0,1.0714285714285712,0.76748088908706458,9.1731511575425626E-2]
[null,"項目","見直しと次へのアクション",15,4,8,24,33,10,0,0.39999999999999991,0.85424219617724906,9.8639392383214355E-2,null,7,24,30,9,0,0.41428571428571415,0.84257811993829834,0.10070734745494403]
[null,"項目","文書・記録の管理・活用",16,4,13,35,20,4,3,0.68000000000000016,0.96085547469077992,0.11095003339300948,null,13,32,18,4,3,0.6857142857142855,0.98603079504570645,0.11785322159233662]
[null,"項目","職場の風通し",17,5,18,31,20,6,0,0.81333333333333346,0.89583621411646663,0.10344225587399143,null,18,27,19,6,0,0.8142857142857145,0.9214490343916838,0.1101342247948492]
[null,"項目","リーダーシップ",18,5,12,19,27,14,3,0.30666666666666664,1.0777019260637155,0.12444229942381285,null,12,17,24,14,3,0.29999999999999982,1.107942341407737,0.13242443839434614]
[null,"項目","部署間コミュニケーション",19,5,15,32,19,8,1,0.69333333333333336,0.95822659021663492,0.11064647596124627,null,14,29,18,8,1,0.67142857142857126,0.9738825416696536,0.11640122759348648]
[null,"項目","部署間連携",20,5,11,24,26,13,1,0.41333333333333355,0.98767175493455051,0.11404651071649055,null,10,23,23,13,1,0.39999999999999991,0.99854967291335173,0.1193495136907539]
[null,"項目","報告・連絡・相談の環境作り",21,5,16,23,25,10,1,0.57333333333333325,1.0157321062719795,0.11728664099613458,null,15,22,23,9,1,0.58571428571428585,1.0142871723081697,0.12123050464236081]
[null,"項目","報告・連絡・相談の実践",22,5,25,30,16,4,0,1.0133333333333336,0.87754777083079083,0.10133048834318262,null,23,28,15,4,0,1,0.88465173692938281,0.10573610652753621]
[null,"項目","職場環境（仕事面）",23,5,9,33,23,9,1,0.53333333333333321,0.90543902048664726,0.10455109244255137,null,8,30,22,9,1,0.5,0.9128709291752769,0.10910894511799619]
[null,"項目","職場環境（健康面）",24,5,8,18,27,11,11,1.3333333333333197E-2,1.191108197746426,0.13753732772057378,null,7,15,26,11,11,-5.714285714285694E-2,1.190368525152139,0.14227625169130242]
[null,"項目","職場環境（精神面）",25,5,9,18,24,19,5,9.3333333333333268E-2,1.1171069456090263,0.12899239915219438,null,8,15,24,18,5,4.2857142857142705E-2,1.1090629846558526,0.13255838088144667]
[null,"項目","人材確保",40,6,6,11,33,12,13,-0.20000000000000018,1.1389895949029989,0.13151918984428582,null,5,10,30,12,13,-0.25714285714285712,1.1380852759077835,0.13602720816272099]
[null,"項目","採用への経営者の関わり",41,6,31,20,11,9,4,0.8666666666666667,1.2339053944782492,0.14247912233130969,null,29,19,9,9,4,0.85714285714285721,1.2543918705106925,0.14992850509508637]
[null,"項目","新人教育の効果",42,6,9,22,13,24,7,2.6666666666666838E-2,1.2189199176999965,0.14074874852093788,null,9,18,13,23,7,-1.4285714285714235E-2,1.2335039890885267,0.14743192574867067]
[null,"項目","知識・技能教育（定期的教育）",43,7,8,17,28,14,8,4.0000000000000036E-2,1.1323259964171812,0.13074974376837414,null,8,14,26,14,8,0,1.1547005383792515,0.13801311186847084]
[null,"項目","現場リーダーの育成",44,7,3,11,29,16,16,-0.41333333333333355,1.1039650079321983,0.12747489890111641,null,3,10,26,15,16,-0.44285714285714306,1.1246347463196213,0.13441956238527394]
[null,"項目","指導員による指導の効果",45,7,11,15,36,8,5,0.25333333333333341,1.0538646168415704,0.12168980404458049,null,11,13,33,8,5,0.24285714285714288,1.082612437320482,0.1293969357906678]
[null,"項目","事故分析と再発防止教育",46,8,{"$f":"COUNTIF(OFFSET(rng全体データ,0,$D54+11,,1),5)","v":18},{"$f":"COUNTIF(OFFSET(rng全体データ,0,$D54+11,,1),4)","v":27},{"$f":"COUNTIF(OFFSET(rng全体データ,0,$D54+11,,1),3)","v":16},{"$f":"COUNTIF(OFFSET(rng全体データ,0,$D54+11,,1),2)","v":9},{"$f":"COUNTIF(OFFSET(rng全体データ,0,$D54+11,,1),1)","v":5},{"$f":"AVERAGE(OFFSET(rng全体データ,0,$D54+11,,1))-3","v":0.58666666666666645},{"$f":"STDEV(OFFSET(rng全体データ,0,$D54+11,,1))","v":1.1751173987737991},0.13569086930229313,null,{"$f":"COUNTIF(OFFSET(rng抽出データ,0,$D54+11,,1),5)","v":15},{"$f":"COUNTIF(OFFSET(rng抽出データ,0,$D54+11,,1),4)","v":25},{"$f":"COUNTIF(OFFSET(rng抽出データ,0,$D54+11,,1),3)","v":16},{"$f":"COUNTIF(OFFSET(rng抽出データ,0,$D54+11,,1),2)","v":9},{"$f":"COUNTIF(OFFSET(rng抽出データ,0,$D54+11,,1),1)","v":5},{"$f":"AVERAGE(OFFSET(rng抽出データ,0,$D54+11,,1))-3","v":0.51428571428571423},{"$f":"STDEV(OFFSET(rng抽出データ,0,$D54+11,,1))","v":1.1763719359441631},0.14060333930585506]
[null,"項目","ﾋﾔﾘﾊｯﾄ、危険予知訓練の効果",47,8,8,22,28,12,5,0.21333333333333337,1.0564260674727959,0.12198557488687128,null,8,18,27,12,5,0.17142857142857126,1.0763791769191637,0.12865191867455913]
[null,"項目","事故・災害対応手順の見直し",48,8,11,22,22,14,6,0.24000000000000021,1.1606149348629917,0.13401626901372962,null,11,18,21,14,6,0.20000000000000018,1.1868848521124169,0.14185987312303816]
[null,"項目","親身になった指導",3,9,10,20,29,10,6,0.24000000000000021,1.1008596149790815,0.12711631900963208,null,10,15,29,10,6,0.1857142857142855,1.1202077594940332,0.13389043625456501]
[null,"項目","積極的な声かけ",4,9,9,18,28,15,5,0.1466666666666665,1.0866926432533262,0.12548045802173874,null,9,17,25,14,5,0.15714285714285703,1.111673425688958,0.13287038826202147]
[null,"項目","朝礼の活性化",5,9,17,21,19,14,4,0.43999999999999995,1.1882305718554342,0.13720504810401557,null,15,19,18,14,4,0.38571428571428568,1.195315216965342,0.14286749444897248]
[null,"項目","基本行動の指導",1,10,6,12,20,25,12,-0.33333333333333348,1.1663448719655605,0.13467790515945116,null,5,11,17,25,12,-0.39999999999999991,1.1597101087047075,0.1386118700458166]
[null,"項目","効果的な日常点検・整備",2,10,10,31,17,15,2,0.42666666666666675,1.0420008472960884,0.12031989393644295,null,10,27,16,15,2,0.39999999999999991,1.0686575623216474,0.12772900920683858]
[null,"項目","生活管理・健康管理",6,10,3,13,26,21,12,-0.34666666666666668,1.0716662113123043,0.12374535511651705,null,3,12,23,20,12,-0.37142857142857144,1.0924169264529127,0.13056879638176674]
[null,"項目","賞罰の効果",7,11,4,9,23,25,14,-0.48,1.094951560078764,0.12643411559221501,null,4,9,20,23,14,-0.48571428571428577,1.1260146103366115,0.13458448768028372]
[null,"項目","ミーティング（班活動等）の充実",8,11,5,26,21,18,5,0.10666666666666647,1.0600016998116575,0.12239845334554425,null,5,21,21,18,5,4.2857142857142705E-2,1.0691417970478088,0.12778688632667271]
[null,"項目","現場ﾊﾟﾄﾛｰﾙ・立会の充実",9,11,3,15,25,22,10,-0.2799999999999998,1.0598317051509845,0.12237882405292418,null,3,14,22,21,10,-0.29999999999999982,1.0814643856324184,0.12925971736841099]
[null,"項目","健康",26,12,21,36,11,6,1,0.93333333333333313,0.93481221316041596,0.10794281658198318,null,21,32,11,6,0,0.97142857142857153,0.90042548028621072,0.1076214294611741]
[null,"項目","あいさつ",27,12,11,5,56,3,0,0.31999999999999984,0.77389851978080404,8.9362103744180021E-2,null,11,5,51,3,0,0.34285714285714297,0.79647255446795173,9.5196678364974197E-2]
[null,"項目","約束",28,12,23,43,9,0,0,1.1866666666666665,0.6301722916132686,7.2766028439752786E-2,null,21,40,9,0,0,1.1714285714285717,0.63637170278020516,7.6060966533374463E-2]
[null,"項目","計画",35,12,20,29,16,10,0,0.78666666666666663,0.99040441280362834,0.1143620508677536,null,20,26,15,9,0,0.8142857142857145,0.99699340981435303,0.11916350467279643]
[null,"項目","報告",38,12,25,33,12,3,2,1.0133333333333336,0.95143324790824157,0.10986204835915664,null,22,31,12,3,2,0.97142857142857153,0.96265677919711368,0.11505949234660925]
[null,"項目","終業",29,13,15,19,33,4,4,0.49333333333333318,1.0445913895735361,0.12061902399268926,null,13,19,31,3,4,0.48571428571428577,1.0319933875596652,0.12334680214552285]
[null,"項目","仕事",30,13,28,15,28,1,3,0.8533333333333335,1.0741852139523589,0.12403622448698202,null,26,13,27,1,3,0.82857142857142874,1.0897603588640723,0.1302512758232855]
[null,"項目","車両・機材",32,13,17,42,9,6,1,0.90666666666666673,0.88795746996602676,0.1025324968627649,null,16,38,9,6,1,0.88571428571428568,0.9095763808205346,0.10871517127315383]
[null,"項目","会議・会合",36,13,40,5,23,4,3,1,1.196842693269434,0.13819949022734887,null,37,5,21,4,3,0.98571428571428577,1.2097772838851599,0.14459604206223997]
[null,"項目","出勤",39,13,5,26,39,2,3,0.37333333333333352,0.81826007451760041,9.4484534857971952E-2,null,5,25,35,2,3,0.38571428571428568,0.83913097115377788,0.10029533437015491]
[null,"項目","上役",31,14,22,12,33,6,2,0.61333333333333329,1.0766983232453178,0.12432641335234057,null,20,12,30,6,2,0.60000000000000009,1.0821342304694102,0.12933977913970973]
[null,"項目","先輩",33,14,29,31,9,2,4,1.0533333333333337,1.051296925338044,0.12139331256842911,null,26,29,9,2,4,1.0142857142857142,1.0699161167560798,0.12787943523348239]
[null,"項目","職場仲間",34,14,9,43,18,4,1,0.73333333333333339,0.79412255391131636,9.1697374054050318E-2,null,9,39,17,4,1,0.72857142857142865,0.81510075079983302,9.7423173684590456E-2]
[null,"項目","部下",37,14,34,28,8,0,5,1.1466666666666665,1.0741852139523589,0.12403622448698202,null,32,26,7,0,5,1.1428571428571432,1.0939320685492384,0.13074989049984029]
[null,null,"1.2点以上",null,null,null,null,null,null,null,{"$f":"F84/SUM($E$84:$I$84)","v":0.21333333333333335},null,null,null,null,null,null,null,null,{"$f":"O84/SUM($O$84:$R$84)","v":0.21428571428571427}]
[null,null,"1.0点以上1.2点未満",null,null,null,null,null,null,null,{"$f":"G84/SUM($E$84:$I$84)","v":0.21333333333333335},null,null,null,null,null,null,null,null,{"$f":"P84/SUM($O$84:$R$84)","v":0.21428571428571427}]
[null,null,"0.4点以上1.0点未満",null,null,null,null,null,null,null,{"$f":"H84/SUM($E$84:$I$84)","v":0.34666666666666668},null,null,null,null,null,null,null,null,{"$f":"Q84/SUM($O$84:$R$84)","v":0.32857142857142857}]
[null,null,"0.4点未満",null,null,null,null,null,null,null,{"$f":"I84/SUM($E$84:$I$84)","v":0.22666666666666666},null,null,null,null,null,null,null,null,{"$f":"R84/SUM($O$84:$R$84)","v":0.24285714285714285}]
[null,null,"KD-Ⅰ",63,"－",{"$f":"COUNTIF(OFFSET(rng全体データ,0,$D84+11,,1),\">=4.2\")","v":16},{"$f":"COUNTIF(OFFSET(rng全体データ,0,$D84+11,,1),\">=4.0\")-F84","v":16},{"$f":"COUNTIF(OFFSET(rng全体データ,0,$D84+11,,1),\">=3.4\")-F84-G84","v":26},{"$f":"COUNTIF(OFFSET(rng全体データ,0,$D84+11,,1),\"<3.4\")","v":17},null,{"$f":"SUM(F84:I84)","v":75},null,null,null,{"$f":"COUNTIF(OFFSET(rng抽出データ,0,$D84+11,,1),\">=4.2\")","v":15},{"$f":"COUNTIF(OFFSET(rng抽出データ,0,$D84+11,,1),\">=4.0\")-O84","v":15},{"$f":"COUNTIF(OFFSET(rng抽出データ,0,$D84+11,,1),\">=3.4\")-O84-P84","v":23},{"$f":"COUNTIF(OFFSET(rng抽出データ,0,$D84+11,,1),\"<3.4\")","v":17},null,{"$f":"SUM(O84:R84)","v":70}]
[]
[null,null,"基本行動の指導",1,1,{"$f":"COUNTIF(OFFSET(rng全体データ,0,$D86+11,,1),5)","v":6},{"$f":"COUNTIF(OFFSET(rng全体データ,0,$D86+11,,1),4)","v":12},{"$f":"COUNTIF(OFFSET(rng全体データ,0,$D86+11,,1),3)","v":20},{"$f":"COUNTIF(OFFSET(rng全体データ,0,$D86+11,,1),2)","v":25},{"$f":"COUNTIF(OFFSET(rng全体データ,0,$D86+11,,1),1)","v":12},{"$f":"AVERAGE(OFFSET(rng全体データ,0,$D86+11,,1))-3","v":-0.33333333333333348},{"$f":"STDEV(OFFSET(rng全体データ,0,$D86+11,,1))","v":1.1663448719655605},null,null,{"$f":"COUNTIF(OFFSET(rng抽出データ,0,$D86+11,,1),5)","v":5},{"$f":"COUNTIF(OFFSET(rng抽出データ,0,$D86+11,,1),4)","v":11},{"$f":"COUNTIF(OFFSET(rng抽出データ,0,$D86+11,,1),3)","v":17},{"$f":"COUNTIF(OFFSET(rng抽出データ,0,$D86+11,,1),2)","v":25},{"$f":"COUNTIF(OFFSET(rng抽出データ,0,$D86+11,,1),1)","v":12},{"$f":"AVERAGE(OFFSET(rng抽出データ,0,$D86+11,,1))-3","v":-0.39999999999999991},{"$f":"STDEV(OFFSET(rng抽出データ,0,$D86+11,,1))","v":1.1597101087047075}]
[null,null,"効果的な日常点検・整備",{"$f":"D86+1","v":2},1,10,31,17,15,2,0.42666666666666675,1.0420008472960884,null,null,10,27,16,15,2,0.39999999999999991,1.0686575623216474]
[null,null,"親身になった指導",{"$f":"D87+1","v":3},1,10,20,29,10,6,0.24000000000000021,1.1008596149790815,null,null,10,15,29,10,6,0.1857142857142855,1.1202077594940332]
[null,null,"積極的な声かけ",4,2,9,18,28,15,5,0.1466666666666665,1.0866926432533262,null,null,9,17,25,14,5,0.15714285714285703,1.111673425688958]
[null,null,"朝礼の活性化",5,2,17,21,19,14,4,0.43999999999999995,1.1882305718554342,null,null,15,19,18,14,4,0.38571428571428568,1.195315216965342]
[null,null,"生活管理・健康管理",6,2,3,13,26,21,12,-0.34666666666666668,1.0716662113123043,null,null,3,12,23,20,12,-0.37142857142857144,1.0924169264529127]
[null,null,"賞罰の効果",7,3,4,9,23,25,14,-0.48,1.094951560078764,null,null,4,9,20,23,14,-0.48571428571428577,1.1260146103366115]
[null,null,"ミーティング（班活動等）の充実",8,3,5,26,21,18,5,0.10666666666666647,1.0600016998116575,null,null,5,21,21,18,5,4.2857142857142705E-2,1.0691417970478088]
[null,null,"現場ﾊﾟﾄﾛｰﾙ・立会の充実",9,3,3,15,25,22,10,-0.2799999999999998,1.0598317051509845,null,null,3,14,22,21,10,-0.29999999999999982,1.0814643856324184]
[null,null,"安全の理念・方針の理解",10,3,13,21,24,12,5,0.33333333333333348,1.1429375776070652,null,null,12,21,20,12,5,0.32857142857142874,1.163720029224478]
[null,null,"安全目標の設定",11,4,14,26,19,11,5,0.43999999999999995,1.1536077369759665,null,null,13,25,16,11,5,0.42857142857142838,1.1742580583405162]
[null,null,"取り組み計画の具体化",12,4,10,15,26,19,5,8.0000000000000071E-2,1.1241813838450554,null,null,9,15,23,18,5,7.1428571428571619E-2,1.133436848274713]
[null,null,"計画の実行",13,4,12,13,33,15,2,0.24000000000000021,1.0376689051700239,null,null,11,13,30,14,2,0.24285714285714288,1.0416780537679884]
[null,null,"改善志向",14,4,22,37,13,3,0,1.04,0.79593562146288876,null,null,21,35,12,2,0,1.0714285714285712,0.76748088908706458]
[null,null,"見直しと次へのアクション",15,4,8,24,33,10,0,0.39999999999999991,0.85424219617724906,null,null,7,24,30,9,0,0.41428571428571415,0.84257811993829834]
[null,null,"文書・記録の管理・活用",16,4,13,35,20,4,3,0.68000000000000016,0.96085547469077992,null,null,13,32,18,4,3,0.6857142857142855,0.98603079504570645]
[null,null,"職場の風通し",17,4,18,31,20,6,0,0.81333333333333346,0.89583621411646663,null,null,18,27,19,6,0,0.8142857142857145,0.9214490343916838]
[null,null,"リーダーシップ",18,5,12,19,27,14,3,0.30666666666666664,1.0777019260637155,null,null,12,17,24,14,3,0.29999999999999982,1.107942341407737]
[null,null,"部署間コミュニケーション",19,5,15,32,19,8,1,0.69333333333333336,0.95822659021663492,null,null,14,29,18,8,1,0.67142857142857126,0.9738825416696536]
[null,null,"部署間連携",20,5,11,24,26,13,1,0.41333333333333355,0.98767175493455051,null,null,10,23,23,13,1,0.39999999999999991,0.99854967291335173]
[null,null,"報告・連絡・相談の環境作り",21,5,16,23,25,10,1,0.57333333333333325,1.0157321062719795,null,null,15,22,23,9,1,0.58571428571428585,1.0142871723081697]
[null,null,"報告・連絡・相談の実践",22,5,25,30,16,4,0,1.0133333333333336,0.87754777083079083,null,null,23,28,15,4,0,1,0.88465173692938281]
[null,null,"職場環境（仕事面）",23,5,9,33,23,9,1,0.53333333333333321,0.90543902048664726,null,null,8,30,22,9,1,0.5,0.9128709291752769]
[null,null,"職場環境（健康面）",24,5,8,18,27,11,11,1.3333333333333197E-2,1.191108197746426,null,null,7,15,26,11,11,-5.714285714285694E-2,1.190368525152139]
[null,null,"職場環境（精神面）",25,5,9,18,24,19,5,9.3333333333333268E-2,1.1171069456090263,null,null,8,15,24,18,5,4.2857142857142705E-2,1.1090629846558526]
[null,null,"健康",26,5,21,36,11,6,1,0.93333333333333313,0.93481221316041596,null,null,21,32,11,6,0,0.97142857142857153,0.90042548028621072]
[null,null,"あいさつ",27,6,11,5,56,3,0,0.31999999999999984,0.77389851978080404,null,null,11,5,51,3,0,0.34285714285714297,0.79647255446795173]
[null,null,"約束",28,6,23,43,9,0,0,1.1866666666666665,0.6301722916132686,null,null,21,40,9,0,0,1.1714285714285717,0.63637170278020516]
[null,null,"終業",29,6,15,19,33,4,4,0.49333333333333318,1.0445913895735361,null,null,13,19,31,3,4,0.48571428571428577,1.0319933875596652]
[null,null,"仕事",30,7,28,15,28,1,3,0.8533333333333335,1.0741852139523589,null,null,26,13,27,1,3,0.82857142857142874,1.0897603588640723]
[null,null,"上役",31,7,22,12,33,6,2,0.61333333333333329,1.0766983232453178,null,null,20,12,30,6,2,0.60000000000000009,1.0821342304694102]
[null,null,"車両・機材",32,7,17,42,9,6,1,0.90666666666666673,0.88795746996602676,null,null,16,38,9,6,1,0.88571428571428568,0.9095763808205346]
[null,null,"先輩",33,8,{"$f":"COUNTIF(OFFSET(rng全体データ,0,$D118+11,,1),5)","v":29},{"$f":"COUNTIF(OFFSET(rng全体データ,0,$D118+11,,1),4)","v":31},{"$f":"COUNTIF(OFFSET(rng全体データ,0,$D118+11,,1),3)","v":9},{"$f":"COUNTIF(OFFSET(rng全体データ,0,$D118+11,,1),2)","v":2},{"$f":"COUNTIF(OFFSET(rng全体データ,0,$D118+11,,1),1)","v":4},{"$f":"AVERAGE(OFFSET(rng全体データ,0,$D118+11,,1))-3","v":1.0533333333333337},{"$f":"STDEV(OFFSET(rng全体データ,0,$D118+11,,1))","v":1.051296925338044},null,null,{"$f":"COUNTIF(OFFSET(rng抽出データ,0,$D118+11,,1),5)","v":26},{"$f":"COUNTIF(OFFSET(rng抽出データ,0,$D118+11,,1),4)","v":29},{"$f":"COUNTIF(OFFSET(rng抽出データ,0,$D118+11,,1),3)","v":9},{"$f":"COUNTIF(OFFSET(rng抽出データ,0,$D118+11,,1),2)","v":2},{"$f":"COUNTIF(OFFSET(rng抽出データ,0,$D118+11,,1),1)","v":4},{"$f":"AVERAGE(OFFSET(rng抽出データ,0,$D118+11,,1))-3","v":1.0142857142857142},{"$f":"STDEV(OFFSET(rng抽出データ,0,$D118+11,,1))","v":1.0699161167560798}]
[null,null,"職場仲間",34,8,9,43,18,4,1,0.73333333333333339,0.79412255391131636,null,null,9,39,17,4,1,0.72857142857142865,0.81510075079983302]
[null,null,"計画",35,8,20,29,16,10,0,0.78666666666666663,0.99040441280362834,null,null,20,26,15,9,0,0.8142857142857145,0.99699340981435303]
[null,null,"会議・会合",36,9,40,5,23,4,3,1,1.196842693269434,null,null,37,5,21,4,3,0.98571428571428577,1.2097772838851599]
[null,null,"部下",37,9,34,28,8,0,5,1.1466666666666665,1.0741852139523589,null,null,32,26,7,0,5,1.1428571428571432,1.0939320685492384]
[null,null,"報告",38,9,25,33,12,3,2,1.0133333333333336,0.95143324790824157,null,null,22,31,12,3,2,0.97142857142857153,0.96265677919711368]
[null,null,"出勤",39,10,5,26,39,2,3,0.37333333333333352,0.81826007451760041,null,null,5,25,35,2,3,0.38571428571428568,0.83913097115377788]
[null,null,"人材確保",40,10,6,11,33,12,13,-0.20000000000000018,1.1389895949029989,null,null,5,10,30,12,13,-0.25714285714285712,1.1380852759077835]
[null,null,"採用への経営者の関わり",41,10,31,20,11,9,4,0.8666666666666667,1.2339053944782492,null,null,29,19,9,9,4,0.85714285714285721,1.2543918705106925]
[null,null,"新人教育の効果",42,11,9,22,13,24,7,2.6666666666666838E-2,1.2189199176999965,null,null,9,18,13,23,7,-1.4285714285714235E-2,1.2335039890885267]
[null,null,"知識・技能教育（定期的教育）",43,11,8,17,28,14,8,4.0000000000000036E-2,1.1323259964171812,null,null,8,14,26,14,8,0,1.1547005383792515]
[null,null,"現場リーダーの育成",44,11,3,11,29,16,16,-0.41333333333333355,1.1039650079321983,null,null,3,10,26,15,16,-0.44285714285714306,1.1246347463196213]
[null,null,"指導員による指導の効果",45,12,11,15,36,8,5,0.25333333333333341,1.0538646168415704,null,null,11,13,33,8,5,0.24285714285714288,1.082612437320482]
[null,null,"事故分析と再発防止教育",46,12,18,27,16,9,5,0.58666666666666645,1.1751173987737991,null,null,15,25,16,9,5,0.51428571428571423,1.1763719359441631]
[null,null,"ﾋﾔﾘﾊｯﾄ、危険予知訓練の効果",47,12,8,22,28,12,5,0.21333333333333337,1.0564260674727959,null,null,8,18,27,12,5,0.17142857142857126,1.0763791769191637]
[null,null,"事故・災害対応手順の見直し",48,12,11,22,22,14,6,0.24000000000000021,1.1606149348629917,null,null,11,18,21,14,6,0.20000000000000018,1.1868848521124169]
[null,null,"経営姿勢への共感",49,12,5,8,20,27,15,-0.52,1.1313708498984762,null,null,4,8,17,26,15,-0.57142857142857162,1.123806014662732]
[null,null,"安全に関するコンプライアンスの浸透",50,13,6,20,26,11,12,-4.0000000000000036E-2,1.1790972268096767,null,null,5,19,23,11,12,-8.5714285714285854E-2,1.188627964892041]
[null,null,"率先垂範への共感",51,13,6,16,24,19,10,-0.1466666666666665,1.1471861383559496,null,null,5,15,21,19,10,-0.20000000000000018,1.1496691395504983]
[null,null,"問題解決の意思決定",52,13,4,16,26,17,12,-0.22666666666666657,1.1219352649501391,null,null,3,14,24,17,12,-0.29999999999999982,1.1079423414077367]
[null,null,"継続的改善",53,13,10,28,21,10,6,0.34666666666666668,1.1209712648308952,null,null,10,25,19,10,6,0.32857142857142874,1.1511988530101318]
[null,null,"管理者育成（人材育成）",54,13,3,12,26,18,16,-0.42666666666666675,1.1171069456090263,null,null,2,10,24,18,16,-0.51428571428571423,1.0867163295692122]
[null,null,"現場情報の活用",55,14,4,19,21,18,13,-0.22666666666666657,1.1691222548762155,null,null,3,16,20,18,13,-0.3142857142857145,1.1489485696648871]
[null,null,"経営執行の監視（コーポレートガバナンス）",56,14,3,18,29,13,12,-0.17333333333333334,1.0951161031047252,null,null,2,16,27,13,12,-0.24285714285714288,1.082612437320482]
[null,null,"安全理念・方針の浸透",57,14,6,16,19,18,16,-0.29333333333333345,1.2495765048373153,null,null,5,12,19,18,16,-0.39999999999999991,1.2205961954978264]
[null,null,"経営者による現場コミュニケーション",58,14,9,12,26,15,13,-0.1466666666666665,1.2378417718966557,null,null,8,9,26,14,13,-0.21428571428571441,1.2264341754653949]

{"sheet":"データ_指標","index":8,"n_rows":251,"n_cols":5,"rows_kept":251,"cut":false,"hidden":false,"merged":[]}
[null,{"$f":"基本情報_集計!B3","v":0},"経営者層",null,"現業層"]
["Ⅰ．トップの価値観・行動の充実と浸透",{"$f":"演算!K3","v":-0.18533333333333329},1.4,null,-0.25142857142857145]
["Ⅱ．マネジメントサイクルの充実と浸透",{"$f":"演算!K4","v":0.47916666666666674},1.1875,null,0.46875]
["Ⅲ．教育訓練の充実",{"$f":"演算!K5","v":0.17925925925925926},0.94444444444444442,null,0.14126984126984127]
["Ⅳ．現場管理の充実",{"$f":"演算!K6","v":-8.8888888888888976E-3},0.77777777777777779,null,-4.2857142857142899E-2]
["Ⅴ．職場メンバーの積極心",{"$f":"演算!K7","v":0.81523809523809543},1.1071428571428572,null,0.8091836734693878]
["１．経営理念（トップの価値観）",{"$f":"演算!K8","v":-0.24444444444444446},1.3333333333333333,null,-0.3000000000000001]
["２．マネジメントシステム",{"$f":"演算!K9","v":-0.10222222222222221},1.3333333333333333,null,-0.16666666666666666]
["３．現場重視の行動・姿勢",{"$f":"演算!K10","v":-0.20333333333333325},1.5,null,-0.27857142857142858]
["１．PDCAの実践",{"$f":"演算!K11","v":0.45904761904761909},1,null,0.46326530612244893]
["２．コミュニケーションの実践",{"$f":"演算!K12","v":0.49481481481481498},1.3333333333333333,null,0.473015873015873]
["１．採用・教育の充実",{"$f":"演算!K13","v":0.23111111111111113},1.1666666666666667,null,0.19523809523809529]
["２．リーダー教育の充実",{"$f":"演算!K14","v":-4.0000000000000036E-2},0.66666666666666663,null,-6.6666666666666721E-2]
["３．安全教育の充実",{"$f":"演算!K15","v":0.34666666666666668},1,null,0.29523809523809524]
["１．現場コミュニケーション",{"$f":"演算!K16","v":0.27555555555555555},1,null,0.24285714285714274]
["２．日常管理の充実",{"$f":"演算!K17","v":-8.4444444444444475E-2},1,null,-0.12380952380952381]
["３．現場管理施策の充実",{"$f":"演算!K18","v":-0.21777777777777776},0.33333333333333331,null,-0.24761904761904763]
["１．基本行動への意識",{"$f":"演算!K19","v":0.84800000000000009},0.9,null,0.85428571428571443]
["２．職務への意識",{"$f":"演算!K20","v":0.72533333333333339},1.3,null,0.7142857142857143]
["３．人間関係への意識",{"$f":"演算!K21","v":0.88666666666666671},1.125,null,0.87142857142857155]
["経営姿勢への共感",{"$f":"演算!K22","v":-0.52},1,null,-0.57142857142857162]
["安全に関するコンプライアンスの浸透",{"$f":"演算!K23","v":-4.0000000000000036E-2},1.5,null,-8.5714285714285854E-2]
["経営執行の監視（コーポレートガバナンス）",{"$f":"演算!K24","v":-0.17333333333333334},1.5,null,-0.24285714285714288]
["継続的改善",{"$f":"演算!K25","v":0.34666666666666668},1,null,0.32857142857142874]
["管理者育成（人材育成）",{"$f":"演算!K26","v":-0.42666666666666675},1.5,null,-0.51428571428571423]
["現場情報の活用",{"$f":"演算!K27","v":-0.22666666666666657},1.5,null,-0.3142857142857145]
["率先垂範への共感",{"$f":"演算!K28","v":-0.1466666666666665},1.5,null,-0.20000000000000018]
["問題解決の意思決定",{"$f":"演算!K29","v":-0.22666666666666657},1.5,null,-0.29999999999999982]
["安全理念・方針の浸透",{"$f":"演算!K30","v":-0.29333333333333345},1.5,null,-0.39999999999999991]
["経営者による現場コミュニケーション",{"$f":"演算!K31","v":-0.1466666666666665},1.5,null,-0.21428571428571441]
["安全の理念・方針の理解",{"$f":"演算!K32","v":0.33333333333333348},1,null,0.32857142857142874]
["安全目標の設定",{"$f":"演算!K33","v":0.43999999999999995},1,null,0.42857142857142838]
["取り組み計画の具体化",{"$f":"演算!K34","v":8.0000000000000071E-2},1,null,7.1428571428571619E-2]
["計画の遂行度合",{"$f":"演算!K35","v":0.24000000000000021},1,null,0.24285714285714288]
["改善志向",{"$f":"演算!K36","v":1.04},1,null,1.0714285714285712]
["見直しと次へのアクション",{"$f":"演算!K37","v":0.39999999999999991},1,null,0.41428571428571415]
["文書・記録の管理・活用",{"$f":"演算!K38","v":0.68000000000000016},1,null,0.6857142857142855]
["職場の風通し",{"$f":"演算!K39","v":0.81333333333333346},1,null,0.8142857142857145]
["リーダーシップ",{"$f":"演算!K40","v":0.30666666666666664},0.5,null,0.29999999999999982]
["部署間コミュニケーション",{"$f":"演算!K41","v":0.69333333333333336},1.5,null,0.67142857142857126]
["部署間連携",{"$f":"演算!K42","v":0.41333333333333355},1.5,null,0.39999999999999991]
["報告・連絡・相談の環境作り",{"$f":"演算!K43","v":0.57333333333333325},1.5,null,0.58571428571428585]
["報告・連絡・相談の実践",{"$f":"演算!K44","v":1.0133333333333336},1.5,null,1]
["職場環境（仕事面）",{"$f":"演算!K45","v":0.53333333333333321},1.5,null,0.5]
["職場環境（健康面）",{"$f":"演算!K46","v":1.3333333333333197E-2},1.5,null,-5.714285714285694E-2]
["職場環境（精神面）",{"$f":"演算!K47","v":9.3333333333333268E-2},1.5,null,4.2857142857142705E-2]
["人材確保",{"$f":"演算!K48","v":-0.20000000000000018},1,null,-0.25714285714285712]
["採用への経営者の関わり",{"$f":"演算!K49","v":0.8666666666666667},1.5,null,0.85714285714285721]
["新人教育の効果",{"$f":"演算!K50","v":2.6666666666666838E-2},1,null,-1.4285714285714235E-2]
["知識・技能教育（定期的教育）",{"$f":"演算!K51","v":4.0000000000000036E-2},1,null,0]
["現場リーダーの育成",{"$f":"演算!K52","v":-0.41333333333333355},0.5,null,-0.44285714285714306]
["指導員による指導の効果",{"$f":"演算!K53","v":0.25333333333333341},0.5,null,0.24285714285714288]
["事故分析と再発防止教育",{"$f":"演算!K54","v":0.58666666666666645},1.5,null,0.51428571428571423]
["ﾋﾔﾘﾊｯﾄ、危険予知訓練の効果",{"$f":"演算!K55","v":0.21333333333333337},0.5,null,0.17142857142857126]
["事故・災害対応手順の見直し",{"$f":"演算!K56","v":0.24000000000000021},1,null,0.20000000000000018]
["親身になった指導",{"$f":"演算!K57","v":0.24000000000000021},1,null,0.1857142857142855]
["積極的な声かけ",{"$f":"演算!K58","v":0.1466666666666665},0.5,null,0.15714285714285703]
["朝礼の活性化",{"$f":"演算!K59","v":0.43999999999999995},1.5,null,0.38571428571428568]
["基本行動の指導",{"$f":"演算!K60","v":-0.33333333333333348},1.5,null,-0.39999999999999991]
["日々の報告と改善活動",{"$f":"演算!K61","v":0.42666666666666675},1,null,0.39999999999999991]
["生活管理・健康管理",{"$f":"演算!K62","v":-0.34666666666666668},0.5,null,-0.37142857142857144]
["賞罰の効果",{"$f":"演算!K63","v":-0.48},0,null,-0.48571428571428577]
["ミーティング（班活動等）の充実",{"$f":"演算!K64","v":0.10666666666666647},1,null,4.2857142857142705E-2]
["現場ﾊﾟﾄﾛｰﾙ・立会の充実",{"$f":"演算!K65","v":-0.2799999999999998},0,null,-0.29999999999999982]
["健康",{"$f":"演算!K66","v":0.93333333333333313},1,null,0.97142857142857153]
["あいさつ",{"$f":"演算!K67","v":0.31999999999999984},0,null,0.34285714285714297]
["約束",{"$f":"演算!K68","v":1.1866666666666665},1.5,null,1.1714285714285717]
["計画",{"$f":"演算!K69","v":0.78666666666666663},0.5,null,0.8142857142857145]
["報告",{"$f":"演算!K70","v":1.0133333333333336},1.5,null,0.97142857142857153]
["終業",{"$f":"演算!K71","v":0.49333333333333318},2,null,0.48571428571428577]
["仕事",{"$f":"演算!K72","v":0.8533333333333335},1.5,null,0.82857142857142874]
["車両・機材",{"$f":"演算!K73","v":0.90666666666666673},1.5,null,0.88571428571428568]
["会議・会合",{"$f":"演算!K74","v":1},1,null,0.98571428571428577]
["出勤",{"$f":"演算!K75","v":0.37333333333333352},0.5,null,0.38571428571428568]
["上役",{"$f":"演算!K76","v":0.61333333333333329},1,null,0.60000000000000009]
["先輩",{"$f":"演算!K77","v":1.0533333333333337},1,null,1.0142857142857142]
["職場仲間",{"$f":"演算!K78","v":0.73333333333333339},1,null,0.72857142857142865]
["部下",{"$f":"演算!K79","v":1.1466666666666665},1.5,null,1.1428571428571432]
["1.2点以上",{"$f":"演算!K80","v":0.21333333333333335},0.5,null,0.21428571428571427]
["1.0点以上1.2点未満",{"$f":"演算!K81","v":0.21333333333333335},0,null,0.21428571428571427]
["0.4点以上1.0点未満",{"$f":"演算!K82","v":0.34666666666666668},0.5,null,0.32857142857142857]
["0.4点未満",{"$f":"演算!K83","v":0.22666666666666666},0,null,0.24285714285714285]
["KD-Ⅰ",{"$f":"演算!K84","v":75},2,null,70]
[]
["標準偏差"]
["Ⅰ．トップの価値観・行動の充実と浸透",{"$f":"演算!L3","v":0.96320037113518164},0.70710678118654757,null,0.94818558342822223]
["Ⅱ．マネジメントサイクルの充実と浸透",{"$f":"演算!L4","v":0.66066591269581765},0.88388347648318444,null,0.66210081629766093]
["Ⅲ．教育訓練の充実",{"$f":"演算!L5","v":0.88473001058858081},0.23570226039551562,null,0.90086962788480396]
["Ⅳ．現場管理の充実",{"$f":"演算!L6","v":0.84001525321009629},0,null,0.85613838339584658]
["Ⅴ．職場メンバーの積極心",{"$f":"演算!L7","v":0.49669249856626735},0.2525381361380527,null,0.50853720611055686]
["１．経営理念（トップの価値観）",{"$f":"演算!L8","v":1.0005003753127717},0.94280904158206547,null,0.98972173580846523]
["２．マネジメントシステム",{"$f":"演算!L9","v":0.99995995915832558},0.4714045207910319,null,0.99394300908754862]
["３．現場重視の行動・姿勢",{"$f":"演算!L10","v":1.0419360012163084},0.70710678118654757,null,1.0228750128561486]
["１．PDCAの実践",{"$f":"演算!L11","v":0.79341377842279759},1.2121830534626499,null,0.79648581687542608]
["２．コミュニケーションの実践",{"$f":"演算!L12","v":0.6461542331911545},0.62853936105471031,null,0.64696760606801962]
["１．採用・教育の充実",{"$f":"演算!L13","v":0.94435788333227599},0.70710678118654757,null,0.95214455313125523]
["２．リーダー教育の充実",{"$f":"演算!L14","v":0.95225353072949648},0.47140452079103157,null,0.97240508977233164]
["３．安全教育の充実",{"$f":"演算!L15","v":1.0111094611081146},0.47140452079103157,null,1.0255085649984643]
["１．現場コミュニケーション",{"$f":"演算!L16","v":0.97779142769614835},0,null,1.0006783988270127]
["２．日常管理の充実",{"$f":"演算!L17","v":0.90559378316113737},0,null,0.91537489758491686]
["３．現場管理施策の充実",{"$f":"演算!L18","v":0.89458385871883683},0,null,0.91452004128511344]
["１．基本行動への意識",{"$f":"演算!L19","v":0.49738777085348329},0.14142135623730964,null,0.49685553678171701]
["２．職務への意識",{"$f":"演算!L20","v":0.62365386565316949},0.14142135623730964,null,0.63663192430112026]
["３．人間関係への意識",{"$f":"演算!L21","v":0.67319996895290912},0.5303300858899106,null,0.68596549056370659]
["経営姿勢への共感",{"$f":"演算!L22","v":1.1313708498984762},1.4142135623730951,null,1.123806014662732]
["安全に関するコンプライアンスの浸透",{"$f":"演算!L23","v":1.1790972268096767},0.70710678118654757,null,1.188627964892041]
["経営執行の監視（コーポレートガバナンス）",{"$f":"演算!L24","v":1.0951161031047252},0.70710678118654757,null,1.082612437320482]
["継続的改善",{"$f":"演算!L25","v":1.1209712648308952},0,null,1.1511988530101318]
["管理者育成（人材育成）",{"$f":"演算!L26","v":1.1171069456090263},0.70710678118654757,null,1.0867163295692122]
["現場情報の活用",{"$f":"演算!L27","v":1.1691222548762155},0.70710678118654757,null,1.1489485696648871]
["率先垂範への共感",{"$f":"演算!L28","v":1.1471861383559496},0.70710678118654757,null,1.1496691395504983]
["問題解決の意思決定",{"$f":"演算!L29","v":1.1219352649501391},0.70710678118654757,null,1.1079423414077367]
["安全理念・方針の浸透",{"$f":"演算!L30","v":1.2495765048373153},0.70710678118654757,null,1.2205961954978264]
["経営者による現場コミュニケーション",{"$f":"演算!L31","v":1.2378417718966557},0.70710678118654757,null,1.2264341754653949]
["安全の理念・方針の理解",{"$f":"演算!L32","v":1.1429375776070652},1.4142135623730951,null,1.163720029224478]
["安全目標の設定",{"$f":"演算!L33","v":1.1536077369759665},1.4142135623730951,null,1.1742580583405162]
["取り組み計画の具体化",{"$f":"演算!L34","v":1.1241813838450554},1.4142135623730951,null,1.133436848274713]
["計画の遂行度合",{"$f":"演算!L35","v":1.0376689051700239},1.4142135623730951,null,1.0416780537679884]
["改善志向",{"$f":"演算!L36","v":0.79593562146288876},1.4142135623730951,null,0.76748088908706458]
["見直しと次へのアクション",{"$f":"演算!L37","v":0.85424219617724906},1.4142135623730951,null,0.84257811993829834]
["文書・記録の管理・活用",{"$f":"演算!L38","v":0.96085547469077992},0,null,0.98603079504570645]
["職場の風通し",{"$f":"演算!L39","v":0.89583621411646663},0,null,0.9214490343916838]
["リーダーシップ",{"$f":"演算!L40","v":1.0777019260637155},0.70710678118654757,null,1.107942341407737]
["部署間コミュニケーション",{"$f":"演算!L41","v":0.95822659021663492},0.70710678118654757,null,0.9738825416696536]
["部署間連携",{"$f":"演算!L42","v":0.98767175493455051},0.70710678118654757,null,0.99854967291335173]
["報告・連絡・相談の環境作り",{"$f":"演算!L43","v":1.0157321062719795},0.70710678118654757,null,1.0142871723081697]
["報告・連絡・相談の実践",{"$f":"演算!L44","v":0.87754777083079083},0.70710678118654757,null,0.88465173692938281]
["職場環境（仕事面）",{"$f":"演算!L45","v":0.90543902048664726},0.70710678118654757,null,0.9128709291752769]
["職場環境（健康面）",{"$f":"演算!L46","v":1.191108197746426},0.70710678118654757,null,1.190368525152139]
["職場環境（精神面）",{"$f":"演算!L47","v":1.1171069456090263},0.70710678118654757,null,1.1090629846558526]
["人材確保",{"$f":"演算!L48","v":1.1389895949029989},1.4142135623730951,null,1.1380852759077835]
["採用への経営者の関わり",{"$f":"演算!L49","v":1.2339053944782492},0.70710678118654757,null,1.2543918705106925]
["新人教育の効果",{"$f":"演算!L50","v":1.2189199176999965},0,null,1.2335039890885267]
["知識・技能教育（定期的教育）",{"$f":"演算!L51","v":1.1323259964171812},0,null,1.1547005383792515]
["現場リーダーの育成",{"$f":"演算!L52","v":1.1039650079321983},0.70710678118654757,null,1.1246347463196213]
["指導員による指導の効果",{"$f":"演算!L53","v":1.0538646168415704},0.70710678118654757,null,1.082612437320482]
["事故分析と再発防止教育",{"$f":"演算!L54","v":1.1751173987737991},0.70710678118654757,null,1.1763719359441631]
["ﾋﾔﾘﾊｯﾄ、危険予知訓練の効果",{"$f":"演算!L55","v":1.0564260674727959},0.70710678118654757,null,1.0763791769191637]
["事故・災害対応手順の見直し",{"$f":"演算!L56","v":1.1606149348629917},0,null,1.1868848521124169]
["親身になった指導",{"$f":"演算!L57","v":1.1008596149790815},0,null,1.1202077594940332]
["積極的な声かけ",{"$f":"演算!L58","v":1.0866926432533262},0.70710678118654757,null,1.111673425688958]
["朝礼の活性化",{"$f":"演算!L59","v":1.1882305718554342},0.70710678118654757,null,1.195315216965342]
["基本行動の指導",{"$f":"演算!L60","v":1.1663448719655605},0.70710678118654757,null,1.1597101087047075]
["日々の報告と改善活動",{"$f":"演算!L61","v":1.0420008472960884},0,null,1.0686575623216474]
["生活管理・健康管理",{"$f":"演算!L62","v":1.0716662113123043},0.70710678118654757,null,1.0924169264529127]
["賞罰の効果",{"$f":"演算!L63","v":1.094951560078764},0,null,1.1260146103366115]
["ミーティング（班活動等）の充実",{"$f":"演算!L64","v":1.0600016998116575},0,null,1.0691417970478088]
["現場ﾊﾟﾄﾛｰﾙ・立会の充実",{"$f":"演算!L65","v":1.0598317051509845},0,null,1.0814643856324184]
["健康",{"$f":"演算!L66","v":0.93481221316041596},0,null,0.90042548028621072]
["あいさつ",{"$f":"演算!L67","v":0.77389851978080404},0,null,0.79647255446795173]
["約束",{"$f":"演算!L68","v":0.6301722916132686},0.70710678118654757,null,0.63637170278020516]
["計画",{"$f":"演算!L69","v":0.99040441280362834},0.70710678118654757,null,0.99699340981435303]
["報告",{"$f":"演算!L70","v":0.95143324790824157},0.70710678118654757,null,0.96265677919711368]
["終業",{"$f":"演算!L71","v":1.0445913895735361},0,null,1.0319933875596652]
["仕事",{"$f":"演算!L72","v":1.0741852139523589},0.70710678118654757,null,1.0897603588640723]
["車両・機材",{"$f":"演算!L73","v":0.88795746996602676},0.70710678118654757,null,0.9095763808205346]
["会議・会合",{"$f":"演算!L74","v":1.196842693269434},1.4142135623730951,null,1.2097772838851599]
["出勤",{"$f":"演算!L75","v":0.81826007451760041},0.70710678118654757,null,0.83913097115377788]
["上役",{"$f":"演算!L76","v":1.0766983232453178},1.4142135623730951,null,1.0821342304694102]
["先輩",{"$f":"演算!L77","v":1.051296925338044},0,null,1.0699161167560798]
["職場仲間",{"$f":"演算!L78","v":0.79412255391131636},0,null,0.81510075079983302]
["部下",{"$f":"演算!L79","v":1.0741852139523589},0.70710678118654757,null,1.0939320685492384]
["1.2点以上",{"$f":"演算!L80","v":0}]
["1.0点以上1.2点未満",{"$f":"演算!L81","v":0}]
["0.4点以上1.0点未満",{"$f":"演算!L82","v":0}]
["0.4点未満",{"$f":"演算!L83","v":0}]
["KD-Ⅰ",{"$f":"演算!L84","v":0}]
[]
["標準誤差"]
["Ⅰ．トップの価値観・行動の充実と浸透",{"$f":"演算!M3","v":0.1112207987116889},0.5,null,0.11332985362718347]
["Ⅱ．マネジメントサイクルの充実と浸透",{"$f":"演算!M4","v":7.6287128507868021E-2},0.625,null,7.9136183790262007E-2]
["Ⅲ．教育訓練の充実",{"$f":"演算!M5","v":0.1021598219546915},0.16666666666666649,null,0.1076745152528347]
["Ⅳ．現場管理の充実",{"$f":"演算!M6","v":9.6996606512848138E-2},0,null,0.10232810893840136]
["Ⅴ．職場メンバーの積極心",{"$f":"演算!M7","v":5.7353109550340446E-2},0.17857142857142858,null,6.0781821765431877E-2]
["１．経営理念（トップの価値観）",{"$f":"演算!M8","v":0.11552783220223006},0.66666666666666807,null,0.1182943733918374]
["２．マネジメントシステム",{"$f":"演算!M9","v":0.11546543031978128},0.33333333333333348,null,0.11879891205093533]
["３．現場重視の行動・姿勢",{"$f":"演算!M10","v":0.12031240615611956},0.5,null,0.12225694791389545]
["１．PDCAの実践",{"$f":"演算!M11","v":9.161553171023204E-2},0.85714285714285499,null,9.5198263525858404E-2]
["２．コミュニケーションの実践",{"$f":"演算!M12","v":7.4611464094185842E-2},0.44444444444444542,null,7.7327419208508094E-2]
["１．採用・教育の充実",{"$f":"演算!M13","v":0.10904505563064694},0.5,null,0.11380304101243878]
["２．リーダー教育の充実",{"$f":"演算!M14","v":0.10995676646068926},0.3333333333333332,null,0.11622463831582701]
["３．安全教育の充実",{"$f":"演算!M15","v":0.11675286391018948},0.3333333333333332,null,0.12257171760036241]
["１．現場コミュニケーション",{"$f":"演算!M16","v":0.11290562879833593},0,null,0.11960394510209781]
["２．日常管理の充実",{"$f":"演算!M17","v":0.10456896289690684},0,null,0.10940822658600331]
["３．現場管理施策の充実",{"$f":"演算!M18","v":0.10329764632880291},0,null,0.10930605171536384]
["１．基本行動への意識",{"$f":"演算!M19","v":5.7433392678777291E-2},0.10000000000000009,null,5.9385595226770525E-2]
["２．職務への意識",{"$f":"演算!M20","v":7.2013345443201621E-2},0.10000000000000009,null,7.6092068954030687E-2]
["３．人間関係への意識",{"$f":"演算!M21","v":7.7734436658681946E-2},0.37499999999999994,null,8.1988557933784414E-2]
["経営姿勢への共感",{"$f":"演算!M22","v":0.13063945294843618},1,null,0.13432051000669643]
["安全に関するコンプライアンスの浸透",{"$f":"演算!M23","v":0.1361504202598616},0.5,null,0.14206821494938845]
["経営執行の監視（コーポレートガバナンス）",{"$f":"演算!M24","v":0.12645311538428139},0.5,null,0.1293969357906678]
["継続的改善",{"$f":"演算!M25","v":0.12943861230079051},0,null,0.13759458041506489]
["管理者育成（人材育成）",{"$f":"演算!M26","v":0.12899239915219438},0.5,null,0.1298874447331986]
["現場情報の活用",{"$f":"演算!M27","v":0.13499860971367303},0.5,null,0.13732562011173036]
["率先垂範への共感",{"$f":"演算!M28","v":0.13246564515808296},0.5,null,0.1374117446859611]
["問題解決の意思決定",{"$f":"演算!M29","v":0.12954992544645938},0.5,null,0.13242443839434612]
["安全理念・方針の浸透",{"$f":"演算!M30","v":0.14428866628817114},0.5,null,0.14588914933037186]
["経営者による現場コミュニケーション",{"$f":"演算!M31","v":0.14293365604373948},0.5,null,0.14658692139816776]
["安全の理念・方針の理解",{"$f":"演算!M32","v":0.13197506361967556},1,null,0.13909114721845528]
["安全目標の設定",{"$f":"演算!M33","v":0.13320714749646184},1,null,0.14035068260700403]
["取り組み計画の具体化",{"$f":"演算!M34","v":0.12980928491618174},1,null,0.13547161479317432]
["計画の遂行度合",{"$f":"演算!M35","v":0.11981968434592349},1,null,0.12450434115792705]
["改善志向",{"$f":"演算!M36","v":9.1906729061842177E-2},1,null,9.1731511575425626E-2]
["見直しと次へのアクション",{"$f":"演算!M37","v":9.8639392383214355E-2},1,null,0.10070734745494403]
["文書・記録の管理・活用",{"$f":"演算!M38","v":0.11095003339300948},0,null,0.11785322159233662]
["職場の風通し",{"$f":"演算!M39","v":0.10344225587399143},0,null,0.1101342247948492]
["リーダーシップ",{"$f":"演算!M40","v":0.12444229942381285},0.5,null,0.13242443839434614]
["部署間コミュニケーション",{"$f":"演算!M41","v":0.11064647596124627},0.5,null,0.11640122759348648]
["部署間連携",{"$f":"演算!M42","v":0.11404651071649055},0.5,null,0.1193495136907539]
["報告・連絡・相談の環境作り",{"$f":"演算!M43","v":0.11728664099613458},0.5,null,0.12123050464236081]
["報告・連絡・相談の実践",{"$f":"演算!M44","v":0.10133048834318262},0.5,null,0.10573610652753621]
["職場環境（仕事面）",{"$f":"演算!M45","v":0.10455109244255137},0.5,null,0.10910894511799619]
["職場環境（健康面）",{"$f":"演算!M46","v":0.13753732772057378},0.5,null,0.14227625169130242]
["職場環境（精神面）",{"$f":"演算!M47","v":0.12899239915219438},0.5,null,0.13255838088144667]
["人材確保",{"$f":"演算!M48","v":0.13151918984428582},1,null,0.13602720816272099]
["採用への経営者の関わり",{"$f":"演算!M49","v":0.14247912233130969},0.5,null,0.14992850509508637]
["新人教育の効果",{"$f":"演算!M50","v":0.14074874852093788},0,null,0.14743192574867067]
["知識・技能教育（定期的教育）",{"$f":"演算!M51","v":0.13074974376837414},0,null,0.13801311186847084]
["現場リーダーの育成",{"$f":"演算!M52","v":0.12747489890111641},0.5,null,0.13441956238527394]
["指導員による指導の効果",{"$f":"演算!M53","v":0.12168980404458049},0.5,null,0.1293969357906678]
["事故分析と再発防止教育",{"$f":"演算!M54","v":0.13569086930229313},0.5,null,0.14060333930585506]
["ﾋﾔﾘﾊｯﾄ、危険予知訓練の効果",{"$f":"演算!M55","v":0.12198557488687128},0.5,null,0.12865191867455913]
["事故・災害対応手順の見直し",{"$f":"演算!M56","v":0.13401626901372962},0,null,0.14185987312303816]
["親身になった指導",{"$f":"演算!M57","v":0.12711631900963208},0,null,0.13389043625456501]
["積極的な声かけ",{"$f":"演算!M58","v":0.12548045802173874},0.5,null,0.13287038826202147]
["朝礼の活性化",{"$f":"演算!M59","v":0.13720504810401557},0.5,null,0.14286749444897248]
["基本行動の指導",{"$f":"演算!M60","v":0.13467790515945116},0.5,null,0.1386118700458166]
["日々の報告と改善活動",{"$f":"演算!M61","v":0.12031989393644295},0,null,0.12772900920683858]
["生活管理・健康管理",{"$f":"演算!M62","v":0.12374535511651705},0.5,null,0.13056879638176674]
["賞罰の効果",{"$f":"演算!M63","v":0.12643411559221501},0,null,0.13458448768028372]
["ミーティング（班活動等）の充実",{"$f":"演算!M64","v":0.12239845334554425},0,null,0.12778688632667271]
["現場ﾊﾟﾄﾛｰﾙ・立会の充実",{"$f":"演算!M65","v":0.12237882405292418},0,null,0.12925971736841099]
["健康",{"$f":"演算!M66","v":0.10794281658198318},0,null,0.1076214294611741]
["あいさつ",{"$f":"演算!M67","v":8.9362103744180021E-2},0,null,9.5196678364974197E-2]
["約束",{"$f":"演算!M68","v":7.2766028439752786E-2},0.5,null,7.6060966533374463E-2]
["計画",{"$f":"演算!M69","v":0.1143620508677536},0.5,null,0.11916350467279643]
["報告",{"$f":"演算!M70","v":0.10986204835915664},0.5,null,0.11505949234660925]
["終業",{"$f":"演算!M71","v":0.12061902399268926},0,null,0.12334680214552285]
["仕事",{"$f":"演算!M72","v":0.12403622448698202},0.5,null,0.1302512758232855]
["車両・機材",{"$f":"演算!M73","v":0.1025324968627649},0.5,null,0.10871517127315383]
["会議・会合",{"$f":"演算!M74","v":0.13819949022734887},1,null,0.14459604206223997]
["出勤",{"$f":"演算!M75","v":9.4484534857971952E-2},0.5,null,0.10029533437015491]
["上役",{"$f":"演算!M76","v":0.12432641335234057},1,null,0.12933977913970973]
["先輩",{"$f":"演算!M77","v":0.12139331256842911},0,null,0.12787943523348239]
["職場仲間",{"$f":"演算!M78","v":9.1697374054050318E-2},0,null,9.7423173684590456E-2]
["部下",{"$f":"演算!M79","v":0.12403622448698202},0.5,null,0.13074989049984029]
["1.2点以上",{"$f":"演算!M80","v":0}]
["1.0点以上1.2点未満",{"$f":"演算!M81","v":0}]
["0.4点以上1.0点未満",{"$f":"演算!M82","v":0}]
["0.4点未満",{"$f":"演算!M83","v":0}]
["KD-Ⅰ",{"$f":"演算!M84","v":0}]

{"sheet":"データ_人数","index":9,"n_rows":24,"n_cols":60,"rows_kept":24,"cut":false,"hidden":false,"merged":[]}
[null,null,"基本行動の指導","日々の報告と改善活動","親身になった指導","積極的な声かけ","朝礼の活性化","生活管理・健康管理","賞罰の効果","ミーティング）班活動等）の充実","現場パトロール・立会の充実","安全の理念・方針の理解","安全目標の設定","取り組み計画の具体化","計画の遂行度合","改善志向","見直しと次へのアクション","文書・記録の管理・活用","職場の風通し","リーダーシップ","部署間コミュニケーション","部署間連携","報告・連絡・相談の環境作り","報告・連絡・相談の実践","職場環境（仕事面）","職場環境(健康面）","職場環境(精神面）","健康","挨拶","約束","終業","仕事","上役","車両・機材","先輩","職場仲間","計画","会議・会合","部下","報告","出勤","人材確保","採用への経営者の関わり","新人教育の効果","知識・技能教育（定期的教育）","現場リーダーの育成","指導員による指導の効果","事故分析と再発防止教育","ヒヤリハットや危険予知訓練の効果","事故・災害対応手順の見直し","経営姿勢への共感","安全に関するコンプライアンス（法令順守）の浸透","率先垂範への共感","問題解決の意思決定","継続的改善","管理者育成（人材育成）","現場情報の活用","経営執行の監視（コーポレートガバナンス）","安全理念・方針の浸透","経営者による現場コミュニケーション"]
[null,"全く",{"$f":"演算!Y2","v":12},{"$f":"演算!Z2","v":2},{"$f":"演算!AA2","v":6},{"$f":"演算!AB2","v":5},{"$f":"演算!AC2","v":4},{"$f":"演算!AD2","v":12},{"$f":"演算!AE2","v":14},{"$f":"演算!AF2","v":5},{"$f":"演算!AG2","v":10},{"$f":"演算!AH2","v":5},null,{"$f":"演算!AJ2","v":5},{"$f":"演算!AK2","v":2},{"$f":"演算!AL2","v":0},{"$f":"演算!AM2","v":0},{"$f":"演算!AN2","v":3},{"$f":"演算!AO2","v":0},{"$f":"演算!AP2","v":3},{"$f":"演算!AQ2","v":1},{"$f":"演算!AR2","v":1},{"$f":"演算!AS2","v":1},{"$f":"演算!AT2","v":0},{"$f":"演算!AU2","v":1},{"$f":"演算!AV2","v":11},{"$f":"演算!AW2","v":5},{"$f":"演算!AX2","v":1},{"$f":"演算!AY2","v":0},{"$f":"演算!AZ2","v":0},{"$f":"演算!BA2","v":4},{"$f":"演算!BB2","v":3},{"$f":"演算!BC2","v":2},{"$f":"演算!BD2","v":1},{"$f":"演算!BE2","v":4},{"$f":"演算!BF2","v":1},{"$f":"演算!BG2","v":0},{"$f":"演算!BH2","v":3},{"$f":"演算!BI2","v":5},{"$f":"演算!BJ2","v":2},{"$f":"演算!BK2","v":3},{"$f":"演算!BL2","v":13},{"$f":"演算!BM2","v":4},{"$f":"演算!BN2","v":7},{"$f":"演算!BO2","v":8},{"$f":"演算!BP2","v":16},{"$f":"演算!BQ2","v":5},{"$f":"演算!BR2","v":5},{"$f":"演算!BS2","v":5},{"$f":"演算!BT2","v":6},{"$f":"演算!BU2","v":15},{"$f":"演算!BV2","v":12},{"$f":"演算!BW2","v":10},{"$f":"演算!BX2","v":12},{"$f":"演算!BY2","v":6},{"$f":"演算!BZ2","v":16},{"$f":"演算!CA2","v":13},{"$f":"演算!CB2","v":12},{"$f":"演算!CC2","v":16},{"$f":"演算!CD2","v":13}]
[null,"あまり",{"$f":"演算!Y3","v":25},{"$f":"演算!Z3","v":15},{"$f":"演算!AA3","v":10},{"$f":"演算!AB3","v":15},{"$f":"演算!AC3","v":14},{"$f":"演算!AD3","v":21},{"$f":"演算!AE3","v":25},{"$f":"演算!AF3","v":18},{"$f":"演算!AG3","v":22},{"$f":"演算!AH3","v":12},null,{"$f":"演算!AJ3","v":19},{"$f":"演算!AK3","v":15},{"$f":"演算!AL3","v":3},{"$f":"演算!AM3","v":10},{"$f":"演算!AN3","v":4},{"$f":"演算!AO3","v":6},{"$f":"演算!AP3","v":14},{"$f":"演算!AQ3","v":8},{"$f":"演算!AR3","v":13},{"$f":"演算!AS3","v":10},{"$f":"演算!AT3","v":4},{"$f":"演算!AU3","v":9},{"$f":"演算!AV3","v":11},{"$f":"演算!AW3","v":19},{"$f":"演算!AX3","v":6},{"$f":"演算!AY3","v":3},{"$f":"演算!AZ3","v":0},{"$f":"演算!BA3","v":4},{"$f":"演算!BB3","v":1},{"$f":"演算!BC3","v":6},{"$f":"演算!BD3","v":6},{"$f":"演算!BE3","v":2},{"$f":"演算!BF3","v":4},{"$f":"演算!BG3","v":10},{"$f":"演算!BH3","v":4},{"$f":"演算!BI3","v":0},{"$f":"演算!BJ3","v":3},{"$f":"演算!BK3","v":2},{"$f":"演算!BL3","v":12},{"$f":"演算!BM3","v":9},{"$f":"演算!BN3","v":24},{"$f":"演算!BO3","v":14},{"$f":"演算!BP3","v":16},{"$f":"演算!BQ3","v":8},{"$f":"演算!BR3","v":9},{"$f":"演算!BS3","v":12},{"$f":"演算!BT3","v":14},{"$f":"演算!BU3","v":27},{"$f":"演算!BV3","v":11},{"$f":"演算!BW3","v":19},{"$f":"演算!BX3","v":17},{"$f":"演算!BY3","v":10},{"$f":"演算!BZ3","v":18},{"$f":"演算!CA3","v":18},{"$f":"演算!CB3","v":13},{"$f":"演算!CC3","v":18},{"$f":"演算!CD3","v":15}]
[null,"どちら",{"$f":"演算!Y4","v":20},{"$f":"演算!Z4","v":17},{"$f":"演算!AA4","v":29},{"$f":"演算!AB4","v":28},{"$f":"演算!AC4","v":19},{"$f":"演算!AD4","v":26},{"$f":"演算!AE4","v":23},{"$f":"演算!AF4","v":21},{"$f":"演算!AG4","v":25},{"$f":"演算!AH4","v":24},{"$f":"演算!AI4","v":19},{"$f":"演算!AJ4","v":26},{"$f":"演算!AK4","v":33},{"$f":"演算!AL4","v":13},{"$f":"演算!AM4","v":33},{"$f":"演算!AN4","v":20},{"$f":"演算!AO4","v":20},{"$f":"演算!AP4","v":27},{"$f":"演算!AQ4","v":19},{"$f":"演算!AR4","v":26},{"$f":"演算!AS4","v":25},{"$f":"演算!AT4","v":16},{"$f":"演算!AU4","v":23},{"$f":"演算!AV4","v":27},{"$f":"演算!AW4","v":24},{"$f":"演算!AX4","v":11},{"$f":"演算!AY4","v":56},{"$f":"演算!AZ4","v":9},{"$f":"演算!BA4","v":33},{"$f":"演算!BB4","v":28},{"$f":"演算!BC4","v":33},{"$f":"演算!BD4","v":9},{"$f":"演算!BE4","v":9},{"$f":"演算!BF4","v":18},{"$f":"演算!BG4","v":16},{"$f":"演算!BH4","v":23},{"$f":"演算!BI4","v":8},{"$f":"演算!BJ4","v":12},{"$f":"演算!BK4","v":39},{"$f":"演算!BL4","v":33},{"$f":"演算!BM4","v":11},{"$f":"演算!BN4","v":13},{"$f":"演算!BO4","v":28},{"$f":"演算!BP4","v":29},{"$f":"演算!BQ4","v":36},{"$f":"演算!BR4","v":16},{"$f":"演算!BS4","v":28},{"$f":"演算!BT4","v":22},{"$f":"演算!BU4","v":20},{"$f":"演算!BV4","v":26},{"$f":"演算!BW4","v":24},{"$f":"演算!BX4","v":26},{"$f":"演算!BY4","v":21},{"$f":"演算!BZ4","v":26},{"$f":"演算!CA4","v":21},{"$f":"演算!CB4","v":29},{"$f":"演算!CC4","v":19},{"$f":"演算!CD4","v":26}]
[null,"ややあて",{"$f":"演算!Y5","v":12},{"$f":"演算!Z5","v":31},{"$f":"演算!AA5","v":20},{"$f":"演算!AB5","v":18},{"$f":"演算!AC5","v":21},{"$f":"演算!AD5","v":13},{"$f":"演算!AE5","v":9},{"$f":"演算!AF5","v":26},{"$f":"演算!AG5","v":15},{"$f":"演算!AH5","v":21},{"$f":"演算!AI5","v":26},{"$f":"演算!AJ5","v":15},{"$f":"演算!AK5","v":13},{"$f":"演算!AL5","v":37},{"$f":"演算!AM5","v":24},{"$f":"演算!AN5","v":35},{"$f":"演算!AO5","v":31},{"$f":"演算!AP5","v":19},{"$f":"演算!AQ5","v":32},{"$f":"演算!AR5","v":24},{"$f":"演算!AS5","v":23},{"$f":"演算!AT5","v":30},{"$f":"演算!AU5","v":33},{"$f":"演算!AV5","v":18},{"$f":"演算!AW5","v":18},{"$f":"演算!AX5","v":36},{"$f":"演算!AY5","v":5},{"$f":"演算!AZ5","v":43},{"$f":"演算!BA5","v":19},{"$f":"演算!BB5","v":15},{"$f":"演算!BC5","v":12},{"$f":"演算!BD5","v":42},{"$f":"演算!BE5","v":31},{"$f":"演算!BF5","v":43},{"$f":"演算!BG5","v":29},{"$f":"演算!BH5","v":5},{"$f":"演算!BI5","v":28},{"$f":"演算!BJ5","v":33},{"$f":"演算!BK5","v":26},{"$f":"演算!BL5","v":11},{"$f":"演算!BM5","v":20},{"$f":"演算!BN5","v":22},{"$f":"演算!BO5","v":17},{"$f":"演算!BP5","v":11},{"$f":"演算!BQ5","v":15},{"$f":"演算!BR5","v":27},{"$f":"演算!BS5","v":22},{"$f":"演算!BT5","v":22},{"$f":"演算!BU5","v":8},{"$f":"演算!BV5","v":20},{"$f":"演算!BW5","v":16},{"$f":"演算!BX5","v":16},{"$f":"演算!BY5","v":28},{"$f":"演算!BZ5","v":12},{"$f":"演算!CA5","v":19},{"$f":"演算!CB5","v":18},{"$f":"演算!CC5","v":16},{"$f":"演算!CD5","v":12}]
[null,"よくあて",{"$f":"演算!Y6","v":6},{"$f":"演算!Z6","v":10},{"$f":"演算!AA6","v":10},{"$f":"演算!AB6","v":9},{"$f":"演算!AC6","v":17},{"$f":"演算!AD6","v":3},{"$f":"演算!AE6","v":4},{"$f":"演算!AF6","v":5},{"$f":"演算!AG6","v":3},{"$f":"演算!AH6","v":13},{"$f":"演算!AI6","v":14},{"$f":"演算!AJ6","v":10},{"$f":"演算!AK6","v":12},{"$f":"演算!AL6","v":22},{"$f":"演算!AM6","v":8},{"$f":"演算!AN6","v":13},{"$f":"演算!AO6","v":18},{"$f":"演算!AP6","v":12},{"$f":"演算!AQ6","v":15},{"$f":"演算!AR6","v":11},{"$f":"演算!AS6","v":16},{"$f":"演算!AT6","v":25},{"$f":"演算!AU6","v":9},{"$f":"演算!AV6","v":8},{"$f":"演算!AW6","v":9},{"$f":"演算!AX6","v":21},{"$f":"演算!AY6","v":11},{"$f":"演算!AZ6","v":23},{"$f":"演算!BA6","v":15},{"$f":"演算!BB6","v":28},{"$f":"演算!BC6","v":22},{"$f":"演算!BD6","v":17},{"$f":"演算!BE6","v":29},{"$f":"演算!BF6","v":9},{"$f":"演算!BG6","v":20},{"$f":"演算!BH6","v":40},{"$f":"演算!BI6","v":34},{"$f":"演算!BJ6","v":25},{"$f":"演算!BK6","v":5},{"$f":"演算!BL6","v":6},{"$f":"演算!BM6","v":31},{"$f":"演算!BN6","v":9},{"$f":"演算!BO6","v":8},{"$f":"演算!BP6","v":3},{"$f":"演算!BQ6","v":11},{"$f":"演算!BR6","v":18},{"$f":"演算!BS6","v":8},{"$f":"演算!BT6","v":11},{"$f":"演算!BU6","v":5},{"$f":"演算!BV6","v":6},{"$f":"演算!BW6","v":6},{"$f":"演算!BX6","v":4},{"$f":"演算!BY6","v":10},{"$f":"演算!BZ6","v":3},{"$f":"演算!CA6","v":4},{"$f":"演算!CB6","v":3},{"$f":"演算!CC6","v":6},{"$f":"演算!CD6","v":9}]
[]
[null,"経営者層",0,0,0,0,0,0,0,0,0,0,0,0,0,0,0,0,0,0,0,0,0,0,0,0,0,0,0,0,0,0,0,0,0,0,0,0,0,0,0,0,0,0,0,0,0,0,0,0,0,0,0,0,0,0,0,0,0,0]
[null,null,0,0,0,0,0,0,0,0,0,0,0,0,0,0,0,0,0,0,0,0,0,0,0,0,0,0,0,0,0,0,0,0,0,0,0,0,0,0,0,0,0,0,0,0,0,0,0,0,0,0,0,0,0,0,0,0,0,0]
[null,null,0,0,0,1,0,1,2,0,2,1,1,1,1,1,1,0,0,1,0,0,0,0,0,0,0,0,2,0,0,0,1,0,0,0,1,1,0,0,1,1,0,0,0,1,1,0,1,0,1,0,0,0,0,0,0,0,0,0]
[null,null,1,2,2,1,1,1,0,2,0,0,0,0,0,0,0,2,2,1,1,1,1,1,1,1,1,2,0,1,0,1,0,1,2,2,1,0,1,1,1,0,1,2,2,1,1,1,1,2,0,1,1,1,2,1,1,1,1,1]
[null,null,1,0,0,0,1,0,0,0,0,1,1,1,1,1,1,0,0,0,1,1,1,1,1,1,1,0,0,1,2,1,1,1,0,0,0,1,1,1,0,1,1,0,0,0,0,1,0,0,1,1,1,1,0,1,1,1,1,1]
[]
[null,"管理者層",0,0,0,0,0,0,0,0,0,0,0,0,0,0,0,0,0,0,0,0,0,0,0,0,0,0,0,0,0,0,0,0,0,0,0,0,0,0,0,0,0,0,0,0,0,0,0,0,0,0,0,0,0,0,0,0,0,0]
[null,null,0,0,0,0,0,0,0,0,0,0,0,0,0,0,0,0,0,0,0,0,0,0,0,0,0,0,0,0,0,0,0,0,0,0,0,0,0,0,0,0,0,0,0,0,0,0,0,0,0,0,0,0,0,0,0,0,0,0]
[null,null,0,0,0,0,0,0,0,0,0,0,0,0,0,0,0,0,0,0,0,0,0,0,0,0,0,0,0,0,0,0,0,0,0,0,0,0,0,0,0,0,0,0,0,0,0,0,0,0,0,0,0,0,0,0,0,0,0,0]
[null,null,0,0,0,0,0,0,0,0,0,0,0,0,0,0,0,0,0,0,0,0,0,0,0,0,0,0,0,0,0,0,0,0,0,0,0,0,0,0,0,0,0,0,0,0,0,0,0,0,0,0,0,0,0,0,0,0,0,0]
[null,null,0,0,0,0,0,0,0,0,0,0,0,0,0,0,0,0,0,0,0,0,0,0,0,0,0,0,0,0,0,0,0,0,0,0,0,0,0,0,0,0,0,0,0,0,0,0,0,0,0,0,0,0,0,0,0,0,0,0]
[]
[null,"現業層",12,2,6,5,4,12,14,5,10,5,5,5,2,0,0,3,0,3,1,1,1,0,1,11,5,0,0,0,4,3,2,1,4,1,0,3,5,2,3,13,4,7,8,16,5,5,5,6,15,12,10,12,6,16,13,12,16,13]
[null,null,25,15,10,14,14,20,23,18,21,12,11,18,14,2,9,4,6,14,8,13,9,4,9,11,18,6,3,0,3,1,6,6,2,4,9,4,0,3,2,12,9,23,14,15,8,9,12,14,26,11,19,17,10,18,18,13,18,14]
[null,null,17,16,29,25,18,23,20,21,22,20,16,23,30,12,30,18,19,24,18,23,23,15,22,26,24,11,51,9,31,27,30,9,9,17,15,21,7,12,35,30,9,13,26,26,33,16,27,21,17,23,21,24,19,24,20,27,19,26]
[null,null,11,27,15,17,19,12,9,21,14,21,25,15,13,35,24,32,27,17,29,23,22,28,30,15,15,32,5,40,19,13,12,38,29,39,26,5,26,31,25,10,19,18,14,10,13,25,18,18,8,19,15,14,25,10,16,16,12,9]
[null,null,5,10,10,9,15,3,4,5,3,12,13,9,11,21,7,13,18,12,14,10,15,23,8,7,8,21,11,21,13,26,20,16,26,9,20,37,32,22,5,5,29,9,8,3,11,15,8,11,4,5,5,3,10,2,3,2,5,8]

{"sheet":"改訂履歴","index":10,"n_rows":2,"n_cols":3,"rows_kept":2,"cut":false,"hidden":false,"merged":[]}
[]
[20190128,"6.2.2","属性設定の列見出しを別ファイルの属性設定表と同じにした。(属性１～９を属性２～１０に変更）"]